BEGIN:VCALENDAR
VERSION:2.0
PRODID:-//一般社団法人大分県サッカー協会｜OFA - ECPv5.5.0.1//NONSGML v1.0//EN
CALSCALE:GREGORIAN
METHOD:PUBLISH
X-WR-CALNAME:一般社団法人大分県サッカー協会｜OFA
X-ORIGINAL-URL:https://www.ofa.or.jp
X-WR-CALDESC:一般社団法人大分県サッカー協会｜OFA のイベント
BEGIN:VTIMEZONE
TZID:Asia/Tokyo
BEGIN:STANDARD
TZOFFSETFROM:+0900
TZOFFSETTO:+0900
TZNAME:JST
DTSTART:20230101T000000
END:STANDARD
END:VTIMEZONE
BEGIN:VEVENT
DTSTART;VALUE=DATE:20230527
DTEND;VALUE=DATE:20230528
DTSTAMP:20260424T201241
CREATED:20230404T083438Z
LAST-MODIFIED:20230404T083903Z
UID:5456-1685145600-1685231999@www.ofa.or.jp
SUMMARY:【県トレセン】練習会（全カテゴリー）
DESCRIPTION:会場調整中
URL:https://www.ofa.or.jp/event/%e3%80%90%e7%9c%8c%e3%83%88%e3%83%ac%e3%82%bb%e3%83%b3%e3%80%91%e7%b7%b4%e7%bf%92%e4%bc%9a%ef%bc%88%e5%85%a8%e3%82%ab%e3%83%86%e3%82%b4%e3%83%aa%e3%83%bc%ef%bc%89/
CATEGORIES:技術委員会
END:VEVENT
END:VCALENDAR