BEGIN:VCALENDAR
VERSION:2.0
PRODID:-//一般社団法人大分県サッカー協会｜OFA - ECPv5.5.0.1//NONSGML v1.0//EN
CALSCALE:GREGORIAN
METHOD:PUBLISH
X-WR-CALNAME:一般社団法人大分県サッカー協会｜OFA
X-ORIGINAL-URL:https://www.ofa.or.jp
X-WR-CALDESC:一般社団法人大分県サッカー協会｜OFA のイベント
BEGIN:VTIMEZONE
TZID:Asia/Tokyo
BEGIN:STANDARD
TZOFFSETFROM:+0900
TZOFFSETTO:+0900
TZNAME:JST
DTSTART:20230101T000000
END:STANDARD
END:VTIMEZONE
BEGIN:VEVENT
DTSTART;VALUE=DATE:20230624
DTEND;VALUE=DATE:20230625
DTSTAMP:20260425T111954
CREATED:20230406T050601Z
LAST-MODIFIED:20230406T050601Z
UID:5669-1687564800-1687651199@www.ofa.or.jp
SUMMARY:【U-16】OFA１部リーグ戦／佐伯人工芝グランド
DESCRIPTION:
URL:https://www.ofa.or.jp/event/%e3%80%90u-16%e3%80%91ofa%ef%bc%91%e9%83%a8%e3%83%aa%e3%83%bc%e3%82%b0%e6%88%a6%ef%bc%8f%e4%bd%90%e4%bc%af%e4%ba%ba%e5%b7%a5%e8%8a%9d%e3%82%b0%e3%83%a9%e3%83%b3%e3%83%89/
LOCATION:佐伯市総合運動公園多目的グラウンド\, 長谷\, 佐伯市\, 大分県\, 876-0037
CATEGORIES:技術委員会
END:VEVENT
END:VCALENDAR