BEGIN:VCALENDAR
VERSION:2.0
PRODID:-//一般社団法人大分県サッカー協会｜OFA - ECPv5.5.0.1//NONSGML v1.0//EN
CALSCALE:GREGORIAN
METHOD:PUBLISH
X-WR-CALNAME:一般社団法人大分県サッカー協会｜OFA
X-ORIGINAL-URL:https://www.ofa.or.jp
X-WR-CALDESC:一般社団法人大分県サッカー協会｜OFA のイベント
BEGIN:VTIMEZONE
TZID:Asia/Tokyo
BEGIN:STANDARD
TZOFFSETFROM:+0900
TZOFFSETTO:+0900
TZNAME:JST
DTSTART:20230101T000000
END:STANDARD
END:VTIMEZONE
BEGIN:VEVENT
DTSTART;TZID=Asia/Tokyo:20230226T130000
DTEND;TZID=Asia/Tokyo:20230226T160000
DTSTAMP:20260425T123821
CREATED:20230220T011626Z
LAST-MODIFIED:20230220T011626Z
UID:5242-1677416400-1677427200@www.ofa.or.jp
SUMMARY:レジェンドカップ（O-50+）
DESCRIPTION:
URL:https://www.ofa.or.jp/event/%e3%83%ac%e3%82%b8%e3%82%a7%e3%83%b3%e3%83%89%e3%82%ab%e3%83%83%e3%83%97%ef%bc%88o-50%ef%bc%89/
LOCATION:大分県サッカー協会人工芝グラウンド\, 松岡6841\, 大分市\, 大分県\, 870-0125
CATEGORIES:シニア
END:VEVENT
END:VCALENDAR