BEGIN:VCALENDAR
VERSION:2.0
PRODID:-//一般社団法人大分県サッカー協会｜OFA - ECPv5.5.0.1//NONSGML v1.0//EN
CALSCALE:GREGORIAN
METHOD:PUBLISH
X-WR-CALNAME:一般社団法人大分県サッカー協会｜OFA
X-ORIGINAL-URL:https://www.ofa.or.jp
X-WR-CALDESC:一般社団法人大分県サッカー協会｜OFA のイベント
BEGIN:VTIMEZONE
TZID:Asia/Tokyo
BEGIN:STANDARD
TZOFFSETFROM:+0900
TZOFFSETTO:+0900
TZNAME:JST
DTSTART:20210101T000000
END:STANDARD
END:VTIMEZONE
BEGIN:VEVENT
DTSTART;TZID=Asia/Tokyo:20210627T130000
DTEND;TZID=Asia/Tokyo:20210627T150000
DTSTAMP:20260426T021538
CREATED:20210622T020858Z
LAST-MODIFIED:20210622T020858Z
UID:782-1624798800-1624806000@www.ofa.or.jp
SUMMARY:第５７回全国社会人サッカー選手権大会大分県大会　決勝戦
DESCRIPTION:第５７回全国社会人サッカー選手権大会大分県大会　決勝戦 \n決勝戦 \n耶馬渓FC　VS　九州総合スポーツカレッジサッカー部 \n１３：００　kick off \n別府市営実相寺サッカー場　天然芝 \n  \n観戦を希望される方へのお願い。\n駐車場は多目的グラウンドと野球場の間にあります駐車場をご利用ください。\n当日は新型コロナウイルス感染予防対策のため、入り口で検温と手消毒を実施いたします。\nご協力ください。
URL:https://www.ofa.or.jp/event/%e7%ac%ac%ef%bc%95%ef%bc%97%e5%9b%9e%e5%85%a8%e5%9b%bd%e7%a4%be%e4%bc%9a%e4%ba%ba%e3%82%b5%e3%83%83%e3%82%ab%e3%83%bc%e9%81%b8%e6%89%8b%e6%a8%a9%e5%a4%a7%e4%bc%9a%e5%a4%a7%e5%88%86%e7%9c%8c%e5%a4%a7/
CATEGORIES:社会人
END:VEVENT
END:VCALENDAR