BEGIN:VCALENDAR
VERSION:2.0
PRODID:-//一般社団法人大分県サッカー協会｜OFA - ECPv5.5.0.1//NONSGML v1.0//EN
CALSCALE:GREGORIAN
METHOD:PUBLISH
X-WR-CALNAME:一般社団法人大分県サッカー協会｜OFA
X-ORIGINAL-URL:https://www.ofa.or.jp
X-WR-CALDESC:一般社団法人大分県サッカー協会｜OFA のイベント
BEGIN:VTIMEZONE
TZID:Asia/Tokyo
BEGIN:STANDARD
TZOFFSETFROM:+0900
TZOFFSETTO:+0900
TZNAME:JST
DTSTART:20210101T000000
END:STANDARD
END:VTIMEZONE
BEGIN:VEVENT
DTSTART;VALUE=DATE:20210605
DTEND;VALUE=DATE:20210606
DTSTAMP:20260425T234618
CREATED:20210827T235538Z
LAST-MODIFIED:20210828T000355Z
UID:1963-1622851200-1622937599@www.ofa.or.jp
SUMMARY:第9回  OFA　Boys(U-10) Girls  サッカーフェスティバル　→中止
DESCRIPTION:
URL:https://www.ofa.or.jp/event/%e7%ac%ac9%e5%9b%9e-ofa%e3%80%80boysu-10-girls-%e3%82%b5%e3%83%83%e3%82%ab%e3%83%bc%e3%83%95%e3%82%a7%e3%82%b9%e3%83%86%e3%82%a3%e3%83%90%e3%83%ab/
CATEGORIES:ジュニア
END:VEVENT
END:VCALENDAR