BEGIN:VCALENDAR
VERSION:2.0
PRODID:-//一般社団法人大分県サッカー協会｜OFA - ECPv5.5.0.1//NONSGML v1.0//EN
CALSCALE:GREGORIAN
METHOD:PUBLISH
X-WR-CALNAME:一般社団法人大分県サッカー協会｜OFA
X-ORIGINAL-URL:https://www.ofa.or.jp
X-WR-CALDESC:一般社団法人大分県サッカー協会｜OFA のイベント
BEGIN:VTIMEZONE
TZID:Asia/Tokyo
BEGIN:STANDARD
TZOFFSETFROM:+0900
TZOFFSETTO:+0900
TZNAME:JST
DTSTART:20230101T000000
END:STANDARD
END:VTIMEZONE
BEGIN:VEVENT
DTSTART;TZID=Asia/Tokyo:20230305T090000
DTEND;TZID=Asia/Tokyo:20230305T130000
DTSTAMP:20260425T123650
CREATED:20230405T082908Z
LAST-MODIFIED:20230405T082908Z
UID:5509-1678006800-1678021200@www.ofa.or.jp
SUMMARY:JFA第23回全日本O-50サッカー大会大分県大会（1回戦）
DESCRIPTION:
URL:https://www.ofa.or.jp/event/jfa%e7%ac%ac23%e5%9b%9e%e5%85%a8%e6%97%a5%e6%9c%aco-50%e3%82%b5%e3%83%83%e3%82%ab%e3%83%bc%e5%a4%a7%e4%bc%9a%e5%a4%a7%e5%88%86%e7%9c%8c%e5%a4%a7%e4%bc%9a%ef%bc%881%e5%9b%9e%e6%88%a6%ef%bc%89/
LOCATION:大分県サッカー協会人工芝グラウンド\, 松岡6841\, 大分市\, 大分県\, 870-0125
CATEGORIES:シニア
END:VEVENT
END:VCALENDAR