BEGIN:VCALENDAR
VERSION:2.0
PRODID:-//一般社団法人大分県サッカー協会｜OFA - ECPv5.5.0.1//NONSGML v1.0//EN
CALSCALE:GREGORIAN
METHOD:PUBLISH
X-WR-CALNAME:一般社団法人大分県サッカー協会｜OFA
X-ORIGINAL-URL:https://www.ofa.or.jp
X-WR-CALDESC:一般社団法人大分県サッカー協会｜OFA のイベント
BEGIN:VTIMEZONE
TZID:Asia/Tokyo
BEGIN:STANDARD
TZOFFSETFROM:+0900
TZOFFSETTO:+0900
TZNAME:JST
DTSTART:20230101T000000
END:STANDARD
END:VTIMEZONE
BEGIN:VEVENT
DTSTART;VALUE=DATE:20230520
DTEND;VALUE=DATE:20230522
DTSTAMP:20260424T184152
CREATED:20230405T083604Z
LAST-MODIFIED:20230405T083604Z
UID:5518-1684540800-1684713599@www.ofa.or.jp
SUMMARY:KYFA第23回九州0-5０サッカー大会（大分県開催）
DESCRIPTION:
URL:https://www.ofa.or.jp/event/kyfa%e7%ac%ac23%e5%9b%9e%e4%b9%9d%e5%b7%9e0-5%ef%bc%90%e3%82%b5%e3%83%83%e3%82%ab%e3%83%bc%e5%a4%a7%e4%bc%9a%ef%bc%88%e5%a4%a7%e5%88%86%e7%9c%8c%e9%96%8b%e5%82%ac%ef%bc%89/
LOCATION:永添運動公園\, 永添\, 中津市\, 大分県\, 871-0162
CATEGORIES:シニア
END:VEVENT
END:VCALENDAR