BEGIN:VCALENDAR
VERSION:2.0
PRODID:-//一般社団法人大分県サッカー協会｜OFA - ECPv5.5.0.1//NONSGML v1.0//EN
CALSCALE:GREGORIAN
METHOD:PUBLISH
X-WR-CALNAME:一般社団法人大分県サッカー協会｜OFA
X-ORIGINAL-URL:https://www.ofa.or.jp
X-WR-CALDESC:一般社団法人大分県サッカー協会｜OFA のイベント
BEGIN:VTIMEZONE
TZID:Asia/Tokyo
BEGIN:STANDARD
TZOFFSETFROM:+0900
TZOFFSETTO:+0900
TZNAME:JST
DTSTART:20220101T000000
END:STANDARD
END:VTIMEZONE
BEGIN:VEVENT
DTSTART;VALUE=DATE:20221016
DTEND;VALUE=DATE:20221017
DTSTAMP:20260425T054618
CREATED:20220902T080448Z
LAST-MODIFIED:20221011T092050Z
UID:4336-1665878400-1665964799@www.ofa.or.jp
SUMMARY:KYFA第28回九州シニアサッカー（O-40）大分県大会
DESCRIPTION:▶　ＫＹＦＡ第28回九州シニアサッカー大会（O-40)大分県大会・要綱・予定（組み合わせ）
URL:https://www.ofa.or.jp/event/kyfa%e7%ac%ac28%e5%9b%9e%e4%b9%9d%e5%b7%9e%e3%82%b7%e3%83%8b%e3%82%a2%e3%82%b5%e3%83%83%e3%82%ab%e3%83%bc%ef%bc%88o-40%ef%bc%89%e5%a4%a7%e5%88%86%e7%9c%8c%e5%a4%a7%e4%bc%9a/
LOCATION:大分県サッカー協会人工芝グラウンド\, 松岡6841\, 大分市\, 大分県\, 870-0125
CATEGORIES:シニア
END:VEVENT
END:VCALENDAR