BEGIN:VCALENDAR
VERSION:2.0
PRODID:-//一般社団法人大分県サッカー協会｜OFA - ECPv5.5.0.1//NONSGML v1.0//EN
CALSCALE:GREGORIAN
METHOD:PUBLISH
X-WR-CALNAME:一般社団法人大分県サッカー協会｜OFA
X-ORIGINAL-URL:https://www.ofa.or.jp
X-WR-CALDESC:一般社団法人大分県サッカー協会｜OFA のイベント
BEGIN:VTIMEZONE
TZID:Asia/Tokyo
BEGIN:STANDARD
TZOFFSETFROM:+0900
TZOFFSETTO:+0900
TZNAME:JST
DTSTART:20220101T000000
END:STANDARD
END:VTIMEZONE
BEGIN:VEVENT
DTSTART;VALUE=DATE:20220710
DTEND;VALUE=DATE:20220711
DTSTAMP:20260425T112407
CREATED:20220623T060418Z
LAST-MODIFIED:20220706T085746Z
UID:3835-1657411200-1657497599@www.ofa.or.jp
SUMMARY:OFA大分県シニア夏季サッカーフェスティバル
DESCRIPTION:▶　OFA大分県シニア夏季サッカーフェスティバル・予定（組み合わせ）
URL:https://www.ofa.or.jp/event/ofa%e5%a4%a7%e5%88%86%e7%9c%8c%e3%82%b7%e3%83%8b%e3%82%a2%e5%a4%8f%e5%ad%a3%e3%82%b5%e3%83%83%e3%82%ab%e3%83%bc%e3%83%95%e3%82%a7%e3%82%b9%e3%83%86%e3%82%a3%e3%83%90%e3%83%ab-2/
LOCATION:由布院スポーツセンターラグビー場\, 川西\, 由布市湯布院町\, 大分県\, 879-5113
CATEGORIES:シニア
END:VEVENT
END:VCALENDAR