BEGIN:VCALENDAR
VERSION:2.0
PRODID:-//一般社団法人大分県サッカー協会｜OFA - ECPv5.5.0.1//NONSGML v1.0//EN
CALSCALE:GREGORIAN
METHOD:PUBLISH
X-WR-CALNAME:一般社団法人大分県サッカー協会｜OFA
X-ORIGINAL-URL:https://www.ofa.or.jp
X-WR-CALDESC:一般社団法人大分県サッカー協会｜OFA のイベント
BEGIN:VTIMEZONE
TZID:Asia/Tokyo
BEGIN:STANDARD
TZOFFSETFROM:+0900
TZOFFSETTO:+0900
TZNAME:JST
DTSTART:20220101T000000
END:STANDARD
END:VTIMEZONE
BEGIN:VEVENT
DTSTART;VALUE=DATE:20221002
DTEND;VALUE=DATE:20221003
DTSTAMP:20260425T071353
CREATED:20220902T075831Z
LAST-MODIFIED:20220926T000648Z
UID:4334-1664668800-1664755199@www.ofa.or.jp
SUMMARY:OFA大分県シニア秋季サッカーフェスティバル
DESCRIPTION:▶　OFA大分県シニア秋季サッカーフェスティバル・予定（組み合わせ）
URL:https://www.ofa.or.jp/event/ofa%e5%a4%a7%e5%88%86%e7%9c%8c%e3%82%b7%e3%83%8b%e3%82%a2%e7%a7%8b%e5%ad%a3%e3%82%b5%e3%83%83%e3%82%ab%e3%83%bc%e3%83%95%e3%82%a7%e3%82%b9%e3%83%86%e3%82%a3%e3%83%90%e3%83%ab-2/
LOCATION:リバーパーク犬飼 サッカー場\, 田原\, 豊後大野市犬飼町\, 大分県\, 879-7305
CATEGORIES:シニア
END:VEVENT
END:VCALENDAR