BEGIN:VCALENDAR
VERSION:2.0
PRODID:-//一般社団法人大分県サッカー協会｜OFA - ECPv5.5.0.1//NONSGML v1.0//EN
CALSCALE:GREGORIAN
METHOD:PUBLISH
X-WR-CALNAME:一般社団法人大分県サッカー協会｜OFA
X-ORIGINAL-URL:https://www.ofa.or.jp
X-WR-CALDESC:一般社団法人大分県サッカー協会｜OFA のイベント
BEGIN:VTIMEZONE
TZID:Asia/Tokyo
BEGIN:STANDARD
TZOFFSETFROM:+0900
TZOFFSETTO:+0900
TZNAME:JST
DTSTART:20230101T000000
END:STANDARD
END:VTIMEZONE
BEGIN:VEVENT
DTSTART;TZID=Asia/Tokyo:20230716T090000
DTEND;TZID=Asia/Tokyo:20230716T163000
DTSTAMP:20260424T160155
CREATED:20230616T074030Z
LAST-MODIFIED:20230616T074155Z
UID:6264-1689498000-1689525000@www.ofa.or.jp
SUMMARY:OFA大分県40/50サッカーリーグ（第2節）
DESCRIPTION:
URL:https://www.ofa.or.jp/event/ofa%e5%a4%a7%e5%88%86%e7%9c%8c40-50%e3%82%b5%e3%83%83%e3%82%ab%e3%83%bc%e3%83%aa%e3%83%bc%e3%82%b0%ef%bc%88%e7%ac%ac2%e7%af%80%ef%bc%89-3/
LOCATION:永添運動公園\, 永添\, 中津市\, 大分県\, 871-0162
CATEGORIES:シニア
END:VEVENT
END:VCALENDAR