BEGIN:VCALENDAR
VERSION:2.0
PRODID:-//一般社団法人大分県サッカー協会｜OFA - ECPv5.5.0.1//NONSGML v1.0//EN
CALSCALE:GREGORIAN
METHOD:PUBLISH
X-WR-CALNAME:一般社団法人大分県サッカー協会｜OFA
X-ORIGINAL-URL:https://www.ofa.or.jp
X-WR-CALDESC:一般社団法人大分県サッカー協会｜OFA のイベント
BEGIN:VTIMEZONE
TZID:Asia/Tokyo
BEGIN:STANDARD
TZOFFSETFROM:+0900
TZOFFSETTO:+0900
TZNAME:JST
DTSTART:20210101T000000
END:STANDARD
END:VTIMEZONE
BEGIN:VEVENT
DTSTART;TZID=Asia/Tokyo:20211219T090000
DTEND;TZID=Asia/Tokyo:20211219T161500
DTSTAMP:20260425T082207
CREATED:20211017T114359Z
LAST-MODIFIED:20211017T114359Z
UID:2448-1639904400-1639930500@www.ofa.or.jp
SUMMARY:OFA大分県40/50サッカーリーグ（第3節）
DESCRIPTION:以下のスケジュールです。\n開始時間注意ください。 \n\n\n\n\n\n会場：県協会人工芝\n幹事チーム：\n大分OB\n\n\n第\n3\n節 \n\n\n\n\n\n\n\n\n12\n月\n19\n日\n（日）\n\nキックオフ\nチーム名\n\nチーム名\n審判担当\n\n\n①\n9:00\n大分OB40\nvs\nRoiSion40\n別府始新蹴ﾍﾞﾃﾗﾝｻｯｶｰ俱楽部40\n\n\n②\n10:15\n臼杵オールスターズO-40\nvs\n別府始新蹴ﾍﾞﾃﾗﾝｻｯｶｰ俱楽部40\n大分OB40\n\n\n③\n11:30\n中津OBサッカークラブ40\nvs\n日田シニア40\n臼杵オールスターズO-40\n\n\n④\n12:45\n別府始新蹴ﾍﾞﾃﾗﾝｻｯｶｰ俱楽部50\nvs\n臼杵オールスターズO-50\nガッチクゼヤハタ50\n\n\n⑤\n14:00\n中津OBサッカークラブ50\nvs\nガッチクゼヤハタ50\n臼杵オールスターズO-50\n\n\n⑥\n15:15\n大分OB50_1st\nvs\n大分OB50_2nd\n別府始新蹴ﾍﾞﾃﾗﾝｻｯｶｰ俱楽部50
URL:https://www.ofa.or.jp/event/ofa%e5%a4%a7%e5%88%86%e7%9c%8c40-50%e3%82%b5%e3%83%83%e3%82%ab%e3%83%bc%e3%83%aa%e3%83%bc%e3%82%b0%ef%bc%88%e7%ac%ac3%e7%af%80%ef%bc%89-2/
CATEGORIES:シニア
END:VEVENT
END:VCALENDAR