BEGIN:VCALENDAR
VERSION:2.0
PRODID:-//一般社団法人大分県サッカー協会｜OFA - ECPv5.5.0.1//NONSGML v1.0//EN
CALSCALE:GREGORIAN
METHOD:PUBLISH
X-WR-CALNAME:一般社団法人大分県サッカー協会｜OFA
X-ORIGINAL-URL:https://www.ofa.or.jp
X-WR-CALDESC:一般社団法人大分県サッカー協会｜OFA のイベント
BEGIN:VTIMEZONE
TZID:Asia/Tokyo
BEGIN:STANDARD
TZOFFSETFROM:+0900
TZOFFSETTO:+0900
TZNAME:JST
DTSTART:20220101T000000
END:STANDARD
END:VTIMEZONE
BEGIN:VEVENT
DTSTART;TZID=Asia/Tokyo:20221204T090000
DTEND;TZID=Asia/Tokyo:20221204T161500
DTSTAMP:20260425T095843
CREATED:20220510T083726Z
LAST-MODIFIED:20220510T083726Z
UID:3521-1670144400-1670170500@www.ofa.or.jp
SUMMARY:OFA大分県40/50サッカーリーグ（第5節）
DESCRIPTION:以下のスケジュールです。 \n\n\n\n第５節\n会場：県協会（人工芝）\n幹事チーム：大分ＯＢシニア\n\n\n　\nキックオフ\n[チーム名]\n　\n[チーム名]\n[審判担当]\n\n\n①\n9:00\nガッチクゼヤハタ50\nvs\n別府始新蹴ﾍﾞﾃﾗﾝｻｯｶｰ俱楽部50\n大分OBシニア_2nd\n\n\n②\n10:15\n臼杵シニア50\nvs\n大分OBシニア50_2nd\nガッチクゼヤハタ50\n\n\n③\n11:30\n大分OBシニア50_1st\nvs\n中津OBサッカークラブ50\n臼杵シニア50\n\n\n④\n12:45\n臼杵オールスターズ40\nvs\n日田シニア40\nRoiSion40\n\n\n⑤\n14:00\nRoiSion40\nvs\n別府始新蹴ﾍﾞﾃﾗﾝｻｯｶｰ俱楽部40\n日田シニア40\n\n\n⑥\n15:15\n大分OBシニア40\nvs\n中津OBサッカークラブ40\n別府始新蹴ﾍﾞﾃﾗﾝｻｯｶｰ俱楽部40\n\n\n\n 
URL:https://www.ofa.or.jp/event/ofa%e5%a4%a7%e5%88%86%e7%9c%8c40-50%e3%82%b5%e3%83%83%e3%82%ab%e3%83%bc%e3%83%aa%e3%83%bc%e3%82%b0%ef%bc%88%e7%ac%ac5%e7%af%80%ef%bc%89-2/
LOCATION:大分県サッカー協会人工芝グラウンド\, 松岡6841\, 大分市\, 大分県\, 870-0125
CATEGORIES:シニア
END:VEVENT
END:VCALENDAR