BEGIN:VCALENDAR
VERSION:2.0
PRODID:-//一般社団法人大分県サッカー協会｜OFA - ECPv5.5.0.1//NONSGML v1.0//EN
CALSCALE:GREGORIAN
METHOD:PUBLISH
X-WR-CALNAME:一般社団法人大分県サッカー協会｜OFA
X-ORIGINAL-URL:https://www.ofa.or.jp
X-WR-CALDESC:一般社団法人大分県サッカー協会｜OFA のイベント
BEGIN:VTIMEZONE
TZID:Asia/Tokyo
BEGIN:STANDARD
TZOFFSETFROM:+0900
TZOFFSETTO:+0900
TZNAME:JST
DTSTART:20220101T000000
END:STANDARD
END:VTIMEZONE
BEGIN:VEVENT
DTSTART;TZID=Asia/Tokyo:20220508T103000
DTEND;TZID=Asia/Tokyo:20220508T150000
DTSTAMP:20260426T121138
CREATED:20220505T055435Z
LAST-MODIFIED:20220505T055435Z
UID:3426-1652005800-1652022000@www.ofa.or.jp
SUMMARY:OFA大分県O-60サッカーリーグ（第1節）
DESCRIPTION:以下のスケジュールです。 \n\n\n\n第１節\n会場：中津市禅海（人工芝）\n幹事チーム：中津ＯＢサッカークラブ\n\n\n　\nキックオフ\n[チーム名]\n　\n[チーム名]\n[審判担当]\n\n\n①\n10:30\n別府始新蹴ﾍﾞﾃﾗﾝｻｯｶｰ俱楽部\nvs\n大分OBシニア\n中津OBサッカークラブ\n\n\n②\n11:20\n臼杵シニア\nvs\nガッチクゼヤハタ\n大分OBシニア\n\n\n③\n12:10\n中津OBサッカークラブ\nvs\n別府始新蹴ﾍﾞﾃﾗﾝｻｯｶｰ俱楽部\nガッチクゼヤハタ\n\n\n④\n13:00\n大分OBシニア\nvs\n臼杵シニア\n別府始新蹴ﾍﾞﾃﾗﾝｻｯｶｰ俱楽部\n\n\n⑤\n13:50\nガッチクゼヤハタ\nvs\n中津OBサッカークラブ\n臼杵シニア
URL:https://www.ofa.or.jp/event/ofa%e5%a4%a7%e5%88%86%e7%9c%8co-60%e3%82%b5%e3%83%83%e3%82%ab%e3%83%bc%e3%83%aa%e3%83%bc%e3%82%b0%ef%bc%88%e7%ac%ac1%e7%af%80%ef%bc%89/
LOCATION:永添運動公園\, 永添\, 中津市\, 大分県\, 871-0162
CATEGORIES:シニア
END:VEVENT
END:VCALENDAR