BEGIN:VCALENDAR
VERSION:2.0
PRODID:-//一般社団法人大分県サッカー協会｜OFA - ECPv5.5.0.1//NONSGML v1.0//EN
CALSCALE:GREGORIAN
METHOD:PUBLISH
X-WR-CALNAME:一般社団法人大分県サッカー協会｜OFA
X-ORIGINAL-URL:https://www.ofa.or.jp
X-WR-CALDESC:一般社団法人大分県サッカー協会｜OFA のイベント
BEGIN:VTIMEZONE
TZID:Asia/Tokyo
BEGIN:STANDARD
TZOFFSETFROM:+0900
TZOFFSETTO:+0900
TZNAME:JST
DTSTART:20210101T000000
END:STANDARD
END:VTIMEZONE
BEGIN:VEVENT
DTSTART;VALUE=DATE:20211204
DTEND;VALUE=DATE:20211205
DTSTAMP:20260425T054908
CREATED:20210828T000454Z
LAST-MODIFIED:20210911T132419Z
UID:1985-1638576000-1638662399@www.ofa.or.jp
SUMMARY:OFA 第33回  大分県U-11サッカー選手権大会　予選リーグ
DESCRIPTION:
URL:https://www.ofa.or.jp/event/ofa-%e7%ac%ac33%e5%9b%9e-%e5%a4%a7%e5%88%86%e7%9c%8cu-11%e3%82%b5%e3%83%83%e3%82%ab%e3%83%bc%e9%81%b8%e6%89%8b%e6%a8%a9%e5%a4%a7%e4%bc%9a/
CATEGORIES:ジュニア
END:VEVENT
END:VCALENDAR