BEGIN:VCALENDAR
VERSION:2.0
PRODID:-//一般社団法人大分県サッカー協会｜OFA - ECPv5.5.0.1//NONSGML v1.0//EN
CALSCALE:GREGORIAN
METHOD:PUBLISH
X-WR-CALNAME:一般社団法人大分県サッカー協会｜OFA
X-ORIGINAL-URL:https://www.ofa.or.jp
X-WR-CALDESC:一般社団法人大分県サッカー協会｜OFA のイベント
BEGIN:VTIMEZONE
TZID:Asia/Tokyo
BEGIN:STANDARD
TZOFFSETFROM:+0900
TZOFFSETTO:+0900
TZNAME:JST
DTSTART:20210101T000000
END:STANDARD
END:VTIMEZONE
BEGIN:VEVENT
DTSTART;TZID=Asia/Tokyo:20210718T140000
DTEND;TZID=Asia/Tokyo:20210718T153000
DTSTAMP:20260425T111955
CREATED:20210704T140352Z
LAST-MODIFIED:20210704T140352Z
UID:946-1626616800-1626622200@www.ofa.or.jp
SUMMARY:QL２部 大分トリニータvs宮崎日大
DESCRIPTION:
URL:https://www.ofa.or.jp/event/ql%ef%bc%92%e9%83%a8-%e5%a4%a7%e5%88%86%e3%83%88%e3%83%aa%e3%83%8b%e3%83%bc%e3%82%bfvs%e5%ae%ae%e5%b4%8e%e6%97%a5%e5%a4%a7/
CATEGORIES:女子
END:VEVENT
END:VCALENDAR