Workbook

Sheet 組合せ
A1: 第13回 OFA Boys(U-10) ＆ Girlsサッカーフェスティバル 組合せ
A3: Aパート | F3: Bパート
A11: Cパート | F11: Dパート
B20: ※チーム名を省略しているチームがあります。

Sheet 日程
A1: 第13回 OFA Boys(U-10) ＆ Girlsサッカーフェスティバル 日程
B3: （１）期日 | C3: １０月１１日（土）
B5: （２）日程 | D5: 試合時間 10分－3分休憩－10分
C6: 会場： | D6: 野津原天空広場 Ａコート | G6: 野津原天空広場 Ｂコート
B7: ８：１５～ | C7: 役員集合
B8: ８：３０～ | C8: 監督会議
B9: ８：５０～ | C9: 開会式
A10: ① | B10: ９：２０～ | C10: 予選リーグ | D10: 和田SSC | E10: 1-2 | F10: 碩田SSS | G10: 日出SSS | H10: 1-1 | I10: 中津沖代JSC
A11: ② | B11: ９：４５～ | C11: 〃 | D11: 田尻SSS | E11: 0-1 | F11: FC.リーベル | G11: カティオーラPramo | H11: 0-0 | I11: 西部地区女子選抜
A12: ③ | B12: １０：１０～ | C12: 〃 | D12: 鶴崎SSS | E12: 0-8 | F12: 東大分SSS | G12: 明治北SSC | H12: 1-1 | I12: FC中津ジュニア
A13: ④ | B13: １０：３５～ | C13: 〃 | D13: 横瀬西FC.RosaClaro | E13: 0-0 | F13: FC大野 | G13: 和田SSC | H13: 2-1 | I13: 三佐SSS
A14: ⑤ | B14: １１：００～ | C14: 〃 | D14: 日出SSS | E14: 6-0 | F14: 田尻SSS | G14: 中津沖代JSC | H14: 2-0 | I14: FC.リーベル
A15: ⑥ | B15: １１：２５～ | C15: 〃 | D15: カティオーラPramo | E15: 9-0 | F15: 鶴崎SSS | G15: 西部地区女子選抜 | H15: 1-2 | I15: 東大分SSS
A16: ⑦ | B16: １１：５０～ | C16: 〃 | D16: 明治北SSC | E16: 4-1 | F16: 横瀬西FC.RosaClaro | G16: FC中津ジュニア | H16: 0-1 | I16: FC大野
A17: ⑧ | B17: １２：１５～ | C17: 〃 | D17: 碩田SSS | E17: 1-3 | F17: 三佐SSS | H17: -
A18: ⑨ | B18: １２：４０～ | C18: 順位決定戦 | D18: 田尻SSS | E18: 8-0 | F18: 鶴崎SSS | G18: =成績!C86 -> FC.リーベル | H18: 2-2 2PK3 | I18: =成績!G86 -> 西部地区女子選抜
A19: ⑩ | B19: １３：０５～ | C19: 〃 | D19: =成績!K86 -> FC中津ジュニア | E19: 4-1 | F19: =成績!O86 -> 和田SSC | G19: =成績!V73 -> 日出SSS | H19: 5-1 | I19: =成績!Z73 -> カティオーラPramo
A20: ⑪ | B20: １３：３０～ | C20: 〃 | D20: =成績!AD73 -> FC大野 | E20: 1-0 | F20: =成績!AH73 -> 碩田SSS | G20: =成績!C73 -> 中津沖代JSC | H20: 1-0 | I20: =成績!G73 -> 東大分SSS
A21: ⑫ | B21: １３：５５～ | C21: 〃 | D21: =成績!K73 -> 明治北SSC | E21: 1-3 | F21: =成績!O73 -> 三佐SSS | G21: 田尻SSS | H21: 0-4 | I21: 横瀬西FC.RosaClaro
A22: ⑬ | B22: １４：２０～ | C22: 〃 | D22: =I18 -> 西部地区女子選抜 | E22: 1-2 | F22: =D19 -> FC中津ジュニア | G22: =G18 -> FC.リーベル | H22: 0-5 | I22: =F19 -> 和田SSC
A23: ⑭ | B23: １４：４５～ | C23: 〃 | D23: =G19 -> 日出SSS | E23: 1-0 | F23: =D20 -> FC大野 | G23: =I19 -> カティオーラPramo | H23: 0-2 | I23: =F20 -> 碩田SSS
A24: ⑮ | B24: １５：１０～ | C24: 〃 | D24: 鶴崎SSS | E24: 0-11 | F24: 横瀬西FC.RosaClaro | G24: =I20 -> 東大分SSS | H24: 1-4 | I24: =D21 -> 明治北SSC
A25: ⑯ | B25: １５：３５～ | C25: 決勝戦 | D25: =G20 -> 中津沖代JSC | E25: 1-0 | F25: =F21 -> 三佐SSS
C26: 片付け
C27: 閉会式
B30: 開会式 次第 | D30: 進行 大分県サッカー協会4種委員会女子担当 田尻 貴志
B31: １．初めの言葉 | D31: 進行
B32: ２．主催者あいさつ | D32: （一社）大分県サッカー協会4種委員会副員長 中原 圭介
B33: ３．選手宣誓 | D33: A１チーム主将
B34: ４．競技上の注意 | D34: （一社）大分県サッカー協会4種審判委員長 毛藤 勇三
B35: ５．終わりの言葉 | D35: 進行
B37: 閉会式 次第
B38: １，初めの言葉 | D38: 進行
B39: ２，成績発表 | D39: （一社）大分県サッカー協会ジュニア副委員長 津守 一雄
B40: ３，表彰 | D40: ※1位トーナメントの3位→準優勝→優勝
B41: ４．講評 | D41: （一社）大分県サッカー協会4種委員会委員長 仲野 昭博
B42: ５．終わりの言葉 | D42: 進行

Sheet 成績
A1: 第13回 OFA Boys(U-10) ＆ Girlsサッカーフェスティバル 予選リーグ成績
D3: Aパート | P3: Bパート
D4: № | E4: チーム名 | P4: № | Q4: チーム名
D5: 1 | E5: 日出SSS | P5: 1 | Q5: カティオーラPramo
D6: 2 | E6: 中津沖代JSC | P6: 2 | Q6: 西部地区女子選抜
D7: 3 | E7: 田尻SSS | P7: 3 | Q7: 鶴崎SSS
D8: 4 | E8: FC.リーベル | P8: 4 | Q8: 東大分SSS
D10: Cパート | P10: Dパート
D11: № | E11: チーム名 | P11: № | Q11: チーム名
D12: 1 | E12: 明治北SSC | P12: 1 | Q12: 和田SSC
D13: 2 | E13: FC中津ジュニア | P13: 2 | Q13: 碩田SSS
D14: 3 | E14: 横瀬西FC.RosaClaro | P14: 3 | Q14: 三佐SSS
D15: 4 | E15: FC大野 | P15: 4
A17: 勝点表 | E17: 勝 | G17: 4 | J17: 分 | L17: 1 | O17: 負 | Q17: 0
A18: Aパート | AL18: ※大会規定による
A19: チーム名 | F19: =A21 -> 日出SSS | I19: =A23 -> 中津沖代JSC | L19: =A25 -> 田尻SSS | O19: =A27 -> FC.リーベル | R19: 勝 | T19: 分 | V19: 敗 | X19: 得点 | Z19: 失点 | AB19: 勝点 | AD19: 勝点 順位 | AF19: 得失 点差 | AH19: 得失 順位 | AJ19: ﾄｰﾀﾙ 順位
A21: =E5 -> 日出SSS | D21: 星取表 | G21: =IF(F22="","",IF(F22>H22,"○",IF(F22<H22,"●",IF(F22=H22,"△")))) | J21: =IF(I22="","",IF(I22>K22,"○",IF(I22<K22,"●",IF(I22=K22,"△")))) -> △ | M21: =IF(L22="","",IF(L22>N22,"○",IF(L22<N22,"●",IF(L22=N22,"△")))) -> ○ | P21: =IF(O22="","",IF(O22>Q22,"○",IF(O22<Q22,"●",IF(O22=Q22,"△")))) | R21: =COUNTIF(F21:Q21,"○") -> 1 | T21: =COUNTIF(F21:Q21,"△")+COUNTIF(F21:Q21,"▲") -> 1 | V21: =COUNTIF(F21:Q21,"●") -> 0 | X21: =SUM(F22,I22,L22,O22) -> 7 | Z21: =SUM(H22,K22,N22,Q22) -> 1 | AB21: =(R21*$G$17)+(T21*$L$17) -> 5 | AD21: =RANK(AB21,AB$21:AB$28) -> 1 | AE21: 位 | AF21: =X21-Z21 -> 6 | AH21: =RANK(AF21,AF$21:AF$28) -> 1 | AI21: 位 | AJ21: ※2
D22: 得失点 | G22: - | I22: 1 | J22: - | K22: 1 | L22: 6 | M22: - | N22: 0 | P22: -
A23: =E6 -> 中津沖代JSC | D23: 星取表 | G23: =IF(F24="","",IF(F24>H24,"○",IF(F24<H24,"●",IF(F24=H24,"△")))) -> △ | J23: =IF(I24="","",IF(I24>K24,"○",IF(I24<K24,"●",IF(I24=K24,"△")))) | M23: =IF(L24="","",IF(L24>N24,"○",IF(L24<N24,"●",IF(L24=N24,"△")))) | P23: =IF(O24="","",IF(O24>Q24,"○",IF(O24<Q24,"●",IF(O24=Q24,"△")))) -> ○ | R23: =COUNTIF(F23:Q23,"○") -> 1 | T23: =COUNTIF(F23:Q23,"△")+COUNTIF(F23:Q23,"▲") -> 1 | V23: =COUNTIF(F23:Q23,"●") -> 0 | X23: =SUM(F24,I24,L24,O24) -> 3 | Z23: =SUM(H24,K24,N24,Q24) -> 1 | AB23: =(R23*$G$17)+(T23*$L$17) -> 5 | AD23: =RANK(AB23,AB$21:AB$28) -> 1 | AE23: 位 | AF23: =X23-Z23 -> 2 | AH23: =RANK(AF23,AF$21:AF$28) -> 2 | AI23: 位 | AJ23: ※1
D24: 得失点 | F24: 1 | G24: - | H24: 1 | J24: - | M24: - | O24: 2 | P24: - | Q24: 0
A25: =E7 -> 田尻SSS | D25: 星取表 | G25: =IF(F26="","",IF(F26>H26,"○",IF(F26<H26,"●",IF(F26=H26,"△")))) -> ● | J25: =IF(I26="","",IF(I26>K26,"○",IF(I26<K26,"●",IF(I26=K26,"△")))) | M25: =IF(L26="","",IF(L26>N26,"○",IF(L26<N26,"●",IF(L26=N26,"△")))) | P25: =IF(O26="","",IF(O26>Q26,"○",IF(O26<Q26,"●",IF(O26=Q26,"△")))) -> ● | R25: =COUNTIF(F25:Q25,"○") -> 0 | T25: =COUNTIF(F25:Q25,"△")+COUNTIF(F25:Q25,"▲") -> 0 | V25: =COUNTIF(F25:Q25,"●") -> 2 | X25: =SUM(F26,I26,L26,O26) -> 0 | Z25: =SUM(H26,K26,N26,Q26) -> 7 | AB25: =(R25*$G$17)+(T25*$L$17) -> 0 | AD25: =RANK(AB25,AB$21:AB$28) -> 4 | AE25: 位 | AF25: =X25-Z25 -> -7 | AH25: =RANK(AF25,AF$21:AF$28) -> 4 | AI25: 位 | AJ25: 4
D26: 得失点 | F26: 0 | G26: - | H26: 6 | J26: - | M26: - | O26: 0 | P26: - | Q26: 1
A27: =E8 -> FC.リーベル | D27: 星取表 | G27: =IF(F28="","",IF(F28>H28,"○",IF(F28<H28,"●",IF(F28=H28,"△")))) | J27: =IF(I28="","",IF(I28>K28,"○",IF(I28<K28,"●",IF(I28=K28,"△")))) -> ● | M27: =IF(L28="","",IF(L28>N28,"○",IF(L28<N28,"●",IF(L28=N28,"△")))) -> ○ | P27: =IF(O28="","",IF(O28>Q28,"○",IF(O28<Q28,"●",IF(O28=Q28,"△")))) | R27: =COUNTIF(F27:Q27,"○") -> 1 | T27: =COUNTIF(F27:Q27,"△")+COUNTIF(F27:Q27,"▲") -> 0 | V27: =COUNTIF(F27:Q27,"●") -> 1 | X27: =SUM(F28,I28,L28,O28) -> 1 | Z27: =SUM(H28,K28,N28,Q28) -> 2 | AB27: =(R27*$G$17)+(T27*$L$17) -> 4 | AD27: =RANK(AB27,AB$21:AB$28) -> 3 | AE27: 位 | AF27: =X27-Z27 -> -1 | AH27: =RANK(AF27,AF$21:AF$28) -> 3 | AI27: 位 | AJ27: 3
D28: 得失点 | G28: - | I28: 0 | J28: - | K28: 2 | L28: 1 | M28: - | N28: 0 | P28: -
A30: Bパート
A31: チーム名 | F31: =A33 -> カティオーラPramo | I31: =A35 -> 西部地区女子選抜 | L31: =A37 -> 鶴崎SSS | O31: =A39 -> 東大分SSS | R31: 勝 | T31: 分 | V31: 敗 | X31: 得点 | Z31: 失点 | AB31: 勝点 | AD31: 勝点 順位 | AF31: 得失 点差 | AH31: 得失 順位 | AJ31: ﾄｰﾀﾙ 順位
A33: =Q5 -> カティオーラPramo | D33: 星取表 | G33: =IF(F34="","",IF(F34>H34,"○",IF(F34<H34,"●",IF(F34=H34,"△")))) | J33: =IF(I34="","",IF(I34>K34,"○",IF(I34<K34,"●",IF(I34=K34,"△")))) -> △ | M33: =IF(L34="","",IF(L34>N34,"○",IF(L34<N34,"●",IF(L34=N34,"△")))) -> ○ | P33: =IF(O34="","",IF(O34>Q34,"○",IF(O34<Q34,"●",IF(O34=Q34,"△")))) | R33: =COUNTIF(F33:Q33,"○") -> 1 | T33: =COUNTIF(F33:Q33,"△")+COUNTIF(F33:Q33,"▲") -> 1 | V33: =COUNTIF(F33:Q33,"●") -> 0 | X33: =SUM(F34,I34,L34,O34) -> 9 | Z33: =SUM(H34,K34,N34,Q34) -> 0 | AB33: =(R33*$G$17)+(T33*$L$17) -> 5 | AD33: =RANK(AB33,AB$33:AB$40) -> 2 | AE33: 位 | AF33: =X33-Z33 -> 9 | AH33: =RANK(AF33,AF$33:AF$40) -> 1 | AI33: 位 | AJ33: 2
D34: 得失点 | G34: - | I34: 0 | J34: - | K34: 0 | L34: 9 | M34: - | N34: 0 | P34: -
A35: =Q6 -> 西部地区女子選抜 | D35: 星取表 | G35: =IF(F36="","",IF(F36>H36,"○",IF(F36<H36,"●",IF(F36=H36,"△")))) -> △ | J35: =IF(I36="","",IF(I36>K36,"○",IF(I36<K36,"●",IF(I36=K36,"△")))) | M35: =IF(L36="","",IF(L36>N36,"○",IF(L36<N36,"●",IF(L36=N36,"△")))) | P35: =IF(O36="","",IF(O36>Q36,"○",IF(O36<Q36,"●",IF(O36=Q36,"△")))) -> ● | R35: =COUNTIF(F35:Q35,"○") -> 0 | T35: =COUNTIF(F35:Q35,"△")+COUNTIF(F35:Q35,"▲") -> 1 | V35: =COUNTIF(F35:Q35,"●") -> 1 | X35: =SUM(F36,I36,L36,O36) -> 1 | Z35: =SUM(H36,K36,N36,Q36) -> 2 | AB35: =(R35*$G$17)+(T35*$L$17) -> 1 | AD35: =RANK(AB35,AB$33:AB$40) -> 3 | AE35: 位 | AF35: =X35-Z35 -> -1 | AH35: =RANK(AF35,AF$33:AF$40) -> 3 | AI35: 位 | AJ35: 3
D36: 得失点 | F36: 0 | G36: - | H36: 0 | J36: - | M36: - | O36: 1 | P36: - | Q36: 2
A37: =Q7 -> 鶴崎SSS | D37: 星取表 | G37: =IF(F38="","",IF(F38>H38,"○",IF(F38<H38,"●",IF(F38=H38,"△")))) -> ● | J37: =IF(I38="","",IF(I38>K38,"○",IF(I38<K38,"●",IF(I38=K38,"△")))) | M37: =IF(L38="","",IF(L38>N38,"○",IF(L38<N38,"●",IF(L38=N38,"△")))) | P37: =IF(O38="","",IF(O38>Q38,"○",IF(O38<Q38,"●",IF(O38=Q38,"△")))) -> ● | R37: =COUNTIF(F37:Q37,"○") -> 0 | T37: =COUNTIF(F37:Q37,"△")+COUNTIF(F37:Q37,"▲") -> 0 | V37: =COUNTIF(F37:Q37,"●") -> 2 | X37: =SUM(F38,I38,L38,O38) -> 0 | Z37: =SUM(H38,K38,N38,Q38) -> 17 | AB37: =(R37*$G$17)+(T37*$L$17) -> 0 | AD37: =RANK(AB37,AB$33:AB$40) -> 4 | AE37: 位 | AF37: =X37-Z37 -> -17 | AH37: =RANK(AF37,AF$33:AF$40) -> 4 | AI37: 位 | AJ37: 4
D38: 得失点 | F38: 0 | G38: - | H38: 9 | J38: - | M38: - | O38: 0 | P38: - | Q38: 8
A39: =Q8 -> 東大分SSS | D39: 星取表 | G39: =IF(F40="","",IF(F40>H40,"○",IF(F40<H40,"●",IF(F40=H40,"△")))) | J39: =IF(I40="","",IF(I40>K40,"○",IF(I40<K40,"●",IF(I40=K40,"△")))) -> ○ | M39: =IF(L40="","",IF(L40>N40,"○",IF(L40<N40,"●",IF(L40=N40,"△")))) -> ○ | P39: =IF(O40="","",IF(O40>Q40,"○",IF(O40<Q40,"●",IF(O40=Q40,"△")))) | R39: =COUNTIF(F39:Q39,"○") -> 2 | T39: =COUNTIF(F39:Q39,"△")+COUNTIF(F39:Q39,"▲") -> 0 | V39: =COUNTIF(F39:Q39,"●") -> 0 | X39: =SUM(F40,I40,L40,O40) -> 10 | Z39: =SUM(H40,K40,N40,Q40) -> 1 | AB39: =(R39*$G$17)+(T39*$L$17) -> 8 | AD39: =RANK(AB39,AB$33:AB$40) -> 1 | AE39: 位 | AF39: =X39-Z39 -> 9 | AH39: =RANK(AF39,AF$33:AF$40) -> 1 | AI39: 位 | AJ39: 1
D40: 得失点 | G40: - | I40: 2 | J40: - | K40: 1 | L40: 8 | M40: - | N40: 0 | P40: -
A42: Ｃパート
A43: チーム名 | F43: =A45 -> 明治北SSC | I43: =A47 -> FC中津ジュニア | L43: =A49 -> 横瀬西FC.RosaClaro | O43: =A51 -> FC大野 | R43: 勝 | T43: 分 | V43: 敗 | X43: 得点 | Z43: 失点 | AB43: 勝点 | AD43: 勝点 順位 | AF43: 得失 点差 | AH43: 得失 順位 | AJ43: ﾄｰﾀﾙ 順位
A45: =E12 -> 明治北SSC | D45: 星取表 | G45: =IF(F46="","",IF(F46>H46,"○",IF(F46<H46,"●",IF(F46=H46,"△")))) | J45: =IF(I46="","",IF(I46>K46,"○",IF(I46<K46,"●",IF(I46=K46,"△")))) -> △ | M45: =IF(L46="","",IF(L46>N46,"○",IF(L46<N46,"●",IF(L46=N46,"△")))) -> ○ | P45: =IF(O46="","",IF(O46>Q46,"○",IF(O46<Q46,"●",IF(O46=Q46,"△")))) | R45: =COUNTIF(F45:Q45,"○") -> 1 | T45: =COUNTIF(F45:Q45,"△")+COUNTIF(F45:Q45,"▲") -> 1 | V45: =COUNTIF(F45:Q45,"●") -> 0 | X45: =SUM(F46,I46,L46,O46) -> 5 | Z45: =SUM(H46,K46,N46,Q46) -> 2 | AB45: =(R45*$G$17)+(T45*$L$17) -> 5 | AD45: =RANK(AB45,AB$45:AB$52) -> 1 | AE45: 位 | AF45: =X45-Z45 -> 3 | AH45: =RANK(AF45,AF$45:AF$52) -> 1 | AI45: 位 | AJ45: ※1
D46: 得失点 | G46: - | I46: 1 | J46: - | K46: 1 | L46: 4 | M46: - | N46: 1 | P46: -
A47: =E13 -> FC中津ジュニア | D47: 星取表 | G47: =IF(F48="","",IF(F48>H48,"○",IF(F48<H48,"●",IF(F48=H48,"△")))) -> △ | J47: =IF(I48="","",IF(I48>K48,"○",IF(I48<K48,"●",IF(I48=K48,"△")))) | M47: =IF(L48="","",IF(L48>N48,"○",IF(L48<N48,"●",IF(L48=N48,"△")))) | P47: =IF(O48="","",IF(O48>Q48,"○",IF(O48<Q48,"●",IF(O48=Q48,"△")))) -> ● | R47: =COUNTIF(F47:Q47,"○") -> 0 | T47: =COUNTIF(F47:Q47,"△")+COUNTIF(F47:Q47,"▲") -> 1 | V47: =COUNTIF(F47:Q47,"●") -> 1 | X47: =SUM(F48,I48,L48,O48) -> 1 | Z47: =SUM(H48,K48,N48,Q48) -> 2 | AB47: =(R47*$G$17)+(T47*$L$17) -> 1 | AD47: =RANK(AB47,AB$45:AB$52) -> 3 | AE47: 位 | AF47: =X47-Z47 -> -1 | AH47: =RANK(AF47,AF$45:AF$52) -> 3 | AI47: 位 | AJ47: ※3
D48: 得失点 | F48: 1 | G48: - | H48: 1 | J48: - | M48: - | O48: 0 | P48: - | Q48: 1
...

Sheet 会場図
A1: 会場図
