Workbook

Sheet 日程 
A1: JFAU-12 ガールズゲーム2026 九州 第13回 なでしこMIYAZAKIカップ 大分県予選 日程
B3: （１）期日 | C3: ２０２６年９月２３日（水・祝）
B5: （2）参加チーム(申し込み順）
B6: 1 | C6: 別府・日田・九重ガールズ | H6: D
B7: 2 | C7: カティオーラPramo | H7: C
B8: 3 | C8: 中津ガールズ | H8: E
B9: 4 | C9: Team南大分 | H9: B
B10: 5 | C10: FC.RosaClaroU-12 | H10: F
H11: A
B13: （３）日程 | C13: （試合時間 12分－4分－12分）
C14: 会場 | D14: 大分県サッカー協会人工芝グランドＡコート(北側) | I14: 大分県サッカー協会人工芝グランドＢコート(南側)
B15: ８：３０ | C15: 役員集合
B16: ９：００ | C16: 監督会議
B17: ９：２０ | C17: 開会式 | D17: Ａコート | I17: Bコート
A18: ① | B18: １０：００ | C18: リーグ | D18: =C6 -> 別府・日田・九重ガールズ | F18: - | G18: =C7 -> カティオーラPramo | I18: =C8 -> 中津ガールズ | K18: - | L18: =C9 -> Team南大分
A19: ② | B19: １０：５０ | C19: 〃 | D19: =C6 -> 別府・日田・九重ガールズ | F19: - | G19: =C8 -> 中津ガールズ | I19: =C7 -> カティオーラPramo | K19: - | L19: =C10 -> FC.RosaClaroU-12
C20: 小休憩
A21: ③ | B21: １２：１０ | C21: 〃 | D21: =C7 -> カティオーラPramo | F21: - | G21: =C9 -> Team南大分 | I21: =C6 -> 別府・日田・九重ガールズ | K21: - | L21: =C10 -> FC.RosaClaroU-12
A22: ④ | B22: １３：００ | C22: 〃 | D22: =C8 -> 中津ガールズ | F22: - | G22: =C10 -> FC.RosaClaroU-12 | I22: =C6 -> 別府・日田・九重ガールズ | K22: - | L22: =C9 -> Team南大分
C23: 小休憩
A24: ⑤ | B24: １４：２０ | C24: 〃 | D24: =C9 -> Team南大分 | F24: - | G24: =C10 -> FC.RosaClaroU-12 | I24: =C7 -> カティオーラPramo | K24: - | L24: =C8 -> 中津ガールズ
C25: 片付け | D25: 全チームでフラッグ・本部・ゴール等を片付けます。
C26: 表彰式
A28: 《問い合わせ》 （一社）大分県サッカー協会4種委員会女子担当 田尻 貴志 ０８０－３９４２−９４９８
C29: ※指導者以外の問い合わせは、ご遠慮願います。
B31: 開会式 次第 | E31: 進行：（一社）大分県サッカー協会4種委員会女子担当
B32: １．初めの言葉
B33: ２．主催者あいさつ | E33: （一社）大分県サッカー協会4種委員長 仲野 昭博
B34: ３．選手宣誓 | E34: 別府・日田・九重ガールズ（前回優勝チームキャプテン）
B35: ４．競技上の注意 | E35: （一社）大分県サッカー協会4種審判委員長 毛藤 勇三
B36: ５．諸注意 | E36: （一社）大分県サッカー協会4種委員会女子担当
B37: ６．終わりの言葉
B39: 閉会式 次第 | E39: 進行：（一社）大分県サッカー協会4種委員会女子担当
B40: １，初めの言葉
B41: ２，成績発表 | E41: （一社）大分県サッカー協会4種委員会事務局次長 末永 成久
B42: ３，表彰 | E42: （一社）大分県サッカー協会4種委員長 仲野 昭博
B43: ４．講評 | E43: （一社）大分県サッカー協会県4種副委員長 中原 圭介
B44: ５．終わりの言葉 | E44: 今年度優勝チームキャプテン

Sheet 組合せ
B2: JFAU-12 ガールズゲーム2025九州 第13回なでしこMIYAZAKIカップ 大分県予選組合せ
U7: 日時 ： | W7: ２０２６．９．２３
U8: 会場 ： | W8: サッカー協会人工芝グランド
E13: ='日程 '!C6 -> 別府・日田・九重ガールズ | H13: ='日程 '!C7 -> カティオーラPramo | K13: ='日程 '!C8 -> 中津ガールズ | N13: ='日程 '!C9 -> Team南大分 | Q13: ='日程 '!C10 -> FC.RosaClaroU-12 | T13: 勝 | V13: 引 分 | X13: 敗 | Z13: 得 点 | AB13: 失 点 | AD13: 勝 点 | AF13: 得失 点差 | AH13: 順位
B15: =E13 -> 別府・日田・九重ガールズ | I15: =IF(H16="","",IF(H16>J16,"○",IF(H16<J16,"●",IF(H16=J16,"△")))) -> △ | L15: =IF(K16="","",IF(K16>M16,"○",IF(K16<M16,"●",IF(K16=M16,"△")))) -> ● | O15: =IF(N16="","",IF(N16>P16,"○",IF(N16<P16,"●",IF(N16=P16,"△")))) -> ● | R15: =IF(Q16="","",IF(Q16>S16,"○",IF(Q16<S16,"●",IF(Q16=S16,"△")))) -> ● | T15: =COUNTIF(E15:S15,"○") -> 0 | V15: =COUNTIF(E15:S15,"△")+COUNTIF(E15:S15,"▲") -> 1 | X15: =COUNTIF(E15:S15,"●") -> 3 | Z15: =SUM(H16,K16,N16,Q16) -> 1 | AB15: =SUM(J16,M16,P16,S16) -> 8 | AD15: =(T15*3)+(V15*1) -> 1 | AF15: =Z15-AB15 -> -7 | AH15: =_xlfn.RANK.EQ(AJ15,$AJ$15:$AJ$24,0) -> 4 | AJ15: =AD15*100+Z15*10+AF15*1 -> 103
H16: 1 | I16: － | J16: 1 | K16: 0 | L16: － | M16: 1 | N16: 0 | O16: － | P16: 2 | Q16: 0 | R16: － | S16: 4
B17: =H13 -> カティオーラPramo | F17: =IF(E18="","",IF(E18>G18,"○",IF(E18<G18,"●",IF(E18=G18,"△")))) -> △ | L17: =IF(K18="","",IF(K18>M18,"○",IF(K18<M18,"●",IF(K18=M18,"△")))) -> ● | O17: =IF(N18="","",IF(N18>P18,"○",IF(N18<P18,"●",IF(N18=P18,"△")))) -> ● | R17: =IF(Q18="","",IF(Q18>S18,"○",IF(Q18<S18,"●",IF(Q18=S18,"△")))) -> ● | T17: =COUNTIF(E17:S17,"○") -> 0 | V17: =COUNTIF(E17:S17,"△")+COUNTIF(E17:S17,"▲") -> 1 | X17: =COUNTIF(E17:S17,"●") -> 3 | Z17: =SUM(E18,K18,N18,Q18) -> 1 | AB17: =SUM(G18,M18,P18,S18) -> 9 | AD17: =(T17*3)+(V17*1) -> 1 | AF17: =Z17-AB17 -> -8 | AH17: =_xlfn.RANK.EQ(AJ17,$AJ$15:$AJ$24,0) -> 5 | AJ17: =AD17*100+Z17*10+AF17*1 -> 102
E18: =J16 -> 1 | F18: － | G18: =H16 -> 1 | K18: 0 | L18: － | M18: 3 | N18: 0 | O18: － | P18: 2 | Q18: 0 | R18: － | S18: 3
B19: =K13 -> 中津ガールズ | F19: =IF(E20="","",IF(E20>G20,"○",IF(E20<G20,"●",IF(E20=G20,"△")))) -> ○ | I19: =IF(H20="","",IF(H20>J20,"○",IF(H20<J20,"●",IF(H20=J20,"△")))) -> ○ | O19: =IF(N20="","",IF(N20>P20,"○",IF(N20<P20,"●",IF(N20=P20,"△")))) -> △ | R19: =IF(Q20="","",IF(Q20>S20,"○",IF(Q20<S20,"●",IF(Q20=S20,"△")))) -> ● | T19: =COUNTIF(E19:S19,"○") -> 2 | V19: =COUNTIF(E19:S19,"△")+COUNTIF(E19:S19,"▲") -> 1 | X19: =COUNTIF(E19:S19,"●") -> 1 | Z19: =SUM(H20,E20,N20,Q20) -> 6 | AB19: =SUM(J20,G20,P20,S20) -> 4 | AD19: =(T19*3)+(V19*1) -> 7 | AF19: =Z19-AB19 -> 2 | AH19: =_xlfn.RANK.EQ(AJ19,$AJ$15:$AJ$24,0) -> 3 | AJ19: =AD19*100+Z19*10+AF19*1 -> 762
E20: =M16 -> 1 | F20: － | G20: =K16 -> 0 | H20: =M18 -> 3 | I20: － | J20: =K18 -> 0 | N20: 1 | O20: － | P20: 1 | Q20: 1 | R20: － | S20: 3
B21: =N13 -> Team南大分 | F21: =IF(E22="","",IF(E22>G22,"○",IF(E22<G22,"●",IF(E22=G22,"△")))) -> ○ | I21: =IF(H22="","",IF(H22>J22,"○",IF(H22<J22,"●",IF(H22=J22,"△")))) -> ○ | L21: =IF(K22="","",IF(K22>M22,"○",IF(K22<M22,"●",IF(K22=M22,"△")))) -> △ | R21: =IF(Q22="","",IF(Q22>S22,"○",IF(Q22<S22,"●",IF(Q22=S22,"△")))) -> ○ | T21: =COUNTIF(E21:S21,"○") -> 3 | V21: =COUNTIF(E21:S21,"△")+COUNTIF(E21:S21,"▲") -> 1 | X21: =COUNTIF(E21:S21,"●") -> 0 | Z21: =SUM(H22,K22,E22,Q22) -> 7 | AB21: =SUM(J22,M22,G22,S22) -> 1 | AD21: =(T21*3)+(V21*1) -> 10 | AF21: =Z21-AB21 -> 6 | AH21: =_xlfn.RANK.EQ(AJ21,$AJ$15:$AJ$24,0) -> 1 | AJ21: =AD21*100+Z21*10+AF21*1 -> 1076
E22: =P16 -> 2 | F22: － | G22: =N16 -> 0 | H22: =P18 -> 2 | I22: － | J22: =N18 -> 0 | K22: =P20 -> 1 | L22: － | M22: =N20 -> 1 | Q22: 2 | R22: － | S22: 0
B23: =Q13 -> FC.RosaClaroU-12 | F23: =IF(E24="","",IF(E24>G24,"○",IF(E24<G24,"●",IF(E24=G24,"△")))) -> ○ | I23: =IF(H24="","",IF(H24>J24,"○",IF(H24<J24,"●",IF(H24=J24,"△")))) -> ○ | L23: =IF(K24="","",IF(K24>M24,"○",IF(K24<M24,"●",IF(K24=M24,"△")))) -> ○ | O23: =IF(N24="","",IF(N24>P24,"○",IF(N24<P24,"●",IF(N24=P24,"△")))) -> ● | T23: =COUNTIF(E23:S23,"○") -> 3 | V23: =COUNTIF(E23:S23,"△")+COUNTIF(E23:S23,"▲") -> 0 | X23: =COUNTIF(E23:S23,"●") -> 1 | Z23: =SUM(H24,K24,N24,E24) -> 10 | AB23: =SUM(J24,M24,P24,G24) -> 3 | AD23: =(T23*3)+(V23*1) -> 9 | AF23: =Z23-AB23 -> 7 | AH23: =_xlfn.RANK.EQ(AJ23,$AJ$15:$AJ$24,0) -> 2 | AJ23: =AD23*100+Z23*10+AF23*1 -> 1007
E24: =S16 -> 4 | F24: － | G24: =Q16 -> 0 | H24: =S18 -> 3 | I24: － | J24: =Q18 -> 0 | K24: =S20 -> 3 | L24: － | M24: =Q20 -> 1 | N24: =S22 -> 0 | O24: － | P24: =Q22 -> 2

Sheet 星取表
A2: 【星取表】
A3: チーム名 | B3: =A4 -> RosaClaro | E3: =A7 -> POMATO | H3: =A10 -> 南大分 | K3: 勝 | L3: 分 | M3: 敗 | N3: 得 点 | O3: 失 点 | P3: 勝 点 | Q3: 勝点 順位 | S3: 得失 点差 | U3: 得失 順位 | W3: ﾄｰﾀﾙ 順位
A4: RosaClaro | F4: =IF(E6="","",IF(E6>G6,"○",IF(E6<G6,"●",IF(E6=G6,"△")))) | K4: =COUNTIF(B4:J4,"○") -> 0 | L4: 0 | M4: =COUNTIF(B4:J4,"●") -> 0 | N4: =SUM(H6,E6) -> 0 | O4: =SUM(J6,G6) -> 0 | P4: =(K4*3)+(L4*1) -> 0 | Q4: =RANK(P4,P$25:P$33) -> #N/A | R4: 位 | S4: =N4-O4 -> 0 | U4: =RANK(S4,S$26:S$33) -> #N/A | V4: 位
F5: ー | I5: ー
A7: POMATO | C7: =IF(B9="","",IF(B9>D9,"○",IF(B9<D9,"●",IF(B9=D9,"△")))) | I7: =IF(H9="","",IF(H9>J9,"○",IF(H9<J9,"●",IF(H9=J9,"△")))) | K7: =COUNTIF(B7:J7,"○") -> 0 | L7: 0 | M7: =COUNTIF(B7:J7,"●") -> 0 | N7: =SUM(B9,H9) -> 0 | O7: =SUM(D9,J9) -> 0 | P7: =(K7*3)+(L7*1) -> 0 | Q7: =RANK(P7,P$26:P$33) -> #N/A | R7: 位 | S7: =N7-O7 -> 0 | U7: =RANK(S7,S$26:S$33) -> #N/A | V7: 位
C8: ー | I8: ー
A10: 南大分 | F10: =IF(E12="","",IF(E12>G12,"○",IF(E12<G12,"●",IF(E12=G12,"△")))) | K10: =COUNTIF(B10:J10,"○") -> 0 | L10: 0 | M10: =COUNTIF(B10:J10,"●") -> 0 | N10: =SUM(B12,E12) -> 0 | O10: =SUM(D12,G12) -> 0 | P10: =(K10*3)+(L10*1) -> 0 | Q10: =RANK(P10,P$26:P$33) -> #N/A | R10: 位 | S10: =N10-O10 -> 0 | U10: =RANK(S10,S$26:S$33) -> #N/A | V10: 位
C11: ー | F11: ー
A14: チーム名 | B14: =A15 -> 別府 | E14: =A18 -> カティオーラ | H14: =A21 -> SKK | K14: 勝 | L14: 分 | M14: 敗 | N14: 得 点 | O14: 失 点 | P14: 勝 点 | Q14: 勝点 順位 | S14: 得失 点差 | U14: 得失 順位 | W14: ﾄｰﾀﾙ 順位
A15: 別府 | F15: =IF(E17="","",IF(E17>G17,"○",IF(E17<G17,"●",IF(E17=G17,"△")))) | K15: =COUNTIF(B15:J15,"○") -> 0 | L15: 0 | M15: =COUNTIF(B15:J15,"●") -> 0 | N15: =SUM(H17,E17) -> 0 | O15: =SUM(J17,G17) -> 0 | P15: =(K15*3)+(L15*1) -> 0 | Q15: =RANK(P15,P$25:P$33) -> #N/A | R15: 位 | S15: =N15-O15 -> 0 | U15: =RANK(S15,S15:T23) -> 1 | V15: 位
F16: ー | I16: ー
A18: カティオーラ | C18: =IF(B20="","",IF(B20>D20,"○",IF(B20<D20,"●",IF(B20=D20,"△")))) | I18: =IF(H20="","",IF(H20>J20,"○",IF(H20<J20,"●",IF(H20=J20,"△")))) | K18: =COUNTIF(B18:J18,"○") -> 0 | L18: 0 | M18: =COUNTIF(B18:J18,"●") -> 0 | N18: =SUM(B20,H20) -> 0 | O18: =SUM(D20,J20) -> 0 | P18: =(K18*3)+(L18*1) -> 0 | Q18: =RANK(P18,P$26:P$33) -> #N/A | R18: 位 | S18: =N18-O18 -> 0 | U18: =RANK(S18,S15:T23) -> 1 | V18: 位
C19: ー | I19: ー
A21: SKK | F21: =IF(E23="","",IF(E23>G23,"○",IF(E23<G23,"●",IF(E23=G23,"△")))) | K21: =COUNTIF(B21:J21,"○") -> 0 | L21: 0 | M21: =COUNTIF(B21:J21,"●") -> 0 | N21: =SUM(B23,E23) -> 0 | O21: =SUM(D23,G23) -> 0 | P21: =(K21*3)+(L21*1) -> 0 | Q21: =RANK(P21,P$26:P$33) -> #N/A | R21: 位 | S21: =N21-O21 -> 0 | U21: =RANK(S21,S15:T23) -> 1 | V21: 位
C22: ー | F22: ー

Sheet 会場図
B1: 会場図（大分県サッカー協会人工芝グランド）

Sheet 駐車証
A1: 駐 車 証
A8: 第13回なでしこMIYAZAKIカップ
