Workbook

Sheet 会場図
B1: 会場図（大分県サッカー協会人工芝グランド）

Sheet 星取表
A1: 第１５回 郡市対抗ガールズサッカー選手権大会
B2: 開催日：２０２６年６月７日（日）
B3: 会 場：大分県サッカー協会人工芝グランド
B5: 参加チーム
B6: № | D6: チーム名 | M6: 最終順位
B7: 1 | D7: 西部地区女子トレセン | M7: =AB17 -> 0 | P7: 位
B8: 2 | D8: 大分市U-12女子 | M8: =AB19 -> 0 | P8: 位
B9: 3 | D9: 中津ガールズ | M9: =AB21 -> 0 | P9: 位
B10: 4 | M10: =AB23 -> 0 | P10: 位
B11: 5 | M11: =AB25 -> 0 | P11: 位
P12: 申込順
B14: 星取表（順位決定戦）
E15: =B17 -> 西部地区 女子トレセン | H15: =B19 -> 大分市 U-12女子 | K15: =B21 -> 中津ガールズ | N15: 勝 | P15: 引 分 | R15: 敗 | T15: 得 点 | V15: 失 点 | X15: 勝 点 | Z15: 得失点 | AB15: 順位
B17: 西部地区 女子トレセン | I17: =IF(H18="","",IF(H18>J18,"○",IF(H18<J18,"●",IF(H18=J18,"△")))) -> △ | L17: =IF(K18="","",IF(K18>M18,"○",IF(K18<M18,"●",IF(K18=M18,"△")))) -> △ | N17: =COUNTIF(E17:M17,"○") -> 0 | P17: =COUNTIF(E17:M17,"△")+COUNTIF(E17:M17,"▲") -> 2 | R17: =COUNTIF(E17:M17,"●") -> 0 | T17: =SUM(H18,K18) -> 0 | V17: =SUM(J18,M18) -> 0 | X17: =(N17*3)+(P17*1) -> 2 | Z17: =T17-V17 -> 0
H18: 0 | I18: - | J18: 0 | K18: 0 | L18: - | M18: 0
B19: 大分市 U-12女子 | F19: =IF(E20="","",IF(E20>G20,"○",IF(E20<G20,"●",IF(E20=G20,"△")))) -> △ | L19: =IF(K20="","",IF(K20>M20,"○",IF(K20<M20,"●",IF(K20=M20,"△")))) -> △ | N19: =COUNTIF(E19:M19,"○") -> 0 | P19: =COUNTIF(E19:M19,"△")+COUNTIF(E19:M19,"▲") -> 2 | R19: =COUNTIF(E19:M19,"●") -> 0 | T19: =SUM(H20,K20) -> 0 | V19: =SUM(J20,M20) -> 0 | X19: =(N19*3)+(P19*1) -> 2 | Z19: =T19-V19 -> 0
E20: =J18 -> 0 | F20: - | G20: =H18 -> 0 | K20: 0 | L20: - | M20: 0
B21: =D9 -> 中津ガールズ | F21: =IF(E22="","",IF(E22>G22,"○",IF(E22<G22,"●",IF(E22=G22,"△")))) -> △ | I21: =IF(H22="","",IF(H22>J22,"○",IF(H22<J22,"●",IF(H22=J22,"△")))) -> △ | N21: =COUNTIF(E21:M21,"○") -> 0 | P21: =COUNTIF(E21:M21,"△")+COUNTIF(E21:M21,"▲") -> 2 | R21: =COUNTIF(E21:M21,"●") -> 0 | T21: =SUM(H22,K22) -> 0 | V21: =SUM(J22,M22) -> 0 | X21: =(N21*3)+(P21*1) -> 2 | Z21: =T21-V21 -> 0
E22: =M18 -> 0 | F22: - | G22: =K18 -> 0 | H22: =M20 -> 0 | I22: - | J22: =K20 -> 0
B23: =D10 -> 0 | F23: =IF(E24="","",IF(E24>G24,"○",IF(E24<G24,"●",IF(E24=G24,"△")))) -> #REF! | I23: =IF(H24="","",IF(H24>J24,"○",IF(H24<J24,"●",IF(H24=J24,"△")))) -> #REF! | L23: =IF(K24="","",IF(K24>M24,"○",IF(K24<M24,"●",IF(K24=M24,"△")))) -> #REF! | R23: =IF(Q24="","",IF(Q24>S24,"○",IF(Q24<S24,"●",IF(Q24=S24,"△")))) -> △ | T23: =COUNTIF(E23:S23,"○") -> 0 | U23: =COUNTIF(E23:S23,"△")+COUNTIF(E23:S23,"▲") -> 1 | V23: =COUNTIF(E23:S23,"●") -> 0 | W23: =SUM(E24,H24,K24,N24,Q24) -> #REF! | X23: =SUM(G24,J24,M24,P24,S24) -> #REF! | Y23: =(T23*3)+(U23*1) -> 1 | Z23: =W23-X23 -> #REF!
E24: =#REF! -> #REF! | F24: - | G24: =#REF! -> #REF! | H24: =#REF! -> #REF! | I24: - | J24: =#REF! -> #REF! | K24: =#REF! -> #REF! | L24: - | M24: =#REF! -> #REF! | Q24: 0 | R24: - | S24: 0
B25: =D11 -> 0 | F25: =IF(E26="","",IF(E26>G26,"○",IF(E26<G26,"●",IF(E26=G26,"△")))) -> #REF! | I25: =IF(H26="","",IF(H26>J26,"○",IF(H26<J26,"●",IF(H26=J26,"△")))) -> #REF! | L25: =IF(K26="","",IF(K26>M26,"○",IF(K26<M26,"●",IF(K26=M26,"△")))) -> #REF! | O25: =IF(N26="","",IF(N26>P26,"○",IF(N26<P26,"●",IF(N26=P26,"△")))) -> △ | T25: =COUNTIF(E25:S25,"○") -> 0 | U25: =COUNTIF(E25:S25,"△")+COUNTIF(E25:S25,"▲") -> 1 | V25: =COUNTIF(E25:S25,"●") -> 0 | W25: =SUM(E26,H26,K26,N26,Q26) -> #REF! | X25: =SUM(G26,J26,M26,P26,S26) -> #REF! | Y25: =(T25*3)+(U25*1) -> 1 | Z25: =W25-X25 -> #REF!
E26: =#REF! -> #REF! | F26: - | G26: =#REF! -> #REF! | H26: =#REF! -> #REF! | I26: - | J26: =#REF! -> #REF! | K26: =#REF! -> #REF! | L26: - | M26: =#REF! -> #REF! | N26: =S24 -> 0 | O26: - | P26: =Q24 -> 0
B30: 星取表（交流戦）
E31: =B33 -> 西部地区 女子トレセン | H31: =B35 -> 大分市 U-12女子 | K31: =B37 -> 中津ガールズ | N31: 勝 | P31: 引 分 | R31: 敗 | T31: 得 点 | V31: 失 点 | X31: 勝 点 | Z31: 得失点
B33: 西部地区 女子トレセン | I33: =IF(H34="","",IF(H34>J34,"○",IF(H34<J34,"●",IF(H34=J34,"△")))) -> △ | L33: =IF(K34="","",IF(K34>M34,"○",IF(K34<M34,"●",IF(K34=M34,"△")))) -> △ | N33: =COUNTIF(E33:M33,"○") -> 0 | P33: =COUNTIF(E33:M33,"△")+COUNTIF(E33:M33,"▲") -> 2 | R33: =COUNTIF(E33:M33,"●") -> 0 | T33: =SUM(H34,K34) -> 0 | V33: =SUM(J34,M34) -> 0 | X33: =(N33*3)+(P33*1) -> 2 | Z33: =T33-V33 -> 0
H34: 0 | I34: - | J34: 0 | K34: 0 | L34: - | M34: 0
B35: 大分市 U-12女子 | F35: =IF(E36="","",IF(E36>G36,"○",IF(E36<G36,"●",IF(E36=G36,"△")))) -> △ | L35: =IF(K36="","",IF(K36>M36,"○",IF(K36<M36,"●",IF(K36=M36,"△")))) -> △ | N35: =COUNTIF(E35:M35,"○") -> 0 | P35: =COUNTIF(E35:M35,"△")+COUNTIF(E35:M35,"▲") -> 2 | R35: =COUNTIF(E35:M35,"●") -> 0 | T35: =SUM(H36,K36) -> 0 | V35: =SUM(J36,M36) -> 0 | X35: =(N35*3)+(P35*1) -> 2 | Z35: =T35-V35 -> 0
E36: =J34 -> 0 | F36: - | G36: =H34 -> 0 | K36: 0 | L36: - | M36: 0
B37: =B21 -> 中津ガールズ | F37: =IF(E38="","",IF(E38>G38,"○",IF(E38<G38,"●",IF(E38=G38,"△")))) -> △ | I37: =IF(H38="","",IF(H38>J38,"○",IF(H38<J38,"●",IF(H38=J38,"△")))) -> △ | N37: =COUNTIF(E37:M37,"○") -> 0 | P37: =COUNTIF(E37:M37,"△")+COUNTIF(E37:M37,"▲") -> 2 | R37: =COUNTIF(E37:M37,"●") -> 0 | T37: =SUM(H38,K38) -> 0 | V37: =SUM(J38,M38) -> 0 | X37: =(N37*3)+(P37*1) -> 2 | Z37: =T37-V37 -> 0
E38: =M34 -> 0 | F38: - | G38: =K34 -> 0 | H38: =M36 -> 0 | I38: - | J38: =K36 -> 0

Sheet 日程
A1: 第１５回 郡市対抗ガールズサッカー選手権大会
B3: （１）開催日：２０２６年６月７日（日）
B5: （2）参加チーム(申し込み順）
B6: 1 | D6: =星取表!D7 -> 西部地区女子トレセン | J6: D
B7: 2 | D7: =星取表!D8 -> 大分市U-12女子 | J7: C
B8: 3 | D8: =星取表!D9 -> 中津ガールズ | J8: E
B9: 4 | D9: =星取表!D10 -> 0 | J9: B
B10: 5 | D10: =星取表!D11 -> 0 | J10: F
J11: A
B12: （３）日程 | E12: 試合時間：１５分-５分-１５分（順位決定戦）、１０分-３分-１０分（交流戦）
D13: Ａコート（北側） | K13: Ｂコート（南側）
B14: ８：３０ | D14: 役員集合、会場設営
B15: ９：２０ | D15: 開会式及び監督会議（本部テント前）
A16: ① | B16: １０：００ | D16: =D6 -> 西部地区女子トレセン | F16: =星取表!H18 -> 0 | G16: - | H16: =星取表!J18 -> 0 | I16: =D7 -> 大分市U-12女子
A17: ② | B17: １０：５０ | D17: =D7 -> 大分市U-12女子 | F17: =星取表!K20 -> 0 | G17: - | H17: =星取表!M20 -> 0 | I17: =D8 -> 中津ガールズ
A18: ③ | B18: １１：４０ | D18: =D8 -> 中津ガールズ | F18: =星取表!M18 -> 0 | G18: - | H18: =星取表!K18 -> 0 | I18: =D6 -> 西部地区女子トレセン
B19: ～ | D19: 昼休憩
A20: ④ | B20: １３：００ | D20: =D6 -> 西部地区女子トレセン | F20: =星取表!H34 -> 0 | G20: - | H20: =星取表!J34 -> 0 | I20: =D7 -> 大分市U-12女子
A21: ⑤ | B21: １３：４０ | D21: =D7 -> 大分市U-12女子 | F21: =星取表!K36 -> 0 | G21: - | H21: =星取表!M36 -> 0 | I21: =D8 -> 中津ガールズ
A22: ⑥ | B22: １４：２０ | D22: =D8 -> 中津ガールズ | F22: =星取表!M34 -> 0 | G22: - | H22: =星取表!K34 -> 0 | I22: =D6 -> 西部地区女子トレセン
A23: ⑦ | D23: 閉会式（本部テント前）
D24: 全チームでフラッグ・本部・ゴール等を片付けます。
A26: 《問い合わせ》 （一社）大分県サッカー協会4種委員会女子担当 田尻 貴志 ０８０－３９４２−９４９８
D27: ※指導者以外の問い合わせは、ご遠慮願います。
B35: 開会式 次第 | G35: 進行：（一社）大分県サッカー協会４種委員会女子担当
B36: １．初めの言葉
B37: ２．主催者あいさつ
B38: ３．選手宣誓 | G38: 西部地区女子トレセン キャプテン
B39: ４．競技上の注意
B40: ５．終わりの言葉
B43: 閉会式 次第 | G43: 進行：（一社）大分県サッカー協会４種委員会女子担当
B44: １，初めの言葉
B45: ２，成績発表
B46: ３，表彰
B47: ４．講評
B48: ５．終わりの言葉
