Workbook
Name OLE_LINK1: 大会要項!$A$56

Sheet 抽選会資料
A1: =大会要項!B3 -> 第15回 全日本不動産協会杯争奪U-12サッカー大会【ラビットカップ】大分県大会 | I1: 抽選会及び監督(代表者)会議
A3: １． | B3: =大会要項!D50 -> 日時:大会事務局にて組合せを決定する。
A5: ２． | B5: =大会要項!D51 -> 場所:上記
A7: ３． | B7: 参加チーム | C7: 24 | D7: チーム
A9: Aブロック（フリー） | H9: Bブロック（奇数）
A10: 地 区 | B10: チーム名 | C10: 申込 | D10: 参加料 | E10: 出欠 | H10: 地 区 | I10: チーム名 | J10: 申込 | K10: 参加料 | L10: 出欠
A11: 大分 | B11: ＮＦＣ・ＯＩＴＡ Ｕ１２ | C11: 〇 | H11: 中津 | I11: Ｓｈｙｎｔ ＦＣ | J11: 〇
B12: ＳＯＬ ＦＵＴＥＢＯＬ ＣＬＵＢＥ Ｍａｇｉａ | C12: 〇 | I12: ＦＣリーベル | J12: 〇
B13: 明治北ＳＳＣ | C13: 〇 | I13: ＦＣ中津ジュニア | J13: 〇
B14: ドリームキッズフットボールクラブＦ | C14: 〇 | H14: 宇佐高田 | I14: 四日市南ＳＳＣ | J14: 〇
B15: ドリームキッズフットボールクラブ | C15: 〇 | I15: ＦＣ ＷＡＹＳ | J15: 〇
B16: 西の台ＪＦＣ | C16: 〇 | H16: 速杵国東 | I16: 日出サッカースポーツ少年団 | J16: 〇
B17: 大分トリニータＵ－１２ | C17: 〇 | I17: 国東ジュニアサッカークラブ | J17: 〇
B18: 明治サッカースポーツ少年団 | C18: 〇 | H18: 別府 | I18: 朝日ＦＣ | J18: 〇
B19: カティオーラフットボールクラブＵ－１２ | C19: 〇 | I19: スマイス・セレソン | J19: 〇
B20: 豊府サッカースポーツ少年団 | C20: 〇 | H20: 日田/玖珠 | I20: ＦＣアリアーレ | J20: 〇
B21: リノスフットボールクラブ Ｕ－１２ | C21: 〇 | H21: 佐伯 | I21: 鶴岡Ｓ―ｐｌａｙ・ＭＩＮＡＭＩ | J21: 〇
H22: 豊肥 | I22: ＦＣ大野 | J22: 〇
H23: 臼杵/津久見 | I23: 野津ＦＣ | J23: 〇
A25: ４．会議次第
A26: ①ジュニア委員長あいさつ
A27: ②要項の確認
A28: ③審判部より
A29: ・大会１日目（予選リーグ）は、帯同審判員を（３級以上）チームで帯同する。
A30: ※出場チームにて責任を持って準備する事。
A31: ④質問、諸注意
A32: ⑤抽選
A34: ５．その他
A35: ①大会期間中は、常に選手証及び、指導者資格証、審判資格証を携帯し、必要に応じて提示すること。
A36: ベンチに入る指導者・選手は、あらかじめ明記した監督1名・その他役職者2名・選手8名まで。（指導者においては2名以上とする）それ以外の指導者・選手のベンチ入り
A37: は認めない。ベンチスタッフは、大会申込のスタッフ情報に申請した3名以内とし、JFA公認指導者ライセンスを有する事。ベンチ入りする指導者は、D級以上の有資格者とし
... A47: ６．試合会場
B48: 会場 | H48: 住所
A49: サブA | B49: 大分スポーツ公園クラサスサッカー・ラグビー場 Aコート（サブA）（Aコート/Bコート） | H49: 大分市大字松岡6841番地
A50: サブB | B50: 大分スポーツ公園クラサスサッカー・ラグビー場 Bコート（サブB）（Cコート/Dコート） | H50: 大分市大字松岡6841番地

Sheet 大会要項
A1: =B3 -> 第15回 全日本不動産協会杯争奪U-12サッカー大会【ラビットカップ】大分県大会 | I1: 実施要項(案)
A3: (１)名 称 | B3: 第15回 全日本不動産協会杯争奪U-12サッカー大会【ラビットカップ】大分県大会
A5: (２)主 催 | B5: 一般社団法人大分県サッカー協会
A7: (３)主 管 | B7: (一社)大分県サッカー協会4種委員会
A9: (４)特別協賛 | B9: 公益社団法人全日本不動産協会大分県本部
A11: (５)協 賛 | B11: (株)モルテン,スポーツデポ
A13: (６)後 援 | B13: 大分合同新聞社，OBS大分放送局，TOSテレビ大分，OAB大分朝日放送，エフエム大分
A15: (７)期 日 | B15: 2026年(令和8年) 6月27日(土)・6月28日(日)
A17: (８)会 場 | B17: 大分スポーツ公園クラサスサッカー・ラグビー場 A・Bコート（サブA・サブB）
A19: (９)参加資格 | B19: ① | C19: 2026年(令和8年)度大分県サッカー協会に加盟登録された各地区代表チームであること。
B20: ② | C20: 大会実施年度に大分県サッカー協会に加盟登録(第4種)されたチームであること。
B21: ③ | C21: 参加の申し込みは，監督1名を含む引率指導者5名，選手16名までとする。 引率指導者の中に，最低1名以上，日本サッカー協会公認D級以上の指導者資格を有する者が居ること。 (大会には資格証を持参すること。)
B22: ④ | C22: 複数チームの出場を認めるが、同じ選手が違うチームで出場できない。その際，それぞれのチームに別々の指導者が帯同すること。同じ指導者がチームにまたがって登録することはできない。
B23: ⑤ | C23: スポーツ傷害保険に必ず加入していること。
B24: ⑥ | C24: 各チームの指導者は，できるだけ多くの選手の出場機会を確保するよう努めるものとする。
A26: (10)試合方法 | B26: ① | C26: 各地区予選を勝ち上がった24チームを8パートに分け、予選リーグを行う。予選リーグ各パート1位の8チーム により決勝トーナメントを行い、優勝・準優勝・3位チームを決定する。
C27: 予選リーグは、その試合時間を30分(15-5-15)とし、その試合結果により、最上位のチームが決勝トーナメントへ出場する。
B28: ② | C28: 予選リーグにおける順位は、勝ち点(勝3、引分1、負0)・当該対戦・PKの順で決定する。 予選リーグにおいて、3チーム共に同率時の場合は、3人制のPK方式にて2連勝したチームが次回戦進出とする。
B29: ③ | C29: 決勝トーナメントは、試合時間を30分(15-5-15)とし、勝敗の決しないときは3人制のPK戦を行う。 ただし、決勝戦のみ10分(5分-5分)の延長戦を行い、それでも勝敗が決しない場合3人制のPK戦を行う。
B30: ④ | C30: 登録できる交代要員および交代の最大人数は8名とし，交代して退いた競技者は交代要員となり，再び出場することができる。交代の回数は制限されない。交代は，ボールがインプレー中，アウトオブプレー中にかかわらず行うことができ，チームの指導者，もしくは選手は「第4審」に交代選手の番号を口頭で報告し，用具チェックを受けた後，交代ゾーンから行う。ただし，交代で退く競技者が負傷している場合は，主審の承認を得た上でどこからフィールドを離れてもよい。また，GKが交代する場合はアウトプレー時に主審を通じ行う。 ※交代ゾーン＝ベンチ側のハーフウェイラインを挟んで3mずつ6mの範囲
B31: ⑤ | C31: ベンチスタッフは、大会申込のスタッフ情報に申請した3名以内とし、JFA公認指導者ライセンスを有する事。
B32: ⑥ | C32: 審判は、予選リーグは、主審1名の1人制とし、相互審判割り当て制とする（第4審は、本部対応とする）。 決勝トーナメントにおいては、主審1名、副審2名 第4審の4人制とし、本部対応とする。各試合にマッチコミッショナーを置き、決勝トーナメントは、ウェルフェアオフィサーも置く。
B33: ⑦ | C33: 審判員は、試合開始前にベンチの選手を含めた登録全選手の用具の確認を行う。
B34: ⑧ | C34: 試合球は4号検定球とし、予選リーグにおいては、各チームの持ち寄りとする。決勝トーナメントにおいては、本部で準備する。
B35: ⑨ | C35: 試合規則は、「2025/26(公財)日本サッカー協会競技規則」及び「8人制サッカー競技規則」に準じる。 また、本大会の競技等に関し必要な事項は、以下のとおりとする。
B36: ⑩ | C36: 競技場の大きさは，縦68m・横45～50mとする。センターサークル半径7m・ゴールエリア4m・ペナルティエリア12m・ ペナルティマーク8m・アーク7m とし、少年用ゴールを使用する。
B37: ⑪ | C37: 大会期間中、累計2回の警告または、退場及び退席を宣告された選手等は次回戦1試合に出場できず、それ以降の処置については本大会の規律・フェアプレー委員会で決定する。 (累積は、地区大会→予選リーグ→決勝トーナメントと持ち越す。)
B38: ⑫ | C38: 大会期間中、暑熱対策としてWBGTの数値により「Cooling Break」や「飲水タイム」を取り入れ運営を行う。また、空費された時間はアディショナルタイムとして加算される。尚、雷雨など，試合の続行が不可能だと判断される場合は中断等、大会本部にて協議・判断し、臨機応変な対応をとる。
B39: ⑬ | C39: 大会期間中は、大分県協会所属有資格者(3級以上)の審判を必ず1名以上帯同させ、審判服を着用の上、必ず資格ワッペンを付けること。
B40: ⑭ | C40: ポイント取り換え式のシューズは着用は認めない。
A42: (11)参加方法 | B42: ① | C42: 申込先 | D42: KICK OFF(JFA ID)の大会(大会への参加申込)より申込願います(地区大会兼用)。 締め切り：4/22(水) 21:00 までに申込完了のこと。以降の変更は認めない。 ※県大会出場チームについては6月17日(水)21:00まで変更を認める。
D43: ジュニア委員会HPに掲載している【大会エントリーガイド】を必ず確認し、対応をお願いします。
C44: ※修正及び変更手続きについては、Web大会参加申込の問い合わせ先まで連絡の事。
B45: ② | C45: 【参加料】 \12,100(税込) ※消費税 ￥1,100含む | E45: ※県大会の参加費振り込み期限は6/17(水)15:00までとする
C46: 【振込先】 | D46: 大分銀行 南支店 普通 7537028 一般社団法人 大分県サッカー協会 会長 二階堂 雅士
D47: ※振込は必ずチーム名で行うこと
C48: ※期限内に、参加のための手続き及び参加料の振り込みができない場合は失格処分とし出場を認めない。
C49: （失格のチームが発生した場合は対象地域より補充を行うが、選出方法については地域委員会に一任する。）
B50: ③ | C50: 抽選会 | D50: 日時:大会事務局にて組合せを決定する。
D51: 場所:上記
...

Sheet MCM資料
A1: マッチコーディネーションミーティング
A2: =大会要項!B3 -> 第15回 全日本不動産協会杯争奪U-12サッカー大会【ラビットカップ】大分県大会
J6: マッチナンバー：
B8: 組み合わせ左側チーム | K8: （ | O8: 市） | Q8: ｖｓ | S8: 組み合わせ右側チーム | AB8: （ | AF8: 市）
A10: 予選リーグ会場： | K10: 大分スポーツ公園クラサスサッカー・ラグビー場 サブA【A】【B】
K11: 大分スポーツ公園クラサスサッカー・ラグビー場 サブB【C】【D】
A12: 決勝トーナメント会場： | K12: 大分スポーツ公園クラサスサッカー・ラグビー場 サブA【A】【B】
E13: =大会要項!B15 -> 2026年(令和8年) 6月27日(土)・6月28日(日)
A14: 予選L | E14: ①10:30 ②11:20 ③12:10 ④13:00 ⑤13:50 ⑥14:40
A15: 決勝T | E15: ① 9:30 ②10:20 ③11:10 ④12:00 ⑤14:10
A17: 1 | B17: 挨拶および出席者の確認 | M17: 主管協会（ 一般社団法人 大分県サッカー協会 ）
B18: a) | D18: マッチコミッショナー・・・・・・・・・・・ | Y18: 氏
B19: b) | D19: ウェルフェアオフィサー | M19: ・・・・・・・・・・・・・・・・・ | Y19: 氏
B20: c) | D20: 組み合わせ左側チーム | M20: ・・・・・・・・・・・・・・・・・ | Y20: 氏
B21: d) | D21: 組み合わせ右側チーム | M21: ・・・・・・・・・・・・・・・・・ | Y21: 氏
B22: e) | D22: 審判団 | H22: 主審・・・・・・・・・・・・・・ | Y22: 氏
H23: 副審１・・・・・・・・・・・・・・ | Y23: 氏
H24: 副審２・・・・・・・・・・・・・・・ | Y24: 氏
H25: 第4の審判員・・・・・・・・・・・・ | Y25: 氏
B26: f) | D26: 主管サッカー協会(司会進行）・・・・・・・・・・・・・・ | Y26: 氏
A28: 2 | B28: 競技関連事項
B29: （1） | D29: 累積警告選手の確認 | L29: （本大会要項 （10）試合方法 ⑪）
C30: =+D20 -> 組み合わせ左側チーム
C31: =+D21 -> 組み合わせ右側チーム
B32: （2） | D32: ユニフォームの色の決定
B34: （3） | D34: 試合登録メンバー（選手および役員）の確認
B36: （４） | D36: 試合時間
B37: ○ | C37: 予選リーグは３０分とし、ハーフタイムのインターバル（前半終了から後半開始まで）は原則として5 分とする。予選リーグにおける順位は、勝ち点(勝3、引分1、負0)・当該対戦・PKの順で決定する。 予選リーグにおいて、3チーム共に同率時の場合は、3人制のPK方式にて2連勝したチームが 次回戦進出とする。
B40: ○ | C40: 決勝トーナメントは３０分とし、ハーフタイムのインターバル（前半終了から後半開始まで）は原則 として５分とする。規定の競技時間内に勝敗の決しない場合、3人制のPK方式にて勝敗を決定する。 但し、決勝戦のみ１０分の延長戦を行い、それでも勝敗が決しない場合３人制のPK戦を行う。 ＊インターバル＝延長戦に入る前：3分、ペナルティーキック方式に入る前：3分
B43: ○ | C43: 飲水タイムをとる場合は、「その他の理由」により空費された時間として追加する。
B44: ○ | C44: アディッショナルタイムの標記: | O44: 行う（表示用ボード）
B45: （5） | D45: 競技者の数
B46: ○ 試合開始時の人数は、8対8を原則とする。 ○ 競技中、怪我人が出た場合は、交代要員から補充すること。 ○ 退場者が出た場合は、交代要員から補充し、退場者のベンチ戻入は認めない。 ○ 競技者の数がアンバランスになるのは、該当チームに交代要員がいなくなった時に限る。
B49: （6） | D49: 選手の交代
B50: ○ 競技開始前に登録した最大8名の交代要員の中から、自由な交代が認められ、交代して退いた競技者は 交代要員となり、再び出場することができる。（交代の回数は制限されない。） ○ 交代は、ボールがインプレー中、アウトオブプレー中にかかわらず行うことができ、チームの指導者、 もしくは選手は「第4審」に交代選手の番号を口頭で報告し、用具チェックを受けた後、交代ゾーンか ら行う。ただし、交代で退く競技者が負傷している場合は、主審の承認を得た上でどこからフィールド を離れてもよい。 また、ＧＫが交代する場合はアウトプレー時に主審を通じ行う。
B55: （7） | D55: チームベンチへの人数
C56: ベンチに入る指導者・選手は、あらかじめ明記した監督1名及びその他役職者２名の計３名（うち 1名はJFA公認指導者ライセンスを有すること。）・交代要員となる選手８名を最大とする。 ※大会登録書（メンバー表）に記載された選手及び監督・役員以外のベンチ入りは認めない。
B58: （8） | D58: ウォーミングアップ
B59: ***試合前***
B60: ○ | C60: 場所： | F60: 各会場の指定された区域にて
...

Sheet 累積警告・退場
A1: × | B1: 累積警告・退場 | C1: =大会要項!B3 -> 第15回 全日本不動産協会杯争奪U-12サッカー大会【ラビットカップ】大分県大会
C2: =大会要項!B15 -> 2026年(令和8年) 6月27日(土)・6月28日(日)
D3: 地区予選 | H3: 予選リーグ （１試合目） | L3: 予選リーグ （2試合目） | P3: 1回戦 | T3: 準決勝
A4: 敗戦 | B4: 地区 | C4: チーム名 | D4: 背番号 | E4: 氏名 | F4: 警告/退場 | G4: 内容 | H4: 背番号 | I4: 氏名 | J4: 警告/退場 | K4: 内容 | L4: 背番号 | M4: 氏名 | N4: 警告/退場 | O4: 内容 | P4: 背番号 | Q4: 氏名 | R4: 警告/退場 | S4: 内容 | T4: 背番号 | U4: 氏名 | V4: 警告/退場 | W4: 内容
B5: 大分 | C5: =抽選会資料!B11 -> ＮＦＣ・ＯＩＴＡ Ｕ１２ | E5: =IF(D5="","",VLOOKUP(CONCATENATE(C5,"_",D5),選手名簿!$A:$H,5,FALSE)) | I5: =IF(H5="","",VLOOKUP(CONCATENATE(C5,"_",H5),選手名簿!$A:$H,5,FALSE)) | M5: =IF(L5="","",VLOOKUP(CONCATENATE(C5,"_",L5),選手名簿!$A:$H,5,FALSE)) | Q5: =IF(P5="","",VLOOKUP(CONCATENATE(C5,"_",P5),選手名簿!$A:$H,5,FALSE)) | U5: =IF(T5="","",VLOOKUP(CONCATENATE(C5,"_",T5),選手名簿!$A:$H,5,FALSE))
C6: =抽選会資料!B12 -> ＳＯＬ ＦＵＴＥＢＯＬ ＣＬＵＢＥ Ｍａｇｉａ | E6: =IF(D6="","",VLOOKUP(CONCATENATE(C6,"_",D6),選手名簿!$A:$H,5,FALSE)) | I6: =IF(H6="","",VLOOKUP(CONCATENATE(C6,"_",H6),選手名簿!$A:$H,5,FALSE)) | M6: =IF(L6="","",VLOOKUP(CONCATENATE(C6,"_",L6),選手名簿!$A:$H,5,FALSE)) | Q6: =IF(P6="","",VLOOKUP(CONCATENATE(C6,"_",P6),選手名簿!$A:$H,5,FALSE)) | U6: =IF(T6="","",VLOOKUP(CONCATENATE(C6,"_",T6),選手名簿!$A:$H,5,FALSE))
C7: =抽選会資料!B13 -> 明治北ＳＳＣ | E7: =IF(D7="","",VLOOKUP(CONCATENATE(C7,"_",D7),選手名簿!$A:$H,5,FALSE)) | I7: =IF(H7="","",VLOOKUP(CONCATENATE(C7,"_",H7),選手名簿!$A:$H,5,FALSE)) | M7: =IF(L7="","",VLOOKUP(CONCATENATE(C7,"_",L7),選手名簿!$A:$H,5,FALSE)) | Q7: =IF(P7="","",VLOOKUP(CONCATENATE(C7,"_",P7),選手名簿!$A:$H,5,FALSE)) | U7: =IF(T7="","",VLOOKUP(CONCATENATE(C7,"_",T7),選手名簿!$A:$H,5,FALSE))
C8: =抽選会資料!B14 -> ドリームキッズフットボールクラブＦ | E8: =IF(D8="","",VLOOKUP(CONCATENATE(C8,"_",D8),選手名簿!$A:$H,5,FALSE)) | I8: =IF(H8="","",VLOOKUP(CONCATENATE(C8,"_",H8),選手名簿!$A:$H,5,FALSE)) | M8: =IF(L8="","",VLOOKUP(CONCATENATE(C8,"_",L8),選手名簿!$A:$H,5,FALSE)) | Q8: =IF(P8="","",VLOOKUP(CONCATENATE(C8,"_",P8),選手名簿!$A:$H,5,FALSE)) | U8: =IF(T8="","",VLOOKUP(CONCATENATE(C8,"_",T8),選手名簿!$A:$H,5,FALSE))
C9: =抽選会資料!B15 -> ドリームキッズフットボールクラブ | E9: =IF(D9="","",VLOOKUP(CONCATENATE(C9,"_",D9),選手名簿!$A:$H,5,FALSE)) | I9: =IF(H9="","",VLOOKUP(CONCATENATE(C9,"_",H9),選手名簿!$A:$H,5,FALSE)) | M9: =IF(L9="","",VLOOKUP(CONCATENATE(C9,"_",L9),選手名簿!$A:$H,5,FALSE)) | Q9: =IF(P9="","",VLOOKUP(CONCATENATE(C9,"_",P9),選手名簿!$A:$H,5,FALSE)) | U9: =IF(T9="","",VLOOKUP(CONCATENATE(C9,"_",T9),選手名簿!$A:$H,5,FALSE))
C10: =抽選会資料!B16 -> 西の台ＪＦＣ | E10: =IF(D10="","",VLOOKUP(CONCATENATE(C10,"_",D10),選手名簿!$A:$H,5,FALSE)) | I10: =IF(H10="","",VLOOKUP(CONCATENATE(C10,"_",H10),選手名簿!$A:$H,5,FALSE)) | M10: =IF(L10="","",VLOOKUP(CONCATENATE(C10,"_",L10),選手名簿!$A:$H,5,FALSE)) | Q10: =IF(P10="","",VLOOKUP(CONCATENATE(C10,"_",P10),選手名簿!$A:$H,5,FALSE)) | U10: =IF(T10="","",VLOOKUP(CONCATENATE(C10,"_",T10),選手名簿!$A:$H,5,FALSE))
C11: =抽選会資料!B17 -> 大分トリニータＵ－１２ | E11: =IF(D11="","",VLOOKUP(CONCATENATE(C11,"_",D11),選手名簿!$A:$H,5,FALSE)) | I11: =IF(H11="","",VLOOKUP(CONCATENATE(C11,"_",H11),選手名簿!$A:$H,5,FALSE)) | M11: =IF(L11="","",VLOOKUP(CONCATENATE(C11,"_",L11),選手名簿!$A:$H,5,FALSE)) | Q11: =IF(P11="","",VLOOKUP(CONCATENATE(C11,"_",P11),選手名簿!$A:$H,5,FALSE)) | U11: =IF(T11="","",VLOOKUP(CONCATENATE(C11,"_",T11),選手名簿!$A:$H,5,FALSE))
C12: =抽選会資料!B18 -> 明治サッカースポーツ少年団 | E12: =IF(D12="","",VLOOKUP(CONCATENATE(C12,"_",D12),選手名簿!$A:$H,5,FALSE)) | I12: =IF(H12="","",VLOOKUP(CONCATENATE(C12,"_",H12),選手名簿!$A:$H,5,FALSE)) | M12: =IF(L12="","",VLOOKUP(CONCATENATE(C12,"_",L12),選手名簿!$A:$H,5,FALSE)) | Q12: =IF(P12="","",VLOOKUP(CONCATENATE(C12,"_",P12),選手名簿!$A:$H,5,FALSE)) | U12: =IF(T12="","",VLOOKUP(CONCATENATE(C12,"_",T12),選手名簿!$A:$H,5,FALSE))
C13: =抽選会資料!B19 -> カティオーラフットボールクラブＵ－１２ | E13: =IF(D13="","",VLOOKUP(CONCATENATE(C13,"_",D13),選手名簿!$A:$H,5,FALSE)) | I13: =IF(H13="","",VLOOKUP(CONCATENATE(C13,"_",H13),選手名簿!$A:$H,5,FALSE)) | M13: =IF(L13="","",VLOOKUP(CONCATENATE(C13,"_",L13),選手名簿!$A:$H,5,FALSE)) | Q13: =IF(P13="","",VLOOKUP(CONCATENATE(C13,"_",P13),選手名簿!$A:$H,5,FALSE)) | U13: =IF(T13="","",VLOOKUP(CONCATENATE(C13,"_",T13),選手名簿!$A:$H,5,FALSE))
C14: =抽選会資料!B20 -> 豊府サッカースポーツ少年団 | E14: =IF(D14="","",VLOOKUP(CONCATENATE(C14,"_",D14),選手名簿!$A:$H,5,FALSE)) | I14: =IF(H14="","",VLOOKUP(CONCATENATE(C14,"_",H14),選手名簿!$A:$H,5,FALSE)) | M14: =IF(L14="","",VLOOKUP(CONCATENATE(C14,"_",L14),選手名簿!$A:$H,5,FALSE)) | Q14: =IF(P14="","",VLOOKUP(CONCATENATE(C14,"_",P14),選手名簿!$A:$H,5,FALSE)) | U14: =IF(T14="","",VLOOKUP(CONCATENATE(C14,"_",T14),選手名簿!$A:$H,5,FALSE))
C15: =抽選会資料!B21 -> リノスフットボールクラブ Ｕ－１２ | E15: =IF(D15="","",VLOOKUP(CONCATENATE(C15,"_",D15),選手名簿!$A:$H,5,FALSE)) | I15: =IF(H15="","",VLOOKUP(CONCATENATE(C15,"_",H15),選手名簿!$A:$H,5,FALSE)) | M15: =IF(L15="","",VLOOKUP(CONCATENATE(C15,"_",L15),選手名簿!$A:$H,5,FALSE)) | Q15: =IF(P15="","",VLOOKUP(CONCATENATE(C15,"_",P15),選手名簿!$A:$H,5,FALSE)) | U15: =IF(T15="","",VLOOKUP(CONCATENATE(C15,"_",T15),選手名簿!$A:$H,5,FALSE))
B16: 中津 | C16: =抽選会資料!I11 -> Ｓｈｙｎｔ ＦＣ | E16: =IF(D16="","",VLOOKUP(CONCATENATE(C16,"_",D16),選手名簿!$A:$H,5,FALSE)) | I16: =IF(H16="","",VLOOKUP(CONCATENATE(C16,"_",H16),選手名簿!$A:$H,5,FALSE)) | M16: =IF(L16="","",VLOOKUP(CONCATENATE(C16,"_",L16),選手名簿!$A:$H,5,FALSE)) | Q16: =IF(P16="","",VLOOKUP(CONCATENATE(C16,"_",P16),選手名簿!$A:$H,5,FALSE)) | U16: =IF(T16="","",VLOOKUP(CONCATENATE(C16,"_",T16),選手名簿!$A:$H,5,FALSE))
C17: =抽選会資料!I12 -> ＦＣリーベル | E17: =IF(D17="","",VLOOKUP(CONCATENATE(C17,"_",D17),選手名簿!$A:$H,5,FALSE)) | I17: =IF(H17="","",VLOOKUP(CONCATENATE(C17,"_",H17),選手名簿!$A:$H,5,FALSE)) | M17: =IF(L17="","",VLOOKUP(CONCATENATE(C17,"_",L17),選手名簿!$A:$H,5,FALSE)) | Q17: =IF(P17="","",VLOOKUP(CONCATENATE(C17,"_",P17),選手名簿!$A:$H,5,FALSE)) | U17: =IF(T17="","",VLOOKUP(CONCATENATE(C17,"_",T17),選手名簿!$A:$H,5,FALSE))
C18: =抽選会資料!I13 -> ＦＣ中津ジュニア | E18: =IF(D18="","",VLOOKUP(CONCATENATE(C18,"_",D18),選手名簿!$A:$H,5,FALSE)) | I18: =IF(H18="","",VLOOKUP(CONCATENATE(C18,"_",H18),選手名簿!$A:$H,5,FALSE)) | M18: =IF(L18="","",VLOOKUP(CONCATENATE(C18,"_",L18),選手名簿!$A:$H,5,FALSE)) | Q18: =IF(P18="","",VLOOKUP(CONCATENATE(C18,"_",P18),選手名簿!$A:$H,5,FALSE)) | U18: =IF(T18="","",VLOOKUP(CONCATENATE(C18,"_",T18),選手名簿!$A:$H,5,FALSE))
B19: 宇佐高田 | C19: =抽選会資料!I14 -> 四日市南ＳＳＣ | E19: =IF(D19="","",VLOOKUP(CONCATENATE(C19,"_",D19),選手名簿!$A:$H,5,FALSE)) | I19: =IF(H19="","",VLOOKUP(CONCATENATE(C20,"_",H19),選手名簿!$A:$H,5,FALSE)) | M19: =IF(L19="","",VLOOKUP(CONCATENATE(C20,"_",L19),選手名簿!$A:$H,5,FALSE)) | Q19: =IF(P19="","",VLOOKUP(CONCATENATE(C20,"_",P19),選手名簿!$A:$H,5,FALSE)) | U19: =IF(T19="","",VLOOKUP(CONCATENATE(C20,"_",T19),選手名簿!$A:$H,5,FALSE))
C20: =抽選会資料!I15 -> ＦＣ ＷＡＹＳ | E20: =IF(D20="","",VLOOKUP(CONCATENATE(C20,"_",D20),選手名簿!$A:$H,5,FALSE)) | I20: =IF(H20="","",VLOOKUP(CONCATENATE(C21,"_",H20),選手名簿!$A:$H,5,FALSE)) | M20: =IF(L20="","",VLOOKUP(CONCATENATE(C21,"_",L20),選手名簿!$A:$H,5,FALSE)) | Q20: =IF(P20="","",VLOOKUP(CONCATENATE(C21,"_",P20),選手名簿!$A:$H,5,FALSE)) | U20: =IF(T20="","",VLOOKUP(CONCATENATE(C21,"_",T20),選手名簿!$A:$H,5,FALSE))
B21: 速杵国東 | C21: =抽選会資料!I16 -> 日出サッカースポーツ少年団 | E21: =IF(D21="","",VLOOKUP(CONCATENATE(C21,"_",D21),選手名簿!$A:$H,5,FALSE)) | I21: =IF(H21="","",VLOOKUP(CONCATENATE(C22,"_",H21),選手名簿!$A:$H,5,FALSE)) | M21: =IF(L21="","",VLOOKUP(CONCATENATE(C22,"_",L21),選手名簿!$A:$H,5,FALSE)) | Q21: =IF(P21="","",VLOOKUP(CONCATENATE(C22,"_",P21),選手名簿!$A:$H,5,FALSE)) | U21: =IF(T21="","",VLOOKUP(CONCATENATE(C22,"_",T21),選手名簿!$A:$H,5,FALSE))
C22: =抽選会資料!I17 -> 国東ジュニアサッカークラブ | E22: =IF(D22="","",VLOOKUP(CONCATENATE(C22,"_",D22),選手名簿!$A:$H,5,FALSE)) | I22: =IF(H22="","",VLOOKUP(CONCATENATE(C23,"_",H22),選手名簿!$A:$H,5,FALSE)) | M22: =IF(L22="","",VLOOKUP(CONCATENATE(C23,"_",L22),選手名簿!$A:$H,5,FALSE)) | Q22: =IF(P22="","",VLOOKUP(CONCATENATE(C23,"_",P22),選手名簿!$A:$H,5,FALSE)) | U22: =IF(T22="","",VLOOKUP(CONCATENATE(C23,"_",T22),選手名簿!$A:$H,5,FALSE))
B23: 別府 | C23: =抽選会資料!I18 -> 朝日ＦＣ | E23: =IF(D23="","",VLOOKUP(CONCATENATE(C23,"_",D23),選手名簿!$A:$H,5,FALSE)) | I23: =IF(H23="","",VLOOKUP(CONCATENATE(C24,"_",H23),選手名簿!$A:$H,5,FALSE)) | M23: =IF(L23="","",VLOOKUP(CONCATENATE(C24,"_",L23),選手名簿!$A:$H,5,FALSE)) | Q23: =IF(P23="","",VLOOKUP(CONCATENATE(C24,"_",P23),選手名簿!$A:$H,5,FALSE)) | U23: =IF(T23="","",VLOOKUP(CONCATENATE(C24,"_",T23),選手名簿!$A:$H,5,FALSE))
C24: =抽選会資料!I19 -> スマイス・セレソン | E24: =IF(D24="","",VLOOKUP(CONCATENATE(C24,"_",D24),選手名簿!$A:$H,5,FALSE)) | I24: =IF(H24="","",VLOOKUP(CONCATENATE(C25,"_",H24),選手名簿!$A:$H,5,FALSE)) | M24: =IF(L24="","",VLOOKUP(CONCATENATE(C25,"_",L24),選手名簿!$A:$H,5,FALSE)) | Q24: =IF(P24="","",VLOOKUP(CONCATENATE(C25,"_",P24),選手名簿!$A:$H,5,FALSE)) | U24: =IF(T24="","",VLOOKUP(CONCATENATE(C25,"_",T24),選手名簿!$A:$H,5,FALSE))
B25: 日田/玖珠 | C25: =抽選会資料!I20 -> ＦＣアリアーレ | E25: =IF(D25="","",VLOOKUP(CONCATENATE(C25,"_",D25),選手名簿!$A:$H,5,FALSE)) | I25: =IF(H25="","",VLOOKUP(CONCATENATE(#REF!,"_",H25),選手名簿!$A:$H,5,FALSE)) | M25: =IF(L25="","",VLOOKUP(CONCATENATE(#REF!,"_",L25),選手名簿!$A:$H,5,FALSE)) | Q25: =IF(P25="","",VLOOKUP(CONCATENATE(#REF!,"_",P25),選手名簿!$A:$H,5,FALSE)) | U25: =IF(T25="","",VLOOKUP(CONCATENATE(#REF!,"_",T25),選手名簿!$A:$H,5,FALSE))
B26: 佐伯 | C26: =抽選会資料!I21 -> 鶴岡Ｓ―ｐｌａｙ・ＭＩＮＡＭＩ | E26: =IF(D26="","",VLOOKUP(CONCATENATE(C26,"_",D26),選手名簿!$A:$H,5,FALSE)) | I26: =IF(H26="","",VLOOKUP(CONCATENATE(C26,"_",H26),選手名簿!$A:$H,5,FALSE)) | M26: =IF(L26="","",VLOOKUP(CONCATENATE(C26,"_",L26),選手名簿!$A:$H,5,FALSE)) | Q26: =IF(P26="","",VLOOKUP(CONCATENATE(C26,"_",P26),選手名簿!$A:$H,5,FALSE)) | U26: =IF(T26="","",VLOOKUP(CONCATENATE(C26,"_",T26),選手名簿!$A:$H,5,FALSE))
B27: 豊肥 | C27: =抽選会資料!I22 -> ＦＣ大野 | E27: =IF(D27="","",VLOOKUP(CONCATENATE(C27,"_",D27),選手名簿!$A:$H,5,FALSE)) | I27: =IF(H27="","",VLOOKUP(CONCATENATE(C27,"_",H27),選手名簿!$A:$H,5,FALSE)) | M27: =IF(L27="","",VLOOKUP(CONCATENATE(C27,"_",L27),選手名簿!$A:$H,5,FALSE)) | Q27: =IF(P27="","",VLOOKUP(CONCATENATE(C27,"_",P27),選手名簿!$A:$H,5,FALSE)) | U27: =IF(T27="","",VLOOKUP(CONCATENATE(C27,"_",T27),選手名簿!$A:$H,5,FALSE))
B28: 臼杵/津久見 | C28: =抽選会資料!I23 -> 野津ＦＣ | E28: =IF(D28="","",VLOOKUP(CONCATENATE(C28,"_",D28),選手名簿!$A:$H,5,FALSE)) | I28: =IF(H28="","",VLOOKUP(CONCATENATE(C28,"_",H28),選手名簿!$A:$H,5,FALSE)) | M28: =IF(L28="","",VLOOKUP(CONCATENATE(C28,"_",L28),選手名簿!$A:$H,5,FALSE)) | Q28: =IF(P28="","",VLOOKUP(CONCATENATE(C28,"_",P28),選手名簿!$A:$H,5,FALSE)) | U28: =IF(T28="","",VLOOKUP(CONCATENATE(C28,"_",T28),選手名簿!$A:$H,5,FALSE))

Sheet 組合せ抽選用
U1: クラサス サッカー・ラグビー場 サブA
B2: =大会要項!B3 -> 第15回 全日本不動産協会杯争奪U-12サッカー大会【ラビットカップ】大分県大会 | M2: 組み合わせ | R2: Aブロック（フリー） | U2: クラサス サッカー・ラグビー場 サブB
R3: 地 区 | S3: チーム名
E4: 「Aパート」 | L4: 「Cパート」 | Q4: A1 | R4: 大分 | S4: A1 | U4: =抽選会資料!B11 -> ＮＦＣ・ＯＩＴＡ Ｕ１２ | V4: 大分
D5: A1 | E5: =IF(ISERROR(VLOOKUP(D5,$Q:$S,3,FALSE))=TRUE,"",VLOOKUP(D5,$Q:$S,3,FALSE)) -> A1 | K5: C1 | L5: =IF(ISERROR(VLOOKUP(K5,$Q:$S,3,FALSE))=TRUE,"",VLOOKUP(K5,$Q:$S,3,FALSE)) -> C1 | Q5: A2 | S5: A2 | U5: =抽選会資料!B12 -> ＳＯＬ ＦＵＴＥＢＯＬ ＣＬＵＢＥ Ｍａｇｉａ | V5: 大分
Q6: A3 | S6: A3 | U6: =抽選会資料!B13 -> 明治北ＳＳＣ | V6: 大分
Q7: B1 | S7: B1 | U7: =抽選会資料!B14 -> ドリームキッズフットボールクラブＦ | V7: 大分
Q8: B2 | S8: B2 | U8: =抽選会資料!B15 -> ドリームキッズフットボールクラブ | V8: 大分
B9: A2 | C9: =IF(ISERROR(VLOOKUP(B9,$Q:$S,3,FALSE))=TRUE,"",VLOOKUP(B9,$Q:$S,3,FALSE)) -> A2 | F9: =IF(ISERROR(VLOOKUP(H9,$Q:$S,3,FALSE))=TRUE,"",VLOOKUP(H9,$Q:$S,3,FALSE)) -> A3 | H9: A3 | I9: C2 | J9: =IF(ISERROR(VLOOKUP(I9,$Q:$S,3,FALSE))=TRUE,"",VLOOKUP(I9,$Q:$S,3,FALSE)) -> C2 | M9: =IF(ISERROR(VLOOKUP(O9,$Q:$S,3,FALSE))=TRUE,"",VLOOKUP(O9,$Q:$S,3,FALSE)) -> C3 | O9: C3 | Q9: B3 | S9: B3 | U9: =抽選会資料!B16 -> 西の台ＪＦＣ | V9: 大分
Q10: C1 | S10: C1 | U10: =抽選会資料!B17 -> 大分トリニータＵ－１２ | V10: 大分
Q11: C2 | S11: C2 | U11: =抽選会資料!B18 -> 明治サッカースポーツ少年団 | V11: 大分
E12: 「Eパート」 | L12: 「Gパート」 | Q12: C3 | S12: C3 | U12: =抽選会資料!B19 -> カティオーラフットボールクラブＵ－１２ | V12: 大分
D13: E1 | E13: =IF(ISERROR(VLOOKUP(D13,$Q:$S,3,FALSE))=TRUE,"",VLOOKUP(D13,$Q:$S,3,FALSE)) -> E1 | K13: G1 | L13: =IF(ISERROR(VLOOKUP(K13,$Q:$S,3,FALSE))=TRUE,"",VLOOKUP(K13,$Q:$S,3,FALSE)) -> G1 | Q13: D1 | S13: D1 | U13: =抽選会資料!B20 -> 豊府サッカースポーツ少年団 | V13: 大分
Q14: D2 | S14: D2 | U14: =抽選会資料!B21 -> リノスフットボールクラブ Ｕ－１２ | V14: 大分
B17: E2 | C17: =IF(ISERROR(VLOOKUP(B17,$Q:$S,3,FALSE))=TRUE,"",VLOOKUP(B17,$Q:$S,3,FALSE)) -> E2 | F17: =IF(ISERROR(VLOOKUP(H17,$Q:$S,3,FALSE))=TRUE,"",VLOOKUP(H17,$Q:$S,3,FALSE)) -> E3 | H17: E3 | I17: G2 | J17: =IF(ISERROR(VLOOKUP(I17,$Q:$S,3,FALSE))=TRUE,"",VLOOKUP(I17,$Q:$S,3,FALSE)) -> G2 | M17: =IF(ISERROR(VLOOKUP(O17,$Q:$S,3,FALSE))=TRUE,"",VLOOKUP(O17,$Q:$S,3,FALSE)) -> G3 | O17: G3
R18: Bブロック（奇数）
R19: 地 区
Q20: D3 | R20: 中津 | S20: D3 | U20: =抽選会資料!I11 -> Ｓｈｙｎｔ ＦＣ | V20: 中津
E21: 「Bパート」 | L21: 「Dパート」 | Q21: E1 | S21: E1 | U21: =抽選会資料!I12 -> ＦＣリーベル | V21: 中津
D22: B1 | E22: =IF(ISERROR(VLOOKUP(D22,$Q:$S,3,FALSE))=TRUE,"",VLOOKUP(D22,$Q:$S,3,FALSE)) -> B1 | K22: D1 | L22: =IF(ISERROR(VLOOKUP(K22,$Q:$S,3,FALSE))=TRUE,"",VLOOKUP(K22,$Q:$S,3,FALSE)) -> D1 | Q22: E2 | S22: E2 | U22: =抽選会資料!I13 -> ＦＣ中津ジュニア | V22: 中津
Q23: E3 | R23: 宇佐高田 | S23: E3 | U23: =抽選会資料!I14 -> 四日市南ＳＳＣ | V23: 宇佐高田
Q24: F1 | S24: F1 | U24: =抽選会資料!I15 -> ＦＣ ＷＡＹＳ | V24: 宇佐高田
Q25: F2 | R25: 速杵国東 | S25: F2 | U25: =抽選会資料!I16 -> 日出サッカースポーツ少年団 | V25: 速杵国東
B26: B2 | C26: =IF(ISERROR(VLOOKUP(B26,$Q:$S,3,FALSE))=TRUE,"",VLOOKUP(B26,$Q:$S,3,FALSE)) -> B2 | F26: =IF(ISERROR(VLOOKUP(H26,$Q:$S,3,FALSE))=TRUE,"",VLOOKUP(H26,$Q:$S,3,FALSE)) -> B3 | H26: B3 | I26: D2 | J26: =IF(ISERROR(VLOOKUP(I26,$Q:$S,3,FALSE))=TRUE,"",VLOOKUP(I26,$Q:$S,3,FALSE)) -> D2 | M26: =IF(ISERROR(VLOOKUP(O26,$Q:$S,3,FALSE))=TRUE,"",VLOOKUP(O26,$Q:$S,3,FALSE)) -> D3 | O26: D3 | Q26: F3 | S26: F3 | U26: =抽選会資料!I17 -> 国東ジュニアサッカークラブ | V26: 速杵国東
Q27: G1 | R27: 別府 | S27: G1 | U27: =抽選会資料!I18 -> 朝日ＦＣ | V27: 別府
Q28: G2 | S28: G2 | U28: =抽選会資料!I19 -> スマイス・セレソン | V28: 別府
E29: 「Fパート」 | L29: 「Hパート」 | Q29: G3 | R29: 日田/玖珠 | S29: G3 | U29: =抽選会資料!I20 -> ＦＣアリアーレ | V29: 日田/玖珠
D30: F1 | E30: =IF(ISERROR(VLOOKUP(D30,$Q:$S,3,FALSE))=TRUE,"",VLOOKUP(D30,$Q:$S,3,FALSE)) -> F1 | K30: H1 | L30: =IF(ISERROR(VLOOKUP(K30,$Q:$S,3,FALSE))=TRUE,"",VLOOKUP(K30,$Q:$S,3,FALSE)) -> H1 | Q30: H1 | R30: 佐伯 | S30: H1 | U30: =抽選会資料!I21 -> 鶴岡Ｓ―ｐｌａｙ・ＭＩＮＡＭＩ | V30: 佐伯
Q31: H2 | R31: 豊肥 | S31: H2 | U31: =抽選会資料!I22 -> ＦＣ大野 | V31: 豊肥
Q32: H3 | R32: 臼杵/津久見 | S32: H3 | U32: =抽選会資料!I23 -> 野津ＦＣ | V32: 臼杵/津久見
B34: F2 | C34: =IF(ISERROR(VLOOKUP(B34,$Q:$S,3,FALSE))=TRUE,"",VLOOKUP(B34,$Q:$S,3,FALSE)) -> F2 | F34: =IF(ISERROR(VLOOKUP(H34,$Q:$S,3,FALSE))=TRUE,"",VLOOKUP(H34,$Q:$S,3,FALSE)) -> F3 | H34: F3 | I34: H2 | J34: =IF(ISERROR(VLOOKUP(I34,$Q:$S,3,FALSE))=TRUE,"",VLOOKUP(I34,$Q:$S,3,FALSE)) -> H2 | M34: =IF(ISERROR(VLOOKUP(O34,$Q:$S,3,FALSE))=TRUE,"",VLOOKUP(O34,$Q:$S,3,FALSE)) -> H3 | O34: H3
R41: ＜抽選方法＞
R42: Bブロック 9地区の各第1代表が8パートに分かれるように抽選。
R43: (まず、大分地区以外が全パートに入る事が前提で、開会式がある場合は、A1を選手宣誓とする。)
R44: ２チーム出場の地区が、第1代表と決勝戦まで対戦しないように、左右のパートに分かれるように抽選。
R45: 大分地区は、振込順にて抽選

Sheet 予選リーグ
B1: 《予選リーグ日程》 | F1: ６月２７日（土）
C2: 8:00 | D2: グラウンド設営 | H2: 8:50 | I2: =CONCATENATE("開会式(選手宣誓：",組合せ抽選用!E5,")") -> 開会式(選手宣誓：A1)
C3: 9:20 | D3: MCM(各会場第1試合ﾊﾟｰﾄ) | J3: 10:20 | K3: MCM(各会場第2試合ﾊﾟｰﾄ)
D4: 「Aパート」 | G4: 「Bパート」 | J4: 「Eパート」 | M4: 「Fパート」
D5: =組合せ抽選用!E5 -> A1 | G5: =組合せ抽選用!E22 -> B1 | J5: =組合せ抽選用!E13 -> E1 | M5: =組合せ抽選用!E30 -> F1
C7: =組合せ抽選用!C9 -> A2 | E7: =組合せ抽選用!F9 -> A3 | F7: =組合せ抽選用!C26 -> B2 | H7: =組合せ抽選用!F26 -> B3 | I7: =組合せ抽選用!C17 -> E2 | K7: =組合せ抽選用!F17 -> E3 | L7: =組合せ抽選用!C34 -> F2 | N7: =組合せ抽選用!F34 -> F3
D9: 「Cパート」 | G9: 「Dパート」 | J9: 「Gパート」 | M9: 「Hパート」
D10: =組合せ抽選用!L5 -> C1 | G10: =組合せ抽選用!L22 -> D1 | J10: =組合せ抽選用!L13 -> G1 | M10: =組合せ抽選用!L30 -> H1
C12: =組合せ抽選用!J9 -> C2 | E12: =組合せ抽選用!M9 -> C3 | F12: =組合せ抽選用!J26 -> D2 | H12: =組合せ抽選用!M26 -> D3 | I12: =組合せ抽選用!J17 -> G2 | K12: =組合せ抽選用!M17 -> G3 | L12: =組合せ抽選用!J34 -> H2 | N12: =組合せ抽選用!M34 -> H3
C14: クラサス サッカー・ラグビー場 サブA | I14: クラサス サッカー・ラグビー場 サブB
B15: 開始時刻 | C15: 「A」コート | F15: 「B」コート | I15: 「C」コート | L15: 「D」コート
B16: 会場設営
B17: ｺﾞｰﾙ運搬
B18: 審判 | D18: 1人 審判 | G18: 1人 審判 | J18: 1人 審判 | M18: 1人 審判
A19: ① | B19: 0.4375 | C19: =D5 -> A1 | D19: =E7 -> A3 | E19: =C7 -> A2 | F19: =G5 -> B1 | G19: =H7 -> B3 | H19: =F7 -> B2 | I19: =J5 -> E1 | J19: =K7 -> E3 | K19: =I7 -> E2 | L19: =M5 -> F1 | M19: =N7 -> F3 | N19: =L7 -> F2
A21: ② | B21: 0.47222222 | C21: =D10 -> C1 | D21: =E12 -> C3 | E21: =C12 -> C2 | F21: =G10 -> D1 | G21: =H12 -> D3 | H21: =F12 -> D2 | I21: =J10 -> G1 | J21: =K12 -> G3 | K21: =I12 -> G2 | L21: =M10 -> H1 | M21: =N12 -> H3 | N21: =L12 -> H2
A23: ③ | B23: 0.50694444 | C23: =C7 -> A2 | D23: =D5 -> A1 | E23: =E7 -> A3 | F23: =F7 -> B2 | G23: =G5 -> B1 | H23: =H7 -> B3 | I23: =I7 -> E2 | J23: =J5 -> E1 | K23: =K7 -> E3 | L23: =L7 -> F2 | M23: =M5 -> F1 | N23: =N7 -> F3
C25: 休 憩
A27: ④ | B27: 0.54166667 | C27: =C12 -> C2 | D27: =D10 -> C1 | E27: =E12 -> C3 | F27: =F12 -> D2 | G27: =G10 -> D1 | H27: =H12 -> D3 | I27: =I12 -> G2 | J27: =J10 -> G1 | K27: =K12 -> G3 | L27: =L12 -> H2 | M27: =M10 -> H1 | N27: =N12 -> H3
A29: ⑤ | B29: 0.57638889 | C29: =E7 -> A3 | D29: =C7 -> A2 | E29: =D5 -> A1 | F29: =H7 -> B3 | G29: =F7 -> B2 | H29: =G5 -> B1 | I29: =K7 -> E3 | J29: =I7 -> E2 | K29: =J5 -> E1 | L29: =N7 -> F3 | M29: =L7 -> F2 | N29: =M5 -> F1
A31: ⑥ | B31: 0.61111111 | C31: =E12 -> C3 | D31: =C12 -> C2 | E31: =D10 -> C1 | F31: =H12 -> D3 | G31: =F12 -> D2 | H31: =G10 -> D1 | I31: =K12 -> G3 | J31: =I12 -> G2 | K31: =J10 -> G1 | L31: =N12 -> H3 | M31: =L12 -> H2 | N31: =M10 -> H1

Sheet 予選リーグ (2)
A1: ＜予選リーグ組み合わせ・結果＞ | AC1: ＜予選リーグ組み合わせ・結果＞
A3: 会場 | D3: =予選リーグ!C14 -> クラサス サッカー・ラグビー場 サブA | AC3: 会場 | AF3: =予選リーグ!I14 -> クラサス サッカー・ラグビー場 サブB
A4: グループ | D4: 【 A 】 | J4: 【 C 】 | P4: 【 B 】 | V4: 【 D 】 | AC4: グループ | AF4: 【 E 】 | AL4: 【 G 】 | AR4: 【 F 】 | AX4: 【 H 】
A5: チーム | D5: =予選リーグ!D5 -> A1 | J5: =予選リーグ!D10 -> C1 | P5: =予選リーグ!G5 -> B1 | V5: =予選リーグ!G10 -> D1 | AC5: チーム | AF5: =予選リーグ!J5 -> E1 | AL5: =予選リーグ!J10 -> G1 | AR5: =予選リーグ!M5 -> F1 | AX5: =予選リーグ!M10 -> H1
D6: =予選リーグ!C7 -> A2 | J6: =予選リーグ!C12 -> C2 | P6: =予選リーグ!F7 -> B2 | V6: =予選リーグ!F12 -> D2 | AF6: =予選リーグ!I7 -> E2 | AL6: =予選リーグ!I12 -> G2 | AR6: =予選リーグ!L7 -> F2 | AX6: =予選リーグ!L12 -> H2
D7: =予選リーグ!E7 -> A3 | J7: =予選リーグ!E12 -> C3 | P7: =予選リーグ!H7 -> B3 | V7: =予選リーグ!H12 -> D3 | AF7: =予選リーグ!K7 -> E3 | AL7: =予選リーグ!K12 -> G3 | AR7: =予選リーグ!N7 -> F3 | AX7: =予選リーグ!N12 -> H3
A10: 【組合せ・時間割】 | AC10: 【組合せ・時間割】
A11: コート | D11: =予選リーグ!C15 -> 「A」コート | P11: =予選リーグ!F15 -> 「B」コート | AC11: コート | AF11: =予選リーグ!I15 -> 「C」コート | AR11: =予選リーグ!L15 -> 「D」コート
A12: 試合時間 | I12: 対戦相手 | M12: 1人審判 | U12: 対戦相手 | Y12: 1人審判 | AC12: 試合時間 | AK12: 対戦相手 | AO12: 1人審判 | AW12: 対戦相手 | BA12: 1人審判
A13: ① | B13: =予選リーグ!B19 -> 0.4375 | D13: チーム名 | F13: =予選リーグ!C19 -> A1 | I13: - | J13: =予選リーグ!E19 -> A2 | M13: =予選リーグ!D19 -> A3 | P13: チーム名 | R13: =予選リーグ!F19 -> B1 | U13: - | V13: =予選リーグ!H19 -> B2 | Y13: =予選リーグ!G19 -> B3 | AC13: ① | AD13: =予選リーグ!B19 -> 0.4375 | AF13: チーム名 | AH13: =予選リーグ!I19 -> E1 | AK13: - | AL13: =予選リーグ!K19 -> E2 | AO13: =予選リーグ!J19 -> E3 | AR13: チーム名 | AT13: =予選リーグ!L19 -> F1 | AW13: - | AX13: =予選リーグ!N19 -> F2 | BA13: =予選リーグ!M19 -> F3
D14: 得失点 | I14: - | P14: 得失点 | U14: - | AF14: 得失点 | AK14: - | AR14: 得失点 | AW14: -
A15: ② | B15: =予選リーグ!B21 -> 0.47222222 | D15: チーム名 | F15: =予選リーグ!C21 -> C1 | I15: - | J15: =予選リーグ!E21 -> C2 | M15: =予選リーグ!D21 -> C3 | P15: チーム名 | R15: =予選リーグ!F21 -> D1 | U15: - | V15: =予選リーグ!H21 -> D2 | Y15: =予選リーグ!G21 -> D3 | AC15: ② | AD15: =予選リーグ!B21 -> 0.47222222 | AF15: チーム名 | AH15: =予選リーグ!I21 -> G1 | AK15: - | AL15: =予選リーグ!K21 -> G2 | AO15: =予選リーグ!J21 -> G3 | AR15: チーム名 | AT15: =予選リーグ!L21 -> H1 | AW15: - | AX15: =予選リーグ!N21 -> H2 | BA15: =予選リーグ!M21 -> H3
D16: 得失点 | I16: - | P16: 得失点 | U16: - | AF16: 得失点 | AK16: - | AR16: 得失点 | AW16: -
A17: ③ | B17: =予選リーグ!B23 -> 0.50694444 | D17: チーム名 | F17: =予選リーグ!C23 -> A2 | I17: - | J17: =予選リーグ!E23 -> A3 | M17: =予選リーグ!D23 -> A1 | P17: チーム名 | R17: =予選リーグ!F23 -> B2 | U17: - | V17: =予選リーグ!H23 -> B3 | Y17: =予選リーグ!G23 -> B1 | AC17: ③ | AD17: =予選リーグ!B23 -> 0.50694444 | AF17: チーム名 | AH17: =予選リーグ!I23 -> E2 | AK17: - | AL17: =予選リーグ!K23 -> E3 | AO17: =予選リーグ!J23 -> E1 | AR17: チーム名 | AT17: =予選リーグ!L23 -> F2 | AW17: - | AX17: =予選リーグ!N23 -> F3 | BA17: =予選リーグ!M23 -> F1
D18: 得失点 | I18: - | P18: 得失点 | U18: - | AF18: 得失点 | AK18: - | AR18: 得失点 | AW18: -
A19: ④ | B19: =予選リーグ!B27 -> 0.54166667 | D19: チーム名 | F19: =予選リーグ!C27 -> C2 | I19: - | J19: =予選リーグ!E27 -> C3 | M19: =予選リーグ!D27 -> C1 | P19: チーム名 | R19: =予選リーグ!F27 -> D2 | U19: - | V19: =予選リーグ!H27 -> D3 | Y19: =予選リーグ!G27 -> D1 | AC19: ④ | AD19: =予選リーグ!B27 -> 0.54166667 | AF19: チーム名 | AH19: =予選リーグ!I27 -> G2 | AK19: - | AL19: =予選リーグ!K27 -> G3 | AO19: =予選リーグ!J27 -> G1 | AR19: チーム名 | AT19: =予選リーグ!L27 -> H2 | AW19: - | AX19: =予選リーグ!N27 -> H3 | BA19: =予選リーグ!M27 -> H1
D20: 得失点 | I20: - | P20: 得失点 | U20: - | AF20: 得失点 | AK20: - | AR20: 得失点 | AW20: -
A21: ⑤ | B21: =予選リーグ!B29 -> 0.57638889 | D21: チーム名 | F21: =予選リーグ!C29 -> A3 | I21: - | J21: =予選リーグ!E29 -> A1 | M21: =予選リーグ!D29 -> A2 | P21: チーム名 | R21: =予選リーグ!F29 -> B3 | U21: - | V21: =予選リーグ!H29 -> B1 | Y21: =予選リーグ!G29 -> B2 | AC21: ⑤ | AD21: =予選リーグ!B29 -> 0.57638889 | AF21: チーム名 | AH21: =予選リーグ!I29 -> E3 | AK21: - | AL21: =予選リーグ!K29 -> E1 | AO21: =予選リーグ!J29 -> E2 | AR21: チーム名 | AT21: =予選リーグ!L29 -> F3 | AW21: - | AX21: =予選リーグ!N29 -> F1 | BA21: =予選リーグ!M29 -> F2
D22: 得失点 | I22: - | P22: 得失点 | U22: - | AF22: 得失点 | AK22: - | AR22: 得失点 | AW22: -
A23: ⑥ | B23: =予選リーグ!B31 -> 0.61111111 | D23: チーム名 | F23: =予選リーグ!C31 -> C3 | I23: - | J23: =予選リーグ!E31 -> C1 | M23: =予選リーグ!D31 -> C2 | P23: チーム名 | R23: =予選リーグ!F31 -> D3 | U23: - | V23: =予選リーグ!H31 -> D1 | Y23: =予選リーグ!G31 -> D2 | AC23: ⑥ | AD23: =予選リーグ!B31 -> 0.61111111 | AF23: チーム名 | AH23: =予選リーグ!I31 -> G3 | AK23: - | AL23: =予選リーグ!K31 -> G1 | AO23: =予選リーグ!J31 -> G2 | AR23: チーム名 | AT23: =予選リーグ!L31 -> H3 | AW23: - | AX23: =予選リーグ!N31 -> H1 | BA23: =予選リーグ!M31 -> H2
D24: 得失点 | I24: - | P24: 得失点 | U24: - | AF24: 得失点 | AK24: - | AR24: 得失点 | AW24: -
F43: 勝点表 | G43: 勝 | H43: 3 | J43: 分 | K43: 1 | M43: 負 | N43: 0 | AH43: 勝点表 | AI43: 勝 | AJ43: 3 | AL43: 分 | AM43: 1 | AO43: 負 | AP43: 0
A45: Aパート | D45: =A46 -> A1 | G45: =A48 -> A2 | J45: =A50 -> A3 | M45: 勝 | N45: 分 | O45: 敗 | P45: 勝 点 | Q45: 勝点 順位 | S45: ﾄｰﾀﾙ 順位 | AC45: Eパート | AF45: =AC46 -> E1 | AI45: =AC48 -> E2 | AL45: =AC50 -> E3 | AO45: 勝 | AP45: 分 | AQ45: 敗 | AR45: 勝 点 | AS45: 勝点 順位 | AU45: ﾄｰﾀﾙ 順位
A46: =予選リーグ!D5 -> A1 | B46: 星取表 | H46: =IF(G47="","",IF(G47>I47,"○",IF(G47<I47,"●",IF(G47=I47,"△")))) -> △ | K46: =IF(J47="","",IF(J47>L47,"○",IF(J47<L47,"●",IF(J47=L47,"△")))) -> △ | M46: =COUNTIF(D46:L46,"○") -> 0 | N46: =COUNTIF(D46:L46,"△") -> 2 | O46: =COUNTIF(D46:L46,"●") -> 0 | P46: =(M46*4)+(N46*1) -> 2 | Q46: =RANK(P46,P$46:P$51) -> 1 | R46: 位 | AC46: =予選リーグ!J5 -> E1 | AD46: 星取表 | AJ46: =IF(AI47="","",IF(AI47>AK47,"○",IF(AI47<AK47,"●",IF(AI47=AK47,"△")))) -> △ | AM46: =IF(AL47="","",IF(AL47>AN47,"○",IF(AL47<AN47,"●",IF(AL47=AN47,"△")))) -> △ | AO46: =COUNTIF(AF46:AN46,"○") -> 0 | AP46: =COUNTIF(AF46:AN46,"△") -> 2 | AQ46: =COUNTIF(AF46:AN46,"●") -> 0 | AR46: =(AO46*4)+(AP46*1) -> 2 | AS46: =RANK(AR46,AR$46:AR$51) -> 1 | AT46: 位
B47: 得失点 | G47: =F14 -> 0 | H47: - | I47: =J14 -> 0 | J47: =J22 -> 0 | K47: - | L47: =F22 -> 0 | AD47: 得失点 | AI47: =AH14 -> 0 | AJ47: - | AK47: =AL14 -> 0 | AL47: =AL22 -> 0 | AM47: - | AN47: =AH22 -> 0
A48: =予選リーグ!C7 -> A2 | B48: 星取表 | E48: =IF(D49="","",IF(D49>F49,"○",IF(D49<F49,"●",IF(D49=F49,"△")))) -> △ | K48: =IF(J49="","",IF(J49>L49,"○",IF(J49<L49,"●",IF(J49=L49,"△")))) -> △ | M48: =COUNTIF(D48:L48,"○") -> 0 | N48: =COUNTIF(D48:L48,"△") -> 2 | O48: =COUNTIF(D48:L48,"●") -> 0 | P48: =(M48*4)+(N48*1) -> 2 | Q48: =RANK(P48,P$46:P$51) -> 1 | R48: 位 | AC48: =予選リーグ!I7 -> E2 | AD48: 星取表 | AG48: =IF(AF49="","",IF(AF49>AH49,"○",IF(AF49<AH49,"●",IF(AF49=AH49,"△")))) -> △ | AM48: =IF(AL49="","",IF(AL49>AN49,"○",IF(AL49<AN49,"●",IF(AL49=AN49,"△")))) -> △ | AO48: =COUNTIF(AF48:AN48,"○") -> 0 | AP48: =COUNTIF(AF48:AN48,"△") -> 2 | AQ48: =COUNTIF(AF48:AN48,"●") -> 0 | AR48: =(AO48*4)+(AP48*1) -> 2 | AS48: =RANK(AR48,AR$46:AR$51) -> 1 | AT48: 位
B49: 得失点 | D49: =I47 -> 0 | E49: - | F49: =G47 -> 0 | J49: =F18 -> 0 | K49: - | L49: =J18 -> 0 | AD49: 得失点 | AF49: =AK47 -> 0 | AG49: - | AH49: =AI47 -> 0 | AL49: =AH18 -> 0 | AM49: - | AN49: =AL18 -> 0
A50: =予選リーグ!E7 -> A3 | B50: 星取表 | E50: =IF(D51="","",IF(D51>F51,"○",IF(D51<F51,"●",IF(D51=F51,"△")))) -> △ | H50: =IF(G51="","",IF(G51>I51,"○",IF(G51<I51,"●",IF(G51=I51,"△")))) -> △ | M50: =COUNTIF(D50:L50,"○") -> 0 | N50: =COUNTIF(D50:L50,"△") -> 2 | O50: =COUNTIF(D50:L50,"●") -> 0 | P50: =(M50*4)+(N50*1) -> 2 | Q50: =RANK(P50,P$46:P$51) -> 1 | R50: 位 | AC50: =予選リーグ!K7 -> E3 | AD50: 星取表 | AG50: =IF(AF51="","",IF(AF51>AH51,"○",IF(AF51<AH51,"●",IF(AF51=AH51,"△")))) -> △ | AJ50: =IF(AI51="","",IF(AI51>AK51,"○",IF(AI51<AK51,"●",IF(AI51=AK51,"△")))) -> △ | AO50: =COUNTIF(AF50:AN50,"○") -> 0 | AP50: =COUNTIF(AF50:AN50,"△") -> 2 | AQ50: =COUNTIF(AF50:AN50,"●") -> 0 | AR50: =(AO50*4)+(AP50*1) -> 2 | AS50: =RANK(AR50,AR$46:AR$51) -> 1 | AT50: 位
B51: 得失点 | D51: =L47 -> 0 | E51: - | F51: =J47 -> 0 | G51: =L49 -> 0 | H51: - | I51: =J49 -> 0 | AD51: 得失点 | AF51: =AN47 -> 0 | AG51: - | AH51: =AL47 -> 0 | AI51: =AN49 -> 0 | AJ51: - | AK51: =AL49 -> 0
A53: Bパート | D53: =A54 -> B1 | G53: =A56 -> B2 | J53: =A58 -> B3 | M53: 勝 | N53: 分 | O53: 敗 | P53: 勝 点 | Q53: 勝点 順位 | S53: ﾄｰﾀﾙ 順位 | AC53: Fパート | AF53: =AC54 -> F1 | AI53: =AC56 -> F2 | AL53: =AC58 -> F3 | AO53: 勝 | AP53: 分 | AQ53: 敗 | AR53: 勝 点 | AS53: 勝点 順位 | AU53: ﾄｰﾀﾙ 順位
A54: =予選リーグ!G5 -> B1 | B54: 星取表 | H54: =IF(G55="","",IF(G55>I55,"○",IF(G55<I55,"●",IF(G55=I55,"△")))) -> △ | K54: =IF(J55="","",IF(J55>L55,"○",IF(J55<L55,"●",IF(J55=L55,"△")))) -> △ | M54: =COUNTIF(D54:L54,"○") -> 0 | N54: =COUNTIF(D54:L54,"△") -> 2 | O54: =COUNTIF(D54:L54,"●") -> 0 | P54: =(M54*4)+(N54*1) -> 2 | Q54: =RANK(P54,$P$54:$P$59) -> 1 | R54: 位 | AC54: =予選リーグ!M5 -> F1 | AD54: 星取表 | AJ54: =IF(AI55="","",IF(AI55>AK55,"○",IF(AI55<AK55,"●",IF(AI55=AK55,"△")))) -> △ | AM54: =IF(AL55="","",IF(AL55>AN55,"○",IF(AL55<AN55,"●",IF(AL55=AN55,"△")))) -> △ | AO54: =COUNTIF(AF54:AN54,"○") -> 0 | AP54: =COUNTIF(AF54:AN54,"△") -> 2 | AQ54: =COUNTIF(AF54:AN54,"●") -> 0 | AR54: =(AO54*4)+(AP54*1) -> 2 | AS54: =RANK(AR54,$AR$54:$AR$59) -> 1 | AT54: 位
B55: 得失点 | G55: =R14 -> 0 | H55: - | I55: =V14 -> 0 | J55: =V22 -> 0 | K55: - | L55: =R22 -> 0 | AD55: 得失点 | AI55: =AT14 -> 0 | AJ55: - | AK55: =AX14 -> 0 | AL55: =AX22 -> 0 | AM55: - | AN55: =AT22 -> 0
A56: =予選リーグ!F7 -> B2 | B56: 星取表 | E56: =IF(D57="","",IF(D57>F57,"○",IF(D57<F57,"●",IF(D57=F57,"△")))) -> △ | K56: =IF(J57="","",IF(J57>L57,"○",IF(J57<L57,"●",IF(J57=L57,"△")))) -> △ | M56: =COUNTIF(D56:L56,"○") -> 0 | N56: =COUNTIF(D56:L56,"△") -> 2 | O56: =COUNTIF(D56:L56,"●") -> 0 | P56: =(M56*4)+(N56*1) -> 2 | Q56: =RANK(P56,$P$54:$P$59) -> 1 | R56: 位 | AC56: =予選リーグ!L7 -> F2 | AD56: 星取表 | AG56: =IF(AF57="","",IF(AF57>AH57,"○",IF(AF57<AH57,"●",IF(AF57=AH57,"△")))) -> △ | AM56: =IF(AL57="","",IF(AL57>AN57,"○",IF(AL57<AN57,"●",IF(AL57=AN57,"△")))) -> △ | AO56: =COUNTIF(AF56:AN56,"○") -> 0 | AP56: =COUNTIF(AF56:AN56,"△") -> 2 | AQ56: =COUNTIF(AF56:AN56,"●") -> 0 | AR56: =(AO56*4)+(AP56*1) -> 2 | AS56: =RANK(AR56,$AR$54:$AR$59) -> 1 | AT56: 位
B57: 得失点 | D57: =I55 -> 0 | E57: - | F57: =G55 -> 0 | J57: =R18 -> 0 | K57: - | L57: =V18 -> 0 | AD57: 得失点 | AF57: =AK55 -> 0 | AG57: - | AH57: =AI55 -> 0 | AL57: =AT18 -> 0 | AM57: - | AN57: =AX18 -> 0
A58: =予選リーグ!H7 -> B3 | B58: 星取表 | E58: =IF(D59="","",IF(D59>F59,"○",IF(D59<F59,"●",IF(D59=F59,"△")))) -> △ | H58: =IF(G59="","",IF(G59>I59,"○",IF(G59<I59,"●",IF(G59=I59,"△")))) -> △ | M58: =COUNTIF(D58:L58,"○") -> 0 | N58: =COUNTIF(D58:L58,"△") -> 2 | O58: =COUNTIF(D58:L58,"●") -> 0 | P58: =(M58*4)+(N58*1) -> 2 | Q58: =RANK(P58,$P$54:$P$59) -> 1 | R58: 位 | AC58: =予選リーグ!N7 -> F3 | AD58: 星取表 | AG58: =IF(AF59="","",IF(AF59>AH59,"○",IF(AF59<AH59,"●",IF(AF59=AH59,"△")))) -> △ | AJ58: =IF(AI59="","",IF(AI59>AK59,"○",IF(AI59<AK59,"●",IF(AI59=AK59,"△")))) -> △ | AO58: =COUNTIF(AF58:AN58,"○") -> 0 | AP58: =COUNTIF(AF58:AN58,"△") -> 2 | AQ58: =COUNTIF(AF58:AN58,"●") -> 0 | AR58: =(AO58*4)+(AP58*1) -> 2 | AS58: =RANK(AR58,$AR$54:$AR$59) -> 1 | AT58: 位
B59: 得失点 | D59: =L55 -> 0 | E59: - | F59: =J55 -> 0 | G59: =L57 -> 0 | H59: - | I59: =J57 -> 0 | AD59: 得失点 | AF59: =AN55 -> 0 | AG59: - | AH59: =AL55 -> 0 | AI59: =AN57 -> 0 | AJ59: - | AK59: =AL57 -> 0
A61: Cパート | D61: =A62 -> C1 | G61: =A64 -> C2 | J61: =A66 -> C3 | M61: 勝 | N61: 分 | O61: 敗 | P61: 勝 点 | Q61: 勝点 順位 | S61: ﾄｰﾀﾙ 順位 | AC61: Gパート | AF61: =AC62 -> G1 | AI61: =AC64 -> G2 | AL61: =AC66 -> G3 | AO61: 勝 | AP61: 分 | AQ61: 敗 | AR61: 勝 点 | AS61: 勝点 順位 | AU61: ﾄｰﾀﾙ 順位
A62: =予選リーグ!D10 -> C1 | B62: 星取表 | H62: =IF(G63="","",IF(G63>I63,"○",IF(G63<I63,"●",IF(G63=I63,"△")))) -> △ | K62: =IF(J63="","",IF(J63>L63,"○",IF(J63<L63,"●",IF(J63=L63,"△")))) -> △ | M62: =COUNTIF(D62:L62,"○") -> 0 | N62: =COUNTIF(D62:L62,"△") -> 2 | O62: =COUNTIF(D62:L62,"●") -> 0 | P62: =(M62*4)+(N62*1) -> 2 | Q62: =RANK(P62,$P$62:$P$67) -> 1 | R62: 位 | AC62: =予選リーグ!J10 -> G1 | AD62: 星取表 | AJ62: =IF(AI63="","",IF(AI63>AK63,"○",IF(AI63<AK63,"●",IF(AI63=AK63,"△")))) -> △ | AM62: =IF(AL63="","",IF(AL63>AN63,"○",IF(AL63<AN63,"●",IF(AL63=AN63,"△")))) -> △ | AO62: =COUNTIF(AF62:AN62,"○") -> 0 | AP62: =COUNTIF(AF62:AN62,"△") -> 2 | AQ62: =COUNTIF(AF62:AN62,"●") -> 0 | AR62: =(AO62*4)+(AP62*1) -> 2 | AS62: =RANK(AR62,$AR$62:$AR$67) -> 1 | AT62: 位
B63: 得失点 | G63: =F16 -> 0 | H63: - | I63: =J16 -> 0 | J63: =J24 -> 0 | K63: - | L63: =F24 -> 0 | AD63: 得失点 | AI63: =AH16 -> 0 | AJ63: - | AK63: =AL16 -> 0 | AL63: =AL24 -> 0 | AM63: - | AN63: =AH24 -> 0
A64: =予選リーグ!C12 -> C2 | B64: 星取表 | E64: =IF(D65="","",IF(D65>F65,"○",IF(D65<F65,"●",IF(D65=F65,"△")))) -> △ | K64: =IF(J65="","",IF(J65>L65,"○",IF(J65<L65,"●",IF(J65=L65,"△")))) -> △ | M64: =COUNTIF(D64:L64,"○") -> 0 | N64: =COUNTIF(D64:L64,"△") -> 2 | O64: =COUNTIF(D64:L64,"●") -> 0 | P64: =(M64*4)+(N64*1) -> 2 | Q64: =RANK(P64,$P$62:$P$67) -> 1 | R64: 位 | AC64: =予選リーグ!I12 -> G2 | AD64: 星取表 | AG64: =IF(AF65="","",IF(AF65>AH65,"○",IF(AF65<AH65,"●",IF(AF65=AH65,"△")))) -> △ | AM64: =IF(AL65="","",IF(AL65>AN65,"○",IF(AL65<AN65,"●",IF(AL65=AN65,"△")))) -> △ | AO64: =COUNTIF(AF64:AN64,"○") -> 0 | AP64: =COUNTIF(AF64:AN64,"△") -> 2 | AQ64: =COUNTIF(AF64:AN64,"●") -> 0 | AR64: =(AO64*4)+(AP64*1) -> 2 | AS64: =RANK(AR64,$AR$62:$AR$67) -> 1 | AT64: 位
...

Sheet 予選リーグ公式記録(サブA-Aコート)
A1: =大会要項!$B$3 -> 第15回 全日本不動産協会杯争奪U-12サッカー大会【ラビットカップ】大分県大会 | K1: 予選リーグ結果 報告用紙 | P1: =大会要項!$B$3 -> 第15回 全日本不動産協会杯争奪U-12サッカー大会【ラビットカップ】大分県大会 | Z1: 予選リーグ結果 報告用紙
A3: 会場 | B3: =予選リーグ!C14 -> クラサス サッカー・ラグビー場 サブA | G3: =予選リーグ!C15 -> 「A」コート | P3: 会場 | Q3: =予選リーグ!C14 -> クラサス サッカー・ラグビー場 サブA | V3: =予選リーグ!C15 -> 「A」コート
E5: A1 | F5: =VLOOKUP(E5,組合せ抽選用!$Q:$U,5,FALSE) -> ＮＦＣ・ＯＩＴＡ Ｕ１２ | M5: =VLOOKUP(E5,組合せ抽選用!$Q:$V,6,FALSE) -> 大分 | T5: C1 | U5: =VLOOKUP(T5,組合せ抽選用!$Q:$U,5,FALSE) -> 大分トリニータＵ－１２ | AB5: =VLOOKUP(T5,組合せ抽選用!$Q:$V,6,FALSE) -> 大分
E6: A2 | F6: =VLOOKUP(E6,組合せ抽選用!$Q:$U,5,FALSE) -> ＳＯＬ ＦＵＴＥＢＯＬ ＣＬＵＢＥ Ｍａｇｉａ | M6: =VLOOKUP(E6,組合せ抽選用!$Q:$V,6,FALSE) -> 大分 | T6: C2 | U6: =VLOOKUP(T6,組合せ抽選用!$Q:$U,5,FALSE) -> 明治サッカースポーツ少年団 | AB6: =VLOOKUP(T6,組合せ抽選用!$Q:$V,6,FALSE) -> 大分
E7: A3 | F7: =VLOOKUP(E7,組合せ抽選用!$Q:$U,5,FALSE) -> 明治北ＳＳＣ | M7: =VLOOKUP(E7,組合せ抽選用!$Q:$V,6,FALSE) -> 大分 | T7: C3 | U7: =VLOOKUP(T7,組合せ抽選用!$Q:$U,5,FALSE) -> カティオーラフットボールクラブＵ－１２ | AB7: =VLOOKUP(T7,組合せ抽選用!$Q:$V,6,FALSE) -> 大分
A10: MC | E10: =予選リーグ!B19 -> 0.4375 | F10: =F5 -> ＮＦＣ・ＯＩＴＡ Ｕ１２ | G10: =IF(I10="","",SUM(I10:I11)) | H10: （ | J10: 前半 | L10: ） | M10: =IF(K10="","",SUM(K10:K11)) | N10: =F6 -> ＳＯＬ ＦＵＴＥＢＯＬ ＣＬＵＢＥ Ｍａｇｉａ | P10: MC | T10: =予選リーグ!B21 -> 0.47222222 | U10: =U5 -> 大分トリニータＵ－１２ | V10: =IF(X10="","",SUM(X10:X11)) | W10: （ | Y10: 前半 | AA10: ） | AB10: =IF(Z10="","",SUM(Z10:Z11)) | AC10: =U6 -> 明治サッカースポーツ少年団
A11: Welfare Officer | B11: - | J11: 後半 | P11: Welfare Officer | Q11: - | Y11: 後半
A12: 記録 | J12: PK | P12: 記録 | Y12: PK
A13: ＜Referee＞ | F13: 氏名 | G13: 番号 | H13: 分 | L13: 分 | M13: 番号 | N13: 氏名 | P13: ＜Referee＞ | U13: 氏名 | V13: 番号 | W13: 分 | AA13: 分 | AB13: 番号 | AC13: 氏名
E14: 得点者 | F14: =IF(ISERROR(VLOOKUP(CONCATENATE($F$10,"_",G14),選手名簿!$A:$E,5,FALSE))=TRUE,"",VLOOKUP(CONCATENATE($F$10,"_",G14),選手名簿!$A:$E,5,FALSE)) | N14: =IF(ISERROR(VLOOKUP(CONCATENATE($N$10,"_",M14),選手名簿!$A:$E,5,FALSE))=TRUE,"",VLOOKUP(CONCATENATE($N$10,"_",M14),選手名簿!$A:$E,5,FALSE)) | T14: 得点者 | U14: =IF(ISERROR(VLOOKUP(CONCATENATE($U$10,"_",V14),選手名簿!$A:$E,5,FALSE))=TRUE,"",VLOOKUP(CONCATENATE($U$10,"_",V14),選手名簿!$A:$E,5,FALSE)) | AC14: =IF(ISERROR(VLOOKUP(CONCATENATE($AC$10,"_",AB14),選手名簿!$A:$E,5,FALSE))=TRUE,"",VLOOKUP(CONCATENATE($AC$10,"_",AB14),選手名簿!$A:$E,5,FALSE))
E15: 得点者 | F15: =IF(ISERROR(VLOOKUP(CONCATENATE($F$10,"_",G15),選手名簿!$A:$E,5,FALSE))=TRUE,"",VLOOKUP(CONCATENATE($F$10,"_",G15),選手名簿!$A:$E,5,FALSE)) | N15: =IF(ISERROR(VLOOKUP(CONCATENATE($N$10,"_",M15),選手名簿!$A:$E,5,FALSE))=TRUE,"",VLOOKUP(CONCATENATE($N$10,"_",M15),選手名簿!$A:$E,5,FALSE)) | T15: 得点者 | U15: =IF(ISERROR(VLOOKUP(CONCATENATE($U$10,"_",V15),選手名簿!$A:$E,5,FALSE))=TRUE,"",VLOOKUP(CONCATENATE($U$10,"_",V15),選手名簿!$A:$E,5,FALSE)) | AC15: =IF(ISERROR(VLOOKUP(CONCATENATE($AC$10,"_",AB15),選手名簿!$A:$E,5,FALSE))=TRUE,"",VLOOKUP(CONCATENATE($AC$10,"_",AB15),選手名簿!$A:$E,5,FALSE))
E16: 得点者 | F16: =IF(ISERROR(VLOOKUP(CONCATENATE($F$10,"_",G16),選手名簿!$A:$E,5,FALSE))=TRUE,"",VLOOKUP(CONCATENATE($F$10,"_",G16),選手名簿!$A:$E,5,FALSE)) | N16: =IF(ISERROR(VLOOKUP(CONCATENATE($N$10,"_",M16),選手名簿!$A:$E,5,FALSE))=TRUE,"",VLOOKUP(CONCATENATE($N$10,"_",M16),選手名簿!$A:$E,5,FALSE)) | T16: 得点者 | U16: =IF(ISERROR(VLOOKUP(CONCATENATE($U$10,"_",V16),選手名簿!$A:$E,5,FALSE))=TRUE,"",VLOOKUP(CONCATENATE($U$10,"_",V16),選手名簿!$A:$E,5,FALSE)) | AC16: =IF(ISERROR(VLOOKUP(CONCATENATE($AC$10,"_",AB16),選手名簿!$A:$E,5,FALSE))=TRUE,"",VLOOKUP(CONCATENATE($AC$10,"_",AB16),選手名簿!$A:$E,5,FALSE))
E17: 得点者 | F17: =IF(ISERROR(VLOOKUP(CONCATENATE($F$10,"_",G17),選手名簿!$A:$E,5,FALSE))=TRUE,"",VLOOKUP(CONCATENATE($F$10,"_",G17),選手名簿!$A:$E,5,FALSE)) | N17: =IF(ISERROR(VLOOKUP(CONCATENATE($N$10,"_",M17),選手名簿!$A:$E,5,FALSE))=TRUE,"",VLOOKUP(CONCATENATE($N$10,"_",M17),選手名簿!$A:$E,5,FALSE)) | T17: 得点者 | U17: =IF(ISERROR(VLOOKUP(CONCATENATE($U$10,"_",V17),選手名簿!$A:$E,5,FALSE))=TRUE,"",VLOOKUP(CONCATENATE($U$10,"_",V17),選手名簿!$A:$E,5,FALSE)) | AC17: =IF(ISERROR(VLOOKUP(CONCATENATE($AC$10,"_",AB17),選手名簿!$A:$E,5,FALSE))=TRUE,"",VLOOKUP(CONCATENATE($AC$10,"_",AB17),選手名簿!$A:$E,5,FALSE))
E18: 得点者 | F18: =IF(ISERROR(VLOOKUP(CONCATENATE($F$10,"_",G18),選手名簿!$A:$E,5,FALSE))=TRUE,"",VLOOKUP(CONCATENATE($F$10,"_",G18),選手名簿!$A:$E,5,FALSE)) | N18: =IF(ISERROR(VLOOKUP(CONCATENATE($N$10,"_",M18),選手名簿!$A:$E,5,FALSE))=TRUE,"",VLOOKUP(CONCATENATE($N$10,"_",M18),選手名簿!$A:$E,5,FALSE)) | T18: 得点者 | U18: =IF(ISERROR(VLOOKUP(CONCATENATE($U$10,"_",V18),選手名簿!$A:$E,5,FALSE))=TRUE,"",VLOOKUP(CONCATENATE($U$10,"_",V18),選手名簿!$A:$E,5,FALSE)) | AC18: =IF(ISERROR(VLOOKUP(CONCATENATE($AC$10,"_",AB18),選手名簿!$A:$E,5,FALSE))=TRUE,"",VLOOKUP(CONCATENATE($AC$10,"_",AB18),選手名簿!$A:$E,5,FALSE))
E19: 得点者 | F19: =IF(ISERROR(VLOOKUP(CONCATENATE($F$10,"_",G19),選手名簿!$A:$E,5,FALSE))=TRUE,"",VLOOKUP(CONCATENATE($F$10,"_",G19),選手名簿!$A:$E,5,FALSE)) | N19: =IF(ISERROR(VLOOKUP(CONCATENATE($N$10,"_",M19),選手名簿!$A:$E,5,FALSE))=TRUE,"",VLOOKUP(CONCATENATE($N$10,"_",M19),選手名簿!$A:$E,5,FALSE)) | T19: 得点者 | U19: =IF(ISERROR(VLOOKUP(CONCATENATE($U$10,"_",V19),選手名簿!$A:$E,5,FALSE))=TRUE,"",VLOOKUP(CONCATENATE($U$10,"_",V19),選手名簿!$A:$E,5,FALSE)) | AC19: =IF(ISERROR(VLOOKUP(CONCATENATE($AC$10,"_",AB19),選手名簿!$A:$E,5,FALSE))=TRUE,"",VLOOKUP(CONCATENATE($AC$10,"_",AB19),選手名簿!$A:$E,5,FALSE))
E20: 得点者 | F20: =IF(ISERROR(VLOOKUP(CONCATENATE($F$10,"_",G20),選手名簿!$A:$E,5,FALSE))=TRUE,"",VLOOKUP(CONCATENATE($F$10,"_",G20),選手名簿!$A:$E,5,FALSE)) | N20: =IF(ISERROR(VLOOKUP(CONCATENATE($N$10,"_",M20),選手名簿!$A:$E,5,FALSE))=TRUE,"",VLOOKUP(CONCATENATE($N$10,"_",M20),選手名簿!$A:$E,5,FALSE)) | T20: 得点者 | U20: =IF(ISERROR(VLOOKUP(CONCATENATE($U$10,"_",V20),選手名簿!$A:$E,5,FALSE))=TRUE,"",VLOOKUP(CONCATENATE($U$10,"_",V20),選手名簿!$A:$E,5,FALSE)) | AC20: =IF(ISERROR(VLOOKUP(CONCATENATE($AC$10,"_",AB20),選手名簿!$A:$E,5,FALSE))=TRUE,"",VLOOKUP(CONCATENATE($AC$10,"_",AB20),選手名簿!$A:$E,5,FALSE))
E21: 得点者 | F21: =IF(ISERROR(VLOOKUP(CONCATENATE($F$10,"_",G21),選手名簿!$A:$E,5,FALSE))=TRUE,"",VLOOKUP(CONCATENATE($F$10,"_",G21),選手名簿!$A:$E,5,FALSE)) | N21: =IF(ISERROR(VLOOKUP(CONCATENATE($N$10,"_",M21),選手名簿!$A:$E,5,FALSE))=TRUE,"",VLOOKUP(CONCATENATE($N$10,"_",M21),選手名簿!$A:$E,5,FALSE)) | T21: 得点者 | U21: =IF(ISERROR(VLOOKUP(CONCATENATE($U$10,"_",V21),選手名簿!$A:$E,5,FALSE))=TRUE,"",VLOOKUP(CONCATENATE($U$10,"_",V21),選手名簿!$A:$E,5,FALSE)) | AC21: =IF(ISERROR(VLOOKUP(CONCATENATE($AC$10,"_",AB21),選手名簿!$A:$E,5,FALSE))=TRUE,"",VLOOKUP(CONCATENATE($AC$10,"_",AB21),選手名簿!$A:$E,5,FALSE))
E22: 得点者 | F22: =IF(ISERROR(VLOOKUP(CONCATENATE($F$10,"_",G22),選手名簿!$A:$E,5,FALSE))=TRUE,"",VLOOKUP(CONCATENATE($F$10,"_",G22),選手名簿!$A:$E,5,FALSE)) | N22: =IF(ISERROR(VLOOKUP(CONCATENATE($N$10,"_",M22),選手名簿!$A:$E,5,FALSE))=TRUE,"",VLOOKUP(CONCATENATE($N$10,"_",M22),選手名簿!$A:$E,5,FALSE)) | T22: 得点者 | U22: =IF(ISERROR(VLOOKUP(CONCATENATE($U$10,"_",V22),選手名簿!$A:$E,5,FALSE))=TRUE,"",VLOOKUP(CONCATENATE($U$10,"_",V22),選手名簿!$A:$E,5,FALSE)) | AC22: =IF(ISERROR(VLOOKUP(CONCATENATE($AC$10,"_",AB22),選手名簿!$A:$E,5,FALSE))=TRUE,"",VLOOKUP(CONCATENATE($AC$10,"_",AB22),選手名簿!$A:$E,5,FALSE))
E23: 得点者 | F23: =IF(ISERROR(VLOOKUP(CONCATENATE($F$10,"_",G23),選手名簿!$A:$E,5,FALSE))=TRUE,"",VLOOKUP(CONCATENATE($F$10,"_",G23),選手名簿!$A:$E,5,FALSE)) | N23: =IF(ISERROR(VLOOKUP(CONCATENATE($N$10,"_",M23),選手名簿!$A:$E,5,FALSE))=TRUE,"",VLOOKUP(CONCATENATE($N$10,"_",M23),選手名簿!$A:$E,5,FALSE)) | T23: 得点者 | U23: =IF(ISERROR(VLOOKUP(CONCATENATE($U$10,"_",V23),選手名簿!$A:$E,5,FALSE))=TRUE,"",VLOOKUP(CONCATENATE($U$10,"_",V23),選手名簿!$A:$E,5,FALSE)) | AC23: =IF(ISERROR(VLOOKUP(CONCATENATE($AC$10,"_",AB23),選手名簿!$A:$E,5,FALSE))=TRUE,"",VLOOKUP(CONCATENATE($AC$10,"_",AB23),選手名簿!$A:$E,5,FALSE))
A24: 番号 | E24: 警告/退場 | F24: =IF(ISERROR(VLOOKUP(CONCATENATE($F$10,"_",G24),選手名簿!$A:$E,5,FALSE))=TRUE,"",VLOOKUP(CONCATENATE($F$10,"_",G24),選手名簿!$A:$E,5,FALSE)) | N24: =IF(ISERROR(VLOOKUP(CONCATENATE($N$10,"_",M24),選手名簿!$A:$E,5,FALSE))=TRUE,"",VLOOKUP(CONCATENATE($N$10,"_",M24),選手名簿!$A:$E,5,FALSE)) | P24: 番号 | T24: 警告/退場 | U24: =IF(ISERROR(VLOOKUP(CONCATENATE($U$10,"_",V24),選手名簿!$A:$E,5,FALSE))=TRUE,"",VLOOKUP(CONCATENATE($U$10,"_",V24),選手名簿!$A:$E,5,FALSE)) | AC24: =IF(ISERROR(VLOOKUP(CONCATENATE($AC$10,"_",AB24),選手名簿!$A:$E,5,FALSE))=TRUE,"",VLOOKUP(CONCATENATE($AC$10,"_",AB24),選手名簿!$A:$E,5,FALSE))
A25: R | B25: =IF(ISERROR(VLOOKUP(B24,審判員!$A:$C,2,FALSE))=TRUE,"",VLOOKUP(B24,審判員!$A:$C,2,FALSE)) | D25: =IF(ISERROR(VLOOKUP(B24,審判員!$A:$C,3,FALSE))=TRUE,"",VLOOKUP(B24,審判員!$A:$C,3,FALSE)) | E25: 警告/退場 | F25: =IF(ISERROR(VLOOKUP(CONCATENATE($F$10,"_",G25),選手名簿!$A:$E,5,FALSE))=TRUE,"",VLOOKUP(CONCATENATE($F$10,"_",G25),選手名簿!$A:$E,5,FALSE)) | N25: =IF(ISERROR(VLOOKUP(CONCATENATE($N$10,"_",M25),選手名簿!$A:$E,5,FALSE))=TRUE,"",VLOOKUP(CONCATENATE($N$10,"_",M25),選手名簿!$A:$E,5,FALSE)) | P25: R | Q25: =IF(ISERROR(VLOOKUP(Q24,審判員!$A:$C,2,FALSE))=TRUE,"",VLOOKUP(Q24,審判員!$A:$C,2,FALSE)) | S25: =IF(ISERROR(VLOOKUP(Q24,審判員!$A:$C,3,FALSE))=TRUE,"",VLOOKUP(Q24,審判員!$A:$C,3,FALSE)) | T25: 警告/退場 | U25: =IF(ISERROR(VLOOKUP(CONCATENATE($U$10,"_",V25),選手名簿!$A:$E,5,FALSE))=TRUE,"",VLOOKUP(CONCATENATE($U$10,"_",V25),選手名簿!$A:$E,5,FALSE)) | AC25: =IF(ISERROR(VLOOKUP(CONCATENATE($AC$10,"_",AB25),選手名簿!$A:$E,5,FALSE))=TRUE,"",VLOOKUP(CONCATENATE($AC$10,"_",AB25),選手名簿!$A:$E,5,FALSE))
A26: 番号 | E26: 警告/退場 | F26: =IF(ISERROR(VLOOKUP(CONCATENATE($F$10,"_",G26),選手名簿!$A:$E,5,FALSE))=TRUE,"",VLOOKUP(CONCATENATE($F$10,"_",G26),選手名簿!$A:$E,5,FALSE)) | N26: =IF(ISERROR(VLOOKUP(CONCATENATE($N$10,"_",M26),選手名簿!$A:$E,5,FALSE))=TRUE,"",VLOOKUP(CONCATENATE($N$10,"_",M26),選手名簿!$A:$E,5,FALSE)) | P26: 番号 | T26: 警告/退場 | U26: =IF(ISERROR(VLOOKUP(CONCATENATE($U$10,"_",V26),選手名簿!$A:$E,5,FALSE))=TRUE,"",VLOOKUP(CONCATENATE($U$10,"_",V26),選手名簿!$A:$E,5,FALSE)) | AC26: =IF(ISERROR(VLOOKUP(CONCATENATE($AC$10,"_",AB26),選手名簿!$A:$E,5,FALSE))=TRUE,"",VLOOKUP(CONCATENATE($AC$10,"_",AB26),選手名簿!$A:$E,5,FALSE))
A27: AR1: | B27: =IF(ISERROR(VLOOKUP(B26,審判員!$A:$C,2,FALSE))=TRUE,"",VLOOKUP(B26,審判員!$A:$C,2,FALSE)) | D27: =IF(ISERROR(VLOOKUP(B26,審判員!$A:$C,3,FALSE))=TRUE,"",VLOOKUP(B26,審判員!$A:$C,3,FALSE)) | E27: 警告/退場 | F27: =IF(ISERROR(VLOOKUP(CONCATENATE($F$10,"_",G27),選手名簿!$A:$E,5,FALSE))=TRUE,"",VLOOKUP(CONCATENATE($F$10,"_",G27),選手名簿!$A:$E,5,FALSE)) | N27: =IF(ISERROR(VLOOKUP(CONCATENATE($N$10,"_",M27),選手名簿!$A:$E,5,FALSE))=TRUE,"",VLOOKUP(CONCATENATE($N$10,"_",M27),選手名簿!$A:$E,5,FALSE)) | P27: AR1: | Q27: =IF(ISERROR(VLOOKUP(Q26,審判員!$A:$C,2,FALSE))=TRUE,"",VLOOKUP(Q26,審判員!$A:$C,2,FALSE)) | S27: =IF(ISERROR(VLOOKUP(Q26,審判員!$A:$C,3,FALSE))=TRUE,"",VLOOKUP(Q26,審判員!$A:$C,3,FALSE)) | T27: 警告/退場 | U27: =IF(ISERROR(VLOOKUP(CONCATENATE($U$10,"_",V27),選手名簿!$A:$E,5,FALSE))=TRUE,"",VLOOKUP(CONCATENATE($U$10,"_",V27),選手名簿!$A:$E,5,FALSE)) | AC27: =IF(ISERROR(VLOOKUP(CONCATENATE($AC$10,"_",AB27),選手名簿!$A:$E,5,FALSE))=TRUE,"",VLOOKUP(CONCATENATE($AC$10,"_",AB27),選手名簿!$A:$E,5,FALSE))
A28: 番号 | E28: 警告/退場 | F28: =IF(ISERROR(VLOOKUP(CONCATENATE($F$10,"_",G28),選手名簿!$A:$E,5,FALSE))=TRUE,"",VLOOKUP(CONCATENATE($F$10,"_",G28),選手名簿!$A:$E,5,FALSE)) | N28: =IF(ISERROR(VLOOKUP(CONCATENATE($N$10,"_",M28),選手名簿!$A:$E,5,FALSE))=TRUE,"",VLOOKUP(CONCATENATE($N$10,"_",M28),選手名簿!$A:$E,5,FALSE)) | P28: 番号 | T28: 警告/退場 | U28: =IF(ISERROR(VLOOKUP(CONCATENATE($U$10,"_",V28),選手名簿!$A:$E,5,FALSE))=TRUE,"",VLOOKUP(CONCATENATE($U$10,"_",V28),選手名簿!$A:$E,5,FALSE)) | AC28: =IF(ISERROR(VLOOKUP(CONCATENATE($AC$10,"_",AB28),選手名簿!$A:$E,5,FALSE))=TRUE,"",VLOOKUP(CONCATENATE($AC$10,"_",AB28),選手名簿!$A:$E,5,FALSE))
A29: AR2: | B29: =IF(ISERROR(VLOOKUP(B28,審判員!$A:$C,2,FALSE))=TRUE,"",VLOOKUP(B28,審判員!$A:$C,2,FALSE)) | D29: =IF(ISERROR(VLOOKUP(B28,審判員!$A:$C,3,FALSE))=TRUE,"",VLOOKUP(B28,審判員!$A:$C,3,FALSE)) | E29: 警告/退場 | F29: =IF(ISERROR(VLOOKUP(CONCATENATE($F$10,"_",G29),選手名簿!$A:$E,5,FALSE))=TRUE,"",VLOOKUP(CONCATENATE($F$10,"_",G29),選手名簿!$A:$E,5,FALSE)) | N29: =IF(ISERROR(VLOOKUP(CONCATENATE($N$10,"_",M29),選手名簿!$A:$E,5,FALSE))=TRUE,"",VLOOKUP(CONCATENATE($N$10,"_",M29),選手名簿!$A:$E,5,FALSE)) | P29: AR2: | Q29: =IF(ISERROR(VLOOKUP(Q28,審判員!$A:$C,2,FALSE))=TRUE,"",VLOOKUP(Q28,審判員!$A:$C,2,FALSE)) | S29: =IF(ISERROR(VLOOKUP(Q28,審判員!$A:$C,3,FALSE))=TRUE,"",VLOOKUP(Q28,審判員!$A:$C,3,FALSE)) | T29: 警告/退場 | U29: =IF(ISERROR(VLOOKUP(CONCATENATE($U$10,"_",V29),選手名簿!$A:$E,5,FALSE))=TRUE,"",VLOOKUP(CONCATENATE($U$10,"_",V29),選手名簿!$A:$E,5,FALSE)) | AC29: =IF(ISERROR(VLOOKUP(CONCATENATE($AC$10,"_",AB29),選手名簿!$A:$E,5,FALSE))=TRUE,"",VLOOKUP(CONCATENATE($AC$10,"_",AB29),選手名簿!$A:$E,5,FALSE))
A30: 番号 | E30: 警告/退場 | F30: =IF(ISERROR(VLOOKUP(CONCATENATE($F$10,"_",G30),選手名簿!$A:$E,5,FALSE))=TRUE,"",VLOOKUP(CONCATENATE($F$10,"_",G30),選手名簿!$A:$E,5,FALSE)) | N30: =IF(ISERROR(VLOOKUP(CONCATENATE($N$10,"_",M30),選手名簿!$A:$E,5,FALSE))=TRUE,"",VLOOKUP(CONCATENATE($N$10,"_",M30),選手名簿!$A:$E,5,FALSE)) | P30: 番号 | T30: 警告/退場 | U30: =IF(ISERROR(VLOOKUP(CONCATENATE($U$10,"_",V30),選手名簿!$A:$E,5,FALSE))=TRUE,"",VLOOKUP(CONCATENATE($U$10,"_",V30),選手名簿!$A:$E,5,FALSE)) | AC30: =IF(ISERROR(VLOOKUP(CONCATENATE($AC$10,"_",AB30),選手名簿!$A:$E,5,FALSE))=TRUE,"",VLOOKUP(CONCATENATE($AC$10,"_",AB30),選手名簿!$A:$E,5,FALSE))
A31: 4th: | B31: =IF(ISERROR(VLOOKUP(B30,審判員!$A:$C,2,FALSE))=TRUE,"",VLOOKUP(B30,審判員!$A:$C,2,FALSE)) | D31: =IF(ISERROR(VLOOKUP(B30,審判員!$A:$C,3,FALSE))=TRUE,"",VLOOKUP(B30,審判員!$A:$C,3,FALSE)) | E31: 警告/退場 | F31: =IF(ISERROR(VLOOKUP(CONCATENATE($F$10,"_",G31),選手名簿!$A:$E,5,FALSE))=TRUE,"",VLOOKUP(CONCATENATE($F$10,"_",G31),選手名簿!$A:$E,5,FALSE)) | N31: =IF(ISERROR(VLOOKUP(CONCATENATE($N$10,"_",M31),選手名簿!$A:$E,5,FALSE))=TRUE,"",VLOOKUP(CONCATENATE($N$10,"_",M31),選手名簿!$A:$E,5,FALSE)) | P31: 4th: | Q31: =IF(ISERROR(VLOOKUP(Q30,審判員!$A:$C,2,FALSE))=TRUE,"",VLOOKUP(Q30,審判員!$A:$C,2,FALSE)) | S31: =IF(ISERROR(VLOOKUP(Q30,審判員!$A:$C,3,FALSE))=TRUE,"",VLOOKUP(Q30,審判員!$A:$C,3,FALSE)) | T31: 警告/退場 | U31: =IF(ISERROR(VLOOKUP(CONCATENATE($U$10,"_",V31),選手名簿!$A:$E,5,FALSE))=TRUE,"",VLOOKUP(CONCATENATE($U$10,"_",V31),選手名簿!$A:$E,5,FALSE)) | AC31: =IF(ISERROR(VLOOKUP(CONCATENATE($AC$10,"_",AB31),選手名簿!$A:$E,5,FALSE))=TRUE,"",VLOOKUP(CONCATENATE($AC$10,"_",AB31),選手名簿!$A:$E,5,FALSE))
A39: MC | E39: =予選リーグ!B23 -> 0.50694444 | F39: =F6 -> ＳＯＬ ＦＵＴＥＢＯＬ ＣＬＵＢＥ Ｍａｇｉａ | G39: =IF(I39="","",SUM(I39:I40)) | H39: （ | J39: 前半 | L39: ） | M39: =IF(K39="","",SUM(K39:K40)) | N39: =F7 -> 明治北ＳＳＣ | P39: MC | T39: =予選リーグ!B27 -> 0.54166667 | U39: =U6 -> 明治サッカースポーツ少年団 | V39: =IF(X39="","",SUM(X39:X40)) | W39: （ | Y39: 前半 | AA39: ） | AB39: =IF(Z39="","",SUM(Z39:Z40)) | AC39: =U7 -> カティオーラフットボールクラブＵ－１２
A40: Welfare Officer | B40: - | J40: 後半 | P40: Welfare Officer | Q40: - | Y40: 後半
A41: 記録 | J41: PK | P41: 記録 | Y41: PK
A42: ＜Referee＞ | F42: 氏名 | G42: 番号 | H42: 分 | L42: 分 | M42: 番号 | N42: 氏名 | P42: ＜Referee＞ | U42: 氏名 | V42: 番号 | W42: 分 | AA42: 分 | AB42: 番号 | AC42: 氏名
E43: 得点者 | F43: =IF(ISERROR(VLOOKUP(CONCATENATE($F$39,"_",G43),選手名簿!$A:$E,5,FALSE))=TRUE,"",VLOOKUP(CONCATENATE($F$39,"_",G43),選手名簿!$A:$E,5,FALSE)) | N43: =IF(ISERROR(VLOOKUP(CONCATENATE($N$39,"_",M43),選手名簿!$A:$E,5,FALSE))=TRUE,"",VLOOKUP(CONCATENATE($N$39,"_",M43),選手名簿!$A:$E,5,FALSE)) | T43: 得点者 | U43: =IF(ISERROR(VLOOKUP(CONCATENATE($U$39,"_",V43),選手名簿!$A:$E,5,FALSE))=TRUE,"",VLOOKUP(CONCATENATE($U$39,"_",V43),選手名簿!$A:$E,5,FALSE)) | AC43: =IF(ISERROR(VLOOKUP(CONCATENATE($AC$39,"_",AB43),選手名簿!$A:$E,5,FALSE))=TRUE,"",VLOOKUP(CONCATENATE($AC$39,"_",AB43),選手名簿!$A:$E,5,FALSE))
E44: 得点者 | F44: =IF(ISERROR(VLOOKUP(CONCATENATE($F$39,"_",G44),選手名簿!$A:$E,5,FALSE))=TRUE,"",VLOOKUP(CONCATENATE($F$39,"_",G44),選手名簿!$A:$E,5,FALSE)) | N44: =IF(ISERROR(VLOOKUP(CONCATENATE($N$39,"_",M44),選手名簿!$A:$E,5,FALSE))=TRUE,"",VLOOKUP(CONCATENATE($N$39,"_",M44),選手名簿!$A:$E,5,FALSE)) | T44: 得点者 | U44: =IF(ISERROR(VLOOKUP(CONCATENATE($U$39,"_",V44),選手名簿!$A:$E,5,FALSE))=TRUE,"",VLOOKUP(CONCATENATE($U$39,"_",V44),選手名簿!$A:$E,5,FALSE)) | AC44: =IF(ISERROR(VLOOKUP(CONCATENATE($AC$39,"_",AB44),選手名簿!$A:$E,5,FALSE))=TRUE,"",VLOOKUP(CONCATENATE($AC$39,"_",AB44),選手名簿!$A:$E,5,FALSE))
E45: 得点者 | F45: =IF(ISERROR(VLOOKUP(CONCATENATE($F$39,"_",G45),選手名簿!$A:$E,5,FALSE))=TRUE,"",VLOOKUP(CONCATENATE($F$39,"_",G45),選手名簿!$A:$E,5,FALSE)) | N45: =IF(ISERROR(VLOOKUP(CONCATENATE($N$39,"_",M45),選手名簿!$A:$E,5,FALSE))=TRUE,"",VLOOKUP(CONCATENATE($N$39,"_",M45),選手名簿!$A:$E,5,FALSE)) | T45: 得点者 | U45: =IF(ISERROR(VLOOKUP(CONCATENATE($U$39,"_",V45),選手名簿!$A:$E,5,FALSE))=TRUE,"",VLOOKUP(CONCATENATE($U$39,"_",V45),選手名簿!$A:$E,5,FALSE)) | AC45: =IF(ISERROR(VLOOKUP(CONCATENATE($AC$39,"_",AB45),選手名簿!$A:$E,5,FALSE))=TRUE,"",VLOOKUP(CONCATENATE($AC$39,"_",AB45),選手名簿!$A:$E,5,FALSE))
E46: 得点者 | F46: =IF(ISERROR(VLOOKUP(CONCATENATE($F$39,"_",G46),選手名簿!$A:$E,5,FALSE))=TRUE,"",VLOOKUP(CONCATENATE($F$39,"_",G46),選手名簿!$A:$E,5,FALSE)) | N46: =IF(ISERROR(VLOOKUP(CONCATENATE($N$39,"_",M46),選手名簿!$A:$E,5,FALSE))=TRUE,"",VLOOKUP(CONCATENATE($N$39,"_",M46),選手名簿!$A:$E,5,FALSE)) | T46: 得点者 | U46: =IF(ISERROR(VLOOKUP(CONCATENATE($U$39,"_",V46),選手名簿!$A:$E,5,FALSE))=TRUE,"",VLOOKUP(CONCATENATE($U$39,"_",V46),選手名簿!$A:$E,5,FALSE)) | AC46: =IF(ISERROR(VLOOKUP(CONCATENATE($AC$39,"_",AB46),選手名簿!$A:$E,5,FALSE))=TRUE,"",VLOOKUP(CONCATENATE($AC$39,"_",AB46),選手名簿!$A:$E,5,FALSE))
E47: 得点者 | F47: =IF(ISERROR(VLOOKUP(CONCATENATE($F$39,"_",G47),選手名簿!$A:$E,5,FALSE))=TRUE,"",VLOOKUP(CONCATENATE($F$39,"_",G47),選手名簿!$A:$E,5,FALSE)) | N47: =IF(ISERROR(VLOOKUP(CONCATENATE($N$39,"_",M47),選手名簿!$A:$E,5,FALSE))=TRUE,"",VLOOKUP(CONCATENATE($N$39,"_",M47),選手名簿!$A:$E,5,FALSE)) | T47: 得点者 | U47: =IF(ISERROR(VLOOKUP(CONCATENATE($U$39,"_",V47),選手名簿!$A:$E,5,FALSE))=TRUE,"",VLOOKUP(CONCATENATE($U$39,"_",V47),選手名簿!$A:$E,5,FALSE)) | AC47: =IF(ISERROR(VLOOKUP(CONCATENATE($AC$39,"_",AB47),選手名簿!$A:$E,5,FALSE))=TRUE,"",VLOOKUP(CONCATENATE($AC$39,"_",AB47),選手名簿!$A:$E,5,FALSE))
E48: 得点者 | F48: =IF(ISERROR(VLOOKUP(CONCATENATE($F$39,"_",G48),選手名簿!$A:$E,5,FALSE))=TRUE,"",VLOOKUP(CONCATENATE($F$39,"_",G48),選手名簿!$A:$E,5,FALSE)) | N48: =IF(ISERROR(VLOOKUP(CONCATENATE($N$39,"_",M48),選手名簿!$A:$E,5,FALSE))=TRUE,"",VLOOKUP(CONCATENATE($N$39,"_",M48),選手名簿!$A:$E,5,FALSE)) | T48: 得点者 | U48: =IF(ISERROR(VLOOKUP(CONCATENATE($U$39,"_",V48),選手名簿!$A:$E,5,FALSE))=TRUE,"",VLOOKUP(CONCATENATE($U$39,"_",V48),選手名簿!$A:$E,5,FALSE)) | AC48: =IF(ISERROR(VLOOKUP(CONCATENATE($AC$39,"_",AB48),選手名簿!$A:$E,5,FALSE))=TRUE,"",VLOOKUP(CONCATENATE($AC$39,"_",AB48),選手名簿!$A:$E,5,FALSE))
E49: 得点者 | F49: =IF(ISERROR(VLOOKUP(CONCATENATE($F$39,"_",G49),選手名簿!$A:$E,5,FALSE))=TRUE,"",VLOOKUP(CONCATENATE($F$39,"_",G49),選手名簿!$A:$E,5,FALSE)) | N49: =IF(ISERROR(VLOOKUP(CONCATENATE($N$39,"_",M49),選手名簿!$A:$E,5,FALSE))=TRUE,"",VLOOKUP(CONCATENATE($N$39,"_",M49),選手名簿!$A:$E,5,FALSE)) | T49: 得点者 | U49: =IF(ISERROR(VLOOKUP(CONCATENATE($U$39,"_",V49),選手名簿!$A:$E,5,FALSE))=TRUE,"",VLOOKUP(CONCATENATE($U$39,"_",V49),選手名簿!$A:$E,5,FALSE)) | AC49: =IF(ISERROR(VLOOKUP(CONCATENATE($AC$39,"_",AB49),選手名簿!$A:$E,5,FALSE))=TRUE,"",VLOOKUP(CONCATENATE($AC$39,"_",AB49),選手名簿!$A:$E,5,FALSE))
E50: 得点者 | F50: =IF(ISERROR(VLOOKUP(CONCATENATE($F$39,"_",G50),選手名簿!$A:$E,5,FALSE))=TRUE,"",VLOOKUP(CONCATENATE($F$39,"_",G50),選手名簿!$A:$E,5,FALSE)) | N50: =IF(ISERROR(VLOOKUP(CONCATENATE($N$39,"_",M50),選手名簿!$A:$E,5,FALSE))=TRUE,"",VLOOKUP(CONCATENATE($N$39,"_",M50),選手名簿!$A:$E,5,FALSE)) | T50: 得点者 | U50: =IF(ISERROR(VLOOKUP(CONCATENATE($U$39,"_",V50),選手名簿!$A:$E,5,FALSE))=TRUE,"",VLOOKUP(CONCATENATE($U$39,"_",V50),選手名簿!$A:$E,5,FALSE)) | AC50: =IF(ISERROR(VLOOKUP(CONCATENATE($AC$39,"_",AB50),選手名簿!$A:$E,5,FALSE))=TRUE,"",VLOOKUP(CONCATENATE($AC$39,"_",AB50),選手名簿!$A:$E,5,FALSE))
E51: 得点者 | F51: =IF(ISERROR(VLOOKUP(CONCATENATE($F$39,"_",G51),選手名簿!$A:$E,5,FALSE))=TRUE,"",VLOOKUP(CONCATENATE($F$39,"_",G51),選手名簿!$A:$E,5,FALSE)) | N51: =IF(ISERROR(VLOOKUP(CONCATENATE($N$39,"_",M51),選手名簿!$A:$E,5,FALSE))=TRUE,"",VLOOKUP(CONCATENATE($N$39,"_",M51),選手名簿!$A:$E,5,FALSE)) | T51: 得点者 | U51: =IF(ISERROR(VLOOKUP(CONCATENATE($U$39,"_",V51),選手名簿!$A:$E,5,FALSE))=TRUE,"",VLOOKUP(CONCATENATE($U$39,"_",V51),選手名簿!$A:$E,5,FALSE)) | AC51: =IF(ISERROR(VLOOKUP(CONCATENATE($AC$39,"_",AB51),選手名簿!$A:$E,5,FALSE))=TRUE,"",VLOOKUP(CONCATENATE($AC$39,"_",AB51),選手名簿!$A:$E,5,FALSE))
...

Sheet 予選リーグ公式記録(サブA-Bコート)
A1: =大会要項!$B$3 -> 第15回 全日本不動産協会杯争奪U-12サッカー大会【ラビットカップ】大分県大会 | K1: 予選リーグ結果 報告用紙 | P1: =大会要項!$B$3 -> 第15回 全日本不動産協会杯争奪U-12サッカー大会【ラビットカップ】大分県大会 | Z1: 予選リーグ結果 報告用紙
A3: 会場 | B3: =予選リーグ!C14 -> クラサス サッカー・ラグビー場 サブA | G3: =予選リーグ!F15 -> 「B」コート | P3: 会場 | Q3: =予選リーグ!C14 -> クラサス サッカー・ラグビー場 サブA | V3: =予選リーグ!F15 -> 「B」コート
E5: B1 | F5: =VLOOKUP(E5,組合せ抽選用!$Q:$U,5,FALSE) -> ドリームキッズフットボールクラブＦ | M5: =VLOOKUP(E5,組合せ抽選用!$Q:$V,6,FALSE) -> 大分 | T5: D1 | U5: =VLOOKUP(T5,組合せ抽選用!$Q:$U,5,FALSE) -> 豊府サッカースポーツ少年団 | AB5: =VLOOKUP(T5,組合せ抽選用!$Q:$V,6,FALSE) -> 大分
E6: B2 | F6: =VLOOKUP(E6,組合せ抽選用!$Q:$U,5,FALSE) -> ドリームキッズフットボールクラブ | M6: =VLOOKUP(E6,組合せ抽選用!$Q:$V,6,FALSE) -> 大分 | T6: D2 | U6: =VLOOKUP(T6,組合せ抽選用!$Q:$U,5,FALSE) -> リノスフットボールクラブ Ｕ－１２ | AB6: =VLOOKUP(T6,組合せ抽選用!$Q:$V,6,FALSE) -> 大分
E7: B3 | F7: =VLOOKUP(E7,組合せ抽選用!$Q:$U,5,FALSE) -> 西の台ＪＦＣ | M7: =VLOOKUP(E7,組合せ抽選用!$Q:$V,6,FALSE) -> 大分 | T7: D3 | U7: =VLOOKUP(T7,組合せ抽選用!$Q:$U,5,FALSE) -> Ｓｈｙｎｔ ＦＣ | AB7: =VLOOKUP(T7,組合せ抽選用!$Q:$V,6,FALSE) -> 中津
A10: MC | E10: =予選リーグ!B19 -> 0.4375 | F10: =F5 -> ドリームキッズフットボールクラブＦ | G10: =IF(I10="","",SUM(I10:I11)) | H10: （ | J10: 前半 | L10: ） | M10: =IF(K10="","",SUM(K10:K11)) | N10: =F6 -> ドリームキッズフットボールクラブ | P10: MC | T10: =予選リーグ!B21 -> 0.47222222 | U10: =U5 -> 豊府サッカースポーツ少年団 | V10: =IF(X10="","",SUM(X10:X11)) | W10: （ | Y10: 前半 | AA10: ） | AB10: =IF(Z10="","",SUM(Z10:Z11)) | AC10: =U6 -> リノスフットボールクラブ Ｕ－１２
A11: Welfare Officer | B11: - | J11: 後半 | P11: Welfare Officer | Q11: - | Y11: 後半
A12: 記録 | J12: PK | P12: 記録 | Y12: PK
A13: ＜Referee＞ | F13: 氏名 | G13: 番号 | H13: 分 | L13: 分 | M13: 番号 | N13: 氏名 | P13: ＜Referee＞ | U13: 氏名 | V13: 番号 | W13: 分 | AA13: 分 | AB13: 番号 | AC13: 氏名
E14: 得点者 | F14: =IF(ISERROR(VLOOKUP(CONCATENATE($F$10,"_",G14),選手名簿!$A:$E,5,FALSE))=TRUE,"",VLOOKUP(CONCATENATE($F$10,"_",G14),選手名簿!$A:$E,5,FALSE)) | N14: =IF(ISERROR(VLOOKUP(CONCATENATE($N$10,"_",M14),選手名簿!$A:$E,5,FALSE))=TRUE,"",VLOOKUP(CONCATENATE($N$10,"_",M14),選手名簿!$A:$E,5,FALSE)) | T14: 得点者 | U14: =IF(ISERROR(VLOOKUP(CONCATENATE($U$10,"_",V14),選手名簿!$A:$E,5,FALSE))=TRUE,"",VLOOKUP(CONCATENATE($U$10,"_",V14),選手名簿!$A:$E,5,FALSE)) | AC14: =IF(ISERROR(VLOOKUP(CONCATENATE($AC$10,"_",AB14),選手名簿!$A:$E,5,FALSE))=TRUE,"",VLOOKUP(CONCATENATE($AC$10,"_",AB14),選手名簿!$A:$E,5,FALSE))
E15: 得点者 | F15: =IF(ISERROR(VLOOKUP(CONCATENATE($F$10,"_",G15),選手名簿!$A:$E,5,FALSE))=TRUE,"",VLOOKUP(CONCATENATE($F$10,"_",G15),選手名簿!$A:$E,5,FALSE)) | N15: =IF(ISERROR(VLOOKUP(CONCATENATE($N$10,"_",M15),選手名簿!$A:$E,5,FALSE))=TRUE,"",VLOOKUP(CONCATENATE($N$10,"_",M15),選手名簿!$A:$E,5,FALSE)) | T15: 得点者 | U15: =IF(ISERROR(VLOOKUP(CONCATENATE($U$10,"_",V15),選手名簿!$A:$E,5,FALSE))=TRUE,"",VLOOKUP(CONCATENATE($U$10,"_",V15),選手名簿!$A:$E,5,FALSE)) | AC15: =IF(ISERROR(VLOOKUP(CONCATENATE($AC$10,"_",AB15),選手名簿!$A:$E,5,FALSE))=TRUE,"",VLOOKUP(CONCATENATE($AC$10,"_",AB15),選手名簿!$A:$E,5,FALSE))
