{"text_format":"1","workbook":"xlsx","n_sheets":22,"sheets":["抽選会資料","要項","参加者名簿記入用紙","参加者名簿記入用紙 (例)","組合せ抽選用","会場図","MCM資料","累積警告・退場","予選リーグ","予選リーグ (2)","予選リーグ公式記録(Bコート南)","予選リーグ公式記録(Bコート北)","予選リーグ公式記録(県協会人工芝南)","予選リーグ公式記録(県協会人工芝北)","決勝トーナメント","決勝T公式記録","準決勝公式記録No,29","準決勝公式記録No,31","決勝公式記録 No,33","審判員","選手名簿","項目"],"not_rendered":{"charts":0,"images":2,"macros":1,"external_links":0,"defined_names":12,"comments":0,"pivot_tables":0},"unopened":[],"bounds":{"document_bytes":16777216,"sheet_cells":100000,"rows_first":2000,"rows_last":500,"rows_between":2000,"halvings":0,"cell_chars":16384,"cell_head_chars":4096},"cells_cut":0,"cells_raw":0,"read":"whole","date_system":"1900"}

{"sheet":"抽選会資料","index":0,"n_rows":46,"n_cols":13,"rows_kept":46,"cut":false,"hidden":false,"merged":[[43,1,43,6],[43,7,43,11],[44,1,44,6],[44,7,44,11],[45,1,45,6],[45,7,45,11],[0,0,0,8],[0,9,0,11],[10,1,20,1],[10,8,12,8],[13,8,14,8],[15,8,16,8],[17,8,18,8]]}
[{"$f":"要項!C2","v":"OFA 第 33 回 大分県U-11サッカー選手権大会"},null,null,null,null,null,null,null,null,"抽選会"]
[]
["１．日時",{"$f":"要項!C48","v":"11月21日(日)　17：00〜"}]
[]
["２．場所",{"$f":"要項!H48","v":"TOSテレビ大分　大会議室"}]
[]
["３．参加チーム",null,24,"チーム"]
[]
[null,"Aブロック（フリー）",null,null,null,null,null,null,"Bブロック（奇数）"]
["抽選順","地　　区","チーム名","申込","参加料","出欠",null,"抽選順","地　　区","チーム名","申込","参加料","出欠"]
[null,"大分","東陽フットボールクラブ","○","○",null,null,null,"中津","ＦＣ中津ジュニア","○","○"]
[null,null,"Ｍ．Ｓ．Ｓ","○","○",null,null,null,null,"如水ジュニアサッカークラブ","○","○"]
[null,null,"ヴェルスパ大分　Ｕ－１２","○","○",null,null,null,null,"下毛ＦＣ","○","○"]
[null,null,"東大分サッカースポーツ少年団","○","○",null,null,null,"速杵国東","ＦＣ安岐","○","○"]
[null,null,"明治北ＳＳＣ","○","○",null,null,null,null,"ＯＫＹ山香サッカークラブ","○","○"]
[null,null,"リノスフットボールクラブ　Ｕ－１２","○","○",null,null,null,"別府","スマイス・セレソン","○","○"]
[null,null,"ドリームキッズフットボールクラブ","○","○",null,null,null,null,"別府フットボールクラブ．ミネルバＵ－１２","○","○"]
[null,null,"宗方サッカークラブ","○","○",null,null,null,"日田/玖珠","ＦＣアリアーレ","○","○"]
[null,null,"明治サッカースポーツ少年団","○","○",null,null,null,null,"太陽スポーツクラブ大分西","○","○"]
[null,null,"スマイス　セレソン　スポーツクラブ","○","○",null,null,null,"宇佐高田","ＦＣ　ＵＮＩＴＥ","○","○"]
[null,null,"大分トリニータタートルズ　キング","○","○",null,null,null,"佐伯","弥生少年サッカークラブ","○","○"]
[null,null,null,null,null,null,null,null,"豊肥","ＦＣ大野","○","○"]
[null,null,null,null,null,null,null,null,"臼杵/津久見","千怒サッカースポーツ少年団","○","○"]
[]
["４．会議次第"]
["　①ジュニア委員長あいさつ"]
["　②要項の確認"]
["　③審判部より"]
["　　・大会１日目（予選リーグ）は、帯同審判員を（３級以上）チームで帯同する。"]
["　　　※出場チームにて責任を持って準備する事。"]
["　④質問、諸注意"]
["　⑤抽選"]
[]
["５．その他"]
["　　①選手証/指導者資格証/審判資格証を、持参のこと。"]
["　　②領収証は、｢振込みの際の領収証」にかえさせていただきます。"]
["　　③大会期間中は、「駐車証」を」車内に表示すること。"]
["　　④ユニフォームの調整は、1日目は9:00からの監督会議の際に、2日目は1試合目の試合開始70分前にMCMを行い決定する。"]
["　 　　2試合目以降は、試合終了後に本部にて決定。"]
["　 　　1日目の監督会議及び2日目の1試合目のMCM時は、FP用/GK用各2種類を持参すること。"]
["　　⑤コロナウイルス感染防止のため、必要事項を記入した参加者名簿を大会当日に大会本部まで提出すること。"]
[]
["６．試合会場"]
[null,"会場",null,null,null,null,null,"住所"]
["県協会人工芝","大分県ｻｯｶｰ協会人工芝ｸﾞﾗｳﾝﾄﾞ",null,null,null,null,null,"大分市大字松岡6841番地"]
["サブB","大分ｽﾎﾟｰﾂ公園昭和電工ｻｯｶｰ･ﾗｸﾞﾋﾞｰ場　Bｺｰﾄ",null,null,null,null,null,"大分市大字松岡6841番地"]

{"sheet":"要項","index":1,"n_rows":122,"n_cols":13,"rows_kept":122,"cut":false,"hidden":false,"merged":[[5,2,5,14],[0,12,0,14],[0,0,0,11]]}
[{"$f":"C2","v":"OFA 第 33 回 大分県U-11サッカー選手権大会"},null,null,null,null,null,null,null,null,null,null,null,"大会要項(案)"]
[1,"名　称","OFA 第 33 回 大分県U-11サッカー選手権大会"]
[2,"主　催","一般社団法人　大分県サッカー協会"]
[3,"主　管","一般社団法人　大分県サッカー協会ジュニア委員会"]
[4,"後　援","大分県教育委員会、公益財団法人大分県スポーツ協会、TOSテレビ大分  大分合同新聞社(依頼中)"]
[5,"特別協賛","『対話式進学塾1対1ネッツ』"]
[6,"協賛","㈱モルテン"]
[7,"日　程","2021年12月4日(土)～5日(日)＊監督会議：4日(土)9:00より"]
[8,"会　場","大分スポーツ公園 昭和電工サッカー・ラグビー場Bコート"]
[null,null,"大分県サッカー協会人工芝グラウンド"]
[9,"参加資格","①日本サッカー協会第Ⅳ種に加盟登録したチームであること。"]
[null,null,"②各地区の代表チームであること。"]
[null,null,"③大会実施年度に大分県サッカー協会に加盟登録(第4種)され、5年生以下の選手で構成されたチームであること。"]
[null,null,"④日本協会発行の登録選手証を有し当日持っている者で、選手8名以上16名以内とする。"]
[null,null," 　また、同一「加盟チーム」より複数チームの参加を認めるが、同じ選手が違うチームで出場できない。"]
[null,null," 　地区予選時及び上位大会でのメンバーの入れ替えはできない。"]
[null,null," 　その際、それぞれのチームに別々の有資格指導者が帯同すること。"]
[null,null,"　 同じ有資格指導者がチームにまたがって登録することはできない。審判員の扱いも同様である（地区大会と県大会は別とする）。"]
[null,null,"⑤大分県サッカー協会に2チーム以上加盟登録している同母体のチームについては、2重登録を禁止する。"]
[null,null,"　 また、地区大会と県大会においては、違うチームでの出場はできない。"]
[null,null,"　 加えて、年間を通じて同じチームで活動するチームであることとする。"]
[null,null,"　 他のチームで予選大会に出場またはエントリーされた移籍選手の出場は認めない。"]
[null,null,"　 移籍選手含め、9月22日(水)までに選手登録及び移籍手続きが完了し、WEBエントリー申請ができることとする。"]
[null,null,"⑥健康であり、且つ保護者の同意を得た選手。"]
[null,null,"⑦傷害保険(スポーツ安全傷害保険)に加入しているチーム及び選手であり、大会中におけるケガや、"]
[null,null," 　賠償金の発生する損害については、当事者で解決すること。"]
[null,null,"⑧指導者は、当該チームを把握指導する責任ある指導者5名以内で、内1名はJFA公認指導者ライセンスを有する事。"]
[null,null,"⑨大会1日目(予選リーグ)には、3級以上の帯同審判員を必ず有すること。"]
[null,null,"⑩大会運営に協力でき、マナーを守るチーム(保護者も含む)であること。"]
[10,"出場枠","各地区からの代表24チームとする。"]
[null,null,"ただし、24チームに満たない場合は、比例割の小数ポイントが高い順に推薦する。"]
[11,"大会申込","①11月8日(月)から受付開始し、11月17日(水)15:00までに、大会参加費(10,000円)の振り込みを済ませること。"]
[null,null,null,"《振込先》　大分銀行　南支店　普通　7500897","大分銀行　　南支店　　普通　　7500897"]
[null,null,null,"                               　　　　一般社団法人　大分県サッカー協会　代表理事　首藤隆憲","一般社団法人　　大分県サッカー協会　　"]
[null,null,"②申込先  KICK OFF(JFA ID)の大会(大会への参加申込)より申込願います(地区大会兼用)。"]
[null,null,null,"ジュニア委員会HPに掲載している【大会エントリーガイド】を必ず確認し、対応をお願いします。"]
[null,null,null,"※ベンチスタッフは、大会申込のスタッフ情報に申請した1名以上3名以内とし、内1名は"]
[null,null,null,"JFA公認指導者ライセンスを有する事。"]
[null,null,null,"※審判員一覧及びその他スタッフ一覧の【帯同審判】は使用しない(各チーム責任を持って準備しておく事)。"]
[null,null,null,"※申請受理されているか確認の事。【大会エントリーガイド参照】"]
[null,null,null,"9月22日(水)21:00までに申込完了のこと。以降の変更は認めない。"]
[null,null,null,"県大会出場チームについては、11月17日(水)21:00まで変更を認める。"]
[null,null,null,"※修正及び変更手続きについては、Web大会参加申込の問い合わせ先まで連絡の事。"]
[null,null,null,"※期限内に参加のための手続き及び参加料の振り込みができない場合は出場を認めない。"]
[null,null,"③連絡先　　　一般社団法人　大分県サッカー協会ジュニア委員会　委員長　安東幹雄"]
[null,null,null," 自宅(Fax)：097-597-1834   携帯：090-8668-0697"]
[]
[12,"抽選方法","11月21日(日)　17：00〜",null,null,null,null,"TOSテレビ大分　大会議室"]
[null,null,"※各チームより指導者１名、選手1名に制限します。"]
[null,null," マスクを着用し、受付時に参加者名簿に参加者氏名、連絡先、体温、体調を記載してください。"]
[13,"競技規則","本大会競技規則は、2020/2021(公財)日本サッカー協会競技規則及び8人制サッカー競技規則に基づく。"]
[null,null,"但し、以下の項目については、特に本大会用として大会規定を定める。"]
[null,null,"①ユニフォームについて"]
[null,null,"1．","本競技会に登録した正・副２組のユニフォーム（シャツ、ショーツ及びソックス）を試合会場に持参し、"]
[null,null,null,"いずれかを着用しなければならない。いずれも背番号は選手本人と一致することとし、番号は1～16までの通し番号とするのが"]
[null,null,null,"望ましい。シャツについては、胸番号/背番号必須で一致している事とする。"]
[null,null,"2．","正・副の２色については明確に異なる色とし、シャツの色彩は審判員が通常着用する黒色と明確に判別し得るものでなければ"]
[null,null,null,"ならない。"]
[null,null,"3．","ユニフォームのデザイン、ロゴ等が異なっていても、本競技会主催者が認める場合、主たる色が同系色であれば着用することができる。"]
[null,null,"4．","ゴールキーパーのユニフォームについて、ショーツ、ソックスはフィールドプレーヤーと同色系でも良いものとする。"]
[null,null,"5．","主審は、対戦するチームのユニフォームの色彩が類似しており判別しがたいと判断したときは、両チームの立ち会いのもとに、"]
[null,null,null,"その試合において着用するユニフォームを決定する。"]
[null,null,"6．","前項の場合、主審は、両チームの各2組のユニフォームのうちから、シャツ、ショーツ及びソックスのそれぞれについて、"]
[null,null,null,"判別しやすい組み合わせを決定することができる。"]
[null,null,"7．","ソックスにテープまたはその他の材質のものを貼り付ける、または外部に着用する場合、ソックスと同色でなくても良い。 "]
[null,null,"8．","アンダーシャツの色は問わない。ただし原則としてチーム内で同色のものを着用する。"]
[null,null,"9．","アンダーショーツおよびタイツの色は問わない。ただし原則としてチーム内で同色のものを着用する。"]
[null,null,"10．","JFA規約 ユニフォームの既定 第5条(7)その他⑤に明記されているとおり、"]
[null,null,null,"チームは、各国代表チーム及びプロクラブチーム等のレプリカを着用して公式競技会に出場する ことはできない。 "]
[null,null,"11．","広告表示については、JFA規約 ユニフォームの既定 第6条により承認された場合のみ認める。"]
[null,null,"12．","交代要員の選手は、両チームのユニホームおよび審判のユニホームと明確に異なる色の着衣(ビブス等)を身につけること。"]
[null,null,"②ユニフォームの調整は、1日目は9:00からの監督会議の際に、2日目は1試合目の試合開始70分前にMCMを行い決定する。"]
[null,null,"　 2試合目以降は、試合終了後に本部にて決定。"]
[null,null,"　 1日目の監督会議及び2日目の1試合目のMCM時は、FP用/GK用各2種類を持参すること。"]
[null,null,"③本大会期間中、警告を2回受けた選手等は次の1試合に出場できない。"]
[null,null,"④本大会に於いて退場を命じられた選手等は、次の1試合に出場できず、それ以降の処置については"]
[null,null,"　 本大会の規律・フェアプレー委員会で決定する。"]
[null,null,"⑤グリーンカードを導入する。"]
[null,null,"⑥競技者は8人(内1人はGK)とし、6人未満となった場合0-5の負けとする。"]
[null,null,"⑦8人制のルールに則り、キックオフゴールは認められない。"]
[null,null,"⑧ベンチスタッフは、大会申込のスタッフ情報に申請した5名のうち3名以内とし、内1名はJFA公認指導者ライセンスを有する事。"]
[null,null,"⑨登録選手以外の選手のベンチ入りは認められない。"]
[null,null,"⑩登録できる交代要員および交代の最大人数は8名とし、交代して退いた競技者は交代要員となり、"]
[null,null,"　 再び出場することができる。交代の回数は制限されない。"]
[null,null,"　 交代は、第4審を通し交代ゾーンから行う。GKが交代する場合は、アウトオブプレー時に主審の許可を得て行う。"]
[14,"競技時間","15分ハーフの計30分とし、ハーフタイムのインターバルは10分とする。"]
[15,"選手交替","13.競技規則　⑩に準ずる。"]
[16,"競技方法","①予選リーグにおいては、参加24チームを3チーム毎の8パートに分けて総当たりによるリーグ戦を行う。"]
[null,null,"②予選リーグにおける順位は、勝ち点(勝3、引分1、負0)・当該対戦・PKの順で決定する。"]
[null,null,"　 予選リーグにおいて、3チーム共に同率時の場合は、3人制のPK方式にて2連勝したチームが次回戦進出とする。"]
[null,null,"③予選リーグの各パート上位1チームにより、2日目に決勝トーナメントを行い、優勝チームを決定する。"]
[null,null,"④決勝トーナメントで同点の場合、3人制のPK方式にて次回戦進出チームを決定する。"]
[null,null,"　 次回戦進出チームを決定するPK方式においてFPをGKとする場合、その選手と同番号のGKユニフォーム又は、サブユニフォームの"]
[null,null,"　 シャツを着用させる。"]
[null,null,"⑤準決勝戦以降同点の場合は、6分間の延長(3分ハーフ)を行い、なお決しない場合は3人制のPK方式にて勝敗を決定する。"]
[17,"審判","審判は3級以上の有資格者3人に予備審1名を加え、4人制とする。"]
[18,"ボ ー ル","少年用4号球を本部で準備する。"]
[19,"競技場","①コート",null,"縦68m×横50m"]
[null,null,"②センターサークル",null,"半径7m"]
[null,null,"③ゴールエリア",null,"ゴールポスト外側へ4m、その地点からゴールラインに直角に4m"]
[null,null,"④ペナルティエリア",null,"ゴールポスト外側へ12m、その地点からゴールラインに直角に12m"]
[null,null,"⑤ペナルティマーク",null,"8m"]
[null,null,"⑥ゴール",null,"少年用ゴール・高さ2.15m、幅5m"]
[20,"その他","①異議：ベンチ(監督、コーチ、スタッフ等)が審判の判定に対して異議を唱えたり、選手に対し罵声を浴びせる等の"]
[null,null,"　 ネガティブなコーチングを行ったりして、主審から一度注意を受けた後に再度同様な行為があった場合は、主審の"]
[null,null,"　 判断により退席処分とし、それ以降はベンチからのコーチングを不可とする。"]
[null,null,"②監督会議：12月4日(土)9:00よりBコート本部テント前にて行う。"]
[null,null,"③閉会式：試合終了後直ちに行う。"]
[null,null,"④大会上位2チーム(大会運営に協力のできるチームでもあること)は3月26日(土)・27日(日)に福岡県で"]
[null,null,"　 開催予定の「全国小学生8人制サッカー大会兼九州ジュニア(U-11)サッカー大会　ｉｎ　福岡」に県代表として推薦する。"]
[null,null,"　 不足及び欠員が生じた場合は、順に補充する。"]
[null,null,"⑤会場設営(大分地区チームのみ)を8時より行います。"]
[null,null,"　大会終了後、ゴールの片付け(大分地区以外)を行います。ご協力をお願いします。"]
[null,null,"⑥練習は、1試合前のチームのみ、前半及びハーフタイムに所定の場所で可。"]
[null,null,"⑦大会期間中は、常に選手証、指導者資格証、審判資格証もしくは、それぞれの電子証の写しを携帯し、"]
[null,null,"　必要に応じて提示すること。"]
[null,null,"⑧コロナウイルス感染防止のため、必要事項を記入した参加者名簿を大会当日に大会本部まで提出すること。"]
[null,null,"　　大会参加に際し、大会開催時において感染者が出た場合は体調管理のためのチェックシートの提出を求める場合があることを了承し、"]
[null,null,"　　チーム責任者が速やかに対応できるように準備しておくこと。特に、換気の悪い場所に留まらない（密閉を避け）、多数の人が　　　　　　"]
[null,null,"　　集まらない（密集を避け）、間近での会話・発声を行わない（密接を避け）を守り、会場での手洗い（消毒）、"]
[null,null,"　　うがいを選手に指示、励行すること。保護者等応援する方についてはマスクの着用をお願いいたします。"]
[null,null,"　　各会場とも芝（ピッチ）の上からの応援はご遠慮ください。また、密にならないよう間隔を十分にとるなど感染対策にご協力ください。"]

{"sheet":"参加者名簿記入用紙","index":2,"n_rows":49,"n_cols":45,"rows_kept":49,"cut":false,"hidden":true,"merged":[[3,1,3,5],[3,6,3,15],[3,16,3,18],[3,19,3,20],[3,22,3,24],[3,26,3,28],[0,1,0,28],[1,1,1,5],[1,6,1,15],[1,16,1,18],[1,27,1,28],[2,1,2,5],[2,6,2,15],[2,16,2,18],[2,19,2,28],[7,2,7,12],[7,13,7,14],[7,15,7,16],[7,17,7,18],[7,19,7,20],[7,21,7,24],[5,1,6,12],[5,13,5,14],[5,15,5,20],[5,21,5,28],[6,13,6,14],[6,15,6,16],[6,17,6,18],[6,19,6,20],[6,21,6,25],[6,26,6,28],[9,2,9,12],[9,13,9,14],[9,15,9,16],[9,17,9,18],[9,19,9,20],[9,21,9,24],[8,2,8,12],[8,13,8,14],[8,15,8,16],[8,17,8,18],[8,19,8,20],[8,21,8,24],[11,2,11,12],[11,13,11,14],[11,15,11,16],[11,17,11,18],[11,19,11,20],[11,21,11,24],[10,2,10,12],[10,13,10,14],[10,15,10,16],[10,17,10,18],[10,19,10,20],[10,21,10,24],[13,2,13,12],[13,13,13,14],[13,15,13,16],[13,17,13,18],[13,19,13,20],[13,21,13,24],[12,2,12,12],[12,13,12,14],[12,15,12,16],[12,17,12,18],[12,19,12,20],[12,21,12,24],[15,2,15,12],[15,13,15,14],[15,15,15,16],[15,17,15,18],[15,19,15,20],[15,21,15,24],[14,2,14,12],[14,13,14,14],[14,15,14,16],[14,17,14,18],[14,19,14,20],[14,21,14,24],[17,2,17,12],[17,13,17,14],[17,15,17,16],[17,17,17,18],[17,19,17,20],[17,21,17,24],[16,2,16,12],[16,13,16,14],[16,15,16,16],[16,17,16,18],[16,19,16,20],[16,21,16,24],[19,2,19,12],[19,13,19,14],[19,15,19,16],[19,17,19,18],[19,19,19,20],[19,21,19,24],[18,2,18,12],[18,13,18,14],[18,15,18,16],[18,17,18,18],[18,19,18,20],[18,21,18,24],[21,2,21,12],[21,13,21,14],[21,15,21,16],[21,17,21,18],[21,19,21,20],[21,21,21,24],[20,2,20,12],[20,13,20,14],[20,15,20,16],[20,17,20,18],[20,19,20,20],[20,21,20,24],[23,2,23,12],[23,13,23,14],[23,15,23,16],[23,17,23,18],[23,19,23,20],[23,21,23,24],[22,2,22,12],[22,13,22,14],[22,15,22,16],[22,17,22,18],[22,19,22,20],[22,21,22,24],[25,2,25,12],[25,13,25,14],[25,15,25,16],[25,17,25,18],[25,19,25,20],[25,21,25,24],[24,2,24,12],[24,13,24,14],[24,15,24,16],[24,17,24,18],[24,19,24,20],[24,21,24,24],[27,2,27,12],[27,13,27,14],[27,15,27,16],[27,17,27,18],[27,19,27,20],[27,21,27,24],[26,2,26,12],[26,13,26,14],[26,15,26,16],[26,17,26,18],[26,19,26,20],[26,21,26,24],[29,2,29,12],[29,13,29,14],[29,15,29,16],[29,17,29,18],[29,19,29,20],[29,21,29,24],[28,2,28,12],[28,13,28,14],[28,15,28,16],[28,17,28,18],[28,19,28,20],[28,21,28,24],[31,2,31,12],[31,13,31,14],[31,15,31,16],[31,17,31,18],[31,19,31,20],[31,21,31,24],[30,2,30,12],[30,13,30,14],[30,15,30,16],[30,17,30,18],[30,19,30,20],[30,21,30,24],[33,2,33,12],[33,13,33,14],[33,15,33,16],[33,17,33,18],[33,19,33,20],[33,21,33,24],[32,2,32,12],[32,13,32,14],[32,15,32,16],[32,17,32,18],[32,19,32,20],[32,21,32,24],[35,2,35,12],[35,13,35,14],[35,15,35,16],[35,17,35,18],[35,19,35,20],[35,21,35,24],[34,2,34,12],[34,13,34,14],[34,15,34,16],[34,17,34,18],[34,19,34,20],[34,21,34,24],[37,2,37,12],[37,13,37,14],[37,15,37,16],[37,17,37,18],[37,19,37,20],[37,21,37,24],[36,2,36,12],[36,13,36,14],[36,15,36,16],[36,17,36,18],[36,19,36,20],[36,21,36,24],[39,2,39,12],[39,13,39,14],[39,15,39,16],[39,17,39,18],[39,19,39,20],[39,21,39,24],[38,2,38,12],[38,13,38,14],[38,15,38,16],[38,17,38,18],[38,19,38,20],[38,21,38,24],[41,2,41,12],[41,13,41,14],[41,15,41,16],[41,17,41,18],[41,19,41,20],[41,21,41,24],[40,2,40,12],[40,13,40,14],[40,15,40,16],[40,17,40,18],[40,19,40,20],[40,21,40,24],[43,2,43,12],[43,13,43,14],[43,15,43,16],[43,17,43,18],[43,19,43,20],[43,21,43,24],[42,2,42,12],[42,13,42,14],[42,15,42,16],[42,17,42,18],[42,19,42,20],[42,21,42,24],[45,2,45,12],[45,13,45,14],[45,15,45,16],[45,17,45,18],[45,19,45,20],[45,21,45,24],[44,2,44,12],[44,13,44,14],[44,15,44,16],[44,17,44,18],[44,19,44,20],[44,21,44,24],[47,1,47,3],[47,4,47,28],[48,1,48,28],[46,2,46,12],[46,13,46,14],[46,15,46,16],[46,17,46,18],[46,19,46,20],[46,21,46,24]]}
[null,"各種大会参加者名簿（※新型コロナウイルス感染予防対策のため、必ず本部へ提出願います。）",null,null,null,null,null,null,null,null,null,null,null,null,null,null,null,null,null,null,null,null,null,null,null,null,null,null,null,null,null,null,null,null,null,null,null,null,"チーム名＿漢字","大会","年","月","日","曜","会場"]
[null,"チーム名",null,null,null,null,null,null,null,null,null,null,null,null,null,null,"期日",null,null,"R",3,"年",12,"月",null,"日",null,"曜日",null,null,null,null,null,null,null,null,null,null,null,"OFA 第 33 回 大分県U-11サッカー選手権大会県大会",1,1,1,"月","昭和電工サッカー・ラグビー場　A"]
[null,"大会名",null,null,null,null,"OFA 第 33 回 大分県U-11サッカー選手権大会県大会",null,null,null,null,null,null,null,null,null,"会場",null,null,null,null,null,null,null,null,null,null,null,null,null,null,null,null,null,null,null,null,null,null,null,2,2,2,"火","昭和電工サッカー・ラグビー場　B"]
[null,"感染対策責任者",null,null,null,null,null,null,null,null,null,null,null,null,null,null,"電話番号",null,null,null,null,"-",null,null,null,"-",null,null,null,null,null,null,null,null,null,null,null,null,null,null,3,3,3,"水","大分県サッカー協会人工芝グラウンド"]
[null,null,null,null,null,null,null,null,null,null,null,null,null,null,null,null,null,null,null,null,null,null,null,null,null,null,null,null,null,null,null,null,null,null,null,null,null,null,null,null,4,4,4,"木"]
[null,"氏　　名",null,null,null,null,null,null,null,null,null,null,null,"学年",null,"参加者種別　※○印チェック",null,null,null,null,null,"当日の健康状態確認　※○印チェック",null,null,null,null,null,null,null,null,null,null,null,null,null,null,null,null,null,null,5,5,5,"金"]
[null,null,null,null,null,null,null,null,null,null,null,null,null,"(選手のみ)",null,"指導者",null,"選手",null,"保護者",null,"検温結果",null,null,null,null,"体調",null,null,null,null,null,null,null,null,null,null,null,null,null,6,6,6,"土"]
[null,1,null,null,null,null,null,null,null,null,null,null,null,null,null,null,null,null,null,null,null,null,null,null,null,"℃","良好","／","不良",null,null,null,null,null,null,null,null,null,null,null,7,7,7,"日"]
[null,2,null,null,null,null,null,null,null,null,null,null,null,null,null,null,null,null,null,null,null,null,null,null,null,"℃","良好","／","不良",null,null,null,null,null,null,null,null,null,null,null,8,8,8]
[null,3,null,null,null,null,null,null,null,null,null,null,null,null,null,null,null,null,null,null,null,null,null,null,null,"℃","良好","／","不良",null,null,null,null,null,null,null,null,null,null,null,9,9,9]
[null,4,null,null,null,null,null,null,null,null,null,null,null,null,null,null,null,null,null,null,null,null,null,null,null,"℃","良好","／","不良",null,null,null,null,null,null,null,null,null,null,null,10,10,10]
[null,5,null,null,null,null,null,null,null,null,null,null,null,null,null,null,null,null,null,null,null,null,null,null,null,"℃","良好","／","不良",null,null,null,null,null,null,null,null,null,null,null,11,11,11]
[null,6,null,null,null,null,null,null,null,null,null,null,null,null,null,null,null,null,null,null,null,null,null,null,null,"℃","良好","／","不良",null,null,null,null,null,null,null,null,null,null,null,12,12,12]
[null,7,null,null,null,null,null,null,null,null,null,null,null,null,null,null,null,null,null,null,null,null,null,null,null,"℃","良好","／","不良",null,null,null,null,null,null,null,null,null,null,null,13,null,13]
[null,8,null,null,null,null,null,null,null,null,null,null,null,null,null,null,null,null,null,null,null,null,null,null,null,"℃","良好","／","不良",null,null,null,null,null,null,null,null,null,null,null,14,null,14]
[null,9,null,null,null,null,null,null,null,null,null,null,null,null,null,null,null,null,null,null,null,null,null,null,null,"℃","良好","／","不良",null,null,null,null,null,null,null,null,null,null,null,15,null,15]
[null,10,null,null,null,null,null,null,null,null,null,null,null,null,null,null,null,null,null,null,null,null,null,null,null,"℃","良好","／","不良",null,null,null,null,null,null,null,null,null,null,null,null,null,16]
[null,11,null,null,null,null,null,null,null,null,null,null,null,null,null,null,null,null,null,null,null,null,null,null,null,"℃","良好","／","不良",null,null,null,null,null,null,null,null,null,null,null,null,null,17]
[null,12,null,null,null,null,null,null,null,null,null,null,null,null,null,null,null,null,null,null,null,null,null,null,null,"℃","良好","／","不良",null,null,null,null,null,null,null,null,null,null,null,null,null,18]
[null,13,null,null,null,null,null,null,null,null,null,null,null,null,null,null,null,null,null,null,null,null,null,null,null,"℃","良好","／","不良",null,null,null,null,null,null,null,null,null,null,null,null,null,19]
[null,14,null,null,null,null,null,null,null,null,null,null,null,null,null,null,null,null,null,null,null,null,null,null,null,"℃","良好","／","不良",null,null,null,null,null,null,null,null,null,null,null,null,null,20]
[null,15,null,null,null,null,null,null,null,null,null,null,null,null,null,null,null,null,null,null,null,null,null,null,null,"℃","良好","／","不良",null,null,null,null,null,null,null,null,null,null,null,null,null,21]
[null,16,null,null,null,null,null,null,null,null,null,null,null,null,null,null,null,null,null,null,null,null,null,null,null,"℃","良好","／","不良",null,null,null,null,null,null,null,null,null,null,null,null,null,22]
[null,17,null,null,null,null,null,null,null,null,null,null,null,null,null,null,null,null,null,null,null,null,null,null,null,"℃","良好","／","不良",null,null,null,null,null,null,null,null,null,null,null,null,null,23]
[null,18,null,null,null,null,null,null,null,null,null,null,null,null,null,null,null,null,null,null,null,null,null,null,null,"℃","良好","／","不良",null,null,null,null,null,null,null,null,null,null,null,null,null,24]
[null,19,null,null,null,null,null,null,null,null,null,null,null,null,null,null,null,null,null,null,null,null,null,null,null,"℃","良好","／","不良",null,null,null,null,null,null,null,null,null,null,null,null,null,25]
[null,20,null,null,null,null,null,null,null,null,null,null,null,null,null,null,null,null,null,null,null,null,null,null,null,"℃","良好","／","不良",null,null,null,null,null,null,null,null,null,null,null,null,null,26]
[null,21,null,null,null,null,null,null,null,null,null,null,null,null,null,null,null,null,null,null,null,null,null,null,null,"℃","良好","／","不良",null,null,null,null,null,null,null,null,null,null,null,null,null,27]
[null,22,null,null,null,null,null,null,null,null,null,null,null,null,null,null,null,null,null,null,null,null,null,null,null,"℃","良好","／","不良",null,null,null,null,null,null,null,null,null,null,null,null,null,28]
[null,23,null,null,null,null,null,null,null,null,null,null,null,null,null,null,null,null,null,null,null,null,null,null,null,"℃","良好","／","不良",null,null,null,null,null,null,null,null,null,null,null,null,null,29]
[null,24,null,null,null,null,null,null,null,null,null,null,null,null,null,null,null,null,null,null,null,null,null,null,null,"℃","良好","／","不良",null,null,null,null,null,null,null,null,null,null,null,null,null,30]
[null,25,null,null,null,null,null,null,null,null,null,null,null,null,null,null,null,null,null,null,null,null,null,null,null,"℃","良好","／","不良",null,null,null,null,null,null,null,null,null,null,null,null,null,31]
[null,26,null,null,null,null,null,null,null,null,null,null,null,null,null,null,null,null,null,null,null,null,null,null,null,"℃","良好","／","不良"]
[null,27,null,null,null,null,null,null,null,null,null,null,null,null,null,null,null,null,null,null,null,null,null,null,null,"℃","良好","／","不良"]
[null,28,null,null,null,null,null,null,null,null,null,null,null,null,null,null,null,null,null,null,null,null,null,null,null,"℃","良好","／","不良"]
[null,29,null,null,null,null,null,null,null,null,null,null,null,null,null,null,null,null,null,null,null,null,null,null,null,"℃","良好","／","不良"]
[null,30,null,null,null,null,null,null,null,null,null,null,null,null,null,null,null,null,null,null,null,null,null,null,null,"℃","良好","／","不良"]
[null,31,null,null,null,null,null,null,null,null,null,null,null,null,null,null,null,null,null,null,null,null,null,null,null,"℃","良好","／","不良"]
[null,32,null,null,null,null,null,null,null,null,null,null,null,null,null,null,null,null,null,null,null,null,null,null,null,"℃","良好","／","不良"]
[null,33,null,null,null,null,null,null,null,null,null,null,null,null,null,null,null,null,null,null,null,null,null,null,null,"℃","良好","／","不良"]
[null,34,null,null,null,null,null,null,null,null,null,null,null,null,null,null,null,null,null,null,null,null,null,null,null,"℃","良好","／","不良"]
[null,35,null,null,null,null,null,null,null,null,null,null,null,null,null,null,null,null,null,null,null,null,null,null,null,"℃","良好","／","不良"]
[null,36,null,null,null,null,null,null,null,null,null,null,null,null,null,null,null,null,null,null,null,null,null,null,null,"℃","良好","／","不良"]
[null,37,null,null,null,null,null,null,null,null,null,null,null,null,null,null,null,null,null,null,null,null,null,null,null,"℃","良好","／","不良"]
[null,38,null,null,null,null,null,null,null,null,null,null,null,null,null,null,null,null,null,null,null,null,null,null,null,"℃","良好","／","不良"]
[null,39,null,null,null,null,null,null,null,null,null,null,null,null,null,null,null,null,null,null,null,null,null,null,null,"℃","良好","／","不良"]
[null,40,null,null,null,null,null,null,null,null,null,null,null,null,null,null,null,null,null,null,null,null,null,null,null,"℃","良好","／","不良"]
[null,"特記事項"]
[null,"一般社団法人大分県サッカー協会ジュニア委員会"]

{"sheet":"参加者名簿記入用紙 (例)","index":3,"n_rows":59,"n_cols":45,"rows_kept":59,"cut":false,"hidden":true,"merged":[[3,1,3,5],[3,6,3,15],[3,16,3,18],[3,19,3,20],[3,22,3,24],[3,26,3,28],[0,1,0,28],[1,1,1,5],[1,6,1,15],[1,16,1,18],[1,27,1,28],[2,1,2,5],[2,6,2,15],[2,16,2,18],[2,19,2,28],[7,2,7,12],[7,13,7,14],[7,15,7,16],[7,17,7,18],[7,19,7,20],[7,21,7,24],[5,1,6,12],[5,13,5,14],[5,15,5,20],[5,21,5,28],[6,13,6,14],[6,15,6,16],[6,17,6,18],[6,19,6,20],[6,21,6,25],[6,26,6,28],[9,2,9,12],[9,13,9,14],[9,15,9,16],[9,17,9,18],[9,19,9,20],[9,21,9,24],[8,2,8,12],[8,13,8,14],[8,15,8,16],[8,17,8,18],[8,19,8,20],[8,21,8,24],[11,2,11,12],[11,13,11,14],[11,15,11,16],[11,17,11,18],[11,19,11,20],[11,21,11,24],[10,2,10,12],[10,13,10,14],[10,15,10,16],[10,17,10,18],[10,19,10,20],[10,21,10,24],[13,2,13,12],[13,13,13,14],[13,15,13,16],[13,17,13,18],[13,19,13,20],[13,21,13,24],[12,2,12,12],[12,13,12,14],[12,15,12,16],[12,17,12,18],[12,19,12,20],[12,21,12,24],[15,2,15,12],[15,13,15,14],[15,15,15,16],[15,17,15,18],[15,19,15,20],[15,21,15,24],[14,2,14,12],[14,13,14,14],[14,15,14,16],[14,17,14,18],[14,19,14,20],[14,21,14,24],[17,2,17,12],[17,13,17,14],[17,15,17,16],[17,17,17,18],[17,19,17,20],[17,21,17,24],[16,2,16,12],[16,13,16,14],[16,15,16,16],[16,17,16,18],[16,19,16,20],[16,21,16,24],[19,2,19,12],[19,13,19,14],[19,15,19,16],[19,17,19,18],[19,19,19,20],[19,21,19,24],[18,2,18,12],[18,13,18,14],[18,15,18,16],[18,17,18,18],[18,19,18,20],[18,21,18,24],[21,2,21,12],[21,13,21,14],[21,15,21,16],[21,17,21,18],[21,19,21,20],[21,21,21,24],[20,2,20,12],[20,13,20,14],[20,15,20,16],[20,17,20,18],[20,19,20,20],[20,21,20,24],[23,2,23,12],[23,13,23,14],[23,15,23,16],[23,17,23,18],[23,19,23,20],[23,21,23,24],[22,2,22,12],[22,13,22,14],[22,15,22,16],[22,17,22,18],[22,19,22,20],[22,21,22,24],[25,2,25,12],[25,13,25,14],[25,15,25,16],[25,17,25,18],[25,19,25,20],[25,21,25,24],[24,2,24,12],[24,13,24,14],[24,15,24,16],[24,17,24,18],[24,19,24,20],[24,21,24,24],[27,2,27,12],[27,13,27,14],[27,15,27,16],[27,17,27,18],[27,19,27,20],[27,21,27,24],[26,2,26,12],[26,13,26,14],[26,15,26,16],[26,17,26,18],[26,19,26,20],[26,21,26,24],[29,2,29,12],[29,13,29,14],[29,15,29,16],[29,17,29,18],[29,19,29,20],[29,21,29,24],[28,2,28,12],[28,13,28,14],[28,15,28,16],[28,17,28,18],[28,19,28,20],[28,21,28,24],[31,2,31,12],[31,13,31,14],[31,15,31,16],[31,17,31,18],[31,19,31,20],[31,21,31,24],[30,2,30,12],[30,13,30,14],[30,15,30,16],[30,17,30,18],[30,19,30,20],[30,21,30,24],[33,2,33,12],[33,13,33,14],[33,15,33,16],[33,17,33,18],[33,19,33,20],[33,21,33,24],[32,2,32,12],[32,13,32,14],[32,15,32,16],[32,17,32,18],[32,19,32,20],[32,21,32,24],[35,2,35,12],[35,13,35,14],[35,15,35,16],[35,17,35,18],[35,19,35,20],[35,21,35,24],[34,2,34,12],[34,13,34,14],[34,15,34,16],[34,17,34,18],[34,19,34,20],[34,21,34,24],[37,2,37,12],[37,13,37,14],[37,15,37,16],[37,17,37,18],[37,19,37,20],[37,21,37,24],[36,2,36,12],[36,13,36,14],[36,15,36,16],[36,17,36,18],[36,19,36,20],[36,21,36,24],[39,2,39,12],[39,13,39,14],[39,15,39,16],[39,17,39,18],[39,19,39,20],[39,21,39,24],[38,2,38,12],[38,13,38,14],[38,15,38,16],[38,17,38,18],[38,19,38,20],[38,21,38,24],[41,2,41,12],[41,13,41,14],[41,15,41,16],[41,17,41,18],[41,19,41,20],[41,21,41,24],[40,2,40,12],[40,13,40,14],[40,15,40,16],[40,17,40,18],[40,19,40,20],[40,21,40,24],[43,2,43,12],[43,13,43,14],[43,15,43,16],[43,17,43,18],[43,19,43,20],[43,21,43,24],[42,2,42,12],[42,13,42,14],[42,15,42,16],[42,17,42,18],[42,19,42,20],[42,21,42,24],[45,2,45,12],[45,13,45,14],[45,15,45,16],[45,17,45,18],[45,19,45,20],[45,21,45,24],[44,2,44,12],[44,13,44,14],[44,15,44,16],[44,17,44,18],[44,19,44,20],[44,21,44,24],[47,1,47,3],[47,4,47,28],[48,1,48,28],[46,2,46,12],[46,13,46,14],[46,15,46,16],[46,17,46,18],[46,19,46,20],[46,21,46,24]]}
[null,"各種大会参加者名簿（※新型コロナウイルス感染予防対策のため、必ず本部へ提出願います。）",null,null,null,null,null,null,null,null,null,null,null,null,null,null,null,null,null,null,null,null,null,null,null,null,null,null,null,null,null,null,null,null,null,null,null,null,"チーム名＿漢字","大会","年","月","日","曜","会場"]
[null,"チーム名",null,null,null,null,"大分JFC",null,null,null,null,null,null,null,null,null,"期日",null,null,"R",2,"年",12,"月",5,"日","土","曜日",null,null,null,null,null,null,null,null,null,null,"明野北フットボールクラブ","OFA U10/11リーグ",1,1,1,"月","大在東グラウンド"]
[null,"大会名",null,null,null,null,"OFA U-11サッカー選手権県大会",null,null,null,null,null,null,null,null,null,"会場",null,null,"大分SP",null,null,null,null,null,null,null,null,null,null,null,null,null,null,null,null,null,null,"明野西ＪＦＣ","OFA U12リーグ",2,2,2,"火","西部グラウンド"]
[null,"感染対策責任者",null,null,null,null,"大分一郎",null,null,null,null,null,null,null,null,null,"電話番号",null,null,"090",null,"-","0123",null,null,"-","0123",null,null,null,null,null,null,null,null,null,null,null,"明野東サッカースポーツ少年団","キッズリーグ",3,3,3,"水","七瀬川グラウンド"]
[null,null,null,null,null,null,null,null,null,null,null,null,null,null,null,null,null,null,null,null,null,null,null,null,null,null,null,null,null,null,null,null,null,null,null,null,null,null,"アトレチコエラン横瀬","ラビットカップ地区大会",4,4,4,"木","南大分SP"]
[null,"氏　　名",null,null,null,null,null,null,null,null,null,null,null,"学年",null,"参加者種別　※○印チェック",null,null,null,null,null,"当日の健康状態確認　※○印チェック",null,null,null,null,null,null,null,null,null,null,null,null,null,null,null,null,"ａｎｉｍｏｓｅｌｅｃｔ　ｆｏｏｔｂａｌｌ　ｃｌｕｂ　Ｕ－１２","ラビットカップ県大会",5,5,5,"金","上原グラウンド"]
[null,null,null,null,null,null,null,null,null,null,null,null,null,"(選手のみ)",null,"指導者",null,"選手",null,"保護者",null,"検温結果",null,null,null,null,"体調",null,null,null,null,null,null,null,null,null,null,null,"ヴィンクラッソ大分ＦＣジュニア","バーモントカップ",6,6,6,"土","日岡グラウンド"]
[null,1,"大分一郎",null,null,null,null,null,null,null,null,null,null,null,null,"○",null,null,null,null,null,36.5,null,null,null,"℃","良好","／","不良",null,null,null,null,null,null,null,null,null,"ヴェルスパ大分　Ｕ－１２","OFA U-11サッカー選手権地区大会",7,7,7,"日","駄原球技場"]
[null,2,"福岡二郎",null,null,null,null,null,null,null,null,null,null,5,null,null,null,"○",null,null,null,36.200000000000003,null,null,null,"℃","良好","／","不良",null,null,null,null,null,null,null,null,null,"荏隈サッカースポーツ少年団","OFA U-11サッカー選手権県大会",8,8,8,null,"野津原天空広場グラウンド"]
[null,3,"宮崎三男",null,null,null,null,null,null,null,null,null,null,6,null,null,null,"○",null,null,null,36.5,null,null,null,"℃","良好","／","不良",null,null,null,null,null,null,null,null,null,"MSS","全日本 U-12サッカー選手権地区大会",9,9,9,null,"大分SP"]
[null,4,"長崎四男",null,null,null,null,null,null,null,null,null,null,6,null,null,null,null,null,null,null,null,null,null,null,"℃","良好","／","不良",null,null,null,null,null,null,null,null,null,"ＦＣ　ＲＥＧＡＴＥ","全日本 U-12サッカー選手権県大会",10,10,10,null,"〔　　　　　　　　　　　　　　〕小学校グラウンド"]
[null,5,"福岡五子",null,null,null,null,null,null,null,null,null,null,null,null,null,null,null,null,"○",null,36.200000000000003,null,null,null,"℃","良好","／","不良",null,null,null,null,null,null,null,null,null,"大分トリニータＵ－１２","忠文堂杯",11,11,11,null,"鶴崎河川敷"]
[null,6,null,null,null,null,null,null,null,null,null,null,null,null,null,null,null,null,null,null,null,null,null,null,null,"℃","良好","／","不良",null,null,null,null,null,null,null,null,null,"大分トリニータタートルズ","九州ジュニア地区大会",12,12,12,null,"その他〔　　　　　　　　　　　　　　　　　　　　　　　　〕"]
[null,7,null,null,null,null,null,null,null,null,null,null,null,null,null,null,null,null,null,null,null,null,null,null,null,"℃","良好","／","不良",null,null,null,null,null,null,null,null,null,"大在サッカースポーツ少年団","九州ジュニア県大会",13,null,13]
[null,8,null,null,null,null,null,null,null,null,null,null,null,null,null,null,null,null,null,null,null,null,null,null,null,"℃","良好","／","不良",null,null,null,null,null,null,null,null,null,"大道サッカースポーツ少年団","だいしんカップ",14,null,14]
[null,9,null,null,null,null,null,null,null,null,null,null,null,null,null,null,null,null,null,null,null,null,null,null,null,"℃","良好","／","不良",null,null,null,null,null,null,null,null,null,"鴛野サッカースポーツ少年団","トレセン大会〔　　　　　　　　　　　　　　　　　　　　　〕",15,null,15]
[null,10,null,null,null,null,null,null,null,null,null,null,null,null,null,null,null,null,null,null,null,null,null,null,null,"℃","良好","／","不良",null,null,null,null,null,null,null,null,null,"賀来ジュニアサッカークラブ","U9スポ少リーグ",null,null,16]
[null,11,null,null,null,null,null,null,null,null,null,null,null,null,null,null,null,null,null,null,null,null,null,null,null,"℃","良好","／","不良",null,null,null,null,null,null,null,null,null,"春日ＳＳＳ","U10スポ少リーグ",null,null,17]
[null,12,null,null,null,null,null,null,null,null,null,null,null,null,null,null,null,null,null,null,null,null,null,null,null,"℃","良好","／","不良",null,null,null,null,null,null,null,null,null,"カティオーラフットボールクラブＵ－１２","U11スポ少リーグ",null,null,18]
[null,13,null,null,null,null,null,null,null,null,null,null,null,null,null,null,null,null,null,null,null,null,null,null,null,"℃","良好","／","不良",null,null,null,null,null,null,null,null,null,"カティオーラフットボールクラブ（高城）","スポ少新人戦",null,null,19]
[null,14,null,null,null,null,null,null,null,null,null,null,null,null,null,null,null,null,null,null,null,null,null,null,null,"℃","良好","／","不良",null,null,null,null,null,null,null,null,null,"カティオーラフットボールクラブ（松岡）","その他〔　　　　　　　　　　　　　　　　　　　　　　　　〕",null,null,20]
[null,15,null,null,null,null,null,null,null,null,null,null,null,null,null,null,null,null,null,null,null,null,null,null,null,"℃","良好","／","不良",null,null,null,null,null,null,null,null,null,"カティオーラフットボールクラブ（大在）",null,null,null,21]
[null,16,null,null,null,null,null,null,null,null,null,null,null,null,null,null,null,null,null,null,null,null,null,null,null,"℃","良好","／","不良",null,null,null,null,null,null,null,null,null,"金池長浜サッカースポーツ少年団",null,null,null,22]
[null,17,null,null,null,null,null,null,null,null,null,null,null,null,null,null,null,null,null,null,null,null,null,null,null,"℃","良好","／","不良",null,null,null,null,null,null,null,null,null,"ＫＩＮＧＳ　ＦＯＯＴＢＡＬＬＣＬＵＢ　Ｕ－１２",null,null,null,23]
[null,18,null,null,null,null,null,null,null,null,null,null,null,null,null,null,null,null,null,null,null,null,null,null,null,"℃","良好","／","不良",null,null,null,null,null,null,null,null,null,"敷戸サッカースポーツ少年団",null,null,null,24]
[null,19,null,null,null,null,null,null,null,null,null,null,null,null,null,null,null,null,null,null,null,null,null,null,null,"℃","良好","／","不良",null,null,null,null,null,null,null,null,null,"城東サッカースポーツ少年団",null,null,null,25]
[null,20,null,null,null,null,null,null,null,null,null,null,null,null,null,null,null,null,null,null,null,null,null,null,null,"℃","良好","／","不良",null,null,null,null,null,null,null,null,null,"城南サッカースポーツ少年団",null,null,null,26]
[null,21,null,null,null,null,null,null,null,null,null,null,null,null,null,null,null,null,null,null,null,null,null,null,null,"℃","良好","／","不良",null,null,null,null,null,null,null,null,null,"スマイス　セレソン　スポーツクラブ",null,null,null,27]
[null,22,null,null,null,null,null,null,null,null,null,null,null,null,null,null,null,null,null,null,null,null,null,null,null,"℃","良好","／","不良",null,null,null,null,null,null,null,null,null,"碩田サッカースポーツ少年団",null,null,null,28]
[null,23,null,null,null,null,null,null,null,null,null,null,null,null,null,null,null,null,null,null,null,null,null,null,null,"℃","良好","／","不良",null,null,null,null,null,null,null,null,null,"寒田少年サッカークラブ",null,null,null,29]
[null,24,null,null,null,null,null,null,null,null,null,null,null,null,null,null,null,null,null,null,null,null,null,null,null,"℃","良好","／","不良",null,null,null,null,null,null,null,null,null,"滝尾下郡サッカースポーツ少年団",null,null,null,30]
[null,25,null,null,null,null,null,null,null,null,null,null,null,null,null,null,null,null,null,null,null,null,null,null,null,"℃","良好","／","不良",null,null,null,null,null,null,null,null,null,"田尻サッカースポーツ少年団",null,null,null,31]
[null,26,null,null,null,null,null,null,null,null,null,null,null,null,null,null,null,null,null,null,null,null,null,null,null,"℃","良好","／","不良",null,null,null,null,null,null,null,null,null,"鶴崎ＳＳＳ"]
[null,27,null,null,null,null,null,null,null,null,null,null,null,null,null,null,null,null,null,null,null,null,null,null,null,"℃","良好","／","不良",null,null,null,null,null,null,null,null,null,"東陽フットボールクラブ"]
[null,28,null,null,null,null,null,null,null,null,null,null,null,null,null,null,null,null,null,null,null,null,null,null,null,"℃","良好","／","不良",null,null,null,null,null,null,null,null,null,"ドリームキッズフットボールクラブ"]
[null,29,null,null,null,null,null,null,null,null,null,null,null,null,null,null,null,null,null,null,null,null,null,null,null,"℃","良好","／","不良",null,null,null,null,null,null,null,null,null,"西の台ＪＦＣ"]
[null,30,null,null,null,null,null,null,null,null,null,null,null,null,null,null,null,null,null,null,null,null,null,null,null,"℃","良好","／","不良",null,null,null,null,null,null,null,null,null,"挾間ＪＦＣ"]
[null,31,null,null,null,null,null,null,null,null,null,null,null,null,null,null,null,null,null,null,null,null,null,null,null,"℃","良好","／","不良",null,null,null,null,null,null,null,null,null,"判田サッカースポーツ少年団"]
[null,32,null,null,null,null,null,null,null,null,null,null,null,null,null,null,null,null,null,null,null,null,null,null,null,"℃","良好","／","不良",null,null,null,null,null,null,null,null,null,"日岡サッカースポーツ少年団"]
[null,33,null,null,null,null,null,null,null,null,null,null,null,null,null,null,null,null,null,null,null,null,null,null,null,"℃","良好","／","不良",null,null,null,null,null,null,null,null,null,"東大分サッカースポーツ少年団"]
[null,34,null,null,null,null,null,null,null,null,null,null,null,null,null,null,null,null,null,null,null,null,null,null,null,"℃","良好","／","不良",null,null,null,null,null,null,null,null,null,"東稙田サッカースポーツ少年団"]
[null,35,null,null,null,null,null,null,null,null,null,null,null,null,null,null,null,null,null,null,null,null,null,null,null,"℃","良好","／","不良",null,null,null,null,null,null,null,null,null,"ブルーウイングフットボールクラブ"]
[null,36,null,null,null,null,null,null,null,null,null,null,null,null,null,null,null,null,null,null,null,null,null,null,null,"℃","良好","／","不良",null,null,null,null,null,null,null,null,null,"戸次吉野ＳＳＳ"]
[null,37,null,null,null,null,null,null,null,null,null,null,null,null,null,null,null,null,null,null,null,null,null,null,null,"℃","良好","／","不良",null,null,null,null,null,null,null,null,null,"別保ＳＦＣ"]
[null,38,null,null,null,null,null,null,null,null,null,null,null,null,null,null,null,null,null,null,null,null,null,null,null,"℃","良好","／","不良",null,null,null,null,null,null,null,null,null,"豊府サッカースポーツ少年団"]
[null,39,null,null,null,null,null,null,null,null,null,null,null,null,null,null,null,null,null,null,null,null,null,null,null,"℃","良好","／","不良",null,null,null,null,null,null,null,null,null,"北郡坂ノ市サッカースポーツ少年団"]
[null,40,null,null,null,null,null,null,null,null,null,null,null,null,null,null,null,null,null,null,null,null,null,null,null,"℃","良好","／","不良",null,null,null,null,null,null,null,null,null,"三佐サッカースポーツ少年団"]
[null,"特記事項",null,null,null,null,null,null,null,null,null,null,null,null,null,null,null,null,null,null,null,null,null,null,null,null,null,null,null,null,null,null,null,null,null,null,null,null,"南大分サッカー少年団"]
[null,"一般社団法人大分県サッカー協会ジュニア委員会",null,null,null,null,null,null,null,null,null,null,null,null,null,null,null,null,null,null,null,null,null,null,null,null,null,null,null,null,null,null,null,null,null,null,null,null,"宗方サッカークラブ"]
[null,null,null,null,null,null,null,null,null,null,null,null,null,null,null,null,null,null,null,null,null,null,null,null,null,null,null,null,null,null,null,null,null,null,null,null,null,null,"明治北ＳＳＣ"]
[null,null,null,null,null,null,null,null,null,null,null,null,null,null,null,null,null,null,null,null,null,null,null,null,null,null,null,null,null,null,null,null,null,null,null,null,null,null,"明治サッカースポーツ少年団"]
[null,null,null,null,null,null,null,null,null,null,null,null,null,null,null,null,null,null,null,null,null,null,null,null,null,null,null,null,null,null,null,null,null,null,null,null,null,null,"桃園サッカースポーツ少年団"]
[null,null,null,null,null,null,null,null,null,null,null,null,null,null,null,null,null,null,null,null,null,null,null,null,null,null,null,null,null,null,null,null,null,null,null,null,null,null,"森岡サッカースポーツ少年団"]
[null,null,null,null,null,null,null,null,null,null,null,null,null,null,null,null,null,null,null,null,null,null,null,null,null,null,null,null,null,null,null,null,null,null,null,null,null,null,"八幡サッカースポーツ少年団"]
[null,null,null,null,null,null,null,null,null,null,null,null,null,null,null,null,null,null,null,null,null,null,null,null,null,null,null,null,null,null,null,null,null,null,null,null,null,null,"由布川サッカースポーツ少年団"]
[null,null,null,null,null,null,null,null,null,null,null,null,null,null,null,null,null,null,null,null,null,null,null,null,null,null,null,null,null,null,null,null,null,null,null,null,null,null,"横瀬西ＦＣ．ＲｏｓａＣｌａｒｏ"]
[null,null,null,null,null,null,null,null,null,null,null,null,null,null,null,null,null,null,null,null,null,null,null,null,null,null,null,null,null,null,null,null,null,null,null,null,null,null,"リノスフットボールクラブ　Ｕ－１２"]
[null,null,null,null,null,null,null,null,null,null,null,null,null,null,null,null,null,null,null,null,null,null,null,null,null,null,null,null,null,null,null,null,null,null,null,null,null,null,"稙田ＦＣサッカースポーツ少年団"]
[null,null,null,null,null,null,null,null,null,null,null,null,null,null,null,null,null,null,null,null,null,null,null,null,null,null,null,null,null,null,null,null,null,null,null,null,null,null,"その他〔　　　　　　　　　　　　　　　　　　　　　　　　〕"]

{"sheet":"組合せ抽選用","index":4,"n_rows":45,"n_cols":22,"rows_kept":45,"cut":false,"hidden":true,"merged":[[33,9,34,10],[30,10,32,10],[29,13,30,13],[33,12,34,13],[30,12,32,12],[22,12,24,12],[19,17,21,17],[22,17,23,17],[24,17,25,17],[26,17,27,17],[29,4,30,4],[25,12,26,13],[12,6,13,6],[12,13,13,13],[22,3,24,3],[22,5,24,5],[21,13,22,13],[23,4,24,4],[14,11,15,11],[12,11,13,11],[21,6,22,6],[29,11,30,11],[25,9,26,10],[22,10,24,10],[23,11,24,11],[21,11,22,11],[33,2,34,3],[33,5,34,6],[5,12,7,12],[8,12,9,13],[13,10,15,10],[13,12,15,12],[8,9,9,10],[6,11,7,11],[21,4,22,4],[29,6,30,6],[25,2,26,3],[25,5,26,6],[30,3,32,3],[30,5,32,5],[31,4,32,4],[31,11,32,11],[3,17,13,17],[13,5,15,5],[4,11,5,11],[4,13,5,13],[5,10,7,10],[5,5,7,5],[1,1,1,11],[1,12,1,14],[16,12,17,13],[8,5,9,6],[6,4,7,4],[4,4,5,4],[4,6,5,6],[16,2,17,3],[16,5,17,6],[13,3,15,3],[5,3,7,3],[12,4,13,4],[8,2,9,3],[14,4,15,4],[16,9,17,10]]}
[]
[null,{"$f":"要項!C2","v":"OFA 第 33 回 大分県U-11サッカー選手権大会"},null,null,null,null,null,null,null,null,null,null,"組み合わせ",null,null,null,null,"Aブロック（フリー）"]
[null,null,null,null,null,null,null,null,null,null,null,null,null,null,null,null,null,"地　　区","チーム名"]
[null,null,null,null,"「Aパート」",null,null,null,null,null,null,"「Cパート」",null,null,null,null,"D2","大分","東陽",null,{"$f":"抽選会資料!C11","v":"東陽フットボールクラブ"},"大分"]
[null,null,null,"A1",{"$f":"IF(ISERROR(VLOOKUP(D5,$Q:$S,3,FALSE))=TRUE,\"\",VLOOKUP(D5,$Q:$S,3,FALSE))","v":"アリアーレ"},null,null,null,null,null,"C1",{"$f":"IF(ISERROR(VLOOKUP(K5,$Q:$S,3,FALSE))=TRUE,\"\",VLOOKUP(K5,$Q:$S,3,FALSE))","v":"ミネルバ"},null,null,null,null,"C2",null,"Ｍ．Ｓ．Ｓ",null,{"$f":"抽選会資料!C12","v":"Ｍ．Ｓ．Ｓ"},"大分"]
[null,null,null,null,null,null,null,null,null,null,null,null,null,null,null,null,"A3",null,"ヴェルスパ",null,{"$f":"抽選会資料!C13","v":"ヴェルスパ大分　Ｕ－１２"},"大分"]
[null,null,null,null,null,null,null,null,null,null,null,null,null,null,null,null,"C3",null,"東大分",null,{"$f":"抽選会資料!C14","v":"東大分サッカースポーツ少年団"},"大分"]
[null,null,null,null,null,null,null,null,null,null,null,null,null,null,null,null,"B2",null,"明治北",null,{"$f":"抽選会資料!C15","v":"明治北ＳＳＣ"},"大分"]
[null,"A2",{"$f":"IF(ISERROR(VLOOKUP(B9,$Q:$S,3,FALSE))=TRUE,\"\",VLOOKUP(B9,$Q:$S,3,FALSE))","v":"ドリームキッズ"},null,null,{"$f":"IF(ISERROR(VLOOKUP(H9,$Q:$S,3,FALSE))=TRUE,\"\",VLOOKUP(H9,$Q:$S,3,FALSE))","v":"ヴェルスパ"},null,"A3","C2",{"$f":"IF(ISERROR(VLOOKUP(I9,$Q:$S,3,FALSE))=TRUE,\"\",VLOOKUP(I9,$Q:$S,3,FALSE))","v":"Ｍ．Ｓ．Ｓ"},null,null,{"$f":"IF(ISERROR(VLOOKUP(O9,$Q:$S,3,FALSE))=TRUE,\"\",VLOOKUP(O9,$Q:$S,3,FALSE))","v":"東大分"},null,"C3",null,"H2",null,"リノス",null,{"$f":"抽選会資料!C16","v":"リノスフットボールクラブ　Ｕ－１２"},"大分"]
[null,null,null,null,null,null,null,null,null,null,null,null,null,null,null,null,"A2",null,"ドリームキッズ",null,{"$f":"抽選会資料!C17","v":"ドリームキッズフットボールクラブ"},"大分"]
[null,null,null,null,null,null,null,null,null,null,null,null,null,null,null,null,"G2",null,"宗方",null,{"$f":"抽選会資料!C18","v":"宗方サッカークラブ"},"大分"]
[null,null,null,null,"「Eパート」",null,null,null,null,null,null,"「Gパート」",null,null,null,null,"F2",null,"明治",null,{"$f":"抽選会資料!C19","v":"明治サッカースポーツ少年団"},"大分"]
[null,null,null,"E1",{"$f":"IF(ISERROR(VLOOKUP(D13,$Q:$S,3,FALSE))=TRUE,\"\",VLOOKUP(D13,$Q:$S,3,FALSE))","v":"大野"},null,null,null,null,null,"G1",{"$f":"IF(ISERROR(VLOOKUP(K13,$Q:$S,3,FALSE))=TRUE,\"\",VLOOKUP(K13,$Q:$S,3,FALSE))","v":"下毛"},null,null,null,null,"E2",null,"スマイス　スポーツ",null,{"$f":"抽選会資料!C20","v":"スマイス　セレソン　スポーツクラブ"},"大分"]
[null,null,null,null,null,null,null,null,null,null,null,null,null,null,null,null,"H3",null,"タートルズ　キング",null,{"$f":"抽選会資料!C21","v":"大分トリニータタートルズ　キング"},"大分"]
[]
[]
[null,"E2",{"$f":"IF(ISERROR(VLOOKUP(B17,$Q:$S,3,FALSE))=TRUE,\"\",VLOOKUP(B17,$Q:$S,3,FALSE))","v":"スマイス　スポーツ"},null,null,{"$f":"IF(ISERROR(VLOOKUP(H17,$Q:$S,3,FALSE))=TRUE,\"\",VLOOKUP(H17,$Q:$S,3,FALSE))","v":"弥生"},null,"E3","G2",{"$f":"IF(ISERROR(VLOOKUP(I17,$Q:$S,3,FALSE))=TRUE,\"\",VLOOKUP(I17,$Q:$S,3,FALSE))","v":"宗方"},null,null,{"$f":"IF(ISERROR(VLOOKUP(O17,$Q:$S,3,FALSE))=TRUE,\"\",VLOOKUP(O17,$Q:$S,3,FALSE))","v":"太陽大分西"},null,"G3"]
[null,null,null,null,null,null,null,null,null,null,null,null,null,null,null,null,null,"Bブロック（奇数）"]
[null,null,null,null,null,null,null,null,null,null,null,null,null,null,null,null,null,"地　　区","チーム名"]
[null,null,null,null,null,null,null,null,null,null,null,null,null,null,null,null,"B3","中津","ＦＣ中津",null,{"$f":"抽選会資料!J11","v":"ＦＣ中津ジュニア"},"中津"]
[null,null,null,null,"「Bパート」",null,null,null,null,null,null,"「Dパート」",null,null,null,null,"H1",null,"如水",null,{"$f":"抽選会資料!J12","v":"如水ジュニアサッカークラブ"},"中津"]
[null,null,null,"B1",{"$f":"IF(ISERROR(VLOOKUP(D22,$Q:$S,3,FALSE))=TRUE,\"\",VLOOKUP(D22,$Q:$S,3,FALSE))","v":"安岐"},null,null,null,null,null,"D1",{"$f":"IF(ISERROR(VLOOKUP(K22,$Q:$S,3,FALSE))=TRUE,\"\",VLOOKUP(K22,$Q:$S,3,FALSE))","v":"ＯＫＹ山香"},null,null,null,null,"G1",null,"下毛",null,{"$f":"抽選会資料!J13","v":"下毛ＦＣ"},"中津"]
[null,null,null,null,null,null,null,null,null,null,null,null,null,null,null,null,"B1","速杵国東","安岐",null,{"$f":"抽選会資料!J14","v":"ＦＣ安岐"},"速杵国東"]
[null,null,null,null,null,null,null,null,null,null,null,null,null,null,null,null,"D1",null,"ＯＫＹ山香",null,{"$f":"抽選会資料!J15","v":"ＯＫＹ山香サッカークラブ"},"速杵国東"]
[null,null,null,null,null,null,null,null,null,null,null,null,null,null,null,null,"F1","別府","スマイス・セレソン",null,{"$f":"抽選会資料!J16","v":"スマイス・セレソン"},"別府"]
[null,"B2",{"$f":"IF(ISERROR(VLOOKUP(B26,$Q:$S,3,FALSE))=TRUE,\"\",VLOOKUP(B26,$Q:$S,3,FALSE))","v":"明治北"},null,null,{"$f":"IF(ISERROR(VLOOKUP(H26,$Q:$S,3,FALSE))=TRUE,\"\",VLOOKUP(H26,$Q:$S,3,FALSE))","v":"ＦＣ中津"},null,"B3","D2",{"$f":"IF(ISERROR(VLOOKUP(I26,$Q:$S,3,FALSE))=TRUE,\"\",VLOOKUP(I26,$Q:$S,3,FALSE))","v":"東陽"},null,null,{"$f":"IF(ISERROR(VLOOKUP(O26,$Q:$S,3,FALSE))=TRUE,\"\",VLOOKUP(O26,$Q:$S,3,FALSE))","v":"千怒"},null,"D3",null,"C1",null,"ミネルバ",null,{"$f":"抽選会資料!J17","v":"別府フットボールクラブ．ミネルバＵ－１２"},"別府"]
[null,null,null,null,null,null,null,null,null,null,null,null,null,null,null,null,"A1","日田/玖珠","アリアーレ",null,{"$f":"抽選会資料!J18","v":"ＦＣアリアーレ"},"日田/玖珠"]
[null,null,null,null,null,null,null,null,null,null,null,null,null,null,null,null,"G3",null,"太陽大分西",null,{"$f":"抽選会資料!J19","v":"太陽スポーツクラブ大分西"},"日田/玖珠"]
[null,null,null,null,"「Fパート」",null,null,null,null,null,null,"「Hパート」",null,null,null,null,"F3","宇佐高田","ＵＮＩＴＥ",null,{"$f":"抽選会資料!J20","v":"ＦＣ　ＵＮＩＴＥ"},"宇佐高田"]
[null,null,null,"F1",{"$f":"IF(ISERROR(VLOOKUP(D30,$Q:$S,3,FALSE))=TRUE,\"\",VLOOKUP(D30,$Q:$S,3,FALSE))","v":"スマイス・セレソン"},null,null,null,null,null,"H1",{"$f":"IF(ISERROR(VLOOKUP(K30,$Q:$S,3,FALSE))=TRUE,\"\",VLOOKUP(K30,$Q:$S,3,FALSE))","v":"如水"},null,null,null,null,"E3","佐伯","弥生",null,{"$f":"抽選会資料!J21","v":"弥生少年サッカークラブ"},"佐伯"]
[null,null,null,null,null,null,null,null,null,null,null,null,null,null,null,null,"E1","豊肥","大野",null,{"$f":"抽選会資料!J22","v":"ＦＣ大野"},"豊肥"]
[null,null,null,null,null,null,null,null,null,null,null,null,null,null,null,null,"D3","臼杵/津久見","千怒",null,{"$f":"抽選会資料!J23","v":"千怒サッカースポーツ少年団"},"臼杵/津久見"]
[]
[null,"F2",{"$f":"IF(ISERROR(VLOOKUP(B34,$Q:$S,3,FALSE))=TRUE,\"\",VLOOKUP(B34,$Q:$S,3,FALSE))","v":"明治"},null,null,{"$f":"IF(ISERROR(VLOOKUP(H34,$Q:$S,3,FALSE))=TRUE,\"\",VLOOKUP(H34,$Q:$S,3,FALSE))","v":"ＵＮＩＴＥ"},null,"F3","H2",{"$f":"IF(ISERROR(VLOOKUP(I34,$Q:$S,3,FALSE))=TRUE,\"\",VLOOKUP(I34,$Q:$S,3,FALSE))","v":"リノス"},null,null,{"$f":"IF(ISERROR(VLOOKUP(O34,$Q:$S,3,FALSE))=TRUE,\"\",VLOOKUP(O34,$Q:$S,3,FALSE))","v":"タートルズ　キング"},null,"H3"]
[]
[]
[]
[]
[]
[]
[null,null,null,null,null,null,null,null,null,null,null,null,null,null,null,null,null,"＜抽選方法＞"]
[null,null,null,null,null,null,null,null,null,null,null,null,null,null,null,null,null,"Bブロック 9地区の各第1代表が8パートに分かれるように抽選。"]
[null,null,null,null,null,null,null,null,null,null,null,null,null,null,null,null,null,"(まず、大分地区以外が全パートに入る事が前提で、開会式がある場合は、A1を選手宣誓とする。)"]
[null,null,null,null,null,null,null,null,null,null,null,null,null,null,null,null,null,"２チーム出場の地区が、第1代表と決勝戦まで対戦しないように、左右のパートに分かれるように抽選。"]
[null,null,null,null,null,null,null,null,null,null,null,null,null,null,null,null,null,"大分地区は、振込順にて抽選"]

{"sheet":"会場図","index":5,"n_rows":44,"n_cols":75,"rows_kept":44,"cut":false,"hidden":false,"merged":[[30,37,31,37],[30,38,34,38],[34,37,35,37],[36,38,37,38],[22,0,40,1],[22,18,22,21],[30,3,31,3],[34,3,35,3],[41,15,42,23],[20,17,20,21],[21,18,21,21],[15,22,16,23],[21,28,21,33],[19,18,19,19],[0,31,0,38],[27,38,28,38],[12,68,13,68],[18,54,18,55],[0,0,0,30],[12,18,18,20],[12,0,18,16],[2,40,6,41],[8,68,9,68],[8,42,9,42],[12,42,13,42],[20,0,21,12],[12,22,14,27],[22,41,22,45],[15,40,18,41],[2,74,28,76],[19,54,19,57],[2,71,18,73],[15,69,18,70],[2,69,6,70]]}
[{"$f":"要項!C2","v":"OFA 第 33 回 大分県U-11サッカー選手権大会"},null,null,null,null,null,null,null,null,null,null,null,null,null,null,null,null,null,null,null,null,null,null,null,null,null,null,null,null,null,null,"会場図"]
[null,null,null,null,null,null,null,null,null,null,null,null,null,null,null,null,null,null,null,null,null,null,null,null,null,null,null,null,null,null,null,null,null,null,null,null,null,null,null,null,"大分県サッカー協会人工芝グラウンド"]
[null,null,null,null,null,null,null,null,null,null,null,null,null,null,null,null,null,null,null,null,null,null,null,null,null,null,null,null,null,null,null,null,null,null,null,null,null,null,null,null,"芝生・応援席",null,null,null,null,null,null,null,"50m",null,null,null,null,null,null,null,null,null,null,null,null,null,null,null,null,null,null,null,null,"芝生・応援席",null,"アップ場ボール使用\n不可",null,null,"役員・審判員・来賓等関係者駐車場"]
[]
[]
[]
[]
[]
[null,null,null,null,null,null,null,null,null,null,null,null,null,null,null,null,null,null,null,null,null,null,null,null,null,null,null,null,null,null,null,null,null,null,null,null,null,null,null,null,null,null,"ベンチ",null,null,null,null,null,null,null,null,null,null,null,null,null,null,null,null,null,null,null,null,null,null,null,null,null,"ベンチ"]
[]
[null,null,null,null,null,null,null,null,null,null,null,null,null,null,null,null,null,null,null,null,null,null,null,null,null,null,null,null,null,null,null,null,null,null,null,null,null,null,null,null,null,null,null,null,null,null,null,null,null,null,null,null,null,null,null,"68m"]
[]
["⑥Ｂ駐車場",null,null,null,null,null,null,null,null,null,null,null,null,null,null,null,null,null,"テント設営可",null,null,null,"倉庫",null,null,null,null,null,null,null,null,null,null,null,null,null,null,null,null,null,null,null,"ベンチ",null,null,null,null,null,null,null,null,null,null,null,null,null,null,null,null,null,null,null,null,null,null,null,null,null,"ベンチ"]
[]
[]
[null,null,null,null,null,null,null,null,null,null,null,null,null,null,null,null,null,null,null,null,null,null,"WC",null,null,null,null,null,null,null,null,null,null,null,null,null,null,null,null,null,"芝生・応援席",null,null,null,null,null,null,null,null,null,null,null,null,null,null,null,null,null,null,null,null,null,null,null,null,null,null,null,null,"芝生・応援席"]
[]
[null,null,null,null,null,null,null,null,null,null,null,null,null,null,null,null,null,null,null,null,null,null,"来賓控室・審判室"]
[null,null,null,null,null,null,null,null,null,null,null,null,null,null,null,null,null,null,null,null,null,null,"倉庫"]
[null,null,null,null,null,null,null,null,null,null,null,null,null,null,"②","出",null,null,null,null,null,null,null,null,null,null,null,null,null,null,null,null,null,null,null,null,null,null,null,null,null,null,null,null,null,null,null,null,null,null,null,null,null,null,"本部ﾃﾝﾄ",null,null,null,null,null,null,null,null,null,null,null,null,null,null,null,"↑"]
["①芝生・応援席",null,null,null,null,null,null,null,null,null,null,null,null,"←","応","入",null,"（役員のみ）",null,null,null,null,null,null,null,null,null,null,null,null,null,null,null,null,null,null,null,null,null,null,"⇒","⇒",null,null,null,null,null,null,null,null,null,null,null,null,null,null,null,null,null,null,null,null,null,null,null,null,"⇒","⇒","⇒","⇒","↑"]
[null,null,null,null,null,null,null,null,null,null,null,null,null,"↓","援","口",null,null,"③出入口締切",null,null,null,null,null,null,null,null,null,"②応援出入り口",null,null,null,null,null,null,null,null,null,null,null,null,null,null,null,null,null,"倉庫",null,null,null,null,null,null,null,null,null,null,"管理棟"]
["芝生・応援席",null,"←","←","←","←","←","←","←","←","←","←","←","←",null,null,null,null,"本部ﾃﾝﾄ",null,null,null,null,null,null,null,null,null,null,null,null,null,"↓","→","→","→","→","→","↓",null,null,"②応援出入り口"]
[null,null,null,null,"大分スポーツ公園昭和電工サッカー・ラグビー場Bコート"]
[null,null,null,null,null,null,null,null,null,"50m"]
[]
[]
[]
[]
[]
[null,null,null,"ベンチ",null,null,null,null,null,null,null,null,null,null,null,null,null,null,null,null,null,null,null,null,null,null,null,null,null,null,null,null,null,null,null,null,null,"ベンチ"]
[]
[null,null,null,null,null,null,null,null,null,null,null,null,null,null,null,null,"68m"]
[]
[null,null,null,"ベンチ",null,null,null,null,null,null,null,null,null,null,null,null,null,null,null,null,null,null,null,null,null,null,null,null,null,null,null,null,null,null,null,null,null,"ベンチ"]
[]
[]
[]
[]
[]
[]
[null,null,null,null,null,null,null,null,null,null,null,null,null,null,null,"①芝生・応援席"]
[]
[null,"※チーム用横断幕は、ネットへの取り付け不可。",null,null,null,null,null,null,null,null,null,null,null,null,null,null,null,null,null,null,null,null,"※喫煙は、本部テント裏の吸い殻入れ付近のみとする。"]

{"sheet":"MCM資料","index":6,"n_rows":106,"n_cols":35,"rows_kept":106,"cut":false,"hidden":false,"merged":[[101,14,101,19],[105,1,106,33],[87,1,87,2],[89,2,90,38],[98,1,98,2],[100,4,100,12],[100,14,100,19],[100,21,100,29],[79,2,79,38],[80,2,81,38],[82,1,82,2],[86,1,86,2],[86,7,86,15],[86,19,86,27],[77,2,78,38],[61,5,61,32],[62,5,62,32],[63,9,63,14],[66,9,66,14],[67,5,68,38],[69,1,69,2],[70,2,71,38],[72,1,72,2],[73,2,73,38],[74,2,75,38],[76,2,76,38],[21,1,21,2],[21,11,21,33],[58,1,58,2],[22,2,22,9],[23,2,23,9],[24,1,24,2],[26,1,26,2],[28,1,28,2],[38,3,39,38],[41,2,41,34],[43,1,43,2],[48,1,48,2],[54,1,54,2],[55,2,57,38],[17,1,17,2],[17,3,17,31],[18,1,18,2],[20,18,20,24],[14,1,14,3],[14,5,14,33],[9,0,9,38],[10,0,10,34],[12,6,12,32],[13,1,13,3],[0,0,0,38],[1,0,3,38],[5,6,5,32],[7,3,7,11],[7,13,7,15],[7,16,7,17],[7,18,7,20],[7,21,7,29],[7,31,7,33],[7,34,7,35],[13,5,13,33]]}
["マッチコーディネーションミーティング"]
["OFA 第 33 回 大分県U-11サッカー選手権大会"]
[]
[]
[]
[null,null,null,null,null,null,"予選リーグ　／　決勝トーナメント　　統一資料"]
[]
[null,null,null,"組み合わせ左側チーム",null,null,null,null,null,null,null,null,"（",null,null,null,"市）",null,"ｖｓ",null,null,"組み合わせ右側チーム",null,null,null,null,null,null,null,null,"（",null,null,null,"市）"]
[]
["　予選リーグ会場：大分スポーツ公園 昭和電工サッカー・ラグビー場 A / B【北】【南】"]
["　決勝トーナメント会場：大分スポーツ公園 昭和電工サッカー・ラグビー場 A【北】【南】"]
[]
[null,null,null,null,null,null,"2021年12月4日（土）・12月5日（日）"]
[null,"予選L",null,null,null,"①10:00　②10:50　③11:40　④13:20　⑤14:10　⑥15:00"]
[null,"決勝T",null,null,null,"①  9:30　②10:20　③11:10　④12:00　⑤14:10"]
[]
[1," 挨拶および出席者の確認",null,null,null,null,null,null,null,null,null,null,"主管協会（　一般社団法人　大分県サッカー協会　）"]
[null,null,null,"マッチコミッショナー、対戦チームの両監督、主審、第４の審判員、司会者（６名）"]
[null,null,null,"予選リーグで副審は、担当試合の10分前までに主審と打合せを必ず行うこと。"]
[null,null,null,"決勝Ｔは、副審、ウェルフェアオフィサーが出席する。"]
[2,"競技関連事項"]
[null,"（1）",null,"累積警告選手等の確認",null,null,null,null,null,null,null,"（本大会要項　（13）競技規則 ③、④）"]
[null,null,{"$f":"+D8","v":"組み合わせ左側チーム"},null,null,null,null,null,null,null,"："]
[null,null,{"$f":"+V8","v":"組み合わせ右側チーム"},null,null,null,null,null,null,null,"："]
[null,"（2）",null,"ユニフォームの色の決定"]
[]
[null,"（3）",null,"試合登録メンバー（選手および役員）の確認"]
[]
[null,"（４）",null,"試合時間"]
[null,"○","予選リーグ"]
[null,null,"・","競技時間は、15分ハーフの計30分とし、ハーフタイムのインターバルは10分とする。"]
[null,null,"・","順位は、勝ち点(勝3、引分1、負0)・当該対戦・PKの順で決定する。"]
[null,null,"・","3チーム共に同率時の場合は、3人制のPK方式にて2連勝したチームが次回戦進出とする。"]
[null,null,"・","各パート上位1チームにより、2日目に決勝トーナメントを行い、優勝チームを決定する。"]
[null,"○","決勝トーナメント"]
[null,null,"・","競技時間は、15分ハーフの計30分とし、ハーフタイムのインターバルは10分とする。"]
[null,null,"・","同点の場合、3人制のPK方式にて次回戦進出チームを決定する。"]
[null,null,"・","準決勝戦以降同点の場合は、6分間の延長(3分ハーフ)を行い、なお決しない場合は3人制のPK方式にて勝敗を決定する。"]
[null,null,"・","（次回戦進出チームを決定するPK方式においてFPをGKとする場合、その選手と同番号のGKユニフォーム又は、サブユニフォームのシャツを着用させる。）"]
[]
[null,null,"・","インターバル＝延長戦に入る前：3分、ペナルティーキック方式に入る前：1分"]
[null,"○","飲水タイムをとる場合は、「その他の理由」により空費された時間として追加する。"]
[null,"○","アディッショナルタイムの標記:",null,null,null,null,null,null,null,null,null,null,null,"行う（表示用ボード）"]
[null,"（5）",null,"競技者の数"]
[null,"○","試合開始時の人数は、8対8を原則とする。"]
[null,"○","競技中、怪我人が出た場合は、交代要員から補充すること。"]
[null,"○","退場者が出た場合は、交代要員から補充し、退場者のベンチ戻入は認めない。"]
[null,"○","競技者の数がアンバランスになるのは、該当チームに交代要員がいなくなった時に限る。"]
[null,"（6）",null,"選手の交代"]
[null,"○","競技開始前に登録した最大8名の交代要員の中から、自由な交代が認められ、交代して退いた競技者は交代要員となり、"]
[null,null,"再び出場することができる。（交代の回数は制限されない。）"]
[null,"○","交代は、ボールがインプレー中、アウトオブプレー中にかかわらず行うことができ、チームの指導者、もしくは選手は「第4審」に"]
[null,null,"交代選手の番号を口頭で報告し、用具チェックを受けた後、交代ゾーンから行う。ただし、交代で退く競技者が負傷している場合"]
[null,null,"は、主審の承認を得た上でどこからフィールドを離れてもよい。また、ＧＫが交代する場合はアウトプレー時に主審を通じ行う。"]
[null,"（7）",null,"チームベンチへの人数"]
[null,null,"ベンチに入る指導者・選手は、あらかじめスタッフ情報に申請した5名のうち1名以上3名以内（うち1名はJFA公認指導者ライセンスを有すること。）・交代要員となる選手８名を最大とする。\n※大会登録書（メンバー表）に記載された選手及び監督・役員以外のベンチ入りは認めない。"]
[]
[]
[null,"（8）",null,"ウォーミングアップ"]
[null,"***試合前***"]
[null,"○","場所：",null,null,"各会場の指定された区域にて"]
[null,"○","時間：",null,null,"ピッチ外：指定された区域にて"]
[null,null,null,null,null,"ピッチ内：ゴール使用　前の試合のハーフタイムのみ"]
[null,"○","ボール使用の可否：",null,null,null,null,null,null,"可"]
[null,"***試合中***"]
[null,"○","場所：",null,null,"ベンチ横"]
[null,"○","ボール使用の可否：",null,null,null,null,null,null,"否"]
[null,"○","着衣：",null,null,"交代要員の選手は、両チームのユニフォームおよび審判のユニフォームと明確に異なる色の着衣（ビブス等）を身につけること。"]
[]
[null,"（9）",null,"テクニカルエリア"]
[null,null,"戦術的指示を与える際は、その都度ただ1名の役員(監督に限定されない)のみが、テクニカルエリア(ベンチの両端から１メ－トルとタッチラインから1メ－トル)内で行うこと。"]
[]
[null,"（10）",null,"選手のけがの治療"]
[null,"○","レフェリ－が認める特別な場合でないかぎり、フィ－ルド内での医療処置は一切認められない。"]
[null,"○","ケガをした選手が運び出されたり、主審の許可によりフィ－ルドを出ることが認められる場合、医療担当者は医療処置をフィ－ルドの外で行う。"]
[]
[null,"○","主審の指示を受けた場合にのみ、2名以内のチ－ム役員と担架がフィ－ルドに入ることができる。"]
[null,"○","ゴ－ルキ－パ－がケガをした場合は試合を中断し、フィ－ルド内で手当てを受けることが許される。手当てが終わってから試合は再開される。"]
[]
[null,"○","負傷により出血した選手は、出血が止まったことを審判が確認し、主審の合図を受けてからフィールドに復帰することができる。"]
[null,"○","負傷した選手が交代ゾーン以外からピッチを離れ、交替する場合は交替ゾーンから交替する選手は入場する。負傷した選手が治療をおえ、再度交替し入場する場合も交替ゾーンから行う。"]
[]
[null,"（11）",null,"選手の品行"]
[null,"○","フェアプレー",null,null,null,null,null,null,null,null,null,"○","サッカーのイメージアップ"]
[null,"○","ストッキングを引き上げる",null,null,null,null,null,null,null,null,null,"○","シャツをパンツの中に入れる"]
[null,"○","試合開始前および終了後のセレモニー"]
[null,"（12）",null,"試合球",null,null,"「","予選L：本部にて準備",null,null,null,null,null,null,null,null,"」",null,"「","決勝T：本部にて準備",null,null,null,null,null,null,null,null,"」"]
[null,"（13）",null,"選手の用具",null,null,null,null,"用具及びメンバーチェック　　キックオフ10分前　"]
[null,"○","ユニフォームについて（13競技規則①による）"]
[null,"・","シャツについては、胸番号/背番号必須で一致していることとし、色彩は、審判員が通常着用する黒色と明確に判別し得るものでなければならない。"]
[]
[null,"・","ユニフォームのデザイン、ロゴ等が異なっていても、本競技会主催者が認める場合、主たる色が同系色であれば着用することができる。"]
[null,"・","ゴールキーパーのユニフォームについて、ショーツ、ソックスはフィールドプレーヤーと同色系でも良いものとする。"]
[null,"・","ソックスにテープまたはその他の材質のものを貼り付ける、または外部に着用する場合、ソックスと同色でなくても良い。 "]
[null,"・","アンダーシャツの色は問わない。ただし原則としてチーム内で同色のものを着用する。"]
[null,"・","アンダーショーツおよびタイツの色は問わない。ただし原則としてチーム内で同色のものを着用する。"]
[null,"・","すねあてを必ず着用（すねあて留めを使用する場合は、ソックスと同色である事）"]
[null,"・","ゴ－ルキ－パ－は、フィ－ルドの状態、天候によっては長いパンツを着用しても良い"]
[null,"（14）",null,"キックオフ前のセレモニー"]
[null,"○","本部に挨拶を行い、プレーの開始方法を確認した後に、ピッチ内に入場する。"]
[null,null,null,"《",{"$f":"+D8","v":"組み合わせ左側チーム"},null,null,null,null,null,null,null,null,"》","＜審判団＞",null,null,null,null,null,"《",{"$f":"+V8","v":"組み合わせ右側チーム"},null,null,null,null,null,null,null,null,"》"]
[null,null,null,null,null,null,null,null,null,null,null,null,null,null,"本部"]
[]
[]
[3,"その他"]
[null,"本大会要項（20）その他を、役員・保護者等に周知徹底願います。"]

{"sheet":"累積警告・退場","index":7,"n_rows":28,"n_cols":23,"rows_kept":28,"cut":false,"hidden":false,"merged":[[22,1,23,1],[4,1,14,1],[15,1,17,1],[18,1,19,1],[20,1,21,1]]}
["×",null,{"$f":"要項!C2","v":"OFA 第 33 回 大分県U-11サッカー選手権大会"},null,null,"累積警告・退場"]
[null,null,{"$f":"要項!C8","v":"2021年12月4日(土)～5日(日)＊監督会議：4日(土)9:00より"}]
[null,null,null,"地区予選",null,null,null,"予選リーグ　（１試合目）",null,null,null,"予選リーグ　（2試合目）",null,null,null,"1回戦",null,null,null,"準決勝"]
["敗戦","地区","チーム名","背番号","氏名","警告/退場","内容","背番号","氏名","警告/退場","内容","背番号","氏名","警告/退場","内容","背番号","氏名","警告/退場","内容","背番号","氏名","警告/退場","内容"]
[null,"大分",{"$f":"抽選会資料!C11","v":"東陽フットボールクラブ"},null,{"$f":"IF(D5=\"\",\"\",VLOOKUP(CONCATENATE(C5,\"_\",D5),選手名簿!$A:$H,5,FALSE))","v":""},null,null,null,{"$f":"IF(H5=\"\",\"\",VLOOKUP(CONCATENATE(C5,\"_\",H5),選手名簿!$A:$H,5,FALSE))","v":""},null,null,null,{"$f":"IF(L5=\"\",\"\",VLOOKUP(CONCATENATE(C5,\"_\",L5),選手名簿!$A:$H,5,FALSE))","v":""},null,null,null,{"$f":"IF(P5=\"\",\"\",VLOOKUP(CONCATENATE(C5,\"_\",P5),選手名簿!$A:$H,5,FALSE))","v":""},null,null,null,{"$f":"IF(T5=\"\",\"\",VLOOKUP(CONCATENATE(C5,\"_\",T5),選手名簿!$A:$H,5,FALSE))","v":""}]
[null,null,{"$f":"抽選会資料!C12","v":"Ｍ．Ｓ．Ｓ"},null,{"$f":"IF(D6=\"\",\"\",VLOOKUP(CONCATENATE(C6,\"_\",D6),選手名簿!$A:$H,5,FALSE))","v":""},null,null,null,{"$f":"IF(H6=\"\",\"\",VLOOKUP(CONCATENATE(C6,\"_\",H6),選手名簿!$A:$H,5,FALSE))","v":""},null,null,null,{"$f":"IF(L6=\"\",\"\",VLOOKUP(CONCATENATE(C6,\"_\",L6),選手名簿!$A:$H,5,FALSE))","v":""},null,null,null,{"$f":"IF(P6=\"\",\"\",VLOOKUP(CONCATENATE(C6,\"_\",P6),選手名簿!$A:$H,5,FALSE))","v":""},null,null,null,{"$f":"IF(T6=\"\",\"\",VLOOKUP(CONCATENATE(C6,\"_\",T6),選手名簿!$A:$H,5,FALSE))","v":""}]
[null,null,{"$f":"抽選会資料!C13","v":"ヴェルスパ大分　Ｕ－１２"},null,{"$f":"IF(D7=\"\",\"\",VLOOKUP(CONCATENATE(C7,\"_\",D7),選手名簿!$A:$H,5,FALSE))","v":""},null,null,null,{"$f":"IF(H7=\"\",\"\",VLOOKUP(CONCATENATE(C7,\"_\",H7),選手名簿!$A:$H,5,FALSE))","v":""},null,null,null,{"$f":"IF(L7=\"\",\"\",VLOOKUP(CONCATENATE(C7,\"_\",L7),選手名簿!$A:$H,5,FALSE))","v":""},null,null,null,{"$f":"IF(P7=\"\",\"\",VLOOKUP(CONCATENATE(C7,\"_\",P7),選手名簿!$A:$H,5,FALSE))","v":""},null,null,null,{"$f":"IF(T7=\"\",\"\",VLOOKUP(CONCATENATE(C7,\"_\",T7),選手名簿!$A:$H,5,FALSE))","v":""}]
[null,null,{"$f":"抽選会資料!C14","v":"東大分サッカースポーツ少年団"},null,{"$f":"IF(D8=\"\",\"\",VLOOKUP(CONCATENATE(C8,\"_\",D8),選手名簿!$A:$H,5,FALSE))","v":""},null,null,null,{"$f":"IF(H8=\"\",\"\",VLOOKUP(CONCATENATE(C8,\"_\",H8),選手名簿!$A:$H,5,FALSE))","v":""},null,null,null,{"$f":"IF(L8=\"\",\"\",VLOOKUP(CONCATENATE(C8,\"_\",L8),選手名簿!$A:$H,5,FALSE))","v":""},null,null,null,{"$f":"IF(P8=\"\",\"\",VLOOKUP(CONCATENATE(C8,\"_\",P8),選手名簿!$A:$H,5,FALSE))","v":""},null,null,null,{"$f":"IF(T8=\"\",\"\",VLOOKUP(CONCATENATE(C8,\"_\",T8),選手名簿!$A:$H,5,FALSE))","v":""}]
[null,null,{"$f":"抽選会資料!C15","v":"明治北ＳＳＣ"},null,{"$f":"IF(D9=\"\",\"\",VLOOKUP(CONCATENATE(C9,\"_\",D9),選手名簿!$A:$H,5,FALSE))","v":""},null,null,null,{"$f":"IF(H9=\"\",\"\",VLOOKUP(CONCATENATE(C9,\"_\",H9),選手名簿!$A:$H,5,FALSE))","v":""},null,null,null,{"$f":"IF(L9=\"\",\"\",VLOOKUP(CONCATENATE(C9,\"_\",L9),選手名簿!$A:$H,5,FALSE))","v":""},null,null,null,{"$f":"IF(P9=\"\",\"\",VLOOKUP(CONCATENATE(C9,\"_\",P9),選手名簿!$A:$H,5,FALSE))","v":""},null,null,null,{"$f":"IF(T9=\"\",\"\",VLOOKUP(CONCATENATE(C9,\"_\",T9),選手名簿!$A:$H,5,FALSE))","v":""}]
[null,null,{"$f":"抽選会資料!C16","v":"リノスフットボールクラブ　Ｕ－１２"},null,{"$f":"IF(D10=\"\",\"\",VLOOKUP(CONCATENATE(C10,\"_\",D10),選手名簿!$A:$H,5,FALSE))","v":""},null,null,null,{"$f":"IF(H10=\"\",\"\",VLOOKUP(CONCATENATE(C10,\"_\",H10),選手名簿!$A:$H,5,FALSE))","v":""},null,null,null,{"$f":"IF(L10=\"\",\"\",VLOOKUP(CONCATENATE(C10,\"_\",L10),選手名簿!$A:$H,5,FALSE))","v":""},null,null,null,{"$f":"IF(P10=\"\",\"\",VLOOKUP(CONCATENATE(C10,\"_\",P10),選手名簿!$A:$H,5,FALSE))","v":""},null,null,null,{"$f":"IF(T10=\"\",\"\",VLOOKUP(CONCATENATE(C10,\"_\",T10),選手名簿!$A:$H,5,FALSE))","v":""}]
[null,null,{"$f":"抽選会資料!C17","v":"ドリームキッズフットボールクラブ"},null,{"$f":"IF(D11=\"\",\"\",VLOOKUP(CONCATENATE(C11,\"_\",D11),選手名簿!$A:$H,5,FALSE))","v":""},null,null,null,{"$f":"IF(H11=\"\",\"\",VLOOKUP(CONCATENATE(C11,\"_\",H11),選手名簿!$A:$H,5,FALSE))","v":""},null,null,null,{"$f":"IF(L11=\"\",\"\",VLOOKUP(CONCATENATE(C11,\"_\",L11),選手名簿!$A:$H,5,FALSE))","v":""},null,null,null,{"$f":"IF(P11=\"\",\"\",VLOOKUP(CONCATENATE(C11,\"_\",P11),選手名簿!$A:$H,5,FALSE))","v":""},null,null,null,{"$f":"IF(T11=\"\",\"\",VLOOKUP(CONCATENATE(C11,\"_\",T11),選手名簿!$A:$H,5,FALSE))","v":""}]
[null,null,{"$f":"抽選会資料!C18","v":"宗方サッカークラブ"},null,{"$f":"IF(D12=\"\",\"\",VLOOKUP(CONCATENATE(C12,\"_\",D12),選手名簿!$A:$H,5,FALSE))","v":""},null,null,null,{"$f":"IF(H12=\"\",\"\",VLOOKUP(CONCATENATE(C12,\"_\",H12),選手名簿!$A:$H,5,FALSE))","v":""},null,null,null,{"$f":"IF(L12=\"\",\"\",VLOOKUP(CONCATENATE(C12,\"_\",L12),選手名簿!$A:$H,5,FALSE))","v":""},null,null,null,{"$f":"IF(P12=\"\",\"\",VLOOKUP(CONCATENATE(C12,\"_\",P12),選手名簿!$A:$H,5,FALSE))","v":""},null,null,null,{"$f":"IF(T12=\"\",\"\",VLOOKUP(CONCATENATE(C12,\"_\",T12),選手名簿!$A:$H,5,FALSE))","v":""}]
[null,null,{"$f":"抽選会資料!C19","v":"明治サッカースポーツ少年団"},null,{"$f":"IF(D13=\"\",\"\",VLOOKUP(CONCATENATE(C13,\"_\",D13),選手名簿!$A:$H,5,FALSE))","v":""},null,null,null,{"$f":"IF(H13=\"\",\"\",VLOOKUP(CONCATENATE(C13,\"_\",H13),選手名簿!$A:$H,5,FALSE))","v":""},null,null,null,{"$f":"IF(L13=\"\",\"\",VLOOKUP(CONCATENATE(C13,\"_\",L13),選手名簿!$A:$H,5,FALSE))","v":""},null,null,null,{"$f":"IF(P13=\"\",\"\",VLOOKUP(CONCATENATE(C13,\"_\",P13),選手名簿!$A:$H,5,FALSE))","v":""},null,null,null,{"$f":"IF(T13=\"\",\"\",VLOOKUP(CONCATENATE(C13,\"_\",T13),選手名簿!$A:$H,5,FALSE))","v":""}]
[null,null,{"$f":"抽選会資料!C20","v":"スマイス　セレソン　スポーツクラブ"},null,{"$f":"IF(D14=\"\",\"\",VLOOKUP(CONCATENATE(C14,\"_\",D14),選手名簿!$A:$H,5,FALSE))","v":""},null,null,null,{"$f":"IF(H14=\"\",\"\",VLOOKUP(CONCATENATE(C14,\"_\",H14),選手名簿!$A:$H,5,FALSE))","v":""},null,null,null,{"$f":"IF(L14=\"\",\"\",VLOOKUP(CONCATENATE(C14,\"_\",L14),選手名簿!$A:$H,5,FALSE))","v":""},null,null,null,{"$f":"IF(P14=\"\",\"\",VLOOKUP(CONCATENATE(C14,\"_\",P14),選手名簿!$A:$H,5,FALSE))","v":""},null,null,null,{"$f":"IF(T14=\"\",\"\",VLOOKUP(CONCATENATE(C14,\"_\",T14),選手名簿!$A:$H,5,FALSE))","v":""}]
[null,null,{"$f":"抽選会資料!C21","v":"大分トリニータタートルズ　キング"},null,{"$f":"IF(D15=\"\",\"\",VLOOKUP(CONCATENATE(C15,\"_\",D15),選手名簿!$A:$H,5,FALSE))","v":""},null,null,null,{"$f":"IF(H15=\"\",\"\",VLOOKUP(CONCATENATE(C15,\"_\",H15),選手名簿!$A:$H,5,FALSE))","v":""},null,null,null,{"$f":"IF(L15=\"\",\"\",VLOOKUP(CONCATENATE(C15,\"_\",L15),選手名簿!$A:$H,5,FALSE))","v":""},null,null,null,{"$f":"IF(P15=\"\",\"\",VLOOKUP(CONCATENATE(C15,\"_\",P15),選手名簿!$A:$H,5,FALSE))","v":""},null,null,null,{"$f":"IF(T15=\"\",\"\",VLOOKUP(CONCATENATE(C15,\"_\",T15),選手名簿!$A:$H,5,FALSE))","v":""}]
[null,"中津",{"$f":"抽選会資料!J11","v":"ＦＣ中津ジュニア"},null,{"$f":"IF(D16=\"\",\"\",VLOOKUP(CONCATENATE(C16,\"_\",D16),選手名簿!$A:$H,5,FALSE))","v":""},null,null,null,{"$f":"IF(H16=\"\",\"\",VLOOKUP(CONCATENATE(C16,\"_\",H16),選手名簿!$A:$H,5,FALSE))","v":""},null,null,null,{"$f":"IF(L16=\"\",\"\",VLOOKUP(CONCATENATE(C16,\"_\",L16),選手名簿!$A:$H,5,FALSE))","v":""},null,null,null,{"$f":"IF(P16=\"\",\"\",VLOOKUP(CONCATENATE(C16,\"_\",P16),選手名簿!$A:$H,5,FALSE))","v":""},null,null,null,{"$f":"IF(T16=\"\",\"\",VLOOKUP(CONCATENATE(C16,\"_\",T16),選手名簿!$A:$H,5,FALSE))","v":""}]
[null,null,{"$f":"抽選会資料!J12","v":"如水ジュニアサッカークラブ"},null,{"$f":"IF(D17=\"\",\"\",VLOOKUP(CONCATENATE(C17,\"_\",D17),選手名簿!$A:$H,5,FALSE))","v":""},null,null,null,{"$f":"IF(H17=\"\",\"\",VLOOKUP(CONCATENATE(C17,\"_\",H17),選手名簿!$A:$H,5,FALSE))","v":""},null,null,null,{"$f":"IF(L17=\"\",\"\",VLOOKUP(CONCATENATE(C17,\"_\",L17),選手名簿!$A:$H,5,FALSE))","v":""},null,null,null,{"$f":"IF(P17=\"\",\"\",VLOOKUP(CONCATENATE(C17,\"_\",P17),選手名簿!$A:$H,5,FALSE))","v":""},null,null,null,{"$f":"IF(T17=\"\",\"\",VLOOKUP(CONCATENATE(C17,\"_\",T17),選手名簿!$A:$H,5,FALSE))","v":""}]
[null,null,{"$f":"抽選会資料!J13","v":"下毛ＦＣ"},null,{"$f":"IF(D18=\"\",\"\",VLOOKUP(CONCATENATE(C18,\"_\",D18),選手名簿!$A:$H,5,FALSE))","v":""},null,null,null,{"$f":"IF(H18=\"\",\"\",VLOOKUP(CONCATENATE(C18,\"_\",H18),選手名簿!$A:$H,5,FALSE))","v":""},null,null,null,{"$f":"IF(L18=\"\",\"\",VLOOKUP(CONCATENATE(C18,\"_\",L18),選手名簿!$A:$H,5,FALSE))","v":""},null,null,null,{"$f":"IF(P18=\"\",\"\",VLOOKUP(CONCATENATE(C18,\"_\",P18),選手名簿!$A:$H,5,FALSE))","v":""},null,null,null,{"$f":"IF(T18=\"\",\"\",VLOOKUP(CONCATENATE(C18,\"_\",T18),選手名簿!$A:$H,5,FALSE))","v":""}]
[null,"速杵国東",{"$f":"抽選会資料!J14","v":"ＦＣ安岐"},null,{"$f":"IF(D19=\"\",\"\",VLOOKUP(CONCATENATE(C19,\"_\",D19),選手名簿!$A:$H,5,FALSE))","v":""},null,null,null,{"$f":"IF(H19=\"\",\"\",VLOOKUP(CONCATENATE(C19,\"_\",H19),選手名簿!$A:$H,5,FALSE))","v":""},null,null,null,{"$f":"IF(L19=\"\",\"\",VLOOKUP(CONCATENATE(C19,\"_\",L19),選手名簿!$A:$H,5,FALSE))","v":""},null,null,null,{"$f":"IF(P19=\"\",\"\",VLOOKUP(CONCATENATE(C19,\"_\",P19),選手名簿!$A:$H,5,FALSE))","v":""},null,null,null,{"$f":"IF(T19=\"\",\"\",VLOOKUP(CONCATENATE(C19,\"_\",T19),選手名簿!$A:$H,5,FALSE))","v":""}]
[null,null,{"$f":"抽選会資料!J15","v":"ＯＫＹ山香サッカークラブ"},null,{"$f":"IF(D20=\"\",\"\",VLOOKUP(CONCATENATE(C20,\"_\",D20),選手名簿!$A:$H,5,FALSE))","v":""},null,null,null,{"$f":"IF(H20=\"\",\"\",VLOOKUP(CONCATENATE(C20,\"_\",H20),選手名簿!$A:$H,5,FALSE))","v":""},null,null,null,{"$f":"IF(L20=\"\",\"\",VLOOKUP(CONCATENATE(C20,\"_\",L20),選手名簿!$A:$H,5,FALSE))","v":""},null,null,null,{"$f":"IF(P20=\"\",\"\",VLOOKUP(CONCATENATE(C20,\"_\",P20),選手名簿!$A:$H,5,FALSE))","v":""},null,null,null,{"$f":"IF(T20=\"\",\"\",VLOOKUP(CONCATENATE(C20,\"_\",T20),選手名簿!$A:$H,5,FALSE))","v":""}]
[null,"別府",{"$f":"抽選会資料!J16","v":"スマイス・セレソン"},null,{"$f":"IF(D21=\"\",\"\",VLOOKUP(CONCATENATE(C21,\"_\",D21),選手名簿!$A:$H,5,FALSE))","v":""},null,null,null,{"$f":"IF(H21=\"\",\"\",VLOOKUP(CONCATENATE(C21,\"_\",H21),選手名簿!$A:$H,5,FALSE))","v":""},null,null,null,{"$f":"IF(L21=\"\",\"\",VLOOKUP(CONCATENATE(C21,\"_\",L21),選手名簿!$A:$H,5,FALSE))","v":""},null,null,null,{"$f":"IF(P21=\"\",\"\",VLOOKUP(CONCATENATE(C21,\"_\",P21),選手名簿!$A:$H,5,FALSE))","v":""},null,null,null,{"$f":"IF(T21=\"\",\"\",VLOOKUP(CONCATENATE(C21,\"_\",T21),選手名簿!$A:$H,5,FALSE))","v":""}]
[null,null,{"$f":"抽選会資料!J17","v":"別府フットボールクラブ．ミネルバＵ－１２"},null,{"$f":"IF(D22=\"\",\"\",VLOOKUP(CONCATENATE(C22,\"_\",D22),選手名簿!$A:$H,5,FALSE))","v":""},null,null,null,{"$f":"IF(H22=\"\",\"\",VLOOKUP(CONCATENATE(C22,\"_\",H22),選手名簿!$A:$H,5,FALSE))","v":""},null,null,null,{"$f":"IF(L22=\"\",\"\",VLOOKUP(CONCATENATE(C22,\"_\",L22),選手名簿!$A:$H,5,FALSE))","v":""},null,null,null,{"$f":"IF(P22=\"\",\"\",VLOOKUP(CONCATENATE(C22,\"_\",P22),選手名簿!$A:$H,5,FALSE))","v":""},null,null,null,{"$f":"IF(T22=\"\",\"\",VLOOKUP(CONCATENATE(C22,\"_\",T22),選手名簿!$A:$H,5,FALSE))","v":""}]
[null,"日田/玖珠",{"$f":"抽選会資料!J18","v":"ＦＣアリアーレ"},null,{"$f":"IF(D23=\"\",\"\",VLOOKUP(CONCATENATE(C23,\"_\",D23),選手名簿!$A:$H,5,FALSE))","v":""},null,null,11,{"$f":"IF(H23=\"\",\"\",VLOOKUP(CONCATENATE(C23,\"_\",H23),選手名簿!$A:$H,5,FALSE))","v":"串尾　遼馬"},"警告","ラフ",null,{"$f":"IF(L23=\"\",\"\",VLOOKUP(CONCATENATE(C23,\"_\",L23),選手名簿!$A:$H,5,FALSE))","v":""},null,null,null,{"$f":"IF(P23=\"\",\"\",VLOOKUP(CONCATENATE(C23,\"_\",P23),選手名簿!$A:$H,5,FALSE))","v":""},null,null,null,{"$f":"IF(T23=\"\",\"\",VLOOKUP(CONCATENATE(C23,\"_\",T23),選手名簿!$A:$H,5,FALSE))","v":""}]
[null,null,{"$f":"抽選会資料!J19","v":"太陽スポーツクラブ大分西"},11,{"$f":"IF(D24=\"\",\"\",VLOOKUP(CONCATENATE(C24,\"_\",D24),選手名簿!$A:$H,5,FALSE))","v":"坂本　悠虎"},"警告","ラフ",null,{"$f":"IF(H24=\"\",\"\",VLOOKUP(CONCATENATE(C24,\"_\",H24),選手名簿!$A:$H,5,FALSE))","v":""},null,null,null,{"$f":"IF(L24=\"\",\"\",VLOOKUP(CONCATENATE(C24,\"_\",L24),選手名簿!$A:$H,5,FALSE))","v":""},null,null,8,{"$f":"IF(P24=\"\",\"\",VLOOKUP(CONCATENATE(C24,\"_\",P24),選手名簿!$A:$H,5,FALSE))","v":"伊藤　凛人"},"警告","反スポ",null,{"$f":"IF(T24=\"\",\"\",VLOOKUP(CONCATENATE(C24,\"_\",T24),選手名簿!$A:$H,5,FALSE))","v":""}]
[null,"宇佐高田",{"$f":"抽選会資料!J20","v":"ＦＣ　ＵＮＩＴＥ"},null,{"$f":"IF(D25=\"\",\"\",VLOOKUP(CONCATENATE(C25,\"_\",D25),選手名簿!$A:$H,5,FALSE))","v":""},null,null,null,{"$f":"IF(H25=\"\",\"\",VLOOKUP(CONCATENATE(C25,\"_\",H25),選手名簿!$A:$H,5,FALSE))","v":""},null,null,null,{"$f":"IF(L25=\"\",\"\",VLOOKUP(CONCATENATE(C25,\"_\",L25),選手名簿!$A:$H,5,FALSE))","v":""},null,null,null,{"$f":"IF(P25=\"\",\"\",VLOOKUP(CONCATENATE(C25,\"_\",P25),選手名簿!$A:$H,5,FALSE))","v":""},null,null,null,{"$f":"IF(T25=\"\",\"\",VLOOKUP(CONCATENATE(C25,\"_\",T25),選手名簿!$A:$H,5,FALSE))","v":""}]
[null,"佐伯",{"$f":"抽選会資料!J21","v":"弥生少年サッカークラブ"},null,{"$f":"IF(D26=\"\",\"\",VLOOKUP(CONCATENATE(C26,\"_\",D26),選手名簿!$A:$H,5,FALSE))","v":""},null,null,null,{"$f":"IF(H26=\"\",\"\",VLOOKUP(CONCATENATE(C26,\"_\",H26),選手名簿!$A:$H,5,FALSE))","v":""},null,null,null,{"$f":"IF(L26=\"\",\"\",VLOOKUP(CONCATENATE(C26,\"_\",L26),選手名簿!$A:$H,5,FALSE))","v":""},null,null,null,{"$f":"IF(P26=\"\",\"\",VLOOKUP(CONCATENATE(C26,\"_\",P26),選手名簿!$A:$H,5,FALSE))","v":""},null,null,null,{"$f":"IF(T26=\"\",\"\",VLOOKUP(CONCATENATE(C26,\"_\",T26),選手名簿!$A:$H,5,FALSE))","v":""}]
[null,"豊肥",{"$f":"抽選会資料!J22","v":"ＦＣ大野"},null,{"$f":"IF(D27=\"\",\"\",VLOOKUP(CONCATENATE(C27,\"_\",D27),選手名簿!$A:$H,5,FALSE))","v":""},null,null,null,{"$f":"IF(H27=\"\",\"\",VLOOKUP(CONCATENATE(C27,\"_\",H27),選手名簿!$A:$H,5,FALSE))","v":""},null,null,null,{"$f":"IF(L27=\"\",\"\",VLOOKUP(CONCATENATE(C27,\"_\",L27),選手名簿!$A:$H,5,FALSE))","v":""},null,null,null,{"$f":"IF(P27=\"\",\"\",VLOOKUP(CONCATENATE(C27,\"_\",P27),選手名簿!$A:$H,5,FALSE))","v":""},null,null,null,{"$f":"IF(T27=\"\",\"\",VLOOKUP(CONCATENATE(C27,\"_\",T27),選手名簿!$A:$H,5,FALSE))","v":""}]
[null,"臼杵/津久見",{"$f":"抽選会資料!J23","v":"千怒サッカースポーツ少年団"},null,{"$f":"IF(D28=\"\",\"\",VLOOKUP(CONCATENATE(C28,\"_\",D28),選手名簿!$A:$H,5,FALSE))","v":""},null,null,null,{"$f":"IF(H28=\"\",\"\",VLOOKUP(CONCATENATE(C28,\"_\",H28),選手名簿!$A:$H,5,FALSE))","v":""},null,null,null,{"$f":"IF(L28=\"\",\"\",VLOOKUP(CONCATENATE(C28,\"_\",L28),選手名簿!$A:$H,5,FALSE))","v":""},null,null,null,{"$f":"IF(P28=\"\",\"\",VLOOKUP(CONCATENATE(C28,\"_\",P28),選手名簿!$A:$H,5,FALSE))","v":""},null,null,null,{"$f":"IF(T28=\"\",\"\",VLOOKUP(CONCATENATE(C28,\"_\",T28),選手名簿!$A:$H,5,FALSE))","v":""}]

{"sheet":"予選リーグ","index":8,"n_rows":32,"n_cols":14,"rows_kept":32,"cut":false,"hidden":false,"merged":[[14,2,14,4],[14,11,14,13],[14,5,14,7],[16,11,16,13],[18,13,19,13],[18,11,19,11],[18,4,19,4],[18,5,19,5],[16,2,16,4],[16,5,16,7],[0,1,0,4],[26,2,27,2],[18,2,19,2],[20,2,21,2],[22,2,23,2],[18,1,19,1],[20,1,21,1],[26,4,27,4],[22,1,23,1],[13,2,13,7],[26,5,27,5],[20,7,21,7],[22,4,23,4],[18,7,19,7],[20,5,21,5],[1,2,1,3],[24,1,25,1],[24,0,25,0],[16,8,16,10],[18,8,19,8],[20,8,21,8],[22,8,23,8],[18,10,19,10],[18,0,19,0],[22,5,23,5],[20,4,21,4],[20,0,21,0],[22,0,23,0],[28,0,29,0],[30,0,31,0],[28,1,29,1],[30,1,31,1],[26,0,27,0],[26,1,27,1],[28,2,29,2],[30,2,31,2],[28,4,29,4],[30,7,31,7],[28,5,29,5],[30,5,31,5],[28,7,29,7],[30,11,31,11],[30,8,31,8],[20,10,21,10],[30,13,31,13],[28,10,29,10],[26,13,27,13],[26,11,27,11],[20,13,21,13],[22,13,23,13],[28,13,29,13],[30,10,31,10],[26,10,27,10],[28,11,29,11],[24,2,25,13],[28,8,29,8],[30,4,31,4],[1,6,1,7],[26,8,27,8],[22,11,23,11],[20,11,21,11],[22,10,23,10],[22,7,23,7],[26,7,27,7],[13,8,13,13],[14,8,14,10]]}
[null,"《予選リーグ日程》",null,null,null,"12月4日（土）"]
[null,null,"8:00",null,"グラウンド設営",null,"9:00",null,"監督会議"]
[]
[null,null,null,"「Aパート」",null,null,"「Bパート」",null,null,"「Eパート」",null,null,"「Fパート」"]
[null,null,null,{"$f":"組合せ抽選用!E5","v":"アリアーレ"},null,null,{"$f":"組合せ抽選用!E22","v":"安岐"},null,null,{"$f":"組合せ抽選用!E13","v":"大野"},null,null,{"$f":"組合せ抽選用!E30","v":"スマイス・セレソン"}]
[]
[null,null,{"$f":"組合せ抽選用!C9","v":"ドリームキッズ"},null,{"$f":"組合せ抽選用!F9","v":"ヴェルスパ"},{"$f":"組合せ抽選用!C26","v":"明治北"},null,{"$f":"組合せ抽選用!F26","v":"ＦＣ中津"},{"$f":"組合せ抽選用!C17","v":"スマイス　スポーツ"},null,{"$f":"組合せ抽選用!F17","v":"弥生"},{"$f":"組合せ抽選用!C34","v":"明治"},null,{"$f":"組合せ抽選用!F34","v":"ＵＮＩＴＥ"}]
[]
[null,null,null,"「Cパート」",null,null,"「Dパート」",null,null,"「Gパート」",null,null,"「Hパート」"]
[null,null,null,{"$f":"組合せ抽選用!L5","v":"ミネルバ"},null,null,{"$f":"組合せ抽選用!L22","v":"ＯＫＹ山香"},null,null,{"$f":"組合せ抽選用!L13","v":"下毛"},null,null,{"$f":"組合せ抽選用!L30","v":"如水"}]
[]
[null,null,{"$f":"組合せ抽選用!J9","v":"Ｍ．Ｓ．Ｓ"},null,{"$f":"組合せ抽選用!M9","v":"東大分"},{"$f":"組合せ抽選用!J26","v":"東陽"},null,{"$f":"組合せ抽選用!M26","v":"千怒"},{"$f":"組合せ抽選用!J17","v":"宗方"},null,{"$f":"組合せ抽選用!M17","v":"太陽大分西"},{"$f":"組合せ抽選用!J34","v":"リノス"},null,{"$f":"組合せ抽選用!M34","v":"タートルズ　キング"}]
[]
[null,null,"昭和電工ｻｯｶｰ･ﾗｸﾞﾋﾞｰ場　Bｺｰﾄ",null,null,null,null,null,"大分県ｻｯｶｰ協会人工芝ｸﾞﾗｳﾝﾄﾞ"]
[null,"開始時刻","「南」コート",null,null,"「北」コート",null,null,"「南」コート",null,null,"「北」コート"]
[null,"会場設営","ドリキ","ヴェルスパ","M.S.S","東大分","明治北","東陽","スマスポ","宗方",null,"明治","リノス","タートルズ"]
[null,"ｺﾞｰﾙ運搬"]
[null,"審判",null,"副審",null,null,"副審",null,null,"副審",null,null,"副審"]
["①","10:00:00",{"$f":"D5","v":"アリアーレ"},{"$f":"E12","v":"東大分"},{"$f":"C7","v":"ドリームキッズ"},{"$f":"G5","v":"安岐"},{"$f":"H12","v":"千怒"},{"$f":"F7","v":"明治北"},{"$f":"J5","v":"大野"},{"$f":"K12","v":"太陽大分西"},{"$f":"I7","v":"スマイス　スポーツ"},{"$f":"M5","v":"スマイス・セレソン"},{"$f":"N12","v":"タートルズ　キング"},{"$f":"L7","v":"明治"}]
[null,null,null,{"$f":"D10","v":"ミネルバ"},null,null,{"$f":"G10","v":"ＯＫＹ山香"},null,null,{"$f":"J10","v":"下毛"},null,null,{"$f":"M10","v":"如水"}]
["②","10:50:00",{"$f":"D10","v":"ミネルバ"},{"$f":"D5","v":"アリアーレ"},{"$f":"C12","v":"Ｍ．Ｓ．Ｓ"},{"$f":"G10","v":"ＯＫＹ山香"},{"$f":"G5","v":"安岐"},{"$f":"F12","v":"東陽"},{"$f":"J10","v":"下毛"},{"$f":"J5","v":"大野"},{"$f":"I12","v":"宗方"},{"$f":"M10","v":"如水"},{"$f":"M5","v":"スマイス・セレソン"},{"$f":"L12","v":"リノス"}]
[null,null,null,{"$f":"C7","v":"ドリームキッズ"},null,null,{"$f":"F7","v":"明治北"},null,null,{"$f":"I7","v":"スマイス　スポーツ"},null,null,{"$f":"L7","v":"明治"}]
["③","11:40:00",{"$f":"C7","v":"ドリームキッズ"},{"$f":"D10","v":"ミネルバ"},{"$f":"E7","v":"ヴェルスパ"},{"$f":"F7","v":"明治北"},{"$f":"G10","v":"ＯＫＹ山香"},{"$f":"H7","v":"ＦＣ中津"},{"$f":"I7","v":"スマイス　スポーツ"},{"$f":"J10","v":"下毛"},{"$f":"K7","v":"弥生"},{"$f":"L7","v":"明治"},{"$f":"M10","v":"如水"},{"$f":"N7","v":"ＵＮＩＴＥ"}]
[null,null,null,{"$f":"C12","v":"Ｍ．Ｓ．Ｓ"},null,null,{"$f":"F12","v":"東陽"},null,null,{"$f":"I12","v":"宗方"},null,null,{"$f":"L12","v":"リノス"}]
[null,"12:30:00","休　　　　　　憩"]
[]
["④","13:20:00",{"$f":"C12","v":"Ｍ．Ｓ．Ｓ"},{"$f":"C7","v":"ドリームキッズ"},{"$f":"E12","v":"東大分"},{"$f":"F12","v":"東陽"},{"$f":"F7","v":"明治北"},{"$f":"H12","v":"千怒"},{"$f":"I12","v":"宗方"},{"$f":"I7","v":"スマイス　スポーツ"},{"$f":"K12","v":"太陽大分西"},{"$f":"L12","v":"リノス"},{"$f":"L7","v":"明治"},{"$f":"N12","v":"タートルズ　キング"}]
[null,null,null,{"$f":"E7","v":"ヴェルスパ"},null,null,{"$f":"H7","v":"ＦＣ中津"},null,null,{"$f":"K7","v":"弥生"},null,null,{"$f":"N7","v":"ＵＮＩＴＥ"}]
["⑤","14:10:00",{"$f":"E7","v":"ヴェルスパ"},{"$f":"C12","v":"Ｍ．Ｓ．Ｓ"},{"$f":"D5","v":"アリアーレ"},{"$f":"H7","v":"ＦＣ中津"},{"$f":"F12","v":"東陽"},{"$f":"G5","v":"安岐"},{"$f":"K7","v":"弥生"},{"$f":"I12","v":"宗方"},{"$f":"J5","v":"大野"},{"$f":"N7","v":"ＵＮＩＴＥ"},{"$f":"L12","v":"リノス"},{"$f":"M5","v":"スマイス・セレソン"}]
[null,null,null,{"$f":"E12","v":"東大分"},null,null,{"$f":"H12","v":"千怒"},null,null,{"$f":"K12","v":"太陽大分西"},null,null,{"$f":"N12","v":"タートルズ　キング"}]
["⑥","15:00:00",{"$f":"E12","v":"東大分"},{"$f":"E7","v":"ヴェルスパ"},{"$f":"D10","v":"ミネルバ"},{"$f":"H12","v":"千怒"},{"$f":"H7","v":"ＦＣ中津"},{"$f":"G10","v":"ＯＫＹ山香"},{"$f":"K12","v":"太陽大分西"},{"$f":"K7","v":"弥生"},{"$f":"J10","v":"下毛"},{"$f":"N12","v":"タートルズ　キング"},{"$f":"N7","v":"ＵＮＩＴＥ"},{"$f":"M10","v":"如水"}]
[null,null,null,{"$f":"D5","v":"アリアーレ"},null,null,{"$f":"G5","v":"安岐"},null,null,{"$f":"J5","v":"大野"},null,null,{"$f":"M5","v":"スマイス・セレソン"}]

{"sheet":"予選リーグ (2)","index":9,"n_rows":77,"n_cols":53,"rows_kept":77,"cut":false,"hidden":false,"merged":[[75,52,76,53],[75,50,76,50],[73,50,74,50],[73,51,74,51],[73,52,74,53],[0,0,0,26],[0,28,0,54],[9,28,9,30],[9,0,9,2],[2,31,2,54],[3,49,3,54],[3,37,3,42],[3,43,3,48],[6,49,6,54],[4,43,4,48],[3,31,3,36],[4,31,4,36],[20,0,21,0],[20,1,21,2],[12,0,13,0],[12,1,13,2],[12,3,12,4],[13,3,13,4],[5,31,5,36],[75,45,76,45],[73,48,74,49],[75,46,76,46],[75,47,76,47],[75,48,76,49],[73,46,74,46],[73,45,74,45],[73,47,74,47],[75,51,76,51],[73,28,74,28],[75,42,76,42],[75,43,76,43],[75,44,76,44],[75,28,76,28],[75,29,75,30],[75,40,76,40],[75,41,76,41],[76,29,76,30],[73,40,74,40],[74,29,74,30],[73,42,74,42],[73,43,74,43],[73,44,74,44],[73,29,73,30],[73,41,74,41],[70,52,70,53],[70,50,70,51],[71,52,72,53],[71,50,72,50],[71,51,72,51],[71,28,72,28],[71,29,71,30],[71,40,72,40],[71,41,72,41],[72,29,72,30],[71,45,72,45],[71,42,72,42],[71,43,72,43],[71,44,72,44],[71,48,72,49],[71,46,72,46],[71,47,72,47],[68,29,68,30],[66,29,66,30],[67,48,68,49],[65,42,66,42],[65,28,66,28],[65,29,65,30],[65,40,66,40],[65,41,66,41],[70,31,70,33],[70,34,70,36],[70,37,70,39],[70,28,70,30],[67,28,68,28],[67,29,67,30],[70,46,70,47],[70,48,70,49],[65,46,66,46],[65,47,66,47],[65,48,66,49],[67,40,68,40],[67,41,68,41],[67,52,68,53],[65,44,66,44],[65,50,66,50],[65,51,66,51],[65,52,66,53],[67,51,68,51],[65,45,66,45],[67,50,68,50],[67,42,68,42],[67,43,68,43],[67,44,68,44],[67,45,68,45],[67,46,68,46],[67,47,68,47],[65,43,66,43],[62,52,62,53],[62,50,62,51],[63,52,64,53],[63,29,63,30],[63,40,64,40],[64,29,64,30],[63,51,64,51],[62,31,62,33],[62,34,62,36],[62,37,62,39],[63,45,64,45],[63,50,64,50],[63,48,64,49],[63,47,64,47],[63,46,64,46],[62,48,62,49],[62,46,62,47],[63,44,64,44],[59,41,60,41],[55,40,56,40],[55,45,56,45],[55,44,56,44],[55,43,56,43],[63,28,64,28],[63,42,64,42],[63,43,64,43],[63,41,64,41],[51,52,52,53],[51,50,52,50],[51,51,52,51],[57,52,58,53],[57,50,58,50],[57,51,58,51],[59,44,60,44],[57,44,58,44],[57,46,58,46],[59,52,60,53],[59,46,60,46],[59,47,60,47],[59,48,60,49],[59,51,60,51],[57,47,58,47],[57,48,58,49],[59,50,60,50],[59,45,60,45],[57,45,58,45],[67,22,68,22],[65,24,66,25],[62,24,62,25],[55,24,56,25],[54,31,54,33],[63,24,64,25],[51,44,52,44],[49,44,50,44],[57,40,58,40],[57,41,58,41],[59,42,60,42],[59,43,60,43],[57,42,58,42],[62,28,62,30],[59,28,60,28],[51,43,52,43],[59,29,59,30],[57,28,58,28],[58,29,58,30],[57,29,57,30],[60,29,60,30],[57,43,58,43],[55,41,56,41],[59,40,60,40],[73,16,74,16],[75,19,76,19],[67,24,68,25],[70,24,70,25],[75,20,76,21],[59,23,60,23],[73,22,74,22],[71,22,72,22],[71,23,72,23],[75,22,76,22],[73,23,74,23],[73,20,74,21],[63,23,64,23],[63,20,64,21],[63,22,64,22],[65,23,66,23],[65,22,66,22],[59,24,60,25],[75,23,76,23],[75,24,76,25],[67,23,68,23],[73,24,74,25],[70,22,70,23],[71,24,72,25],[75,0,76,0],[75,1,75,2],[75,12,76,12],[75,13,76,13],[76,1,76,2],[73,19,74,19],[75,14,76,14],[75,17,76,17],[71,1,71,2],[73,13,74,13],[74,1,74,2],[72,1,72,2],[71,12,72,12],[71,13,72,13],[75,15,76,15],[75,16,76,16],[73,12,74,12],[75,18,76,18],[71,15,72,15],[73,17,74,17],[73,18,74,18],[73,15,74,15],[71,16,72,16],[71,17,72,17],[71,0,72,0],[73,0,74,0],[73,1,73,2],[70,0,70,2],[70,3,70,5],[70,6,70,8],[70,9,70,11],[71,14,72,14],[73,14,74,14],[65,19,66,19],[65,20,66,21],[67,13,68,13],[67,0,68,0],[67,18,68,18],[67,17,68,17],[67,1,67,2],[67,12,68,12],[68,1,68,2],[71,20,72,21],[71,18,72,18],[70,18,70,19],[71,19,72,19],[70,20,70,21],[67,19,68,19],[67,14,68,14],[67,15,68,15],[67,16,68,16],[67,20,68,21],[63,0,64,0],[63,19,64,19],[62,18,62,19],[62,6,62,8],[62,9,62,11],[63,14,64,14],[63,15,64,15],[65,0,66,0],[65,1,65,2],[65,12,66,12],[65,13,66,13],[66,1,66,2],[63,16,64,16],[63,1,63,2],[63,12,64,12],[63,13,64,13],[64,1,64,2],[63,17,64,17],[65,14,66,14],[65,15,66,15],[65,16,66,16],[65,17,66,17],[63,18,64,18],[65,18,66,18],[60,1,60,2],[62,0,62,2],[62,3,62,5],[59,1,59,2],[57,14,58,14],[62,22,62,23],[57,20,58,21],[59,15,60,15],[59,16,60,16],[59,17,60,17],[59,20,60,21],[59,19,60,19],[59,18,60,18],[62,20,62,21],[59,22,60,22],[59,0,60,0],[59,12,60,12],[59,14,60,14],[57,19,58,19],[57,15,58,15],[57,16,58,16],[57,0,58,0],[57,1,57,2],[57,12,58,12],[47,52,48,53],[47,45,48,45],[47,43,48,43],[49,52,50,53],[49,48,50,49],[46,52,46,53],[46,50,46,51],[46,48,46,49],[59,13,60,13],[57,24,58,25],[49,45,50,45],[55,48,56,49],[55,47,56,47],[51,45,52,45],[54,48,54,49],[51,47,52,47],[54,46,54,47],[55,52,56,53],[55,50,56,50],[51,46,52,46],[55,46,56,46],[54,52,54,53],[54,50,54,51],[55,51,56,51],[12,49,12,51],[51,40,52,40],[13,31,13,32],[12,43,12,44],[14,40,14,42],[49,46,50,46],[49,47,50,47],[47,50,48,50],[47,48,48,49],[47,51,48,51],[51,48,52,49],[49,51,50,51],[49,50,50,50],[49,43,50,43],[46,31,46,33],[51,41,52,41],[49,41,50,41],[49,42,50,42],[47,40,48,40],[49,40,50,40],[46,34,46,36],[47,47,48,47],[47,46,48,46],[46,46,46,47],[47,44,48,44],[55,19,56,19],[47,41,48,41],[47,42,48,42],[54,24,54,25],[54,20,54,21],[54,34,54,36],[49,24,50,25],[51,28,52,28],[52,29,52,30],[54,37,54,39],[49,28,50,28],[49,29,49,30],[54,22,54,23],[51,23,52,23],[51,22,52,22],[24,12,24,14],[55,14,56,14],[22,12,22,14],[25,12,25,14],[47,14,48,14],[47,13,48,13],[51,42,52,42],[55,28,56,28],[55,29,55,30],[55,42,56,42],[56,29,56,30],[54,28,54,30],[51,24,52,25],[55,15,56,15],[55,16,56,16],[49,16,50,16],[49,14,50,14],[55,22,56,22],[55,23,56,23],[55,20,56,21],[46,37,46,39],[46,18,46,19],[22,21,22,23],[54,18,54,19],[57,13,58,13],[58,1,58,2],[49,15,50,15],[55,12,56,12],[55,13,56,13],[54,6,54,8],[51,0,52,0],[51,1,51,2],[55,0,56,0],[55,1,55,2],[56,1,56,2],[52,1,52,2],[54,0,54,2],[49,0,50,0],[49,1,49,2],[54,9,54,11],[51,12,52,12],[51,14,52,14],[51,13,52,13],[57,17,58,17],[57,18,58,18],[55,17,56,17],[55,18,56,18],[57,22,58,22],[57,23,58,23],[24,9,24,11],[4,28,6,30],[10,28,10,30],[49,22,50,22],[51,16,52,16],[51,17,52,17],[51,15,52,15],[47,16,48,16],[23,9,23,11],[23,12,23,14],[18,3,19,26],[21,9,21,11],[20,9,20,11],[22,15,22,16],[21,15,21,16],[21,17,21,19],[20,24,20,26],[21,12,21,14],[20,12,20,14],[47,28,48,28],[47,29,47,30],[49,13,50,13],[51,29,51,30],[50,29,50,30],[11,0,11,2],[10,0,10,2],[14,15,14,16],[13,9,13,11],[24,15,24,16],[25,15,25,16],[23,17,23,19],[16,9,16,11],[15,5,15,7],[17,9,17,11],[15,12,15,14],[16,12,16,14],[23,15,23,16],[48,1,48,2],[50,1,50,2],[46,9,46,11],[25,9,25,11],[13,5,13,7],[11,40,11,42],[5,3,5,8],[6,15,6,20],[10,15,10,26],[11,24,11,26],[10,3,10,14],[5,9,5,14],[12,12,12,14],[12,15,12,16],[12,31,12,32],[12,33,12,35],[12,40,12,42],[12,37,12,39],[12,24,12,26],[12,5,12,7],[12,9,12,11],[4,49,4,54],[5,49,5,54],[10,31,10,42],[5,43,5,48],[6,43,6,48],[10,43,10,54],[5,37,5,42],[6,37,6,42],[4,37,4,42],[6,31,6,36],[12,52,12,54],[23,3,23,4],[23,5,23,7],[20,5,20,7],[11,52,11,54],[16,0,17,0],[16,1,17,2],[16,3,16,4],[17,3,17,4],[14,5,14,7],[14,0,15,0],[14,1,15,2],[14,3,14,4],[15,3,15,4],[16,52,16,54],[13,52,13,54],[13,49,13,51],[14,52,14,54],[15,52,15,54],[14,49,14,51],[15,49,15,51],[11,12,11,14],[14,12,14,14],[14,9,14,11],[22,29,23,30],[46,20,46,21],[25,17,25,19],[14,24,14,26],[12,21,12,23],[13,17,13,19],[12,17,12,19],[16,28,17,28],[14,17,14,19],[21,24,21,26],[20,17,20,19],[22,17,22,19],[22,24,22,26],[20,21,20,23],[24,17,24,19],[13,24,13,26],[14,21,14,23],[13,45,13,47],[15,43,15,44],[15,31,15,32],[47,20,48,21],[24,28,25,28],[46,28,46,30],[47,22,48,22],[46,24,46,25],[47,23,48,23],[47,24,48,25],[46,22,46,23],[48,29,48,30],[23,24,23,26],[23,21,23,23],[25,45,25,47],[13,40,13,42],[14,45,14,47],[14,43,14,44],[13,33,13,35],[13,37,13,39],[25,43,25,44],[25,21,25,23],[25,37,25,39],[15,45,15,47],[12,45,12,47],[17,37,17,39],[17,45,17,47],[17,43,17,44],[16,40,16,42],[16,37,16,39],[15,40,15,42],[54,3,54,5],[13,12,13,14],[15,9,15,11],[22,9,22,11],[46,6,46,8],[49,20,50,21],[51,20,52,21],[49,17,50,17],[49,19,50,19],[20,15,20,16],[15,15,15,16],[16,15,16,16],[13,15,13,16],[17,15,17,16],[16,5,16,7],[17,5,17,7],[17,12,17,14],[47,17,48,17],[49,23,50,23],[47,12,48,12],[49,12,50,12],[47,18,48,18],[51,18,52,18],[49,18,50,18],[51,19,52,19],[47,15,48,15],[25,3,25,4],[22,0,23,0],[21,3,21,4],[24,3,24,4],[24,5,24,7],[21,5,21,7],[18,0,19,0],[18,1,19,2],[20,3,20,4],[14,37,14,39],[13,43,13,44],[2,0,2,2],[3,0,3,2],[4,0,6,2],[2,3,2,26],[3,3,3,8],[4,3,4,8],[6,3,6,8],[3,15,3,20],[4,15,4,20],[3,9,3,14],[4,9,4,14],[6,9,6,14],[3,21,3,26],[4,21,4,26],[6,21,6,26],[5,21,5,26],[5,15,5,20],[2,28,2,30],[3,28,3,30],[12,28,13,28],[12,29,13,30],[11,28,11,30],[47,0,48,0],[47,1,47,2],[13,21,13,23],[14,33,14,35],[15,21,15,23],[14,28,15,28],[14,29,15,30],[14,31,14,32],[15,24,15,26],[47,19,48,19],[25,24,25,26],[24,24,24,26],[24,21,24,23],[21,33,21,35],[22,1,23,2],[22,3,22,4],[46,3,46,5],[22,5,22,7],[46,0,46,2],[24,0,25,0],[24,1,25,2],[25,5,25,7],[18,28,19,28],[25,33,25,35],[21,31,21,32],[16,49,16,51],[16,45,16,47],[15,33,15,35],[16,33,16,35],[15,17,15,19],[16,29,17,30],[17,40,17,42],[17,49,17,51],[16,43,16,44],[16,17,16,19],[17,17,17,19],[17,21,17,23],[16,24,16,26],[17,24,17,26],[17,33,17,35],[16,31,16,32],[17,31,17,32],[16,21,16,23],[15,37,15,39],[21,21,21,23],[18,29,19,30],[25,52,25,54],[24,45,24,47],[23,40,23,42],[20,28,21,28],[23,37,23,39],[22,40,22,42],[20,37,20,39],[24,43,24,44],[22,28,23,28],[25,49,25,51],[25,40,25,42],[23,45,23,47],[22,43,22,44],[23,43,23,44],[20,43,20,44],[25,31,25,32],[24,29,25,30],[24,33,24,35],[24,31,24,32],[20,31,20,32],[20,33,20,35],[22,31,22,32],[22,33,22,35],[20,29,21,30],[17,52,17,54],[24,52,24,54],[20,49,20,51],[21,37,21,39],[21,43,21,44],[21,45,21,47],[21,49,21,51],[20,40,20,42],[24,37,24,39],[20,45,20,47],[24,40,24,42],[24,49,24,51],[20,52,20,54],[21,52,21,54],[22,52,22,54],[23,52,23,54],[18,31,19,54],[23,33,23,35],[21,40,21,42],[22,37,22,39],[23,31,23,32],[22,49,22,51],[23,49,23,51],[22,45,22,47]]}
["＜予選リーグ組み合わせ・結果＞",null,null,null,null,null,null,null,null,null,null,null,null,null,null,null,null,null,null,null,null,null,null,null,null,null,null,null,"＜予選リーグ組み合わせ・結果＞"]
[]
["会場",null,null,{"$f":"予選リーグ!C14","v":"昭和電工ｻｯｶｰ･ﾗｸﾞﾋﾞｰ場　Bｺｰﾄ"},null,null,null,null,null,null,null,null,null,null,null,null,null,null,null,null,null,null,null,null,null,null,null,null,"会場",null,null,{"$f":"予選リーグ!I14","v":"大分県ｻｯｶｰ協会人工芝ｸﾞﾗｳﾝﾄﾞ"}]
["グループ",null,null,"【　A　】",null,null,null,null,null,"【　C　】",null,null,null,null,null,"【　B　】",null,null,null,null,null,"【　D　】",null,null,null,null,null,null,"グループ",null,null,"【　E　】",null,null,null,null,null,"【　G　】",null,null,null,null,null,"【　F　】",null,null,null,null,null,"【　H　】"]
["チーム",null,null,{"$f":"予選リーグ!D5","v":"アリアーレ"},null,null,null,null,null,{"$f":"予選リーグ!D10","v":"ミネルバ"},null,null,null,null,null,{"$f":"予選リーグ!G5","v":"安岐"},null,null,null,null,null,{"$f":"予選リーグ!G10","v":"ＯＫＹ山香"},null,null,null,null,null,null,"チーム",null,null,{"$f":"予選リーグ!J5","v":"大野"},null,null,null,null,null,{"$f":"予選リーグ!J10","v":"下毛"},null,null,null,null,null,{"$f":"予選リーグ!M5","v":"スマイス・セレソン"},null,null,null,null,null,{"$f":"予選リーグ!M10","v":"如水"}]
[null,null,null,{"$f":"予選リーグ!C7","v":"ドリームキッズ"},null,null,null,null,null,{"$f":"予選リーグ!C12","v":"Ｍ．Ｓ．Ｓ"},null,null,null,null,null,{"$f":"予選リーグ!F7","v":"明治北"},null,null,null,null,null,{"$f":"予選リーグ!F12","v":"東陽"},null,null,null,null,null,null,null,null,null,{"$f":"予選リーグ!I7","v":"スマイス　スポーツ"},null,null,null,null,null,{"$f":"予選リーグ!I12","v":"宗方"},null,null,null,null,null,{"$f":"予選リーグ!L7","v":"明治"},null,null,null,null,null,{"$f":"予選リーグ!L12","v":"リノス"}]
[null,null,null,{"$f":"予選リーグ!E7","v":"ヴェルスパ"},null,null,null,null,null,{"$f":"予選リーグ!E12","v":"東大分"},null,null,null,null,null,{"$f":"予選リーグ!H7","v":"ＦＣ中津"},null,null,null,null,null,{"$f":"予選リーグ!H12","v":"千怒"},null,null,null,null,null,null,null,null,null,{"$f":"予選リーグ!K7","v":"弥生"},null,null,null,null,null,{"$f":"予選リーグ!K12","v":"太陽大分西"},null,null,null,null,null,{"$f":"予選リーグ!N7","v":"ＵＮＩＴＥ"},null,null,null,null,null,{"$f":"予選リーグ!N12","v":"タートルズ　キング"}]
[]
[]
["【組合せ・時間割】",null,null,null,null,null,null,null,null,null,null,null,null,null,null,null,null,null,null,null,null,null,null,null,null,null,null,null,"【組合せ・時間割】"]
["コート",null,null,{"$f":"予選リーグ!C15","v":"「南」コート"},null,null,null,null,null,null,null,null,null,null,null,{"$f":"予選リーグ!F15","v":"「北」コート"},null,null,null,null,null,null,null,null,null,null,null,null,"コート",null,null,{"$f":"予選リーグ!I15","v":"「南」コート"},null,null,null,null,null,null,null,null,null,null,null,{"$f":"予選リーグ!L15","v":"「北」コート"}]
["試合時間",null,null,null,null,null,null,null,"対戦相手",null,null,null,"副審",null,null,null,null,null,null,null,"対戦相手",null,null,null,"副審",null,null,null,"試合時間",null,null,null,null,null,null,null,"対戦相手",null,null,null,"副審",null,null,null,null,null,null,null,"対戦相手",null,null,null,"副審"]
["①",{"$f":"予選リーグ!B19","v":"10:00:00"},null,"チーム名",null,{"$f":"予選リーグ!C19","v":"アリアーレ"},null,null,"-",{"$f":"予選リーグ!E19","v":"ドリームキッズ"},null,null,{"$f":"予選リーグ!D19","v":"東大分"},null,null,"チーム名",null,{"$f":"予選リーグ!F19","v":"安岐"},null,null,"-",{"$f":"予選リーグ!H19","v":"明治北"},null,null,{"$f":"予選リーグ!G19","v":"千怒"},null,null,null,"①",{"$f":"予選リーグ!B19","v":"10:00:00"},null,"チーム名",null,{"$f":"予選リーグ!I19","v":"大野"},null,null,"-",{"$f":"予選リーグ!K19","v":"スマイス　スポーツ"},null,null,{"$f":"予選リーグ!J19","v":"太陽大分西"},null,null,"チーム名",null,{"$f":"予選リーグ!L19","v":"スマイス・セレソン"},null,null,"-",{"$f":"予選リーグ!N19","v":"明治"},null,null,{"$f":"予選リーグ!M19","v":"タートルズ　キング"}]
[null,null,null,"得失点",null,0,null,null,"-",4,null,null,{"$f":"予選リーグ!D20","v":"ミネルバ"},null,null,"得失点",null,0,null,null,"-",5,null,null,{"$f":"予選リーグ!G20","v":"ＯＫＹ山香"},null,null,null,null,null,null,"得失点",null,0,null,null,"-",4,null,null,{"$f":"予選リーグ!J20","v":"下毛"},null,null,"得失点",null,0,null,null,"-",0,null,null,{"$f":"予選リーグ!M20","v":"如水"}]
["②",{"$f":"予選リーグ!B21","v":"10:50:00"},null,"チーム名",null,{"$f":"予選リーグ!C21","v":"ミネルバ"},null,null,"-",{"$f":"予選リーグ!E21","v":"Ｍ．Ｓ．Ｓ"},null,null,{"$f":"予選リーグ!D21","v":"アリアーレ"},null,null,"チーム名",null,{"$f":"予選リーグ!F21","v":"ＯＫＹ山香"},null,null,"-",{"$f":"予選リーグ!H21","v":"東陽"},null,null,{"$f":"予選リーグ!G21","v":"安岐"},null,null,null,"②",{"$f":"予選リーグ!B21","v":"10:50:00"},null,"チーム名",null,{"$f":"予選リーグ!I21","v":"下毛"},null,null,"-",{"$f":"予選リーグ!K21","v":"宗方"},null,null,{"$f":"予選リーグ!J21","v":"大野"},null,null,"チーム名",null,{"$f":"予選リーグ!L21","v":"如水"},null,null,"-",{"$f":"予選リーグ!N21","v":"リノス"},null,null,{"$f":"予選リーグ!M21","v":"スマイス・セレソン"}]
[null,null,null,"得失点",null,0,null,null,"-",1,null,null,{"$f":"予選リーグ!D22","v":"ドリームキッズ"},null,null,"得失点",null,0,null,null,"-",7,null,null,{"$f":"予選リーグ!G22","v":"明治北"},null,null,null,null,null,null,"得失点",null,2,null,null,"-",0,null,null,{"$f":"予選リーグ!J22","v":"スマイス　スポーツ"},null,null,"得失点",null,1,null,null,"-",1,null,null,{"$f":"予選リーグ!M22","v":"明治"}]
["③",{"$f":"予選リーグ!B23","v":"11:40:00"},null,"チーム名",null,{"$f":"予選リーグ!C23","v":"ドリームキッズ"},null,null,"-",{"$f":"予選リーグ!E23","v":"ヴェルスパ"},null,null,{"$f":"予選リーグ!D23","v":"ミネルバ"},null,null,"チーム名",null,{"$f":"予選リーグ!F23","v":"明治北"},null,null,"-",{"$f":"予選リーグ!H23","v":"ＦＣ中津"},null,null,{"$f":"予選リーグ!G23","v":"ＯＫＹ山香"},null,null,null,"③",{"$f":"予選リーグ!B23","v":"11:40:00"},null,"チーム名",null,{"$f":"予選リーグ!I23","v":"スマイス　スポーツ"},null,null,"-",{"$f":"予選リーグ!K23","v":"弥生"},null,null,{"$f":"予選リーグ!J23","v":"下毛"},null,null,"チーム名",null,{"$f":"予選リーグ!L23","v":"明治"},null,null,"-",{"$f":"予選リーグ!N23","v":"ＵＮＩＴＥ"},null,null,{"$f":"予選リーグ!M23","v":"如水"}]
[null,null,null,"得失点",null,4,null,null,"-",0,null,null,{"$f":"予選リーグ!D24","v":"Ｍ．Ｓ．Ｓ"},null,null,"得失点",null,0,null,null,"-",1,null,null,{"$f":"予選リーグ!G24","v":"東陽"},null,null,null,null,null,null,"得失点",null,2,null,null,"-",0,null,null,{"$f":"予選リーグ!J24","v":"宗方"},null,null,"得失点",null,2,null,null,"-",0,null,null,{"$f":"予選リーグ!M24","v":"リノス"}]
[null,{"$f":"予選リーグ!B25","v":"12:30:00"},null,"休　　　　憩",null,null,null,null,null,null,null,null,null,null,null,null,null,null,null,null,null,null,null,null,null,null,null,null,null,{"$f":"予選リーグ!B27","v":"13:20:00"},null,"休　　　　憩"]
[]
["④",{"$f":"予選リーグ!B27","v":"13:20:00"},null,"チーム名",null,{"$f":"予選リーグ!C27","v":"Ｍ．Ｓ．Ｓ"},null,null,"-",{"$f":"予選リーグ!E27","v":"東大分"},null,null,{"$f":"予選リーグ!D27","v":"ドリームキッズ"},null,null,"チーム名",null,{"$f":"予選リーグ!F27","v":"東陽"},null,null,"-",{"$f":"予選リーグ!H27","v":"千怒"},null,null,{"$f":"予選リーグ!G27","v":"明治北"},null,null,null,"④",{"$f":"予選リーグ!B25","v":"12:30:00"},null,"チーム名",null,{"$f":"予選リーグ!I27","v":"宗方"},null,null,"-",{"$f":"予選リーグ!K27","v":"太陽大分西"},null,null,{"$f":"予選リーグ!J27","v":"スマイス　スポーツ"},null,null,"チーム名",null,{"$f":"予選リーグ!L27","v":"リノス"},null,null,"-",{"$f":"予選リーグ!N27","v":"タートルズ　キング"},null,null,{"$f":"予選リーグ!M27","v":"明治"}]
[null,null,null,"得失点",null,3,null,null,"-",4,null,null,{"$f":"予選リーグ!D28","v":"ヴェルスパ"},null,null,"得失点",null,0,null,null,"-",1,null,null,{"$f":"予選リーグ!G28","v":"ＦＣ中津"},null,null,null,null,null,null,"得失点",null,0,null,null,"-",2,null,null,{"$f":"予選リーグ!J28","v":"弥生"},null,null,"得失点",null,0,null,null,"-",0,null,null,{"$f":"予選リーグ!M28","v":"ＵＮＩＴＥ"}]
["⑤",{"$f":"予選リーグ!B29","v":"14:10:00"},null,"チーム名",null,{"$f":"予選リーグ!C29","v":"ヴェルスパ"},null,null,"-",{"$f":"予選リーグ!E29","v":"アリアーレ"},null,null,{"$f":"予選リーグ!D29","v":"Ｍ．Ｓ．Ｓ"},null,null,"チーム名",null,{"$f":"予選リーグ!F29","v":"ＦＣ中津"},null,null,"-",{"$f":"予選リーグ!H29","v":"安岐"},null,null,{"$f":"予選リーグ!G29","v":"東陽"},null,null,null,"⑤",{"$f":"予選リーグ!B29","v":"14:10:00"},null,"チーム名",null,{"$f":"予選リーグ!I29","v":"弥生"},null,null,"-",{"$f":"予選リーグ!K29","v":"大野"},null,null,{"$f":"予選リーグ!J29","v":"宗方"},null,null,"チーム名",null,{"$f":"予選リーグ!L29","v":"ＵＮＩＴＥ"},null,null,"-",{"$f":"予選リーグ!N29","v":"スマイス・セレソン"},null,null,{"$f":"予選リーグ!M29","v":"リノス"}]
[null,null,null,"得失点",null,3,null,null,"-",3,null,null,{"$f":"予選リーグ!D30","v":"東大分"},null,null,"得失点",null,7,null,null,"-",1,null,null,{"$f":"予選リーグ!G30","v":"千怒"},null,null,null,null,null,null,"得失点",null,2,null,null,"-",1,null,null,{"$f":"予選リーグ!J30","v":"太陽大分西"},null,null,"得失点",null,1,null,null,"-",7,null,null,{"$f":"予選リーグ!M30","v":"タートルズ　キング"}]
["⑥",{"$f":"予選リーグ!B31","v":"15:00:00"},null,"チーム名",null,{"$f":"予選リーグ!C31","v":"東大分"},null,null,"-",{"$f":"予選リーグ!E31","v":"ミネルバ"},null,null,{"$f":"予選リーグ!D31","v":"ヴェルスパ"},null,null,"チーム名",null,{"$f":"予選リーグ!F31","v":"千怒"},null,null,"-",{"$f":"予選リーグ!H31","v":"ＯＫＹ山香"},null,null,{"$f":"予選リーグ!G31","v":"ＦＣ中津"},null,null,null,"⑥",{"$f":"予選リーグ!B31","v":"15:00:00"},null,"チーム名",null,{"$f":"予選リーグ!I31","v":"太陽大分西"},null,null,"-",{"$f":"予選リーグ!K31","v":"下毛"},null,null,{"$f":"予選リーグ!J31","v":"弥生"},null,null,"チーム名",null,{"$f":"予選リーグ!L31","v":"タートルズ　キング"},null,null,"-",{"$f":"予選リーグ!N31","v":"如水"},null,null,{"$f":"予選リーグ!M31","v":"ＵＮＩＴＥ"}]
[null,null,null,"得失点",null,0,null,null,"-",2,null,null,{"$f":"予選リーグ!D32","v":"アリアーレ"},null,null,"得失点",null,5,null,null,"-",0,null,null,{"$f":"予選リーグ!G32","v":"安岐"},null,null,null,null,null,null,"得失点",null,1,null,null,"-",0,null,null,{"$f":"予選リーグ!J32","v":"大野"},null,null,"得失点",null,2,null,null,"-",1,null,null,{"$f":"予選リーグ!M32","v":"スマイス・セレソン"}]
[]
[]
[]
[]
[]
[]
[]
[]
[]
[]
[]
[]
[]
[]
[]
[]
[]
[]
[null,null,null,null,null,"勝点表","勝",3,null,"分",1,null,"負",0,null,null,null,null,null,null,null,null,null,null,null,null,null,null,null,null,null,null,null,"勝点表","勝",3,null,"分",1,null,"負",0]
[]
["Aパート",null,null,{"$f":"A48","v":"アリアーレ"},null,null,{"$f":"A50","v":"ドリームキッズ"},null,null,{"$f":"A52","v":"ヴェルスパ"},null,null,"勝","分","敗","得\n点","失\n点","勝\n点","勝点\n順位",null,"得失\n点差",null,"得失\n順位",null,"ﾄｰﾀﾙ\n順位",null,null,null,"Eパート",null,null,{"$f":"AC48","v":"大野"},null,null,{"$f":"AC50","v":"スマイス　スポーツ"},null,null,{"$f":"AC52","v":"弥生"},null,null,"勝","分","敗","得\n点","失\n点","勝\n点","勝点\n順位",null,"得失\n点差",null,"得失\n順位",null,"ﾄｰﾀﾙ\n順位"]
[{"$f":"予選リーグ!D5","v":"アリアーレ"},"星取表",null,null,null,null,null,{"$f":"IF(G49=\"\",\"\",IF(G49>I49,\"○\",IF(G49<I49,\"●\",IF(G49=I49,\"△\"))))","v":"●"},null,null,{"$f":"IF(J49=\"\",\"\",IF(J49>L49,\"○\",IF(J49<L49,\"●\",IF(J49=L49,\"△\"))))","v":"△"},null,{"$f":"COUNTIF(D48:L48,\"○\")","v":0},{"$f":"COUNTIF(D48:L48,\"△\")+COUNTIF(D48:L48,\"▲\")","v":1},{"$f":"COUNTIF(D48:L48,\"●\")","v":1},{"$f":"SUM(D49,G49,J49)","v":3},{"$f":"SUM(F49,I49,L49)","v":7},{"$f":"(M48*3)+(N48*1)","v":1},{"$f":"RANK(R48,R$48:R$53)","v":2},"位",{"$f":"P48-Q48","v":-4},null,{"$f":"RANK(U48,U$48:U$53)","v":2},"位",2,null,null,null,{"$f":"予選リーグ!J5","v":"大野"},"星取表",null,null,null,null,null,{"$f":"IF(AI49=\"\",\"\",IF(AI49>AK49,\"○\",IF(AI49<AK49,\"●\",IF(AI49=AK49,\"△\"))))","v":"●"},null,null,{"$f":"IF(AL49=\"\",\"\",IF(AL49>AN49,\"○\",IF(AL49<AN49,\"●\",IF(AL49=AN49,\"△\"))))","v":"●"},null,{"$f":"COUNTIF(AF48:AN48,\"○\")","v":0},{"$f":"COUNTIF(AF48:AN48,\"△\")+COUNTIF(AF48:AN48,\"▲\")","v":0},{"$f":"COUNTIF(AF48:AN48,\"●\")","v":2},{"$f":"SUM(AF49,AI49,AL49)","v":1},{"$f":"SUM(AH49,AK49,AN49)","v":6},{"$f":"(AO48*3)+(AP48*1)","v":0},{"$f":"RANK(AT48,AT$48:AT$53)","v":3},"位",{"$f":"AR48-AS48","v":-5},null,{"$f":"RANK(AW48,AW$48:AW$53)","v":3},"位",3]
[null,"得失点",null,null,null,null,{"$f":"F14","v":0},"-",{"$f":"J14","v":4},{"$f":"J24","v":3},"-",{"$f":"F24","v":3},null,null,null,null,null,null,null,null,null,null,null,null,null,null,null,null,null,"得失点",null,null,null,null,{"$f":"AH14","v":0},"-",{"$f":"AL14","v":4},{"$f":"AL24","v":1},"-",{"$f":"AH24","v":2}]
[{"$f":"予選リーグ!C7","v":"ドリームキッズ"},"星取表",null,null,{"$f":"IF(D51=\"\",\"\",IF(D51>F51,\"○\",IF(D51<F51,\"●\",IF(D51=F51,\"△\"))))","v":"○"},null,null,null,null,null,{"$f":"IF(J51=\"\",\"\",IF(J51>L51,\"○\",IF(J51<L51,\"●\",IF(J51=L51,\"△\"))))","v":"○"},null,{"$f":"COUNTIF(D50:L50,\"○\")","v":2},{"$f":"COUNTIF(D50:L50,\"△\")+COUNTIF(D50:L50,\"▲\")","v":0},{"$f":"COUNTIF(D50:L50,\"●\")","v":0},{"$f":"SUM(D51,G51,J51)","v":8},{"$f":"SUM(F51,I51,L51)","v":0},{"$f":"(M50*3)+(N50*1)","v":6},{"$f":"RANK(R50,R$48:R$53)","v":1},"位",{"$f":"P50-Q50","v":8},null,{"$f":"RANK(U50,U$48:U$53)","v":1},"位",1,null,null,null,{"$f":"予選リーグ!I7","v":"スマイス　スポーツ"},"星取表",null,null,{"$f":"IF(AF51=\"\",\"\",IF(AF51>AH51,\"○\",IF(AF51<AH51,\"●\",IF(AF51=AH51,\"△\"))))","v":"○"},null,null,null,null,null,{"$f":"IF(AL51=\"\",\"\",IF(AL51>AN51,\"○\",IF(AL51<AN51,\"●\",IF(AL51=AN51,\"△\"))))","v":"○"},null,{"$f":"COUNTIF(AF50:AN50,\"○\")","v":2},{"$f":"COUNTIF(AF50:AN50,\"△\")+COUNTIF(AF50:AN50,\"▲\")","v":0},{"$f":"COUNTIF(AF50:AN50,\"●\")","v":0},{"$f":"SUM(AF51,AI51,AL51)","v":6},{"$f":"SUM(AH51,AK51,AN51)","v":0},{"$f":"(AO50*3)+(AP50*1)","v":6},{"$f":"RANK(AT50,AT$48:AT$53)","v":1},"位",{"$f":"AR50-AS50","v":6},null,{"$f":"RANK(AW50,AW$48:AW$53)","v":1},"位",1]
[null,"得失点",null,{"$f":"I49","v":4},"-",{"$f":"G49","v":0},null,null,null,{"$f":"F18","v":4},"-",{"$f":"J18","v":0},null,null,null,null,null,null,null,null,null,null,null,null,null,null,null,null,null,"得失点",null,{"$f":"AK49","v":4},"-",{"$f":"AI49","v":0},null,null,null,{"$f":"AH18","v":2},"-",{"$f":"AL18","v":0}]
[{"$f":"予選リーグ!E7","v":"ヴェルスパ"},"星取表",null,null,{"$f":"IF(D53=\"\",\"\",IF(D53>F53,\"○\",IF(D53<F53,\"●\",IF(D53=F53,\"△\"))))","v":"△"},null,null,{"$f":"IF(G53=\"\",\"\",IF(G53>I53,\"○\",IF(G53<I53,\"●\",IF(G53=I53,\"△\"))))","v":"●"},null,null,null,null,{"$f":"COUNTIF(D52:L52,\"○\")","v":0},{"$f":"COUNTIF(D52:L52,\"△\")+COUNTIF(D52:L52,\"▲\")","v":1},{"$f":"COUNTIF(D52:L52,\"●\")","v":1},{"$f":"SUM(D53,G53,J53)","v":3},{"$f":"SUM(F53,I53,L53)","v":7},{"$f":"(M52*3)+(N52*1)","v":1},{"$f":"RANK(R52,R$48:R$53)","v":2},"位",{"$f":"P52-Q52","v":-4},null,{"$f":"RANK(U52,U$48:U$53)","v":2},"位",2,null,null,null,{"$f":"予選リーグ!K7","v":"弥生"},"星取表",null,null,{"$f":"IF(AF53=\"\",\"\",IF(AF53>AH53,\"○\",IF(AF53<AH53,\"●\",IF(AF53=AH53,\"△\"))))","v":"○"},null,null,{"$f":"IF(AI53=\"\",\"\",IF(AI53>AK53,\"○\",IF(AI53<AK53,\"●\",IF(AI53=AK53,\"△\"))))","v":"●"},null,null,null,null,{"$f":"COUNTIF(AF52:AN52,\"○\")","v":1},{"$f":"COUNTIF(AF52:AN52,\"△\")+COUNTIF(AF52:AN52,\"▲\")","v":0},{"$f":"COUNTIF(AF52:AN52,\"●\")","v":1},{"$f":"SUM(AF53,AI53,AL53)","v":2},{"$f":"SUM(AH53,AK53,AN53)","v":3},{"$f":"(AO52*3)+(AP52*1)","v":3},{"$f":"RANK(AT52,AT$48:AT$53)","v":2},"位",{"$f":"AR52-AS52","v":-1},null,{"$f":"RANK(AW52,AW$48:AW$53)","v":2},"位",2]
[null,"得失点",null,{"$f":"L49","v":3},"-",{"$f":"J49","v":3},{"$f":"L51","v":0},"-",{"$f":"J51","v":4},null,null,null,null,null,null,null,null,null,null,null,null,null,null,null,null,null,null,null,null,"得失点",null,{"$f":"AN49","v":2},"-",{"$f":"AL49","v":1},{"$f":"AN51","v":0},"-",{"$f":"AL51","v":2}]
[]
["Bパート",null,null,{"$f":"A56","v":"安岐"},null,null,{"$f":"A58","v":"明治北"},null,null,{"$f":"A60","v":"ＦＣ中津"},null,null,"勝","分","敗","得\n点","失\n点","勝\n点","勝点\n順位",null,"得失\n点差",null,"得失\n順位",null,"ﾄｰﾀﾙ\n順位",null,null,null,"Fパート",null,null,{"$f":"AC56","v":"スマイス・セレソン"},null,null,{"$f":"AC58","v":"明治"},null,null,{"$f":"AC60","v":"ＵＮＩＴＥ"},null,null,"勝","分","敗","得\n点","失\n点","勝\n点","勝点\n順位",null,"得失\n点差",null,"得失\n順位",null,"ﾄｰﾀﾙ\n順位"]
[{"$f":"予選リーグ!G5","v":"安岐"},"星取表",null,null,null,null,null,{"$f":"IF(G57=\"\",\"\",IF(G57>I57,\"○\",IF(G57<I57,\"●\",IF(G57=I57,\"△\"))))","v":"●"},null,null,{"$f":"IF(J57=\"\",\"\",IF(J57>L57,\"○\",IF(J57<L57,\"●\",IF(J57=L57,\"△\"))))","v":"●"},null,{"$f":"COUNTIF(D56:L56,\"○\")","v":0},{"$f":"COUNTIF(D56:L56,\"△\")+COUNTIF(D56:L56,\"▲\")","v":0},{"$f":"COUNTIF(D56:L56,\"●\")","v":2},{"$f":"SUM(D57,G57,J57)","v":1},{"$f":"SUM(F57,I57,L57)","v":12},{"$f":"(M56*3)+(N56*1)","v":0},{"$f":"RANK(R56,$R$56:$R$61)","v":3},"位",{"$f":"P56-Q56","v":-11},null,{"$f":"RANK(U56,$U$56:$V$61)","v":3},"位",3,null,null,null,{"$f":"予選リーグ!M5","v":"スマイス・セレソン"},"星取表",null,null,null,null,null,{"$f":"IF(AI57=\"\",\"\",IF(AI57>AK57,\"○\",IF(AI57<AK57,\"●\",IF(AI57=AK57,\"△\"))))","v":"△"},null,null,{"$f":"IF(AL57=\"\",\"\",IF(AL57>AN57,\"○\",IF(AL57<AN57,\"●\",IF(AL57=AN57,\"△\"))))","v":"○"},null,{"$f":"COUNTIF(AF56:AN56,\"○\")","v":1},{"$f":"COUNTIF(AF56:AN56,\"△\")+COUNTIF(AF56:AN56,\"▲\")","v":1},{"$f":"COUNTIF(AF56:AN56,\"●\")","v":0},{"$f":"SUM(AF57,AI57,AL57)","v":7},{"$f":"SUM(AH57,AK57,AN57)","v":1},{"$f":"(AO56*3)+(AP56*1)","v":4},{"$f":"RANK(AT56,$AT$56:$AT$61)","v":1},"位",{"$f":"AR56-AS56","v":6},null,{"$f":"RANK(AW56,$AW$56:$AW$61)","v":1},"位",1]
[null,"得失点",null,null,null,null,{"$f":"R14","v":0},"-",{"$f":"V14","v":5},{"$f":"V24","v":1},"-",{"$f":"R24","v":7},null,null,null,null,null,null,null,null,null,null,null,null,null,null,null,null,null,"得失点",null,null,null,null,{"$f":"AT14","v":0},"-",{"$f":"AX14","v":0},{"$f":"AX24","v":7},"-",{"$f":"AT24","v":1}]
[{"$f":"予選リーグ!F7","v":"明治北"},"星取表",null,null,{"$f":"IF(D59=\"\",\"\",IF(D59>F59,\"○\",IF(D59<F59,\"●\",IF(D59=F59,\"△\"))))","v":"○"},null,null,null,null,null,{"$f":"IF(J59=\"\",\"\",IF(J59>L59,\"○\",IF(J59<L59,\"●\",IF(J59=L59,\"△\"))))","v":"●"},null,{"$f":"COUNTIF(D58:L58,\"○\")","v":1},{"$f":"COUNTIF(D58:L58,\"△\")+COUNTIF(D58:L58,\"▲\")","v":0},{"$f":"COUNTIF(D58:L58,\"●\")","v":1},{"$f":"SUM(D59,G59,J59)","v":5},{"$f":"SUM(F59,I59,L59)","v":1},{"$f":"(M58*3)+(N58*1)","v":3},{"$f":"RANK(R58,$R$56:$R$61)","v":2},"位",{"$f":"P58-Q58","v":4},null,{"$f":"RANK(U58,$U$56:$V$61)","v":2},"位",2,null,null,null,{"$f":"予選リーグ!L7","v":"明治"},"星取表",null,null,{"$f":"IF(AF59=\"\",\"\",IF(AF59>AH59,\"○\",IF(AF59<AH59,\"●\",IF(AF59=AH59,\"△\"))))","v":"△"},null,null,null,null,null,{"$f":"IF(AL59=\"\",\"\",IF(AL59>AN59,\"○\",IF(AL59<AN59,\"●\",IF(AL59=AN59,\"△\"))))","v":"○"},null,{"$f":"COUNTIF(AF58:AN58,\"○\")","v":1},{"$f":"COUNTIF(AF58:AN58,\"△\")+COUNTIF(AF58:AN58,\"▲\")","v":1},{"$f":"COUNTIF(AF58:AN58,\"●\")","v":0},{"$f":"SUM(AF59,AI59,AL59)","v":2},{"$f":"SUM(AH59,AK59,AN59)","v":0},{"$f":"(AO58*3)+(AP58*1)","v":4},{"$f":"RANK(AT58,$AT$56:$AT$61)","v":1},"位",{"$f":"AR58-AS58","v":2},null,{"$f":"RANK(AW58,$AW$56:$AW$61)","v":2},"位",2]
[null,"得失点",null,{"$f":"I57","v":5},"-",{"$f":"G57","v":0},null,null,null,{"$f":"R18","v":0},"-",{"$f":"V18","v":1},null,null,null,null,null,null,null,null,null,null,null,null,null,null,null,null,null,"得失点",null,{"$f":"AK57","v":0},"-",{"$f":"AI57","v":0},null,null,null,{"$f":"AT18","v":2},"-",{"$f":"AX18","v":0}]
[{"$f":"予選リーグ!H7","v":"ＦＣ中津"},"星取表",null,null,{"$f":"IF(D61=\"\",\"\",IF(D61>F61,\"○\",IF(D61<F61,\"●\",IF(D61=F61,\"△\"))))","v":"○"},null,null,{"$f":"IF(G61=\"\",\"\",IF(G61>I61,\"○\",IF(G61<I61,\"●\",IF(G61=I61,\"△\"))))","v":"○"},null,null,null,null,{"$f":"COUNTIF(D60:L60,\"○\")","v":2},{"$f":"COUNTIF(D60:L60,\"△\")+COUNTIF(D60:L60,\"▲\")","v":0},{"$f":"COUNTIF(D60:L60,\"●\")","v":0},{"$f":"SUM(D61,G61,J61)","v":8},{"$f":"SUM(F61,I61,L61)","v":1},{"$f":"(M60*3)+(N60*1)","v":6},{"$f":"RANK(R60,$R$56:$R$61)","v":1},"位",{"$f":"P60-Q60","v":7},null,{"$f":"RANK(U60,$U$56:$V$61)","v":1},"位",1,null,null,null,{"$f":"予選リーグ!N7","v":"ＵＮＩＴＥ"},"星取表",null,null,{"$f":"IF(AF61=\"\",\"\",IF(AF61>AH61,\"○\",IF(AF61<AH61,\"●\",IF(AF61=AH61,\"△\"))))","v":"●"},null,null,{"$f":"IF(AI61=\"\",\"\",IF(AI61>AK61,\"○\",IF(AI61<AK61,\"●\",IF(AI61=AK61,\"△\"))))","v":"●"},null,null,null,null,{"$f":"COUNTIF(AF60:AN60,\"○\")","v":0},{"$f":"COUNTIF(AF60:AN60,\"△\")+COUNTIF(AF60:AN60,\"▲\")","v":0},{"$f":"COUNTIF(AF60:AN60,\"●\")","v":2},{"$f":"SUM(AF61,AI61,AL61)","v":1},{"$f":"SUM(AH61,AK61,AN61)","v":9},{"$f":"(AO60*3)+(AP60*1)","v":0},{"$f":"RANK(AT60,$AT$56:$AT$61)","v":3},"位",{"$f":"AR60-AS60","v":-8},null,{"$f":"RANK(AW60,$AW$56:$AW$61)","v":3},"位",3]
[null,"得失点",null,{"$f":"L57","v":7},"-",{"$f":"J57","v":1},{"$f":"L59","v":1},"-",{"$f":"J59","v":0},null,null,null,null,null,null,null,null,null,null,null,null,null,null,null,null,null,null,null,null,"得失点",null,{"$f":"AN57","v":1},"-",{"$f":"AL57","v":7},{"$f":"AN59","v":0},"-",{"$f":"AL59","v":2}]
[null,null,null,null,null,null,null,null,null,null,null,null,null,null,null,null,null,null,null,null,null,null,null,null,null,null,null,null,null,null,null,null,null,null,null,null,null,null,null,null,null,null,null,null,null,null,null,null,"※大会規定によるPK結果"]
["Cパート",null,null,{"$f":"A64","v":"ミネルバ"},null,null,{"$f":"A66","v":"Ｍ．Ｓ．Ｓ"},null,null,{"$f":"A68","v":"東大分"},null,null,"勝","分","敗","得\n点","失\n点","勝\n点","勝点\n順位",null,"得失\n点差",null,"得失\n順位",null,"ﾄｰﾀﾙ\n順位",null,null,null,"Gパート",null,null,{"$f":"AC64","v":"下毛"},null,null,{"$f":"AC66","v":"宗方"},null,null,{"$f":"AC68","v":"太陽大分西"},null,null,"勝","分","敗","得\n点","失\n点","勝\n点","勝点\n順位",null,"得失\n点差",null,"得失\n順位",null,"ﾄｰﾀﾙ\n順位"]
[{"$f":"予選リーグ!D10","v":"ミネルバ"},"星取表",null,null,null,null,null,{"$f":"IF(G65=\"\",\"\",IF(G65>I65,\"○\",IF(G65<I65,\"●\",IF(G65=I65,\"△\"))))","v":"●"},null,null,{"$f":"IF(J65=\"\",\"\",IF(J65>L65,\"○\",IF(J65<L65,\"●\",IF(J65=L65,\"△\"))))","v":"○"},null,{"$f":"COUNTIF(D64:L64,\"○\")","v":1},{"$f":"COUNTIF(D64:L64,\"△\")+COUNTIF(D64:L64,\"▲\")","v":0},{"$f":"COUNTIF(D64:L64,\"●\")","v":1},{"$f":"SUM(D65,G65,J65)","v":2},{"$f":"SUM(F65,I65,L65)","v":1},{"$f":"(M64*3)+(N64*1)","v":3},{"$f":"RANK(R64,$R$64:$R$69)","v":1},"位",{"$f":"P64-Q64","v":1},null,{"$f":"RANK(U64,$U$64:$V$69)","v":1},"位",2,null,null,null,{"$f":"予選リーグ!J10","v":"下毛"},"星取表",null,null,null,null,null,{"$f":"IF(AI65=\"\",\"\",IF(AI65>AK65,\"○\",IF(AI65<AK65,\"●\",IF(AI65=AK65,\"△\"))))","v":"○"},null,null,{"$f":"IF(AL65=\"\",\"\",IF(AL65>AN65,\"○\",IF(AL65<AN65,\"●\",IF(AL65=AN65,\"△\"))))","v":"●"},null,{"$f":"COUNTIF(AF64:AN64,\"○\")","v":1},{"$f":"COUNTIF(AF64:AN64,\"△\")+COUNTIF(AF64:AN64,\"▲\")","v":0},{"$f":"COUNTIF(AF64:AN64,\"●\")","v":1},{"$f":"SUM(AF65,AI65,AL65)","v":2},{"$f":"SUM(AH65,AK65,AN65)","v":1},{"$f":"(AO64*3)+(AP64*1)","v":3},{"$f":"RANK(AT64,$AT$64:$AT$69)","v":2},"位",{"$f":"AR64-AS64","v":1},null,{"$f":"RANK(AW64,$AW$64:$AW$69)","v":2},"位",2]
[null,"得失点",null,null,null,null,{"$f":"F16","v":0},"-",{"$f":"J16","v":1},{"$f":"J26","v":2},"-",{"$f":"F26","v":0},null,null,null,null,null,null,null,null,null,null,null,null,null,null,null,null,null,"得失点",null,null,null,null,{"$f":"AH16","v":2},"-",{"$f":"AL16","v":0},{"$f":"AL26","v":0},"-",{"$f":"AH26","v":1}]
[{"$f":"予選リーグ!C12","v":"Ｍ．Ｓ．Ｓ"},"星取表",null,null,{"$f":"IF(D67=\"\",\"\",IF(D67>F67,\"○\",IF(D67<F67,\"●\",IF(D67=F67,\"△\"))))","v":"○"},null,null,null,null,null,{"$f":"IF(J67=\"\",\"\",IF(J67>L67,\"○\",IF(J67<L67,\"●\",IF(J67=L67,\"△\"))))","v":"●"},null,{"$f":"COUNTIF(D66:L66,\"○\")","v":1},{"$f":"COUNTIF(D66:L66,\"△\")+COUNTIF(D66:L66,\"▲\")","v":0},{"$f":"COUNTIF(D66:L66,\"●\")","v":1},{"$f":"SUM(D67,G67,J67)","v":4},{"$f":"SUM(F67,I67,L67)","v":4},{"$f":"(M66*3)+(N66*1)","v":3},{"$f":"RANK(R66,$R$64:$R$69)","v":1},"位",{"$f":"P66-Q66","v":0},null,{"$f":"RANK(U66,$U$64:$V$69)","v":2},"位",2,null,null,null,{"$f":"予選リーグ!I12","v":"宗方"},"星取表",null,null,{"$f":"IF(AF67=\"\",\"\",IF(AF67>AH67,\"○\",IF(AF67<AH67,\"●\",IF(AF67=AH67,\"△\"))))","v":"●"},null,null,null,null,null,{"$f":"IF(AL67=\"\",\"\",IF(AL67>AN67,\"○\",IF(AL67<AN67,\"●\",IF(AL67=AN67,\"△\"))))","v":"●"},null,{"$f":"COUNTIF(AF66:AN66,\"○\")","v":0},{"$f":"COUNTIF(AF66:AN66,\"△\")+COUNTIF(AF66:AN66,\"▲\")","v":0},{"$f":"COUNTIF(AF66:AN66,\"●\")","v":2},{"$f":"SUM(AF67,AI67,AL67)","v":0},{"$f":"SUM(AH67,AK67,AN67)","v":4},{"$f":"(AO66*3)+(AP66*1)","v":0},{"$f":"RANK(AT66,$AT$64:$AT$69)","v":3},"位",{"$f":"AR66-AS66","v":-4},null,{"$f":"RANK(AW66,$AW$64:$AW$69)","v":3},"位",3]
[null,"得失点",null,{"$f":"I65","v":1},"-",{"$f":"G65","v":0},null,null,null,{"$f":"F22","v":3},"-",{"$f":"J22","v":4},null,null,null,null,null,null,null,null,null,null,null,null,null,null,null,null,null,"得失点",null,{"$f":"AK65","v":0},"-",{"$f":"AI65","v":2},null,null,null,{"$f":"AH22","v":0},"-",{"$f":"AL22","v":2}]
[{"$f":"予選リーグ!E12","v":"東大分"},"星取表",null,null,{"$f":"IF(D69=\"\",\"\",IF(D69>F69,\"○\",IF(D69<F69,\"●\",IF(D69=F69,\"△\"))))","v":"●"},null,null,{"$f":"IF(G69=\"\",\"\",IF(G69>I69,\"○\",IF(G69<I69,\"●\",IF(G69=I69,\"△\"))))","v":"○"},null,null,null,null,{"$f":"COUNTIF(D68:L68,\"○\")","v":1},{"$f":"COUNTIF(D68:L68,\"△\")+COUNTIF(D68:L68,\"▲\")","v":0},{"$f":"COUNTIF(D68:L68,\"●\")","v":1},{"$f":"SUM(D69,G69,J69)","v":4},{"$f":"SUM(F69,I69,L69)","v":5},{"$f":"(M68*3)+(N68*1)","v":3},{"$f":"RANK(R68,$R$64:$R$69)","v":1},"位",{"$f":"P68-Q68","v":-1},null,{"$f":"RANK(U68,$U$64:$V$69)","v":3},"位",1,null,null,null,{"$f":"予選リーグ!K12","v":"太陽大分西"},"星取表",null,null,{"$f":"IF(AF69=\"\",\"\",IF(AF69>AH69,\"○\",IF(AF69<AH69,\"●\",IF(AF69=AH69,\"△\"))))","v":"○"},null,null,{"$f":"IF(AI69=\"\",\"\",IF(AI69>AK69,\"○\",IF(AI69<AK69,\"●\",IF(AI69=AK69,\"△\"))))","v":"○"},null,null,null,null,{"$f":"COUNTIF(AF68:AN68,\"○\")","v":2},{"$f":"COUNTIF(AF68:AN68,\"△\")+COUNTIF(AF68:AN68,\"▲\")","v":0},{"$f":"COUNTIF(AF68:AN68,\"●\")","v":0},{"$f":"SUM(AF69,AI69,AL69)","v":3},{"$f":"SUM(AH69,AK69,AN69)","v":0},{"$f":"(AO68*3)+(AP68*1)","v":6},{"$f":"RANK(AT68,$AT$64:$AT$69)","v":1},"位",{"$f":"AR68-AS68","v":3},null,{"$f":"RANK(AW68,$AW$64:$AW$69)","v":1},"位",1]
[null,"得失点",null,{"$f":"L65","v":0},"-",{"$f":"J65","v":2},{"$f":"L67","v":4},"-",{"$f":"J67","v":3},null,null,null,null,null,null,null,null,null,null,null,null,null,null,null,null,null,null,null,null,"得失点",null,{"$f":"AN65","v":1},"-",{"$f":"AL65","v":0},{"$f":"AN67","v":2},"-",{"$f":"AL67","v":0}]
[null,null,null,null,null,null,null,null,null,null,null,null,null,null,null,null,null,null,null,null,"※大会規定によるPK結果"]
["Dパート",null,null,{"$f":"A72","v":"ＯＫＹ山香"},null,null,{"$f":"A74","v":"東陽"},null,null,{"$f":"A76","v":"千怒"},null,null,"勝","分","敗","得\n点","失\n点","勝\n点","勝点\n順位",null,"得失\n点差",null,"得失\n順位",null,"ﾄｰﾀﾙ\n順位",null,null,null,"Hパート",null,null,{"$f":"AC72","v":"如水"},null,null,{"$f":"AC74","v":"リノス"},null,null,{"$f":"AC76","v":"タートルズ　キング"},null,null,"勝","分","敗","得\n点","失\n点","勝\n点","勝点\n順位",null,"得失\n点差",null,"得失\n順位",null,"ﾄｰﾀﾙ\n順位"]
[{"$f":"予選リーグ!G10","v":"ＯＫＹ山香"},"星取表",null,null,null,null,null,{"$f":"IF(G73=\"\",\"\",IF(G73>I73,\"○\",IF(G73<I73,\"●\",IF(G73=I73,\"△\"))))","v":"●"},null,null,{"$f":"IF(J73=\"\",\"\",IF(J73>L73,\"○\",IF(J73<L73,\"●\",IF(J73=L73,\"△\"))))","v":"●"},null,{"$f":"COUNTIF(D72:L72,\"○\")","v":0},{"$f":"COUNTIF(D72:L72,\"△\")+COUNTIF(D72:L72,\"▲\")","v":0},{"$f":"COUNTIF(D72:L72,\"●\")","v":2},{"$f":"SUM(D73,G73,J73)","v":0},{"$f":"SUM(F73,I73,L73)","v":12},{"$f":"(M72*3)+(N72*1)","v":0},{"$f":"RANK(R72,$R$72:$R$77)","v":3},"位",{"$f":"P72-Q72","v":-12},null,{"$f":"RANK(U72,$U$72:$V$77)","v":3},"位",3,null,null,null,{"$f":"予選リーグ!M10","v":"如水"},"星取表",null,null,null,null,null,{"$f":"IF(AI73=\"\",\"\",IF(AI73>AK73,\"○\",IF(AI73<AK73,\"●\",IF(AI73=AK73,\"△\"))))","v":"△"},null,null,{"$f":"IF(AL73=\"\",\"\",IF(AL73>AN73,\"○\",IF(AL73<AN73,\"●\",IF(AL73=AN73,\"△\"))))","v":"●"},null,{"$f":"COUNTIF(AF72:AN72,\"○\")","v":0},{"$f":"COUNTIF(AF72:AN72,\"△\")+COUNTIF(AF72:AN72,\"▲\")","v":1},{"$f":"COUNTIF(AF72:AN72,\"●\")","v":1},{"$f":"SUM(AF73,AI73,AL73)","v":2},{"$f":"SUM(AH73,AK73,AN73)","v":3},{"$f":"(AO72*3)+(AP72*1)","v":1},{"$f":"RANK(AT72,$AT$72:$AT$77)","v":3},"位",{"$f":"AR72-AS72","v":-1},null,{"$f":"RANK(AW72,$AW$72:$AW$77)","v":3},"位",3]
[null,"得失点",null,null,null,null,{"$f":"R16","v":0},"-",{"$f":"V16","v":7},{"$f":"V26","v":0},"-",{"$f":"R26","v":5},null,null,null,null,null,null,null,null,null,null,null,null,null,null,null,null,null,"得失点",null,null,null,null,{"$f":"AT16","v":1},"-",{"$f":"AX16","v":1},{"$f":"AX26","v":1},"-",{"$f":"AT26","v":2}]
[{"$f":"予選リーグ!F12","v":"東陽"},"星取表",null,null,{"$f":"IF(D75=\"\",\"\",IF(D75>F75,\"○\",IF(D75<F75,\"●\",IF(D75=F75,\"△\"))))","v":"○"},null,null,null,null,null,{"$f":"IF(J75=\"\",\"\",IF(J75>L75,\"○\",IF(J75<L75,\"●\",IF(J75=L75,\"△\"))))","v":"●"},null,{"$f":"COUNTIF(D74:L74,\"○\")","v":1},{"$f":"COUNTIF(D74:L74,\"△\")+COUNTIF(D74:L74,\"▲\")","v":0},{"$f":"COUNTIF(D74:L74,\"●\")","v":1},{"$f":"SUM(D75,G75,J75)","v":7},{"$f":"SUM(F75,I75,L75)","v":1},{"$f":"(M74*3)+(N74*1)","v":3},{"$f":"RANK(R74,$R$72:$R$77)","v":2},"位",{"$f":"P74-Q74","v":6},null,{"$f":"RANK(U74,$U$72:$V$77)","v":1},"位",2,null,null,null,{"$f":"予選リーグ!L12","v":"リノス"},"星取表",null,null,{"$f":"IF(AF75=\"\",\"\",IF(AF75>AH75,\"○\",IF(AF75<AH75,\"●\",IF(AF75=AH75,\"△\"))))","v":"△"},null,null,null,null,null,{"$f":"IF(AL75=\"\",\"\",IF(AL75>AN75,\"○\",IF(AL75<AN75,\"●\",IF(AL75=AN75,\"△\"))))","v":"△"},null,{"$f":"COUNTIF(AF74:AN74,\"○\")","v":0},{"$f":"COUNTIF(AF74:AN74,\"△\")+COUNTIF(AF74:AN74,\"▲\")","v":2},{"$f":"COUNTIF(AF74:AN74,\"●\")","v":0},{"$f":"SUM(AF75,AI75,AL75)","v":1},{"$f":"SUM(AH75,AK75,AN75)","v":1},{"$f":"(AO74*3)+(AP74*1)","v":2},{"$f":"RANK(AT74,$AT$72:$AT$77)","v":2},"位",{"$f":"AR74-AS74","v":0},null,{"$f":"RANK(AW74,$AW$72:$AW$77)","v":2},"位",2]
[null,"得失点",null,{"$f":"I73","v":7},"-",{"$f":"G73","v":0},null,null,null,{"$f":"R22","v":0},"-",{"$f":"V22","v":1},null,null,null,null,null,null,null,null,null,null,null,null,null,null,null,null,null,"得失点",null,{"$f":"AK73","v":1},"-",{"$f":"AI73","v":1},null,null,null,{"$f":"AT22","v":0},"-",{"$f":"AX22","v":0}]
[{"$f":"予選リーグ!H12","v":"千怒"},"星取表",null,null,{"$f":"IF(D77=\"\",\"\",IF(D77>F77,\"○\",IF(D77<F77,\"●\",IF(D77=F77,\"△\"))))","v":"○"},null,null,{"$f":"IF(G77=\"\",\"\",IF(G77>I77,\"○\",IF(G77<I77,\"●\",IF(G77=I77,\"△\"))))","v":"○"},null,null,null,null,{"$f":"COUNTIF(D76:L76,\"○\")","v":2},{"$f":"COUNTIF(D76:L76,\"△\")+COUNTIF(D76:L76,\"▲\")","v":0},{"$f":"COUNTIF(D76:L76,\"●\")","v":0},{"$f":"SUM(D77,G77,J77)","v":6},{"$f":"SUM(F77,I77,L77)","v":0},{"$f":"(M76*3)+(N76*1)","v":6},{"$f":"RANK(R76,$R$72:$R$77)","v":1},"位",{"$f":"P76-Q76","v":6},null,{"$f":"RANK(U76,$U$72:$V$77)","v":1},"位",1,null,null,null,{"$f":"予選リーグ!N12","v":"タートルズ　キング"},"星取表",null,null,{"$f":"IF(AF77=\"\",\"\",IF(AF77>AH77,\"○\",IF(AF77<AH77,\"●\",IF(AF77=AH77,\"△\"))))","v":"○"},null,null,{"$f":"IF(AI77=\"\",\"\",IF(AI77>AK77,\"○\",IF(AI77<AK77,\"●\",IF(AI77=AK77,\"△\"))))","v":"△"},null,null,null,null,{"$f":"COUNTIF(AF76:AN76,\"○\")","v":1},{"$f":"COUNTIF(AF76:AN76,\"△\")+COUNTIF(AF76:AN76,\"▲\")","v":1},{"$f":"COUNTIF(AF76:AN76,\"●\")","v":0},{"$f":"SUM(AF77,AI77,AL77)","v":2},{"$f":"SUM(AH77,AK77,AN77)","v":1},{"$f":"(AO76*3)+(AP76*1)","v":4},{"$f":"RANK(AT76,$AT$72:$AT$77)","v":1},"位",{"$f":"AR76-AS76","v":1},null,{"$f":"RANK(AW76,$AW$72:$AW$77)","v":1},"位",1]
[null,"得失点",null,{"$f":"L73","v":5},"-",{"$f":"J73","v":0},{"$f":"L75","v":1},"-",{"$f":"J75","v":0},null,null,null,null,null,null,null,null,null,null,null,null,null,null,null,null,null,null,null,null,"得失点",null,{"$f":"AN73","v":2},"-",{"$f":"AL73","v":1},{"$f":"AN75","v":0},"-",{"$f":"AL75","v":0}]

{"sheet":"予選リーグ公式記録(Bコート南)","index":10,"n_rows":89,"n_cols":31,"rows_kept":89,"cut":false,"hidden":true,"merged":[[2,1,2,4],[2,17,2,20],[4,28,4,29],[5,28,5,29],[4,21,4,27],[5,21,5,27],[4,12,4,13],[4,5,4,11],[5,5,5,11],[5,12,5,13],[6,28,6,29],[9,20,11,20],[9,21,11,21],[9,23,11,23],[6,12,6,13],[9,27,11,27],[9,28,11,28],[9,29,11,29],[9,22,11,22],[6,21,6,27],[6,5,6,11],[10,17,10,19],[11,17,11,19],[9,17,9,19],[9,4,11,4],[9,5,11,5],[9,6,11,6],[9,7,11,7],[9,11,11,11],[9,14,11,14],[9,13,11,13],[9,12,11,12],[26,1,26,2],[26,17,26,18],[23,17,23,19],[24,17,24,18],[25,17,25,19],[9,1,9,3],[10,1,10,3],[11,1,11,3],[38,23,40,23],[29,1,29,3],[29,17,29,19],[23,1,23,3],[24,1,24,2],[25,1,25,3],[27,1,27,3],[27,17,27,19],[28,1,28,2],[28,17,28,18],[39,1,39,3],[40,1,40,3],[39,17,39,19],[40,17,40,19],[38,1,38,3],[38,17,38,19],[38,27,40,27],[38,14,40,14],[30,1,30,2],[30,17,30,18],[38,4,40,4],[38,5,40,5],[38,6,40,6],[38,7,40,7],[81,1,81,3],[81,17,81,19],[57,1,57,2],[57,17,57,18],[58,1,58,3],[58,17,58,19],[52,1,52,3],[52,17,52,19],[53,1,53,2],[53,17,53,18],[38,13,40,13],[38,11,40,11],[38,12,40,12],[38,20,40,20],[38,21,40,21],[38,22,40,22],[82,1,82,2],[82,17,82,18],[67,13,69,13],[67,20,69,20],[67,21,69,21],[67,22,69,22],[67,23,69,23],[67,4,69,4],[67,5,69,5],[67,6,69,6],[67,7,69,7],[67,11,69,11],[67,12,69,12],[67,14,69,14],[70,0,70,3],[70,16,70,19],[68,1,68,3],[69,1,69,3],[68,17,68,19],[69,17,69,19],[67,1,67,3],[67,17,67,19],[86,1,86,2],[86,17,86,18],[87,1,87,3],[87,17,87,19],[88,1,88,2],[88,17,88,18],[83,1,83,3],[83,17,83,19],[84,1,84,2],[84,17,84,18],[85,1,85,3],[85,17,85,19],[67,28,69,28],[67,29,69,29],[67,27,69,27],[59,1,59,2],[59,17,59,18],[9,30,11,30],[38,30,40,30],[67,30,69,30],[0,0,0,9],[0,10,0,13],[0,16,0,25],[0,26,0,29],[12,0,12,3],[12,16,12,19],[41,0,41,3],[41,16,41,19],[54,1,54,3],[54,17,54,19],[55,1,55,2],[55,17,55,18],[56,1,56,3],[56,17,56,19],[38,28,40,28],[38,29,40,29]]}
[{"$f":"要項!C2","v":"OFA 第 33 回 大分県U-11サッカー選手権大会"},null,null,null,null,null,null,null,null,null,"予選リーグ結果　報告用紙",null,null,null,null,null,{"$f":"要項!C2","v":"OFA 第 33 回 大分県U-11サッカー選手権大会"},null,null,null,null,null,null,null,null,null,"予選リーグ結果　報告用紙"]
[]
["会場",{"$f":"予選リーグ!C14","v":"昭和電工ｻｯｶｰ･ﾗｸﾞﾋﾞｰ場　Bｺｰﾄ"},null,null,null,{"$f":"予選リーグ!C15","v":"「南」コート"},null,null,null,null,null,null,null,null,null,null,"会場",{"$f":"予選リーグ!C14","v":"昭和電工ｻｯｶｰ･ﾗｸﾞﾋﾞｰ場　Bｺｰﾄ"},null,null,null,{"$f":"予選リーグ!C15","v":"「南」コート"}]
[]
[null,null,null,null,"A1",{"$f":"VLOOKUP(E5,組合せ抽選用!$Q:$U,5,FALSE)","v":"ＦＣアリアーレ"},null,null,null,null,null,null,{"$f":"VLOOKUP(E5,組合せ抽選用!$Q:$V,6,FALSE)","v":"日田/玖珠"},null,null,null,null,null,null,null,"C1",{"$f":"VLOOKUP(U5,組合せ抽選用!$Q:$U,5,FALSE)","v":"別府フットボールクラブ．ミネルバＵ－１２"},null,null,null,null,null,null,{"$f":"VLOOKUP(U5,組合せ抽選用!$Q:$V,6,FALSE)","v":"別府"}]
[null,null,null,null,"A2",{"$f":"VLOOKUP(E6,組合せ抽選用!$Q:$U,5,FALSE)","v":"ドリームキッズフットボールクラブ"},null,null,null,null,null,null,{"$f":"VLOOKUP(E6,組合せ抽選用!$Q:$V,6,FALSE)","v":"大分"},null,null,null,null,null,null,null,"C2",{"$f":"VLOOKUP(U6,組合せ抽選用!$Q:$U,5,FALSE)","v":"Ｍ．Ｓ．Ｓ"},null,null,null,null,null,null,{"$f":"VLOOKUP(U6,組合せ抽選用!$Q:$V,6,FALSE)","v":"大分"}]
[null,null,null,null,"A3",{"$f":"VLOOKUP(E7,組合せ抽選用!$Q:$U,5,FALSE)","v":"ヴェルスパ大分　Ｕ－１２"},null,null,null,null,null,null,{"$f":"VLOOKUP(E7,組合せ抽選用!$Q:$V,6,FALSE)","v":"大分"},null,null,null,null,null,null,null,"C3",{"$f":"VLOOKUP(U7,組合せ抽選用!$Q:$U,5,FALSE)","v":"東大分サッカースポーツ少年団"},null,null,null,null,null,null,{"$f":"VLOOKUP(U7,組合せ抽選用!$Q:$V,6,FALSE)","v":"大分"}]
[]
[]
["MC","磯村　信一",null,null,{"$f":"予選リーグ!B19","v":"10:00:00"},{"$f":"F5","v":"ＦＣアリアーレ"},{"$f":"SUM(I10:I11)","v":0},"（",0,"前半",2,"）",{"$f":"SUM(K10:K11)","v":4},{"$f":"F6","v":"ドリームキッズフットボールクラブ"},null,null,"MC","福元　研治",null,null,{"$f":"予選リーグ!B21","v":"10:50:00"},{"$f":"V5","v":"別府フットボールクラブ．ミネルバＵ－１２"},{"$f":"SUM(Y10:Y11)","v":0},"（",0,"前半",0,"）",{"$f":"SUM(AA10:AA11)","v":1},{"$f":"V6","v":"Ｍ．Ｓ．Ｓ"}]
["Welfare\nOfficer",null,null,null,null,null,null,null,0,"後半",2,null,null,null,null,null,"Welfare\nOfficer",null,null,null,null,null,null,null,0,"後半",1]
["記録","後藤　寿",null,null,null,null,null,null,null,"PK",null,null,null,null,null,null,"記録","後藤　寿",null,null,null,null,null,null,null,"PK"]
["＜Referee＞",null,null,null,"警告/退場\n選択肢より","氏名","番号","分","内容\n選択肢より",null,"内容\n選択肢より","分","番号","氏名","警告/退場\n選択肢より",null,"＜Referee＞",null,null,null,"警告/退場\n選択肢より","氏名","番号","分","内容\n選択肢より",null,"内容\n選択肢より","分","番号","氏名","警告/退場\n選択肢より"]
[null,null,null,null,"得点者",{"$f":"IF(ISERROR(VLOOKUP(CONCATENATE($F$10,\"_\",G14),選手名簿!$A:$E,5,FALSE))=TRUE,\"\",VLOOKUP(CONCATENATE($F$10,\"_\",G14),選手名簿!$A:$E,5,FALSE))","v":""},null,null,null,null,null,null,null,{"$f":"IF(ISERROR(VLOOKUP(CONCATENATE($N$10,\"_\",M14),選手名簿!$A:$E,5,FALSE))=TRUE,\"\",VLOOKUP(CONCATENATE($N$10,\"_\",M14),選手名簿!$A:$E,5,FALSE))","v":""},null,null,null,null,null,null,"得点者",{"$f":"IF(ISERROR(VLOOKUP(CONCATENATE($V$10,\"_\",W14),選手名簿!$A:$E,5,FALSE))=TRUE,\"\",VLOOKUP(CONCATENATE($V$10,\"_\",W14),選手名簿!$A:$E,5,FALSE))","v":""},null,null,null,null,null,null,null,{"$f":"IF(ISERROR(VLOOKUP(CONCATENATE($AD$10,\"_\",AC14),選手名簿!$A:$E,5,FALSE))=TRUE,\"\",VLOOKUP(CONCATENATE($AD$10,\"_\",AC14),選手名簿!$A:$E,5,FALSE))","v":""}]
[null,null,null,null,"得点者",{"$f":"IF(ISERROR(VLOOKUP(CONCATENATE($F$10,\"_\",G15),選手名簿!$A:$E,5,FALSE))=TRUE,\"\",VLOOKUP(CONCATENATE($F$10,\"_\",G15),選手名簿!$A:$E,5,FALSE))","v":""},null,null,null,null,null,null,null,{"$f":"IF(ISERROR(VLOOKUP(CONCATENATE($N$10,\"_\",M15),選手名簿!$A:$E,5,FALSE))=TRUE,\"\",VLOOKUP(CONCATENATE($N$10,\"_\",M15),選手名簿!$A:$E,5,FALSE))","v":""},null,null,null,null,null,null,"得点者",{"$f":"IF(ISERROR(VLOOKUP(CONCATENATE($V$10,\"_\",W15),選手名簿!$A:$E,5,FALSE))=TRUE,\"\",VLOOKUP(CONCATENATE($V$10,\"_\",W15),選手名簿!$A:$E,5,FALSE))","v":""},null,null,null,null,null,null,null,{"$f":"IF(ISERROR(VLOOKUP(CONCATENATE($AD$10,\"_\",AC15),選手名簿!$A:$E,5,FALSE))=TRUE,\"\",VLOOKUP(CONCATENATE($AD$10,\"_\",AC15),選手名簿!$A:$E,5,FALSE))","v":""}]
[null,null,null,null,"得点者",{"$f":"IF(ISERROR(VLOOKUP(CONCATENATE($F$10,\"_\",G16),選手名簿!$A:$E,5,FALSE))=TRUE,\"\",VLOOKUP(CONCATENATE($F$10,\"_\",G16),選手名簿!$A:$E,5,FALSE))","v":""},null,null,null,null,null,null,null,{"$f":"IF(ISERROR(VLOOKUP(CONCATENATE($N$10,\"_\",M16),選手名簿!$A:$E,5,FALSE))=TRUE,\"\",VLOOKUP(CONCATENATE($N$10,\"_\",M16),選手名簿!$A:$E,5,FALSE))","v":""},null,null,null,null,null,null,"得点者",{"$f":"IF(ISERROR(VLOOKUP(CONCATENATE($V$10,\"_\",W16),選手名簿!$A:$E,5,FALSE))=TRUE,\"\",VLOOKUP(CONCATENATE($V$10,\"_\",W16),選手名簿!$A:$E,5,FALSE))","v":""},null,null,null,null,null,null,null,{"$f":"IF(ISERROR(VLOOKUP(CONCATENATE($AD$10,\"_\",AC16),選手名簿!$A:$E,5,FALSE))=TRUE,\"\",VLOOKUP(CONCATENATE($AD$10,\"_\",AC16),選手名簿!$A:$E,5,FALSE))","v":""}]
[null,null,null,null,"得点者",{"$f":"IF(ISERROR(VLOOKUP(CONCATENATE($F$10,\"_\",G17),選手名簿!$A:$E,5,FALSE))=TRUE,\"\",VLOOKUP(CONCATENATE($F$10,\"_\",G17),選手名簿!$A:$E,5,FALSE))","v":""},null,null,null,null,null,null,null,{"$f":"IF(ISERROR(VLOOKUP(CONCATENATE($N$10,\"_\",M17),選手名簿!$A:$E,5,FALSE))=TRUE,\"\",VLOOKUP(CONCATENATE($N$10,\"_\",M17),選手名簿!$A:$E,5,FALSE))","v":""},null,null,null,null,null,null,"得点者",{"$f":"IF(ISERROR(VLOOKUP(CONCATENATE($V$10,\"_\",W17),選手名簿!$A:$E,5,FALSE))=TRUE,\"\",VLOOKUP(CONCATENATE($V$10,\"_\",W17),選手名簿!$A:$E,5,FALSE))","v":""},null,null,null,null,null,null,null,{"$f":"IF(ISERROR(VLOOKUP(CONCATENATE($AD$10,\"_\",AC17),選手名簿!$A:$E,5,FALSE))=TRUE,\"\",VLOOKUP(CONCATENATE($AD$10,\"_\",AC17),選手名簿!$A:$E,5,FALSE))","v":""}]
[null,null,null,null,"得点者",{"$f":"IF(ISERROR(VLOOKUP(CONCATENATE($F$10,\"_\",G18),選手名簿!$A:$E,5,FALSE))=TRUE,\"\",VLOOKUP(CONCATENATE($F$10,\"_\",G18),選手名簿!$A:$E,5,FALSE))","v":""},null,null,null,null,null,null,null,{"$f":"IF(ISERROR(VLOOKUP(CONCATENATE($N$10,\"_\",M18),選手名簿!$A:$E,5,FALSE))=TRUE,\"\",VLOOKUP(CONCATENATE($N$10,\"_\",M18),選手名簿!$A:$E,5,FALSE))","v":""},null,null,null,null,null,null,"得点者",{"$f":"IF(ISERROR(VLOOKUP(CONCATENATE($V$10,\"_\",W18),選手名簿!$A:$E,5,FALSE))=TRUE,\"\",VLOOKUP(CONCATENATE($V$10,\"_\",W18),選手名簿!$A:$E,5,FALSE))","v":""},null,null,null,null,null,null,null,{"$f":"IF(ISERROR(VLOOKUP(CONCATENATE($AD$10,\"_\",AC18),選手名簿!$A:$E,5,FALSE))=TRUE,\"\",VLOOKUP(CONCATENATE($AD$10,\"_\",AC18),選手名簿!$A:$E,5,FALSE))","v":""}]
[null,null,null,null,"得点者",{"$f":"IF(ISERROR(VLOOKUP(CONCATENATE($F$10,\"_\",G19),選手名簿!$A:$E,5,FALSE))=TRUE,\"\",VLOOKUP(CONCATENATE($F$10,\"_\",G19),選手名簿!$A:$E,5,FALSE))","v":""},null,null,null,null,null,null,null,{"$f":"IF(ISERROR(VLOOKUP(CONCATENATE($N$10,\"_\",M19),選手名簿!$A:$E,5,FALSE))=TRUE,\"\",VLOOKUP(CONCATENATE($N$10,\"_\",M19),選手名簿!$A:$E,5,FALSE))","v":""},null,null,null,null,null,null,"得点者",{"$f":"IF(ISERROR(VLOOKUP(CONCATENATE($V$10,\"_\",W19),選手名簿!$A:$E,5,FALSE))=TRUE,\"\",VLOOKUP(CONCATENATE($V$10,\"_\",W19),選手名簿!$A:$E,5,FALSE))","v":""},null,null,null,null,null,null,null,{"$f":"IF(ISERROR(VLOOKUP(CONCATENATE($AD$10,\"_\",AC19),選手名簿!$A:$E,5,FALSE))=TRUE,\"\",VLOOKUP(CONCATENATE($AD$10,\"_\",AC19),選手名簿!$A:$E,5,FALSE))","v":""}]
[null,null,null,null,"得点者",{"$f":"IF(ISERROR(VLOOKUP(CONCATENATE($F$10,\"_\",G20),選手名簿!$A:$E,5,FALSE))=TRUE,\"\",VLOOKUP(CONCATENATE($F$10,\"_\",G20),選手名簿!$A:$E,5,FALSE))","v":""},null,null,null,null,null,null,null,{"$f":"IF(ISERROR(VLOOKUP(CONCATENATE($N$10,\"_\",M20),選手名簿!$A:$E,5,FALSE))=TRUE,\"\",VLOOKUP(CONCATENATE($N$10,\"_\",M20),選手名簿!$A:$E,5,FALSE))","v":""},null,null,null,null,null,null,"得点者",{"$f":"IF(ISERROR(VLOOKUP(CONCATENATE($V$10,\"_\",W20),選手名簿!$A:$E,5,FALSE))=TRUE,\"\",VLOOKUP(CONCATENATE($V$10,\"_\",W20),選手名簿!$A:$E,5,FALSE))","v":""},null,null,null,null,null,null,null,{"$f":"IF(ISERROR(VLOOKUP(CONCATENATE($AD$10,\"_\",AC20),選手名簿!$A:$E,5,FALSE))=TRUE,\"\",VLOOKUP(CONCATENATE($AD$10,\"_\",AC20),選手名簿!$A:$E,5,FALSE))","v":""}]
[null,null,null,null,"得点者",{"$f":"IF(ISERROR(VLOOKUP(CONCATENATE($F$10,\"_\",G21),選手名簿!$A:$E,5,FALSE))=TRUE,\"\",VLOOKUP(CONCATENATE($F$10,\"_\",G21),選手名簿!$A:$E,5,FALSE))","v":""},null,null,null,null,null,null,null,{"$f":"IF(ISERROR(VLOOKUP(CONCATENATE($N$10,\"_\",M21),選手名簿!$A:$E,5,FALSE))=TRUE,\"\",VLOOKUP(CONCATENATE($N$10,\"_\",M21),選手名簿!$A:$E,5,FALSE))","v":""},null,null,null,null,null,null,"得点者",{"$f":"IF(ISERROR(VLOOKUP(CONCATENATE($V$10,\"_\",W21),選手名簿!$A:$E,5,FALSE))=TRUE,\"\",VLOOKUP(CONCATENATE($V$10,\"_\",W21),選手名簿!$A:$E,5,FALSE))","v":""},null,null,null,null,null,null,null,{"$f":"IF(ISERROR(VLOOKUP(CONCATENATE($AD$10,\"_\",AC21),選手名簿!$A:$E,5,FALSE))=TRUE,\"\",VLOOKUP(CONCATENATE($AD$10,\"_\",AC21),選手名簿!$A:$E,5,FALSE))","v":""}]
[null,null,null,null,"得点者",{"$f":"IF(ISERROR(VLOOKUP(CONCATENATE($F$10,\"_\",G22),選手名簿!$A:$E,5,FALSE))=TRUE,\"\",VLOOKUP(CONCATENATE($F$10,\"_\",G22),選手名簿!$A:$E,5,FALSE))","v":""},null,null,null,null,null,null,null,{"$f":"IF(ISERROR(VLOOKUP(CONCATENATE($N$10,\"_\",M22),選手名簿!$A:$E,5,FALSE))=TRUE,\"\",VLOOKUP(CONCATENATE($N$10,\"_\",M22),選手名簿!$A:$E,5,FALSE))","v":""},null,null,null,null,null,null,"得点者",{"$f":"IF(ISERROR(VLOOKUP(CONCATENATE($V$10,\"_\",W22),選手名簿!$A:$E,5,FALSE))=TRUE,\"\",VLOOKUP(CONCATENATE($V$10,\"_\",W22),選手名簿!$A:$E,5,FALSE))","v":""},null,null,null,null,null,null,null,{"$f":"IF(ISERROR(VLOOKUP(CONCATENATE($AD$10,\"_\",AC22),選手名簿!$A:$E,5,FALSE))=TRUE,\"\",VLOOKUP(CONCATENATE($AD$10,\"_\",AC22),選手名簿!$A:$E,5,FALSE))","v":""}]
[null,null,null,null,"得点者",{"$f":"IF(ISERROR(VLOOKUP(CONCATENATE($F$10,\"_\",G23),選手名簿!$A:$E,5,FALSE))=TRUE,\"\",VLOOKUP(CONCATENATE($F$10,\"_\",G23),選手名簿!$A:$E,5,FALSE))","v":""},null,null,null,null,null,null,null,{"$f":"IF(ISERROR(VLOOKUP(CONCATENATE($N$10,\"_\",M23),選手名簿!$A:$E,5,FALSE))=TRUE,\"\",VLOOKUP(CONCATENATE($N$10,\"_\",M23),選手名簿!$A:$E,5,FALSE))","v":""},null,null,null,null,null,null,"得点者",{"$f":"IF(ISERROR(VLOOKUP(CONCATENATE($V$10,\"_\",W23),選手名簿!$A:$E,5,FALSE))=TRUE,\"\",VLOOKUP(CONCATENATE($V$10,\"_\",W23),選手名簿!$A:$E,5,FALSE))","v":""},null,null,null,null,null,null,null,{"$f":"IF(ISERROR(VLOOKUP(CONCATENATE($AD$10,\"_\",AC23),選手名簿!$A:$E,5,FALSE))=TRUE,\"\",VLOOKUP(CONCATENATE($AD$10,\"_\",AC23),選手名簿!$A:$E,5,FALSE))","v":""}]
["番号","R001262403",null,null,"警告",{"$f":"IF(ISERROR(VLOOKUP(CONCATENATE($F$10,\"_\",G24),選手名簿!$A:$E,5,FALSE))=TRUE,\"\",VLOOKUP(CONCATENATE($F$10,\"_\",G24),選手名簿!$A:$E,5,FALSE))","v":"串尾　遼馬"},11,18,"ラフ",null,null,null,null,{"$f":"IF(ISERROR(VLOOKUP(CONCATENATE($N$10,\"_\",M24),選手名簿!$A:$E,5,FALSE))=TRUE,\"\",VLOOKUP(CONCATENATE($N$10,\"_\",M24),選手名簿!$A:$E,5,FALSE))","v":""},null,null,"番号","R010388050",null,null,null,{"$f":"IF(ISERROR(VLOOKUP(CONCATENATE($V$10,\"_\",W24),選手名簿!$A:$E,5,FALSE))=TRUE,\"\",VLOOKUP(CONCATENATE($V$10,\"_\",W24),選手名簿!$A:$E,5,FALSE))","v":""},null,null,null,null,null,null,null,{"$f":"IF(ISERROR(VLOOKUP(CONCATENATE($AD$10,\"_\",AC24),選手名簿!$A:$E,5,FALSE))=TRUE,\"\",VLOOKUP(CONCATENATE($AD$10,\"_\",AC24),選手名簿!$A:$E,5,FALSE))","v":""}]
["R",{"$f":"IF(ISERROR(VLOOKUP(B24,審判員!$A:$C,2,FALSE))=TRUE,\"\",VLOOKUP(B24,審判員!$A:$C,2,FALSE))","v":"石山　慎史"},null,{"$f":"IF(ISERROR(VLOOKUP(B24,審判員!$A:$C,3,FALSE))=TRUE,\"\",VLOOKUP(B24,審判員!$A:$C,3,FALSE))","v":"３級"},null,{"$f":"IF(ISERROR(VLOOKUP(CONCATENATE($F$10,\"_\",G25),選手名簿!$A:$E,5,FALSE))=TRUE,\"\",VLOOKUP(CONCATENATE($F$10,\"_\",G25),選手名簿!$A:$E,5,FALSE))","v":""},null,null,null,null,null,null,null,{"$f":"IF(ISERROR(VLOOKUP(CONCATENATE($N$10,\"_\",M25),選手名簿!$A:$E,5,FALSE))=TRUE,\"\",VLOOKUP(CONCATENATE($N$10,\"_\",M25),選手名簿!$A:$E,5,FALSE))","v":""},null,null,"R",{"$f":"IF(ISERROR(VLOOKUP(R24,審判員!$A:$C,2,FALSE))=TRUE,\"\",VLOOKUP(R24,審判員!$A:$C,2,FALSE))","v":"川端　大翔"},null,{"$f":"IF(ISERROR(VLOOKUP(R24,審判員!$A:$C,3,FALSE))=TRUE,\"\",VLOOKUP(R24,審判員!$A:$C,3,FALSE))","v":"３級"},null,{"$f":"IF(ISERROR(VLOOKUP(CONCATENATE($V$10,\"_\",W25),選手名簿!$A:$E,5,FALSE))=TRUE,\"\",VLOOKUP(CONCATENATE($V$10,\"_\",W25),選手名簿!$A:$E,5,FALSE))","v":""},null,null,null,null,null,null,null,{"$f":"IF(ISERROR(VLOOKUP(CONCATENATE($AD$10,\"_\",AC25),選手名簿!$A:$E,5,FALSE))=TRUE,\"\",VLOOKUP(CONCATENATE($AD$10,\"_\",AC25),選手名簿!$A:$E,5,FALSE))","v":""}]
["番号","R007959103",null,null,null,{"$f":"IF(ISERROR(VLOOKUP(CONCATENATE($F$10,\"_\",G26),選手名簿!$A:$E,5,FALSE))=TRUE,\"\",VLOOKUP(CONCATENATE($F$10,\"_\",G26),選手名簿!$A:$E,5,FALSE))","v":""},null,null,null,null,null,null,null,{"$f":"IF(ISERROR(VLOOKUP(CONCATENATE($N$10,\"_\",M26),選手名簿!$A:$E,5,FALSE))=TRUE,\"\",VLOOKUP(CONCATENATE($N$10,\"_\",M26),選手名簿!$A:$E,5,FALSE))","v":""},null,null,"番号","R001255616",null,null,null,{"$f":"IF(ISERROR(VLOOKUP(CONCATENATE($V$10,\"_\",W26),選手名簿!$A:$E,5,FALSE))=TRUE,\"\",VLOOKUP(CONCATENATE($V$10,\"_\",W26),選手名簿!$A:$E,5,FALSE))","v":""},null,null,null,null,null,null,null,{"$f":"IF(ISERROR(VLOOKUP(CONCATENATE($AD$10,\"_\",AC26),選手名簿!$A:$E,5,FALSE))=TRUE,\"\",VLOOKUP(CONCATENATE($AD$10,\"_\",AC26),選手名簿!$A:$E,5,FALSE))","v":""}]
["AR1:",{"$f":"IF(ISERROR(VLOOKUP(B26,審判員!$A:$C,2,FALSE))=TRUE,\"\",VLOOKUP(B26,審判員!$A:$C,2,FALSE))","v":"安倍　達也"},null,{"$f":"IF(ISERROR(VLOOKUP(B26,審判員!$A:$C,3,FALSE))=TRUE,\"\",VLOOKUP(B26,審判員!$A:$C,3,FALSE))","v":"３級"},null,{"$f":"IF(ISERROR(VLOOKUP(CONCATENATE($F$10,\"_\",G27),選手名簿!$A:$E,5,FALSE))=TRUE,\"\",VLOOKUP(CONCATENATE($F$10,\"_\",G27),選手名簿!$A:$E,5,FALSE))","v":""},null,null,null,null,null,null,null,{"$f":"IF(ISERROR(VLOOKUP(CONCATENATE($N$10,\"_\",M27),選手名簿!$A:$E,5,FALSE))=TRUE,\"\",VLOOKUP(CONCATENATE($N$10,\"_\",M27),選手名簿!$A:$E,5,FALSE))","v":""},null,null,"AR1:",{"$f":"IF(ISERROR(VLOOKUP(R26,審判員!$A:$C,2,FALSE))=TRUE,\"\",VLOOKUP(R26,審判員!$A:$C,2,FALSE))","v":"川井　勇介"},null,{"$f":"IF(ISERROR(VLOOKUP(R26,審判員!$A:$C,3,FALSE))=TRUE,\"\",VLOOKUP(R26,審判員!$A:$C,3,FALSE))","v":"３級"},null,{"$f":"IF(ISERROR(VLOOKUP(CONCATENATE($V$10,\"_\",W27),選手名簿!$A:$E,5,FALSE))=TRUE,\"\",VLOOKUP(CONCATENATE($V$10,\"_\",W27),選手名簿!$A:$E,5,FALSE))","v":""},null,null,null,null,null,null,null,{"$f":"IF(ISERROR(VLOOKUP(CONCATENATE($AD$10,\"_\",AC27),選手名簿!$A:$E,5,FALSE))=TRUE,\"\",VLOOKUP(CONCATENATE($AD$10,\"_\",AC27),選手名簿!$A:$E,5,FALSE))","v":""}]
["番号","R010074018",null,null,null,{"$f":"IF(ISERROR(VLOOKUP(CONCATENATE($F$10,\"_\",G28),選手名簿!$A:$E,5,FALSE))=TRUE,\"\",VLOOKUP(CONCATENATE($F$10,\"_\",G28),選手名簿!$A:$E,5,FALSE))","v":""},null,null,null,null,null,null,null,{"$f":"IF(ISERROR(VLOOKUP(CONCATENATE($N$10,\"_\",M28),選手名簿!$A:$E,5,FALSE))=TRUE,\"\",VLOOKUP(CONCATENATE($N$10,\"_\",M28),選手名簿!$A:$E,5,FALSE))","v":""},null,null,"番号","R001263350",null,null,null,{"$f":"IF(ISERROR(VLOOKUP(CONCATENATE($V$10,\"_\",W28),選手名簿!$A:$E,5,FALSE))=TRUE,\"\",VLOOKUP(CONCATENATE($V$10,\"_\",W28),選手名簿!$A:$E,5,FALSE))","v":""},null,null,null,null,null,null,null,{"$f":"IF(ISERROR(VLOOKUP(CONCATENATE($AD$10,\"_\",AC28),選手名簿!$A:$E,5,FALSE))=TRUE,\"\",VLOOKUP(CONCATENATE($AD$10,\"_\",AC28),選手名簿!$A:$E,5,FALSE))","v":""}]
["AR2:",{"$f":"IF(ISERROR(VLOOKUP(B28,審判員!$A:$C,2,FALSE))=TRUE,\"\",VLOOKUP(B28,審判員!$A:$C,2,FALSE))","v":"長門　崚太"},null,{"$f":"IF(ISERROR(VLOOKUP(B28,審判員!$A:$C,3,FALSE))=TRUE,\"\",VLOOKUP(B28,審判員!$A:$C,3,FALSE))","v":"３級"},null,{"$f":"IF(ISERROR(VLOOKUP(CONCATENATE($F$10,\"_\",G29),選手名簿!$A:$E,5,FALSE))=TRUE,\"\",VLOOKUP(CONCATENATE($F$10,\"_\",G29),選手名簿!$A:$E,5,FALSE))","v":""},null,null,null,null,null,null,null,{"$f":"IF(ISERROR(VLOOKUP(CONCATENATE($N$10,\"_\",M29),選手名簿!$A:$E,5,FALSE))=TRUE,\"\",VLOOKUP(CONCATENATE($N$10,\"_\",M29),選手名簿!$A:$E,5,FALSE))","v":""},null,null,"AR2:",{"$f":"IF(ISERROR(VLOOKUP(R28,審判員!$A:$C,2,FALSE))=TRUE,\"\",VLOOKUP(R28,審判員!$A:$C,2,FALSE))","v":"酒井　祐三"},null,{"$f":"IF(ISERROR(VLOOKUP(R28,審判員!$A:$C,3,FALSE))=TRUE,\"\",VLOOKUP(R28,審判員!$A:$C,3,FALSE))","v":"３級"},null,{"$f":"IF(ISERROR(VLOOKUP(CONCATENATE($V$10,\"_\",W29),選手名簿!$A:$E,5,FALSE))=TRUE,\"\",VLOOKUP(CONCATENATE($V$10,\"_\",W29),選手名簿!$A:$E,5,FALSE))","v":""},null,null,null,null,null,null,null,{"$f":"IF(ISERROR(VLOOKUP(CONCATENATE($AD$10,\"_\",AC29),選手名簿!$A:$E,5,FALSE))=TRUE,\"\",VLOOKUP(CONCATENATE($AD$10,\"_\",AC29),選手名簿!$A:$E,5,FALSE))","v":""}]
["番号","R010388050",null,null,null,{"$f":"IF(ISERROR(VLOOKUP(CONCATENATE($F$10,\"_\",G30),選手名簿!$A:$E,5,FALSE))=TRUE,\"\",VLOOKUP(CONCATENATE($F$10,\"_\",G30),選手名簿!$A:$E,5,FALSE))","v":""},null,null,null,null,null,null,null,{"$f":"IF(ISERROR(VLOOKUP(CONCATENATE($N$10,\"_\",M30),選手名簿!$A:$E,5,FALSE))=TRUE,\"\",VLOOKUP(CONCATENATE($N$10,\"_\",M30),選手名簿!$A:$E,5,FALSE))","v":""},null,null,"番号","R010313746",null,null,null,{"$f":"IF(ISERROR(VLOOKUP(CONCATENATE($V$10,\"_\",W30),選手名簿!$A:$E,5,FALSE))=TRUE,\"\",VLOOKUP(CONCATENATE($V$10,\"_\",W30),選手名簿!$A:$E,5,FALSE))","v":""},null,null,null,null,null,null,null,{"$f":"IF(ISERROR(VLOOKUP(CONCATENATE($AD$10,\"_\",AC30),選手名簿!$A:$E,5,FALSE))=TRUE,\"\",VLOOKUP(CONCATENATE($AD$10,\"_\",AC30),選手名簿!$A:$E,5,FALSE))","v":""}]
["4th:",{"$f":"IF(ISERROR(VLOOKUP(B30,審判員!$A:$C,2,FALSE))=TRUE,\"\",VLOOKUP(B30,審判員!$A:$C,2,FALSE))","v":"川端　大翔"},null,{"$f":"IF(ISERROR(VLOOKUP(B30,審判員!$A:$C,3,FALSE))=TRUE,\"\",VLOOKUP(B30,審判員!$A:$C,3,FALSE))","v":"３級"},null,{"$f":"IF(ISERROR(VLOOKUP(CONCATENATE($F$10,\"_\",G31),選手名簿!$A:$E,5,FALSE))=TRUE,\"\",VLOOKUP(CONCATENATE($F$10,\"_\",G31),選手名簿!$A:$E,5,FALSE))","v":""},null,null,null,null,null,null,null,{"$f":"IF(ISERROR(VLOOKUP(CONCATENATE($N$10,\"_\",M31),選手名簿!$A:$E,5,FALSE))=TRUE,\"\",VLOOKUP(CONCATENATE($N$10,\"_\",M31),選手名簿!$A:$E,5,FALSE))","v":""},null,null,"4th:",{"$f":"IF(ISERROR(VLOOKUP(R30,審判員!$A:$C,2,FALSE))=TRUE,\"\",VLOOKUP(R30,審判員!$A:$C,2,FALSE))","v":"山本　崇史"},null,{"$f":"IF(ISERROR(VLOOKUP(R30,審判員!$A:$C,3,FALSE))=TRUE,\"\",VLOOKUP(R30,審判員!$A:$C,3,FALSE))","v":"３級"},null,{"$f":"IF(ISERROR(VLOOKUP(CONCATENATE($V$10,\"_\",W31),選手名簿!$A:$E,5,FALSE))=TRUE,\"\",VLOOKUP(CONCATENATE($V$10,\"_\",W31),選手名簿!$A:$E,5,FALSE))","v":""},null,null,null,null,null,null,null,{"$f":"IF(ISERROR(VLOOKUP(CONCATENATE($AD$10,\"_\",AC31),選手名簿!$A:$E,5,FALSE))=TRUE,\"\",VLOOKUP(CONCATENATE($AD$10,\"_\",AC31),選手名簿!$A:$E,5,FALSE))","v":""}]
[]
[]
[]
[]
[]
[]
[]
["MC","磯村　信一",null,null,{"$f":"予選リーグ!B23","v":"11:40:00"},{"$f":"F6","v":"ドリームキッズフットボールクラブ"},{"$f":"SUM(I39:I40)","v":4},"（",3,"前半",0,"）",{"$f":"SUM(K39:K40)","v":0},{"$f":"F7","v":"ヴェルスパ大分　Ｕ－１２"},null,null,"MC","磯村　信一",null,null,{"$f":"予選リーグ!B27","v":"13:20:00"},{"$f":"V6","v":"Ｍ．Ｓ．Ｓ"},{"$f":"SUM(Y39:Y40)","v":3},"（",1,"前半",3,"）",{"$f":"SUM(AA39:AA40)","v":4},{"$f":"V7","v":"東大分サッカースポーツ少年団"}]
["Welfare\nOfficer",null,null,null,null,null,null,null,1,"後半",0,null,null,null,null,null,"Welfare\nOfficer",null,null,null,null,null,null,null,2,"後半",1]
["記録","山根　雄治",null,null,null,null,null,null,null,"PK",null,null,null,null,null,null,"記録","福元　研治",null,null,null,null,null,null,null,"PK"]
["＜Referee＞",null,null,null,"警告/退場\n選択肢より","氏名","番号","分","内容\n選択肢より",null,"内容\n選択肢より","分","番号","氏名","警告/退場\n選択肢より",null,"＜Referee＞",null,null,null,"警告/退場\n選択肢より","氏名","番号","分","内容\n選択肢より",null,"内容\n選択肢より","分","番号","氏名","警告/退場\n選択肢より"]
[null,null,null,null,"得点者",{"$f":"IF(ISERROR(VLOOKUP(CONCATENATE($F$39,\"_\",G43),選手名簿!$A:$E,5,FALSE))=TRUE,\"\",VLOOKUP(CONCATENATE($F$39,\"_\",G43),選手名簿!$A:$E,5,FALSE))","v":""},null,null,null,null,null,null,null,{"$f":"IF(ISERROR(VLOOKUP(CONCATENATE($N$39,\"_\",M43),選手名簿!$A:$E,5,FALSE))=TRUE,\"\",VLOOKUP(CONCATENATE($N$39,\"_\",M43),選手名簿!$A:$E,5,FALSE))","v":""},null,null,null,null,null,null,"得点者",{"$f":"IF(ISERROR(VLOOKUP(CONCATENATE($V$39,\"_\",W43),選手名簿!$A:$E,5,FALSE))=TRUE,\"\",VLOOKUP(CONCATENATE($V$39,\"_\",W43),選手名簿!$A:$E,5,FALSE))","v":""},null,null,null,null,null,null,null,{"$f":"IF(ISERROR(VLOOKUP(CONCATENATE($AD$39,\"_\",AC43),選手名簿!$A:$E,5,FALSE))=TRUE,\"\",VLOOKUP(CONCATENATE($AD$39,\"_\",AC43),選手名簿!$A:$E,5,FALSE))","v":""}]
[null,null,null,null,"得点者",{"$f":"IF(ISERROR(VLOOKUP(CONCATENATE($F$39,\"_\",G44),選手名簿!$A:$E,5,FALSE))=TRUE,\"\",VLOOKUP(CONCATENATE($F$39,\"_\",G44),選手名簿!$A:$E,5,FALSE))","v":""},null,null,null,null,null,null,null,{"$f":"IF(ISERROR(VLOOKUP(CONCATENATE($N$39,\"_\",M44),選手名簿!$A:$E,5,FALSE))=TRUE,\"\",VLOOKUP(CONCATENATE($N$39,\"_\",M44),選手名簿!$A:$E,5,FALSE))","v":""},null,null,null,null,null,null,"得点者",{"$f":"IF(ISERROR(VLOOKUP(CONCATENATE($V$39,\"_\",W44),選手名簿!$A:$E,5,FALSE))=TRUE,\"\",VLOOKUP(CONCATENATE($V$39,\"_\",W44),選手名簿!$A:$E,5,FALSE))","v":""},null,null,null,null,null,null,null,{"$f":"IF(ISERROR(VLOOKUP(CONCATENATE($AD$39,\"_\",AC44),選手名簿!$A:$E,5,FALSE))=TRUE,\"\",VLOOKUP(CONCATENATE($AD$39,\"_\",AC44),選手名簿!$A:$E,5,FALSE))","v":""}]
[null,null,null,null,"得点者",{"$f":"IF(ISERROR(VLOOKUP(CONCATENATE($F$39,\"_\",G45),選手名簿!$A:$E,5,FALSE))=TRUE,\"\",VLOOKUP(CONCATENATE($F$39,\"_\",G45),選手名簿!$A:$E,5,FALSE))","v":""},null,null,null,null,null,null,null,{"$f":"IF(ISERROR(VLOOKUP(CONCATENATE($N$39,\"_\",M45),選手名簿!$A:$E,5,FALSE))=TRUE,\"\",VLOOKUP(CONCATENATE($N$39,\"_\",M45),選手名簿!$A:$E,5,FALSE))","v":""},null,null,null,null,null,null,"得点者",{"$f":"IF(ISERROR(VLOOKUP(CONCATENATE($V$39,\"_\",W45),選手名簿!$A:$E,5,FALSE))=TRUE,\"\",VLOOKUP(CONCATENATE($V$39,\"_\",W45),選手名簿!$A:$E,5,FALSE))","v":""},null,null,null,null,null,null,null,{"$f":"IF(ISERROR(VLOOKUP(CONCATENATE($AD$39,\"_\",AC45),選手名簿!$A:$E,5,FALSE))=TRUE,\"\",VLOOKUP(CONCATENATE($AD$39,\"_\",AC45),選手名簿!$A:$E,5,FALSE))","v":""}]
[null,null,null,null,"得点者",{"$f":"IF(ISERROR(VLOOKUP(CONCATENATE($F$39,\"_\",G46),選手名簿!$A:$E,5,FALSE))=TRUE,\"\",VLOOKUP(CONCATENATE($F$39,\"_\",G46),選手名簿!$A:$E,5,FALSE))","v":""},null,null,null,null,null,null,null,{"$f":"IF(ISERROR(VLOOKUP(CONCATENATE($N$39,\"_\",M46),選手名簿!$A:$E,5,FALSE))=TRUE,\"\",VLOOKUP(CONCATENATE($N$39,\"_\",M46),選手名簿!$A:$E,5,FALSE))","v":""},null,null,null,null,null,null,"得点者",{"$f":"IF(ISERROR(VLOOKUP(CONCATENATE($V$39,\"_\",W46),選手名簿!$A:$E,5,FALSE))=TRUE,\"\",VLOOKUP(CONCATENATE($V$39,\"_\",W46),選手名簿!$A:$E,5,FALSE))","v":""},null,null,null,null,null,null,null,{"$f":"IF(ISERROR(VLOOKUP(CONCATENATE($AD$39,\"_\",AC46),選手名簿!$A:$E,5,FALSE))=TRUE,\"\",VLOOKUP(CONCATENATE($AD$39,\"_\",AC46),選手名簿!$A:$E,5,FALSE))","v":""}]
[null,null,null,null,"得点者",{"$f":"IF(ISERROR(VLOOKUP(CONCATENATE($F$39,\"_\",G47),選手名簿!$A:$E,5,FALSE))=TRUE,\"\",VLOOKUP(CONCATENATE($F$39,\"_\",G47),選手名簿!$A:$E,5,FALSE))","v":""},null,null,null,null,null,null,null,{"$f":"IF(ISERROR(VLOOKUP(CONCATENATE($N$39,\"_\",M47),選手名簿!$A:$E,5,FALSE))=TRUE,\"\",VLOOKUP(CONCATENATE($N$39,\"_\",M47),選手名簿!$A:$E,5,FALSE))","v":""},null,null,null,null,null,null,"得点者",{"$f":"IF(ISERROR(VLOOKUP(CONCATENATE($V$39,\"_\",W47),選手名簿!$A:$E,5,FALSE))=TRUE,\"\",VLOOKUP(CONCATENATE($V$39,\"_\",W47),選手名簿!$A:$E,5,FALSE))","v":""},null,null,null,null,null,null,null,{"$f":"IF(ISERROR(VLOOKUP(CONCATENATE($AD$39,\"_\",AC47),選手名簿!$A:$E,5,FALSE))=TRUE,\"\",VLOOKUP(CONCATENATE($AD$39,\"_\",AC47),選手名簿!$A:$E,5,FALSE))","v":""}]
[null,null,null,null,"得点者",{"$f":"IF(ISERROR(VLOOKUP(CONCATENATE($F$39,\"_\",G48),選手名簿!$A:$E,5,FALSE))=TRUE,\"\",VLOOKUP(CONCATENATE($F$39,\"_\",G48),選手名簿!$A:$E,5,FALSE))","v":""},null,null,null,null,null,null,null,{"$f":"IF(ISERROR(VLOOKUP(CONCATENATE($N$39,\"_\",M48),選手名簿!$A:$E,5,FALSE))=TRUE,\"\",VLOOKUP(CONCATENATE($N$39,\"_\",M48),選手名簿!$A:$E,5,FALSE))","v":""},null,null,null,null,null,null,"得点者",{"$f":"IF(ISERROR(VLOOKUP(CONCATENATE($V$39,\"_\",W48),選手名簿!$A:$E,5,FALSE))=TRUE,\"\",VLOOKUP(CONCATENATE($V$39,\"_\",W48),選手名簿!$A:$E,5,FALSE))","v":""},null,null,null,null,null,null,null,{"$f":"IF(ISERROR(VLOOKUP(CONCATENATE($AD$39,\"_\",AC48),選手名簿!$A:$E,5,FALSE))=TRUE,\"\",VLOOKUP(CONCATENATE($AD$39,\"_\",AC48),選手名簿!$A:$E,5,FALSE))","v":""}]
[null,null,null,null,"得点者",{"$f":"IF(ISERROR(VLOOKUP(CONCATENATE($F$39,\"_\",G49),選手名簿!$A:$E,5,FALSE))=TRUE,\"\",VLOOKUP(CONCATENATE($F$39,\"_\",G49),選手名簿!$A:$E,5,FALSE))","v":""},null,null,null,null,null,null,null,{"$f":"IF(ISERROR(VLOOKUP(CONCATENATE($N$39,\"_\",M49),選手名簿!$A:$E,5,FALSE))=TRUE,\"\",VLOOKUP(CONCATENATE($N$39,\"_\",M49),選手名簿!$A:$E,5,FALSE))","v":""},null,null,null,null,null,null,"得点者",{"$f":"IF(ISERROR(VLOOKUP(CONCATENATE($V$39,\"_\",W49),選手名簿!$A:$E,5,FALSE))=TRUE,\"\",VLOOKUP(CONCATENATE($V$39,\"_\",W49),選手名簿!$A:$E,5,FALSE))","v":""},null,null,null,null,null,null,null,{"$f":"IF(ISERROR(VLOOKUP(CONCATENATE($AD$39,\"_\",AC49),選手名簿!$A:$E,5,FALSE))=TRUE,\"\",VLOOKUP(CONCATENATE($AD$39,\"_\",AC49),選手名簿!$A:$E,5,FALSE))","v":""}]
[null,null,null,null,"得点者",{"$f":"IF(ISERROR(VLOOKUP(CONCATENATE($F$39,\"_\",G50),選手名簿!$A:$E,5,FALSE))=TRUE,\"\",VLOOKUP(CONCATENATE($F$39,\"_\",G50),選手名簿!$A:$E,5,FALSE))","v":""},null,null,null,null,null,null,null,{"$f":"IF(ISERROR(VLOOKUP(CONCATENATE($N$39,\"_\",M50),選手名簿!$A:$E,5,FALSE))=TRUE,\"\",VLOOKUP(CONCATENATE($N$39,\"_\",M50),選手名簿!$A:$E,5,FALSE))","v":""},null,null,null,null,null,null,"得点者",{"$f":"IF(ISERROR(VLOOKUP(CONCATENATE($V$39,\"_\",W50),選手名簿!$A:$E,5,FALSE))=TRUE,\"\",VLOOKUP(CONCATENATE($V$39,\"_\",W50),選手名簿!$A:$E,5,FALSE))","v":""},null,null,null,null,null,null,null,{"$f":"IF(ISERROR(VLOOKUP(CONCATENATE($AD$39,\"_\",AC50),選手名簿!$A:$E,5,FALSE))=TRUE,\"\",VLOOKUP(CONCATENATE($AD$39,\"_\",AC50),選手名簿!$A:$E,5,FALSE))","v":""}]
[null,null,null,null,"得点者",{"$f":"IF(ISERROR(VLOOKUP(CONCATENATE($F$39,\"_\",G51),選手名簿!$A:$E,5,FALSE))=TRUE,\"\",VLOOKUP(CONCATENATE($F$39,\"_\",G51),選手名簿!$A:$E,5,FALSE))","v":""},null,null,null,null,null,null,null,{"$f":"IF(ISERROR(VLOOKUP(CONCATENATE($N$39,\"_\",M51),選手名簿!$A:$E,5,FALSE))=TRUE,\"\",VLOOKUP(CONCATENATE($N$39,\"_\",M51),選手名簿!$A:$E,5,FALSE))","v":""},null,null,null,null,null,null,"得点者",{"$f":"IF(ISERROR(VLOOKUP(CONCATENATE($V$39,\"_\",W51),選手名簿!$A:$E,5,FALSE))=TRUE,\"\",VLOOKUP(CONCATENATE($V$39,\"_\",W51),選手名簿!$A:$E,5,FALSE))","v":""},null,null,null,null,null,null,null,{"$f":"IF(ISERROR(VLOOKUP(CONCATENATE($AD$39,\"_\",AC51),選手名簿!$A:$E,5,FALSE))=TRUE,\"\",VLOOKUP(CONCATENATE($AD$39,\"_\",AC51),選手名簿!$A:$E,5,FALSE))","v":""}]
[null,null,null,null,"得点者",{"$f":"IF(ISERROR(VLOOKUP(CONCATENATE($F$39,\"_\",G52),選手名簿!$A:$E,5,FALSE))=TRUE,\"\",VLOOKUP(CONCATENATE($F$39,\"_\",G52),選手名簿!$A:$E,5,FALSE))","v":""},null,null,null,null,null,null,null,{"$f":"IF(ISERROR(VLOOKUP(CONCATENATE($N$39,\"_\",M52),選手名簿!$A:$E,5,FALSE))=TRUE,\"\",VLOOKUP(CONCATENATE($N$39,\"_\",M52),選手名簿!$A:$E,5,FALSE))","v":""},null,null,null,null,null,null,"得点者",{"$f":"IF(ISERROR(VLOOKUP(CONCATENATE($V$39,\"_\",W52),選手名簿!$A:$E,5,FALSE))=TRUE,\"\",VLOOKUP(CONCATENATE($V$39,\"_\",W52),選手名簿!$A:$E,5,FALSE))","v":""},null,null,null,null,null,null,null,{"$f":"IF(ISERROR(VLOOKUP(CONCATENATE($AD$39,\"_\",AC52),選手名簿!$A:$E,5,FALSE))=TRUE,\"\",VLOOKUP(CONCATENATE($AD$39,\"_\",AC52),選手名簿!$A:$E,5,FALSE))","v":""}]
["番号","R010313746",null,null,null,{"$f":"IF(ISERROR(VLOOKUP(CONCATENATE($F$39,\"_\",G53),選手名簿!$A:$E,5,FALSE))=TRUE,\"\",VLOOKUP(CONCATENATE($F$39,\"_\",G53),選手名簿!$A:$E,5,FALSE))","v":""},null,null,null,null,null,null,null,{"$f":"IF(ISERROR(VLOOKUP(CONCATENATE($N$39,\"_\",M53),選手名簿!$A:$E,5,FALSE))=TRUE,\"\",VLOOKUP(CONCATENATE($N$39,\"_\",M53),選手名簿!$A:$E,5,FALSE))","v":""},null,null,"番号","R001262403",null,null,null,{"$f":"IF(ISERROR(VLOOKUP(CONCATENATE($V$39,\"_\",W53),選手名簿!$A:$E,5,FALSE))=TRUE,\"\",VLOOKUP(CONCATENATE($V$39,\"_\",W53),選手名簿!$A:$E,5,FALSE))","v":""},null,null,null,null,null,null,null,{"$f":"IF(ISERROR(VLOOKUP(CONCATENATE($AD$39,\"_\",AC53),選手名簿!$A:$E,5,FALSE))=TRUE,\"\",VLOOKUP(CONCATENATE($AD$39,\"_\",AC53),選手名簿!$A:$E,5,FALSE))","v":""}]
["R",{"$f":"IF(ISERROR(VLOOKUP(B53,審判員!$A:$C,2,FALSE))=TRUE,\"\",VLOOKUP(B53,審判員!$A:$C,2,FALSE))","v":"山本　崇史"},null,{"$f":"IF(ISERROR(VLOOKUP(B53,審判員!$A:$C,3,FALSE))=TRUE,\"\",VLOOKUP(B53,審判員!$A:$C,3,FALSE))","v":"３級"},null,{"$f":"IF(ISERROR(VLOOKUP(CONCATENATE($F$39,\"_\",G54),選手名簿!$A:$E,5,FALSE))=TRUE,\"\",VLOOKUP(CONCATENATE($F$39,\"_\",G54),選手名簿!$A:$E,5,FALSE))","v":""},null,null,null,null,null,null,null,{"$f":"IF(ISERROR(VLOOKUP(CONCATENATE($N$39,\"_\",M54),選手名簿!$A:$E,5,FALSE))=TRUE,\"\",VLOOKUP(CONCATENATE($N$39,\"_\",M54),選手名簿!$A:$E,5,FALSE))","v":""},null,null,"R",{"$f":"IF(ISERROR(VLOOKUP(R53,審判員!$A:$C,2,FALSE))=TRUE,\"\",VLOOKUP(R53,審判員!$A:$C,2,FALSE))","v":"石山　慎史"},null,{"$f":"IF(ISERROR(VLOOKUP(R53,審判員!$A:$C,3,FALSE))=TRUE,\"\",VLOOKUP(R53,審判員!$A:$C,3,FALSE))","v":"３級"},null,{"$f":"IF(ISERROR(VLOOKUP(CONCATENATE($V$39,\"_\",W54),選手名簿!$A:$E,5,FALSE))=TRUE,\"\",VLOOKUP(CONCATENATE($V$39,\"_\",W54),選手名簿!$A:$E,5,FALSE))","v":""},null,null,null,null,null,null,null,{"$f":"IF(ISERROR(VLOOKUP(CONCATENATE($AD$39,\"_\",AC54),選手名簿!$A:$E,5,FALSE))=TRUE,\"\",VLOOKUP(CONCATENATE($AD$39,\"_\",AC54),選手名簿!$A:$E,5,FALSE))","v":""}]
["番号","R007959103",null,null,null,{"$f":"IF(ISERROR(VLOOKUP(CONCATENATE($F$39,\"_\",G55),選手名簿!$A:$E,5,FALSE))=TRUE,\"\",VLOOKUP(CONCATENATE($F$39,\"_\",G55),選手名簿!$A:$E,5,FALSE))","v":""},null,null,null,null,null,null,null,{"$f":"IF(ISERROR(VLOOKUP(CONCATENATE($N$39,\"_\",M55),選手名簿!$A:$E,5,FALSE))=TRUE,\"\",VLOOKUP(CONCATENATE($N$39,\"_\",M55),選手名簿!$A:$E,5,FALSE))","v":""},null,null,"番号","R001263350",null,null,null,{"$f":"IF(ISERROR(VLOOKUP(CONCATENATE($V$39,\"_\",W55),選手名簿!$A:$E,5,FALSE))=TRUE,\"\",VLOOKUP(CONCATENATE($V$39,\"_\",W55),選手名簿!$A:$E,5,FALSE))","v":""},null,null,null,null,null,null,null,{"$f":"IF(ISERROR(VLOOKUP(CONCATENATE($AD$39,\"_\",AC55),選手名簿!$A:$E,5,FALSE))=TRUE,\"\",VLOOKUP(CONCATENATE($AD$39,\"_\",AC55),選手名簿!$A:$E,5,FALSE))","v":""}]
["AR1:",{"$f":"IF(ISERROR(VLOOKUP(B55,審判員!$A:$C,2,FALSE))=TRUE,\"\",VLOOKUP(B55,審判員!$A:$C,2,FALSE))","v":"安倍　達也"},null,{"$f":"IF(ISERROR(VLOOKUP(B55,審判員!$A:$C,3,FALSE))=TRUE,\"\",VLOOKUP(B55,審判員!$A:$C,3,FALSE))","v":"３級"},null,{"$f":"IF(ISERROR(VLOOKUP(CONCATENATE($F$39,\"_\",G56),選手名簿!$A:$E,5,FALSE))=TRUE,\"\",VLOOKUP(CONCATENATE($F$39,\"_\",G56),選手名簿!$A:$E,5,FALSE))","v":""},null,null,null,null,null,null,null,{"$f":"IF(ISERROR(VLOOKUP(CONCATENATE($N$39,\"_\",M56),選手名簿!$A:$E,5,FALSE))=TRUE,\"\",VLOOKUP(CONCATENATE($N$39,\"_\",M56),選手名簿!$A:$E,5,FALSE))","v":""},null,null,"AR1:",{"$f":"IF(ISERROR(VLOOKUP(R55,審判員!$A:$C,2,FALSE))=TRUE,\"\",VLOOKUP(R55,審判員!$A:$C,2,FALSE))","v":"酒井　祐三"},null,{"$f":"IF(ISERROR(VLOOKUP(R55,審判員!$A:$C,3,FALSE))=TRUE,\"\",VLOOKUP(R55,審判員!$A:$C,3,FALSE))","v":"３級"},null,{"$f":"IF(ISERROR(VLOOKUP(CONCATENATE($V$39,\"_\",W56),選手名簿!$A:$E,5,FALSE))=TRUE,\"\",VLOOKUP(CONCATENATE($V$39,\"_\",W56),選手名簿!$A:$E,5,FALSE))","v":""},null,null,null,null,null,null,null,{"$f":"IF(ISERROR(VLOOKUP(CONCATENATE($AD$39,\"_\",AC56),選手名簿!$A:$E,5,FALSE))=TRUE,\"\",VLOOKUP(CONCATENATE($AD$39,\"_\",AC56),選手名簿!$A:$E,5,FALSE))","v":""}]
["番号","R009197691",null,null,null,{"$f":"IF(ISERROR(VLOOKUP(CONCATENATE($F$39,\"_\",G57),選手名簿!$A:$E,5,FALSE))=TRUE,\"\",VLOOKUP(CONCATENATE($F$39,\"_\",G57),選手名簿!$A:$E,5,FALSE))","v":""},null,null,null,null,null,null,null,{"$f":"IF(ISERROR(VLOOKUP(CONCATENATE($N$39,\"_\",M57),選手名簿!$A:$E,5,FALSE))=TRUE,\"\",VLOOKUP(CONCATENATE($N$39,\"_\",M57),選手名簿!$A:$E,5,FALSE))","v":""},null,null,"番号","R008626886",null,null,null,{"$f":"IF(ISERROR(VLOOKUP(CONCATENATE($V$39,\"_\",W57),選手名簿!$A:$E,5,FALSE))=TRUE,\"\",VLOOKUP(CONCATENATE($V$39,\"_\",W57),選手名簿!$A:$E,5,FALSE))","v":""},null,null,null,null,null,null,null,{"$f":"IF(ISERROR(VLOOKUP(CONCATENATE($AD$39,\"_\",AC57),選手名簿!$A:$E,5,FALSE))=TRUE,\"\",VLOOKUP(CONCATENATE($AD$39,\"_\",AC57),選手名簿!$A:$E,5,FALSE))","v":""}]
["AR2:",{"$f":"IF(ISERROR(VLOOKUP(B57,審判員!$A:$C,2,FALSE))=TRUE,\"\",VLOOKUP(B57,審判員!$A:$C,2,FALSE))","v":"深堀　祥司"},null,{"$f":"IF(ISERROR(VLOOKUP(B57,審判員!$A:$C,3,FALSE))=TRUE,\"\",VLOOKUP(B57,審判員!$A:$C,3,FALSE))","v":"３級"},null,{"$f":"IF(ISERROR(VLOOKUP(CONCATENATE($F$39,\"_\",G58),選手名簿!$A:$E,5,FALSE))=TRUE,\"\",VLOOKUP(CONCATENATE($F$39,\"_\",G58),選手名簿!$A:$E,5,FALSE))","v":""},null,null,null,null,null,null,null,{"$f":"IF(ISERROR(VLOOKUP(CONCATENATE($N$39,\"_\",M58),選手名簿!$A:$E,5,FALSE))=TRUE,\"\",VLOOKUP(CONCATENATE($N$39,\"_\",M58),選手名簿!$A:$E,5,FALSE))","v":""},null,null,"AR2:",{"$f":"IF(ISERROR(VLOOKUP(R57,審判員!$A:$C,2,FALSE))=TRUE,\"\",VLOOKUP(R57,審判員!$A:$C,2,FALSE))","v":"山本　真乃介"},null,{"$f":"IF(ISERROR(VLOOKUP(R57,審判員!$A:$C,3,FALSE))=TRUE,\"\",VLOOKUP(R57,審判員!$A:$C,3,FALSE))","v":"３級"},null,{"$f":"IF(ISERROR(VLOOKUP(CONCATENATE($V$39,\"_\",W58),選手名簿!$A:$E,5,FALSE))=TRUE,\"\",VLOOKUP(CONCATENATE($V$39,\"_\",W58),選手名簿!$A:$E,5,FALSE))","v":""},null,null,null,null,null,null,null,{"$f":"IF(ISERROR(VLOOKUP(CONCATENATE($AD$39,\"_\",AC58),選手名簿!$A:$E,5,FALSE))=TRUE,\"\",VLOOKUP(CONCATENATE($AD$39,\"_\",AC58),選手名簿!$A:$E,5,FALSE))","v":""}]
["番号","R001262403",null,null,null,{"$f":"IF(ISERROR(VLOOKUP(CONCATENATE($F$39,\"_\",G59),選手名簿!$A:$E,5,FALSE))=TRUE,\"\",VLOOKUP(CONCATENATE($F$39,\"_\",G59),選手名簿!$A:$E,5,FALSE))","v":""},null,null,null,null,null,null,null,{"$f":"IF(ISERROR(VLOOKUP(CONCATENATE($N$39,\"_\",M59),選手名簿!$A:$E,5,FALSE))=TRUE,\"\",VLOOKUP(CONCATENATE($N$39,\"_\",M59),選手名簿!$A:$E,5,FALSE))","v":""},null,null,"番号","R010388050",null,null,null,{"$f":"IF(ISERROR(VLOOKUP(CONCATENATE($V$39,\"_\",W59),選手名簿!$A:$E,5,FALSE))=TRUE,\"\",VLOOKUP(CONCATENATE($V$39,\"_\",W59),選手名簿!$A:$E,5,FALSE))","v":""},null,null,null,null,null,null,null,{"$f":"IF(ISERROR(VLOOKUP(CONCATENATE($AD$39,\"_\",AC59),選手名簿!$A:$E,5,FALSE))=TRUE,\"\",VLOOKUP(CONCATENATE($AD$39,\"_\",AC59),選手名簿!$A:$E,5,FALSE))","v":""}]
["4th:",{"$f":"IF(ISERROR(VLOOKUP(B59,審判員!$A:$C,2,FALSE))=TRUE,\"\",VLOOKUP(B59,審判員!$A:$C,2,FALSE))","v":"石山　慎史"},null,{"$f":"IF(ISERROR(VLOOKUP(B59,審判員!$A:$C,3,FALSE))=TRUE,\"\",VLOOKUP(B59,審判員!$A:$C,3,FALSE))","v":"３級"},null,{"$f":"IF(ISERROR(VLOOKUP(CONCATENATE($F$39,\"_\",G60),選手名簿!$A:$E,5,FALSE))=TRUE,\"\",VLOOKUP(CONCATENATE($F$39,\"_\",G60),選手名簿!$A:$E,5,FALSE))","v":""},null,null,null,null,null,null,null,{"$f":"IF(ISERROR(VLOOKUP(CONCATENATE($N$39,\"_\",M60),選手名簿!$A:$E,5,FALSE))=TRUE,\"\",VLOOKUP(CONCATENATE($N$39,\"_\",M60),選手名簿!$A:$E,5,FALSE))","v":""},null,null,"4th:",{"$f":"IF(ISERROR(VLOOKUP(R59,審判員!$A:$C,2,FALSE))=TRUE,\"\",VLOOKUP(R59,審判員!$A:$C,2,FALSE))","v":"川端　大翔"},null,{"$f":"IF(ISERROR(VLOOKUP(R59,審判員!$A:$C,3,FALSE))=TRUE,\"\",VLOOKUP(R59,審判員!$A:$C,3,FALSE))","v":"３級"},null,{"$f":"IF(ISERROR(VLOOKUP(CONCATENATE($V$39,\"_\",W60),選手名簿!$A:$E,5,FALSE))=TRUE,\"\",VLOOKUP(CONCATENATE($V$39,\"_\",W60),選手名簿!$A:$E,5,FALSE))","v":""},null,null,null,null,null,null,null,{"$f":"IF(ISERROR(VLOOKUP(CONCATENATE($AD$39,\"_\",AC60),選手名簿!$A:$E,5,FALSE))=TRUE,\"\",VLOOKUP(CONCATENATE($AD$39,\"_\",AC60),選手名簿!$A:$E,5,FALSE))","v":""}]
[]
[]
[]
[]
[]
[]
[]
["MC","山根　雄治",null,null,{"$f":"予選リーグ!B29","v":"14:10:00"},{"$f":"F7","v":"ヴェルスパ大分　Ｕ－１２"},{"$f":"SUM(I68:I69)","v":3},"（",1,"前半",1,"）",{"$f":"SUM(K68:K69)","v":3},{"$f":"F5","v":"ＦＣアリアーレ"},null,null,"MC","後藤　寿",null,null,{"$f":"予選リーグ!B31","v":"15:00:00"},{"$f":"V7","v":"東大分サッカースポーツ少年団"},{"$f":"SUM(Y68:Y69)","v":0},"（",0,"前半",0,"）",{"$f":"SUM(AA68:AA69)","v":2},{"$f":"V5","v":"別府フットボールクラブ．ミネルバＵ－１２"}]
["Welfare\nOfficer",null,null,null,null,null,null,null,2,"後半",2,null,null,null,null,null,"Welfare\nOfficer",null,null,null,null,null,null,null,0,"後半",2]
["記録","後藤　寿",null,null,null,null,null,null,null,"PK",null,null,null,null,null,null,"記録","福元　研治",null,null,null,null,null,null,null,"PK"]
["＜Referee＞",null,null,null,"警告/退場\n選択肢より","氏名","番号","分","内容\n選択肢より",null,"内容\n選択肢より","分","番号","氏名","警告/退場\n選択肢より",null,"＜Referee＞",null,null,null,"警告/退場\n選択肢より","氏名","番号","分","内容\n選択肢より",null,"内容\n選択肢より","分","番号","氏名","警告/退場\n選択肢より"]
[null,null,null,null,"得点者",{"$f":"IF(ISERROR(VLOOKUP(CONCATENATE($F$68,\"_\",G72),選手名簿!$A:$E,5,FALSE))=TRUE,\"\",VLOOKUP(CONCATENATE($F$68,\"_\",G72),選手名簿!$A:$E,5,FALSE))","v":""},null,null,null,null,null,null,null,{"$f":"IF(ISERROR(VLOOKUP(CONCATENATE($N$68,\"_\",M72),選手名簿!$A:$E,5,FALSE))=TRUE,\"\",VLOOKUP(CONCATENATE($N$68,\"_\",M72),選手名簿!$A:$E,5,FALSE))","v":""},null,null,null,null,null,null,"得点者",{"$f":"IF(ISERROR(VLOOKUP(CONCATENATE($V$68,\"_\",W72),選手名簿!$A:$E,5,FALSE))=TRUE,\"\",VLOOKUP(CONCATENATE($V$68,\"_\",W72),選手名簿!$A:$E,5,FALSE))","v":""},null,null,null,null,null,null,null,{"$f":"IF(ISERROR(VLOOKUP(CONCATENATE($AD$68,\"_\",AC72),選手名簿!$A:$E,5,FALSE))=TRUE,\"\",VLOOKUP(CONCATENATE($AD$68,\"_\",AC72),選手名簿!$A:$E,5,FALSE))","v":""}]
[null,null,null,null,"得点者",{"$f":"IF(ISERROR(VLOOKUP(CONCATENATE($F$68,\"_\",G73),選手名簿!$A:$E,5,FALSE))=TRUE,\"\",VLOOKUP(CONCATENATE($F$68,\"_\",G73),選手名簿!$A:$E,5,FALSE))","v":""},null,null,null,null,null,null,null,{"$f":"IF(ISERROR(VLOOKUP(CONCATENATE($N$68,\"_\",M73),選手名簿!$A:$E,5,FALSE))=TRUE,\"\",VLOOKUP(CONCATENATE($N$68,\"_\",M73),選手名簿!$A:$E,5,FALSE))","v":""},null,null,null,null,null,null,"得点者",{"$f":"IF(ISERROR(VLOOKUP(CONCATENATE($V$68,\"_\",W73),選手名簿!$A:$E,5,FALSE))=TRUE,\"\",VLOOKUP(CONCATENATE($V$68,\"_\",W73),選手名簿!$A:$E,5,FALSE))","v":""},null,null,null,null,null,null,null,{"$f":"IF(ISERROR(VLOOKUP(CONCATENATE($AD$68,\"_\",AC73),選手名簿!$A:$E,5,FALSE))=TRUE,\"\",VLOOKUP(CONCATENATE($AD$68,\"_\",AC73),選手名簿!$A:$E,5,FALSE))","v":""}]
[null,null,null,null,"得点者",{"$f":"IF(ISERROR(VLOOKUP(CONCATENATE($F$68,\"_\",G74),選手名簿!$A:$E,5,FALSE))=TRUE,\"\",VLOOKUP(CONCATENATE($F$68,\"_\",G74),選手名簿!$A:$E,5,FALSE))","v":""},null,null,null,null,null,null,null,{"$f":"IF(ISERROR(VLOOKUP(CONCATENATE($N$68,\"_\",M74),選手名簿!$A:$E,5,FALSE))=TRUE,\"\",VLOOKUP(CONCATENATE($N$68,\"_\",M74),選手名簿!$A:$E,5,FALSE))","v":""},null,null,null,null,null,null,"得点者",{"$f":"IF(ISERROR(VLOOKUP(CONCATENATE($V$68,\"_\",W74),選手名簿!$A:$E,5,FALSE))=TRUE,\"\",VLOOKUP(CONCATENATE($V$68,\"_\",W74),選手名簿!$A:$E,5,FALSE))","v":""},null,null,null,null,null,null,null,{"$f":"IF(ISERROR(VLOOKUP(CONCATENATE($AD$68,\"_\",AC74),選手名簿!$A:$E,5,FALSE))=TRUE,\"\",VLOOKUP(CONCATENATE($AD$68,\"_\",AC74),選手名簿!$A:$E,5,FALSE))","v":""}]
[null,null,null,null,"得点者",{"$f":"IF(ISERROR(VLOOKUP(CONCATENATE($F$68,\"_\",G75),選手名簿!$A:$E,5,FALSE))=TRUE,\"\",VLOOKUP(CONCATENATE($F$68,\"_\",G75),選手名簿!$A:$E,5,FALSE))","v":""},null,null,null,null,null,null,null,{"$f":"IF(ISERROR(VLOOKUP(CONCATENATE($N$68,\"_\",M75),選手名簿!$A:$E,5,FALSE))=TRUE,\"\",VLOOKUP(CONCATENATE($N$68,\"_\",M75),選手名簿!$A:$E,5,FALSE))","v":""},null,null,null,null,null,null,"得点者",{"$f":"IF(ISERROR(VLOOKUP(CONCATENATE($V$68,\"_\",W75),選手名簿!$A:$E,5,FALSE))=TRUE,\"\",VLOOKUP(CONCATENATE($V$68,\"_\",W75),選手名簿!$A:$E,5,FALSE))","v":""},null,null,null,null,null,null,null,{"$f":"IF(ISERROR(VLOOKUP(CONCATENATE($AD$68,\"_\",AC75),選手名簿!$A:$E,5,FALSE))=TRUE,\"\",VLOOKUP(CONCATENATE($AD$68,\"_\",AC75),選手名簿!$A:$E,5,FALSE))","v":""}]
[null,null,null,null,"得点者",{"$f":"IF(ISERROR(VLOOKUP(CONCATENATE($F$68,\"_\",G76),選手名簿!$A:$E,5,FALSE))=TRUE,\"\",VLOOKUP(CONCATENATE($F$68,\"_\",G76),選手名簿!$A:$E,5,FALSE))","v":""},null,null,null,null,null,null,null,{"$f":"IF(ISERROR(VLOOKUP(CONCATENATE($N$68,\"_\",M76),選手名簿!$A:$E,5,FALSE))=TRUE,\"\",VLOOKUP(CONCATENATE($N$68,\"_\",M76),選手名簿!$A:$E,5,FALSE))","v":""},null,null,null,null,null,null,"得点者",{"$f":"IF(ISERROR(VLOOKUP(CONCATENATE($V$68,\"_\",W76),選手名簿!$A:$E,5,FALSE))=TRUE,\"\",VLOOKUP(CONCATENATE($V$68,\"_\",W76),選手名簿!$A:$E,5,FALSE))","v":""},null,null,null,null,null,null,null,{"$f":"IF(ISERROR(VLOOKUP(CONCATENATE($AD$68,\"_\",AC76),選手名簿!$A:$E,5,FALSE))=TRUE,\"\",VLOOKUP(CONCATENATE($AD$68,\"_\",AC76),選手名簿!$A:$E,5,FALSE))","v":""}]
[null,null,null,null,"得点者",{"$f":"IF(ISERROR(VLOOKUP(CONCATENATE($F$68,\"_\",G77),選手名簿!$A:$E,5,FALSE))=TRUE,\"\",VLOOKUP(CONCATENATE($F$68,\"_\",G77),選手名簿!$A:$E,5,FALSE))","v":""},null,null,null,null,null,null,null,{"$f":"IF(ISERROR(VLOOKUP(CONCATENATE($N$68,\"_\",M77),選手名簿!$A:$E,5,FALSE))=TRUE,\"\",VLOOKUP(CONCATENATE($N$68,\"_\",M77),選手名簿!$A:$E,5,FALSE))","v":""},null,null,null,null,null,null,"得点者",{"$f":"IF(ISERROR(VLOOKUP(CONCATENATE($V$68,\"_\",W77),選手名簿!$A:$E,5,FALSE))=TRUE,\"\",VLOOKUP(CONCATENATE($V$68,\"_\",W77),選手名簿!$A:$E,5,FALSE))","v":""},null,null,null,null,null,null,null,{"$f":"IF(ISERROR(VLOOKUP(CONCATENATE($AD$68,\"_\",AC77),選手名簿!$A:$E,5,FALSE))=TRUE,\"\",VLOOKUP(CONCATENATE($AD$68,\"_\",AC77),選手名簿!$A:$E,5,FALSE))","v":""}]
[null,null,null,null,"得点者",{"$f":"IF(ISERROR(VLOOKUP(CONCATENATE($F$68,\"_\",G78),選手名簿!$A:$E,5,FALSE))=TRUE,\"\",VLOOKUP(CONCATENATE($F$68,\"_\",G78),選手名簿!$A:$E,5,FALSE))","v":""},null,null,null,null,null,null,null,{"$f":"IF(ISERROR(VLOOKUP(CONCATENATE($N$68,\"_\",M78),選手名簿!$A:$E,5,FALSE))=TRUE,\"\",VLOOKUP(CONCATENATE($N$68,\"_\",M78),選手名簿!$A:$E,5,FALSE))","v":""},null,null,null,null,null,null,"得点者",{"$f":"IF(ISERROR(VLOOKUP(CONCATENATE($V$68,\"_\",W78),選手名簿!$A:$E,5,FALSE))=TRUE,\"\",VLOOKUP(CONCATENATE($V$68,\"_\",W78),選手名簿!$A:$E,5,FALSE))","v":""},null,null,null,null,null,null,null,{"$f":"IF(ISERROR(VLOOKUP(CONCATENATE($AD$68,\"_\",AC78),選手名簿!$A:$E,5,FALSE))=TRUE,\"\",VLOOKUP(CONCATENATE($AD$68,\"_\",AC78),選手名簿!$A:$E,5,FALSE))","v":""}]
[null,null,null,null,"得点者",{"$f":"IF(ISERROR(VLOOKUP(CONCATENATE($F$68,\"_\",G79),選手名簿!$A:$E,5,FALSE))=TRUE,\"\",VLOOKUP(CONCATENATE($F$68,\"_\",G79),選手名簿!$A:$E,5,FALSE))","v":""},null,null,null,null,null,null,null,{"$f":"IF(ISERROR(VLOOKUP(CONCATENATE($N$68,\"_\",M79),選手名簿!$A:$E,5,FALSE))=TRUE,\"\",VLOOKUP(CONCATENATE($N$68,\"_\",M79),選手名簿!$A:$E,5,FALSE))","v":""},null,null,null,null,null,null,"得点者",{"$f":"IF(ISERROR(VLOOKUP(CONCATENATE($V$68,\"_\",W79),選手名簿!$A:$E,5,FALSE))=TRUE,\"\",VLOOKUP(CONCATENATE($V$68,\"_\",W79),選手名簿!$A:$E,5,FALSE))","v":""},null,null,null,null,null,null,null,{"$f":"IF(ISERROR(VLOOKUP(CONCATENATE($AD$68,\"_\",AC79),選手名簿!$A:$E,5,FALSE))=TRUE,\"\",VLOOKUP(CONCATENATE($AD$68,\"_\",AC79),選手名簿!$A:$E,5,FALSE))","v":""}]
[null,null,null,null,"得点者",{"$f":"IF(ISERROR(VLOOKUP(CONCATENATE($F$68,\"_\",G80),選手名簿!$A:$E,5,FALSE))=TRUE,\"\",VLOOKUP(CONCATENATE($F$68,\"_\",G80),選手名簿!$A:$E,5,FALSE))","v":""},null,null,null,null,null,null,null,{"$f":"IF(ISERROR(VLOOKUP(CONCATENATE($N$68,\"_\",M80),選手名簿!$A:$E,5,FALSE))=TRUE,\"\",VLOOKUP(CONCATENATE($N$68,\"_\",M80),選手名簿!$A:$E,5,FALSE))","v":""},null,null,null,null,null,null,"得点者",{"$f":"IF(ISERROR(VLOOKUP(CONCATENATE($V$68,\"_\",W80),選手名簿!$A:$E,5,FALSE))=TRUE,\"\",VLOOKUP(CONCATENATE($V$68,\"_\",W80),選手名簿!$A:$E,5,FALSE))","v":""},null,null,null,null,null,null,null,{"$f":"IF(ISERROR(VLOOKUP(CONCATENATE($AD$68,\"_\",AC80),選手名簿!$A:$E,5,FALSE))=TRUE,\"\",VLOOKUP(CONCATENATE($AD$68,\"_\",AC80),選手名簿!$A:$E,5,FALSE))","v":""}]
[null,null,null,null,"得点者",{"$f":"IF(ISERROR(VLOOKUP(CONCATENATE($F$68,\"_\",G81),選手名簿!$A:$E,5,FALSE))=TRUE,\"\",VLOOKUP(CONCATENATE($F$68,\"_\",G81),選手名簿!$A:$E,5,FALSE))","v":""},null,null,null,null,null,null,null,{"$f":"IF(ISERROR(VLOOKUP(CONCATENATE($N$68,\"_\",M81),選手名簿!$A:$E,5,FALSE))=TRUE,\"\",VLOOKUP(CONCATENATE($N$68,\"_\",M81),選手名簿!$A:$E,5,FALSE))","v":""},null,null,null,null,null,null,"得点者",{"$f":"IF(ISERROR(VLOOKUP(CONCATENATE($V$68,\"_\",W81),選手名簿!$A:$E,5,FALSE))=TRUE,\"\",VLOOKUP(CONCATENATE($V$68,\"_\",W81),選手名簿!$A:$E,5,FALSE))","v":""},null,null,null,null,null,null,null,{"$f":"IF(ISERROR(VLOOKUP(CONCATENATE($AD$68,\"_\",AC81),選手名簿!$A:$E,5,FALSE))=TRUE,\"\",VLOOKUP(CONCATENATE($AD$68,\"_\",AC81),選手名簿!$A:$E,5,FALSE))","v":""}]
["番号","R010388050",null,null,null,{"$f":"IF(ISERROR(VLOOKUP(CONCATENATE($F$68,\"_\",G82),選手名簿!$A:$E,5,FALSE))=TRUE,\"\",VLOOKUP(CONCATENATE($F$68,\"_\",G82),選手名簿!$A:$E,5,FALSE))","v":""},null,null,null,null,null,null,null,{"$f":"IF(ISERROR(VLOOKUP(CONCATENATE($N$68,\"_\",M82),選手名簿!$A:$E,5,FALSE))=TRUE,\"\",VLOOKUP(CONCATENATE($N$68,\"_\",M82),選手名簿!$A:$E,5,FALSE))","v":""},null,null,"番号","R010313746",null,null,null,{"$f":"IF(ISERROR(VLOOKUP(CONCATENATE($V$68,\"_\",W82),選手名簿!$A:$E,5,FALSE))=TRUE,\"\",VLOOKUP(CONCATENATE($V$68,\"_\",W82),選手名簿!$A:$E,5,FALSE))","v":""},null,null,null,null,null,null,null,{"$f":"IF(ISERROR(VLOOKUP(CONCATENATE($AD$68,\"_\",AC82),選手名簿!$A:$E,5,FALSE))=TRUE,\"\",VLOOKUP(CONCATENATE($AD$68,\"_\",AC82),選手名簿!$A:$E,5,FALSE))","v":""}]
["R",{"$f":"IF(ISERROR(VLOOKUP(B82,審判員!$A:$C,2,FALSE))=TRUE,\"\",VLOOKUP(B82,審判員!$A:$C,2,FALSE))","v":"川端　大翔"},null,{"$f":"IF(ISERROR(VLOOKUP(B82,審判員!$A:$C,3,FALSE))=TRUE,\"\",VLOOKUP(B82,審判員!$A:$C,3,FALSE))","v":"３級"},null,{"$f":"IF(ISERROR(VLOOKUP(CONCATENATE($F$68,\"_\",G83),選手名簿!$A:$E,5,FALSE))=TRUE,\"\",VLOOKUP(CONCATENATE($F$68,\"_\",G83),選手名簿!$A:$E,5,FALSE))","v":""},null,null,null,null,null,null,null,{"$f":"IF(ISERROR(VLOOKUP(CONCATENATE($N$68,\"_\",M83),選手名簿!$A:$E,5,FALSE))=TRUE,\"\",VLOOKUP(CONCATENATE($N$68,\"_\",M83),選手名簿!$A:$E,5,FALSE))","v":""},null,null,"R",{"$f":"IF(ISERROR(VLOOKUP(R82,審判員!$A:$C,2,FALSE))=TRUE,\"\",VLOOKUP(R82,審判員!$A:$C,2,FALSE))","v":"山本　崇史"},null,{"$f":"IF(ISERROR(VLOOKUP(R82,審判員!$A:$C,3,FALSE))=TRUE,\"\",VLOOKUP(R82,審判員!$A:$C,3,FALSE))","v":"３級"},null,{"$f":"IF(ISERROR(VLOOKUP(CONCATENATE($V$68,\"_\",W83),選手名簿!$A:$E,5,FALSE))=TRUE,\"\",VLOOKUP(CONCATENATE($V$68,\"_\",W83),選手名簿!$A:$E,5,FALSE))","v":""},null,null,null,null,null,null,null,{"$f":"IF(ISERROR(VLOOKUP(CONCATENATE($AD$68,\"_\",AC83),選手名簿!$A:$E,5,FALSE))=TRUE,\"\",VLOOKUP(CONCATENATE($AD$68,\"_\",AC83),選手名簿!$A:$E,5,FALSE))","v":""}]
["番号","R010074018",null,null,null,{"$f":"IF(ISERROR(VLOOKUP(CONCATENATE($F$68,\"_\",G84),選手名簿!$A:$E,5,FALSE))=TRUE,\"\",VLOOKUP(CONCATENATE($F$68,\"_\",G84),選手名簿!$A:$E,5,FALSE))","v":""},null,null,null,null,null,null,null,{"$f":"IF(ISERROR(VLOOKUP(CONCATENATE($N$68,\"_\",M84),選手名簿!$A:$E,5,FALSE))=TRUE,\"\",VLOOKUP(CONCATENATE($N$68,\"_\",M84),選手名簿!$A:$E,5,FALSE))","v":""},null,null,"番号","R008626886",null,null,null,{"$f":"IF(ISERROR(VLOOKUP(CONCATENATE($V$68,\"_\",W84),選手名簿!$A:$E,5,FALSE))=TRUE,\"\",VLOOKUP(CONCATENATE($V$68,\"_\",W84),選手名簿!$A:$E,5,FALSE))","v":""},null,null,null,null,null,null,null,{"$f":"IF(ISERROR(VLOOKUP(CONCATENATE($AD$68,\"_\",AC84),選手名簿!$A:$E,5,FALSE))=TRUE,\"\",VLOOKUP(CONCATENATE($AD$68,\"_\",AC84),選手名簿!$A:$E,5,FALSE))","v":""}]
["AR1:",{"$f":"IF(ISERROR(VLOOKUP(B84,審判員!$A:$C,2,FALSE))=TRUE,\"\",VLOOKUP(B84,審判員!$A:$C,2,FALSE))","v":"長門　崚太"},null,{"$f":"IF(ISERROR(VLOOKUP(B84,審判員!$A:$C,3,FALSE))=TRUE,\"\",VLOOKUP(B84,審判員!$A:$C,3,FALSE))","v":"３級"},null,{"$f":"IF(ISERROR(VLOOKUP(CONCATENATE($F$68,\"_\",G85),選手名簿!$A:$E,5,FALSE))=TRUE,\"\",VLOOKUP(CONCATENATE($F$68,\"_\",G85),選手名簿!$A:$E,5,FALSE))","v":""},null,null,null,null,null,null,null,{"$f":"IF(ISERROR(VLOOKUP(CONCATENATE($N$68,\"_\",M85),選手名簿!$A:$E,5,FALSE))=TRUE,\"\",VLOOKUP(CONCATENATE($N$68,\"_\",M85),選手名簿!$A:$E,5,FALSE))","v":""},null,null,"AR1:",{"$f":"IF(ISERROR(VLOOKUP(R84,審判員!$A:$C,2,FALSE))=TRUE,\"\",VLOOKUP(R84,審判員!$A:$C,2,FALSE))","v":"山本　真乃介"},null,{"$f":"IF(ISERROR(VLOOKUP(R84,審判員!$A:$C,3,FALSE))=TRUE,\"\",VLOOKUP(R84,審判員!$A:$C,3,FALSE))","v":"３級"},null,{"$f":"IF(ISERROR(VLOOKUP(CONCATENATE($V$68,\"_\",W85),選手名簿!$A:$E,5,FALSE))=TRUE,\"\",VLOOKUP(CONCATENATE($V$68,\"_\",W85),選手名簿!$A:$E,5,FALSE))","v":""},null,null,null,null,null,null,null,{"$f":"IF(ISERROR(VLOOKUP(CONCATENATE($AD$68,\"_\",AC85),選手名簿!$A:$E,5,FALSE))=TRUE,\"\",VLOOKUP(CONCATENATE($AD$68,\"_\",AC85),選手名簿!$A:$E,5,FALSE))","v":""}]
["番号","R009197691",null,null,null,{"$f":"IF(ISERROR(VLOOKUP(CONCATENATE($F$68,\"_\",G86),選手名簿!$A:$E,5,FALSE))=TRUE,\"\",VLOOKUP(CONCATENATE($F$68,\"_\",G86),選手名簿!$A:$E,5,FALSE))","v":""},null,null,null,null,null,null,null,{"$f":"IF(ISERROR(VLOOKUP(CONCATENATE($N$68,\"_\",M86),選手名簿!$A:$E,5,FALSE))=TRUE,\"\",VLOOKUP(CONCATENATE($N$68,\"_\",M86),選手名簿!$A:$E,5,FALSE))","v":""},null,null,"番号","R001255616",null,null,null,{"$f":"IF(ISERROR(VLOOKUP(CONCATENATE($V$68,\"_\",W86),選手名簿!$A:$E,5,FALSE))=TRUE,\"\",VLOOKUP(CONCATENATE($V$68,\"_\",W86),選手名簿!$A:$E,5,FALSE))","v":""},null,null,null,null,null,null,null,{"$f":"IF(ISERROR(VLOOKUP(CONCATENATE($AD$68,\"_\",AC86),選手名簿!$A:$E,5,FALSE))=TRUE,\"\",VLOOKUP(CONCATENATE($AD$68,\"_\",AC86),選手名簿!$A:$E,5,FALSE))","v":""}]
["AR2:",{"$f":"IF(ISERROR(VLOOKUP(B86,審判員!$A:$C,2,FALSE))=TRUE,\"\",VLOOKUP(B86,審判員!$A:$C,2,FALSE))","v":"深堀　祥司"},null,{"$f":"IF(ISERROR(VLOOKUP(B86,審判員!$A:$C,3,FALSE))=TRUE,\"\",VLOOKUP(B86,審判員!$A:$C,3,FALSE))","v":"３級"},null,{"$f":"IF(ISERROR(VLOOKUP(CONCATENATE($F$68,\"_\",G87),選手名簿!$A:$E,5,FALSE))=TRUE,\"\",VLOOKUP(CONCATENATE($F$68,\"_\",G87),選手名簿!$A:$E,5,FALSE))","v":""},null,null,null,null,null,null,null,{"$f":"IF(ISERROR(VLOOKUP(CONCATENATE($N$68,\"_\",M87),選手名簿!$A:$E,5,FALSE))=TRUE,\"\",VLOOKUP(CONCATENATE($N$68,\"_\",M87),選手名簿!$A:$E,5,FALSE))","v":""},null,null,"AR2:",{"$f":"IF(ISERROR(VLOOKUP(R86,審判員!$A:$C,2,FALSE))=TRUE,\"\",VLOOKUP(R86,審判員!$A:$C,2,FALSE))","v":"川井　勇介"},null,{"$f":"IF(ISERROR(VLOOKUP(R86,審判員!$A:$C,3,FALSE))=TRUE,\"\",VLOOKUP(R86,審判員!$A:$C,3,FALSE))","v":"３級"},null,{"$f":"IF(ISERROR(VLOOKUP(CONCATENATE($V$68,\"_\",W87),選手名簿!$A:$E,5,FALSE))=TRUE,\"\",VLOOKUP(CONCATENATE($V$68,\"_\",W87),選手名簿!$A:$E,5,FALSE))","v":""},null,null,null,null,null,null,null,{"$f":"IF(ISERROR(VLOOKUP(CONCATENATE($AD$68,\"_\",AC87),選手名簿!$A:$E,5,FALSE))=TRUE,\"\",VLOOKUP(CONCATENATE($AD$68,\"_\",AC87),選手名簿!$A:$E,5,FALSE))","v":""}]
["番号","R010313746",null,null,null,{"$f":"IF(ISERROR(VLOOKUP(CONCATENATE($F$68,\"_\",G88),選手名簿!$A:$E,5,FALSE))=TRUE,\"\",VLOOKUP(CONCATENATE($F$68,\"_\",G88),選手名簿!$A:$E,5,FALSE))","v":""},null,null,null,null,null,null,null,{"$f":"IF(ISERROR(VLOOKUP(CONCATENATE($N$68,\"_\",M88),選手名簿!$A:$E,5,FALSE))=TRUE,\"\",VLOOKUP(CONCATENATE($N$68,\"_\",M88),選手名簿!$A:$E,5,FALSE))","v":""},null,null,"番号","R001262403",null,null,null,{"$f":"IF(ISERROR(VLOOKUP(CONCATENATE($V$68,\"_\",W88),選手名簿!$A:$E,5,FALSE))=TRUE,\"\",VLOOKUP(CONCATENATE($V$68,\"_\",W88),選手名簿!$A:$E,5,FALSE))","v":""},null,null,null,null,null,null,null,{"$f":"IF(ISERROR(VLOOKUP(CONCATENATE($AD$68,\"_\",AC88),選手名簿!$A:$E,5,FALSE))=TRUE,\"\",VLOOKUP(CONCATENATE($AD$68,\"_\",AC88),選手名簿!$A:$E,5,FALSE))","v":""}]
["4th:",{"$f":"IF(ISERROR(VLOOKUP(B88,審判員!$A:$C,2,FALSE))=TRUE,\"\",VLOOKUP(B88,審判員!$A:$C,2,FALSE))","v":"山本　崇史"},null,{"$f":"IF(ISERROR(VLOOKUP(B88,審判員!$A:$C,3,FALSE))=TRUE,\"\",VLOOKUP(B88,審判員!$A:$C,3,FALSE))","v":"３級"},null,{"$f":"IF(ISERROR(VLOOKUP(CONCATENATE($F$68,\"_\",G89),選手名簿!$A:$E,5,FALSE))=TRUE,\"\",VLOOKUP(CONCATENATE($F$68,\"_\",G89),選手名簿!$A:$E,5,FALSE))","v":""},null,null,null,null,null,null,null,{"$f":"IF(ISERROR(VLOOKUP(CONCATENATE($N$68,\"_\",M89),選手名簿!$A:$E,5,FALSE))=TRUE,\"\",VLOOKUP(CONCATENATE($N$68,\"_\",M89),選手名簿!$A:$E,5,FALSE))","v":""},null,null,"4th:",{"$f":"IF(ISERROR(VLOOKUP(R88,審判員!$A:$C,2,FALSE))=TRUE,\"\",VLOOKUP(R88,審判員!$A:$C,2,FALSE))","v":"石山　慎史"},null,{"$f":"IF(ISERROR(VLOOKUP(R88,審判員!$A:$C,3,FALSE))=TRUE,\"\",VLOOKUP(R88,審判員!$A:$C,3,FALSE))","v":"３級"},null,{"$f":"IF(ISERROR(VLOOKUP(CONCATENATE($V$68,\"_\",W89),選手名簿!$A:$E,5,FALSE))=TRUE,\"\",VLOOKUP(CONCATENATE($V$68,\"_\",W89),選手名簿!$A:$E,5,FALSE))","v":""},null,null,null,null,null,null,null,{"$f":"IF(ISERROR(VLOOKUP(CONCATENATE($AD$68,\"_\",AC89),選手名簿!$A:$E,5,FALSE))=TRUE,\"\",VLOOKUP(CONCATENATE($AD$68,\"_\",AC89),選手名簿!$A:$E,5,FALSE))","v":""}]

{"sheet":"予選リーグ公式記録(Bコート北)","index":11,"n_rows":89,"n_cols":31,"rows_kept":89,"cut":false,"hidden":true,"merged":[[6,5,6,11],[23,1,23,3],[24,1,24,2],[38,20,40,20],[38,21,40,21],[9,7,11,7],[9,11,11,11],[9,4,11,4],[9,5,11,5],[23,17,23,19],[9,6,11,6],[38,4,40,4],[9,20,11,20],[9,21,11,21],[6,12,6,13],[9,12,11,12],[9,13,11,13],[24,17,24,18],[29,1,29,3],[29,17,29,19],[30,1,30,2],[30,17,30,18],[25,1,25,3],[25,17,25,19],[4,12,4,13],[4,5,4,11],[5,5,5,11],[5,12,5,13],[4,21,4,27],[0,0,0,9],[0,10,0,13],[0,16,0,25],[0,26,0,29],[2,1,2,4],[2,17,2,20],[9,27,11,27],[9,28,11,28],[9,29,11,29],[9,22,11,22],[5,21,5,27],[6,21,6,27],[4,28,4,29],[5,28,5,29],[6,28,6,29],[9,23,11,23],[38,23,40,23],[38,27,40,27],[38,28,40,28],[38,29,40,29],[52,1,52,3],[52,17,52,19],[38,5,40,5],[38,6,40,6],[38,7,40,7],[38,11,40,11],[38,12,40,12],[38,13,40,13],[38,22,40,22],[39,17,39,19],[40,17,40,19],[39,1,39,3],[40,1,40,3],[38,1,38,3],[38,17,38,19],[67,20,69,20],[67,21,69,21],[67,22,69,22],[67,4,69,4],[67,5,69,5],[67,6,69,6],[67,7,69,7],[67,11,69,11],[70,0,70,3],[70,16,70,19],[67,12,69,12],[67,13,69,13],[67,14,69,14],[68,1,68,3],[69,1,69,3],[68,17,68,19],[69,17,69,19],[67,1,67,3],[67,17,67,19],[88,1,88,2],[88,17,88,18],[84,1,84,2],[84,17,84,18],[85,1,85,3],[85,17,85,19],[86,1,86,2],[86,17,86,18],[81,1,81,3],[81,17,81,19],[82,1,82,2],[82,17,82,18],[83,1,83,3],[83,17,83,19],[59,17,59,18],[57,1,57,2],[57,17,57,18],[58,1,58,3],[58,17,58,19],[9,14,11,14],[38,14,40,14],[87,1,87,3],[87,17,87,19],[27,1,27,3],[27,17,27,19],[10,1,10,3],[11,1,11,3],[10,17,10,19],[11,17,11,19],[9,1,9,3],[9,17,9,19],[9,30,11,30],[38,30,40,30],[67,30,69,30],[12,0,12,3],[12,16,12,19],[41,0,41,3],[41,16,41,19],[53,1,53,2],[53,17,53,18],[54,1,54,3],[54,17,54,19],[55,1,55,2],[55,17,55,18],[28,1,28,2],[28,17,28,18],[67,29,69,29],[67,23,69,23],[67,27,69,27],[67,28,69,28],[26,1,26,2],[26,17,26,18],[56,1,56,3],[56,17,56,19],[59,1,59,2]]}
[{"$f":"要項!C2","v":"OFA 第 33 回 大分県U-11サッカー選手権大会"},null,null,null,null,null,null,null,null,null,"予選リーグ結果　報告用紙",null,null,null,null,null,{"$f":"要項!C2","v":"OFA 第 33 回 大分県U-11サッカー選手権大会"},null,null,null,null,null,null,null,null,null,"予選リーグ結果　報告用紙"]
[]
["会場",{"$f":"予選リーグ!C14","v":"昭和電工ｻｯｶｰ･ﾗｸﾞﾋﾞｰ場　Bｺｰﾄ"},null,null,null,{"$f":"予選リーグ!F15","v":"「北」コート"},null,null,null,null,null,null,null,null,null,null,"会場",{"$f":"予選リーグ!C14","v":"昭和電工ｻｯｶｰ･ﾗｸﾞﾋﾞｰ場　Bｺｰﾄ"},null,null,null,{"$f":"予選リーグ!F15","v":"「北」コート"}]
[]
[null,null,null,null,"B1",{"$f":"VLOOKUP(E5,組合せ抽選用!$Q:$U,5,FALSE)","v":"ＦＣ安岐"},null,null,null,null,null,null,{"$f":"VLOOKUP(E5,組合せ抽選用!$Q:$V,6,FALSE)","v":"速杵国東"},null,null,null,null,null,null,null,"D1",{"$f":"VLOOKUP(U5,組合せ抽選用!$Q:$U,5,FALSE)","v":"ＯＫＹ山香サッカークラブ"},null,null,null,null,null,null,{"$f":"VLOOKUP(U5,組合せ抽選用!$Q:$V,6,FALSE)","v":"速杵国東"}]
[null,null,null,null,"B2",{"$f":"VLOOKUP(E6,組合せ抽選用!$Q:$U,5,FALSE)","v":"明治北ＳＳＣ"},null,null,null,null,null,null,{"$f":"VLOOKUP(E6,組合せ抽選用!$Q:$V,6,FALSE)","v":"大分"},null,null,null,null,null,null,null,"D2",{"$f":"VLOOKUP(U6,組合せ抽選用!$Q:$U,5,FALSE)","v":"東陽フットボールクラブ"},null,null,null,null,null,null,{"$f":"VLOOKUP(U6,組合せ抽選用!$Q:$V,6,FALSE)","v":"大分"}]
[null,null,null,null,"B3",{"$f":"VLOOKUP(E7,組合せ抽選用!$Q:$U,5,FALSE)","v":"ＦＣ中津ジュニア"},null,null,null,null,null,null,{"$f":"VLOOKUP(E7,組合せ抽選用!$Q:$V,6,FALSE)","v":"中津"},null,null,null,null,null,null,null,"D3",{"$f":"VLOOKUP(U7,組合せ抽選用!$Q:$U,5,FALSE)","v":"千怒サッカースポーツ少年団"},null,null,null,null,null,null,{"$f":"VLOOKUP(U7,組合せ抽選用!$Q:$V,6,FALSE)","v":"臼杵/津久見"}]
[]
[]
["MC","津守　一雄",null,null,{"$f":"予選リーグ!B19","v":"10:00:00"},{"$f":"F5","v":"ＦＣ安岐"},{"$f":"SUM(I10:I11)","v":0},"（",0,"前半",4,"）",{"$f":"SUM(K10:K11)","v":5},{"$f":"F6","v":"明治北ＳＳＣ"},null,null,"MC","榊　謙治",null,null,{"$f":"予選リーグ!B21","v":"10:50:00"},{"$f":"V5","v":"ＯＫＹ山香サッカークラブ"},{"$f":"SUM(Y10:Y11)","v":0},"（",0,"前半",4,"）",{"$f":"SUM(AA10:AA11)","v":7},{"$f":"V6","v":"東陽フットボールクラブ"}]
["Welfare\nOfficer",null,null,null,null,null,null,null,0,"後半",1,null,null,null,null,null,"Welfare\nOfficer",null,null,null,null,null,null,null,0,"後半",3]
["記録","山根　雄治",null,null,null,null,null,null,null,"PK",null,null,null,null,null,null,"記録","山根　雄治",null,null,null,null,null,null,null,"PK"]
["＜Referee＞",null,null,null,"警告/退場\n選択肢より","氏名","番号","分","内容\n選択肢より",null,"内容\n選択肢より","分","番号","氏名","警告/退場\n選択肢より",null,"＜Referee＞",null,null,null,"警告/退場\n選択肢より","氏名","番号","分","内容\n選択肢より",null,"内容\n選択肢より","分","番号","氏名","警告/退場\n選択肢より"]
[null,null,null,null,"得点者",{"$f":"IF(ISERROR(VLOOKUP(CONCATENATE($F$10,\"_\",G14),選手名簿!$A:$E,5,FALSE))=TRUE,\"\",VLOOKUP(CONCATENATE($F$10,\"_\",G14),選手名簿!$A:$E,5,FALSE))","v":""},null,null,null,null,null,null,null,{"$f":"IF(ISERROR(VLOOKUP(CONCATENATE($N$10,\"_\",M14),選手名簿!$A:$E,5,FALSE))=TRUE,\"\",VLOOKUP(CONCATENATE($N$10,\"_\",M14),選手名簿!$A:$E,5,FALSE))","v":""},null,null,null,null,null,null,"得点者",{"$f":"IF(ISERROR(VLOOKUP(CONCATENATE($V$10,\"_\",W14),選手名簿!$A:$E,5,FALSE))=TRUE,\"\",VLOOKUP(CONCATENATE($V$10,\"_\",W14),選手名簿!$A:$E,5,FALSE))","v":""},null,null,null,null,null,5,10,{"$f":"IF(ISERROR(VLOOKUP(CONCATENATE($AD$10,\"_\",AC14),選手名簿!$A:$E,5,FALSE))=TRUE,\"\",VLOOKUP(CONCATENATE($AD$10,\"_\",AC14),選手名簿!$A:$E,5,FALSE))","v":"阿部　瑞己"}]
[null,null,null,null,"得点者",{"$f":"IF(ISERROR(VLOOKUP(CONCATENATE($F$10,\"_\",G15),選手名簿!$A:$E,5,FALSE))=TRUE,\"\",VLOOKUP(CONCATENATE($F$10,\"_\",G15),選手名簿!$A:$E,5,FALSE))","v":""},null,null,null,null,null,null,null,{"$f":"IF(ISERROR(VLOOKUP(CONCATENATE($N$10,\"_\",M15),選手名簿!$A:$E,5,FALSE))=TRUE,\"\",VLOOKUP(CONCATENATE($N$10,\"_\",M15),選手名簿!$A:$E,5,FALSE))","v":""},null,null,null,null,null,null,"得点者",{"$f":"IF(ISERROR(VLOOKUP(CONCATENATE($V$10,\"_\",W15),選手名簿!$A:$E,5,FALSE))=TRUE,\"\",VLOOKUP(CONCATENATE($V$10,\"_\",W15),選手名簿!$A:$E,5,FALSE))","v":""},null,null,null,null,null,null,null,{"$f":"IF(ISERROR(VLOOKUP(CONCATENATE($AD$10,\"_\",AC15),選手名簿!$A:$E,5,FALSE))=TRUE,\"\",VLOOKUP(CONCATENATE($AD$10,\"_\",AC15),選手名簿!$A:$E,5,FALSE))","v":""}]
[null,null,null,null,"得点者",{"$f":"IF(ISERROR(VLOOKUP(CONCATENATE($F$10,\"_\",G16),選手名簿!$A:$E,5,FALSE))=TRUE,\"\",VLOOKUP(CONCATENATE($F$10,\"_\",G16),選手名簿!$A:$E,5,FALSE))","v":""},null,null,null,null,null,null,null,{"$f":"IF(ISERROR(VLOOKUP(CONCATENATE($N$10,\"_\",M16),選手名簿!$A:$E,5,FALSE))=TRUE,\"\",VLOOKUP(CONCATENATE($N$10,\"_\",M16),選手名簿!$A:$E,5,FALSE))","v":""},null,null,null,null,null,null,"得点者",{"$f":"IF(ISERROR(VLOOKUP(CONCATENATE($V$10,\"_\",W16),選手名簿!$A:$E,5,FALSE))=TRUE,\"\",VLOOKUP(CONCATENATE($V$10,\"_\",W16),選手名簿!$A:$E,5,FALSE))","v":""},null,null,null,null,null,null,null,{"$f":"IF(ISERROR(VLOOKUP(CONCATENATE($AD$10,\"_\",AC16),選手名簿!$A:$E,5,FALSE))=TRUE,\"\",VLOOKUP(CONCATENATE($AD$10,\"_\",AC16),選手名簿!$A:$E,5,FALSE))","v":""}]
[null,null,null,null,"得点者",{"$f":"IF(ISERROR(VLOOKUP(CONCATENATE($F$10,\"_\",G17),選手名簿!$A:$E,5,FALSE))=TRUE,\"\",VLOOKUP(CONCATENATE($F$10,\"_\",G17),選手名簿!$A:$E,5,FALSE))","v":""},null,null,null,null,null,null,null,{"$f":"IF(ISERROR(VLOOKUP(CONCATENATE($N$10,\"_\",M17),選手名簿!$A:$E,5,FALSE))=TRUE,\"\",VLOOKUP(CONCATENATE($N$10,\"_\",M17),選手名簿!$A:$E,5,FALSE))","v":""},null,null,null,null,null,null,"得点者",{"$f":"IF(ISERROR(VLOOKUP(CONCATENATE($V$10,\"_\",W17),選手名簿!$A:$E,5,FALSE))=TRUE,\"\",VLOOKUP(CONCATENATE($V$10,\"_\",W17),選手名簿!$A:$E,5,FALSE))","v":""},null,null,null,null,null,null,null,{"$f":"IF(ISERROR(VLOOKUP(CONCATENATE($AD$10,\"_\",AC17),選手名簿!$A:$E,5,FALSE))=TRUE,\"\",VLOOKUP(CONCATENATE($AD$10,\"_\",AC17),選手名簿!$A:$E,5,FALSE))","v":""}]
[null,null,null,null,"得点者",{"$f":"IF(ISERROR(VLOOKUP(CONCATENATE($F$10,\"_\",G18),選手名簿!$A:$E,5,FALSE))=TRUE,\"\",VLOOKUP(CONCATENATE($F$10,\"_\",G18),選手名簿!$A:$E,5,FALSE))","v":""},null,null,null,null,null,null,null,{"$f":"IF(ISERROR(VLOOKUP(CONCATENATE($N$10,\"_\",M18),選手名簿!$A:$E,5,FALSE))=TRUE,\"\",VLOOKUP(CONCATENATE($N$10,\"_\",M18),選手名簿!$A:$E,5,FALSE))","v":""},null,null,null,null,null,null,"得点者",{"$f":"IF(ISERROR(VLOOKUP(CONCATENATE($V$10,\"_\",W18),選手名簿!$A:$E,5,FALSE))=TRUE,\"\",VLOOKUP(CONCATENATE($V$10,\"_\",W18),選手名簿!$A:$E,5,FALSE))","v":""},null,null,null,null,null,null,null,{"$f":"IF(ISERROR(VLOOKUP(CONCATENATE($AD$10,\"_\",AC18),選手名簿!$A:$E,5,FALSE))=TRUE,\"\",VLOOKUP(CONCATENATE($AD$10,\"_\",AC18),選手名簿!$A:$E,5,FALSE))","v":""}]
[null,null,null,null,"得点者",{"$f":"IF(ISERROR(VLOOKUP(CONCATENATE($F$10,\"_\",G19),選手名簿!$A:$E,5,FALSE))=TRUE,\"\",VLOOKUP(CONCATENATE($F$10,\"_\",G19),選手名簿!$A:$E,5,FALSE))","v":""},null,null,null,null,null,null,null,{"$f":"IF(ISERROR(VLOOKUP(CONCATENATE($N$10,\"_\",M19),選手名簿!$A:$E,5,FALSE))=TRUE,\"\",VLOOKUP(CONCATENATE($N$10,\"_\",M19),選手名簿!$A:$E,5,FALSE))","v":""},null,null,null,null,null,null,"得点者",{"$f":"IF(ISERROR(VLOOKUP(CONCATENATE($V$10,\"_\",W19),選手名簿!$A:$E,5,FALSE))=TRUE,\"\",VLOOKUP(CONCATENATE($V$10,\"_\",W19),選手名簿!$A:$E,5,FALSE))","v":""},null,null,null,null,null,null,null,{"$f":"IF(ISERROR(VLOOKUP(CONCATENATE($AD$10,\"_\",AC19),選手名簿!$A:$E,5,FALSE))=TRUE,\"\",VLOOKUP(CONCATENATE($AD$10,\"_\",AC19),選手名簿!$A:$E,5,FALSE))","v":""}]
[null,null,null,null,"得点者",{"$f":"IF(ISERROR(VLOOKUP(CONCATENATE($F$10,\"_\",G20),選手名簿!$A:$E,5,FALSE))=TRUE,\"\",VLOOKUP(CONCATENATE($F$10,\"_\",G20),選手名簿!$A:$E,5,FALSE))","v":""},null,null,null,null,null,null,null,{"$f":"IF(ISERROR(VLOOKUP(CONCATENATE($N$10,\"_\",M20),選手名簿!$A:$E,5,FALSE))=TRUE,\"\",VLOOKUP(CONCATENATE($N$10,\"_\",M20),選手名簿!$A:$E,5,FALSE))","v":""},null,null,null,null,null,null,"得点者",{"$f":"IF(ISERROR(VLOOKUP(CONCATENATE($V$10,\"_\",W20),選手名簿!$A:$E,5,FALSE))=TRUE,\"\",VLOOKUP(CONCATENATE($V$10,\"_\",W20),選手名簿!$A:$E,5,FALSE))","v":""},null,null,null,null,null,null,null,{"$f":"IF(ISERROR(VLOOKUP(CONCATENATE($AD$10,\"_\",AC20),選手名簿!$A:$E,5,FALSE))=TRUE,\"\",VLOOKUP(CONCATENATE($AD$10,\"_\",AC20),選手名簿!$A:$E,5,FALSE))","v":""}]
[null,null,null,null,"得点者",{"$f":"IF(ISERROR(VLOOKUP(CONCATENATE($F$10,\"_\",G21),選手名簿!$A:$E,5,FALSE))=TRUE,\"\",VLOOKUP(CONCATENATE($F$10,\"_\",G21),選手名簿!$A:$E,5,FALSE))","v":""},null,null,null,null,null,null,null,{"$f":"IF(ISERROR(VLOOKUP(CONCATENATE($N$10,\"_\",M21),選手名簿!$A:$E,5,FALSE))=TRUE,\"\",VLOOKUP(CONCATENATE($N$10,\"_\",M21),選手名簿!$A:$E,5,FALSE))","v":""},null,null,null,null,null,null,"得点者",{"$f":"IF(ISERROR(VLOOKUP(CONCATENATE($V$10,\"_\",W21),選手名簿!$A:$E,5,FALSE))=TRUE,\"\",VLOOKUP(CONCATENATE($V$10,\"_\",W21),選手名簿!$A:$E,5,FALSE))","v":""},null,null,null,null,null,null,null,{"$f":"IF(ISERROR(VLOOKUP(CONCATENATE($AD$10,\"_\",AC21),選手名簿!$A:$E,5,FALSE))=TRUE,\"\",VLOOKUP(CONCATENATE($AD$10,\"_\",AC21),選手名簿!$A:$E,5,FALSE))","v":""}]
[null,null,null,null,"得点者",{"$f":"IF(ISERROR(VLOOKUP(CONCATENATE($F$10,\"_\",G22),選手名簿!$A:$E,5,FALSE))=TRUE,\"\",VLOOKUP(CONCATENATE($F$10,\"_\",G22),選手名簿!$A:$E,5,FALSE))","v":""},null,null,null,null,null,null,null,{"$f":"IF(ISERROR(VLOOKUP(CONCATENATE($N$10,\"_\",M22),選手名簿!$A:$E,5,FALSE))=TRUE,\"\",VLOOKUP(CONCATENATE($N$10,\"_\",M22),選手名簿!$A:$E,5,FALSE))","v":""},null,null,null,null,null,null,"得点者",{"$f":"IF(ISERROR(VLOOKUP(CONCATENATE($V$10,\"_\",W22),選手名簿!$A:$E,5,FALSE))=TRUE,\"\",VLOOKUP(CONCATENATE($V$10,\"_\",W22),選手名簿!$A:$E,5,FALSE))","v":""},null,null,null,null,null,null,null,{"$f":"IF(ISERROR(VLOOKUP(CONCATENATE($AD$10,\"_\",AC22),選手名簿!$A:$E,5,FALSE))=TRUE,\"\",VLOOKUP(CONCATENATE($AD$10,\"_\",AC22),選手名簿!$A:$E,5,FALSE))","v":""}]
[null,null,null,null,"得点者",{"$f":"IF(ISERROR(VLOOKUP(CONCATENATE($F$10,\"_\",G23),選手名簿!$A:$E,5,FALSE))=TRUE,\"\",VLOOKUP(CONCATENATE($F$10,\"_\",G23),選手名簿!$A:$E,5,FALSE))","v":""},null,null,null,null,null,null,null,{"$f":"IF(ISERROR(VLOOKUP(CONCATENATE($N$10,\"_\",M23),選手名簿!$A:$E,5,FALSE))=TRUE,\"\",VLOOKUP(CONCATENATE($N$10,\"_\",M23),選手名簿!$A:$E,5,FALSE))","v":""},null,null,null,null,null,null,"得点者",{"$f":"IF(ISERROR(VLOOKUP(CONCATENATE($V$10,\"_\",W23),選手名簿!$A:$E,5,FALSE))=TRUE,\"\",VLOOKUP(CONCATENATE($V$10,\"_\",W23),選手名簿!$A:$E,5,FALSE))","v":""},null,null,null,null,null,null,null,{"$f":"IF(ISERROR(VLOOKUP(CONCATENATE($AD$10,\"_\",AC23),選手名簿!$A:$E,5,FALSE))=TRUE,\"\",VLOOKUP(CONCATENATE($AD$10,\"_\",AC23),選手名簿!$A:$E,5,FALSE))","v":""}]
["番号","R001263411",null,null,null,{"$f":"IF(ISERROR(VLOOKUP(CONCATENATE($F$10,\"_\",G24),選手名簿!$A:$E,5,FALSE))=TRUE,\"\",VLOOKUP(CONCATENATE($F$10,\"_\",G24),選手名簿!$A:$E,5,FALSE))","v":""},null,null,null,null,null,null,null,{"$f":"IF(ISERROR(VLOOKUP(CONCATENATE($N$10,\"_\",M24),選手名簿!$A:$E,5,FALSE))=TRUE,\"\",VLOOKUP(CONCATENATE($N$10,\"_\",M24),選手名簿!$A:$E,5,FALSE))","v":""},null,null,"番号","R009408904",null,null,null,{"$f":"IF(ISERROR(VLOOKUP(CONCATENATE($V$10,\"_\",W24),選手名簿!$A:$E,5,FALSE))=TRUE,\"\",VLOOKUP(CONCATENATE($V$10,\"_\",W24),選手名簿!$A:$E,5,FALSE))","v":""},null,null,null,null,null,null,null,{"$f":"IF(ISERROR(VLOOKUP(CONCATENATE($AD$10,\"_\",AC24),選手名簿!$A:$E,5,FALSE))=TRUE,\"\",VLOOKUP(CONCATENATE($AD$10,\"_\",AC24),選手名簿!$A:$E,5,FALSE))","v":""}]
["R",{"$f":"IF(ISERROR(VLOOKUP(B24,審判員!$A:$C,2,FALSE))=TRUE,\"\",VLOOKUP(B24,審判員!$A:$C,2,FALSE))","v":"佐々木　正志"},null,{"$f":"IF(ISERROR(VLOOKUP(B24,審判員!$A:$C,3,FALSE))=TRUE,\"\",VLOOKUP(B24,審判員!$A:$C,3,FALSE))","v":"３級"},null,{"$f":"IF(ISERROR(VLOOKUP(CONCATENATE($F$10,\"_\",G25),選手名簿!$A:$E,5,FALSE))=TRUE,\"\",VLOOKUP(CONCATENATE($F$10,\"_\",G25),選手名簿!$A:$E,5,FALSE))","v":""},null,null,null,null,null,null,null,{"$f":"IF(ISERROR(VLOOKUP(CONCATENATE($N$10,\"_\",M25),選手名簿!$A:$E,5,FALSE))=TRUE,\"\",VLOOKUP(CONCATENATE($N$10,\"_\",M25),選手名簿!$A:$E,5,FALSE))","v":""},null,null,"R",{"$f":"IF(ISERROR(VLOOKUP(R24,審判員!$A:$C,2,FALSE))=TRUE,\"\",VLOOKUP(R24,審判員!$A:$C,2,FALSE))","v":"石井　洋平"},null,{"$f":"IF(ISERROR(VLOOKUP(R24,審判員!$A:$C,3,FALSE))=TRUE,\"\",VLOOKUP(R24,審判員!$A:$C,3,FALSE))","v":"３級"},null,{"$f":"IF(ISERROR(VLOOKUP(CONCATENATE($V$10,\"_\",W25),選手名簿!$A:$E,5,FALSE))=TRUE,\"\",VLOOKUP(CONCATENATE($V$10,\"_\",W25),選手名簿!$A:$E,5,FALSE))","v":""},null,null,null,null,null,null,null,{"$f":"IF(ISERROR(VLOOKUP(CONCATENATE($AD$10,\"_\",AC25),選手名簿!$A:$E,5,FALSE))=TRUE,\"\",VLOOKUP(CONCATENATE($AD$10,\"_\",AC25),選手名簿!$A:$E,5,FALSE))","v":""}]
["番号","R004111340",null,null,null,{"$f":"IF(ISERROR(VLOOKUP(CONCATENATE($F$10,\"_\",G26),選手名簿!$A:$E,5,FALSE))=TRUE,\"\",VLOOKUP(CONCATENATE($F$10,\"_\",G26),選手名簿!$A:$E,5,FALSE))","v":""},null,null,null,null,null,null,null,{"$f":"IF(ISERROR(VLOOKUP(CONCATENATE($N$10,\"_\",M26),選手名簿!$A:$E,5,FALSE))=TRUE,\"\",VLOOKUP(CONCATENATE($N$10,\"_\",M26),選手名簿!$A:$E,5,FALSE))","v":""},null,null,"番号","R001260070",null,null,null,{"$f":"IF(ISERROR(VLOOKUP(CONCATENATE($V$10,\"_\",W26),選手名簿!$A:$E,5,FALSE))=TRUE,\"\",VLOOKUP(CONCATENATE($V$10,\"_\",W26),選手名簿!$A:$E,5,FALSE))","v":""},null,null,null,null,null,null,null,{"$f":"IF(ISERROR(VLOOKUP(CONCATENATE($AD$10,\"_\",AC26),選手名簿!$A:$E,5,FALSE))=TRUE,\"\",VLOOKUP(CONCATENATE($AD$10,\"_\",AC26),選手名簿!$A:$E,5,FALSE))","v":""}]
["AR1:",{"$f":"IF(ISERROR(VLOOKUP(B26,審判員!$A:$C,2,FALSE))=TRUE,\"\",VLOOKUP(B26,審判員!$A:$C,2,FALSE))","v":"唐下　直之"},null,{"$f":"IF(ISERROR(VLOOKUP(B26,審判員!$A:$C,3,FALSE))=TRUE,\"\",VLOOKUP(B26,審判員!$A:$C,3,FALSE))","v":"３級"},null,{"$f":"IF(ISERROR(VLOOKUP(CONCATENATE($F$10,\"_\",G27),選手名簿!$A:$E,5,FALSE))=TRUE,\"\",VLOOKUP(CONCATENATE($F$10,\"_\",G27),選手名簿!$A:$E,5,FALSE))","v":""},null,null,null,null,null,null,null,{"$f":"IF(ISERROR(VLOOKUP(CONCATENATE($N$10,\"_\",M27),選手名簿!$A:$E,5,FALSE))=TRUE,\"\",VLOOKUP(CONCATENATE($N$10,\"_\",M27),選手名簿!$A:$E,5,FALSE))","v":""},null,null,"AR1:",{"$f":"IF(ISERROR(VLOOKUP(R26,審判員!$A:$C,2,FALSE))=TRUE,\"\",VLOOKUP(R26,審判員!$A:$C,2,FALSE))","v":"廣戸　誠一"},null,{"$f":"IF(ISERROR(VLOOKUP(R26,審判員!$A:$C,3,FALSE))=TRUE,\"\",VLOOKUP(R26,審判員!$A:$C,3,FALSE))","v":"３級"},null,{"$f":"IF(ISERROR(VLOOKUP(CONCATENATE($V$10,\"_\",W27),選手名簿!$A:$E,5,FALSE))=TRUE,\"\",VLOOKUP(CONCATENATE($V$10,\"_\",W27),選手名簿!$A:$E,5,FALSE))","v":""},null,null,null,null,null,null,null,{"$f":"IF(ISERROR(VLOOKUP(CONCATENATE($AD$10,\"_\",AC27),選手名簿!$A:$E,5,FALSE))=TRUE,\"\",VLOOKUP(CONCATENATE($AD$10,\"_\",AC27),選手名簿!$A:$E,5,FALSE))","v":""}]
["番号","R010396582",null,null,null,{"$f":"IF(ISERROR(VLOOKUP(CONCATENATE($F$10,\"_\",G28),選手名簿!$A:$E,5,FALSE))=TRUE,\"\",VLOOKUP(CONCATENATE($F$10,\"_\",G28),選手名簿!$A:$E,5,FALSE))","v":""},null,null,null,null,null,null,null,{"$f":"IF(ISERROR(VLOOKUP(CONCATENATE($N$10,\"_\",M28),選手名簿!$A:$E,5,FALSE))=TRUE,\"\",VLOOKUP(CONCATENATE($N$10,\"_\",M28),選手名簿!$A:$E,5,FALSE))","v":""},null,null,"番号","R001251577",null,null,null,{"$f":"IF(ISERROR(VLOOKUP(CONCATENATE($V$10,\"_\",W28),選手名簿!$A:$E,5,FALSE))=TRUE,\"\",VLOOKUP(CONCATENATE($V$10,\"_\",W28),選手名簿!$A:$E,5,FALSE))","v":""},null,null,null,null,null,null,null,{"$f":"IF(ISERROR(VLOOKUP(CONCATENATE($AD$10,\"_\",AC28),選手名簿!$A:$E,5,FALSE))=TRUE,\"\",VLOOKUP(CONCATENATE($AD$10,\"_\",AC28),選手名簿!$A:$E,5,FALSE))","v":""}]
["AR2:",{"$f":"IF(ISERROR(VLOOKUP(B28,審判員!$A:$C,2,FALSE))=TRUE,\"\",VLOOKUP(B28,審判員!$A:$C,2,FALSE))","v":"金田　智朗"},null,{"$f":"IF(ISERROR(VLOOKUP(B28,審判員!$A:$C,3,FALSE))=TRUE,\"\",VLOOKUP(B28,審判員!$A:$C,3,FALSE))","v":"３級"},null,{"$f":"IF(ISERROR(VLOOKUP(CONCATENATE($F$10,\"_\",G29),選手名簿!$A:$E,5,FALSE))=TRUE,\"\",VLOOKUP(CONCATENATE($F$10,\"_\",G29),選手名簿!$A:$E,5,FALSE))","v":""},null,null,null,null,null,null,null,{"$f":"IF(ISERROR(VLOOKUP(CONCATENATE($N$10,\"_\",M29),選手名簿!$A:$E,5,FALSE))=TRUE,\"\",VLOOKUP(CONCATENATE($N$10,\"_\",M29),選手名簿!$A:$E,5,FALSE))","v":""},null,null,"AR2:",{"$f":"IF(ISERROR(VLOOKUP(R28,審判員!$A:$C,2,FALSE))=TRUE,\"\",VLOOKUP(R28,審判員!$A:$C,2,FALSE))","v":"酒井　隆宏"},null,{"$f":"IF(ISERROR(VLOOKUP(R28,審判員!$A:$C,3,FALSE))=TRUE,\"\",VLOOKUP(R28,審判員!$A:$C,3,FALSE))","v":"３級"},null,{"$f":"IF(ISERROR(VLOOKUP(CONCATENATE($V$10,\"_\",W29),選手名簿!$A:$E,5,FALSE))=TRUE,\"\",VLOOKUP(CONCATENATE($V$10,\"_\",W29),選手名簿!$A:$E,5,FALSE))","v":""},null,null,null,null,null,null,null,{"$f":"IF(ISERROR(VLOOKUP(CONCATENATE($AD$10,\"_\",AC29),選手名簿!$A:$E,5,FALSE))=TRUE,\"\",VLOOKUP(CONCATENATE($AD$10,\"_\",AC29),選手名簿!$A:$E,5,FALSE))","v":""}]
["番号","R009408904",null,null,null,{"$f":"IF(ISERROR(VLOOKUP(CONCATENATE($F$10,\"_\",G30),選手名簿!$A:$E,5,FALSE))=TRUE,\"\",VLOOKUP(CONCATENATE($F$10,\"_\",G30),選手名簿!$A:$E,5,FALSE))","v":""},null,null,null,null,null,null,null,{"$f":"IF(ISERROR(VLOOKUP(CONCATENATE($N$10,\"_\",M30),選手名簿!$A:$E,5,FALSE))=TRUE,\"\",VLOOKUP(CONCATENATE($N$10,\"_\",M30),選手名簿!$A:$E,5,FALSE))","v":""},null,null,"番号","R010027823",null,null,null,{"$f":"IF(ISERROR(VLOOKUP(CONCATENATE($V$10,\"_\",W30),選手名簿!$A:$E,5,FALSE))=TRUE,\"\",VLOOKUP(CONCATENATE($V$10,\"_\",W30),選手名簿!$A:$E,5,FALSE))","v":""},null,null,null,null,null,null,null,{"$f":"IF(ISERROR(VLOOKUP(CONCATENATE($AD$10,\"_\",AC30),選手名簿!$A:$E,5,FALSE))=TRUE,\"\",VLOOKUP(CONCATENATE($AD$10,\"_\",AC30),選手名簿!$A:$E,5,FALSE))","v":""}]
["4th:",{"$f":"IF(ISERROR(VLOOKUP(B30,審判員!$A:$C,2,FALSE))=TRUE,\"\",VLOOKUP(B30,審判員!$A:$C,2,FALSE))","v":"石井　洋平"},null,{"$f":"IF(ISERROR(VLOOKUP(B30,審判員!$A:$C,3,FALSE))=TRUE,\"\",VLOOKUP(B30,審判員!$A:$C,3,FALSE))","v":"３級"},null,{"$f":"IF(ISERROR(VLOOKUP(CONCATENATE($F$10,\"_\",G31),選手名簿!$A:$E,5,FALSE))=TRUE,\"\",VLOOKUP(CONCATENATE($F$10,\"_\",G31),選手名簿!$A:$E,5,FALSE))","v":""},null,null,null,null,null,null,null,{"$f":"IF(ISERROR(VLOOKUP(CONCATENATE($N$10,\"_\",M31),選手名簿!$A:$E,5,FALSE))=TRUE,\"\",VLOOKUP(CONCATENATE($N$10,\"_\",M31),選手名簿!$A:$E,5,FALSE))","v":""},null,null,"4th:",{"$f":"IF(ISERROR(VLOOKUP(R30,審判員!$A:$C,2,FALSE))=TRUE,\"\",VLOOKUP(R30,審判員!$A:$C,2,FALSE))","v":"清家　大介"},null,{"$f":"IF(ISERROR(VLOOKUP(R30,審判員!$A:$C,3,FALSE))=TRUE,\"\",VLOOKUP(R30,審判員!$A:$C,3,FALSE))","v":"３級"},null,{"$f":"IF(ISERROR(VLOOKUP(CONCATENATE($V$10,\"_\",W31),選手名簿!$A:$E,5,FALSE))=TRUE,\"\",VLOOKUP(CONCATENATE($V$10,\"_\",W31),選手名簿!$A:$E,5,FALSE))","v":""},null,null,null,null,null,null,null,{"$f":"IF(ISERROR(VLOOKUP(CONCATENATE($AD$10,\"_\",AC31),選手名簿!$A:$E,5,FALSE))=TRUE,\"\",VLOOKUP(CONCATENATE($AD$10,\"_\",AC31),選手名簿!$A:$E,5,FALSE))","v":""}]
[]
[]
[]
[]
[]
[]
[]
["MC","津守　一雄",null,null,{"$f":"予選リーグ!B23","v":"11:40:00"},{"$f":"F6","v":"明治北ＳＳＣ"},{"$f":"SUM(I39:I40)","v":0},"（",0,"前半",1,"）",{"$f":"SUM(K39:K40)","v":1},{"$f":"F7","v":"ＦＣ中津ジュニア"},null,null,"MC","榊　謙治",null,null,{"$f":"予選リーグ!B27","v":"13:20:00"},{"$f":"V6","v":"東陽フットボールクラブ"},{"$f":"SUM(Y39:Y40)","v":0},"（",0,"前半",0,"）",{"$f":"SUM(AA39:AA40)","v":1},{"$f":"V7","v":"千怒サッカースポーツ少年団"}]
["Welfare\nOfficer",null,null,null,null,null,null,null,0,"後半",0,null,null,null,null,null,"Welfare\nOfficer",null,null,null,null,null,null,null,0,"後半",1]
["記録","榊　謙治",null,null,null,null,null,null,null,"PK",null,null,null,null,null,null,"記録","野中　裕介",null,null,null,null,null,null,null,"PK"]
["＜Referee＞",null,null,null,"警告/退場\n選択肢より","氏名","番号","分","内容\n選択肢より",null,"内容\n選択肢より","分","番号","氏名","警告/退場\n選択肢より",null,"＜Referee＞",null,null,null,"警告/退場\n選択肢より","氏名","番号","分","内容\n選択肢より",null,"内容\n選択肢より","分","番号","氏名","警告/退場\n選択肢より"]
[null,null,null,null,"得点者",{"$f":"IF(ISERROR(VLOOKUP(CONCATENATE($F$39,\"_\",G43),選手名簿!$A:$E,5,FALSE))=TRUE,\"\",VLOOKUP(CONCATENATE($F$39,\"_\",G43),選手名簿!$A:$E,5,FALSE))","v":""},null,null,null,null,null,null,null,{"$f":"IF(ISERROR(VLOOKUP(CONCATENATE($N$39,\"_\",M43),選手名簿!$A:$E,5,FALSE))=TRUE,\"\",VLOOKUP(CONCATENATE($N$39,\"_\",M43),選手名簿!$A:$E,5,FALSE))","v":""},null,null,null,null,null,null,"得点者",{"$f":"IF(ISERROR(VLOOKUP(CONCATENATE($V$39,\"_\",W43),選手名簿!$A:$E,5,FALSE))=TRUE,\"\",VLOOKUP(CONCATENATE($V$39,\"_\",W43),選手名簿!$A:$E,5,FALSE))","v":""},null,null,null,null,null,null,null,{"$f":"IF(ISERROR(VLOOKUP(CONCATENATE($AD$39,\"_\",AC43),選手名簿!$A:$E,5,FALSE))=TRUE,\"\",VLOOKUP(CONCATENATE($AD$39,\"_\",AC43),選手名簿!$A:$E,5,FALSE))","v":""}]
[null,null,null,null,"得点者",{"$f":"IF(ISERROR(VLOOKUP(CONCATENATE($F$39,\"_\",G44),選手名簿!$A:$E,5,FALSE))=TRUE,\"\",VLOOKUP(CONCATENATE($F$39,\"_\",G44),選手名簿!$A:$E,5,FALSE))","v":""},null,null,null,null,null,null,null,{"$f":"IF(ISERROR(VLOOKUP(CONCATENATE($N$39,\"_\",M44),選手名簿!$A:$E,5,FALSE))=TRUE,\"\",VLOOKUP(CONCATENATE($N$39,\"_\",M44),選手名簿!$A:$E,5,FALSE))","v":""},null,null,null,null,null,null,"得点者",{"$f":"IF(ISERROR(VLOOKUP(CONCATENATE($V$39,\"_\",W44),選手名簿!$A:$E,5,FALSE))=TRUE,\"\",VLOOKUP(CONCATENATE($V$39,\"_\",W44),選手名簿!$A:$E,5,FALSE))","v":""},null,null,null,null,null,null,null,{"$f":"IF(ISERROR(VLOOKUP(CONCATENATE($AD$39,\"_\",AC44),選手名簿!$A:$E,5,FALSE))=TRUE,\"\",VLOOKUP(CONCATENATE($AD$39,\"_\",AC44),選手名簿!$A:$E,5,FALSE))","v":""}]
[null,null,null,null,"得点者",{"$f":"IF(ISERROR(VLOOKUP(CONCATENATE($F$39,\"_\",G45),選手名簿!$A:$E,5,FALSE))=TRUE,\"\",VLOOKUP(CONCATENATE($F$39,\"_\",G45),選手名簿!$A:$E,5,FALSE))","v":""},null,null,null,null,null,null,null,{"$f":"IF(ISERROR(VLOOKUP(CONCATENATE($N$39,\"_\",M45),選手名簿!$A:$E,5,FALSE))=TRUE,\"\",VLOOKUP(CONCATENATE($N$39,\"_\",M45),選手名簿!$A:$E,5,FALSE))","v":""},null,null,null,null,null,null,"得点者",{"$f":"IF(ISERROR(VLOOKUP(CONCATENATE($V$39,\"_\",W45),選手名簿!$A:$E,5,FALSE))=TRUE,\"\",VLOOKUP(CONCATENATE($V$39,\"_\",W45),選手名簿!$A:$E,5,FALSE))","v":""},null,null,null,null,null,null,null,{"$f":"IF(ISERROR(VLOOKUP(CONCATENATE($AD$39,\"_\",AC45),選手名簿!$A:$E,5,FALSE))=TRUE,\"\",VLOOKUP(CONCATENATE($AD$39,\"_\",AC45),選手名簿!$A:$E,5,FALSE))","v":""}]
[null,null,null,null,"得点者",{"$f":"IF(ISERROR(VLOOKUP(CONCATENATE($F$39,\"_\",G46),選手名簿!$A:$E,5,FALSE))=TRUE,\"\",VLOOKUP(CONCATENATE($F$39,\"_\",G46),選手名簿!$A:$E,5,FALSE))","v":""},null,null,null,null,null,null,null,{"$f":"IF(ISERROR(VLOOKUP(CONCATENATE($N$39,\"_\",M46),選手名簿!$A:$E,5,FALSE))=TRUE,\"\",VLOOKUP(CONCATENATE($N$39,\"_\",M46),選手名簿!$A:$E,5,FALSE))","v":""},null,null,null,null,null,null,"得点者",{"$f":"IF(ISERROR(VLOOKUP(CONCATENATE($V$39,\"_\",W46),選手名簿!$A:$E,5,FALSE))=TRUE,\"\",VLOOKUP(CONCATENATE($V$39,\"_\",W46),選手名簿!$A:$E,5,FALSE))","v":""},null,null,null,null,null,null,null,{"$f":"IF(ISERROR(VLOOKUP(CONCATENATE($AD$39,\"_\",AC46),選手名簿!$A:$E,5,FALSE))=TRUE,\"\",VLOOKUP(CONCATENATE($AD$39,\"_\",AC46),選手名簿!$A:$E,5,FALSE))","v":""}]
[null,null,null,null,"得点者",{"$f":"IF(ISERROR(VLOOKUP(CONCATENATE($F$39,\"_\",G47),選手名簿!$A:$E,5,FALSE))=TRUE,\"\",VLOOKUP(CONCATENATE($F$39,\"_\",G47),選手名簿!$A:$E,5,FALSE))","v":""},null,null,null,null,null,null,null,{"$f":"IF(ISERROR(VLOOKUP(CONCATENATE($N$39,\"_\",M47),選手名簿!$A:$E,5,FALSE))=TRUE,\"\",VLOOKUP(CONCATENATE($N$39,\"_\",M47),選手名簿!$A:$E,5,FALSE))","v":""},null,null,null,null,null,null,"得点者",{"$f":"IF(ISERROR(VLOOKUP(CONCATENATE($V$39,\"_\",W47),選手名簿!$A:$E,5,FALSE))=TRUE,\"\",VLOOKUP(CONCATENATE($V$39,\"_\",W47),選手名簿!$A:$E,5,FALSE))","v":""},null,null,null,null,null,null,null,{"$f":"IF(ISERROR(VLOOKUP(CONCATENATE($AD$39,\"_\",AC47),選手名簿!$A:$E,5,FALSE))=TRUE,\"\",VLOOKUP(CONCATENATE($AD$39,\"_\",AC47),選手名簿!$A:$E,5,FALSE))","v":""}]
[null,null,null,null,"得点者",{"$f":"IF(ISERROR(VLOOKUP(CONCATENATE($F$39,\"_\",G48),選手名簿!$A:$E,5,FALSE))=TRUE,\"\",VLOOKUP(CONCATENATE($F$39,\"_\",G48),選手名簿!$A:$E,5,FALSE))","v":""},null,null,null,null,null,null,null,{"$f":"IF(ISERROR(VLOOKUP(CONCATENATE($N$39,\"_\",M48),選手名簿!$A:$E,5,FALSE))=TRUE,\"\",VLOOKUP(CONCATENATE($N$39,\"_\",M48),選手名簿!$A:$E,5,FALSE))","v":""},null,null,null,null,null,null,"得点者",{"$f":"IF(ISERROR(VLOOKUP(CONCATENATE($V$39,\"_\",W48),選手名簿!$A:$E,5,FALSE))=TRUE,\"\",VLOOKUP(CONCATENATE($V$39,\"_\",W48),選手名簿!$A:$E,5,FALSE))","v":""},null,null,null,null,null,null,null,{"$f":"IF(ISERROR(VLOOKUP(CONCATENATE($AD$39,\"_\",AC48),選手名簿!$A:$E,5,FALSE))=TRUE,\"\",VLOOKUP(CONCATENATE($AD$39,\"_\",AC48),選手名簿!$A:$E,5,FALSE))","v":""}]
[null,null,null,null,"得点者",{"$f":"IF(ISERROR(VLOOKUP(CONCATENATE($F$39,\"_\",G49),選手名簿!$A:$E,5,FALSE))=TRUE,\"\",VLOOKUP(CONCATENATE($F$39,\"_\",G49),選手名簿!$A:$E,5,FALSE))","v":""},null,null,null,null,null,null,null,{"$f":"IF(ISERROR(VLOOKUP(CONCATENATE($N$39,\"_\",M49),選手名簿!$A:$E,5,FALSE))=TRUE,\"\",VLOOKUP(CONCATENATE($N$39,\"_\",M49),選手名簿!$A:$E,5,FALSE))","v":""},null,null,null,null,null,null,"得点者",{"$f":"IF(ISERROR(VLOOKUP(CONCATENATE($V$39,\"_\",W49),選手名簿!$A:$E,5,FALSE))=TRUE,\"\",VLOOKUP(CONCATENATE($V$39,\"_\",W49),選手名簿!$A:$E,5,FALSE))","v":""},null,null,null,null,null,null,null,{"$f":"IF(ISERROR(VLOOKUP(CONCATENATE($AD$39,\"_\",AC49),選手名簿!$A:$E,5,FALSE))=TRUE,\"\",VLOOKUP(CONCATENATE($AD$39,\"_\",AC49),選手名簿!$A:$E,5,FALSE))","v":""}]
[null,null,null,null,"得点者",{"$f":"IF(ISERROR(VLOOKUP(CONCATENATE($F$39,\"_\",G50),選手名簿!$A:$E,5,FALSE))=TRUE,\"\",VLOOKUP(CONCATENATE($F$39,\"_\",G50),選手名簿!$A:$E,5,FALSE))","v":""},null,null,null,null,null,null,null,{"$f":"IF(ISERROR(VLOOKUP(CONCATENATE($N$39,\"_\",M50),選手名簿!$A:$E,5,FALSE))=TRUE,\"\",VLOOKUP(CONCATENATE($N$39,\"_\",M50),選手名簿!$A:$E,5,FALSE))","v":""},null,null,null,null,null,null,"得点者",{"$f":"IF(ISERROR(VLOOKUP(CONCATENATE($V$39,\"_\",W50),選手名簿!$A:$E,5,FALSE))=TRUE,\"\",VLOOKUP(CONCATENATE($V$39,\"_\",W50),選手名簿!$A:$E,5,FALSE))","v":""},null,null,null,null,null,null,null,{"$f":"IF(ISERROR(VLOOKUP(CONCATENATE($AD$39,\"_\",AC50),選手名簿!$A:$E,5,FALSE))=TRUE,\"\",VLOOKUP(CONCATENATE($AD$39,\"_\",AC50),選手名簿!$A:$E,5,FALSE))","v":""}]
[null,null,null,null,"得点者",{"$f":"IF(ISERROR(VLOOKUP(CONCATENATE($F$39,\"_\",G51),選手名簿!$A:$E,5,FALSE))=TRUE,\"\",VLOOKUP(CONCATENATE($F$39,\"_\",G51),選手名簿!$A:$E,5,FALSE))","v":""},null,null,null,null,null,null,null,{"$f":"IF(ISERROR(VLOOKUP(CONCATENATE($N$39,\"_\",M51),選手名簿!$A:$E,5,FALSE))=TRUE,\"\",VLOOKUP(CONCATENATE($N$39,\"_\",M51),選手名簿!$A:$E,5,FALSE))","v":""},null,null,null,null,null,null,"得点者",{"$f":"IF(ISERROR(VLOOKUP(CONCATENATE($V$39,\"_\",W51),選手名簿!$A:$E,5,FALSE))=TRUE,\"\",VLOOKUP(CONCATENATE($V$39,\"_\",W51),選手名簿!$A:$E,5,FALSE))","v":""},null,null,null,null,null,null,null,{"$f":"IF(ISERROR(VLOOKUP(CONCATENATE($AD$39,\"_\",AC51),選手名簿!$A:$E,5,FALSE))=TRUE,\"\",VLOOKUP(CONCATENATE($AD$39,\"_\",AC51),選手名簿!$A:$E,5,FALSE))","v":""}]
[null,null,null,null,"得点者",{"$f":"IF(ISERROR(VLOOKUP(CONCATENATE($F$39,\"_\",G52),選手名簿!$A:$E,5,FALSE))=TRUE,\"\",VLOOKUP(CONCATENATE($F$39,\"_\",G52),選手名簿!$A:$E,5,FALSE))","v":""},null,null,null,null,null,null,null,{"$f":"IF(ISERROR(VLOOKUP(CONCATENATE($N$39,\"_\",M52),選手名簿!$A:$E,5,FALSE))=TRUE,\"\",VLOOKUP(CONCATENATE($N$39,\"_\",M52),選手名簿!$A:$E,5,FALSE))","v":""},null,null,null,null,null,null,"得点者",{"$f":"IF(ISERROR(VLOOKUP(CONCATENATE($V$39,\"_\",W52),選手名簿!$A:$E,5,FALSE))=TRUE,\"\",VLOOKUP(CONCATENATE($V$39,\"_\",W52),選手名簿!$A:$E,5,FALSE))","v":""},null,null,null,null,null,null,null,{"$f":"IF(ISERROR(VLOOKUP(CONCATENATE($AD$39,\"_\",AC52),選手名簿!$A:$E,5,FALSE))=TRUE,\"\",VLOOKUP(CONCATENATE($AD$39,\"_\",AC52),選手名簿!$A:$E,5,FALSE))","v":""}]
["番号","R010027823",null,null,null,{"$f":"IF(ISERROR(VLOOKUP(CONCATENATE($F$39,\"_\",G53),選手名簿!$A:$E,5,FALSE))=TRUE,\"\",VLOOKUP(CONCATENATE($F$39,\"_\",G53),選手名簿!$A:$E,5,FALSE))","v":""},null,null,null,null,null,null,null,{"$f":"IF(ISERROR(VLOOKUP(CONCATENATE($N$39,\"_\",M53),選手名簿!$A:$E,5,FALSE))=TRUE,\"\",VLOOKUP(CONCATENATE($N$39,\"_\",M53),選手名簿!$A:$E,5,FALSE))","v":""},null,null,"番号","R001263411",null,null,null,{"$f":"IF(ISERROR(VLOOKUP(CONCATENATE($V$39,\"_\",W53),選手名簿!$A:$E,5,FALSE))=TRUE,\"\",VLOOKUP(CONCATENATE($V$39,\"_\",W53),選手名簿!$A:$E,5,FALSE))","v":""},null,null,null,null,null,null,null,{"$f":"IF(ISERROR(VLOOKUP(CONCATENATE($AD$39,\"_\",AC53),選手名簿!$A:$E,5,FALSE))=TRUE,\"\",VLOOKUP(CONCATENATE($AD$39,\"_\",AC53),選手名簿!$A:$E,5,FALSE))","v":""}]
["R",{"$f":"IF(ISERROR(VLOOKUP(B53,審判員!$A:$C,2,FALSE))=TRUE,\"\",VLOOKUP(B53,審判員!$A:$C,2,FALSE))","v":"清家　大介"},null,{"$f":"IF(ISERROR(VLOOKUP(B53,審判員!$A:$C,3,FALSE))=TRUE,\"\",VLOOKUP(B53,審判員!$A:$C,3,FALSE))","v":"３級"},null,{"$f":"IF(ISERROR(VLOOKUP(CONCATENATE($F$39,\"_\",G54),選手名簿!$A:$E,5,FALSE))=TRUE,\"\",VLOOKUP(CONCATENATE($F$39,\"_\",G54),選手名簿!$A:$E,5,FALSE))","v":""},null,null,null,null,null,null,null,{"$f":"IF(ISERROR(VLOOKUP(CONCATENATE($N$39,\"_\",M54),選手名簿!$A:$E,5,FALSE))=TRUE,\"\",VLOOKUP(CONCATENATE($N$39,\"_\",M54),選手名簿!$A:$E,5,FALSE))","v":""},null,null,"R",{"$f":"IF(ISERROR(VLOOKUP(R53,審判員!$A:$C,2,FALSE))=TRUE,\"\",VLOOKUP(R53,審判員!$A:$C,2,FALSE))","v":"佐々木　正志"},null,{"$f":"IF(ISERROR(VLOOKUP(R53,審判員!$A:$C,3,FALSE))=TRUE,\"\",VLOOKUP(R53,審判員!$A:$C,3,FALSE))","v":"３級"},null,{"$f":"IF(ISERROR(VLOOKUP(CONCATENATE($V$39,\"_\",W54),選手名簿!$A:$E,5,FALSE))=TRUE,\"\",VLOOKUP(CONCATENATE($V$39,\"_\",W54),選手名簿!$A:$E,5,FALSE))","v":""},null,null,null,null,null,null,null,{"$f":"IF(ISERROR(VLOOKUP(CONCATENATE($AD$39,\"_\",AC54),選手名簿!$A:$E,5,FALSE))=TRUE,\"\",VLOOKUP(CONCATENATE($AD$39,\"_\",AC54),選手名簿!$A:$E,5,FALSE))","v":""}]
["番号","R004111340",null,null,null,{"$f":"IF(ISERROR(VLOOKUP(CONCATENATE($F$39,\"_\",G55),選手名簿!$A:$E,5,FALSE))=TRUE,\"\",VLOOKUP(CONCATENATE($F$39,\"_\",G55),選手名簿!$A:$E,5,FALSE))","v":""},null,null,null,null,null,null,null,{"$f":"IF(ISERROR(VLOOKUP(CONCATENATE($N$39,\"_\",M55),選手名簿!$A:$E,5,FALSE))=TRUE,\"\",VLOOKUP(CONCATENATE($N$39,\"_\",M55),選手名簿!$A:$E,5,FALSE))","v":""},null,null,"番号","R001260070",null,null,null,{"$f":"IF(ISERROR(VLOOKUP(CONCATENATE($V$39,\"_\",W55),選手名簿!$A:$E,5,FALSE))=TRUE,\"\",VLOOKUP(CONCATENATE($V$39,\"_\",W55),選手名簿!$A:$E,5,FALSE))","v":""},null,null,null,null,null,null,null,{"$f":"IF(ISERROR(VLOOKUP(CONCATENATE($AD$39,\"_\",AC55),選手名簿!$A:$E,5,FALSE))=TRUE,\"\",VLOOKUP(CONCATENATE($AD$39,\"_\",AC55),選手名簿!$A:$E,5,FALSE))","v":""}]
["AR1:",{"$f":"IF(ISERROR(VLOOKUP(B55,審判員!$A:$C,2,FALSE))=TRUE,\"\",VLOOKUP(B55,審判員!$A:$C,2,FALSE))","v":"唐下　直之"},null,{"$f":"IF(ISERROR(VLOOKUP(B55,審判員!$A:$C,3,FALSE))=TRUE,\"\",VLOOKUP(B55,審判員!$A:$C,3,FALSE))","v":"３級"},null,{"$f":"IF(ISERROR(VLOOKUP(CONCATENATE($F$39,\"_\",G56),選手名簿!$A:$E,5,FALSE))=TRUE,\"\",VLOOKUP(CONCATENATE($F$39,\"_\",G56),選手名簿!$A:$E,5,FALSE))","v":""},null,null,null,null,null,null,null,{"$f":"IF(ISERROR(VLOOKUP(CONCATENATE($N$39,\"_\",M56),選手名簿!$A:$E,5,FALSE))=TRUE,\"\",VLOOKUP(CONCATENATE($N$39,\"_\",M56),選手名簿!$A:$E,5,FALSE))","v":""},null,null,"AR1:",{"$f":"IF(ISERROR(VLOOKUP(R55,審判員!$A:$C,2,FALSE))=TRUE,\"\",VLOOKUP(R55,審判員!$A:$C,2,FALSE))","v":"廣戸　誠一"},null,{"$f":"IF(ISERROR(VLOOKUP(R55,審判員!$A:$C,3,FALSE))=TRUE,\"\",VLOOKUP(R55,審判員!$A:$C,3,FALSE))","v":"３級"},null,{"$f":"IF(ISERROR(VLOOKUP(CONCATENATE($V$39,\"_\",W56),選手名簿!$A:$E,5,FALSE))=TRUE,\"\",VLOOKUP(CONCATENATE($V$39,\"_\",W56),選手名簿!$A:$E,5,FALSE))","v":""},null,null,null,null,null,null,null,{"$f":"IF(ISERROR(VLOOKUP(CONCATENATE($AD$39,\"_\",AC56),選手名簿!$A:$E,5,FALSE))=TRUE,\"\",VLOOKUP(CONCATENATE($AD$39,\"_\",AC56),選手名簿!$A:$E,5,FALSE))","v":""}]
["番号","R001264359",null,null,null,{"$f":"IF(ISERROR(VLOOKUP(CONCATENATE($F$39,\"_\",G57),選手名簿!$A:$E,5,FALSE))=TRUE,\"\",VLOOKUP(CONCATENATE($F$39,\"_\",G57),選手名簿!$A:$E,5,FALSE))","v":""},null,null,null,null,null,null,null,{"$f":"IF(ISERROR(VLOOKUP(CONCATENATE($N$39,\"_\",M57),選手名簿!$A:$E,5,FALSE))=TRUE,\"\",VLOOKUP(CONCATENATE($N$39,\"_\",M57),選手名簿!$A:$E,5,FALSE))","v":""},null,null,"番号","R001252336",null,null,null,{"$f":"IF(ISERROR(VLOOKUP(CONCATENATE($V$39,\"_\",W57),選手名簿!$A:$E,5,FALSE))=TRUE,\"\",VLOOKUP(CONCATENATE($V$39,\"_\",W57),選手名簿!$A:$E,5,FALSE))","v":""},null,null,null,null,null,null,null,{"$f":"IF(ISERROR(VLOOKUP(CONCATENATE($AD$39,\"_\",AC57),選手名簿!$A:$E,5,FALSE))=TRUE,\"\",VLOOKUP(CONCATENATE($AD$39,\"_\",AC57),選手名簿!$A:$E,5,FALSE))","v":""}]
["AR2:",{"$f":"IF(ISERROR(VLOOKUP(B57,審判員!$A:$C,2,FALSE))=TRUE,\"\",VLOOKUP(B57,審判員!$A:$C,2,FALSE))","v":"東　和弘"},null,{"$f":"IF(ISERROR(VLOOKUP(B57,審判員!$A:$C,3,FALSE))=TRUE,\"\",VLOOKUP(B57,審判員!$A:$C,3,FALSE))","v":"３級"},null,{"$f":"IF(ISERROR(VLOOKUP(CONCATENATE($F$39,\"_\",G58),選手名簿!$A:$E,5,FALSE))=TRUE,\"\",VLOOKUP(CONCATENATE($F$39,\"_\",G58),選手名簿!$A:$E,5,FALSE))","v":""},null,null,null,null,null,null,null,{"$f":"IF(ISERROR(VLOOKUP(CONCATENATE($N$39,\"_\",M58),選手名簿!$A:$E,5,FALSE))=TRUE,\"\",VLOOKUP(CONCATENATE($N$39,\"_\",M58),選手名簿!$A:$E,5,FALSE))","v":""},null,null,"AR2:",{"$f":"IF(ISERROR(VLOOKUP(R57,審判員!$A:$C,2,FALSE))=TRUE,\"\",VLOOKUP(R57,審判員!$A:$C,2,FALSE))","v":"山本　貴志"},null,{"$f":"IF(ISERROR(VLOOKUP(R57,審判員!$A:$C,3,FALSE))=TRUE,\"\",VLOOKUP(R57,審判員!$A:$C,3,FALSE))","v":"３級"},null,{"$f":"IF(ISERROR(VLOOKUP(CONCATENATE($V$39,\"_\",W58),選手名簿!$A:$E,5,FALSE))=TRUE,\"\",VLOOKUP(CONCATENATE($V$39,\"_\",W58),選手名簿!$A:$E,5,FALSE))","v":""},null,null,null,null,null,null,null,{"$f":"IF(ISERROR(VLOOKUP(CONCATENATE($AD$39,\"_\",AC58),選手名簿!$A:$E,5,FALSE))=TRUE,\"\",VLOOKUP(CONCATENATE($AD$39,\"_\",AC58),選手名簿!$A:$E,5,FALSE))","v":""}]
["番号","R001263411",null,null,null,{"$f":"IF(ISERROR(VLOOKUP(CONCATENATE($F$39,\"_\",G59),選手名簿!$A:$E,5,FALSE))=TRUE,\"\",VLOOKUP(CONCATENATE($F$39,\"_\",G59),選手名簿!$A:$E,5,FALSE))","v":""},null,null,null,null,null,null,null,{"$f":"IF(ISERROR(VLOOKUP(CONCATENATE($N$39,\"_\",M59),選手名簿!$A:$E,5,FALSE))=TRUE,\"\",VLOOKUP(CONCATENATE($N$39,\"_\",M59),選手名簿!$A:$E,5,FALSE))","v":""},null,null,"番号","R009408904",null,null,null,{"$f":"IF(ISERROR(VLOOKUP(CONCATENATE($V$39,\"_\",W59),選手名簿!$A:$E,5,FALSE))=TRUE,\"\",VLOOKUP(CONCATENATE($V$39,\"_\",W59),選手名簿!$A:$E,5,FALSE))","v":""},null,null,null,null,null,null,null,{"$f":"IF(ISERROR(VLOOKUP(CONCATENATE($AD$39,\"_\",AC59),選手名簿!$A:$E,5,FALSE))=TRUE,\"\",VLOOKUP(CONCATENATE($AD$39,\"_\",AC59),選手名簿!$A:$E,5,FALSE))","v":""}]
["4th:",{"$f":"IF(ISERROR(VLOOKUP(B59,審判員!$A:$C,2,FALSE))=TRUE,\"\",VLOOKUP(B59,審判員!$A:$C,2,FALSE))","v":"佐々木　正志"},null,{"$f":"IF(ISERROR(VLOOKUP(B59,審判員!$A:$C,3,FALSE))=TRUE,\"\",VLOOKUP(B59,審判員!$A:$C,3,FALSE))","v":"３級"},null,{"$f":"IF(ISERROR(VLOOKUP(CONCATENATE($F$39,\"_\",G60),選手名簿!$A:$E,5,FALSE))=TRUE,\"\",VLOOKUP(CONCATENATE($F$39,\"_\",G60),選手名簿!$A:$E,5,FALSE))","v":""},null,null,null,null,null,null,null,{"$f":"IF(ISERROR(VLOOKUP(CONCATENATE($N$39,\"_\",M60),選手名簿!$A:$E,5,FALSE))=TRUE,\"\",VLOOKUP(CONCATENATE($N$39,\"_\",M60),選手名簿!$A:$E,5,FALSE))","v":""},null,null,"4th:",{"$f":"IF(ISERROR(VLOOKUP(R59,審判員!$A:$C,2,FALSE))=TRUE,\"\",VLOOKUP(R59,審判員!$A:$C,2,FALSE))","v":"石井　洋平"},null,{"$f":"IF(ISERROR(VLOOKUP(R59,審判員!$A:$C,3,FALSE))=TRUE,\"\",VLOOKUP(R59,審判員!$A:$C,3,FALSE))","v":"３級"},null,{"$f":"IF(ISERROR(VLOOKUP(CONCATENATE($V$39,\"_\",W60),選手名簿!$A:$E,5,FALSE))=TRUE,\"\",VLOOKUP(CONCATENATE($V$39,\"_\",W60),選手名簿!$A:$E,5,FALSE))","v":""},null,null,null,null,null,null,null,{"$f":"IF(ISERROR(VLOOKUP(CONCATENATE($AD$39,\"_\",AC60),選手名簿!$A:$E,5,FALSE))=TRUE,\"\",VLOOKUP(CONCATENATE($AD$39,\"_\",AC60),選手名簿!$A:$E,5,FALSE))","v":""}]
[]
[]
[]
[]
[]
[]
[]
["MC","津守　一雄",null,null,{"$f":"予選リーグ!B29","v":"14:10:00"},{"$f":"F7","v":"ＦＣ中津ジュニア"},{"$f":"SUM(I68:I69)","v":7},"（",4,"前半",1,"）",{"$f":"SUM(K68:K69)","v":1},{"$f":"F5","v":"ＦＣ安岐"},null,null,"MC","榊　謙治",null,null,{"$f":"予選リーグ!B31","v":"15:00:00"},{"$f":"V7","v":"千怒サッカースポーツ少年団"},{"$f":"SUM(Y68:Y69)","v":5},"（",4,"前半",0,"）",{"$f":"SUM(AA68:AA69)","v":0},{"$f":"V5","v":"ＯＫＹ山香サッカークラブ"}]
["Welfare\nOfficer",null,null,null,null,null,null,null,3,"後半",0,null,null,null,null,null,"Welfare\nOfficer",null,null,null,null,null,null,null,1,"後半",0]
["記録","野中　裕介",null,null,null,null,null,null,null,"PK",null,null,null,null,null,null,"記録","野中　裕介",null,null,null,null,null,null,null,"PK"]
["＜Referee＞",null,null,null,"警告/退場\n選択肢より","氏名","番号","分","内容\n選択肢より",null,"内容\n選択肢より","分","番号","氏名","警告/退場\n選択肢より",null,"＜Referee＞",null,null,null,"警告/退場\n選択肢より","氏名","番号","分","内容\n選択肢より",null,"内容\n選択肢より","分","番号","氏名","警告/退場\n選択肢より"]
[null,null,null,null,"得点者",{"$f":"IF(ISERROR(VLOOKUP(CONCATENATE($F$68,\"_\",G72),選手名簿!$A:$E,5,FALSE))=TRUE,\"\",VLOOKUP(CONCATENATE($F$68,\"_\",G72),選手名簿!$A:$E,5,FALSE))","v":""},null,null,null,null,null,19,9,{"$f":"IF(ISERROR(VLOOKUP(CONCATENATE($N$68,\"_\",M72),選手名簿!$A:$E,5,FALSE))=TRUE,\"\",VLOOKUP(CONCATENATE($N$68,\"_\",M72),選手名簿!$A:$E,5,FALSE))","v":"上野　紗奈"},null,null,null,null,null,null,"得点者",{"$f":"IF(ISERROR(VLOOKUP(CONCATENATE($V$68,\"_\",W72),選手名簿!$A:$E,5,FALSE))=TRUE,\"\",VLOOKUP(CONCATENATE($V$68,\"_\",W72),選手名簿!$A:$E,5,FALSE))","v":""},null,null,null,null,null,null,null,{"$f":"IF(ISERROR(VLOOKUP(CONCATENATE($AD$68,\"_\",AC72),選手名簿!$A:$E,5,FALSE))=TRUE,\"\",VLOOKUP(CONCATENATE($AD$68,\"_\",AC72),選手名簿!$A:$E,5,FALSE))","v":""}]
[null,null,null,null,"得点者",{"$f":"IF(ISERROR(VLOOKUP(CONCATENATE($F$68,\"_\",G73),選手名簿!$A:$E,5,FALSE))=TRUE,\"\",VLOOKUP(CONCATENATE($F$68,\"_\",G73),選手名簿!$A:$E,5,FALSE))","v":""},null,null,null,null,null,null,null,{"$f":"IF(ISERROR(VLOOKUP(CONCATENATE($N$68,\"_\",M73),選手名簿!$A:$E,5,FALSE))=TRUE,\"\",VLOOKUP(CONCATENATE($N$68,\"_\",M73),選手名簿!$A:$E,5,FALSE))","v":""},null,null,null,null,null,null,"得点者",{"$f":"IF(ISERROR(VLOOKUP(CONCATENATE($V$68,\"_\",W73),選手名簿!$A:$E,5,FALSE))=TRUE,\"\",VLOOKUP(CONCATENATE($V$68,\"_\",W73),選手名簿!$A:$E,5,FALSE))","v":""},null,null,null,null,null,null,null,{"$f":"IF(ISERROR(VLOOKUP(CONCATENATE($AD$68,\"_\",AC73),選手名簿!$A:$E,5,FALSE))=TRUE,\"\",VLOOKUP(CONCATENATE($AD$68,\"_\",AC73),選手名簿!$A:$E,5,FALSE))","v":""}]
[null,null,null,null,"得点者",{"$f":"IF(ISERROR(VLOOKUP(CONCATENATE($F$68,\"_\",G74),選手名簿!$A:$E,5,FALSE))=TRUE,\"\",VLOOKUP(CONCATENATE($F$68,\"_\",G74),選手名簿!$A:$E,5,FALSE))","v":""},null,null,null,null,null,null,null,{"$f":"IF(ISERROR(VLOOKUP(CONCATENATE($N$68,\"_\",M74),選手名簿!$A:$E,5,FALSE))=TRUE,\"\",VLOOKUP(CONCATENATE($N$68,\"_\",M74),選手名簿!$A:$E,5,FALSE))","v":""},null,null,null,null,null,null,"得点者",{"$f":"IF(ISERROR(VLOOKUP(CONCATENATE($V$68,\"_\",W74),選手名簿!$A:$E,5,FALSE))=TRUE,\"\",VLOOKUP(CONCATENATE($V$68,\"_\",W74),選手名簿!$A:$E,5,FALSE))","v":""},null,null,null,null,null,null,null,{"$f":"IF(ISERROR(VLOOKUP(CONCATENATE($AD$68,\"_\",AC74),選手名簿!$A:$E,5,FALSE))=TRUE,\"\",VLOOKUP(CONCATENATE($AD$68,\"_\",AC74),選手名簿!$A:$E,5,FALSE))","v":""}]
[null,null,null,null,"得点者",{"$f":"IF(ISERROR(VLOOKUP(CONCATENATE($F$68,\"_\",G75),選手名簿!$A:$E,5,FALSE))=TRUE,\"\",VLOOKUP(CONCATENATE($F$68,\"_\",G75),選手名簿!$A:$E,5,FALSE))","v":""},null,null,null,null,null,null,null,{"$f":"IF(ISERROR(VLOOKUP(CONCATENATE($N$68,\"_\",M75),選手名簿!$A:$E,5,FALSE))=TRUE,\"\",VLOOKUP(CONCATENATE($N$68,\"_\",M75),選手名簿!$A:$E,5,FALSE))","v":""},null,null,null,null,null,null,"得点者",{"$f":"IF(ISERROR(VLOOKUP(CONCATENATE($V$68,\"_\",W75),選手名簿!$A:$E,5,FALSE))=TRUE,\"\",VLOOKUP(CONCATENATE($V$68,\"_\",W75),選手名簿!$A:$E,5,FALSE))","v":""},null,null,null,null,null,null,null,{"$f":"IF(ISERROR(VLOOKUP(CONCATENATE($AD$68,\"_\",AC75),選手名簿!$A:$E,5,FALSE))=TRUE,\"\",VLOOKUP(CONCATENATE($AD$68,\"_\",AC75),選手名簿!$A:$E,5,FALSE))","v":""}]
[null,null,null,null,"得点者",{"$f":"IF(ISERROR(VLOOKUP(CONCATENATE($F$68,\"_\",G76),選手名簿!$A:$E,5,FALSE))=TRUE,\"\",VLOOKUP(CONCATENATE($F$68,\"_\",G76),選手名簿!$A:$E,5,FALSE))","v":""},null,null,null,null,null,null,null,{"$f":"IF(ISERROR(VLOOKUP(CONCATENATE($N$68,\"_\",M76),選手名簿!$A:$E,5,FALSE))=TRUE,\"\",VLOOKUP(CONCATENATE($N$68,\"_\",M76),選手名簿!$A:$E,5,FALSE))","v":""},null,null,null,null,null,null,"得点者",{"$f":"IF(ISERROR(VLOOKUP(CONCATENATE($V$68,\"_\",W76),選手名簿!$A:$E,5,FALSE))=TRUE,\"\",VLOOKUP(CONCATENATE($V$68,\"_\",W76),選手名簿!$A:$E,5,FALSE))","v":""},null,null,null,null,null,null,null,{"$f":"IF(ISERROR(VLOOKUP(CONCATENATE($AD$68,\"_\",AC76),選手名簿!$A:$E,5,FALSE))=TRUE,\"\",VLOOKUP(CONCATENATE($AD$68,\"_\",AC76),選手名簿!$A:$E,5,FALSE))","v":""}]
[null,null,null,null,"得点者",{"$f":"IF(ISERROR(VLOOKUP(CONCATENATE($F$68,\"_\",G77),選手名簿!$A:$E,5,FALSE))=TRUE,\"\",VLOOKUP(CONCATENATE($F$68,\"_\",G77),選手名簿!$A:$E,5,FALSE))","v":""},null,null,null,null,null,null,null,{"$f":"IF(ISERROR(VLOOKUP(CONCATENATE($N$68,\"_\",M77),選手名簿!$A:$E,5,FALSE))=TRUE,\"\",VLOOKUP(CONCATENATE($N$68,\"_\",M77),選手名簿!$A:$E,5,FALSE))","v":""},null,null,null,null,null,null,"得点者",{"$f":"IF(ISERROR(VLOOKUP(CONCATENATE($V$68,\"_\",W77),選手名簿!$A:$E,5,FALSE))=TRUE,\"\",VLOOKUP(CONCATENATE($V$68,\"_\",W77),選手名簿!$A:$E,5,FALSE))","v":""},null,null,null,null,null,null,null,{"$f":"IF(ISERROR(VLOOKUP(CONCATENATE($AD$68,\"_\",AC77),選手名簿!$A:$E,5,FALSE))=TRUE,\"\",VLOOKUP(CONCATENATE($AD$68,\"_\",AC77),選手名簿!$A:$E,5,FALSE))","v":""}]
[null,null,null,null,"得点者",{"$f":"IF(ISERROR(VLOOKUP(CONCATENATE($F$68,\"_\",G78),選手名簿!$A:$E,5,FALSE))=TRUE,\"\",VLOOKUP(CONCATENATE($F$68,\"_\",G78),選手名簿!$A:$E,5,FALSE))","v":""},null,null,null,null,null,null,null,{"$f":"IF(ISERROR(VLOOKUP(CONCATENATE($N$68,\"_\",M78),選手名簿!$A:$E,5,FALSE))=TRUE,\"\",VLOOKUP(CONCATENATE($N$68,\"_\",M78),選手名簿!$A:$E,5,FALSE))","v":""},null,null,null,null,null,null,"得点者",{"$f":"IF(ISERROR(VLOOKUP(CONCATENATE($V$68,\"_\",W78),選手名簿!$A:$E,5,FALSE))=TRUE,\"\",VLOOKUP(CONCATENATE($V$68,\"_\",W78),選手名簿!$A:$E,5,FALSE))","v":""},null,null,null,null,null,null,null,{"$f":"IF(ISERROR(VLOOKUP(CONCATENATE($AD$68,\"_\",AC78),選手名簿!$A:$E,5,FALSE))=TRUE,\"\",VLOOKUP(CONCATENATE($AD$68,\"_\",AC78),選手名簿!$A:$E,5,FALSE))","v":""}]
[null,null,null,null,"得点者",{"$f":"IF(ISERROR(VLOOKUP(CONCATENATE($F$68,\"_\",G79),選手名簿!$A:$E,5,FALSE))=TRUE,\"\",VLOOKUP(CONCATENATE($F$68,\"_\",G79),選手名簿!$A:$E,5,FALSE))","v":""},null,null,null,null,null,null,null,{"$f":"IF(ISERROR(VLOOKUP(CONCATENATE($N$68,\"_\",M79),選手名簿!$A:$E,5,FALSE))=TRUE,\"\",VLOOKUP(CONCATENATE($N$68,\"_\",M79),選手名簿!$A:$E,5,FALSE))","v":""},null,null,null,null,null,null,"得点者",{"$f":"IF(ISERROR(VLOOKUP(CONCATENATE($V$68,\"_\",W79),選手名簿!$A:$E,5,FALSE))=TRUE,\"\",VLOOKUP(CONCATENATE($V$68,\"_\",W79),選手名簿!$A:$E,5,FALSE))","v":""},null,null,null,null,null,null,null,{"$f":"IF(ISERROR(VLOOKUP(CONCATENATE($AD$68,\"_\",AC79),選手名簿!$A:$E,5,FALSE))=TRUE,\"\",VLOOKUP(CONCATENATE($AD$68,\"_\",AC79),選手名簿!$A:$E,5,FALSE))","v":""}]
[null,null,null,null,"得点者",{"$f":"IF(ISERROR(VLOOKUP(CONCATENATE($F$68,\"_\",G80),選手名簿!$A:$E,5,FALSE))=TRUE,\"\",VLOOKUP(CONCATENATE($F$68,\"_\",G80),選手名簿!$A:$E,5,FALSE))","v":""},null,null,null,null,null,null,null,{"$f":"IF(ISERROR(VLOOKUP(CONCATENATE($N$68,\"_\",M80),選手名簿!$A:$E,5,FALSE))=TRUE,\"\",VLOOKUP(CONCATENATE($N$68,\"_\",M80),選手名簿!$A:$E,5,FALSE))","v":""},null,null,null,null,null,null,"得点者",{"$f":"IF(ISERROR(VLOOKUP(CONCATENATE($V$68,\"_\",W80),選手名簿!$A:$E,5,FALSE))=TRUE,\"\",VLOOKUP(CONCATENATE($V$68,\"_\",W80),選手名簿!$A:$E,5,FALSE))","v":""},null,null,null,null,null,null,null,{"$f":"IF(ISERROR(VLOOKUP(CONCATENATE($AD$68,\"_\",AC80),選手名簿!$A:$E,5,FALSE))=TRUE,\"\",VLOOKUP(CONCATENATE($AD$68,\"_\",AC80),選手名簿!$A:$E,5,FALSE))","v":""}]
[null,null,null,null,"得点者",{"$f":"IF(ISERROR(VLOOKUP(CONCATENATE($F$68,\"_\",G81),選手名簿!$A:$E,5,FALSE))=TRUE,\"\",VLOOKUP(CONCATENATE($F$68,\"_\",G81),選手名簿!$A:$E,5,FALSE))","v":""},null,null,null,null,null,null,null,{"$f":"IF(ISERROR(VLOOKUP(CONCATENATE($N$68,\"_\",M81),選手名簿!$A:$E,5,FALSE))=TRUE,\"\",VLOOKUP(CONCATENATE($N$68,\"_\",M81),選手名簿!$A:$E,5,FALSE))","v":""},null,null,null,null,null,null,"得点者",{"$f":"IF(ISERROR(VLOOKUP(CONCATENATE($V$68,\"_\",W81),選手名簿!$A:$E,5,FALSE))=TRUE,\"\",VLOOKUP(CONCATENATE($V$68,\"_\",W81),選手名簿!$A:$E,5,FALSE))","v":""},null,null,null,null,null,null,null,{"$f":"IF(ISERROR(VLOOKUP(CONCATENATE($AD$68,\"_\",AC81),選手名簿!$A:$E,5,FALSE))=TRUE,\"\",VLOOKUP(CONCATENATE($AD$68,\"_\",AC81),選手名簿!$A:$E,5,FALSE))","v":""}]
["番号","R009408904",null,null,null,{"$f":"IF(ISERROR(VLOOKUP(CONCATENATE($F$68,\"_\",G82),選手名簿!$A:$E,5,FALSE))=TRUE,\"\",VLOOKUP(CONCATENATE($F$68,\"_\",G82),選手名簿!$A:$E,5,FALSE))","v":""},null,null,null,null,null,null,null,{"$f":"IF(ISERROR(VLOOKUP(CONCATENATE($N$68,\"_\",M82),選手名簿!$A:$E,5,FALSE))=TRUE,\"\",VLOOKUP(CONCATENATE($N$68,\"_\",M82),選手名簿!$A:$E,5,FALSE))","v":""},null,null,"番号","R010027823",null,null,null,{"$f":"IF(ISERROR(VLOOKUP(CONCATENATE($V$68,\"_\",W82),選手名簿!$A:$E,5,FALSE))=TRUE,\"\",VLOOKUP(CONCATENATE($V$68,\"_\",W82),選手名簿!$A:$E,5,FALSE))","v":""},null,null,null,null,null,null,null,{"$f":"IF(ISERROR(VLOOKUP(CONCATENATE($AD$68,\"_\",AC82),選手名簿!$A:$E,5,FALSE))=TRUE,\"\",VLOOKUP(CONCATENATE($AD$68,\"_\",AC82),選手名簿!$A:$E,5,FALSE))","v":""}]
["R",{"$f":"IF(ISERROR(VLOOKUP(B82,審判員!$A:$C,2,FALSE))=TRUE,\"\",VLOOKUP(B82,審判員!$A:$C,2,FALSE))","v":"石井　洋平"},null,{"$f":"IF(ISERROR(VLOOKUP(B82,審判員!$A:$C,3,FALSE))=TRUE,\"\",VLOOKUP(B82,審判員!$A:$C,3,FALSE))","v":"３級"},null,{"$f":"IF(ISERROR(VLOOKUP(CONCATENATE($F$68,\"_\",G83),選手名簿!$A:$E,5,FALSE))=TRUE,\"\",VLOOKUP(CONCATENATE($F$68,\"_\",G83),選手名簿!$A:$E,5,FALSE))","v":""},null,null,null,null,null,null,null,{"$f":"IF(ISERROR(VLOOKUP(CONCATENATE($N$68,\"_\",M83),選手名簿!$A:$E,5,FALSE))=TRUE,\"\",VLOOKUP(CONCATENATE($N$68,\"_\",M83),選手名簿!$A:$E,5,FALSE))","v":""},null,null,"R",{"$f":"IF(ISERROR(VLOOKUP(R82,審判員!$A:$C,2,FALSE))=TRUE,\"\",VLOOKUP(R82,審判員!$A:$C,2,FALSE))","v":"清家　大介"},null,{"$f":"IF(ISERROR(VLOOKUP(R82,審判員!$A:$C,3,FALSE))=TRUE,\"\",VLOOKUP(R82,審判員!$A:$C,3,FALSE))","v":"３級"},null,{"$f":"IF(ISERROR(VLOOKUP(CONCATENATE($V$68,\"_\",W83),選手名簿!$A:$E,5,FALSE))=TRUE,\"\",VLOOKUP(CONCATENATE($V$68,\"_\",W83),選手名簿!$A:$E,5,FALSE))","v":""},null,null,null,null,null,null,null,{"$f":"IF(ISERROR(VLOOKUP(CONCATENATE($AD$68,\"_\",AC83),選手名簿!$A:$E,5,FALSE))=TRUE,\"\",VLOOKUP(CONCATENATE($AD$68,\"_\",AC83),選手名簿!$A:$E,5,FALSE))","v":""}]
["番号","R010396582",null,null,null,{"$f":"IF(ISERROR(VLOOKUP(CONCATENATE($F$68,\"_\",G84),選手名簿!$A:$E,5,FALSE))=TRUE,\"\",VLOOKUP(CONCATENATE($F$68,\"_\",G84),選手名簿!$A:$E,5,FALSE))","v":""},null,null,null,null,null,null,null,{"$f":"IF(ISERROR(VLOOKUP(CONCATENATE($N$68,\"_\",M84),選手名簿!$A:$E,5,FALSE))=TRUE,\"\",VLOOKUP(CONCATENATE($N$68,\"_\",M84),選手名簿!$A:$E,5,FALSE))","v":""},null,null,"番号","R001251577",null,null,null,{"$f":"IF(ISERROR(VLOOKUP(CONCATENATE($V$68,\"_\",W84),選手名簿!$A:$E,5,FALSE))=TRUE,\"\",VLOOKUP(CONCATENATE($V$68,\"_\",W84),選手名簿!$A:$E,5,FALSE))","v":""},null,null,null,null,null,null,null,{"$f":"IF(ISERROR(VLOOKUP(CONCATENATE($AD$68,\"_\",AC84),選手名簿!$A:$E,5,FALSE))=TRUE,\"\",VLOOKUP(CONCATENATE($AD$68,\"_\",AC84),選手名簿!$A:$E,5,FALSE))","v":""}]
["AR1:",{"$f":"IF(ISERROR(VLOOKUP(B84,審判員!$A:$C,2,FALSE))=TRUE,\"\",VLOOKUP(B84,審判員!$A:$C,2,FALSE))","v":"金田　智朗"},null,{"$f":"IF(ISERROR(VLOOKUP(B84,審判員!$A:$C,3,FALSE))=TRUE,\"\",VLOOKUP(B84,審判員!$A:$C,3,FALSE))","v":"３級"},null,{"$f":"IF(ISERROR(VLOOKUP(CONCATENATE($F$68,\"_\",G85),選手名簿!$A:$E,5,FALSE))=TRUE,\"\",VLOOKUP(CONCATENATE($F$68,\"_\",G85),選手名簿!$A:$E,5,FALSE))","v":""},null,null,null,null,null,null,null,{"$f":"IF(ISERROR(VLOOKUP(CONCATENATE($N$68,\"_\",M85),選手名簿!$A:$E,5,FALSE))=TRUE,\"\",VLOOKUP(CONCATENATE($N$68,\"_\",M85),選手名簿!$A:$E,5,FALSE))","v":""},null,null,"AR1:",{"$f":"IF(ISERROR(VLOOKUP(R84,審判員!$A:$C,2,FALSE))=TRUE,\"\",VLOOKUP(R84,審判員!$A:$C,2,FALSE))","v":"酒井　隆宏"},null,{"$f":"IF(ISERROR(VLOOKUP(R84,審判員!$A:$C,3,FALSE))=TRUE,\"\",VLOOKUP(R84,審判員!$A:$C,3,FALSE))","v":"３級"},null,{"$f":"IF(ISERROR(VLOOKUP(CONCATENATE($V$68,\"_\",W85),選手名簿!$A:$E,5,FALSE))=TRUE,\"\",VLOOKUP(CONCATENATE($V$68,\"_\",W85),選手名簿!$A:$E,5,FALSE))","v":""},null,null,null,null,null,null,null,{"$f":"IF(ISERROR(VLOOKUP(CONCATENATE($AD$68,\"_\",AC85),選手名簿!$A:$E,5,FALSE))=TRUE,\"\",VLOOKUP(CONCATENATE($AD$68,\"_\",AC85),選手名簿!$A:$E,5,FALSE))","v":""}]
["番号","R001264359",null,null,null,{"$f":"IF(ISERROR(VLOOKUP(CONCATENATE($F$68,\"_\",G86),選手名簿!$A:$E,5,FALSE))=TRUE,\"\",VLOOKUP(CONCATENATE($F$68,\"_\",G86),選手名簿!$A:$E,5,FALSE))","v":""},null,null,null,null,null,null,null,{"$f":"IF(ISERROR(VLOOKUP(CONCATENATE($N$68,\"_\",M86),選手名簿!$A:$E,5,FALSE))=TRUE,\"\",VLOOKUP(CONCATENATE($N$68,\"_\",M86),選手名簿!$A:$E,5,FALSE))","v":""},null,null,"番号","R001252336",null,null,null,{"$f":"IF(ISERROR(VLOOKUP(CONCATENATE($V$68,\"_\",W86),選手名簿!$A:$E,5,FALSE))=TRUE,\"\",VLOOKUP(CONCATENATE($V$68,\"_\",W86),選手名簿!$A:$E,5,FALSE))","v":""},null,null,null,null,null,null,null,{"$f":"IF(ISERROR(VLOOKUP(CONCATENATE($AD$68,\"_\",AC86),選手名簿!$A:$E,5,FALSE))=TRUE,\"\",VLOOKUP(CONCATENATE($AD$68,\"_\",AC86),選手名簿!$A:$E,5,FALSE))","v":""}]
["AR2:",{"$f":"IF(ISERROR(VLOOKUP(B86,審判員!$A:$C,2,FALSE))=TRUE,\"\",VLOOKUP(B86,審判員!$A:$C,2,FALSE))","v":"東　和弘"},null,{"$f":"IF(ISERROR(VLOOKUP(B86,審判員!$A:$C,3,FALSE))=TRUE,\"\",VLOOKUP(B86,審判員!$A:$C,3,FALSE))","v":"３級"},null,{"$f":"IF(ISERROR(VLOOKUP(CONCATENATE($F$68,\"_\",G87),選手名簿!$A:$E,5,FALSE))=TRUE,\"\",VLOOKUP(CONCATENATE($F$68,\"_\",G87),選手名簿!$A:$E,5,FALSE))","v":""},null,null,null,null,null,null,null,{"$f":"IF(ISERROR(VLOOKUP(CONCATENATE($N$68,\"_\",M87),選手名簿!$A:$E,5,FALSE))=TRUE,\"\",VLOOKUP(CONCATENATE($N$68,\"_\",M87),選手名簿!$A:$E,5,FALSE))","v":""},null,null,"AR2:",{"$f":"IF(ISERROR(VLOOKUP(R86,審判員!$A:$C,2,FALSE))=TRUE,\"\",VLOOKUP(R86,審判員!$A:$C,2,FALSE))","v":"山本　貴志"},null,{"$f":"IF(ISERROR(VLOOKUP(R86,審判員!$A:$C,3,FALSE))=TRUE,\"\",VLOOKUP(R86,審判員!$A:$C,3,FALSE))","v":"３級"},null,{"$f":"IF(ISERROR(VLOOKUP(CONCATENATE($V$68,\"_\",W87),選手名簿!$A:$E,5,FALSE))=TRUE,\"\",VLOOKUP(CONCATENATE($V$68,\"_\",W87),選手名簿!$A:$E,5,FALSE))","v":""},null,null,null,null,null,null,null,{"$f":"IF(ISERROR(VLOOKUP(CONCATENATE($AD$68,\"_\",AC87),選手名簿!$A:$E,5,FALSE))=TRUE,\"\",VLOOKUP(CONCATENATE($AD$68,\"_\",AC87),選手名簿!$A:$E,5,FALSE))","v":""}]
["番号","R010027823",null,null,null,{"$f":"IF(ISERROR(VLOOKUP(CONCATENATE($F$68,\"_\",G88),選手名簿!$A:$E,5,FALSE))=TRUE,\"\",VLOOKUP(CONCATENATE($F$68,\"_\",G88),選手名簿!$A:$E,5,FALSE))","v":""},null,null,null,null,null,null,null,{"$f":"IF(ISERROR(VLOOKUP(CONCATENATE($N$68,\"_\",M88),選手名簿!$A:$E,5,FALSE))=TRUE,\"\",VLOOKUP(CONCATENATE($N$68,\"_\",M88),選手名簿!$A:$E,5,FALSE))","v":""},null,null,"番号","R001263411",null,null,null,{"$f":"IF(ISERROR(VLOOKUP(CONCATENATE($V$68,\"_\",W88),選手名簿!$A:$E,5,FALSE))=TRUE,\"\",VLOOKUP(CONCATENATE($V$68,\"_\",W88),選手名簿!$A:$E,5,FALSE))","v":""},null,null,null,null,null,null,null,{"$f":"IF(ISERROR(VLOOKUP(CONCATENATE($AD$68,\"_\",AC88),選手名簿!$A:$E,5,FALSE))=TRUE,\"\",VLOOKUP(CONCATENATE($AD$68,\"_\",AC88),選手名簿!$A:$E,5,FALSE))","v":""}]
["4th:",{"$f":"IF(ISERROR(VLOOKUP(B88,審判員!$A:$C,2,FALSE))=TRUE,\"\",VLOOKUP(B88,審判員!$A:$C,2,FALSE))","v":"清家　大介"},null,{"$f":"IF(ISERROR(VLOOKUP(B88,審判員!$A:$C,3,FALSE))=TRUE,\"\",VLOOKUP(B88,審判員!$A:$C,3,FALSE))","v":"３級"},null,{"$f":"IF(ISERROR(VLOOKUP(CONCATENATE($F$68,\"_\",G89),選手名簿!$A:$E,5,FALSE))=TRUE,\"\",VLOOKUP(CONCATENATE($F$68,\"_\",G89),選手名簿!$A:$E,5,FALSE))","v":""},null,null,null,null,null,null,null,{"$f":"IF(ISERROR(VLOOKUP(CONCATENATE($N$68,\"_\",M89),選手名簿!$A:$E,5,FALSE))=TRUE,\"\",VLOOKUP(CONCATENATE($N$68,\"_\",M89),選手名簿!$A:$E,5,FALSE))","v":""},null,null,"4th:",{"$f":"IF(ISERROR(VLOOKUP(R88,審判員!$A:$C,2,FALSE))=TRUE,\"\",VLOOKUP(R88,審判員!$A:$C,2,FALSE))","v":"佐々木　正志"},null,{"$f":"IF(ISERROR(VLOOKUP(R88,審判員!$A:$C,3,FALSE))=TRUE,\"\",VLOOKUP(R88,審判員!$A:$C,3,FALSE))","v":"３級"},null,{"$f":"IF(ISERROR(VLOOKUP(CONCATENATE($V$68,\"_\",W89),選手名簿!$A:$E,5,FALSE))=TRUE,\"\",VLOOKUP(CONCATENATE($V$68,\"_\",W89),選手名簿!$A:$E,5,FALSE))","v":""},null,null,null,null,null,null,null,{"$f":"IF(ISERROR(VLOOKUP(CONCATENATE($AD$68,\"_\",AC89),選手名簿!$A:$E,5,FALSE))=TRUE,\"\",VLOOKUP(CONCATENATE($AD$68,\"_\",AC89),選手名簿!$A:$E,5,FALSE))","v":""}]

{"sheet":"予選リーグ公式記録(県協会人工芝南)","index":12,"n_rows":89,"n_cols":31,"rows_kept":89,"cut":false,"hidden":true,"merged":[[6,5,6,11],[23,1,23,3],[24,1,24,2],[38,20,40,20],[38,21,40,21],[9,7,11,7],[9,11,11,11],[9,4,11,4],[9,5,11,5],[23,17,23,19],[9,6,11,6],[38,4,40,4],[9,20,11,20],[9,21,11,21],[6,12,6,13],[9,12,11,12],[9,13,11,13],[24,17,24,18],[29,1,29,3],[29,17,29,19],[30,1,30,2],[30,17,30,18],[25,1,25,3],[25,17,25,19],[4,12,4,13],[4,5,4,11],[5,5,5,11],[5,12,5,13],[4,21,4,27],[0,0,0,9],[0,10,0,13],[0,16,0,25],[0,26,0,29],[2,1,2,4],[2,17,2,20],[9,27,11,27],[9,28,11,28],[9,29,11,29],[9,22,11,22],[5,21,5,27],[6,21,6,27],[4,28,4,29],[5,28,5,29],[6,28,6,29],[9,23,11,23],[38,23,40,23],[38,27,40,27],[38,28,40,28],[38,29,40,29],[52,1,52,3],[52,17,52,19],[38,5,40,5],[38,6,40,6],[38,7,40,7],[38,11,40,11],[38,12,40,12],[38,13,40,13],[38,22,40,22],[39,17,39,19],[40,17,40,19],[39,1,39,3],[40,1,40,3],[38,1,38,3],[38,17,38,19],[67,20,69,20],[67,21,69,21],[67,22,69,22],[67,4,69,4],[67,5,69,5],[67,6,69,6],[67,7,69,7],[67,11,69,11],[70,0,70,3],[70,16,70,19],[67,12,69,12],[67,13,69,13],[67,14,69,14],[68,1,68,3],[69,1,69,3],[68,17,68,19],[69,17,69,19],[67,1,67,3],[67,17,67,19],[88,1,88,2],[88,17,88,18],[84,1,84,2],[84,17,84,18],[85,1,85,3],[85,17,85,19],[86,1,86,2],[86,17,86,18],[81,1,81,3],[81,17,81,19],[82,1,82,2],[82,17,82,18],[83,1,83,3],[83,17,83,19],[59,17,59,18],[57,1,57,2],[57,17,57,18],[58,1,58,3],[58,17,58,19],[9,14,11,14],[38,14,40,14],[87,1,87,3],[87,17,87,19],[27,1,27,3],[27,17,27,19],[10,1,10,3],[11,1,11,3],[10,17,10,19],[11,17,11,19],[9,1,9,3],[9,17,9,19],[9,30,11,30],[38,30,40,30],[67,30,69,30],[12,0,12,3],[12,16,12,19],[41,0,41,3],[41,16,41,19],[53,1,53,2],[53,17,53,18],[54,1,54,3],[54,17,54,19],[55,1,55,2],[55,17,55,18],[28,1,28,2],[28,17,28,18],[67,29,69,29],[67,23,69,23],[67,27,69,27],[67,28,69,28],[26,1,26,2],[26,17,26,18],[56,1,56,3],[56,17,56,19],[59,1,59,2]]}
[{"$f":"要項!C2","v":"OFA 第 33 回 大分県U-11サッカー選手権大会"},null,null,null,null,null,null,null,null,null,"予選リーグ結果　報告用紙",null,null,null,null,null,{"$f":"要項!C2","v":"OFA 第 33 回 大分県U-11サッカー選手権大会"},null,null,null,null,null,null,null,null,null,"予選リーグ結果　報告用紙"]
[]
["会場",{"$f":"予選リーグ!I14","v":"大分県ｻｯｶｰ協会人工芝ｸﾞﾗｳﾝﾄﾞ"},null,null,null,{"$f":"予選リーグ!I15","v":"「南」コート"},null,null,null,null,null,null,null,null,null,null,"会場",{"$f":"予選リーグ!I14","v":"大分県ｻｯｶｰ協会人工芝ｸﾞﾗｳﾝﾄﾞ"},null,null,null,{"$f":"予選リーグ!I15","v":"「南」コート"}]
[]
[null,null,null,null,"E1",{"$f":"VLOOKUP(E5,組合せ抽選用!$Q:$U,5,FALSE)","v":"ＦＣ大野"},null,null,null,null,null,null,{"$f":"VLOOKUP(E5,組合せ抽選用!$Q:$V,6,FALSE)","v":"豊肥"},null,null,null,null,null,null,null,"G1",{"$f":"VLOOKUP(U5,組合せ抽選用!$Q:$U,5,FALSE)","v":"下毛ＦＣ"},null,null,null,null,null,null,{"$f":"VLOOKUP(U5,組合せ抽選用!$Q:$V,6,FALSE)","v":"中津"}]
[null,null,null,null,"E2",{"$f":"VLOOKUP(E6,組合せ抽選用!$Q:$U,5,FALSE)","v":"スマイス　セレソン　スポーツクラブ"},null,null,null,null,null,null,{"$f":"VLOOKUP(E6,組合せ抽選用!$Q:$V,6,FALSE)","v":"大分"},null,null,null,null,null,null,null,"G2",{"$f":"VLOOKUP(U6,組合せ抽選用!$Q:$U,5,FALSE)","v":"宗方サッカークラブ"},null,null,null,null,null,null,{"$f":"VLOOKUP(U6,組合せ抽選用!$Q:$V,6,FALSE)","v":"大分"}]
[null,null,null,null,"E3",{"$f":"VLOOKUP(E7,組合せ抽選用!$Q:$U,5,FALSE)","v":"弥生少年サッカークラブ"},null,null,null,null,null,null,{"$f":"VLOOKUP(E7,組合せ抽選用!$Q:$V,6,FALSE)","v":"佐伯"},null,null,null,null,null,null,null,"G3",{"$f":"VLOOKUP(U7,組合せ抽選用!$Q:$U,5,FALSE)","v":"太陽スポーツクラブ大分西"},null,null,null,null,null,null,{"$f":"VLOOKUP(U7,組合せ抽選用!$Q:$V,6,FALSE)","v":"日田/玖珠"}]
[]
[]
["MC","佐々木　秀樹",null,null,{"$f":"予選リーグ!B19","v":"10:00:00"},{"$f":"F5","v":"ＦＣ大野"},{"$f":"SUM(I10:I11)","v":0},"（",0,"前半",1,"）",{"$f":"SUM(K10:K11)","v":4},{"$f":"F6","v":"スマイス　セレソン　スポーツクラブ"},null,null,"MC","羽田野　亘",null,null,{"$f":"予選リーグ!B21","v":"10:50:00"},{"$f":"V5","v":"下毛ＦＣ"},{"$f":"SUM(Y10:Y11)","v":2},"（",1,"前半",0,"）",{"$f":"SUM(AA10:AA11)","v":0},{"$f":"V6","v":"宗方サッカークラブ"}]
["Welfare\nOfficer",null,null,null,null,null,null,null,0,"後半",3,null,null,null,null,null,"Welfare\nOfficer",null,null,null,null,null,null,null,1,"後半",0]
["記録","平尾　彰敏",null,null,null,null,null,null,null,"PK",null,null,null,null,null,null,"記録","平尾　彰敏",null,null,null,null,null,null,null,"PK"]
["＜Referee＞",null,null,null,"警告/退場\n選択肢より","氏名","番号","分","内容\n選択肢より",null,"内容\n選択肢より","分","番号","氏名","警告/退場\n選択肢より",null,"＜Referee＞",null,null,null,"警告/退場\n選択肢より","氏名","番号","分","内容\n選択肢より",null,"内容\n選択肢より","分","番号","氏名","警告/退場\n選択肢より"]
[null,null,null,null,"得点者",{"$f":"IF(ISERROR(VLOOKUP(CONCATENATE($F$10,\"_\",G14),選手名簿!$A:$E,5,FALSE))=TRUE,\"\",VLOOKUP(CONCATENATE($F$10,\"_\",G14),選手名簿!$A:$E,5,FALSE))","v":""},null,null,null,null,null,null,null,{"$f":"IF(ISERROR(VLOOKUP(CONCATENATE($N$10,\"_\",M14),選手名簿!$A:$E,5,FALSE))=TRUE,\"\",VLOOKUP(CONCATENATE($N$10,\"_\",M14),選手名簿!$A:$E,5,FALSE))","v":""},null,null,null,null,null,null,"得点者",{"$f":"IF(ISERROR(VLOOKUP(CONCATENATE($V$10,\"_\",W14),選手名簿!$A:$E,5,FALSE))=TRUE,\"\",VLOOKUP(CONCATENATE($V$10,\"_\",W14),選手名簿!$A:$E,5,FALSE))","v":""},null,null,null,null,null,null,null,{"$f":"IF(ISERROR(VLOOKUP(CONCATENATE($AD$10,\"_\",AC14),選手名簿!$A:$E,5,FALSE))=TRUE,\"\",VLOOKUP(CONCATENATE($AD$10,\"_\",AC14),選手名簿!$A:$E,5,FALSE))","v":""}]
[null,null,null,null,"得点者",{"$f":"IF(ISERROR(VLOOKUP(CONCATENATE($F$10,\"_\",G15),選手名簿!$A:$E,5,FALSE))=TRUE,\"\",VLOOKUP(CONCATENATE($F$10,\"_\",G15),選手名簿!$A:$E,5,FALSE))","v":""},null,null,null,null,null,null,null,{"$f":"IF(ISERROR(VLOOKUP(CONCATENATE($N$10,\"_\",M15),選手名簿!$A:$E,5,FALSE))=TRUE,\"\",VLOOKUP(CONCATENATE($N$10,\"_\",M15),選手名簿!$A:$E,5,FALSE))","v":""},null,null,null,null,null,null,"得点者",{"$f":"IF(ISERROR(VLOOKUP(CONCATENATE($V$10,\"_\",W15),選手名簿!$A:$E,5,FALSE))=TRUE,\"\",VLOOKUP(CONCATENATE($V$10,\"_\",W15),選手名簿!$A:$E,5,FALSE))","v":""},null,null,null,null,null,null,null,{"$f":"IF(ISERROR(VLOOKUP(CONCATENATE($AD$10,\"_\",AC15),選手名簿!$A:$E,5,FALSE))=TRUE,\"\",VLOOKUP(CONCATENATE($AD$10,\"_\",AC15),選手名簿!$A:$E,5,FALSE))","v":""}]
[null,null,null,null,"得点者",{"$f":"IF(ISERROR(VLOOKUP(CONCATENATE($F$10,\"_\",G16),選手名簿!$A:$E,5,FALSE))=TRUE,\"\",VLOOKUP(CONCATENATE($F$10,\"_\",G16),選手名簿!$A:$E,5,FALSE))","v":""},null,null,null,null,null,null,null,{"$f":"IF(ISERROR(VLOOKUP(CONCATENATE($N$10,\"_\",M16),選手名簿!$A:$E,5,FALSE))=TRUE,\"\",VLOOKUP(CONCATENATE($N$10,\"_\",M16),選手名簿!$A:$E,5,FALSE))","v":""},null,null,null,null,null,null,"得点者",{"$f":"IF(ISERROR(VLOOKUP(CONCATENATE($V$10,\"_\",W16),選手名簿!$A:$E,5,FALSE))=TRUE,\"\",VLOOKUP(CONCATENATE($V$10,\"_\",W16),選手名簿!$A:$E,5,FALSE))","v":""},null,null,null,null,null,null,null,{"$f":"IF(ISERROR(VLOOKUP(CONCATENATE($AD$10,\"_\",AC16),選手名簿!$A:$E,5,FALSE))=TRUE,\"\",VLOOKUP(CONCATENATE($AD$10,\"_\",AC16),選手名簿!$A:$E,5,FALSE))","v":""}]
[null,null,null,null,"得点者",{"$f":"IF(ISERROR(VLOOKUP(CONCATENATE($F$10,\"_\",G17),選手名簿!$A:$E,5,FALSE))=TRUE,\"\",VLOOKUP(CONCATENATE($F$10,\"_\",G17),選手名簿!$A:$E,5,FALSE))","v":""},null,null,null,null,null,null,null,{"$f":"IF(ISERROR(VLOOKUP(CONCATENATE($N$10,\"_\",M17),選手名簿!$A:$E,5,FALSE))=TRUE,\"\",VLOOKUP(CONCATENATE($N$10,\"_\",M17),選手名簿!$A:$E,5,FALSE))","v":""},null,null,null,null,null,null,"得点者",{"$f":"IF(ISERROR(VLOOKUP(CONCATENATE($V$10,\"_\",W17),選手名簿!$A:$E,5,FALSE))=TRUE,\"\",VLOOKUP(CONCATENATE($V$10,\"_\",W17),選手名簿!$A:$E,5,FALSE))","v":""},null,null,null,null,null,null,null,{"$f":"IF(ISERROR(VLOOKUP(CONCATENATE($AD$10,\"_\",AC17),選手名簿!$A:$E,5,FALSE))=TRUE,\"\",VLOOKUP(CONCATENATE($AD$10,\"_\",AC17),選手名簿!$A:$E,5,FALSE))","v":""}]
[null,null,null,null,"得点者",{"$f":"IF(ISERROR(VLOOKUP(CONCATENATE($F$10,\"_\",G18),選手名簿!$A:$E,5,FALSE))=TRUE,\"\",VLOOKUP(CONCATENATE($F$10,\"_\",G18),選手名簿!$A:$E,5,FALSE))","v":""},null,null,null,null,null,null,null,{"$f":"IF(ISERROR(VLOOKUP(CONCATENATE($N$10,\"_\",M18),選手名簿!$A:$E,5,FALSE))=TRUE,\"\",VLOOKUP(CONCATENATE($N$10,\"_\",M18),選手名簿!$A:$E,5,FALSE))","v":""},null,null,null,null,null,null,"得点者",{"$f":"IF(ISERROR(VLOOKUP(CONCATENATE($V$10,\"_\",W18),選手名簿!$A:$E,5,FALSE))=TRUE,\"\",VLOOKUP(CONCATENATE($V$10,\"_\",W18),選手名簿!$A:$E,5,FALSE))","v":""},null,null,null,null,null,null,null,{"$f":"IF(ISERROR(VLOOKUP(CONCATENATE($AD$10,\"_\",AC18),選手名簿!$A:$E,5,FALSE))=TRUE,\"\",VLOOKUP(CONCATENATE($AD$10,\"_\",AC18),選手名簿!$A:$E,5,FALSE))","v":""}]
[null,null,null,null,"得点者",{"$f":"IF(ISERROR(VLOOKUP(CONCATENATE($F$10,\"_\",G19),選手名簿!$A:$E,5,FALSE))=TRUE,\"\",VLOOKUP(CONCATENATE($F$10,\"_\",G19),選手名簿!$A:$E,5,FALSE))","v":""},null,null,null,null,null,null,null,{"$f":"IF(ISERROR(VLOOKUP(CONCATENATE($N$10,\"_\",M19),選手名簿!$A:$E,5,FALSE))=TRUE,\"\",VLOOKUP(CONCATENATE($N$10,\"_\",M19),選手名簿!$A:$E,5,FALSE))","v":""},null,null,null,null,null,null,"得点者",{"$f":"IF(ISERROR(VLOOKUP(CONCATENATE($V$10,\"_\",W19),選手名簿!$A:$E,5,FALSE))=TRUE,\"\",VLOOKUP(CONCATENATE($V$10,\"_\",W19),選手名簿!$A:$E,5,FALSE))","v":""},null,null,null,null,null,null,null,{"$f":"IF(ISERROR(VLOOKUP(CONCATENATE($AD$10,\"_\",AC19),選手名簿!$A:$E,5,FALSE))=TRUE,\"\",VLOOKUP(CONCATENATE($AD$10,\"_\",AC19),選手名簿!$A:$E,5,FALSE))","v":""}]
[null,null,null,null,"得点者",{"$f":"IF(ISERROR(VLOOKUP(CONCATENATE($F$10,\"_\",G20),選手名簿!$A:$E,5,FALSE))=TRUE,\"\",VLOOKUP(CONCATENATE($F$10,\"_\",G20),選手名簿!$A:$E,5,FALSE))","v":""},null,null,null,null,null,null,null,{"$f":"IF(ISERROR(VLOOKUP(CONCATENATE($N$10,\"_\",M20),選手名簿!$A:$E,5,FALSE))=TRUE,\"\",VLOOKUP(CONCATENATE($N$10,\"_\",M20),選手名簿!$A:$E,5,FALSE))","v":""},null,null,null,null,null,null,"得点者",{"$f":"IF(ISERROR(VLOOKUP(CONCATENATE($V$10,\"_\",W20),選手名簿!$A:$E,5,FALSE))=TRUE,\"\",VLOOKUP(CONCATENATE($V$10,\"_\",W20),選手名簿!$A:$E,5,FALSE))","v":""},null,null,null,null,null,null,null,{"$f":"IF(ISERROR(VLOOKUP(CONCATENATE($AD$10,\"_\",AC20),選手名簿!$A:$E,5,FALSE))=TRUE,\"\",VLOOKUP(CONCATENATE($AD$10,\"_\",AC20),選手名簿!$A:$E,5,FALSE))","v":""}]
[null,null,null,null,"得点者",{"$f":"IF(ISERROR(VLOOKUP(CONCATENATE($F$10,\"_\",G21),選手名簿!$A:$E,5,FALSE))=TRUE,\"\",VLOOKUP(CONCATENATE($F$10,\"_\",G21),選手名簿!$A:$E,5,FALSE))","v":""},null,null,null,null,null,null,null,{"$f":"IF(ISERROR(VLOOKUP(CONCATENATE($N$10,\"_\",M21),選手名簿!$A:$E,5,FALSE))=TRUE,\"\",VLOOKUP(CONCATENATE($N$10,\"_\",M21),選手名簿!$A:$E,5,FALSE))","v":""},null,null,null,null,null,null,"得点者",{"$f":"IF(ISERROR(VLOOKUP(CONCATENATE($V$10,\"_\",W21),選手名簿!$A:$E,5,FALSE))=TRUE,\"\",VLOOKUP(CONCATENATE($V$10,\"_\",W21),選手名簿!$A:$E,5,FALSE))","v":""},null,null,null,null,null,null,null,{"$f":"IF(ISERROR(VLOOKUP(CONCATENATE($AD$10,\"_\",AC21),選手名簿!$A:$E,5,FALSE))=TRUE,\"\",VLOOKUP(CONCATENATE($AD$10,\"_\",AC21),選手名簿!$A:$E,5,FALSE))","v":""}]
[null,null,null,null,"得点者",{"$f":"IF(ISERROR(VLOOKUP(CONCATENATE($F$10,\"_\",G22),選手名簿!$A:$E,5,FALSE))=TRUE,\"\",VLOOKUP(CONCATENATE($F$10,\"_\",G22),選手名簿!$A:$E,5,FALSE))","v":""},null,null,null,null,null,null,null,{"$f":"IF(ISERROR(VLOOKUP(CONCATENATE($N$10,\"_\",M22),選手名簿!$A:$E,5,FALSE))=TRUE,\"\",VLOOKUP(CONCATENATE($N$10,\"_\",M22),選手名簿!$A:$E,5,FALSE))","v":""},null,null,null,null,null,null,"得点者",{"$f":"IF(ISERROR(VLOOKUP(CONCATENATE($V$10,\"_\",W22),選手名簿!$A:$E,5,FALSE))=TRUE,\"\",VLOOKUP(CONCATENATE($V$10,\"_\",W22),選手名簿!$A:$E,5,FALSE))","v":""},null,null,null,null,null,null,null,{"$f":"IF(ISERROR(VLOOKUP(CONCATENATE($AD$10,\"_\",AC22),選手名簿!$A:$E,5,FALSE))=TRUE,\"\",VLOOKUP(CONCATENATE($AD$10,\"_\",AC22),選手名簿!$A:$E,5,FALSE))","v":""}]
[null,null,null,null,"得点者",{"$f":"IF(ISERROR(VLOOKUP(CONCATENATE($F$10,\"_\",G23),選手名簿!$A:$E,5,FALSE))=TRUE,\"\",VLOOKUP(CONCATENATE($F$10,\"_\",G23),選手名簿!$A:$E,5,FALSE))","v":""},null,null,null,null,null,null,null,{"$f":"IF(ISERROR(VLOOKUP(CONCATENATE($N$10,\"_\",M23),選手名簿!$A:$E,5,FALSE))=TRUE,\"\",VLOOKUP(CONCATENATE($N$10,\"_\",M23),選手名簿!$A:$E,5,FALSE))","v":""},null,null,null,null,null,null,"得点者",{"$f":"IF(ISERROR(VLOOKUP(CONCATENATE($V$10,\"_\",W23),選手名簿!$A:$E,5,FALSE))=TRUE,\"\",VLOOKUP(CONCATENATE($V$10,\"_\",W23),選手名簿!$A:$E,5,FALSE))","v":""},null,null,null,null,null,null,null,{"$f":"IF(ISERROR(VLOOKUP(CONCATENATE($AD$10,\"_\",AC23),選手名簿!$A:$E,5,FALSE))=TRUE,\"\",VLOOKUP(CONCATENATE($AD$10,\"_\",AC23),選手名簿!$A:$E,5,FALSE))","v":""}]
["番号","R001262023",null,null,null,{"$f":"IF(ISERROR(VLOOKUP(CONCATENATE($F$10,\"_\",G24),選手名簿!$A:$E,5,FALSE))=TRUE,\"\",VLOOKUP(CONCATENATE($F$10,\"_\",G24),選手名簿!$A:$E,5,FALSE))","v":""},null,null,null,null,null,null,null,{"$f":"IF(ISERROR(VLOOKUP(CONCATENATE($N$10,\"_\",M24),選手名簿!$A:$E,5,FALSE))=TRUE,\"\",VLOOKUP(CONCATENATE($N$10,\"_\",M24),選手名簿!$A:$E,5,FALSE))","v":""},null,null,"番号","R009460551",null,null,null,{"$f":"IF(ISERROR(VLOOKUP(CONCATENATE($V$10,\"_\",W24),選手名簿!$A:$E,5,FALSE))=TRUE,\"\",VLOOKUP(CONCATENATE($V$10,\"_\",W24),選手名簿!$A:$E,5,FALSE))","v":""},null,null,null,null,null,null,null,{"$f":"IF(ISERROR(VLOOKUP(CONCATENATE($AD$10,\"_\",AC24),選手名簿!$A:$E,5,FALSE))=TRUE,\"\",VLOOKUP(CONCATENATE($AD$10,\"_\",AC24),選手名簿!$A:$E,5,FALSE))","v":""}]
["R",{"$f":"IF(ISERROR(VLOOKUP(B24,審判員!$A:$C,2,FALSE))=TRUE,\"\",VLOOKUP(B24,審判員!$A:$C,2,FALSE))","v":"和田　敬生"},null,{"$f":"IF(ISERROR(VLOOKUP(B24,審判員!$A:$C,3,FALSE))=TRUE,\"\",VLOOKUP(B24,審判員!$A:$C,3,FALSE))","v":"２級"},null,{"$f":"IF(ISERROR(VLOOKUP(CONCATENATE($F$10,\"_\",G25),選手名簿!$A:$E,5,FALSE))=TRUE,\"\",VLOOKUP(CONCATENATE($F$10,\"_\",G25),選手名簿!$A:$E,5,FALSE))","v":""},null,null,null,null,null,null,null,{"$f":"IF(ISERROR(VLOOKUP(CONCATENATE($N$10,\"_\",M25),選手名簿!$A:$E,5,FALSE))=TRUE,\"\",VLOOKUP(CONCATENATE($N$10,\"_\",M25),選手名簿!$A:$E,5,FALSE))","v":""},null,null,"R",{"$f":"IF(ISERROR(VLOOKUP(R24,審判員!$A:$C,2,FALSE))=TRUE,\"\",VLOOKUP(R24,審判員!$A:$C,2,FALSE))","v":"佐藤　慎二"},null,{"$f":"IF(ISERROR(VLOOKUP(R24,審判員!$A:$C,3,FALSE))=TRUE,\"\",VLOOKUP(R24,審判員!$A:$C,3,FALSE))","v":"３級"},null,{"$f":"IF(ISERROR(VLOOKUP(CONCATENATE($V$10,\"_\",W25),選手名簿!$A:$E,5,FALSE))=TRUE,\"\",VLOOKUP(CONCATENATE($V$10,\"_\",W25),選手名簿!$A:$E,5,FALSE))","v":""},null,null,null,null,null,null,null,{"$f":"IF(ISERROR(VLOOKUP(CONCATENATE($AD$10,\"_\",AC25),選手名簿!$A:$E,5,FALSE))=TRUE,\"\",VLOOKUP(CONCATENATE($AD$10,\"_\",AC25),選手名簿!$A:$E,5,FALSE))","v":""}]
["番号","R010301990",null,null,null,{"$f":"IF(ISERROR(VLOOKUP(CONCATENATE($F$10,\"_\",G26),選手名簿!$A:$E,5,FALSE))=TRUE,\"\",VLOOKUP(CONCATENATE($F$10,\"_\",G26),選手名簿!$A:$E,5,FALSE))","v":""},null,null,null,null,null,null,null,{"$f":"IF(ISERROR(VLOOKUP(CONCATENATE($N$10,\"_\",M26),選手名簿!$A:$E,5,FALSE))=TRUE,\"\",VLOOKUP(CONCATENATE($N$10,\"_\",M26),選手名簿!$A:$E,5,FALSE))","v":""},null,null,"番号","R001263448",null,null,null,{"$f":"IF(ISERROR(VLOOKUP(CONCATENATE($V$10,\"_\",W26),選手名簿!$A:$E,5,FALSE))=TRUE,\"\",VLOOKUP(CONCATENATE($V$10,\"_\",W26),選手名簿!$A:$E,5,FALSE))","v":""},null,null,null,null,null,null,null,{"$f":"IF(ISERROR(VLOOKUP(CONCATENATE($AD$10,\"_\",AC26),選手名簿!$A:$E,5,FALSE))=TRUE,\"\",VLOOKUP(CONCATENATE($AD$10,\"_\",AC26),選手名簿!$A:$E,5,FALSE))","v":""}]
["AR1:",{"$f":"IF(ISERROR(VLOOKUP(B26,審判員!$A:$C,2,FALSE))=TRUE,\"\",VLOOKUP(B26,審判員!$A:$C,2,FALSE))","v":"池本　岬"},null,{"$f":"IF(ISERROR(VLOOKUP(B26,審判員!$A:$C,3,FALSE))=TRUE,\"\",VLOOKUP(B26,審判員!$A:$C,3,FALSE))","v":"３級"},null,{"$f":"IF(ISERROR(VLOOKUP(CONCATENATE($F$10,\"_\",G27),選手名簿!$A:$E,5,FALSE))=TRUE,\"\",VLOOKUP(CONCATENATE($F$10,\"_\",G27),選手名簿!$A:$E,5,FALSE))","v":""},null,null,null,null,null,null,null,{"$f":"IF(ISERROR(VLOOKUP(CONCATENATE($N$10,\"_\",M27),選手名簿!$A:$E,5,FALSE))=TRUE,\"\",VLOOKUP(CONCATENATE($N$10,\"_\",M27),選手名簿!$A:$E,5,FALSE))","v":""},null,null,"AR1:",{"$f":"IF(ISERROR(VLOOKUP(R26,審判員!$A:$C,2,FALSE))=TRUE,\"\",VLOOKUP(R26,審判員!$A:$C,2,FALSE))","v":"佐藤　昭生"},null,{"$f":"IF(ISERROR(VLOOKUP(R26,審判員!$A:$C,3,FALSE))=TRUE,\"\",VLOOKUP(R26,審判員!$A:$C,3,FALSE))","v":"３級"},null,{"$f":"IF(ISERROR(VLOOKUP(CONCATENATE($V$10,\"_\",W27),選手名簿!$A:$E,5,FALSE))=TRUE,\"\",VLOOKUP(CONCATENATE($V$10,\"_\",W27),選手名簿!$A:$E,5,FALSE))","v":""},null,null,null,null,null,null,null,{"$f":"IF(ISERROR(VLOOKUP(CONCATENATE($AD$10,\"_\",AC27),選手名簿!$A:$E,5,FALSE))=TRUE,\"\",VLOOKUP(CONCATENATE($AD$10,\"_\",AC27),選手名簿!$A:$E,5,FALSE))","v":""}]
["番号","R008515571",null,null,null,{"$f":"IF(ISERROR(VLOOKUP(CONCATENATE($F$10,\"_\",G28),選手名簿!$A:$E,5,FALSE))=TRUE,\"\",VLOOKUP(CONCATENATE($F$10,\"_\",G28),選手名簿!$A:$E,5,FALSE))","v":""},null,null,null,null,null,null,null,{"$f":"IF(ISERROR(VLOOKUP(CONCATENATE($N$10,\"_\",M28),選手名簿!$A:$E,5,FALSE))=TRUE,\"\",VLOOKUP(CONCATENATE($N$10,\"_\",M28),選手名簿!$A:$E,5,FALSE))","v":""},null,null,"番号","R010542204",null,null,null,{"$f":"IF(ISERROR(VLOOKUP(CONCATENATE($V$10,\"_\",W28),選手名簿!$A:$E,5,FALSE))=TRUE,\"\",VLOOKUP(CONCATENATE($V$10,\"_\",W28),選手名簿!$A:$E,5,FALSE))","v":""},null,null,null,null,null,null,null,{"$f":"IF(ISERROR(VLOOKUP(CONCATENATE($AD$10,\"_\",AC28),選手名簿!$A:$E,5,FALSE))=TRUE,\"\",VLOOKUP(CONCATENATE($AD$10,\"_\",AC28),選手名簿!$A:$E,5,FALSE))","v":""}]
["AR2:",{"$f":"IF(ISERROR(VLOOKUP(B28,審判員!$A:$C,2,FALSE))=TRUE,\"\",VLOOKUP(B28,審判員!$A:$C,2,FALSE))","v":"菅川　智"},null,{"$f":"IF(ISERROR(VLOOKUP(B28,審判員!$A:$C,3,FALSE))=TRUE,\"\",VLOOKUP(B28,審判員!$A:$C,3,FALSE))","v":"３級"},null,{"$f":"IF(ISERROR(VLOOKUP(CONCATENATE($F$10,\"_\",G29),選手名簿!$A:$E,5,FALSE))=TRUE,\"\",VLOOKUP(CONCATENATE($F$10,\"_\",G29),選手名簿!$A:$E,5,FALSE))","v":""},null,null,null,null,null,null,null,{"$f":"IF(ISERROR(VLOOKUP(CONCATENATE($N$10,\"_\",M29),選手名簿!$A:$E,5,FALSE))=TRUE,\"\",VLOOKUP(CONCATENATE($N$10,\"_\",M29),選手名簿!$A:$E,5,FALSE))","v":""},null,null,"AR2:",{"$f":"IF(ISERROR(VLOOKUP(R28,審判員!$A:$C,2,FALSE))=TRUE,\"\",VLOOKUP(R28,審判員!$A:$C,2,FALSE))","v":"生野　憲太朗"},null,{"$f":"IF(ISERROR(VLOOKUP(R28,審判員!$A:$C,3,FALSE))=TRUE,\"\",VLOOKUP(R28,審判員!$A:$C,3,FALSE))","v":"３級"},null,{"$f":"IF(ISERROR(VLOOKUP(CONCATENATE($V$10,\"_\",W29),選手名簿!$A:$E,5,FALSE))=TRUE,\"\",VLOOKUP(CONCATENATE($V$10,\"_\",W29),選手名簿!$A:$E,5,FALSE))","v":""},null,null,null,null,null,null,null,{"$f":"IF(ISERROR(VLOOKUP(CONCATENATE($AD$10,\"_\",AC29),選手名簿!$A:$E,5,FALSE))=TRUE,\"\",VLOOKUP(CONCATENATE($AD$10,\"_\",AC29),選手名簿!$A:$E,5,FALSE))","v":""}]
["番号","R009460551",null,null,null,{"$f":"IF(ISERROR(VLOOKUP(CONCATENATE($F$10,\"_\",G30),選手名簿!$A:$E,5,FALSE))=TRUE,\"\",VLOOKUP(CONCATENATE($F$10,\"_\",G30),選手名簿!$A:$E,5,FALSE))","v":""},null,null,null,null,null,null,null,{"$f":"IF(ISERROR(VLOOKUP(CONCATENATE($N$10,\"_\",M30),選手名簿!$A:$E,5,FALSE))=TRUE,\"\",VLOOKUP(CONCATENATE($N$10,\"_\",M30),選手名簿!$A:$E,5,FALSE))","v":""},null,null,"番号","R001261398",null,null,null,{"$f":"IF(ISERROR(VLOOKUP(CONCATENATE($V$10,\"_\",W30),選手名簿!$A:$E,5,FALSE))=TRUE,\"\",VLOOKUP(CONCATENATE($V$10,\"_\",W30),選手名簿!$A:$E,5,FALSE))","v":""},null,null,null,null,null,null,null,{"$f":"IF(ISERROR(VLOOKUP(CONCATENATE($AD$10,\"_\",AC30),選手名簿!$A:$E,5,FALSE))=TRUE,\"\",VLOOKUP(CONCATENATE($AD$10,\"_\",AC30),選手名簿!$A:$E,5,FALSE))","v":""}]
["4th:",{"$f":"IF(ISERROR(VLOOKUP(B30,審判員!$A:$C,2,FALSE))=TRUE,\"\",VLOOKUP(B30,審判員!$A:$C,2,FALSE))","v":"佐藤　慎二"},null,{"$f":"IF(ISERROR(VLOOKUP(B30,審判員!$A:$C,3,FALSE))=TRUE,\"\",VLOOKUP(B30,審判員!$A:$C,3,FALSE))","v":"３級"},null,{"$f":"IF(ISERROR(VLOOKUP(CONCATENATE($F$10,\"_\",G31),選手名簿!$A:$E,5,FALSE))=TRUE,\"\",VLOOKUP(CONCATENATE($F$10,\"_\",G31),選手名簿!$A:$E,5,FALSE))","v":""},null,null,null,null,null,null,null,{"$f":"IF(ISERROR(VLOOKUP(CONCATENATE($N$10,\"_\",M31),選手名簿!$A:$E,5,FALSE))=TRUE,\"\",VLOOKUP(CONCATENATE($N$10,\"_\",M31),選手名簿!$A:$E,5,FALSE))","v":""},null,null,"4th:",{"$f":"IF(ISERROR(VLOOKUP(R30,審判員!$A:$C,2,FALSE))=TRUE,\"\",VLOOKUP(R30,審判員!$A:$C,2,FALSE))","v":"森山　信浩"},null,{"$f":"IF(ISERROR(VLOOKUP(R30,審判員!$A:$C,3,FALSE))=TRUE,\"\",VLOOKUP(R30,審判員!$A:$C,3,FALSE))","v":"３級"},null,{"$f":"IF(ISERROR(VLOOKUP(CONCATENATE($V$10,\"_\",W31),選手名簿!$A:$E,5,FALSE))=TRUE,\"\",VLOOKUP(CONCATENATE($V$10,\"_\",W31),選手名簿!$A:$E,5,FALSE))","v":""},null,null,null,null,null,null,null,{"$f":"IF(ISERROR(VLOOKUP(CONCATENATE($AD$10,\"_\",AC31),選手名簿!$A:$E,5,FALSE))=TRUE,\"\",VLOOKUP(CONCATENATE($AD$10,\"_\",AC31),選手名簿!$A:$E,5,FALSE))","v":""}]
[]
[]
[]
[]
[]
[]
[]
["MC","佐々木　秀樹",null,null,{"$f":"予選リーグ!B23","v":"11:40:00"},{"$f":"F6","v":"スマイス　セレソン　スポーツクラブ"},{"$f":"SUM(I39:I40)","v":2},"（",0,"前半",0,"）",{"$f":"SUM(K39:K40)","v":0},{"$f":"F7","v":"弥生少年サッカークラブ"},null,null,"MC","佐々木　秀樹",null,null,{"$f":"予選リーグ!B27","v":"13:20:00"},{"$f":"V6","v":"宗方サッカークラブ"},{"$f":"SUM(Y39:Y40)","v":0},"（",0,"前半",1,"）",{"$f":"SUM(AA39:AA40)","v":2},{"$f":"V7","v":"太陽スポーツクラブ大分西"}]
["Welfare\nOfficer",null,null,null,null,null,null,null,2,"後半",0,null,null,null,null,null,"Welfare\nOfficer",null,null,null,null,null,null,null,0,"後半",1]
["記録","羽田野　亘",null,null,null,null,null,null,null,"PK",null,null,null,null,null,null,"記録","羽田野　亘",null,null,null,null,null,null,null,"PK"]
["＜Referee＞",null,null,null,"警告/退場\n選択肢より","氏名","番号","分","内容\n選択肢より",null,"内容\n選択肢より","分","番号","氏名","警告/退場\n選択肢より",null,"＜Referee＞",null,null,null,"警告/退場\n選択肢より","氏名","番号","分","内容\n選択肢より",null,"内容\n選択肢より","分","番号","氏名","警告/退場\n選択肢より"]
[null,null,null,null,"得点者",{"$f":"IF(ISERROR(VLOOKUP(CONCATENATE($F$39,\"_\",G43),選手名簿!$A:$E,5,FALSE))=TRUE,\"\",VLOOKUP(CONCATENATE($F$39,\"_\",G43),選手名簿!$A:$E,5,FALSE))","v":""},null,null,null,null,null,null,null,{"$f":"IF(ISERROR(VLOOKUP(CONCATENATE($N$39,\"_\",M43),選手名簿!$A:$E,5,FALSE))=TRUE,\"\",VLOOKUP(CONCATENATE($N$39,\"_\",M43),選手名簿!$A:$E,5,FALSE))","v":""},null,null,null,null,null,null,"得点者",{"$f":"IF(ISERROR(VLOOKUP(CONCATENATE($V$39,\"_\",W43),選手名簿!$A:$E,5,FALSE))=TRUE,\"\",VLOOKUP(CONCATENATE($V$39,\"_\",W43),選手名簿!$A:$E,5,FALSE))","v":""},null,null,null,null,null,null,null,{"$f":"IF(ISERROR(VLOOKUP(CONCATENATE($AD$39,\"_\",AC43),選手名簿!$A:$E,5,FALSE))=TRUE,\"\",VLOOKUP(CONCATENATE($AD$39,\"_\",AC43),選手名簿!$A:$E,5,FALSE))","v":""}]
[null,null,null,null,"得点者",{"$f":"IF(ISERROR(VLOOKUP(CONCATENATE($F$39,\"_\",G44),選手名簿!$A:$E,5,FALSE))=TRUE,\"\",VLOOKUP(CONCATENATE($F$39,\"_\",G44),選手名簿!$A:$E,5,FALSE))","v":""},null,null,null,null,null,null,null,{"$f":"IF(ISERROR(VLOOKUP(CONCATENATE($N$39,\"_\",M44),選手名簿!$A:$E,5,FALSE))=TRUE,\"\",VLOOKUP(CONCATENATE($N$39,\"_\",M44),選手名簿!$A:$E,5,FALSE))","v":""},null,null,null,null,null,null,"得点者",{"$f":"IF(ISERROR(VLOOKUP(CONCATENATE($V$39,\"_\",W44),選手名簿!$A:$E,5,FALSE))=TRUE,\"\",VLOOKUP(CONCATENATE($V$39,\"_\",W44),選手名簿!$A:$E,5,FALSE))","v":""},null,null,null,null,null,null,null,{"$f":"IF(ISERROR(VLOOKUP(CONCATENATE($AD$39,\"_\",AC44),選手名簿!$A:$E,5,FALSE))=TRUE,\"\",VLOOKUP(CONCATENATE($AD$39,\"_\",AC44),選手名簿!$A:$E,5,FALSE))","v":""}]
[null,null,null,null,"得点者",{"$f":"IF(ISERROR(VLOOKUP(CONCATENATE($F$39,\"_\",G45),選手名簿!$A:$E,5,FALSE))=TRUE,\"\",VLOOKUP(CONCATENATE($F$39,\"_\",G45),選手名簿!$A:$E,5,FALSE))","v":""},null,null,null,null,null,null,null,{"$f":"IF(ISERROR(VLOOKUP(CONCATENATE($N$39,\"_\",M45),選手名簿!$A:$E,5,FALSE))=TRUE,\"\",VLOOKUP(CONCATENATE($N$39,\"_\",M45),選手名簿!$A:$E,5,FALSE))","v":""},null,null,null,null,null,null,"得点者",{"$f":"IF(ISERROR(VLOOKUP(CONCATENATE($V$39,\"_\",W45),選手名簿!$A:$E,5,FALSE))=TRUE,\"\",VLOOKUP(CONCATENATE($V$39,\"_\",W45),選手名簿!$A:$E,5,FALSE))","v":""},null,null,null,null,null,null,null,{"$f":"IF(ISERROR(VLOOKUP(CONCATENATE($AD$39,\"_\",AC45),選手名簿!$A:$E,5,FALSE))=TRUE,\"\",VLOOKUP(CONCATENATE($AD$39,\"_\",AC45),選手名簿!$A:$E,5,FALSE))","v":""}]
[null,null,null,null,"得点者",{"$f":"IF(ISERROR(VLOOKUP(CONCATENATE($F$39,\"_\",G46),選手名簿!$A:$E,5,FALSE))=TRUE,\"\",VLOOKUP(CONCATENATE($F$39,\"_\",G46),選手名簿!$A:$E,5,FALSE))","v":""},null,null,null,null,null,null,null,{"$f":"IF(ISERROR(VLOOKUP(CONCATENATE($N$39,\"_\",M46),選手名簿!$A:$E,5,FALSE))=TRUE,\"\",VLOOKUP(CONCATENATE($N$39,\"_\",M46),選手名簿!$A:$E,5,FALSE))","v":""},null,null,null,null,null,null,"得点者",{"$f":"IF(ISERROR(VLOOKUP(CONCATENATE($V$39,\"_\",W46),選手名簿!$A:$E,5,FALSE))=TRUE,\"\",VLOOKUP(CONCATENATE($V$39,\"_\",W46),選手名簿!$A:$E,5,FALSE))","v":""},null,null,null,null,null,null,null,{"$f":"IF(ISERROR(VLOOKUP(CONCATENATE($AD$39,\"_\",AC46),選手名簿!$A:$E,5,FALSE))=TRUE,\"\",VLOOKUP(CONCATENATE($AD$39,\"_\",AC46),選手名簿!$A:$E,5,FALSE))","v":""}]
[null,null,null,null,"得点者",{"$f":"IF(ISERROR(VLOOKUP(CONCATENATE($F$39,\"_\",G47),選手名簿!$A:$E,5,FALSE))=TRUE,\"\",VLOOKUP(CONCATENATE($F$39,\"_\",G47),選手名簿!$A:$E,5,FALSE))","v":""},null,null,null,null,null,null,null,{"$f":"IF(ISERROR(VLOOKUP(CONCATENATE($N$39,\"_\",M47),選手名簿!$A:$E,5,FALSE))=TRUE,\"\",VLOOKUP(CONCATENATE($N$39,\"_\",M47),選手名簿!$A:$E,5,FALSE))","v":""},null,null,null,null,null,null,"得点者",{"$f":"IF(ISERROR(VLOOKUP(CONCATENATE($V$39,\"_\",W47),選手名簿!$A:$E,5,FALSE))=TRUE,\"\",VLOOKUP(CONCATENATE($V$39,\"_\",W47),選手名簿!$A:$E,5,FALSE))","v":""},null,null,null,null,null,null,null,{"$f":"IF(ISERROR(VLOOKUP(CONCATENATE($AD$39,\"_\",AC47),選手名簿!$A:$E,5,FALSE))=TRUE,\"\",VLOOKUP(CONCATENATE($AD$39,\"_\",AC47),選手名簿!$A:$E,5,FALSE))","v":""}]
[null,null,null,null,"得点者",{"$f":"IF(ISERROR(VLOOKUP(CONCATENATE($F$39,\"_\",G48),選手名簿!$A:$E,5,FALSE))=TRUE,\"\",VLOOKUP(CONCATENATE($F$39,\"_\",G48),選手名簿!$A:$E,5,FALSE))","v":""},null,null,null,null,null,null,null,{"$f":"IF(ISERROR(VLOOKUP(CONCATENATE($N$39,\"_\",M48),選手名簿!$A:$E,5,FALSE))=TRUE,\"\",VLOOKUP(CONCATENATE($N$39,\"_\",M48),選手名簿!$A:$E,5,FALSE))","v":""},null,null,null,null,null,null,"得点者",{"$f":"IF(ISERROR(VLOOKUP(CONCATENATE($V$39,\"_\",W48),選手名簿!$A:$E,5,FALSE))=TRUE,\"\",VLOOKUP(CONCATENATE($V$39,\"_\",W48),選手名簿!$A:$E,5,FALSE))","v":""},null,null,null,null,null,null,null,{"$f":"IF(ISERROR(VLOOKUP(CONCATENATE($AD$39,\"_\",AC48),選手名簿!$A:$E,5,FALSE))=TRUE,\"\",VLOOKUP(CONCATENATE($AD$39,\"_\",AC48),選手名簿!$A:$E,5,FALSE))","v":""}]
[null,null,null,null,"得点者",{"$f":"IF(ISERROR(VLOOKUP(CONCATENATE($F$39,\"_\",G49),選手名簿!$A:$E,5,FALSE))=TRUE,\"\",VLOOKUP(CONCATENATE($F$39,\"_\",G49),選手名簿!$A:$E,5,FALSE))","v":""},null,null,null,null,null,null,null,{"$f":"IF(ISERROR(VLOOKUP(CONCATENATE($N$39,\"_\",M49),選手名簿!$A:$E,5,FALSE))=TRUE,\"\",VLOOKUP(CONCATENATE($N$39,\"_\",M49),選手名簿!$A:$E,5,FALSE))","v":""},null,null,null,null,null,null,"得点者",{"$f":"IF(ISERROR(VLOOKUP(CONCATENATE($V$39,\"_\",W49),選手名簿!$A:$E,5,FALSE))=TRUE,\"\",VLOOKUP(CONCATENATE($V$39,\"_\",W49),選手名簿!$A:$E,5,FALSE))","v":""},null,null,null,null,null,null,null,{"$f":"IF(ISERROR(VLOOKUP(CONCATENATE($AD$39,\"_\",AC49),選手名簿!$A:$E,5,FALSE))=TRUE,\"\",VLOOKUP(CONCATENATE($AD$39,\"_\",AC49),選手名簿!$A:$E,5,FALSE))","v":""}]
[null,null,null,null,"得点者",{"$f":"IF(ISERROR(VLOOKUP(CONCATENATE($F$39,\"_\",G50),選手名簿!$A:$E,5,FALSE))=TRUE,\"\",VLOOKUP(CONCATENATE($F$39,\"_\",G50),選手名簿!$A:$E,5,FALSE))","v":""},null,null,null,null,null,null,null,{"$f":"IF(ISERROR(VLOOKUP(CONCATENATE($N$39,\"_\",M50),選手名簿!$A:$E,5,FALSE))=TRUE,\"\",VLOOKUP(CONCATENATE($N$39,\"_\",M50),選手名簿!$A:$E,5,FALSE))","v":""},null,null,null,null,null,null,"得点者",{"$f":"IF(ISERROR(VLOOKUP(CONCATENATE($V$39,\"_\",W50),選手名簿!$A:$E,5,FALSE))=TRUE,\"\",VLOOKUP(CONCATENATE($V$39,\"_\",W50),選手名簿!$A:$E,5,FALSE))","v":""},null,null,null,null,null,null,null,{"$f":"IF(ISERROR(VLOOKUP(CONCATENATE($AD$39,\"_\",AC50),選手名簿!$A:$E,5,FALSE))=TRUE,\"\",VLOOKUP(CONCATENATE($AD$39,\"_\",AC50),選手名簿!$A:$E,5,FALSE))","v":""}]
[null,null,null,null,"得点者",{"$f":"IF(ISERROR(VLOOKUP(CONCATENATE($F$39,\"_\",G51),選手名簿!$A:$E,5,FALSE))=TRUE,\"\",VLOOKUP(CONCATENATE($F$39,\"_\",G51),選手名簿!$A:$E,5,FALSE))","v":""},null,null,null,null,null,null,null,{"$f":"IF(ISERROR(VLOOKUP(CONCATENATE($N$39,\"_\",M51),選手名簿!$A:$E,5,FALSE))=TRUE,\"\",VLOOKUP(CONCATENATE($N$39,\"_\",M51),選手名簿!$A:$E,5,FALSE))","v":""},null,null,null,null,null,null,"得点者",{"$f":"IF(ISERROR(VLOOKUP(CONCATENATE($V$39,\"_\",W51),選手名簿!$A:$E,5,FALSE))=TRUE,\"\",VLOOKUP(CONCATENATE($V$39,\"_\",W51),選手名簿!$A:$E,5,FALSE))","v":""},null,null,null,null,null,null,null,{"$f":"IF(ISERROR(VLOOKUP(CONCATENATE($AD$39,\"_\",AC51),選手名簿!$A:$E,5,FALSE))=TRUE,\"\",VLOOKUP(CONCATENATE($AD$39,\"_\",AC51),選手名簿!$A:$E,5,FALSE))","v":""}]
[null,null,null,null,"得点者",{"$f":"IF(ISERROR(VLOOKUP(CONCATENATE($F$39,\"_\",G52),選手名簿!$A:$E,5,FALSE))=TRUE,\"\",VLOOKUP(CONCATENATE($F$39,\"_\",G52),選手名簿!$A:$E,5,FALSE))","v":""},null,null,null,null,null,null,null,{"$f":"IF(ISERROR(VLOOKUP(CONCATENATE($N$39,\"_\",M52),選手名簿!$A:$E,5,FALSE))=TRUE,\"\",VLOOKUP(CONCATENATE($N$39,\"_\",M52),選手名簿!$A:$E,5,FALSE))","v":""},null,null,null,null,null,null,"得点者",{"$f":"IF(ISERROR(VLOOKUP(CONCATENATE($V$39,\"_\",W52),選手名簿!$A:$E,5,FALSE))=TRUE,\"\",VLOOKUP(CONCATENATE($V$39,\"_\",W52),選手名簿!$A:$E,5,FALSE))","v":""},null,null,null,null,null,null,null,{"$f":"IF(ISERROR(VLOOKUP(CONCATENATE($AD$39,\"_\",AC52),選手名簿!$A:$E,5,FALSE))=TRUE,\"\",VLOOKUP(CONCATENATE($AD$39,\"_\",AC52),選手名簿!$A:$E,5,FALSE))","v":""}]
["番号","R001261398",null,null,null,{"$f":"IF(ISERROR(VLOOKUP(CONCATENATE($F$39,\"_\",G53),選手名簿!$A:$E,5,FALSE))=TRUE,\"\",VLOOKUP(CONCATENATE($F$39,\"_\",G53),選手名簿!$A:$E,5,FALSE))","v":""},null,null,null,null,null,null,null,{"$f":"IF(ISERROR(VLOOKUP(CONCATENATE($N$39,\"_\",M53),選手名簿!$A:$E,5,FALSE))=TRUE,\"\",VLOOKUP(CONCATENATE($N$39,\"_\",M53),選手名簿!$A:$E,5,FALSE))","v":""},null,null,"番号","R001262023",null,null,null,{"$f":"IF(ISERROR(VLOOKUP(CONCATENATE($V$39,\"_\",W53),選手名簿!$A:$E,5,FALSE))=TRUE,\"\",VLOOKUP(CONCATENATE($V$39,\"_\",W53),選手名簿!$A:$E,5,FALSE))","v":""},null,null,null,null,null,null,null,{"$f":"IF(ISERROR(VLOOKUP(CONCATENATE($AD$39,\"_\",AC53),選手名簿!$A:$E,5,FALSE))=TRUE,\"\",VLOOKUP(CONCATENATE($AD$39,\"_\",AC53),選手名簿!$A:$E,5,FALSE))","v":""}]
["R",{"$f":"IF(ISERROR(VLOOKUP(B53,審判員!$A:$C,2,FALSE))=TRUE,\"\",VLOOKUP(B53,審判員!$A:$C,2,FALSE))","v":"森山　信浩"},null,{"$f":"IF(ISERROR(VLOOKUP(B53,審判員!$A:$C,3,FALSE))=TRUE,\"\",VLOOKUP(B53,審判員!$A:$C,3,FALSE))","v":"３級"},null,{"$f":"IF(ISERROR(VLOOKUP(CONCATENATE($F$39,\"_\",G54),選手名簿!$A:$E,5,FALSE))=TRUE,\"\",VLOOKUP(CONCATENATE($F$39,\"_\",G54),選手名簿!$A:$E,5,FALSE))","v":""},null,null,null,null,null,null,null,{"$f":"IF(ISERROR(VLOOKUP(CONCATENATE($N$39,\"_\",M54),選手名簿!$A:$E,5,FALSE))=TRUE,\"\",VLOOKUP(CONCATENATE($N$39,\"_\",M54),選手名簿!$A:$E,5,FALSE))","v":""},null,null,"R",{"$f":"IF(ISERROR(VLOOKUP(R53,審判員!$A:$C,2,FALSE))=TRUE,\"\",VLOOKUP(R53,審判員!$A:$C,2,FALSE))","v":"和田　敬生"},null,{"$f":"IF(ISERROR(VLOOKUP(R53,審判員!$A:$C,3,FALSE))=TRUE,\"\",VLOOKUP(R53,審判員!$A:$C,3,FALSE))","v":"２級"},null,{"$f":"IF(ISERROR(VLOOKUP(CONCATENATE($V$39,\"_\",W54),選手名簿!$A:$E,5,FALSE))=TRUE,\"\",VLOOKUP(CONCATENATE($V$39,\"_\",W54),選手名簿!$A:$E,5,FALSE))","v":""},null,null,null,null,null,null,null,{"$f":"IF(ISERROR(VLOOKUP(CONCATENATE($AD$39,\"_\",AC54),選手名簿!$A:$E,5,FALSE))=TRUE,\"\",VLOOKUP(CONCATENATE($AD$39,\"_\",AC54),選手名簿!$A:$E,5,FALSE))","v":""}]
["番号","R008515571",null,null,null,{"$f":"IF(ISERROR(VLOOKUP(CONCATENATE($F$39,\"_\",G55),選手名簿!$A:$E,5,FALSE))=TRUE,\"\",VLOOKUP(CONCATENATE($F$39,\"_\",G55),選手名簿!$A:$E,5,FALSE))","v":""},null,null,null,null,null,null,null,{"$f":"IF(ISERROR(VLOOKUP(CONCATENATE($N$39,\"_\",M55),選手名簿!$A:$E,5,FALSE))=TRUE,\"\",VLOOKUP(CONCATENATE($N$39,\"_\",M55),選手名簿!$A:$E,5,FALSE))","v":""},null,null,"番号","R010542204",null,null,null,{"$f":"IF(ISERROR(VLOOKUP(CONCATENATE($V$39,\"_\",W55),選手名簿!$A:$E,5,FALSE))=TRUE,\"\",VLOOKUP(CONCATENATE($V$39,\"_\",W55),選手名簿!$A:$E,5,FALSE))","v":""},null,null,null,null,null,null,null,{"$f":"IF(ISERROR(VLOOKUP(CONCATENATE($AD$39,\"_\",AC55),選手名簿!$A:$E,5,FALSE))=TRUE,\"\",VLOOKUP(CONCATENATE($AD$39,\"_\",AC55),選手名簿!$A:$E,5,FALSE))","v":""}]
["AR1:",{"$f":"IF(ISERROR(VLOOKUP(B55,審判員!$A:$C,2,FALSE))=TRUE,\"\",VLOOKUP(B55,審判員!$A:$C,2,FALSE))","v":"菅川　智"},null,{"$f":"IF(ISERROR(VLOOKUP(B55,審判員!$A:$C,3,FALSE))=TRUE,\"\",VLOOKUP(B55,審判員!$A:$C,3,FALSE))","v":"３級"},null,{"$f":"IF(ISERROR(VLOOKUP(CONCATENATE($F$39,\"_\",G56),選手名簿!$A:$E,5,FALSE))=TRUE,\"\",VLOOKUP(CONCATENATE($F$39,\"_\",G56),選手名簿!$A:$E,5,FALSE))","v":""},null,null,null,null,null,null,null,{"$f":"IF(ISERROR(VLOOKUP(CONCATENATE($N$39,\"_\",M56),選手名簿!$A:$E,5,FALSE))=TRUE,\"\",VLOOKUP(CONCATENATE($N$39,\"_\",M56),選手名簿!$A:$E,5,FALSE))","v":""},null,null,"AR1:",{"$f":"IF(ISERROR(VLOOKUP(R55,審判員!$A:$C,2,FALSE))=TRUE,\"\",VLOOKUP(R55,審判員!$A:$C,2,FALSE))","v":"生野　憲太朗"},null,{"$f":"IF(ISERROR(VLOOKUP(R55,審判員!$A:$C,3,FALSE))=TRUE,\"\",VLOOKUP(R55,審判員!$A:$C,3,FALSE))","v":"３級"},null,{"$f":"IF(ISERROR(VLOOKUP(CONCATENATE($V$39,\"_\",W56),選手名簿!$A:$E,5,FALSE))=TRUE,\"\",VLOOKUP(CONCATENATE($V$39,\"_\",W56),選手名簿!$A:$E,5,FALSE))","v":""},null,null,null,null,null,null,null,{"$f":"IF(ISERROR(VLOOKUP(CONCATENATE($AD$39,\"_\",AC56),選手名簿!$A:$E,5,FALSE))=TRUE,\"\",VLOOKUP(CONCATENATE($AD$39,\"_\",AC56),選手名簿!$A:$E,5,FALSE))","v":""}]
["番号","R003350854",null,null,null,{"$f":"IF(ISERROR(VLOOKUP(CONCATENATE($F$39,\"_\",G57),選手名簿!$A:$E,5,FALSE))=TRUE,\"\",VLOOKUP(CONCATENATE($F$39,\"_\",G57),選手名簿!$A:$E,5,FALSE))","v":""},null,null,null,null,null,null,null,{"$f":"IF(ISERROR(VLOOKUP(CONCATENATE($N$39,\"_\",M57),選手名簿!$A:$E,5,FALSE))=TRUE,\"\",VLOOKUP(CONCATENATE($N$39,\"_\",M57),選手名簿!$A:$E,5,FALSE))","v":""},null,null,"番号","R006093738",null,null,null,{"$f":"IF(ISERROR(VLOOKUP(CONCATENATE($V$39,\"_\",W57),選手名簿!$A:$E,5,FALSE))=TRUE,\"\",VLOOKUP(CONCATENATE($V$39,\"_\",W57),選手名簿!$A:$E,5,FALSE))","v":""},null,null,null,null,null,null,null,{"$f":"IF(ISERROR(VLOOKUP(CONCATENATE($AD$39,\"_\",AC57),選手名簿!$A:$E,5,FALSE))=TRUE,\"\",VLOOKUP(CONCATENATE($AD$39,\"_\",AC57),選手名簿!$A:$E,5,FALSE))","v":""}]
["AR2:",{"$f":"IF(ISERROR(VLOOKUP(B57,審判員!$A:$C,2,FALSE))=TRUE,\"\",VLOOKUP(B57,審判員!$A:$C,2,FALSE))","v":"毛藤　勇三"},null,{"$f":"IF(ISERROR(VLOOKUP(B57,審判員!$A:$C,3,FALSE))=TRUE,\"\",VLOOKUP(B57,審判員!$A:$C,3,FALSE))","v":"３級"},null,{"$f":"IF(ISERROR(VLOOKUP(CONCATENATE($F$39,\"_\",G58),選手名簿!$A:$E,5,FALSE))=TRUE,\"\",VLOOKUP(CONCATENATE($F$39,\"_\",G58),選手名簿!$A:$E,5,FALSE))","v":""},null,null,null,null,null,null,null,{"$f":"IF(ISERROR(VLOOKUP(CONCATENATE($N$39,\"_\",M58),選手名簿!$A:$E,5,FALSE))=TRUE,\"\",VLOOKUP(CONCATENATE($N$39,\"_\",M58),選手名簿!$A:$E,5,FALSE))","v":""},null,null,"AR2:",{"$f":"IF(ISERROR(VLOOKUP(R57,審判員!$A:$C,2,FALSE))=TRUE,\"\",VLOOKUP(R57,審判員!$A:$C,2,FALSE))","v":"大谷　伸二"},null,{"$f":"IF(ISERROR(VLOOKUP(R57,審判員!$A:$C,3,FALSE))=TRUE,\"\",VLOOKUP(R57,審判員!$A:$C,3,FALSE))","v":"３級"},null,{"$f":"IF(ISERROR(VLOOKUP(CONCATENATE($V$39,\"_\",W58),選手名簿!$A:$E,5,FALSE))=TRUE,\"\",VLOOKUP(CONCATENATE($V$39,\"_\",W58),選手名簿!$A:$E,5,FALSE))","v":""},null,null,null,null,null,null,null,{"$f":"IF(ISERROR(VLOOKUP(CONCATENATE($AD$39,\"_\",AC58),選手名簿!$A:$E,5,FALSE))=TRUE,\"\",VLOOKUP(CONCATENATE($AD$39,\"_\",AC58),選手名簿!$A:$E,5,FALSE))","v":""}]
["番号","R001262023",null,null,null,{"$f":"IF(ISERROR(VLOOKUP(CONCATENATE($F$39,\"_\",G59),選手名簿!$A:$E,5,FALSE))=TRUE,\"\",VLOOKUP(CONCATENATE($F$39,\"_\",G59),選手名簿!$A:$E,5,FALSE))","v":""},null,null,null,null,null,null,null,{"$f":"IF(ISERROR(VLOOKUP(CONCATENATE($N$39,\"_\",M59),選手名簿!$A:$E,5,FALSE))=TRUE,\"\",VLOOKUP(CONCATENATE($N$39,\"_\",M59),選手名簿!$A:$E,5,FALSE))","v":""},null,null,"番号","R009460551",null,null,null,{"$f":"IF(ISERROR(VLOOKUP(CONCATENATE($V$39,\"_\",W59),選手名簿!$A:$E,5,FALSE))=TRUE,\"\",VLOOKUP(CONCATENATE($V$39,\"_\",W59),選手名簿!$A:$E,5,FALSE))","v":""},null,null,null,null,null,null,null,{"$f":"IF(ISERROR(VLOOKUP(CONCATENATE($AD$39,\"_\",AC59),選手名簿!$A:$E,5,FALSE))=TRUE,\"\",VLOOKUP(CONCATENATE($AD$39,\"_\",AC59),選手名簿!$A:$E,5,FALSE))","v":""}]
["4th:",{"$f":"IF(ISERROR(VLOOKUP(B59,審判員!$A:$C,2,FALSE))=TRUE,\"\",VLOOKUP(B59,審判員!$A:$C,2,FALSE))","v":"和田　敬生"},null,{"$f":"IF(ISERROR(VLOOKUP(B59,審判員!$A:$C,3,FALSE))=TRUE,\"\",VLOOKUP(B59,審判員!$A:$C,3,FALSE))","v":"２級"},null,{"$f":"IF(ISERROR(VLOOKUP(CONCATENATE($F$39,\"_\",G60),選手名簿!$A:$E,5,FALSE))=TRUE,\"\",VLOOKUP(CONCATENATE($F$39,\"_\",G60),選手名簿!$A:$E,5,FALSE))","v":""},null,null,null,null,null,null,null,{"$f":"IF(ISERROR(VLOOKUP(CONCATENATE($N$39,\"_\",M60),選手名簿!$A:$E,5,FALSE))=TRUE,\"\",VLOOKUP(CONCATENATE($N$39,\"_\",M60),選手名簿!$A:$E,5,FALSE))","v":""},null,null,"4th:",{"$f":"IF(ISERROR(VLOOKUP(R59,審判員!$A:$C,2,FALSE))=TRUE,\"\",VLOOKUP(R59,審判員!$A:$C,2,FALSE))","v":"佐藤　慎二"},null,{"$f":"IF(ISERROR(VLOOKUP(R59,審判員!$A:$C,3,FALSE))=TRUE,\"\",VLOOKUP(R59,審判員!$A:$C,3,FALSE))","v":"３級"},null,{"$f":"IF(ISERROR(VLOOKUP(CONCATENATE($V$39,\"_\",W60),選手名簿!$A:$E,5,FALSE))=TRUE,\"\",VLOOKUP(CONCATENATE($V$39,\"_\",W60),選手名簿!$A:$E,5,FALSE))","v":""},null,null,null,null,null,null,null,{"$f":"IF(ISERROR(VLOOKUP(CONCATENATE($AD$39,\"_\",AC60),選手名簿!$A:$E,5,FALSE))=TRUE,\"\",VLOOKUP(CONCATENATE($AD$39,\"_\",AC60),選手名簿!$A:$E,5,FALSE))","v":""}]
[]
[]
[]
[]
[]
[]
[]
["MC","佐々木　秀樹",null,null,{"$f":"予選リーグ!B29","v":"14:10:00"},{"$f":"F7","v":"弥生少年サッカークラブ"},{"$f":"SUM(I68:I69)","v":2},"（",2,"前半",0,"）",{"$f":"SUM(K68:K69)","v":1},{"$f":"F5","v":"ＦＣ大野"},null,null,"MC","羽田野　亘",null,null,{"$f":"予選リーグ!B31","v":"15:00:00"},{"$f":"V7","v":"太陽スポーツクラブ大分西"},{"$f":"SUM(Y68:Y69)","v":1},"（",1,"前半",0,"）",{"$f":"SUM(AA68:AA69)","v":0},{"$f":"V5","v":"下毛ＦＣ"}]
["Welfare\nOfficer",null,null,null,null,null,null,null,0,"後半",1,null,null,null,null,null,"Welfare\nOfficer",null,null,null,null,null,null,null,0,"後半",0]
["記録","平尾　彰敏",null,null,null,null,null,null,null,"PK",null,null,null,null,null,null,"記録","平尾　彰敏",null,null,null,null,null,null,null,"PK"]
["＜Referee＞",null,null,null,"警告/退場\n選択肢より","氏名","番号","分","内容\n選択肢より",null,"内容\n選択肢より","分","番号","氏名","警告/退場\n選択肢より",null,"＜Referee＞",null,null,null,"警告/退場\n選択肢より","氏名","番号","分","内容\n選択肢より",null,"内容\n選択肢より","分","番号","氏名","警告/退場\n選択肢より"]
[null,null,null,null,"得点者",{"$f":"IF(ISERROR(VLOOKUP(CONCATENATE($F$68,\"_\",G72),選手名簿!$A:$E,5,FALSE))=TRUE,\"\",VLOOKUP(CONCATENATE($F$68,\"_\",G72),選手名簿!$A:$E,5,FALSE))","v":""},null,null,null,null,null,null,null,{"$f":"IF(ISERROR(VLOOKUP(CONCATENATE($N$68,\"_\",M72),選手名簿!$A:$E,5,FALSE))=TRUE,\"\",VLOOKUP(CONCATENATE($N$68,\"_\",M72),選手名簿!$A:$E,5,FALSE))","v":""},null,null,null,null,null,null,"得点者",{"$f":"IF(ISERROR(VLOOKUP(CONCATENATE($V$68,\"_\",W72),選手名簿!$A:$E,5,FALSE))=TRUE,\"\",VLOOKUP(CONCATENATE($V$68,\"_\",W72),選手名簿!$A:$E,5,FALSE))","v":""},null,null,null,null,null,null,null,{"$f":"IF(ISERROR(VLOOKUP(CONCATENATE($AD$68,\"_\",AC72),選手名簿!$A:$E,5,FALSE))=TRUE,\"\",VLOOKUP(CONCATENATE($AD$68,\"_\",AC72),選手名簿!$A:$E,5,FALSE))","v":""}]
[null,null,null,null,"得点者",{"$f":"IF(ISERROR(VLOOKUP(CONCATENATE($F$68,\"_\",G73),選手名簿!$A:$E,5,FALSE))=TRUE,\"\",VLOOKUP(CONCATENATE($F$68,\"_\",G73),選手名簿!$A:$E,5,FALSE))","v":""},null,null,null,null,null,null,null,{"$f":"IF(ISERROR(VLOOKUP(CONCATENATE($N$68,\"_\",M73),選手名簿!$A:$E,5,FALSE))=TRUE,\"\",VLOOKUP(CONCATENATE($N$68,\"_\",M73),選手名簿!$A:$E,5,FALSE))","v":""},null,null,null,null,null,null,"得点者",{"$f":"IF(ISERROR(VLOOKUP(CONCATENATE($V$68,\"_\",W73),選手名簿!$A:$E,5,FALSE))=TRUE,\"\",VLOOKUP(CONCATENATE($V$68,\"_\",W73),選手名簿!$A:$E,5,FALSE))","v":""},null,null,null,null,null,null,null,{"$f":"IF(ISERROR(VLOOKUP(CONCATENATE($AD$68,\"_\",AC73),選手名簿!$A:$E,5,FALSE))=TRUE,\"\",VLOOKUP(CONCATENATE($AD$68,\"_\",AC73),選手名簿!$A:$E,5,FALSE))","v":""}]
[null,null,null,null,"得点者",{"$f":"IF(ISERROR(VLOOKUP(CONCATENATE($F$68,\"_\",G74),選手名簿!$A:$E,5,FALSE))=TRUE,\"\",VLOOKUP(CONCATENATE($F$68,\"_\",G74),選手名簿!$A:$E,5,FALSE))","v":""},null,null,null,null,null,null,null,{"$f":"IF(ISERROR(VLOOKUP(CONCATENATE($N$68,\"_\",M74),選手名簿!$A:$E,5,FALSE))=TRUE,\"\",VLOOKUP(CONCATENATE($N$68,\"_\",M74),選手名簿!$A:$E,5,FALSE))","v":""},null,null,null,null,null,null,"得点者",{"$f":"IF(ISERROR(VLOOKUP(CONCATENATE($V$68,\"_\",W74),選手名簿!$A:$E,5,FALSE))=TRUE,\"\",VLOOKUP(CONCATENATE($V$68,\"_\",W74),選手名簿!$A:$E,5,FALSE))","v":""},null,null,null,null,null,null,null,{"$f":"IF(ISERROR(VLOOKUP(CONCATENATE($AD$68,\"_\",AC74),選手名簿!$A:$E,5,FALSE))=TRUE,\"\",VLOOKUP(CONCATENATE($AD$68,\"_\",AC74),選手名簿!$A:$E,5,FALSE))","v":""}]
[null,null,null,null,"得点者",{"$f":"IF(ISERROR(VLOOKUP(CONCATENATE($F$68,\"_\",G75),選手名簿!$A:$E,5,FALSE))=TRUE,\"\",VLOOKUP(CONCATENATE($F$68,\"_\",G75),選手名簿!$A:$E,5,FALSE))","v":""},null,null,null,null,null,null,null,{"$f":"IF(ISERROR(VLOOKUP(CONCATENATE($N$68,\"_\",M75),選手名簿!$A:$E,5,FALSE))=TRUE,\"\",VLOOKUP(CONCATENATE($N$68,\"_\",M75),選手名簿!$A:$E,5,FALSE))","v":""},null,null,null,null,null,null,"得点者",{"$f":"IF(ISERROR(VLOOKUP(CONCATENATE($V$68,\"_\",W75),選手名簿!$A:$E,5,FALSE))=TRUE,\"\",VLOOKUP(CONCATENATE($V$68,\"_\",W75),選手名簿!$A:$E,5,FALSE))","v":""},null,null,null,null,null,null,null,{"$f":"IF(ISERROR(VLOOKUP(CONCATENATE($AD$68,\"_\",AC75),選手名簿!$A:$E,5,FALSE))=TRUE,\"\",VLOOKUP(CONCATENATE($AD$68,\"_\",AC75),選手名簿!$A:$E,5,FALSE))","v":""}]
[null,null,null,null,"得点者",{"$f":"IF(ISERROR(VLOOKUP(CONCATENATE($F$68,\"_\",G76),選手名簿!$A:$E,5,FALSE))=TRUE,\"\",VLOOKUP(CONCATENATE($F$68,\"_\",G76),選手名簿!$A:$E,5,FALSE))","v":""},null,null,null,null,null,null,null,{"$f":"IF(ISERROR(VLOOKUP(CONCATENATE($N$68,\"_\",M76),選手名簿!$A:$E,5,FALSE))=TRUE,\"\",VLOOKUP(CONCATENATE($N$68,\"_\",M76),選手名簿!$A:$E,5,FALSE))","v":""},null,null,null,null,null,null,"得点者",{"$f":"IF(ISERROR(VLOOKUP(CONCATENATE($V$68,\"_\",W76),選手名簿!$A:$E,5,FALSE))=TRUE,\"\",VLOOKUP(CONCATENATE($V$68,\"_\",W76),選手名簿!$A:$E,5,FALSE))","v":""},null,null,null,null,null,null,null,{"$f":"IF(ISERROR(VLOOKUP(CONCATENATE($AD$68,\"_\",AC76),選手名簿!$A:$E,5,FALSE))=TRUE,\"\",VLOOKUP(CONCATENATE($AD$68,\"_\",AC76),選手名簿!$A:$E,5,FALSE))","v":""}]
[null,null,null,null,"得点者",{"$f":"IF(ISERROR(VLOOKUP(CONCATENATE($F$68,\"_\",G77),選手名簿!$A:$E,5,FALSE))=TRUE,\"\",VLOOKUP(CONCATENATE($F$68,\"_\",G77),選手名簿!$A:$E,5,FALSE))","v":""},null,null,null,null,null,null,null,{"$f":"IF(ISERROR(VLOOKUP(CONCATENATE($N$68,\"_\",M77),選手名簿!$A:$E,5,FALSE))=TRUE,\"\",VLOOKUP(CONCATENATE($N$68,\"_\",M77),選手名簿!$A:$E,5,FALSE))","v":""},null,null,null,null,null,null,"得点者",{"$f":"IF(ISERROR(VLOOKUP(CONCATENATE($V$68,\"_\",W77),選手名簿!$A:$E,5,FALSE))=TRUE,\"\",VLOOKUP(CONCATENATE($V$68,\"_\",W77),選手名簿!$A:$E,5,FALSE))","v":""},null,null,null,null,null,null,null,{"$f":"IF(ISERROR(VLOOKUP(CONCATENATE($AD$68,\"_\",AC77),選手名簿!$A:$E,5,FALSE))=TRUE,\"\",VLOOKUP(CONCATENATE($AD$68,\"_\",AC77),選手名簿!$A:$E,5,FALSE))","v":""}]
[null,null,null,null,"得点者",{"$f":"IF(ISERROR(VLOOKUP(CONCATENATE($F$68,\"_\",G78),選手名簿!$A:$E,5,FALSE))=TRUE,\"\",VLOOKUP(CONCATENATE($F$68,\"_\",G78),選手名簿!$A:$E,5,FALSE))","v":""},null,null,null,null,null,null,null,{"$f":"IF(ISERROR(VLOOKUP(CONCATENATE($N$68,\"_\",M78),選手名簿!$A:$E,5,FALSE))=TRUE,\"\",VLOOKUP(CONCATENATE($N$68,\"_\",M78),選手名簿!$A:$E,5,FALSE))","v":""},null,null,null,null,null,null,"得点者",{"$f":"IF(ISERROR(VLOOKUP(CONCATENATE($V$68,\"_\",W78),選手名簿!$A:$E,5,FALSE))=TRUE,\"\",VLOOKUP(CONCATENATE($V$68,\"_\",W78),選手名簿!$A:$E,5,FALSE))","v":""},null,null,null,null,null,null,null,{"$f":"IF(ISERROR(VLOOKUP(CONCATENATE($AD$68,\"_\",AC78),選手名簿!$A:$E,5,FALSE))=TRUE,\"\",VLOOKUP(CONCATENATE($AD$68,\"_\",AC78),選手名簿!$A:$E,5,FALSE))","v":""}]
[null,null,null,null,"得点者",{"$f":"IF(ISERROR(VLOOKUP(CONCATENATE($F$68,\"_\",G79),選手名簿!$A:$E,5,FALSE))=TRUE,\"\",VLOOKUP(CONCATENATE($F$68,\"_\",G79),選手名簿!$A:$E,5,FALSE))","v":""},null,null,null,null,null,null,null,{"$f":"IF(ISERROR(VLOOKUP(CONCATENATE($N$68,\"_\",M79),選手名簿!$A:$E,5,FALSE))=TRUE,\"\",VLOOKUP(CONCATENATE($N$68,\"_\",M79),選手名簿!$A:$E,5,FALSE))","v":""},null,null,null,null,null,null,"得点者",{"$f":"IF(ISERROR(VLOOKUP(CONCATENATE($V$68,\"_\",W79),選手名簿!$A:$E,5,FALSE))=TRUE,\"\",VLOOKUP(CONCATENATE($V$68,\"_\",W79),選手名簿!$A:$E,5,FALSE))","v":""},null,null,null,null,null,null,null,{"$f":"IF(ISERROR(VLOOKUP(CONCATENATE($AD$68,\"_\",AC79),選手名簿!$A:$E,5,FALSE))=TRUE,\"\",VLOOKUP(CONCATENATE($AD$68,\"_\",AC79),選手名簿!$A:$E,5,FALSE))","v":""}]
[null,null,null,null,"得点者",{"$f":"IF(ISERROR(VLOOKUP(CONCATENATE($F$68,\"_\",G80),選手名簿!$A:$E,5,FALSE))=TRUE,\"\",VLOOKUP(CONCATENATE($F$68,\"_\",G80),選手名簿!$A:$E,5,FALSE))","v":""},null,null,null,null,null,null,null,{"$f":"IF(ISERROR(VLOOKUP(CONCATENATE($N$68,\"_\",M80),選手名簿!$A:$E,5,FALSE))=TRUE,\"\",VLOOKUP(CONCATENATE($N$68,\"_\",M80),選手名簿!$A:$E,5,FALSE))","v":""},null,null,null,null,null,null,"得点者",{"$f":"IF(ISERROR(VLOOKUP(CONCATENATE($V$68,\"_\",W80),選手名簿!$A:$E,5,FALSE))=TRUE,\"\",VLOOKUP(CONCATENATE($V$68,\"_\",W80),選手名簿!$A:$E,5,FALSE))","v":""},null,null,null,null,null,null,null,{"$f":"IF(ISERROR(VLOOKUP(CONCATENATE($AD$68,\"_\",AC80),選手名簿!$A:$E,5,FALSE))=TRUE,\"\",VLOOKUP(CONCATENATE($AD$68,\"_\",AC80),選手名簿!$A:$E,5,FALSE))","v":""}]
[null,null,null,null,"得点者",{"$f":"IF(ISERROR(VLOOKUP(CONCATENATE($F$68,\"_\",G81),選手名簿!$A:$E,5,FALSE))=TRUE,\"\",VLOOKUP(CONCATENATE($F$68,\"_\",G81),選手名簿!$A:$E,5,FALSE))","v":""},null,null,null,null,null,null,null,{"$f":"IF(ISERROR(VLOOKUP(CONCATENATE($N$68,\"_\",M81),選手名簿!$A:$E,5,FALSE))=TRUE,\"\",VLOOKUP(CONCATENATE($N$68,\"_\",M81),選手名簿!$A:$E,5,FALSE))","v":""},null,null,null,null,null,null,"得点者",{"$f":"IF(ISERROR(VLOOKUP(CONCATENATE($V$68,\"_\",W81),選手名簿!$A:$E,5,FALSE))=TRUE,\"\",VLOOKUP(CONCATENATE($V$68,\"_\",W81),選手名簿!$A:$E,5,FALSE))","v":""},null,null,null,null,null,null,null,{"$f":"IF(ISERROR(VLOOKUP(CONCATENATE($AD$68,\"_\",AC81),選手名簿!$A:$E,5,FALSE))=TRUE,\"\",VLOOKUP(CONCATENATE($AD$68,\"_\",AC81),選手名簿!$A:$E,5,FALSE))","v":""}]
["番号","R009460551",null,null,null,{"$f":"IF(ISERROR(VLOOKUP(CONCATENATE($F$68,\"_\",G82),選手名簿!$A:$E,5,FALSE))=TRUE,\"\",VLOOKUP(CONCATENATE($F$68,\"_\",G82),選手名簿!$A:$E,5,FALSE))","v":""},null,null,null,null,null,null,null,{"$f":"IF(ISERROR(VLOOKUP(CONCATENATE($N$68,\"_\",M82),選手名簿!$A:$E,5,FALSE))=TRUE,\"\",VLOOKUP(CONCATENATE($N$68,\"_\",M82),選手名簿!$A:$E,5,FALSE))","v":""},null,null,"番号","R001261398",null,null,null,{"$f":"IF(ISERROR(VLOOKUP(CONCATENATE($V$68,\"_\",W82),選手名簿!$A:$E,5,FALSE))=TRUE,\"\",VLOOKUP(CONCATENATE($V$68,\"_\",W82),選手名簿!$A:$E,5,FALSE))","v":""},null,null,null,null,null,null,null,{"$f":"IF(ISERROR(VLOOKUP(CONCATENATE($AD$68,\"_\",AC82),選手名簿!$A:$E,5,FALSE))=TRUE,\"\",VLOOKUP(CONCATENATE($AD$68,\"_\",AC82),選手名簿!$A:$E,5,FALSE))","v":""}]
["R",{"$f":"IF(ISERROR(VLOOKUP(B82,審判員!$A:$C,2,FALSE))=TRUE,\"\",VLOOKUP(B82,審判員!$A:$C,2,FALSE))","v":"佐藤　慎二"},null,{"$f":"IF(ISERROR(VLOOKUP(B82,審判員!$A:$C,3,FALSE))=TRUE,\"\",VLOOKUP(B82,審判員!$A:$C,3,FALSE))","v":"３級"},null,{"$f":"IF(ISERROR(VLOOKUP(CONCATENATE($F$68,\"_\",G83),選手名簿!$A:$E,5,FALSE))=TRUE,\"\",VLOOKUP(CONCATENATE($F$68,\"_\",G83),選手名簿!$A:$E,5,FALSE))","v":""},null,null,null,null,null,null,null,{"$f":"IF(ISERROR(VLOOKUP(CONCATENATE($N$68,\"_\",M83),選手名簿!$A:$E,5,FALSE))=TRUE,\"\",VLOOKUP(CONCATENATE($N$68,\"_\",M83),選手名簿!$A:$E,5,FALSE))","v":""},null,null,"R",{"$f":"IF(ISERROR(VLOOKUP(R82,審判員!$A:$C,2,FALSE))=TRUE,\"\",VLOOKUP(R82,審判員!$A:$C,2,FALSE))","v":"森山　信浩"},null,{"$f":"IF(ISERROR(VLOOKUP(R82,審判員!$A:$C,3,FALSE))=TRUE,\"\",VLOOKUP(R82,審判員!$A:$C,3,FALSE))","v":"３級"},null,{"$f":"IF(ISERROR(VLOOKUP(CONCATENATE($V$68,\"_\",W83),選手名簿!$A:$E,5,FALSE))=TRUE,\"\",VLOOKUP(CONCATENATE($V$68,\"_\",W83),選手名簿!$A:$E,5,FALSE))","v":""},null,null,null,null,null,null,null,{"$f":"IF(ISERROR(VLOOKUP(CONCATENATE($AD$68,\"_\",AC83),選手名簿!$A:$E,5,FALSE))=TRUE,\"\",VLOOKUP(CONCATENATE($AD$68,\"_\",AC83),選手名簿!$A:$E,5,FALSE))","v":""}]
["番号","R003350854",null,null,null,{"$f":"IF(ISERROR(VLOOKUP(CONCATENATE($F$68,\"_\",G84),選手名簿!$A:$E,5,FALSE))=TRUE,\"\",VLOOKUP(CONCATENATE($F$68,\"_\",G84),選手名簿!$A:$E,5,FALSE))","v":""},null,null,null,null,null,null,null,{"$f":"IF(ISERROR(VLOOKUP(CONCATENATE($N$68,\"_\",M84),選手名簿!$A:$E,5,FALSE))=TRUE,\"\",VLOOKUP(CONCATENATE($N$68,\"_\",M84),選手名簿!$A:$E,5,FALSE))","v":""},null,null,"番号","R006093738",null,null,null,{"$f":"IF(ISERROR(VLOOKUP(CONCATENATE($V$68,\"_\",W84),選手名簿!$A:$E,5,FALSE))=TRUE,\"\",VLOOKUP(CONCATENATE($V$68,\"_\",W84),選手名簿!$A:$E,5,FALSE))","v":""},null,null,null,null,null,null,null,{"$f":"IF(ISERROR(VLOOKUP(CONCATENATE($AD$68,\"_\",AC84),選手名簿!$A:$E,5,FALSE))=TRUE,\"\",VLOOKUP(CONCATENATE($AD$68,\"_\",AC84),選手名簿!$A:$E,5,FALSE))","v":""}]
["AR1:",{"$f":"IF(ISERROR(VLOOKUP(B84,審判員!$A:$C,2,FALSE))=TRUE,\"\",VLOOKUP(B84,審判員!$A:$C,2,FALSE))","v":"毛藤　勇三"},null,{"$f":"IF(ISERROR(VLOOKUP(B84,審判員!$A:$C,3,FALSE))=TRUE,\"\",VLOOKUP(B84,審判員!$A:$C,3,FALSE))","v":"３級"},null,{"$f":"IF(ISERROR(VLOOKUP(CONCATENATE($F$68,\"_\",G85),選手名簿!$A:$E,5,FALSE))=TRUE,\"\",VLOOKUP(CONCATENATE($F$68,\"_\",G85),選手名簿!$A:$E,5,FALSE))","v":""},null,null,null,null,null,null,null,{"$f":"IF(ISERROR(VLOOKUP(CONCATENATE($N$68,\"_\",M85),選手名簿!$A:$E,5,FALSE))=TRUE,\"\",VLOOKUP(CONCATENATE($N$68,\"_\",M85),選手名簿!$A:$E,5,FALSE))","v":""},null,null,"AR1:",{"$f":"IF(ISERROR(VLOOKUP(R84,審判員!$A:$C,2,FALSE))=TRUE,\"\",VLOOKUP(R84,審判員!$A:$C,2,FALSE))","v":"大谷　伸二"},null,{"$f":"IF(ISERROR(VLOOKUP(R84,審判員!$A:$C,3,FALSE))=TRUE,\"\",VLOOKUP(R84,審判員!$A:$C,3,FALSE))","v":"３級"},null,{"$f":"IF(ISERROR(VLOOKUP(CONCATENATE($V$68,\"_\",W85),選手名簿!$A:$E,5,FALSE))=TRUE,\"\",VLOOKUP(CONCATENATE($V$68,\"_\",W85),選手名簿!$A:$E,5,FALSE))","v":""},null,null,null,null,null,null,null,{"$f":"IF(ISERROR(VLOOKUP(CONCATENATE($AD$68,\"_\",AC85),選手名簿!$A:$E,5,FALSE))=TRUE,\"\",VLOOKUP(CONCATENATE($AD$68,\"_\",AC85),選手名簿!$A:$E,5,FALSE))","v":""}]
["番号","R010301990",null,null,null,{"$f":"IF(ISERROR(VLOOKUP(CONCATENATE($F$68,\"_\",G86),選手名簿!$A:$E,5,FALSE))=TRUE,\"\",VLOOKUP(CONCATENATE($F$68,\"_\",G86),選手名簿!$A:$E,5,FALSE))","v":""},null,null,null,null,null,null,null,{"$f":"IF(ISERROR(VLOOKUP(CONCATENATE($N$68,\"_\",M86),選手名簿!$A:$E,5,FALSE))=TRUE,\"\",VLOOKUP(CONCATENATE($N$68,\"_\",M86),選手名簿!$A:$E,5,FALSE))","v":""},null,null,"番号","R010027819",null,null,null,{"$f":"IF(ISERROR(VLOOKUP(CONCATENATE($V$68,\"_\",W86),選手名簿!$A:$E,5,FALSE))=TRUE,\"\",VLOOKUP(CONCATENATE($V$68,\"_\",W86),選手名簿!$A:$E,5,FALSE))","v":""},null,null,null,null,null,null,null,{"$f":"IF(ISERROR(VLOOKUP(CONCATENATE($AD$68,\"_\",AC86),選手名簿!$A:$E,5,FALSE))=TRUE,\"\",VLOOKUP(CONCATENATE($AD$68,\"_\",AC86),選手名簿!$A:$E,5,FALSE))","v":""}]
["AR2:",{"$f":"IF(ISERROR(VLOOKUP(B86,審判員!$A:$C,2,FALSE))=TRUE,\"\",VLOOKUP(B86,審判員!$A:$C,2,FALSE))","v":"池本　岬"},null,{"$f":"IF(ISERROR(VLOOKUP(B86,審判員!$A:$C,3,FALSE))=TRUE,\"\",VLOOKUP(B86,審判員!$A:$C,3,FALSE))","v":"３級"},null,{"$f":"IF(ISERROR(VLOOKUP(CONCATENATE($F$68,\"_\",G87),選手名簿!$A:$E,5,FALSE))=TRUE,\"\",VLOOKUP(CONCATENATE($F$68,\"_\",G87),選手名簿!$A:$E,5,FALSE))","v":""},null,null,null,null,null,null,null,{"$f":"IF(ISERROR(VLOOKUP(CONCATENATE($N$68,\"_\",M87),選手名簿!$A:$E,5,FALSE))=TRUE,\"\",VLOOKUP(CONCATENATE($N$68,\"_\",M87),選手名簿!$A:$E,5,FALSE))","v":""},null,null,"AR2:",{"$f":"IF(ISERROR(VLOOKUP(R86,審判員!$A:$C,2,FALSE))=TRUE,\"\",VLOOKUP(R86,審判員!$A:$C,2,FALSE))","v":"狭間　照央"},null,{"$f":"IF(ISERROR(VLOOKUP(R86,審判員!$A:$C,3,FALSE))=TRUE,\"\",VLOOKUP(R86,審判員!$A:$C,3,FALSE))","v":"３級"},null,{"$f":"IF(ISERROR(VLOOKUP(CONCATENATE($V$68,\"_\",W87),選手名簿!$A:$E,5,FALSE))=TRUE,\"\",VLOOKUP(CONCATENATE($V$68,\"_\",W87),選手名簿!$A:$E,5,FALSE))","v":""},null,null,null,null,null,null,null,{"$f":"IF(ISERROR(VLOOKUP(CONCATENATE($AD$68,\"_\",AC87),選手名簿!$A:$E,5,FALSE))=TRUE,\"\",VLOOKUP(CONCATENATE($AD$68,\"_\",AC87),選手名簿!$A:$E,5,FALSE))","v":""}]
["番号","R001261398",null,null,null,{"$f":"IF(ISERROR(VLOOKUP(CONCATENATE($F$68,\"_\",G88),選手名簿!$A:$E,5,FALSE))=TRUE,\"\",VLOOKUP(CONCATENATE($F$68,\"_\",G88),選手名簿!$A:$E,5,FALSE))","v":""},null,null,null,null,null,null,null,{"$f":"IF(ISERROR(VLOOKUP(CONCATENATE($N$68,\"_\",M88),選手名簿!$A:$E,5,FALSE))=TRUE,\"\",VLOOKUP(CONCATENATE($N$68,\"_\",M88),選手名簿!$A:$E,5,FALSE))","v":""},null,null,"番号","R001262023",null,null,null,{"$f":"IF(ISERROR(VLOOKUP(CONCATENATE($V$68,\"_\",W88),選手名簿!$A:$E,5,FALSE))=TRUE,\"\",VLOOKUP(CONCATENATE($V$68,\"_\",W88),選手名簿!$A:$E,5,FALSE))","v":""},null,null,null,null,null,null,null,{"$f":"IF(ISERROR(VLOOKUP(CONCATENATE($AD$68,\"_\",AC88),選手名簿!$A:$E,5,FALSE))=TRUE,\"\",VLOOKUP(CONCATENATE($AD$68,\"_\",AC88),選手名簿!$A:$E,5,FALSE))","v":""}]
["4th:",{"$f":"IF(ISERROR(VLOOKUP(B88,審判員!$A:$C,2,FALSE))=TRUE,\"\",VLOOKUP(B88,審判員!$A:$C,2,FALSE))","v":"森山　信浩"},null,{"$f":"IF(ISERROR(VLOOKUP(B88,審判員!$A:$C,3,FALSE))=TRUE,\"\",VLOOKUP(B88,審判員!$A:$C,3,FALSE))","v":"３級"},null,{"$f":"IF(ISERROR(VLOOKUP(CONCATENATE($F$68,\"_\",G89),選手名簿!$A:$E,5,FALSE))=TRUE,\"\",VLOOKUP(CONCATENATE($F$68,\"_\",G89),選手名簿!$A:$E,5,FALSE))","v":""},null,null,null,null,null,null,null,{"$f":"IF(ISERROR(VLOOKUP(CONCATENATE($N$68,\"_\",M89),選手名簿!$A:$E,5,FALSE))=TRUE,\"\",VLOOKUP(CONCATENATE($N$68,\"_\",M89),選手名簿!$A:$E,5,FALSE))","v":""},null,null,"4th:",{"$f":"IF(ISERROR(VLOOKUP(R88,審判員!$A:$C,2,FALSE))=TRUE,\"\",VLOOKUP(R88,審判員!$A:$C,2,FALSE))","v":"和田　敬生"},null,{"$f":"IF(ISERROR(VLOOKUP(R88,審判員!$A:$C,3,FALSE))=TRUE,\"\",VLOOKUP(R88,審判員!$A:$C,3,FALSE))","v":"２級"},null,{"$f":"IF(ISERROR(VLOOKUP(CONCATENATE($V$68,\"_\",W89),選手名簿!$A:$E,5,FALSE))=TRUE,\"\",VLOOKUP(CONCATENATE($V$68,\"_\",W89),選手名簿!$A:$E,5,FALSE))","v":""},null,null,null,null,null,null,null,{"$f":"IF(ISERROR(VLOOKUP(CONCATENATE($AD$68,\"_\",AC89),選手名簿!$A:$E,5,FALSE))=TRUE,\"\",VLOOKUP(CONCATENATE($AD$68,\"_\",AC89),選手名簿!$A:$E,5,FALSE))","v":""}]

{"sheet":"予選リーグ公式記録(県協会人工芝北)","index":13,"n_rows":89,"n_cols":31,"rows_kept":89,"cut":false,"hidden":true,"merged":[[2,1,2,4],[2,17,2,20],[27,17,27,19],[9,14,11,14],[23,17,23,19],[24,17,24,18],[25,17,25,19],[9,1,9,3],[9,17,9,19],[10,1,10,3],[11,1,11,3],[10,17,10,19],[11,17,11,19],[4,28,4,29],[5,28,5,29],[4,21,4,27],[5,21,5,27],[4,12,4,13],[4,5,4,11],[5,5,5,11],[5,12,5,13],[9,13,11,13],[9,12,11,12],[6,28,6,29],[9,20,11,20],[9,21,11,21],[9,23,11,23],[6,12,6,13],[9,27,11,27],[9,28,11,28],[9,29,11,29],[9,22,11,22],[6,21,6,27],[6,5,6,11],[9,5,11,5],[9,6,11,6],[9,7,11,7],[38,23,40,23],[38,27,40,27],[30,1,30,2],[30,17,30,18],[38,4,40,4],[38,5,40,5],[38,6,40,6],[38,7,40,7],[38,14,40,14],[38,11,40,11],[38,12,40,12],[38,13,40,13],[38,20,40,20],[39,17,39,19],[38,21,40,21],[38,22,40,22],[40,17,40,19],[39,1,39,3],[40,1,40,3],[38,1,38,3],[38,17,38,19],[29,1,29,3],[29,17,29,19],[23,1,23,3],[24,1,24,2],[25,1,25,3],[28,1,28,2],[28,17,28,18],[9,4,11,4],[87,1,87,3],[87,17,87,19],[70,16,70,19],[58,17,58,19],[53,1,53,2],[53,17,53,18],[68,1,68,3],[69,1,69,3],[68,17,68,19],[69,17,69,19],[67,1,67,3],[67,17,67,19],[9,11,11,11],[26,1,26,2],[26,17,26,18],[27,1,27,3],[88,1,88,2],[88,17,88,18],[83,1,83,3],[83,17,83,19],[84,1,84,2],[84,17,84,18],[85,1,85,3],[85,17,85,19],[67,28,69,28],[67,29,69,29],[67,27,69,27],[59,1,59,2],[59,17,59,18],[67,14,69,14],[86,1,86,2],[86,17,86,18],[81,1,81,3],[81,17,81,19],[82,1,82,2],[82,17,82,18],[67,13,69,13],[67,20,69,20],[67,21,69,21],[67,22,69,22],[67,23,69,23],[67,4,69,4],[67,5,69,5],[67,6,69,6],[67,7,69,7],[67,11,69,11],[67,12,69,12],[70,0,70,3],[9,30,11,30],[38,30,40,30],[67,30,69,30],[0,0,0,9],[0,10,0,13],[0,16,0,25],[0,26,0,29],[12,0,12,3],[12,16,12,19],[41,0,41,3],[41,16,41,19],[54,1,54,3],[54,17,54,19],[55,1,55,2],[55,17,55,18],[56,1,56,3],[56,17,56,19],[38,28,40,28],[38,29,40,29],[52,1,52,3],[52,17,52,19],[57,1,57,2],[57,17,57,18],[58,1,58,3]]}
[{"$f":"要項!C2","v":"OFA 第 33 回 大分県U-11サッカー選手権大会"},null,null,null,null,null,null,null,null,null,"予選リーグ結果　報告用紙",null,null,null,null,null,{"$f":"要項!C2","v":"OFA 第 33 回 大分県U-11サッカー選手権大会"},null,null,null,null,null,null,null,null,null,"予選リーグ結果　報告用紙"]
[]
["会場",{"$f":"予選リーグ!I14","v":"大分県ｻｯｶｰ協会人工芝ｸﾞﾗｳﾝﾄﾞ"},null,null,null,{"$f":"予選リーグ!L15","v":"「北」コート"},null,null,null,null,null,null,null,null,null,null,"会場",{"$f":"予選リーグ!I14","v":"大分県ｻｯｶｰ協会人工芝ｸﾞﾗｳﾝﾄﾞ"},null,null,null,{"$f":"予選リーグ!L15","v":"「北」コート"}]
[]
[null,null,null,null,"F1",{"$f":"VLOOKUP(E5,組合せ抽選用!$Q:$U,5,FALSE)","v":"スマイス・セレソン"},null,null,null,null,null,null,{"$f":"VLOOKUP(E5,組合せ抽選用!$Q:$V,6,FALSE)","v":"別府"},null,null,null,null,null,null,null,"H1",{"$f":"VLOOKUP(U5,組合せ抽選用!$Q:$U,5,FALSE)","v":"如水ジュニアサッカークラブ"},null,null,null,null,null,null,{"$f":"VLOOKUP(U5,組合せ抽選用!$Q:$V,6,FALSE)","v":"中津"}]
[null,null,null,null,"F2",{"$f":"VLOOKUP(E6,組合せ抽選用!$Q:$U,5,FALSE)","v":"明治サッカースポーツ少年団"},null,null,null,null,null,null,{"$f":"VLOOKUP(E6,組合せ抽選用!$Q:$V,6,FALSE)","v":"大分"},null,null,null,null,null,null,null,"H2",{"$f":"VLOOKUP(U6,組合せ抽選用!$Q:$U,5,FALSE)","v":"リノスフットボールクラブ　Ｕ－１２"},null,null,null,null,null,null,{"$f":"VLOOKUP(U6,組合せ抽選用!$Q:$V,6,FALSE)","v":"大分"}]
[null,null,null,null,"F3",{"$f":"VLOOKUP(E7,組合せ抽選用!$Q:$U,5,FALSE)","v":"ＦＣ　ＵＮＩＴＥ"},null,null,null,null,null,null,{"$f":"VLOOKUP(E7,組合せ抽選用!$Q:$V,6,FALSE)","v":"宇佐高田"},null,null,null,null,null,null,null,"H3",{"$f":"VLOOKUP(U7,組合せ抽選用!$Q:$U,5,FALSE)","v":"大分トリニータタートルズ　キング"},null,null,null,null,null,null,{"$f":"VLOOKUP(U7,組合せ抽選用!$Q:$V,6,FALSE)","v":"大分"}]
[]
[]
["MC","松下　省吾",null,null,{"$f":"予選リーグ!B19","v":"10:00:00"},{"$f":"F5","v":"スマイス・セレソン"},{"$f":"SUM(I10:I11)","v":0},"（",0,"前半",0,"）",{"$f":"SUM(K10:K11)","v":0},{"$f":"F6","v":"明治サッカースポーツ少年団"},null,null,"MC","松下　省吾",null,null,{"$f":"予選リーグ!B21","v":"10:50:00"},{"$f":"V5","v":"如水ジュニアサッカークラブ"},{"$f":"SUM(Y10:Y11)","v":1},"（",1,"前半",1,"）",{"$f":"SUM(AA10:AA11)","v":1},{"$f":"V6","v":"リノスフットボールクラブ　Ｕ－１２"}]
["Welfare\nOfficer",null,null,null,null,null,null,null,0,"後半",0,null,null,null,null,null,"Welfare\nOfficer",null,null,null,null,null,null,null,0,"後半",0]
["記録","末永　成久",null,null,null,null,null,null,null,"PK",null,null,null,null,null,null,"記録","末永　成久",null,null,null,null,null,null,null,"PK"]
["＜Referee＞",null,null,null,"警告/退場\n選択肢より","氏名","番号","分","内容\n選択肢より",null,"内容\n選択肢より","分","番号","氏名","警告/退場\n選択肢より",null,"＜Referee＞",null,null,null,"警告/退場\n選択肢より","氏名","番号","分","内容\n選択肢より",null,"内容\n選択肢より","分","番号","氏名","警告/退場\n選択肢より"]
[null,null,null,null,"得点者",{"$f":"IF(ISERROR(VLOOKUP(CONCATENATE($F$10,\"_\",G14),選手名簿!$A:$E,5,FALSE))=TRUE,\"\",VLOOKUP(CONCATENATE($F$10,\"_\",G14),選手名簿!$A:$E,5,FALSE))","v":""},null,null,null,null,null,null,null,{"$f":"IF(ISERROR(VLOOKUP(CONCATENATE($N$10,\"_\",M14),選手名簿!$A:$E,5,FALSE))=TRUE,\"\",VLOOKUP(CONCATENATE($N$10,\"_\",M14),選手名簿!$A:$E,5,FALSE))","v":""},null,null,null,null,null,null,"得点者",{"$f":"IF(ISERROR(VLOOKUP(CONCATENATE($V$10,\"_\",W14),選手名簿!$A:$E,5,FALSE))=TRUE,\"\",VLOOKUP(CONCATENATE($V$10,\"_\",W14),選手名簿!$A:$E,5,FALSE))","v":""},null,null,null,null,null,null,null,{"$f":"IF(ISERROR(VLOOKUP(CONCATENATE($AD$10,\"_\",AC14),選手名簿!$A:$E,5,FALSE))=TRUE,\"\",VLOOKUP(CONCATENATE($AD$10,\"_\",AC14),選手名簿!$A:$E,5,FALSE))","v":""}]
[null,null,null,null,"得点者",{"$f":"IF(ISERROR(VLOOKUP(CONCATENATE($F$10,\"_\",G15),選手名簿!$A:$E,5,FALSE))=TRUE,\"\",VLOOKUP(CONCATENATE($F$10,\"_\",G15),選手名簿!$A:$E,5,FALSE))","v":""},null,null,null,null,null,null,null,{"$f":"IF(ISERROR(VLOOKUP(CONCATENATE($N$10,\"_\",M15),選手名簿!$A:$E,5,FALSE))=TRUE,\"\",VLOOKUP(CONCATENATE($N$10,\"_\",M15),選手名簿!$A:$E,5,FALSE))","v":""},null,null,null,null,null,null,"得点者",{"$f":"IF(ISERROR(VLOOKUP(CONCATENATE($V$10,\"_\",W15),選手名簿!$A:$E,5,FALSE))=TRUE,\"\",VLOOKUP(CONCATENATE($V$10,\"_\",W15),選手名簿!$A:$E,5,FALSE))","v":""},null,null,null,null,null,null,null,{"$f":"IF(ISERROR(VLOOKUP(CONCATENATE($AD$10,\"_\",AC15),選手名簿!$A:$E,5,FALSE))=TRUE,\"\",VLOOKUP(CONCATENATE($AD$10,\"_\",AC15),選手名簿!$A:$E,5,FALSE))","v":""}]
[null,null,null,null,"得点者",{"$f":"IF(ISERROR(VLOOKUP(CONCATENATE($F$10,\"_\",G16),選手名簿!$A:$E,5,FALSE))=TRUE,\"\",VLOOKUP(CONCATENATE($F$10,\"_\",G16),選手名簿!$A:$E,5,FALSE))","v":""},null,null,null,null,null,null,null,{"$f":"IF(ISERROR(VLOOKUP(CONCATENATE($N$10,\"_\",M16),選手名簿!$A:$E,5,FALSE))=TRUE,\"\",VLOOKUP(CONCATENATE($N$10,\"_\",M16),選手名簿!$A:$E,5,FALSE))","v":""},null,null,null,null,null,null,"得点者",{"$f":"IF(ISERROR(VLOOKUP(CONCATENATE($V$10,\"_\",W16),選手名簿!$A:$E,5,FALSE))=TRUE,\"\",VLOOKUP(CONCATENATE($V$10,\"_\",W16),選手名簿!$A:$E,5,FALSE))","v":""},null,null,null,null,null,null,null,{"$f":"IF(ISERROR(VLOOKUP(CONCATENATE($AD$10,\"_\",AC16),選手名簿!$A:$E,5,FALSE))=TRUE,\"\",VLOOKUP(CONCATENATE($AD$10,\"_\",AC16),選手名簿!$A:$E,5,FALSE))","v":""}]
[null,null,null,null,"得点者",{"$f":"IF(ISERROR(VLOOKUP(CONCATENATE($F$10,\"_\",G17),選手名簿!$A:$E,5,FALSE))=TRUE,\"\",VLOOKUP(CONCATENATE($F$10,\"_\",G17),選手名簿!$A:$E,5,FALSE))","v":""},null,null,null,null,null,null,null,{"$f":"IF(ISERROR(VLOOKUP(CONCATENATE($N$10,\"_\",M17),選手名簿!$A:$E,5,FALSE))=TRUE,\"\",VLOOKUP(CONCATENATE($N$10,\"_\",M17),選手名簿!$A:$E,5,FALSE))","v":""},null,null,null,null,null,null,"得点者",{"$f":"IF(ISERROR(VLOOKUP(CONCATENATE($V$10,\"_\",W17),選手名簿!$A:$E,5,FALSE))=TRUE,\"\",VLOOKUP(CONCATENATE($V$10,\"_\",W17),選手名簿!$A:$E,5,FALSE))","v":""},null,null,null,null,null,null,null,{"$f":"IF(ISERROR(VLOOKUP(CONCATENATE($AD$10,\"_\",AC17),選手名簿!$A:$E,5,FALSE))=TRUE,\"\",VLOOKUP(CONCATENATE($AD$10,\"_\",AC17),選手名簿!$A:$E,5,FALSE))","v":""}]
[null,null,null,null,"得点者",{"$f":"IF(ISERROR(VLOOKUP(CONCATENATE($F$10,\"_\",G18),選手名簿!$A:$E,5,FALSE))=TRUE,\"\",VLOOKUP(CONCATENATE($F$10,\"_\",G18),選手名簿!$A:$E,5,FALSE))","v":""},null,null,null,null,null,null,null,{"$f":"IF(ISERROR(VLOOKUP(CONCATENATE($N$10,\"_\",M18),選手名簿!$A:$E,5,FALSE))=TRUE,\"\",VLOOKUP(CONCATENATE($N$10,\"_\",M18),選手名簿!$A:$E,5,FALSE))","v":""},null,null,null,null,null,null,"得点者",{"$f":"IF(ISERROR(VLOOKUP(CONCATENATE($V$10,\"_\",W18),選手名簿!$A:$E,5,FALSE))=TRUE,\"\",VLOOKUP(CONCATENATE($V$10,\"_\",W18),選手名簿!$A:$E,5,FALSE))","v":""},null,null,null,null,null,null,null,{"$f":"IF(ISERROR(VLOOKUP(CONCATENATE($AD$10,\"_\",AC18),選手名簿!$A:$E,5,FALSE))=TRUE,\"\",VLOOKUP(CONCATENATE($AD$10,\"_\",AC18),選手名簿!$A:$E,5,FALSE))","v":""}]
[null,null,null,null,"得点者",{"$f":"IF(ISERROR(VLOOKUP(CONCATENATE($F$10,\"_\",G19),選手名簿!$A:$E,5,FALSE))=TRUE,\"\",VLOOKUP(CONCATENATE($F$10,\"_\",G19),選手名簿!$A:$E,5,FALSE))","v":""},null,null,null,null,null,null,null,{"$f":"IF(ISERROR(VLOOKUP(CONCATENATE($N$10,\"_\",M19),選手名簿!$A:$E,5,FALSE))=TRUE,\"\",VLOOKUP(CONCATENATE($N$10,\"_\",M19),選手名簿!$A:$E,5,FALSE))","v":""},null,null,null,null,null,null,"得点者",{"$f":"IF(ISERROR(VLOOKUP(CONCATENATE($V$10,\"_\",W19),選手名簿!$A:$E,5,FALSE))=TRUE,\"\",VLOOKUP(CONCATENATE($V$10,\"_\",W19),選手名簿!$A:$E,5,FALSE))","v":""},null,null,null,null,null,null,null,{"$f":"IF(ISERROR(VLOOKUP(CONCATENATE($AD$10,\"_\",AC19),選手名簿!$A:$E,5,FALSE))=TRUE,\"\",VLOOKUP(CONCATENATE($AD$10,\"_\",AC19),選手名簿!$A:$E,5,FALSE))","v":""}]
[null,null,null,null,"得点者",{"$f":"IF(ISERROR(VLOOKUP(CONCATENATE($F$10,\"_\",G20),選手名簿!$A:$E,5,FALSE))=TRUE,\"\",VLOOKUP(CONCATENATE($F$10,\"_\",G20),選手名簿!$A:$E,5,FALSE))","v":""},null,null,null,null,null,null,null,{"$f":"IF(ISERROR(VLOOKUP(CONCATENATE($N$10,\"_\",M20),選手名簿!$A:$E,5,FALSE))=TRUE,\"\",VLOOKUP(CONCATENATE($N$10,\"_\",M20),選手名簿!$A:$E,5,FALSE))","v":""},null,null,null,null,null,null,"得点者",{"$f":"IF(ISERROR(VLOOKUP(CONCATENATE($V$10,\"_\",W20),選手名簿!$A:$E,5,FALSE))=TRUE,\"\",VLOOKUP(CONCATENATE($V$10,\"_\",W20),選手名簿!$A:$E,5,FALSE))","v":""},null,null,null,null,null,null,null,{"$f":"IF(ISERROR(VLOOKUP(CONCATENATE($AD$10,\"_\",AC20),選手名簿!$A:$E,5,FALSE))=TRUE,\"\",VLOOKUP(CONCATENATE($AD$10,\"_\",AC20),選手名簿!$A:$E,5,FALSE))","v":""}]
[null,null,null,null,"得点者",{"$f":"IF(ISERROR(VLOOKUP(CONCATENATE($F$10,\"_\",G21),選手名簿!$A:$E,5,FALSE))=TRUE,\"\",VLOOKUP(CONCATENATE($F$10,\"_\",G21),選手名簿!$A:$E,5,FALSE))","v":""},null,null,null,null,null,null,null,{"$f":"IF(ISERROR(VLOOKUP(CONCATENATE($N$10,\"_\",M21),選手名簿!$A:$E,5,FALSE))=TRUE,\"\",VLOOKUP(CONCATENATE($N$10,\"_\",M21),選手名簿!$A:$E,5,FALSE))","v":""},null,null,null,null,null,null,"得点者",{"$f":"IF(ISERROR(VLOOKUP(CONCATENATE($V$10,\"_\",W21),選手名簿!$A:$E,5,FALSE))=TRUE,\"\",VLOOKUP(CONCATENATE($V$10,\"_\",W21),選手名簿!$A:$E,5,FALSE))","v":""},null,null,null,null,null,null,null,{"$f":"IF(ISERROR(VLOOKUP(CONCATENATE($AD$10,\"_\",AC21),選手名簿!$A:$E,5,FALSE))=TRUE,\"\",VLOOKUP(CONCATENATE($AD$10,\"_\",AC21),選手名簿!$A:$E,5,FALSE))","v":""}]
[null,null,null,null,"得点者",{"$f":"IF(ISERROR(VLOOKUP(CONCATENATE($F$10,\"_\",G22),選手名簿!$A:$E,5,FALSE))=TRUE,\"\",VLOOKUP(CONCATENATE($F$10,\"_\",G22),選手名簿!$A:$E,5,FALSE))","v":""},null,null,null,null,null,null,null,{"$f":"IF(ISERROR(VLOOKUP(CONCATENATE($N$10,\"_\",M22),選手名簿!$A:$E,5,FALSE))=TRUE,\"\",VLOOKUP(CONCATENATE($N$10,\"_\",M22),選手名簿!$A:$E,5,FALSE))","v":""},null,null,null,null,null,null,"得点者",{"$f":"IF(ISERROR(VLOOKUP(CONCATENATE($V$10,\"_\",W22),選手名簿!$A:$E,5,FALSE))=TRUE,\"\",VLOOKUP(CONCATENATE($V$10,\"_\",W22),選手名簿!$A:$E,5,FALSE))","v":""},null,null,null,null,null,null,null,{"$f":"IF(ISERROR(VLOOKUP(CONCATENATE($AD$10,\"_\",AC22),選手名簿!$A:$E,5,FALSE))=TRUE,\"\",VLOOKUP(CONCATENATE($AD$10,\"_\",AC22),選手名簿!$A:$E,5,FALSE))","v":""}]
[null,null,null,null,"得点者",{"$f":"IF(ISERROR(VLOOKUP(CONCATENATE($F$10,\"_\",G23),選手名簿!$A:$E,5,FALSE))=TRUE,\"\",VLOOKUP(CONCATENATE($F$10,\"_\",G23),選手名簿!$A:$E,5,FALSE))","v":""},null,null,null,null,null,null,null,{"$f":"IF(ISERROR(VLOOKUP(CONCATENATE($N$10,\"_\",M23),選手名簿!$A:$E,5,FALSE))=TRUE,\"\",VLOOKUP(CONCATENATE($N$10,\"_\",M23),選手名簿!$A:$E,5,FALSE))","v":""},null,null,null,null,null,null,"得点者",{"$f":"IF(ISERROR(VLOOKUP(CONCATENATE($V$10,\"_\",W23),選手名簿!$A:$E,5,FALSE))=TRUE,\"\",VLOOKUP(CONCATENATE($V$10,\"_\",W23),選手名簿!$A:$E,5,FALSE))","v":""},null,null,null,null,null,null,null,{"$f":"IF(ISERROR(VLOOKUP(CONCATENATE($AD$10,\"_\",AC23),選手名簿!$A:$E,5,FALSE))=TRUE,\"\",VLOOKUP(CONCATENATE($AD$10,\"_\",AC23),選手名簿!$A:$E,5,FALSE))","v":""}]
["番号","R010090347",null,null,null,{"$f":"IF(ISERROR(VLOOKUP(CONCATENATE($F$10,\"_\",G24),選手名簿!$A:$E,5,FALSE))=TRUE,\"\",VLOOKUP(CONCATENATE($F$10,\"_\",G24),選手名簿!$A:$E,5,FALSE))","v":""},null,null,null,null,null,null,null,{"$f":"IF(ISERROR(VLOOKUP(CONCATENATE($N$10,\"_\",M24),選手名簿!$A:$E,5,FALSE))=TRUE,\"\",VLOOKUP(CONCATENATE($N$10,\"_\",M24),選手名簿!$A:$E,5,FALSE))","v":""},null,null,"番号","R001256402",null,null,null,{"$f":"IF(ISERROR(VLOOKUP(CONCATENATE($V$10,\"_\",W24),選手名簿!$A:$E,5,FALSE))=TRUE,\"\",VLOOKUP(CONCATENATE($V$10,\"_\",W24),選手名簿!$A:$E,5,FALSE))","v":""},null,null,null,null,null,null,null,{"$f":"IF(ISERROR(VLOOKUP(CONCATENATE($AD$10,\"_\",AC24),選手名簿!$A:$E,5,FALSE))=TRUE,\"\",VLOOKUP(CONCATENATE($AD$10,\"_\",AC24),選手名簿!$A:$E,5,FALSE))","v":""}]
["R",{"$f":"IF(ISERROR(VLOOKUP(B24,審判員!$A:$C,2,FALSE))=TRUE,\"\",VLOOKUP(B24,審判員!$A:$C,2,FALSE))","v":"和田　行祐"},null,{"$f":"IF(ISERROR(VLOOKUP(B24,審判員!$A:$C,3,FALSE))=TRUE,\"\",VLOOKUP(B24,審判員!$A:$C,3,FALSE))","v":"３級"},null,{"$f":"IF(ISERROR(VLOOKUP(CONCATENATE($F$10,\"_\",G25),選手名簿!$A:$E,5,FALSE))=TRUE,\"\",VLOOKUP(CONCATENATE($F$10,\"_\",G25),選手名簿!$A:$E,5,FALSE))","v":""},null,null,null,null,null,null,null,{"$f":"IF(ISERROR(VLOOKUP(CONCATENATE($N$10,\"_\",M25),選手名簿!$A:$E,5,FALSE))=TRUE,\"\",VLOOKUP(CONCATENATE($N$10,\"_\",M25),選手名簿!$A:$E,5,FALSE))","v":""},null,null,"R",{"$f":"IF(ISERROR(VLOOKUP(R24,審判員!$A:$C,2,FALSE))=TRUE,\"\",VLOOKUP(R24,審判員!$A:$C,2,FALSE))","v":"小石川　悟"},null,{"$f":"IF(ISERROR(VLOOKUP(R24,審判員!$A:$C,3,FALSE))=TRUE,\"\",VLOOKUP(R24,審判員!$A:$C,3,FALSE))","v":"３級"},null,{"$f":"IF(ISERROR(VLOOKUP(CONCATENATE($V$10,\"_\",W25),選手名簿!$A:$E,5,FALSE))=TRUE,\"\",VLOOKUP(CONCATENATE($V$10,\"_\",W25),選手名簿!$A:$E,5,FALSE))","v":""},null,null,null,null,null,null,null,{"$f":"IF(ISERROR(VLOOKUP(CONCATENATE($AD$10,\"_\",AC25),選手名簿!$A:$E,5,FALSE))=TRUE,\"\",VLOOKUP(CONCATENATE($AD$10,\"_\",AC25),選手名簿!$A:$E,5,FALSE))","v":""}]
["番号","R009581234",null,null,null,{"$f":"IF(ISERROR(VLOOKUP(CONCATENATE($F$10,\"_\",G26),選手名簿!$A:$E,5,FALSE))=TRUE,\"\",VLOOKUP(CONCATENATE($F$10,\"_\",G26),選手名簿!$A:$E,5,FALSE))","v":""},null,null,null,null,null,null,null,{"$f":"IF(ISERROR(VLOOKUP(CONCATENATE($N$10,\"_\",M26),選手名簿!$A:$E,5,FALSE))=TRUE,\"\",VLOOKUP(CONCATENATE($N$10,\"_\",M26),選手名簿!$A:$E,5,FALSE))","v":""},null,null,"番号","R010465594",null,null,null,{"$f":"IF(ISERROR(VLOOKUP(CONCATENATE($V$10,\"_\",W26),選手名簿!$A:$E,5,FALSE))=TRUE,\"\",VLOOKUP(CONCATENATE($V$10,\"_\",W26),選手名簿!$A:$E,5,FALSE))","v":""},null,null,null,null,null,null,null,{"$f":"IF(ISERROR(VLOOKUP(CONCATENATE($AD$10,\"_\",AC26),選手名簿!$A:$E,5,FALSE))=TRUE,\"\",VLOOKUP(CONCATENATE($AD$10,\"_\",AC26),選手名簿!$A:$E,5,FALSE))","v":""}]
["AR1:",{"$f":"IF(ISERROR(VLOOKUP(B26,審判員!$A:$C,2,FALSE))=TRUE,\"\",VLOOKUP(B26,審判員!$A:$C,2,FALSE))","v":"山本　翔平"},null,{"$f":"IF(ISERROR(VLOOKUP(B26,審判員!$A:$C,3,FALSE))=TRUE,\"\",VLOOKUP(B26,審判員!$A:$C,3,FALSE))","v":"３級"},null,{"$f":"IF(ISERROR(VLOOKUP(CONCATENATE($F$10,\"_\",G27),選手名簿!$A:$E,5,FALSE))=TRUE,\"\",VLOOKUP(CONCATENATE($F$10,\"_\",G27),選手名簿!$A:$E,5,FALSE))","v":""},null,null,null,null,null,null,null,{"$f":"IF(ISERROR(VLOOKUP(CONCATENATE($N$10,\"_\",M27),選手名簿!$A:$E,5,FALSE))=TRUE,\"\",VLOOKUP(CONCATENATE($N$10,\"_\",M27),選手名簿!$A:$E,5,FALSE))","v":""},null,null,"AR1:",{"$f":"IF(ISERROR(VLOOKUP(R26,審判員!$A:$C,2,FALSE))=TRUE,\"\",VLOOKUP(R26,審判員!$A:$C,2,FALSE))","v":"佐藤　湧大"},null,{"$f":"IF(ISERROR(VLOOKUP(R26,審判員!$A:$C,3,FALSE))=TRUE,\"\",VLOOKUP(R26,審判員!$A:$C,3,FALSE))","v":"３級"},null,{"$f":"IF(ISERROR(VLOOKUP(CONCATENATE($V$10,\"_\",W27),選手名簿!$A:$E,5,FALSE))=TRUE,\"\",VLOOKUP(CONCATENATE($V$10,\"_\",W27),選手名簿!$A:$E,5,FALSE))","v":""},null,null,null,null,null,null,null,{"$f":"IF(ISERROR(VLOOKUP(CONCATENATE($AD$10,\"_\",AC27),選手名簿!$A:$E,5,FALSE))=TRUE,\"\",VLOOKUP(CONCATENATE($AD$10,\"_\",AC27),選手名簿!$A:$E,5,FALSE))","v":""}]
["番号","R001264775",null,null,null,{"$f":"IF(ISERROR(VLOOKUP(CONCATENATE($F$10,\"_\",G28),選手名簿!$A:$E,5,FALSE))=TRUE,\"\",VLOOKUP(CONCATENATE($F$10,\"_\",G28),選手名簿!$A:$E,5,FALSE))","v":""},null,null,null,null,null,null,null,{"$f":"IF(ISERROR(VLOOKUP(CONCATENATE($N$10,\"_\",M28),選手名簿!$A:$E,5,FALSE))=TRUE,\"\",VLOOKUP(CONCATENATE($N$10,\"_\",M28),選手名簿!$A:$E,5,FALSE))","v":""},null,null,"番号","R010281856",null,null,null,{"$f":"IF(ISERROR(VLOOKUP(CONCATENATE($V$10,\"_\",W28),選手名簿!$A:$E,5,FALSE))=TRUE,\"\",VLOOKUP(CONCATENATE($V$10,\"_\",W28),選手名簿!$A:$E,5,FALSE))","v":""},null,null,null,null,null,null,null,{"$f":"IF(ISERROR(VLOOKUP(CONCATENATE($AD$10,\"_\",AC28),選手名簿!$A:$E,5,FALSE))=TRUE,\"\",VLOOKUP(CONCATENATE($AD$10,\"_\",AC28),選手名簿!$A:$E,5,FALSE))","v":""}]
["AR2:",{"$f":"IF(ISERROR(VLOOKUP(B28,審判員!$A:$C,2,FALSE))=TRUE,\"\",VLOOKUP(B28,審判員!$A:$C,2,FALSE))","v":"屋敷　伴幸"},null,{"$f":"IF(ISERROR(VLOOKUP(B28,審判員!$A:$C,3,FALSE))=TRUE,\"\",VLOOKUP(B28,審判員!$A:$C,3,FALSE))","v":"３級"},null,{"$f":"IF(ISERROR(VLOOKUP(CONCATENATE($F$10,\"_\",G29),選手名簿!$A:$E,5,FALSE))=TRUE,\"\",VLOOKUP(CONCATENATE($F$10,\"_\",G29),選手名簿!$A:$E,5,FALSE))","v":""},null,null,null,null,null,null,null,{"$f":"IF(ISERROR(VLOOKUP(CONCATENATE($N$10,\"_\",M29),選手名簿!$A:$E,5,FALSE))=TRUE,\"\",VLOOKUP(CONCATENATE($N$10,\"_\",M29),選手名簿!$A:$E,5,FALSE))","v":""},null,null,"AR2:",{"$f":"IF(ISERROR(VLOOKUP(R28,審判員!$A:$C,2,FALSE))=TRUE,\"\",VLOOKUP(R28,審判員!$A:$C,2,FALSE))","v":"如法寺　雅俊"},null,{"$f":"IF(ISERROR(VLOOKUP(R28,審判員!$A:$C,3,FALSE))=TRUE,\"\",VLOOKUP(R28,審判員!$A:$C,3,FALSE))","v":"３級"},null,{"$f":"IF(ISERROR(VLOOKUP(CONCATENATE($V$10,\"_\",W29),選手名簿!$A:$E,5,FALSE))=TRUE,\"\",VLOOKUP(CONCATENATE($V$10,\"_\",W29),選手名簿!$A:$E,5,FALSE))","v":""},null,null,null,null,null,null,null,{"$f":"IF(ISERROR(VLOOKUP(CONCATENATE($AD$10,\"_\",AC29),選手名簿!$A:$E,5,FALSE))=TRUE,\"\",VLOOKUP(CONCATENATE($AD$10,\"_\",AC29),選手名簿!$A:$E,5,FALSE))","v":""}]
["番号","R001256402",null,null,null,{"$f":"IF(ISERROR(VLOOKUP(CONCATENATE($F$10,\"_\",G30),選手名簿!$A:$E,5,FALSE))=TRUE,\"\",VLOOKUP(CONCATENATE($F$10,\"_\",G30),選手名簿!$A:$E,5,FALSE))","v":""},null,null,null,null,null,null,null,{"$f":"IF(ISERROR(VLOOKUP(CONCATENATE($N$10,\"_\",M30),選手名簿!$A:$E,5,FALSE))=TRUE,\"\",VLOOKUP(CONCATENATE($N$10,\"_\",M30),選手名簿!$A:$E,5,FALSE))","v":""},null,null,"番号","R003972443",null,null,null,{"$f":"IF(ISERROR(VLOOKUP(CONCATENATE($V$10,\"_\",W30),選手名簿!$A:$E,5,FALSE))=TRUE,\"\",VLOOKUP(CONCATENATE($V$10,\"_\",W30),選手名簿!$A:$E,5,FALSE))","v":""},null,null,null,null,null,null,null,{"$f":"IF(ISERROR(VLOOKUP(CONCATENATE($AD$10,\"_\",AC30),選手名簿!$A:$E,5,FALSE))=TRUE,\"\",VLOOKUP(CONCATENATE($AD$10,\"_\",AC30),選手名簿!$A:$E,5,FALSE))","v":""}]
["4th:",{"$f":"IF(ISERROR(VLOOKUP(B30,審判員!$A:$C,2,FALSE))=TRUE,\"\",VLOOKUP(B30,審判員!$A:$C,2,FALSE))","v":"小石川　悟"},null,{"$f":"IF(ISERROR(VLOOKUP(B30,審判員!$A:$C,3,FALSE))=TRUE,\"\",VLOOKUP(B30,審判員!$A:$C,3,FALSE))","v":"３級"},null,{"$f":"IF(ISERROR(VLOOKUP(CONCATENATE($F$10,\"_\",G31),選手名簿!$A:$E,5,FALSE))=TRUE,\"\",VLOOKUP(CONCATENATE($F$10,\"_\",G31),選手名簿!$A:$E,5,FALSE))","v":""},null,null,null,null,null,null,null,{"$f":"IF(ISERROR(VLOOKUP(CONCATENATE($N$10,\"_\",M31),選手名簿!$A:$E,5,FALSE))=TRUE,\"\",VLOOKUP(CONCATENATE($N$10,\"_\",M31),選手名簿!$A:$E,5,FALSE))","v":""},null,null,"4th:",{"$f":"IF(ISERROR(VLOOKUP(R30,審判員!$A:$C,2,FALSE))=TRUE,\"\",VLOOKUP(R30,審判員!$A:$C,2,FALSE))","v":"矢野　三千生"},null,{"$f":"IF(ISERROR(VLOOKUP(R30,審判員!$A:$C,3,FALSE))=TRUE,\"\",VLOOKUP(R30,審判員!$A:$C,3,FALSE))","v":"３級"},null,{"$f":"IF(ISERROR(VLOOKUP(CONCATENATE($V$10,\"_\",W31),選手名簿!$A:$E,5,FALSE))=TRUE,\"\",VLOOKUP(CONCATENATE($V$10,\"_\",W31),選手名簿!$A:$E,5,FALSE))","v":""},null,null,null,null,null,null,null,{"$f":"IF(ISERROR(VLOOKUP(CONCATENATE($AD$10,\"_\",AC31),選手名簿!$A:$E,5,FALSE))=TRUE,\"\",VLOOKUP(CONCATENATE($AD$10,\"_\",AC31),選手名簿!$A:$E,5,FALSE))","v":""}]
[]
[]
[]
[]
[]
[]
[]
["MC","諌本　秀樹",null,null,{"$f":"予選リーグ!B23","v":"11:40:00"},{"$f":"F6","v":"明治サッカースポーツ少年団"},{"$f":"SUM(I39:I40)","v":2},"（",2,"前半",0,"）",{"$f":"SUM(K39:K40)","v":0},{"$f":"F7","v":"ＦＣ　ＵＮＩＴＥ"},null,null,"MC","仲野　昭博",null,null,{"$f":"予選リーグ!B27","v":"13:20:00"},{"$f":"V6","v":"リノスフットボールクラブ　Ｕ－１２"},{"$f":"SUM(Y39:Y40)","v":0},"（",0,"前半",0,"）",{"$f":"SUM(AA39:AA40)","v":0},{"$f":"V7","v":"大分トリニータタートルズ　キング"}]
["Welfare\nOfficer",null,null,null,null,null,null,null,0,"後半",0,null,null,null,null,null,"Welfare\nOfficer",null,null,null,null,null,null,null,0,"後半",0]
["記録","松下　省吾",null,null,null,null,null,null,null,"PK",null,null,null,null,null,null,"記録","諌本　秀樹",null,null,null,null,null,null,null,"PK"]
["＜Referee＞",null,null,null,"警告/退場\n選択肢より","氏名","番号","分","内容\n選択肢より",null,"内容\n選択肢より","分","番号","氏名","警告/退場\n選択肢より",null,"＜Referee＞",null,null,null,"警告/退場\n選択肢より","氏名","番号","分","内容\n選択肢より",null,"内容\n選択肢より","分","番号","氏名","警告/退場\n選択肢より"]
[null,null,null,null,"得点者",{"$f":"IF(ISERROR(VLOOKUP(CONCATENATE($F$39,\"_\",G43),選手名簿!$A:$E,5,FALSE))=TRUE,\"\",VLOOKUP(CONCATENATE($F$39,\"_\",G43),選手名簿!$A:$E,5,FALSE))","v":""},null,null,null,null,null,null,null,{"$f":"IF(ISERROR(VLOOKUP(CONCATENATE($N$39,\"_\",M43),選手名簿!$A:$E,5,FALSE))=TRUE,\"\",VLOOKUP(CONCATENATE($N$39,\"_\",M43),選手名簿!$A:$E,5,FALSE))","v":""},null,null,null,null,null,null,"得点者",{"$f":"IF(ISERROR(VLOOKUP(CONCATENATE($V$39,\"_\",W43),選手名簿!$A:$E,5,FALSE))=TRUE,\"\",VLOOKUP(CONCATENATE($V$39,\"_\",W43),選手名簿!$A:$E,5,FALSE))","v":""},null,null,null,null,null,null,null,{"$f":"IF(ISERROR(VLOOKUP(CONCATENATE($AD$39,\"_\",AC43),選手名簿!$A:$E,5,FALSE))=TRUE,\"\",VLOOKUP(CONCATENATE($AD$39,\"_\",AC43),選手名簿!$A:$E,5,FALSE))","v":""}]
[null,null,null,null,"得点者",{"$f":"IF(ISERROR(VLOOKUP(CONCATENATE($F$39,\"_\",G44),選手名簿!$A:$E,5,FALSE))=TRUE,\"\",VLOOKUP(CONCATENATE($F$39,\"_\",G44),選手名簿!$A:$E,5,FALSE))","v":""},null,null,null,null,null,null,null,{"$f":"IF(ISERROR(VLOOKUP(CONCATENATE($N$39,\"_\",M44),選手名簿!$A:$E,5,FALSE))=TRUE,\"\",VLOOKUP(CONCATENATE($N$39,\"_\",M44),選手名簿!$A:$E,5,FALSE))","v":""},null,null,null,null,null,null,"得点者",{"$f":"IF(ISERROR(VLOOKUP(CONCATENATE($V$39,\"_\",W44),選手名簿!$A:$E,5,FALSE))=TRUE,\"\",VLOOKUP(CONCATENATE($V$39,\"_\",W44),選手名簿!$A:$E,5,FALSE))","v":""},null,null,null,null,null,null,null,{"$f":"IF(ISERROR(VLOOKUP(CONCATENATE($AD$39,\"_\",AC44),選手名簿!$A:$E,5,FALSE))=TRUE,\"\",VLOOKUP(CONCATENATE($AD$39,\"_\",AC44),選手名簿!$A:$E,5,FALSE))","v":""}]
[null,null,null,null,"得点者",{"$f":"IF(ISERROR(VLOOKUP(CONCATENATE($F$39,\"_\",G45),選手名簿!$A:$E,5,FALSE))=TRUE,\"\",VLOOKUP(CONCATENATE($F$39,\"_\",G45),選手名簿!$A:$E,5,FALSE))","v":""},null,null,null,null,null,null,null,{"$f":"IF(ISERROR(VLOOKUP(CONCATENATE($N$39,\"_\",M45),選手名簿!$A:$E,5,FALSE))=TRUE,\"\",VLOOKUP(CONCATENATE($N$39,\"_\",M45),選手名簿!$A:$E,5,FALSE))","v":""},null,null,null,null,null,null,"得点者",{"$f":"IF(ISERROR(VLOOKUP(CONCATENATE($V$39,\"_\",W45),選手名簿!$A:$E,5,FALSE))=TRUE,\"\",VLOOKUP(CONCATENATE($V$39,\"_\",W45),選手名簿!$A:$E,5,FALSE))","v":""},null,null,null,null,null,null,null,{"$f":"IF(ISERROR(VLOOKUP(CONCATENATE($AD$39,\"_\",AC45),選手名簿!$A:$E,5,FALSE))=TRUE,\"\",VLOOKUP(CONCATENATE($AD$39,\"_\",AC45),選手名簿!$A:$E,5,FALSE))","v":""}]
[null,null,null,null,"得点者",{"$f":"IF(ISERROR(VLOOKUP(CONCATENATE($F$39,\"_\",G46),選手名簿!$A:$E,5,FALSE))=TRUE,\"\",VLOOKUP(CONCATENATE($F$39,\"_\",G46),選手名簿!$A:$E,5,FALSE))","v":""},null,null,null,null,null,null,null,{"$f":"IF(ISERROR(VLOOKUP(CONCATENATE($N$39,\"_\",M46),選手名簿!$A:$E,5,FALSE))=TRUE,\"\",VLOOKUP(CONCATENATE($N$39,\"_\",M46),選手名簿!$A:$E,5,FALSE))","v":""},null,null,null,null,null,null,"得点者",{"$f":"IF(ISERROR(VLOOKUP(CONCATENATE($V$39,\"_\",W46),選手名簿!$A:$E,5,FALSE))=TRUE,\"\",VLOOKUP(CONCATENATE($V$39,\"_\",W46),選手名簿!$A:$E,5,FALSE))","v":""},null,null,null,null,null,null,null,{"$f":"IF(ISERROR(VLOOKUP(CONCATENATE($AD$39,\"_\",AC46),選手名簿!$A:$E,5,FALSE))=TRUE,\"\",VLOOKUP(CONCATENATE($AD$39,\"_\",AC46),選手名簿!$A:$E,5,FALSE))","v":""}]
[null,null,null,null,"得点者",{"$f":"IF(ISERROR(VLOOKUP(CONCATENATE($F$39,\"_\",G47),選手名簿!$A:$E,5,FALSE))=TRUE,\"\",VLOOKUP(CONCATENATE($F$39,\"_\",G47),選手名簿!$A:$E,5,FALSE))","v":""},null,null,null,null,null,null,null,{"$f":"IF(ISERROR(VLOOKUP(CONCATENATE($N$39,\"_\",M47),選手名簿!$A:$E,5,FALSE))=TRUE,\"\",VLOOKUP(CONCATENATE($N$39,\"_\",M47),選手名簿!$A:$E,5,FALSE))","v":""},null,null,null,null,null,null,"得点者",{"$f":"IF(ISERROR(VLOOKUP(CONCATENATE($V$39,\"_\",W47),選手名簿!$A:$E,5,FALSE))=TRUE,\"\",VLOOKUP(CONCATENATE($V$39,\"_\",W47),選手名簿!$A:$E,5,FALSE))","v":""},null,null,null,null,null,null,null,{"$f":"IF(ISERROR(VLOOKUP(CONCATENATE($AD$39,\"_\",AC47),選手名簿!$A:$E,5,FALSE))=TRUE,\"\",VLOOKUP(CONCATENATE($AD$39,\"_\",AC47),選手名簿!$A:$E,5,FALSE))","v":""}]
[null,null,null,null,"得点者",{"$f":"IF(ISERROR(VLOOKUP(CONCATENATE($F$39,\"_\",G48),選手名簿!$A:$E,5,FALSE))=TRUE,\"\",VLOOKUP(CONCATENATE($F$39,\"_\",G48),選手名簿!$A:$E,5,FALSE))","v":""},null,null,null,null,null,null,null,{"$f":"IF(ISERROR(VLOOKUP(CONCATENATE($N$39,\"_\",M48),選手名簿!$A:$E,5,FALSE))=TRUE,\"\",VLOOKUP(CONCATENATE($N$39,\"_\",M48),選手名簿!$A:$E,5,FALSE))","v":""},null,null,null,null,null,null,"得点者",{"$f":"IF(ISERROR(VLOOKUP(CONCATENATE($V$39,\"_\",W48),選手名簿!$A:$E,5,FALSE))=TRUE,\"\",VLOOKUP(CONCATENATE($V$39,\"_\",W48),選手名簿!$A:$E,5,FALSE))","v":""},null,null,null,null,null,null,null,{"$f":"IF(ISERROR(VLOOKUP(CONCATENATE($AD$39,\"_\",AC48),選手名簿!$A:$E,5,FALSE))=TRUE,\"\",VLOOKUP(CONCATENATE($AD$39,\"_\",AC48),選手名簿!$A:$E,5,FALSE))","v":""}]
[null,null,null,null,"得点者",{"$f":"IF(ISERROR(VLOOKUP(CONCATENATE($F$39,\"_\",G49),選手名簿!$A:$E,5,FALSE))=TRUE,\"\",VLOOKUP(CONCATENATE($F$39,\"_\",G49),選手名簿!$A:$E,5,FALSE))","v":""},null,null,null,null,null,null,null,{"$f":"IF(ISERROR(VLOOKUP(CONCATENATE($N$39,\"_\",M49),選手名簿!$A:$E,5,FALSE))=TRUE,\"\",VLOOKUP(CONCATENATE($N$39,\"_\",M49),選手名簿!$A:$E,5,FALSE))","v":""},null,null,null,null,null,null,"得点者",{"$f":"IF(ISERROR(VLOOKUP(CONCATENATE($V$39,\"_\",W49),選手名簿!$A:$E,5,FALSE))=TRUE,\"\",VLOOKUP(CONCATENATE($V$39,\"_\",W49),選手名簿!$A:$E,5,FALSE))","v":""},null,null,null,null,null,null,null,{"$f":"IF(ISERROR(VLOOKUP(CONCATENATE($AD$39,\"_\",AC49),選手名簿!$A:$E,5,FALSE))=TRUE,\"\",VLOOKUP(CONCATENATE($AD$39,\"_\",AC49),選手名簿!$A:$E,5,FALSE))","v":""}]
[null,null,null,null,"得点者",{"$f":"IF(ISERROR(VLOOKUP(CONCATENATE($F$39,\"_\",G50),選手名簿!$A:$E,5,FALSE))=TRUE,\"\",VLOOKUP(CONCATENATE($F$39,\"_\",G50),選手名簿!$A:$E,5,FALSE))","v":""},null,null,null,null,null,null,null,{"$f":"IF(ISERROR(VLOOKUP(CONCATENATE($N$39,\"_\",M50),選手名簿!$A:$E,5,FALSE))=TRUE,\"\",VLOOKUP(CONCATENATE($N$39,\"_\",M50),選手名簿!$A:$E,5,FALSE))","v":""},null,null,null,null,null,null,"得点者",{"$f":"IF(ISERROR(VLOOKUP(CONCATENATE($V$39,\"_\",W50),選手名簿!$A:$E,5,FALSE))=TRUE,\"\",VLOOKUP(CONCATENATE($V$39,\"_\",W50),選手名簿!$A:$E,5,FALSE))","v":""},null,null,null,null,null,null,null,{"$f":"IF(ISERROR(VLOOKUP(CONCATENATE($AD$39,\"_\",AC50),選手名簿!$A:$E,5,FALSE))=TRUE,\"\",VLOOKUP(CONCATENATE($AD$39,\"_\",AC50),選手名簿!$A:$E,5,FALSE))","v":""}]
[null,null,null,null,"得点者",{"$f":"IF(ISERROR(VLOOKUP(CONCATENATE($F$39,\"_\",G51),選手名簿!$A:$E,5,FALSE))=TRUE,\"\",VLOOKUP(CONCATENATE($F$39,\"_\",G51),選手名簿!$A:$E,5,FALSE))","v":""},null,null,null,null,null,null,null,{"$f":"IF(ISERROR(VLOOKUP(CONCATENATE($N$39,\"_\",M51),選手名簿!$A:$E,5,FALSE))=TRUE,\"\",VLOOKUP(CONCATENATE($N$39,\"_\",M51),選手名簿!$A:$E,5,FALSE))","v":""},null,null,null,null,null,null,"得点者",{"$f":"IF(ISERROR(VLOOKUP(CONCATENATE($V$39,\"_\",W51),選手名簿!$A:$E,5,FALSE))=TRUE,\"\",VLOOKUP(CONCATENATE($V$39,\"_\",W51),選手名簿!$A:$E,5,FALSE))","v":""},null,null,null,null,null,null,null,{"$f":"IF(ISERROR(VLOOKUP(CONCATENATE($AD$39,\"_\",AC51),選手名簿!$A:$E,5,FALSE))=TRUE,\"\",VLOOKUP(CONCATENATE($AD$39,\"_\",AC51),選手名簿!$A:$E,5,FALSE))","v":""}]
[null,null,null,null,"得点者",{"$f":"IF(ISERROR(VLOOKUP(CONCATENATE($F$39,\"_\",G52),選手名簿!$A:$E,5,FALSE))=TRUE,\"\",VLOOKUP(CONCATENATE($F$39,\"_\",G52),選手名簿!$A:$E,5,FALSE))","v":""},null,null,null,null,null,null,null,{"$f":"IF(ISERROR(VLOOKUP(CONCATENATE($N$39,\"_\",M52),選手名簿!$A:$E,5,FALSE))=TRUE,\"\",VLOOKUP(CONCATENATE($N$39,\"_\",M52),選手名簿!$A:$E,5,FALSE))","v":""},null,null,null,null,null,null,"得点者",{"$f":"IF(ISERROR(VLOOKUP(CONCATENATE($V$39,\"_\",W52),選手名簿!$A:$E,5,FALSE))=TRUE,\"\",VLOOKUP(CONCATENATE($V$39,\"_\",W52),選手名簿!$A:$E,5,FALSE))","v":""},null,null,null,null,null,null,null,{"$f":"IF(ISERROR(VLOOKUP(CONCATENATE($AD$39,\"_\",AC52),選手名簿!$A:$E,5,FALSE))=TRUE,\"\",VLOOKUP(CONCATENATE($AD$39,\"_\",AC52),選手名簿!$A:$E,5,FALSE))","v":""}]
["番号","R003972443",null,null,null,{"$f":"IF(ISERROR(VLOOKUP(CONCATENATE($F$39,\"_\",G53),選手名簿!$A:$E,5,FALSE))=TRUE,\"\",VLOOKUP(CONCATENATE($F$39,\"_\",G53),選手名簿!$A:$E,5,FALSE))","v":""},null,null,null,null,null,null,null,{"$f":"IF(ISERROR(VLOOKUP(CONCATENATE($N$39,\"_\",M53),選手名簿!$A:$E,5,FALSE))=TRUE,\"\",VLOOKUP(CONCATENATE($N$39,\"_\",M53),選手名簿!$A:$E,5,FALSE))","v":""},null,null,"番号","R010090347",null,null,null,{"$f":"IF(ISERROR(VLOOKUP(CONCATENATE($V$39,\"_\",W53),選手名簿!$A:$E,5,FALSE))=TRUE,\"\",VLOOKUP(CONCATENATE($V$39,\"_\",W53),選手名簿!$A:$E,5,FALSE))","v":""},null,null,null,null,null,null,null,{"$f":"IF(ISERROR(VLOOKUP(CONCATENATE($AD$39,\"_\",AC53),選手名簿!$A:$E,5,FALSE))=TRUE,\"\",VLOOKUP(CONCATENATE($AD$39,\"_\",AC53),選手名簿!$A:$E,5,FALSE))","v":""}]
["R",{"$f":"IF(ISERROR(VLOOKUP(B53,審判員!$A:$C,2,FALSE))=TRUE,\"\",VLOOKUP(B53,審判員!$A:$C,2,FALSE))","v":"矢野　三千生"},null,{"$f":"IF(ISERROR(VLOOKUP(B53,審判員!$A:$C,3,FALSE))=TRUE,\"\",VLOOKUP(B53,審判員!$A:$C,3,FALSE))","v":"３級"},null,{"$f":"IF(ISERROR(VLOOKUP(CONCATENATE($F$39,\"_\",G54),選手名簿!$A:$E,5,FALSE))=TRUE,\"\",VLOOKUP(CONCATENATE($F$39,\"_\",G54),選手名簿!$A:$E,5,FALSE))","v":""},null,null,null,null,null,null,null,{"$f":"IF(ISERROR(VLOOKUP(CONCATENATE($N$39,\"_\",M54),選手名簿!$A:$E,5,FALSE))=TRUE,\"\",VLOOKUP(CONCATENATE($N$39,\"_\",M54),選手名簿!$A:$E,5,FALSE))","v":""},null,null,"R",{"$f":"IF(ISERROR(VLOOKUP(R53,審判員!$A:$C,2,FALSE))=TRUE,\"\",VLOOKUP(R53,審判員!$A:$C,2,FALSE))","v":"和田　行祐"},null,{"$f":"IF(ISERROR(VLOOKUP(R53,審判員!$A:$C,3,FALSE))=TRUE,\"\",VLOOKUP(R53,審判員!$A:$C,3,FALSE))","v":"３級"},null,{"$f":"IF(ISERROR(VLOOKUP(CONCATENATE($V$39,\"_\",W54),選手名簿!$A:$E,5,FALSE))=TRUE,\"\",VLOOKUP(CONCATENATE($V$39,\"_\",W54),選手名簿!$A:$E,5,FALSE))","v":""},null,null,null,null,null,null,null,{"$f":"IF(ISERROR(VLOOKUP(CONCATENATE($AD$39,\"_\",AC54),選手名簿!$A:$E,5,FALSE))=TRUE,\"\",VLOOKUP(CONCATENATE($AD$39,\"_\",AC54),選手名簿!$A:$E,5,FALSE))","v":""}]
["番号","R001264775",null,null,null,{"$f":"IF(ISERROR(VLOOKUP(CONCATENATE($F$39,\"_\",G55),選手名簿!$A:$E,5,FALSE))=TRUE,\"\",VLOOKUP(CONCATENATE($F$39,\"_\",G55),選手名簿!$A:$E,5,FALSE))","v":""},null,null,null,null,null,null,null,{"$f":"IF(ISERROR(VLOOKUP(CONCATENATE($N$39,\"_\",M55),選手名簿!$A:$E,5,FALSE))=TRUE,\"\",VLOOKUP(CONCATENATE($N$39,\"_\",M55),選手名簿!$A:$E,5,FALSE))","v":""},null,null,"番号","R010281856",null,null,null,{"$f":"IF(ISERROR(VLOOKUP(CONCATENATE($V$39,\"_\",W55),選手名簿!$A:$E,5,FALSE))=TRUE,\"\",VLOOKUP(CONCATENATE($V$39,\"_\",W55),選手名簿!$A:$E,5,FALSE))","v":""},null,null,null,null,null,null,null,{"$f":"IF(ISERROR(VLOOKUP(CONCATENATE($AD$39,\"_\",AC55),選手名簿!$A:$E,5,FALSE))=TRUE,\"\",VLOOKUP(CONCATENATE($AD$39,\"_\",AC55),選手名簿!$A:$E,5,FALSE))","v":""}]
["AR1:",{"$f":"IF(ISERROR(VLOOKUP(B55,審判員!$A:$C,2,FALSE))=TRUE,\"\",VLOOKUP(B55,審判員!$A:$C,2,FALSE))","v":"屋敷　伴幸"},null,{"$f":"IF(ISERROR(VLOOKUP(B55,審判員!$A:$C,3,FALSE))=TRUE,\"\",VLOOKUP(B55,審判員!$A:$C,3,FALSE))","v":"３級"},null,{"$f":"IF(ISERROR(VLOOKUP(CONCATENATE($F$39,\"_\",G56),選手名簿!$A:$E,5,FALSE))=TRUE,\"\",VLOOKUP(CONCATENATE($F$39,\"_\",G56),選手名簿!$A:$E,5,FALSE))","v":""},null,null,null,null,null,null,null,{"$f":"IF(ISERROR(VLOOKUP(CONCATENATE($N$39,\"_\",M56),選手名簿!$A:$E,5,FALSE))=TRUE,\"\",VLOOKUP(CONCATENATE($N$39,\"_\",M56),選手名簿!$A:$E,5,FALSE))","v":""},null,null,"AR1:",{"$f":"IF(ISERROR(VLOOKUP(R55,審判員!$A:$C,2,FALSE))=TRUE,\"\",VLOOKUP(R55,審判員!$A:$C,2,FALSE))","v":"如法寺　雅俊"},null,{"$f":"IF(ISERROR(VLOOKUP(R55,審判員!$A:$C,3,FALSE))=TRUE,\"\",VLOOKUP(R55,審判員!$A:$C,3,FALSE))","v":"３級"},null,{"$f":"IF(ISERROR(VLOOKUP(CONCATENATE($V$39,\"_\",W56),選手名簿!$A:$E,5,FALSE))=TRUE,\"\",VLOOKUP(CONCATENATE($V$39,\"_\",W56),選手名簿!$A:$E,5,FALSE))","v":""},null,null,null,null,null,null,null,{"$f":"IF(ISERROR(VLOOKUP(CONCATENATE($AD$39,\"_\",AC56),選手名簿!$A:$E,5,FALSE))=TRUE,\"\",VLOOKUP(CONCATENATE($AD$39,\"_\",AC56),選手名簿!$A:$E,5,FALSE))","v":""}]
["番号","R009670176",null,null,null,{"$f":"IF(ISERROR(VLOOKUP(CONCATENATE($F$39,\"_\",G57),選手名簿!$A:$E,5,FALSE))=TRUE,\"\",VLOOKUP(CONCATENATE($F$39,\"_\",G57),選手名簿!$A:$E,5,FALSE))","v":""},null,null,null,null,null,null,null,{"$f":"IF(ISERROR(VLOOKUP(CONCATENATE($N$39,\"_\",M57),選手名簿!$A:$E,5,FALSE))=TRUE,\"\",VLOOKUP(CONCATENATE($N$39,\"_\",M57),選手名簿!$A:$E,5,FALSE))","v":""},null,null,"番号","R006664864",null,null,null,{"$f":"IF(ISERROR(VLOOKUP(CONCATENATE($V$39,\"_\",W57),選手名簿!$A:$E,5,FALSE))=TRUE,\"\",VLOOKUP(CONCATENATE($V$39,\"_\",W57),選手名簿!$A:$E,5,FALSE))","v":""},null,null,null,null,null,null,null,{"$f":"IF(ISERROR(VLOOKUP(CONCATENATE($AD$39,\"_\",AC57),選手名簿!$A:$E,5,FALSE))=TRUE,\"\",VLOOKUP(CONCATENATE($AD$39,\"_\",AC57),選手名簿!$A:$E,5,FALSE))","v":""}]
["AR2:",{"$f":"IF(ISERROR(VLOOKUP(B57,審判員!$A:$C,2,FALSE))=TRUE,\"\",VLOOKUP(B57,審判員!$A:$C,2,FALSE))","v":"西村　竜司"},null,{"$f":"IF(ISERROR(VLOOKUP(B57,審判員!$A:$C,3,FALSE))=TRUE,\"\",VLOOKUP(B57,審判員!$A:$C,3,FALSE))","v":"３級"},null,{"$f":"IF(ISERROR(VLOOKUP(CONCATENATE($F$39,\"_\",G58),選手名簿!$A:$E,5,FALSE))=TRUE,\"\",VLOOKUP(CONCATENATE($F$39,\"_\",G58),選手名簿!$A:$E,5,FALSE))","v":""},null,null,null,null,null,null,null,{"$f":"IF(ISERROR(VLOOKUP(CONCATENATE($N$39,\"_\",M58),選手名簿!$A:$E,5,FALSE))=TRUE,\"\",VLOOKUP(CONCATENATE($N$39,\"_\",M58),選手名簿!$A:$E,5,FALSE))","v":""},null,null,"AR2:",{"$f":"IF(ISERROR(VLOOKUP(R57,審判員!$A:$C,2,FALSE))=TRUE,\"\",VLOOKUP(R57,審判員!$A:$C,2,FALSE))","v":"相良　章成"},null,{"$f":"IF(ISERROR(VLOOKUP(R57,審判員!$A:$C,3,FALSE))=TRUE,\"\",VLOOKUP(R57,審判員!$A:$C,3,FALSE))","v":"３級"},null,{"$f":"IF(ISERROR(VLOOKUP(CONCATENATE($V$39,\"_\",W58),選手名簿!$A:$E,5,FALSE))=TRUE,\"\",VLOOKUP(CONCATENATE($V$39,\"_\",W58),選手名簿!$A:$E,5,FALSE))","v":""},null,null,null,null,null,null,null,{"$f":"IF(ISERROR(VLOOKUP(CONCATENATE($AD$39,\"_\",AC58),選手名簿!$A:$E,5,FALSE))=TRUE,\"\",VLOOKUP(CONCATENATE($AD$39,\"_\",AC58),選手名簿!$A:$E,5,FALSE))","v":""}]
["番号","R010090347",null,null,null,{"$f":"IF(ISERROR(VLOOKUP(CONCATENATE($F$39,\"_\",G59),選手名簿!$A:$E,5,FALSE))=TRUE,\"\",VLOOKUP(CONCATENATE($F$39,\"_\",G59),選手名簿!$A:$E,5,FALSE))","v":""},null,null,null,null,null,null,null,{"$f":"IF(ISERROR(VLOOKUP(CONCATENATE($N$39,\"_\",M59),選手名簿!$A:$E,5,FALSE))=TRUE,\"\",VLOOKUP(CONCATENATE($N$39,\"_\",M59),選手名簿!$A:$E,5,FALSE))","v":""},null,null,"番号","R001256402",null,null,null,{"$f":"IF(ISERROR(VLOOKUP(CONCATENATE($V$39,\"_\",W59),選手名簿!$A:$E,5,FALSE))=TRUE,\"\",VLOOKUP(CONCATENATE($V$39,\"_\",W59),選手名簿!$A:$E,5,FALSE))","v":""},null,null,null,null,null,null,null,{"$f":"IF(ISERROR(VLOOKUP(CONCATENATE($AD$39,\"_\",AC59),選手名簿!$A:$E,5,FALSE))=TRUE,\"\",VLOOKUP(CONCATENATE($AD$39,\"_\",AC59),選手名簿!$A:$E,5,FALSE))","v":""}]
["4th:",{"$f":"IF(ISERROR(VLOOKUP(B59,審判員!$A:$C,2,FALSE))=TRUE,\"\",VLOOKUP(B59,審判員!$A:$C,2,FALSE))","v":"和田　行祐"},null,{"$f":"IF(ISERROR(VLOOKUP(B59,審判員!$A:$C,3,FALSE))=TRUE,\"\",VLOOKUP(B59,審判員!$A:$C,3,FALSE))","v":"３級"},null,{"$f":"IF(ISERROR(VLOOKUP(CONCATENATE($F$39,\"_\",G60),選手名簿!$A:$E,5,FALSE))=TRUE,\"\",VLOOKUP(CONCATENATE($F$39,\"_\",G60),選手名簿!$A:$E,5,FALSE))","v":""},null,null,null,null,null,null,null,{"$f":"IF(ISERROR(VLOOKUP(CONCATENATE($N$39,\"_\",M60),選手名簿!$A:$E,5,FALSE))=TRUE,\"\",VLOOKUP(CONCATENATE($N$39,\"_\",M60),選手名簿!$A:$E,5,FALSE))","v":""},null,null,"4th:",{"$f":"IF(ISERROR(VLOOKUP(R59,審判員!$A:$C,2,FALSE))=TRUE,\"\",VLOOKUP(R59,審判員!$A:$C,2,FALSE))","v":"小石川　悟"},null,{"$f":"IF(ISERROR(VLOOKUP(R59,審判員!$A:$C,3,FALSE))=TRUE,\"\",VLOOKUP(R59,審判員!$A:$C,3,FALSE))","v":"３級"},null,{"$f":"IF(ISERROR(VLOOKUP(CONCATENATE($V$39,\"_\",W60),選手名簿!$A:$E,5,FALSE))=TRUE,\"\",VLOOKUP(CONCATENATE($V$39,\"_\",W60),選手名簿!$A:$E,5,FALSE))","v":""},null,null,null,null,null,null,null,{"$f":"IF(ISERROR(VLOOKUP(CONCATENATE($AD$39,\"_\",AC60),選手名簿!$A:$E,5,FALSE))=TRUE,\"\",VLOOKUP(CONCATENATE($AD$39,\"_\",AC60),選手名簿!$A:$E,5,FALSE))","v":""}]
[]
[]
[]
[]
[]
[]
[]
["MC","末永　成久",null,null,{"$f":"予選リーグ!B29","v":"14:10:00"},{"$f":"F7","v":"ＦＣ　ＵＮＩＴＥ"},{"$f":"SUM(I68:I69)","v":1},"（",1,"前半",3,"）",{"$f":"SUM(K68:K69)","v":7},{"$f":"F5","v":"スマイス・セレソン"},null,null,"MC","諌本　秀樹",null,null,{"$f":"予選リーグ!B31","v":"15:00:00"},{"$f":"V7","v":"大分トリニータタートルズ　キング"},{"$f":"SUM(Y68:Y69)","v":2},"（",1,"前半",0,"）",{"$f":"SUM(AA68:AA69)","v":1},{"$f":"V5","v":"如水ジュニアサッカークラブ"}]
["Welfare\nOfficer",null,null,null,null,null,null,null,0,"後半",4,null,null,null,null,null,"Welfare\nOfficer",null,null,null,null,null,null,null,1,"後半",1]
["記録","諌本　秀樹",null,null,null,null,null,null,null,"PK",null,null,null,null,null,null,"記録","末永　成久",null,null,null,null,null,null,null,"PK"]
["＜Referee＞",null,null,null,"警告/退場\n選択肢より","氏名","番号","分","内容\n選択肢より",null,"内容\n選択肢より","分","番号","氏名","警告/退場\n選択肢より",null,"＜Referee＞",null,null,null,"警告/退場\n選択肢より","氏名","番号","分","内容\n選択肢より",null,"内容\n選択肢より","分","番号","氏名","警告/退場\n選択肢より"]
[null,null,null,null,"得点者",{"$f":"IF(ISERROR(VLOOKUP(CONCATENATE($F$68,\"_\",G72),選手名簿!$A:$E,5,FALSE))=TRUE,\"\",VLOOKUP(CONCATENATE($F$68,\"_\",G72),選手名簿!$A:$E,5,FALSE))","v":""},null,null,null,null,null,null,null,{"$f":"IF(ISERROR(VLOOKUP(CONCATENATE($N$68,\"_\",M72),選手名簿!$A:$E,5,FALSE))=TRUE,\"\",VLOOKUP(CONCATENATE($N$68,\"_\",M72),選手名簿!$A:$E,5,FALSE))","v":""},null,null,null,null,null,null,"得点者",{"$f":"IF(ISERROR(VLOOKUP(CONCATENATE($V$68,\"_\",W72),選手名簿!$A:$E,5,FALSE))=TRUE,\"\",VLOOKUP(CONCATENATE($V$68,\"_\",W72),選手名簿!$A:$E,5,FALSE))","v":""},null,null,null,null,null,null,null,{"$f":"IF(ISERROR(VLOOKUP(CONCATENATE($AD$68,\"_\",AC72),選手名簿!$A:$E,5,FALSE))=TRUE,\"\",VLOOKUP(CONCATENATE($AD$68,\"_\",AC72),選手名簿!$A:$E,5,FALSE))","v":""}]
[null,null,null,null,"得点者",{"$f":"IF(ISERROR(VLOOKUP(CONCATENATE($F$68,\"_\",G73),選手名簿!$A:$E,5,FALSE))=TRUE,\"\",VLOOKUP(CONCATENATE($F$68,\"_\",G73),選手名簿!$A:$E,5,FALSE))","v":""},null,null,null,null,null,null,null,{"$f":"IF(ISERROR(VLOOKUP(CONCATENATE($N$68,\"_\",M73),選手名簿!$A:$E,5,FALSE))=TRUE,\"\",VLOOKUP(CONCATENATE($N$68,\"_\",M73),選手名簿!$A:$E,5,FALSE))","v":""},null,null,null,null,null,null,"得点者",{"$f":"IF(ISERROR(VLOOKUP(CONCATENATE($V$68,\"_\",W73),選手名簿!$A:$E,5,FALSE))=TRUE,\"\",VLOOKUP(CONCATENATE($V$68,\"_\",W73),選手名簿!$A:$E,5,FALSE))","v":""},null,null,null,null,null,null,null,{"$f":"IF(ISERROR(VLOOKUP(CONCATENATE($AD$68,\"_\",AC73),選手名簿!$A:$E,5,FALSE))=TRUE,\"\",VLOOKUP(CONCATENATE($AD$68,\"_\",AC73),選手名簿!$A:$E,5,FALSE))","v":""}]
[null,null,null,null,"得点者",{"$f":"IF(ISERROR(VLOOKUP(CONCATENATE($F$68,\"_\",G74),選手名簿!$A:$E,5,FALSE))=TRUE,\"\",VLOOKUP(CONCATENATE($F$68,\"_\",G74),選手名簿!$A:$E,5,FALSE))","v":""},null,null,null,null,null,null,null,{"$f":"IF(ISERROR(VLOOKUP(CONCATENATE($N$68,\"_\",M74),選手名簿!$A:$E,5,FALSE))=TRUE,\"\",VLOOKUP(CONCATENATE($N$68,\"_\",M74),選手名簿!$A:$E,5,FALSE))","v":""},null,null,null,null,null,null,"得点者",{"$f":"IF(ISERROR(VLOOKUP(CONCATENATE($V$68,\"_\",W74),選手名簿!$A:$E,5,FALSE))=TRUE,\"\",VLOOKUP(CONCATENATE($V$68,\"_\",W74),選手名簿!$A:$E,5,FALSE))","v":""},null,null,null,null,null,null,null,{"$f":"IF(ISERROR(VLOOKUP(CONCATENATE($AD$68,\"_\",AC74),選手名簿!$A:$E,5,FALSE))=TRUE,\"\",VLOOKUP(CONCATENATE($AD$68,\"_\",AC74),選手名簿!$A:$E,5,FALSE))","v":""}]
[null,null,null,null,"得点者",{"$f":"IF(ISERROR(VLOOKUP(CONCATENATE($F$68,\"_\",G75),選手名簿!$A:$E,5,FALSE))=TRUE,\"\",VLOOKUP(CONCATENATE($F$68,\"_\",G75),選手名簿!$A:$E,5,FALSE))","v":""},null,null,null,null,null,null,null,{"$f":"IF(ISERROR(VLOOKUP(CONCATENATE($N$68,\"_\",M75),選手名簿!$A:$E,5,FALSE))=TRUE,\"\",VLOOKUP(CONCATENATE($N$68,\"_\",M75),選手名簿!$A:$E,5,FALSE))","v":""},null,null,null,null,null,null,"得点者",{"$f":"IF(ISERROR(VLOOKUP(CONCATENATE($V$68,\"_\",W75),選手名簿!$A:$E,5,FALSE))=TRUE,\"\",VLOOKUP(CONCATENATE($V$68,\"_\",W75),選手名簿!$A:$E,5,FALSE))","v":""},null,null,null,null,null,null,null,{"$f":"IF(ISERROR(VLOOKUP(CONCATENATE($AD$68,\"_\",AC75),選手名簿!$A:$E,5,FALSE))=TRUE,\"\",VLOOKUP(CONCATENATE($AD$68,\"_\",AC75),選手名簿!$A:$E,5,FALSE))","v":""}]
[null,null,null,null,"得点者",{"$f":"IF(ISERROR(VLOOKUP(CONCATENATE($F$68,\"_\",G76),選手名簿!$A:$E,5,FALSE))=TRUE,\"\",VLOOKUP(CONCATENATE($F$68,\"_\",G76),選手名簿!$A:$E,5,FALSE))","v":""},null,null,null,null,null,null,null,{"$f":"IF(ISERROR(VLOOKUP(CONCATENATE($N$68,\"_\",M76),選手名簿!$A:$E,5,FALSE))=TRUE,\"\",VLOOKUP(CONCATENATE($N$68,\"_\",M76),選手名簿!$A:$E,5,FALSE))","v":""},null,null,null,null,null,null,"得点者",{"$f":"IF(ISERROR(VLOOKUP(CONCATENATE($V$68,\"_\",W76),選手名簿!$A:$E,5,FALSE))=TRUE,\"\",VLOOKUP(CONCATENATE($V$68,\"_\",W76),選手名簿!$A:$E,5,FALSE))","v":""},null,null,null,null,null,null,null,{"$f":"IF(ISERROR(VLOOKUP(CONCATENATE($AD$68,\"_\",AC76),選手名簿!$A:$E,5,FALSE))=TRUE,\"\",VLOOKUP(CONCATENATE($AD$68,\"_\",AC76),選手名簿!$A:$E,5,FALSE))","v":""}]
[null,null,null,null,"得点者",{"$f":"IF(ISERROR(VLOOKUP(CONCATENATE($F$68,\"_\",G77),選手名簿!$A:$E,5,FALSE))=TRUE,\"\",VLOOKUP(CONCATENATE($F$68,\"_\",G77),選手名簿!$A:$E,5,FALSE))","v":""},null,null,null,null,null,null,null,{"$f":"IF(ISERROR(VLOOKUP(CONCATENATE($N$68,\"_\",M77),選手名簿!$A:$E,5,FALSE))=TRUE,\"\",VLOOKUP(CONCATENATE($N$68,\"_\",M77),選手名簿!$A:$E,5,FALSE))","v":""},null,null,null,null,null,null,"得点者",{"$f":"IF(ISERROR(VLOOKUP(CONCATENATE($V$68,\"_\",W77),選手名簿!$A:$E,5,FALSE))=TRUE,\"\",VLOOKUP(CONCATENATE($V$68,\"_\",W77),選手名簿!$A:$E,5,FALSE))","v":""},null,null,null,null,null,null,null,{"$f":"IF(ISERROR(VLOOKUP(CONCATENATE($AD$68,\"_\",AC77),選手名簿!$A:$E,5,FALSE))=TRUE,\"\",VLOOKUP(CONCATENATE($AD$68,\"_\",AC77),選手名簿!$A:$E,5,FALSE))","v":""}]
[null,null,null,null,"得点者",{"$f":"IF(ISERROR(VLOOKUP(CONCATENATE($F$68,\"_\",G78),選手名簿!$A:$E,5,FALSE))=TRUE,\"\",VLOOKUP(CONCATENATE($F$68,\"_\",G78),選手名簿!$A:$E,5,FALSE))","v":""},null,null,null,null,null,null,null,{"$f":"IF(ISERROR(VLOOKUP(CONCATENATE($N$68,\"_\",M78),選手名簿!$A:$E,5,FALSE))=TRUE,\"\",VLOOKUP(CONCATENATE($N$68,\"_\",M78),選手名簿!$A:$E,5,FALSE))","v":""},null,null,null,null,null,null,"得点者",{"$f":"IF(ISERROR(VLOOKUP(CONCATENATE($V$68,\"_\",W78),選手名簿!$A:$E,5,FALSE))=TRUE,\"\",VLOOKUP(CONCATENATE($V$68,\"_\",W78),選手名簿!$A:$E,5,FALSE))","v":""},null,null,null,null,null,null,null,{"$f":"IF(ISERROR(VLOOKUP(CONCATENATE($AD$68,\"_\",AC78),選手名簿!$A:$E,5,FALSE))=TRUE,\"\",VLOOKUP(CONCATENATE($AD$68,\"_\",AC78),選手名簿!$A:$E,5,FALSE))","v":""}]
[null,null,null,null,"得点者",{"$f":"IF(ISERROR(VLOOKUP(CONCATENATE($F$68,\"_\",G79),選手名簿!$A:$E,5,FALSE))=TRUE,\"\",VLOOKUP(CONCATENATE($F$68,\"_\",G79),選手名簿!$A:$E,5,FALSE))","v":""},null,null,null,null,null,null,null,{"$f":"IF(ISERROR(VLOOKUP(CONCATENATE($N$68,\"_\",M79),選手名簿!$A:$E,5,FALSE))=TRUE,\"\",VLOOKUP(CONCATENATE($N$68,\"_\",M79),選手名簿!$A:$E,5,FALSE))","v":""},null,null,null,null,null,null,"得点者",{"$f":"IF(ISERROR(VLOOKUP(CONCATENATE($V$68,\"_\",W79),選手名簿!$A:$E,5,FALSE))=TRUE,\"\",VLOOKUP(CONCATENATE($V$68,\"_\",W79),選手名簿!$A:$E,5,FALSE))","v":""},null,null,null,null,null,null,null,{"$f":"IF(ISERROR(VLOOKUP(CONCATENATE($AD$68,\"_\",AC79),選手名簿!$A:$E,5,FALSE))=TRUE,\"\",VLOOKUP(CONCATENATE($AD$68,\"_\",AC79),選手名簿!$A:$E,5,FALSE))","v":""}]
[null,null,null,null,"得点者",{"$f":"IF(ISERROR(VLOOKUP(CONCATENATE($F$68,\"_\",G80),選手名簿!$A:$E,5,FALSE))=TRUE,\"\",VLOOKUP(CONCATENATE($F$68,\"_\",G80),選手名簿!$A:$E,5,FALSE))","v":""},null,null,null,null,null,null,null,{"$f":"IF(ISERROR(VLOOKUP(CONCATENATE($N$68,\"_\",M80),選手名簿!$A:$E,5,FALSE))=TRUE,\"\",VLOOKUP(CONCATENATE($N$68,\"_\",M80),選手名簿!$A:$E,5,FALSE))","v":""},null,null,null,null,null,null,"得点者",{"$f":"IF(ISERROR(VLOOKUP(CONCATENATE($V$68,\"_\",W80),選手名簿!$A:$E,5,FALSE))=TRUE,\"\",VLOOKUP(CONCATENATE($V$68,\"_\",W80),選手名簿!$A:$E,5,FALSE))","v":""},null,null,null,null,null,null,null,{"$f":"IF(ISERROR(VLOOKUP(CONCATENATE($AD$68,\"_\",AC80),選手名簿!$A:$E,5,FALSE))=TRUE,\"\",VLOOKUP(CONCATENATE($AD$68,\"_\",AC80),選手名簿!$A:$E,5,FALSE))","v":""}]
[null,null,null,null,"得点者",{"$f":"IF(ISERROR(VLOOKUP(CONCATENATE($F$68,\"_\",G81),選手名簿!$A:$E,5,FALSE))=TRUE,\"\",VLOOKUP(CONCATENATE($F$68,\"_\",G81),選手名簿!$A:$E,5,FALSE))","v":""},null,null,null,null,null,null,null,{"$f":"IF(ISERROR(VLOOKUP(CONCATENATE($N$68,\"_\",M81),選手名簿!$A:$E,5,FALSE))=TRUE,\"\",VLOOKUP(CONCATENATE($N$68,\"_\",M81),選手名簿!$A:$E,5,FALSE))","v":""},null,null,null,null,null,null,"得点者",{"$f":"IF(ISERROR(VLOOKUP(CONCATENATE($V$68,\"_\",W81),選手名簿!$A:$E,5,FALSE))=TRUE,\"\",VLOOKUP(CONCATENATE($V$68,\"_\",W81),選手名簿!$A:$E,5,FALSE))","v":""},null,null,null,null,null,null,null,{"$f":"IF(ISERROR(VLOOKUP(CONCATENATE($AD$68,\"_\",AC81),選手名簿!$A:$E,5,FALSE))=TRUE,\"\",VLOOKUP(CONCATENATE($AD$68,\"_\",AC81),選手名簿!$A:$E,5,FALSE))","v":""}]
["番号","R001256402",null,null,null,{"$f":"IF(ISERROR(VLOOKUP(CONCATENATE($F$68,\"_\",G82),選手名簿!$A:$E,5,FALSE))=TRUE,\"\",VLOOKUP(CONCATENATE($F$68,\"_\",G82),選手名簿!$A:$E,5,FALSE))","v":""},null,null,null,null,null,null,null,{"$f":"IF(ISERROR(VLOOKUP(CONCATENATE($N$68,\"_\",M82),選手名簿!$A:$E,5,FALSE))=TRUE,\"\",VLOOKUP(CONCATENATE($N$68,\"_\",M82),選手名簿!$A:$E,5,FALSE))","v":""},null,null,"番号","R003972443",null,null,null,{"$f":"IF(ISERROR(VLOOKUP(CONCATENATE($V$68,\"_\",W82),選手名簿!$A:$E,5,FALSE))=TRUE,\"\",VLOOKUP(CONCATENATE($V$68,\"_\",W82),選手名簿!$A:$E,5,FALSE))","v":""},null,null,null,null,null,null,null,{"$f":"IF(ISERROR(VLOOKUP(CONCATENATE($AD$68,\"_\",AC82),選手名簿!$A:$E,5,FALSE))=TRUE,\"\",VLOOKUP(CONCATENATE($AD$68,\"_\",AC82),選手名簿!$A:$E,5,FALSE))","v":""}]
["R",{"$f":"IF(ISERROR(VLOOKUP(B82,審判員!$A:$C,2,FALSE))=TRUE,\"\",VLOOKUP(B82,審判員!$A:$C,2,FALSE))","v":"小石川　悟"},null,{"$f":"IF(ISERROR(VLOOKUP(B82,審判員!$A:$C,3,FALSE))=TRUE,\"\",VLOOKUP(B82,審判員!$A:$C,3,FALSE))","v":"３級"},null,{"$f":"IF(ISERROR(VLOOKUP(CONCATENATE($F$68,\"_\",G83),選手名簿!$A:$E,5,FALSE))=TRUE,\"\",VLOOKUP(CONCATENATE($F$68,\"_\",G83),選手名簿!$A:$E,5,FALSE))","v":""},null,null,null,null,null,null,null,{"$f":"IF(ISERROR(VLOOKUP(CONCATENATE($N$68,\"_\",M83),選手名簿!$A:$E,5,FALSE))=TRUE,\"\",VLOOKUP(CONCATENATE($N$68,\"_\",M83),選手名簿!$A:$E,5,FALSE))","v":""},null,null,"R",{"$f":"IF(ISERROR(VLOOKUP(R82,審判員!$A:$C,2,FALSE))=TRUE,\"\",VLOOKUP(R82,審判員!$A:$C,2,FALSE))","v":"矢野　三千生"},null,{"$f":"IF(ISERROR(VLOOKUP(R82,審判員!$A:$C,3,FALSE))=TRUE,\"\",VLOOKUP(R82,審判員!$A:$C,3,FALSE))","v":"３級"},null,{"$f":"IF(ISERROR(VLOOKUP(CONCATENATE($V$68,\"_\",W83),選手名簿!$A:$E,5,FALSE))=TRUE,\"\",VLOOKUP(CONCATENATE($V$68,\"_\",W83),選手名簿!$A:$E,5,FALSE))","v":""},null,null,null,null,null,null,null,{"$f":"IF(ISERROR(VLOOKUP(CONCATENATE($AD$68,\"_\",AC83),選手名簿!$A:$E,5,FALSE))=TRUE,\"\",VLOOKUP(CONCATENATE($AD$68,\"_\",AC83),選手名簿!$A:$E,5,FALSE))","v":""}]
["番号","R009670176",null,null,null,{"$f":"IF(ISERROR(VLOOKUP(CONCATENATE($F$68,\"_\",G84),選手名簿!$A:$E,5,FALSE))=TRUE,\"\",VLOOKUP(CONCATENATE($F$68,\"_\",G84),選手名簿!$A:$E,5,FALSE))","v":""},null,null,null,null,null,null,null,{"$f":"IF(ISERROR(VLOOKUP(CONCATENATE($N$68,\"_\",M84),選手名簿!$A:$E,5,FALSE))=TRUE,\"\",VLOOKUP(CONCATENATE($N$68,\"_\",M84),選手名簿!$A:$E,5,FALSE))","v":""},null,null,"番号","R006664864",null,null,null,{"$f":"IF(ISERROR(VLOOKUP(CONCATENATE($V$68,\"_\",W84),選手名簿!$A:$E,5,FALSE))=TRUE,\"\",VLOOKUP(CONCATENATE($V$68,\"_\",W84),選手名簿!$A:$E,5,FALSE))","v":""},null,null,null,null,null,null,null,{"$f":"IF(ISERROR(VLOOKUP(CONCATENATE($AD$68,\"_\",AC84),選手名簿!$A:$E,5,FALSE))=TRUE,\"\",VLOOKUP(CONCATENATE($AD$68,\"_\",AC84),選手名簿!$A:$E,5,FALSE))","v":""}]
["AR1:",{"$f":"IF(ISERROR(VLOOKUP(B84,審判員!$A:$C,2,FALSE))=TRUE,\"\",VLOOKUP(B84,審判員!$A:$C,2,FALSE))","v":"西村　竜司"},null,{"$f":"IF(ISERROR(VLOOKUP(B84,審判員!$A:$C,3,FALSE))=TRUE,\"\",VLOOKUP(B84,審判員!$A:$C,3,FALSE))","v":"３級"},null,{"$f":"IF(ISERROR(VLOOKUP(CONCATENATE($F$68,\"_\",G85),選手名簿!$A:$E,5,FALSE))=TRUE,\"\",VLOOKUP(CONCATENATE($F$68,\"_\",G85),選手名簿!$A:$E,5,FALSE))","v":""},null,null,null,null,null,null,null,{"$f":"IF(ISERROR(VLOOKUP(CONCATENATE($N$68,\"_\",M85),選手名簿!$A:$E,5,FALSE))=TRUE,\"\",VLOOKUP(CONCATENATE($N$68,\"_\",M85),選手名簿!$A:$E,5,FALSE))","v":""},null,null,"AR1:",{"$f":"IF(ISERROR(VLOOKUP(R84,審判員!$A:$C,2,FALSE))=TRUE,\"\",VLOOKUP(R84,審判員!$A:$C,2,FALSE))","v":"相良　章成"},null,{"$f":"IF(ISERROR(VLOOKUP(R84,審判員!$A:$C,3,FALSE))=TRUE,\"\",VLOOKUP(R84,審判員!$A:$C,3,FALSE))","v":"３級"},null,{"$f":"IF(ISERROR(VLOOKUP(CONCATENATE($V$68,\"_\",W85),選手名簿!$A:$E,5,FALSE))=TRUE,\"\",VLOOKUP(CONCATENATE($V$68,\"_\",W85),選手名簿!$A:$E,5,FALSE))","v":""},null,null,null,null,null,null,null,{"$f":"IF(ISERROR(VLOOKUP(CONCATENATE($AD$68,\"_\",AC85),選手名簿!$A:$E,5,FALSE))=TRUE,\"\",VLOOKUP(CONCATENATE($AD$68,\"_\",AC85),選手名簿!$A:$E,5,FALSE))","v":""}]
["番号","R009581234",null,null,null,{"$f":"IF(ISERROR(VLOOKUP(CONCATENATE($F$68,\"_\",G86),選手名簿!$A:$E,5,FALSE))=TRUE,\"\",VLOOKUP(CONCATENATE($F$68,\"_\",G86),選手名簿!$A:$E,5,FALSE))","v":""},null,null,null,null,null,null,null,{"$f":"IF(ISERROR(VLOOKUP(CONCATENATE($N$68,\"_\",M86),選手名簿!$A:$E,5,FALSE))=TRUE,\"\",VLOOKUP(CONCATENATE($N$68,\"_\",M86),選手名簿!$A:$E,5,FALSE))","v":""},null,null,"番号","R010465594",null,null,null,{"$f":"IF(ISERROR(VLOOKUP(CONCATENATE($V$68,\"_\",W86),選手名簿!$A:$E,5,FALSE))=TRUE,\"\",VLOOKUP(CONCATENATE($V$68,\"_\",W86),選手名簿!$A:$E,5,FALSE))","v":""},null,null,null,null,null,null,null,{"$f":"IF(ISERROR(VLOOKUP(CONCATENATE($AD$68,\"_\",AC86),選手名簿!$A:$E,5,FALSE))=TRUE,\"\",VLOOKUP(CONCATENATE($AD$68,\"_\",AC86),選手名簿!$A:$E,5,FALSE))","v":""}]
["AR2:",{"$f":"IF(ISERROR(VLOOKUP(B86,審判員!$A:$C,2,FALSE))=TRUE,\"\",VLOOKUP(B86,審判員!$A:$C,2,FALSE))","v":"山本　翔平"},null,{"$f":"IF(ISERROR(VLOOKUP(B86,審判員!$A:$C,3,FALSE))=TRUE,\"\",VLOOKUP(B86,審判員!$A:$C,3,FALSE))","v":"３級"},null,{"$f":"IF(ISERROR(VLOOKUP(CONCATENATE($F$68,\"_\",G87),選手名簿!$A:$E,5,FALSE))=TRUE,\"\",VLOOKUP(CONCATENATE($F$68,\"_\",G87),選手名簿!$A:$E,5,FALSE))","v":""},null,null,null,null,null,null,null,{"$f":"IF(ISERROR(VLOOKUP(CONCATENATE($N$68,\"_\",M87),選手名簿!$A:$E,5,FALSE))=TRUE,\"\",VLOOKUP(CONCATENATE($N$68,\"_\",M87),選手名簿!$A:$E,5,FALSE))","v":""},null,null,"AR2:",{"$f":"IF(ISERROR(VLOOKUP(R86,審判員!$A:$C,2,FALSE))=TRUE,\"\",VLOOKUP(R86,審判員!$A:$C,2,FALSE))","v":"佐藤　湧大"},null,{"$f":"IF(ISERROR(VLOOKUP(R86,審判員!$A:$C,3,FALSE))=TRUE,\"\",VLOOKUP(R86,審判員!$A:$C,3,FALSE))","v":"３級"},null,{"$f":"IF(ISERROR(VLOOKUP(CONCATENATE($V$68,\"_\",W87),選手名簿!$A:$E,5,FALSE))=TRUE,\"\",VLOOKUP(CONCATENATE($V$68,\"_\",W87),選手名簿!$A:$E,5,FALSE))","v":""},null,null,null,null,null,null,null,{"$f":"IF(ISERROR(VLOOKUP(CONCATENATE($AD$68,\"_\",AC87),選手名簿!$A:$E,5,FALSE))=TRUE,\"\",VLOOKUP(CONCATENATE($AD$68,\"_\",AC87),選手名簿!$A:$E,5,FALSE))","v":""}]
["番号","R003972443",null,null,null,{"$f":"IF(ISERROR(VLOOKUP(CONCATENATE($F$68,\"_\",G88),選手名簿!$A:$E,5,FALSE))=TRUE,\"\",VLOOKUP(CONCATENATE($F$68,\"_\",G88),選手名簿!$A:$E,5,FALSE))","v":""},null,null,null,null,null,null,null,{"$f":"IF(ISERROR(VLOOKUP(CONCATENATE($N$68,\"_\",M88),選手名簿!$A:$E,5,FALSE))=TRUE,\"\",VLOOKUP(CONCATENATE($N$68,\"_\",M88),選手名簿!$A:$E,5,FALSE))","v":""},null,null,"番号","R010090347",null,null,null,{"$f":"IF(ISERROR(VLOOKUP(CONCATENATE($V$68,\"_\",W88),選手名簿!$A:$E,5,FALSE))=TRUE,\"\",VLOOKUP(CONCATENATE($V$68,\"_\",W88),選手名簿!$A:$E,5,FALSE))","v":""},null,null,null,null,null,null,null,{"$f":"IF(ISERROR(VLOOKUP(CONCATENATE($AD$68,\"_\",AC88),選手名簿!$A:$E,5,FALSE))=TRUE,\"\",VLOOKUP(CONCATENATE($AD$68,\"_\",AC88),選手名簿!$A:$E,5,FALSE))","v":""}]
["4th:",{"$f":"IF(ISERROR(VLOOKUP(B88,審判員!$A:$C,2,FALSE))=TRUE,\"\",VLOOKUP(B88,審判員!$A:$C,2,FALSE))","v":"矢野　三千生"},null,{"$f":"IF(ISERROR(VLOOKUP(B88,審判員!$A:$C,3,FALSE))=TRUE,\"\",VLOOKUP(B88,審判員!$A:$C,3,FALSE))","v":"３級"},null,{"$f":"IF(ISERROR(VLOOKUP(CONCATENATE($F$68,\"_\",G89),選手名簿!$A:$E,5,FALSE))=TRUE,\"\",VLOOKUP(CONCATENATE($F$68,\"_\",G89),選手名簿!$A:$E,5,FALSE))","v":""},null,null,null,null,null,null,null,{"$f":"IF(ISERROR(VLOOKUP(CONCATENATE($N$68,\"_\",M89),選手名簿!$A:$E,5,FALSE))=TRUE,\"\",VLOOKUP(CONCATENATE($N$68,\"_\",M89),選手名簿!$A:$E,5,FALSE))","v":""},null,null,"4th:",{"$f":"IF(ISERROR(VLOOKUP(R88,審判員!$A:$C,2,FALSE))=TRUE,\"\",VLOOKUP(R88,審判員!$A:$C,2,FALSE))","v":"和田　行祐"},null,{"$f":"IF(ISERROR(VLOOKUP(R88,審判員!$A:$C,3,FALSE))=TRUE,\"\",VLOOKUP(R88,審判員!$A:$C,3,FALSE))","v":"３級"},null,{"$f":"IF(ISERROR(VLOOKUP(CONCATENATE($V$68,\"_\",W89),選手名簿!$A:$E,5,FALSE))=TRUE,\"\",VLOOKUP(CONCATENATE($V$68,\"_\",W89),選手名簿!$A:$E,5,FALSE))","v":""},null,null,null,null,null,null,null,{"$f":"IF(ISERROR(VLOOKUP(CONCATENATE($AD$68,\"_\",AC89),選手名簿!$A:$E,5,FALSE))=TRUE,\"\",VLOOKUP(CONCATENATE($AD$68,\"_\",AC89),選手名簿!$A:$E,5,FALSE))","v":""}]

{"sheet":"決勝トーナメント","index":14,"n_rows":31,"n_cols":32,"rows_kept":31,"cut":false,"hidden":false,"merged":[[18,21,19,22],[18,25,19,26],[20,27,21,28],[20,31,21,32],[20,21,21,22],[20,25,21,26],[22,27,23,28],[22,31,23,32],[22,21,23,22],[22,25,23,26],[26,27,27,28],[26,31,27,32],[28,27,29,28],[28,31,29,32],[30,18,31,18],[30,21,31,32],[24,21,25,32],[2,21,3,26],[2,27,3,32],[26,29,29,30],[20,29,23,30],[20,23,23,24],[16,29,19,30],[16,23,19,24],[12,29,15,30],[12,23,15,24],[8,23,11,24],[8,29,11,30],[8,21,9,22],[8,25,9,26],[8,27,9,28],[8,31,9,32],[10,31,11,32],[10,27,11,28],[10,25,11,26],[10,21,11,22],[12,21,13,22],[0,21,1,32],[30,19,31,20],[26,19,29,20],[24,19,25,20],[20,19,23,20],[16,19,19,20],[12,19,15,20],[8,19,11,20],[6,19,7,20],[4,19,5,20],[2,19,3,20],[12,25,13,26],[12,27,13,28],[12,31,13,32],[14,21,15,22],[14,25,15,26],[14,27,15,28],[14,31,15,32],[16,27,17,28],[16,31,17,32],[16,21,17,22],[16,25,17,26],[18,27,19,28],[18,31,19,32],[25,11,25,12],[29,4,29,5],[19,4,19,5],[25,1,25,2],[22,2,22,3],[20,6,20,7],[22,6,22,7],[25,9,25,10],[27,6,27,7],[27,10,27,11],[23,2,23,3],[25,3,25,4],[27,2,27,3],[28,4,28,5],[28,12,28,13],[29,12,29,13],[24,11,24,12],[23,10,23,11],[20,10,20,11],[24,13,24,14],[22,10,22,11],[27,14,27,15],[19,12,19,13],[13,12,16,13],[5,13,5,14],[24,3,24,4],[11,4,11,5],[20,2,20,3],[24,1,24,2],[18,4,18,5],[13,4,16,5],[24,5,24,6],[2,6,2,11],[2,13,2,14],[24,9,24,10],[8,18,11,18],[12,18,15,18],[16,18,19,18],[20,18,23,18],[26,18,29,18],[24,18,25,18],[24,15,24,16],[23,14,23,15],[23,6,23,7],[25,15,25,16],[25,13,25,14],[18,12,18,13],[25,7,25,8],[24,7,24,8],[20,14,20,15],[22,14,22,15],[25,5,25,6],[4,8,7,9],[9,8,9,9],[10,8,10,9],[11,12,11,13]]}
[null,"《決勝トーナメント日程》",null,null,null,null,null,"12月5日（日）",null,null,null,null,"8:00　開場",null,null,null,null,null,null,null,null,"昭和電工ｻｯｶｰ･ﾗｸﾞﾋﾞｰ場　Bｺｰﾄ"]
[]
[null,null,null,null,null,null,"ドリームキッズフットボールクラブ",null,null,null,null,null,null,"☆準優勝",null,null,null,null,null,"開始時刻",null,"「南」コート",null,null,null,null,null,"「北」コート"]
[null,null,null,null,null,null,null,null,null,null,null,null,null,"・太陽スポーツクラブ大分西"]
[null,null,null,null,null,null,null,null,{"$f":"AD27","v":"Match No：33\n0　 前半 　0\n2 　後半 　0\n--------------\n2 　合計 　0"},null,null,null,null,null,null,null,null,null,null,"会場設営"]
[null,null,null,null,null,null,null,null,null,null,null,null,null,"☆３位"]
[null,null,null,null,null,null,null,null,null,null,null,null,null,"・スマイス・セレソン",null,null,null,null,null,"審判"]
[null,null,null,null,null,null,null,null,null,null,null,null,null,"・大分トリニータタートルズ　キング"]
[null,null,null,null,null,null,null,null,null,null,null,null,null,null,null,null,null,null,"①","09:30:00",null,"A-１位",null,"Match No：25\n1　 前半 　0\n1 　後半 　0\n--------------\n2 　合計 　0",null,"E-１位",null,"B-１位",null,"Match No：26\n0　 前半 　0\n0 　後半 　2\n--------------\n0 　合計 　2",null,"F-１位"]
[null,null,null,null,null,null,null,null,"Match No：33"]
[null,null,null,null,null,null,null,null,"１４：１０～北",null,null,null,null,null,null,null,null,null,null,null,null,{"$f":"B26","v":"ドリームキッズ"},null,null,null,{"$f":"D26","v":"スマイス　スポーツ"},null,{"$f":"F26","v":"ＦＣ中津"},null,null,null,{"$f":"H26","v":"スマイス・セレソン"}]
[null,null,null,null,"ドリームキッズ",null,null,null,null,null,null,null,"太陽大分西"]
[null,null,null,null,null,null,null,null,null,null,null,null,null,null,null,null,null,null,"②","10:20:00",null,"C-１位",null,"Match No：27\n0　 前半 　1\n0 　後半 　1\n--------------\n0 　合計 　2",null,"G-１位",null,"D-１位",null,"Match No：28\n0　 前半 　0\n1 　後半 　1\n--------------\n1 　合計 　1\n5 　ＰＫ 　6",null,"H-１位"]
[null,null,null,null,{"$f":"AD17","v":"Match No：29\n2　 前半 　0\n1 　後半 　1\n--------------\n3 　合計 　1"},null,null,null,null,null,null,null,{"$f":"AD21","v":"Match No：31\n2　 前半 　0\n3 　後半 　0\n--------------\n5 　合計 　0"}]
[null,null,null,null,null,null,null,null,null,null,null,null,null,null,null,null,null,null,null,null,null,{"$f":"J26","v":"東大分"},null,null,null,{"$f":"L26","v":"太陽大分西"},null,{"$f":"N26","v":"千怒"},null,null,null,{"$f":"P26","v":"タートルズ　キング"}]
[]
[null,null,null,null,null,null,null,null,null,null,null,null,null,null,null,null,null,null,"③","11:10:00",null,"Match No：25  負",null,"Match No：30\n1　 前半 　0\n0 　後半 　2\n--------------\n1 　合計 　2",null,"Match No：26  負",null,"Match No：25 勝",null,"Match No：29\n2　 前半 　0\n1 　後半 　1\n--------------\n3 　合計 　1",null,"Match No：26 勝"]
[]
[null,null,null,null,"Match No：29",null,null,null,null,null,null,null,"Match No：31",null,null,null,null,null,null,null,null,{"$f":"C28","v":"スマイス　スポーツ"},null,null,null,{"$f":"G28","v":"ＦＣ中津"},null,{"$f":"C21","v":"ドリームキッズ"},null,null,null,{"$f":"G21","v":"スマイス・セレソン"}]
[null,null,null,null,"１１：１０～北",null,null,null,null,null,null,null,"１２：００～北"]
[null,null,"ドリームキッズ",null,null,null,"スマイス・セレソン",null,null,null,"太陽大分西",null,null,null,"タートルズ　キング",null,null,null,"④","12:00:00",null,"Match No：27  負",null,"Match No：32\n2　 前半 　0\n2 　後半 　0\n--------------\n4 　合計 　0",null,"Match No：28  負",null,"Match No：27 勝",null,"Match No：31\n2　 前半 　0\n3 　後半 　0\n--------------\n5 　合計 　0",null,"Match No：28 勝"]
[]
[null,null,"Match No：25",null,null,null,"Match No：26",null,null,null,"Match No：27",null,null,null,"Match No：28",null,null,null,null,null,null,{"$f":"K28","v":"東大分"},null,null,null,{"$f":"O28","v":"千怒"},null,{"$f":"K21","v":"太陽大分西"},null,null,null,{"$f":"O21","v":"タートルズ　キング"}]
[null,null,"９：３０～南",null,null,null,"９：３０～北",null,null,null,"１０：２０～南",null,null,null,"１０：２０～北"]
[null,"A-１位",null,"E-１位",null,"B-１位",null,"F-１位",null,"C-１位",null,"G-１位",null,"D-１位",null,"H-１位",null,null,null,"12:50:00",null,"休憩"]
[null,"ドリームキッズ",null,"スマイス　スポーツ",null,"ＦＣ中津",null,"スマイス・セレソン",null,"東大分",null,"太陽大分西",null,"千怒",null,"タートルズ　キング"]
[null,null,null,null,null,null,null,null,null,null,null,null,null,null,null,null,null,null,"⑤","14:10:00",null,null,null,null,null,null,null,"Match No：29 勝",null,"Match No：33\n0　 前半 　0\n2 　後半 　0\n--------------\n2 　合計 　0",null,"Match No：31 勝"]
[null,null,"スマイス　スポーツ",null,null,null,"ＦＣ中津",null,null,null,"東大分",null,null,null,"千怒"]
[null,null,null,null,"Match No：30",null,null,null,null,null,null,null,"Match No：32",null,null,null,null,null,null,null,null,null,null,null,null,null,null,{"$f":"E12","v":"ドリームキッズ"},null,null,null,{"$f":"M12","v":"太陽大分西"}]
[null,null,null,null,"１１：１０～南",null,null,null,null,null,null,null,"１２：００～南"]
[null,null,null,null,null,null,null,null,null,null,null,null,null,null,null,null,null,null,null,"15:00:00",null,"閉会式"]

{"sheet":"決勝T公式記録","index":15,"n_rows":112,"n_cols":31,"rows_kept":112,"cut":false,"hidden":true,"merged":[[2,1,2,4],[2,17,2,20],[5,13,7,13],[5,20,7,20],[5,4,7,4],[83,1,83,2],[111,1,111,2],[89,7,91,7],[89,11,91,11],[61,4,63,4],[61,5,63,5],[62,1,62,3],[63,1,63,3],[89,12,91,12],[81,1,81,2],[109,1,109,2],[82,1,82,3],[110,1,110,3],[76,1,76,3],[75,0,75,3],[79,1,79,2],[107,1,107,2],[80,1,80,3],[108,1,108,3],[5,21,7,21],[5,22,7,22],[5,5,7,5],[5,6,7,6],[5,7,7,7],[5,14,7,14],[23,1,23,2],[24,1,24,3],[25,1,25,2],[20,1,20,3],[21,1,21,2],[25,17,25,18],[20,17,20,19],[21,17,21,18],[22,1,22,3],[22,17,22,19],[6,1,6,3],[7,1,7,3],[6,17,6,19],[7,17,7,19],[5,1,5,3],[5,17,5,19],[5,11,7,11],[5,12,7,12],[105,1,105,2],[90,1,90,3],[5,28,7,28],[5,29,7,29],[5,23,7,23],[5,27,7,27],[89,13,91,13],[78,1,78,3],[106,1,106,3],[89,4,91,4],[89,5,91,5],[89,6,91,6],[104,1,104,3],[77,1,77,2],[61,6,63,6],[61,7,63,7],[61,11,63,11],[61,12,63,12],[61,13,63,13],[91,1,91,3],[61,1,61,3],[89,1,89,3],[23,17,23,18],[24,17,24,19],[27,1,27,2],[27,17,27,18],[52,17,52,19],[33,4,35,4],[33,5,35,5],[33,6,35,6],[33,7,35,7],[51,1,51,2],[51,17,51,18],[52,1,52,3],[34,17,34,19],[35,17,35,19],[34,1,34,3],[35,1,35,3],[33,1,33,3],[33,17,33,19],[55,1,55,2],[61,14,63,14],[33,29,35,29],[48,17,48,19],[49,1,49,2],[49,17,49,18],[50,1,50,3],[50,17,50,19],[33,20,35,20],[33,21,35,21],[33,22,35,22],[33,23,35,23],[48,1,48,3],[33,14,35,14],[5,30,7,30],[33,30,35,30],[89,14,91,14],[0,0,0,9],[0,10,0,13],[0,16,0,25],[0,26,0,29],[103,0,103,3],[33,11,35,11],[33,12,35,12],[33,13,35,13],[19,0,19,3],[19,16,19,19],[47,0,47,3],[47,16,47,19],[54,17,54,19],[26,1,26,3],[33,27,35,27],[33,28,35,28],[55,17,55,18],[53,1,53,2],[53,17,53,18],[54,1,54,3],[26,17,26,19]]}
[{"$f":"要項!C2","v":"OFA 第 33 回 大分県U-11サッカー選手権大会"},null,null,null,null,null,null,null,null,null,"決勝トーナメント結果　報告用紙",null,null,null,null,null,{"$f":"要項!C2","v":"OFA 第 33 回 大分県U-11サッカー選手権大会"},null,null,null,null,null,null,null,null,null,"決勝トーナメント結果　報告用紙"]
[]
["会場",{"$f":"決勝トーナメント!V1","v":"昭和電工ｻｯｶｰ･ﾗｸﾞﾋﾞｰ場　Bｺｰﾄ"},null,null,null,{"$f":"決勝トーナメント!V3","v":"「南」コート"},null,null,null,null,null,null,null,null,null,null,"会場",{"$f":"決勝トーナメント!V1","v":"昭和電工ｻｯｶｰ･ﾗｸﾞﾋﾞｰ場　Bｺｰﾄ"},null,null,null,{"$f":"決勝トーナメント!AB3","v":"「北」コート"}]
[]
[null,"Match No：25",null,null,null,null,null,null,null,null,null,null,null,null,null,null,null,"Match No：26"]
["MC","中原　圭介",null,null,{"$f":"決勝トーナメント!T9","v":"09:30:00"},"ドリームキッズフットボールクラブ",{"$f":"SUM(I6:I7)","v":2},"（",1,"前半",0,"）",{"$f":"SUM(K6:K7)","v":0},"スマイス　セレソン　スポーツクラブ",null,null,"MC","松下　省吾",null,null,{"$f":"決勝トーナメント!T9","v":"09:30:00"},"ＦＣ中津ジュニア",{"$f":"SUM(Y6:Y7)","v":0},"（",0,"前半",0,"）",{"$f":"SUM(AA6:AA7)","v":2},"スマイス・セレソン"]
["Welfare\nOfficer","唐下　直之",null,null,null,null,null,null,1,"後半",0,null,null,null,null,null,"Welfare\nOfficer","仲野　昭博",null,null,null,null,null,null,0,"後半",2]
["記録","中野　観司郎",null,null,null,null,null,null,null,"PK",null,null,null,null,null,null,"記録","榊　謙治",null,null,null,null,null,null,null,"PK"]
[null,null,null,null,null,"氏名","番号","分",null,null,null,"分","番号","氏名",null,null,null,null,null,null,null,"氏名","番号","分",null,null,null,"分","番号","氏名"]
[null,null,null,null,"得点者",{"$f":"IF(ISERROR(VLOOKUP(CONCATENATE($F$6,\"_\",G10),選手名簿!$A:$E,5,FALSE))=TRUE,\"\",VLOOKUP(CONCATENATE($F$6,\"_\",G10),選手名簿!$A:$E,5,FALSE))","v":""},null,null,null,null,null,null,null,{"$f":"IF(ISERROR(VLOOKUP(CONCATENATE($N$6,\"_\",M10),選手名簿!$A:$E,5,FALSE))=TRUE,\"\",VLOOKUP(CONCATENATE($N$6,\"_\",M10),選手名簿!$A:$E,5,FALSE))","v":""},null,null,null,null,null,null,"得点者",{"$f":"IF(ISERROR(VLOOKUP(CONCATENATE($V$6,\"_\",W10),選手名簿!$A:$E,5,FALSE))=TRUE,\"\",VLOOKUP(CONCATENATE($V$6,\"_\",W10),選手名簿!$A:$E,5,FALSE))","v":""},null,null,null,null,null,null,null,{"$f":"IF(ISERROR(VLOOKUP(CONCATENATE($AD$6,\"_\",AC10),選手名簿!$A:$E,5,FALSE))=TRUE,\"\",VLOOKUP(CONCATENATE($AD$6,\"_\",AC10),選手名簿!$A:$E,5,FALSE))","v":""}]
[null,null,null,null,"得点者",{"$f":"IF(ISERROR(VLOOKUP(CONCATENATE($F$6,\"_\",G11),選手名簿!$A:$E,5,FALSE))=TRUE,\"\",VLOOKUP(CONCATENATE($F$6,\"_\",G11),選手名簿!$A:$E,5,FALSE))","v":""},null,null,null,null,null,null,null,{"$f":"IF(ISERROR(VLOOKUP(CONCATENATE($N$6,\"_\",M11),選手名簿!$A:$E,5,FALSE))=TRUE,\"\",VLOOKUP(CONCATENATE($N$6,\"_\",M11),選手名簿!$A:$E,5,FALSE))","v":""},null,null,null,null,null,null,"得点者",{"$f":"IF(ISERROR(VLOOKUP(CONCATENATE($V$6,\"_\",W11),選手名簿!$A:$E,5,FALSE))=TRUE,\"\",VLOOKUP(CONCATENATE($V$6,\"_\",W11),選手名簿!$A:$E,5,FALSE))","v":""},null,null,null,null,null,null,null,{"$f":"IF(ISERROR(VLOOKUP(CONCATENATE($AD$6,\"_\",AC11),選手名簿!$A:$E,5,FALSE))=TRUE,\"\",VLOOKUP(CONCATENATE($AD$6,\"_\",AC11),選手名簿!$A:$E,5,FALSE))","v":""}]
[null,null,null,null,"得点者",{"$f":"IF(ISERROR(VLOOKUP(CONCATENATE($F$6,\"_\",G12),選手名簿!$A:$E,5,FALSE))=TRUE,\"\",VLOOKUP(CONCATENATE($F$6,\"_\",G12),選手名簿!$A:$E,5,FALSE))","v":""},null,null,null,null,null,null,null,{"$f":"IF(ISERROR(VLOOKUP(CONCATENATE($N$6,\"_\",M12),選手名簿!$A:$E,5,FALSE))=TRUE,\"\",VLOOKUP(CONCATENATE($N$6,\"_\",M12),選手名簿!$A:$E,5,FALSE))","v":""},null,null,null,null,null,null,"得点者",{"$f":"IF(ISERROR(VLOOKUP(CONCATENATE($V$6,\"_\",W12),選手名簿!$A:$E,5,FALSE))=TRUE,\"\",VLOOKUP(CONCATENATE($V$6,\"_\",W12),選手名簿!$A:$E,5,FALSE))","v":""},null,null,null,null,null,null,null,{"$f":"IF(ISERROR(VLOOKUP(CONCATENATE($AD$6,\"_\",AC12),選手名簿!$A:$E,5,FALSE))=TRUE,\"\",VLOOKUP(CONCATENATE($AD$6,\"_\",AC12),選手名簿!$A:$E,5,FALSE))","v":""}]
[null,null,null,null,"得点者",{"$f":"IF(ISERROR(VLOOKUP(CONCATENATE($F$6,\"_\",G13),選手名簿!$A:$E,5,FALSE))=TRUE,\"\",VLOOKUP(CONCATENATE($F$6,\"_\",G13),選手名簿!$A:$E,5,FALSE))","v":""},null,null,null,null,null,null,null,{"$f":"IF(ISERROR(VLOOKUP(CONCATENATE($N$6,\"_\",M13),選手名簿!$A:$E,5,FALSE))=TRUE,\"\",VLOOKUP(CONCATENATE($N$6,\"_\",M13),選手名簿!$A:$E,5,FALSE))","v":""},null,null,null,null,null,null,"得点者",{"$f":"IF(ISERROR(VLOOKUP(CONCATENATE($V$6,\"_\",W13),選手名簿!$A:$E,5,FALSE))=TRUE,\"\",VLOOKUP(CONCATENATE($V$6,\"_\",W13),選手名簿!$A:$E,5,FALSE))","v":""},null,null,null,null,null,null,null,{"$f":"IF(ISERROR(VLOOKUP(CONCATENATE($AD$6,\"_\",AC13),選手名簿!$A:$E,5,FALSE))=TRUE,\"\",VLOOKUP(CONCATENATE($AD$6,\"_\",AC13),選手名簿!$A:$E,5,FALSE))","v":""}]
[null,null,null,null,"得点者",{"$f":"IF(ISERROR(VLOOKUP(CONCATENATE($F$6,\"_\",G14),選手名簿!$A:$E,5,FALSE))=TRUE,\"\",VLOOKUP(CONCATENATE($F$6,\"_\",G14),選手名簿!$A:$E,5,FALSE))","v":""},null,null,null,null,null,null,null,{"$f":"IF(ISERROR(VLOOKUP(CONCATENATE($N$6,\"_\",M14),選手名簿!$A:$E,5,FALSE))=TRUE,\"\",VLOOKUP(CONCATENATE($N$6,\"_\",M14),選手名簿!$A:$E,5,FALSE))","v":""},null,null,null,null,null,null,"得点者",{"$f":"IF(ISERROR(VLOOKUP(CONCATENATE($V$6,\"_\",W14),選手名簿!$A:$E,5,FALSE))=TRUE,\"\",VLOOKUP(CONCATENATE($V$6,\"_\",W14),選手名簿!$A:$E,5,FALSE))","v":""},null,null,null,null,null,null,null,{"$f":"IF(ISERROR(VLOOKUP(CONCATENATE($AD$6,\"_\",AC14),選手名簿!$A:$E,5,FALSE))=TRUE,\"\",VLOOKUP(CONCATENATE($AD$6,\"_\",AC14),選手名簿!$A:$E,5,FALSE))","v":""}]
[null,null,null,null,"得点者",{"$f":"IF(ISERROR(VLOOKUP(CONCATENATE($F$6,\"_\",G15),選手名簿!$A:$E,5,FALSE))=TRUE,\"\",VLOOKUP(CONCATENATE($F$6,\"_\",G15),選手名簿!$A:$E,5,FALSE))","v":""},null,null,null,null,null,null,null,{"$f":"IF(ISERROR(VLOOKUP(CONCATENATE($N$6,\"_\",M15),選手名簿!$A:$E,5,FALSE))=TRUE,\"\",VLOOKUP(CONCATENATE($N$6,\"_\",M15),選手名簿!$A:$E,5,FALSE))","v":""},null,null,null,null,null,null,"得点者",{"$f":"IF(ISERROR(VLOOKUP(CONCATENATE($V$6,\"_\",W15),選手名簿!$A:$E,5,FALSE))=TRUE,\"\",VLOOKUP(CONCATENATE($V$6,\"_\",W15),選手名簿!$A:$E,5,FALSE))","v":""},null,null,null,null,null,null,null,{"$f":"IF(ISERROR(VLOOKUP(CONCATENATE($AD$6,\"_\",AC15),選手名簿!$A:$E,5,FALSE))=TRUE,\"\",VLOOKUP(CONCATENATE($AD$6,\"_\",AC15),選手名簿!$A:$E,5,FALSE))","v":""}]
[null,null,null,null,"得点者",{"$f":"IF(ISERROR(VLOOKUP(CONCATENATE($F$6,\"_\",G16),選手名簿!$A:$E,5,FALSE))=TRUE,\"\",VLOOKUP(CONCATENATE($F$6,\"_\",G16),選手名簿!$A:$E,5,FALSE))","v":""},null,null,null,null,null,null,null,{"$f":"IF(ISERROR(VLOOKUP(CONCATENATE($N$6,\"_\",M16),選手名簿!$A:$E,5,FALSE))=TRUE,\"\",VLOOKUP(CONCATENATE($N$6,\"_\",M16),選手名簿!$A:$E,5,FALSE))","v":""},null,null,null,null,null,null,"得点者",{"$f":"IF(ISERROR(VLOOKUP(CONCATENATE($V$6,\"_\",W16),選手名簿!$A:$E,5,FALSE))=TRUE,\"\",VLOOKUP(CONCATENATE($V$6,\"_\",W16),選手名簿!$A:$E,5,FALSE))","v":""},null,null,null,null,null,null,null,{"$f":"IF(ISERROR(VLOOKUP(CONCATENATE($AD$6,\"_\",AC16),選手名簿!$A:$E,5,FALSE))=TRUE,\"\",VLOOKUP(CONCATENATE($AD$6,\"_\",AC16),選手名簿!$A:$E,5,FALSE))","v":""}]
[null,null,null,null,"得点者",{"$f":"IF(ISERROR(VLOOKUP(CONCATENATE($F$6,\"_\",G17),選手名簿!$A:$E,5,FALSE))=TRUE,\"\",VLOOKUP(CONCATENATE($F$6,\"_\",G17),選手名簿!$A:$E,5,FALSE))","v":""},null,null,null,null,null,null,null,{"$f":"IF(ISERROR(VLOOKUP(CONCATENATE($N$6,\"_\",M17),選手名簿!$A:$E,5,FALSE))=TRUE,\"\",VLOOKUP(CONCATENATE($N$6,\"_\",M17),選手名簿!$A:$E,5,FALSE))","v":""},null,null,null,null,null,null,"得点者",{"$f":"IF(ISERROR(VLOOKUP(CONCATENATE($V$6,\"_\",W17),選手名簿!$A:$E,5,FALSE))=TRUE,\"\",VLOOKUP(CONCATENATE($V$6,\"_\",W17),選手名簿!$A:$E,5,FALSE))","v":""},null,null,null,null,null,null,null,{"$f":"IF(ISERROR(VLOOKUP(CONCATENATE($AD$6,\"_\",AC17),選手名簿!$A:$E,5,FALSE))=TRUE,\"\",VLOOKUP(CONCATENATE($AD$6,\"_\",AC17),選手名簿!$A:$E,5,FALSE))","v":""}]
[null,null,null,null,"得点者",{"$f":"IF(ISERROR(VLOOKUP(CONCATENATE($F$6,\"_\",G18),選手名簿!$A:$E,5,FALSE))=TRUE,\"\",VLOOKUP(CONCATENATE($F$6,\"_\",G18),選手名簿!$A:$E,5,FALSE))","v":""},null,null,null,null,null,null,null,{"$f":"IF(ISERROR(VLOOKUP(CONCATENATE($N$6,\"_\",M18),選手名簿!$A:$E,5,FALSE))=TRUE,\"\",VLOOKUP(CONCATENATE($N$6,\"_\",M18),選手名簿!$A:$E,5,FALSE))","v":""},null,null,null,null,null,null,"得点者",{"$f":"IF(ISERROR(VLOOKUP(CONCATENATE($V$6,\"_\",W18),選手名簿!$A:$E,5,FALSE))=TRUE,\"\",VLOOKUP(CONCATENATE($V$6,\"_\",W18),選手名簿!$A:$E,5,FALSE))","v":""},null,null,null,null,null,null,null,{"$f":"IF(ISERROR(VLOOKUP(CONCATENATE($AD$6,\"_\",AC18),選手名簿!$A:$E,5,FALSE))=TRUE,\"\",VLOOKUP(CONCATENATE($AD$6,\"_\",AC18),選手名簿!$A:$E,5,FALSE))","v":""}]
[null,null,null,null,"得点者",{"$f":"IF(ISERROR(VLOOKUP(CONCATENATE($F$6,\"_\",G19),選手名簿!$A:$E,5,FALSE))=TRUE,\"\",VLOOKUP(CONCATENATE($F$6,\"_\",G19),選手名簿!$A:$E,5,FALSE))","v":""},null,null,null,null,null,null,null,{"$f":"IF(ISERROR(VLOOKUP(CONCATENATE($N$6,\"_\",M19),選手名簿!$A:$E,5,FALSE))=TRUE,\"\",VLOOKUP(CONCATENATE($N$6,\"_\",M19),選手名簿!$A:$E,5,FALSE))","v":""},null,null,null,null,null,null,"得点者",{"$f":"IF(ISERROR(VLOOKUP(CONCATENATE($V$6,\"_\",W19),選手名簿!$A:$E,5,FALSE))=TRUE,\"\",VLOOKUP(CONCATENATE($V$6,\"_\",W19),選手名簿!$A:$E,5,FALSE))","v":""},null,null,null,null,null,null,null,{"$f":"IF(ISERROR(VLOOKUP(CONCATENATE($AD$6,\"_\",AC19),選手名簿!$A:$E,5,FALSE))=TRUE,\"\",VLOOKUP(CONCATENATE($AD$6,\"_\",AC19),選手名簿!$A:$E,5,FALSE))","v":""}]
["＜Referee＞",null,null,null,"警告/退場\n選択肢より","氏名","番号","分","内容\n選択肢より",null,"内容\n選択肢より","分","番号","氏名","警告/退場\n選択肢より",null,"＜Referee＞",null,null,null,"警告/退場\n選択肢より","氏名","番号","分","内容\n選択肢より",null,"内容\n選択肢より","分","番号","氏名","警告/退場\n選択肢より"]
["番号","R006910259",null,null,null,{"$f":"IF(ISERROR(VLOOKUP(CONCATENATE($F$6,\"_\",G21),選手名簿!$A:$E,5,FALSE))=TRUE,\"\",VLOOKUP(CONCATENATE($F$6,\"_\",G21),選手名簿!$A:$E,5,FALSE))","v":""},null,null,null,null,null,null,null,{"$f":"IF(ISERROR(VLOOKUP(CONCATENATE($N$6,\"_\",M21),選手名簿!$A:$E,5,FALSE))=TRUE,\"\",VLOOKUP(CONCATENATE($N$6,\"_\",M21),選手名簿!$A:$E,5,FALSE))","v":""},null,null,"番号","R003256053",null,null,null,{"$f":"IF(ISERROR(VLOOKUP(CONCATENATE($V$6,\"_\",W21),選手名簿!$A:$E,5,FALSE))=TRUE,\"\",VLOOKUP(CONCATENATE($V$6,\"_\",W21),選手名簿!$A:$E,5,FALSE))","v":""},null,null,null,null,null,null,null,{"$f":"IF(ISERROR(VLOOKUP(CONCATENATE($AD$6,\"_\",AC21),選手名簿!$A:$E,5,FALSE))=TRUE,\"\",VLOOKUP(CONCATENATE($AD$6,\"_\",AC21),選手名簿!$A:$E,5,FALSE))","v":""}]
["R",{"$f":"IF(ISERROR(VLOOKUP(B21,審判員!$A:$C,2,FALSE))=TRUE,\"\",VLOOKUP(B21,審判員!$A:$C,2,FALSE))","v":"下原　優一"},null,{"$f":"IF(ISERROR(VLOOKUP(B21,審判員!$A:$C,3,FALSE))=TRUE,\"\",VLOOKUP(B21,審判員!$A:$C,3,FALSE))","v":"３級"},null,{"$f":"IF(ISERROR(VLOOKUP(CONCATENATE($F$6,\"_\",G22),選手名簿!$A:$E,5,FALSE))=TRUE,\"\",VLOOKUP(CONCATENATE($F$6,\"_\",G22),選手名簿!$A:$E,5,FALSE))","v":""},null,null,null,null,null,null,null,{"$f":"IF(ISERROR(VLOOKUP(CONCATENATE($N$6,\"_\",M22),選手名簿!$A:$E,5,FALSE))=TRUE,\"\",VLOOKUP(CONCATENATE($N$6,\"_\",M22),選手名簿!$A:$E,5,FALSE))","v":""},null,null,"R",{"$f":"IF(ISERROR(VLOOKUP(R21,審判員!$A:$C,2,FALSE))=TRUE,\"\",VLOOKUP(R21,審判員!$A:$C,2,FALSE))","v":"菊地　謙一"},null,{"$f":"IF(ISERROR(VLOOKUP(R21,審判員!$A:$C,3,FALSE))=TRUE,\"\",VLOOKUP(R21,審判員!$A:$C,3,FALSE))","v":"３級"},null,{"$f":"IF(ISERROR(VLOOKUP(CONCATENATE($V$6,\"_\",W22),選手名簿!$A:$E,5,FALSE))=TRUE,\"\",VLOOKUP(CONCATENATE($V$6,\"_\",W22),選手名簿!$A:$E,5,FALSE))","v":""},null,null,null,null,null,null,null,{"$f":"IF(ISERROR(VLOOKUP(CONCATENATE($AD$6,\"_\",AC22),選手名簿!$A:$E,5,FALSE))=TRUE,\"\",VLOOKUP(CONCATENATE($AD$6,\"_\",AC22),選手名簿!$A:$E,5,FALSE))","v":""}]
["番号","R009546055",null,null,null,{"$f":"IF(ISERROR(VLOOKUP(CONCATENATE($F$6,\"_\",G23),選手名簿!$A:$E,5,FALSE))=TRUE,\"\",VLOOKUP(CONCATENATE($F$6,\"_\",G23),選手名簿!$A:$E,5,FALSE))","v":""},null,null,null,null,null,null,null,{"$f":"IF(ISERROR(VLOOKUP(CONCATENATE($N$6,\"_\",M23),選手名簿!$A:$E,5,FALSE))=TRUE,\"\",VLOOKUP(CONCATENATE($N$6,\"_\",M23),選手名簿!$A:$E,5,FALSE))","v":""},null,null,"番号","R010261482",null,null,null,{"$f":"IF(ISERROR(VLOOKUP(CONCATENATE($V$6,\"_\",W23),選手名簿!$A:$E,5,FALSE))=TRUE,\"\",VLOOKUP(CONCATENATE($V$6,\"_\",W23),選手名簿!$A:$E,5,FALSE))","v":""},null,null,null,null,null,null,null,{"$f":"IF(ISERROR(VLOOKUP(CONCATENATE($AD$6,\"_\",AC23),選手名簿!$A:$E,5,FALSE))=TRUE,\"\",VLOOKUP(CONCATENATE($AD$6,\"_\",AC23),選手名簿!$A:$E,5,FALSE))","v":""}]
["AR1:",{"$f":"IF(ISERROR(VLOOKUP(B23,審判員!$A:$C,2,FALSE))=TRUE,\"\",VLOOKUP(B23,審判員!$A:$C,2,FALSE))","v":"吐合　直樹"},null,{"$f":"IF(ISERROR(VLOOKUP(B23,審判員!$A:$C,3,FALSE))=TRUE,\"\",VLOOKUP(B23,審判員!$A:$C,3,FALSE))","v":"３級"},null,{"$f":"IF(ISERROR(VLOOKUP(CONCATENATE($F$6,\"_\",G24),選手名簿!$A:$E,5,FALSE))=TRUE,\"\",VLOOKUP(CONCATENATE($F$6,\"_\",G24),選手名簿!$A:$E,5,FALSE))","v":""},null,null,null,null,null,null,null,{"$f":"IF(ISERROR(VLOOKUP(CONCATENATE($N$6,\"_\",M24),選手名簿!$A:$E,5,FALSE))=TRUE,\"\",VLOOKUP(CONCATENATE($N$6,\"_\",M24),選手名簿!$A:$E,5,FALSE))","v":""},null,null,"AR1:",{"$f":"IF(ISERROR(VLOOKUP(R23,審判員!$A:$C,2,FALSE))=TRUE,\"\",VLOOKUP(R23,審判員!$A:$C,2,FALSE))","v":"金子　翔"},null,{"$f":"IF(ISERROR(VLOOKUP(R23,審判員!$A:$C,3,FALSE))=TRUE,\"\",VLOOKUP(R23,審判員!$A:$C,3,FALSE))","v":"３級"},null,{"$f":"IF(ISERROR(VLOOKUP(CONCATENATE($V$6,\"_\",W24),選手名簿!$A:$E,5,FALSE))=TRUE,\"\",VLOOKUP(CONCATENATE($V$6,\"_\",W24),選手名簿!$A:$E,5,FALSE))","v":""},null,null,null,null,null,null,null,{"$f":"IF(ISERROR(VLOOKUP(CONCATENATE($AD$6,\"_\",AC24),選手名簿!$A:$E,5,FALSE))=TRUE,\"\",VLOOKUP(CONCATENATE($AD$6,\"_\",AC24),選手名簿!$A:$E,5,FALSE))","v":""}]
["番号","R009460551",null,null,null,{"$f":"IF(ISERROR(VLOOKUP(CONCATENATE($F$6,\"_\",G25),選手名簿!$A:$E,5,FALSE))=TRUE,\"\",VLOOKUP(CONCATENATE($F$6,\"_\",G25),選手名簿!$A:$E,5,FALSE))","v":""},null,null,null,null,null,null,null,{"$f":"IF(ISERROR(VLOOKUP(CONCATENATE($N$6,\"_\",M25),選手名簿!$A:$E,5,FALSE))=TRUE,\"\",VLOOKUP(CONCATENATE($N$6,\"_\",M25),選手名簿!$A:$E,5,FALSE))","v":""},null,null,"番号","R001256402",null,null,null,{"$f":"IF(ISERROR(VLOOKUP(CONCATENATE($V$6,\"_\",W25),選手名簿!$A:$E,5,FALSE))=TRUE,\"\",VLOOKUP(CONCATENATE($V$6,\"_\",W25),選手名簿!$A:$E,5,FALSE))","v":""},null,null,null,null,null,null,null,{"$f":"IF(ISERROR(VLOOKUP(CONCATENATE($AD$6,\"_\",AC25),選手名簿!$A:$E,5,FALSE))=TRUE,\"\",VLOOKUP(CONCATENATE($AD$6,\"_\",AC25),選手名簿!$A:$E,5,FALSE))","v":""}]
["AR2:",{"$f":"IF(ISERROR(VLOOKUP(B25,審判員!$A:$C,2,FALSE))=TRUE,\"\",VLOOKUP(B25,審判員!$A:$C,2,FALSE))","v":"佐藤　慎二"},null,{"$f":"IF(ISERROR(VLOOKUP(B25,審判員!$A:$C,3,FALSE))=TRUE,\"\",VLOOKUP(B25,審判員!$A:$C,3,FALSE))","v":"３級"},null,{"$f":"IF(ISERROR(VLOOKUP(CONCATENATE($F$6,\"_\",G26),選手名簿!$A:$E,5,FALSE))=TRUE,\"\",VLOOKUP(CONCATENATE($F$6,\"_\",G26),選手名簿!$A:$E,5,FALSE))","v":""},null,null,null,null,null,null,null,{"$f":"IF(ISERROR(VLOOKUP(CONCATENATE($N$6,\"_\",M26),選手名簿!$A:$E,5,FALSE))=TRUE,\"\",VLOOKUP(CONCATENATE($N$6,\"_\",M26),選手名簿!$A:$E,5,FALSE))","v":""},null,null,"AR2:",{"$f":"IF(ISERROR(VLOOKUP(R25,審判員!$A:$C,2,FALSE))=TRUE,\"\",VLOOKUP(R25,審判員!$A:$C,2,FALSE))","v":"小石川　悟"},null,{"$f":"IF(ISERROR(VLOOKUP(R25,審判員!$A:$C,3,FALSE))=TRUE,\"\",VLOOKUP(R25,審判員!$A:$C,3,FALSE))","v":"３級"},null,{"$f":"IF(ISERROR(VLOOKUP(CONCATENATE($V$6,\"_\",W26),選手名簿!$A:$E,5,FALSE))=TRUE,\"\",VLOOKUP(CONCATENATE($V$6,\"_\",W26),選手名簿!$A:$E,5,FALSE))","v":""},null,null,null,null,null,null,null,{"$f":"IF(ISERROR(VLOOKUP(CONCATENATE($AD$6,\"_\",AC26),選手名簿!$A:$E,5,FALSE))=TRUE,\"\",VLOOKUP(CONCATENATE($AD$6,\"_\",AC26),選手名簿!$A:$E,5,FALSE))","v":""}]
["番号","R003350854",null,null,null,{"$f":"IF(ISERROR(VLOOKUP(CONCATENATE($F$6,\"_\",G27),選手名簿!$A:$E,5,FALSE))=TRUE,\"\",VLOOKUP(CONCATENATE($F$6,\"_\",G27),選手名簿!$A:$E,5,FALSE))","v":""},null,null,null,null,null,null,null,{"$f":"IF(ISERROR(VLOOKUP(CONCATENATE($N$6,\"_\",M27),選手名簿!$A:$E,5,FALSE))=TRUE,\"\",VLOOKUP(CONCATENATE($N$6,\"_\",M27),選手名簿!$A:$E,5,FALSE))","v":""},null,null,"番号","R001265224",null,null,null,{"$f":"IF(ISERROR(VLOOKUP(CONCATENATE($V$6,\"_\",W27),選手名簿!$A:$E,5,FALSE))=TRUE,\"\",VLOOKUP(CONCATENATE($V$6,\"_\",W27),選手名簿!$A:$E,5,FALSE))","v":""},null,null,null,null,null,null,null,{"$f":"IF(ISERROR(VLOOKUP(CONCATENATE($AD$6,\"_\",AC27),選手名簿!$A:$E,5,FALSE))=TRUE,\"\",VLOOKUP(CONCATENATE($AD$6,\"_\",AC27),選手名簿!$A:$E,5,FALSE))","v":""}]
["4th:",{"$f":"IF(ISERROR(VLOOKUP(B27,審判員!$A:$C,2,FALSE))=TRUE,\"\",VLOOKUP(B27,審判員!$A:$C,2,FALSE))","v":"毛藤　勇三"},null,{"$f":"IF(ISERROR(VLOOKUP(B27,審判員!$A:$C,3,FALSE))=TRUE,\"\",VLOOKUP(B27,審判員!$A:$C,3,FALSE))","v":"３級"},null,{"$f":"IF(ISERROR(VLOOKUP(CONCATENATE($F$6,\"_\",G28),選手名簿!$A:$E,5,FALSE))=TRUE,\"\",VLOOKUP(CONCATENATE($F$6,\"_\",G28),選手名簿!$A:$E,5,FALSE))","v":""},null,null,null,null,null,null,null,{"$f":"IF(ISERROR(VLOOKUP(CONCATENATE($N$6,\"_\",M28),選手名簿!$A:$E,5,FALSE))=TRUE,\"\",VLOOKUP(CONCATENATE($N$6,\"_\",M28),選手名簿!$A:$E,5,FALSE))","v":""},null,null,"4th:",{"$f":"IF(ISERROR(VLOOKUP(R27,審判員!$A:$C,2,FALSE))=TRUE,\"\",VLOOKUP(R27,審判員!$A:$C,2,FALSE))","v":"大塚　浩司"},null,{"$f":"IF(ISERROR(VLOOKUP(R27,審判員!$A:$C,3,FALSE))=TRUE,\"\",VLOOKUP(R27,審判員!$A:$C,3,FALSE))","v":"３級"},null,{"$f":"IF(ISERROR(VLOOKUP(CONCATENATE($V$6,\"_\",W28),選手名簿!$A:$E,5,FALSE))=TRUE,\"\",VLOOKUP(CONCATENATE($V$6,\"_\",W28),選手名簿!$A:$E,5,FALSE))","v":""},null,null,null,null,null,null,null,{"$f":"IF(ISERROR(VLOOKUP(CONCATENATE($AD$6,\"_\",AC28),選手名簿!$A:$E,5,FALSE))=TRUE,\"\",VLOOKUP(CONCATENATE($AD$6,\"_\",AC28),選手名簿!$A:$E,5,FALSE))","v":""}]
[]
[]
[]
[]
[null,"Match No：27",null,null,null,null,null,null,null,null,null,null,null,null,null,null,null,"Match No：28"]
["MC","市原　宗久",null,null,{"$f":"決勝トーナメント!T13","v":"10:20:00"},"東大分サッカースポーツ少年団",{"$f":"SUM(I34:I35)","v":0},"（",0,"前半",1,"）",{"$f":"SUM(K34:K35)","v":2},"太陽スポーツクラブ大分西",null,null,"MC","安東　幹雄",null,null,{"$f":"決勝トーナメント!T13","v":"10:20:00"},"千怒サッカースポーツ少年団",{"$f":"SUM(Y34:Y35)","v":1},"（",0,"前半",0,"）",{"$f":"SUM(AA34:AA35)","v":1},"大分トリニータタートルズ　キング"]
["Welfare\nOfficer","大鶴　翔太郎",null,null,null,null,null,null,0,"後半",1,null,null,null,null,null,"Welfare\nOfficer","津守　一雄",null,null,null,null,null,null,1,"後半",1]
["記録","安東　信二",null,null,null,null,null,null,null,"PK",null,null,null,null,null,null,"記録","磯村　信一",null,null,null,null,null,null,5,"PK",6]
[null,null,null,null,null,"氏名","番号","分",null,null,null,"分","番号","氏名",null,null,null,null,null,null,null,"氏名","番号","分",null,null,null,"分","番号","氏名"]
[null,null,null,null,"得点者",{"$f":"IF(ISERROR(VLOOKUP(CONCATENATE($F$34,\"_\",G38),選手名簿!$A:$E,5,FALSE))=TRUE,\"\",VLOOKUP(CONCATENATE($F$34,\"_\",G38),選手名簿!$A:$E,5,FALSE))","v":""},null,null,null,null,null,null,null,{"$f":"IF(ISERROR(VLOOKUP(CONCATENATE($N$34,\"_\",M38),選手名簿!$A:$E,5,FALSE))=TRUE,\"\",VLOOKUP(CONCATENATE($N$34,\"_\",M38),選手名簿!$A:$E,5,FALSE))","v":""},null,null,null,null,null,null,"得点者",{"$f":"IF(ISERROR(VLOOKUP(CONCATENATE($V$34,\"_\",W38),選手名簿!$A:$E,5,FALSE))=TRUE,\"\",VLOOKUP(CONCATENATE($V$34,\"_\",W38),選手名簿!$A:$E,5,FALSE))","v":""},null,null,null,null,null,null,null,{"$f":"IF(ISERROR(VLOOKUP(CONCATENATE($AD$34,\"_\",AC38),選手名簿!$A:$E,5,FALSE))=TRUE,\"\",VLOOKUP(CONCATENATE($AD$34,\"_\",AC38),選手名簿!$A:$E,5,FALSE))","v":""}]
[null,null,null,null,"得点者",{"$f":"IF(ISERROR(VLOOKUP(CONCATENATE($F$34,\"_\",G39),選手名簿!$A:$E,5,FALSE))=TRUE,\"\",VLOOKUP(CONCATENATE($F$34,\"_\",G39),選手名簿!$A:$E,5,FALSE))","v":""},null,null,null,null,null,null,null,{"$f":"IF(ISERROR(VLOOKUP(CONCATENATE($N$34,\"_\",M39),選手名簿!$A:$E,5,FALSE))=TRUE,\"\",VLOOKUP(CONCATENATE($N$34,\"_\",M39),選手名簿!$A:$E,5,FALSE))","v":""},null,null,null,null,null,null,"得点者",{"$f":"IF(ISERROR(VLOOKUP(CONCATENATE($V$34,\"_\",W39),選手名簿!$A:$E,5,FALSE))=TRUE,\"\",VLOOKUP(CONCATENATE($V$34,\"_\",W39),選手名簿!$A:$E,5,FALSE))","v":""},null,null,null,null,null,null,null,{"$f":"IF(ISERROR(VLOOKUP(CONCATENATE($AD$34,\"_\",AC39),選手名簿!$A:$E,5,FALSE))=TRUE,\"\",VLOOKUP(CONCATENATE($AD$34,\"_\",AC39),選手名簿!$A:$E,5,FALSE))","v":""}]
[null,null,null,null,"得点者",{"$f":"IF(ISERROR(VLOOKUP(CONCATENATE($F$34,\"_\",G40),選手名簿!$A:$E,5,FALSE))=TRUE,\"\",VLOOKUP(CONCATENATE($F$34,\"_\",G40),選手名簿!$A:$E,5,FALSE))","v":""},null,null,null,null,null,null,null,{"$f":"IF(ISERROR(VLOOKUP(CONCATENATE($N$34,\"_\",M40),選手名簿!$A:$E,5,FALSE))=TRUE,\"\",VLOOKUP(CONCATENATE($N$34,\"_\",M40),選手名簿!$A:$E,5,FALSE))","v":""},null,null,null,null,null,null,"得点者",{"$f":"IF(ISERROR(VLOOKUP(CONCATENATE($V$34,\"_\",W40),選手名簿!$A:$E,5,FALSE))=TRUE,\"\",VLOOKUP(CONCATENATE($V$34,\"_\",W40),選手名簿!$A:$E,5,FALSE))","v":""},null,null,null,null,null,null,null,{"$f":"IF(ISERROR(VLOOKUP(CONCATENATE($AD$34,\"_\",AC40),選手名簿!$A:$E,5,FALSE))=TRUE,\"\",VLOOKUP(CONCATENATE($AD$34,\"_\",AC40),選手名簿!$A:$E,5,FALSE))","v":""}]
[null,null,null,null,"得点者",{"$f":"IF(ISERROR(VLOOKUP(CONCATENATE($F$34,\"_\",G41),選手名簿!$A:$E,5,FALSE))=TRUE,\"\",VLOOKUP(CONCATENATE($F$34,\"_\",G41),選手名簿!$A:$E,5,FALSE))","v":""},null,null,null,null,null,null,null,{"$f":"IF(ISERROR(VLOOKUP(CONCATENATE($N$34,\"_\",M41),選手名簿!$A:$E,5,FALSE))=TRUE,\"\",VLOOKUP(CONCATENATE($N$34,\"_\",M41),選手名簿!$A:$E,5,FALSE))","v":""},null,null,null,null,null,null,"得点者",{"$f":"IF(ISERROR(VLOOKUP(CONCATENATE($V$34,\"_\",W41),選手名簿!$A:$E,5,FALSE))=TRUE,\"\",VLOOKUP(CONCATENATE($V$34,\"_\",W41),選手名簿!$A:$E,5,FALSE))","v":""},null,null,null,null,null,null,null,{"$f":"IF(ISERROR(VLOOKUP(CONCATENATE($AD$34,\"_\",AC41),選手名簿!$A:$E,5,FALSE))=TRUE,\"\",VLOOKUP(CONCATENATE($AD$34,\"_\",AC41),選手名簿!$A:$E,5,FALSE))","v":""}]
[null,null,null,null,"得点者",{"$f":"IF(ISERROR(VLOOKUP(CONCATENATE($F$34,\"_\",G42),選手名簿!$A:$E,5,FALSE))=TRUE,\"\",VLOOKUP(CONCATENATE($F$34,\"_\",G42),選手名簿!$A:$E,5,FALSE))","v":""},null,null,null,null,null,null,null,{"$f":"IF(ISERROR(VLOOKUP(CONCATENATE($N$34,\"_\",M42),選手名簿!$A:$E,5,FALSE))=TRUE,\"\",VLOOKUP(CONCATENATE($N$34,\"_\",M42),選手名簿!$A:$E,5,FALSE))","v":""},null,null,null,null,null,null,"得点者",{"$f":"IF(ISERROR(VLOOKUP(CONCATENATE($V$34,\"_\",W42),選手名簿!$A:$E,5,FALSE))=TRUE,\"\",VLOOKUP(CONCATENATE($V$34,\"_\",W42),選手名簿!$A:$E,5,FALSE))","v":""},null,null,null,null,null,null,null,{"$f":"IF(ISERROR(VLOOKUP(CONCATENATE($AD$34,\"_\",AC42),選手名簿!$A:$E,5,FALSE))=TRUE,\"\",VLOOKUP(CONCATENATE($AD$34,\"_\",AC42),選手名簿!$A:$E,5,FALSE))","v":""}]
[null,null,null,null,"得点者",{"$f":"IF(ISERROR(VLOOKUP(CONCATENATE($F$34,\"_\",G43),選手名簿!$A:$E,5,FALSE))=TRUE,\"\",VLOOKUP(CONCATENATE($F$34,\"_\",G43),選手名簿!$A:$E,5,FALSE))","v":""},null,null,null,null,null,null,null,{"$f":"IF(ISERROR(VLOOKUP(CONCATENATE($N$34,\"_\",M43),選手名簿!$A:$E,5,FALSE))=TRUE,\"\",VLOOKUP(CONCATENATE($N$34,\"_\",M43),選手名簿!$A:$E,5,FALSE))","v":""},null,null,null,null,null,null,"得点者",{"$f":"IF(ISERROR(VLOOKUP(CONCATENATE($V$34,\"_\",W43),選手名簿!$A:$E,5,FALSE))=TRUE,\"\",VLOOKUP(CONCATENATE($V$34,\"_\",W43),選手名簿!$A:$E,5,FALSE))","v":""},null,null,null,null,null,null,null,{"$f":"IF(ISERROR(VLOOKUP(CONCATENATE($AD$34,\"_\",AC43),選手名簿!$A:$E,5,FALSE))=TRUE,\"\",VLOOKUP(CONCATENATE($AD$34,\"_\",AC43),選手名簿!$A:$E,5,FALSE))","v":""}]
[null,null,null,null,"得点者",{"$f":"IF(ISERROR(VLOOKUP(CONCATENATE($F$34,\"_\",G44),選手名簿!$A:$E,5,FALSE))=TRUE,\"\",VLOOKUP(CONCATENATE($F$34,\"_\",G44),選手名簿!$A:$E,5,FALSE))","v":""},null,null,null,null,null,null,null,{"$f":"IF(ISERROR(VLOOKUP(CONCATENATE($N$34,\"_\",M44),選手名簿!$A:$E,5,FALSE))=TRUE,\"\",VLOOKUP(CONCATENATE($N$34,\"_\",M44),選手名簿!$A:$E,5,FALSE))","v":""},null,null,null,null,null,null,"得点者",{"$f":"IF(ISERROR(VLOOKUP(CONCATENATE($V$34,\"_\",W44),選手名簿!$A:$E,5,FALSE))=TRUE,\"\",VLOOKUP(CONCATENATE($V$34,\"_\",W44),選手名簿!$A:$E,5,FALSE))","v":""},null,null,null,null,null,null,null,{"$f":"IF(ISERROR(VLOOKUP(CONCATENATE($AD$34,\"_\",AC44),選手名簿!$A:$E,5,FALSE))=TRUE,\"\",VLOOKUP(CONCATENATE($AD$34,\"_\",AC44),選手名簿!$A:$E,5,FALSE))","v":""}]
[null,null,null,null,"得点者",{"$f":"IF(ISERROR(VLOOKUP(CONCATENATE($F$34,\"_\",G45),選手名簿!$A:$E,5,FALSE))=TRUE,\"\",VLOOKUP(CONCATENATE($F$34,\"_\",G45),選手名簿!$A:$E,5,FALSE))","v":""},null,null,null,null,null,null,null,{"$f":"IF(ISERROR(VLOOKUP(CONCATENATE($N$34,\"_\",M45),選手名簿!$A:$E,5,FALSE))=TRUE,\"\",VLOOKUP(CONCATENATE($N$34,\"_\",M45),選手名簿!$A:$E,5,FALSE))","v":""},null,null,null,null,null,null,"得点者",{"$f":"IF(ISERROR(VLOOKUP(CONCATENATE($V$34,\"_\",W45),選手名簿!$A:$E,5,FALSE))=TRUE,\"\",VLOOKUP(CONCATENATE($V$34,\"_\",W45),選手名簿!$A:$E,5,FALSE))","v":""},null,null,null,null,null,null,null,{"$f":"IF(ISERROR(VLOOKUP(CONCATENATE($AD$34,\"_\",AC45),選手名簿!$A:$E,5,FALSE))=TRUE,\"\",VLOOKUP(CONCATENATE($AD$34,\"_\",AC45),選手名簿!$A:$E,5,FALSE))","v":""}]
[null,null,null,null,"得点者",{"$f":"IF(ISERROR(VLOOKUP(CONCATENATE($F$34,\"_\",G46),選手名簿!$A:$E,5,FALSE))=TRUE,\"\",VLOOKUP(CONCATENATE($F$34,\"_\",G46),選手名簿!$A:$E,5,FALSE))","v":""},null,null,null,null,null,null,null,{"$f":"IF(ISERROR(VLOOKUP(CONCATENATE($N$34,\"_\",M46),選手名簿!$A:$E,5,FALSE))=TRUE,\"\",VLOOKUP(CONCATENATE($N$34,\"_\",M46),選手名簿!$A:$E,5,FALSE))","v":""},null,null,null,null,null,null,"得点者",{"$f":"IF(ISERROR(VLOOKUP(CONCATENATE($V$34,\"_\",W46),選手名簿!$A:$E,5,FALSE))=TRUE,\"\",VLOOKUP(CONCATENATE($V$34,\"_\",W46),選手名簿!$A:$E,5,FALSE))","v":""},null,null,null,null,null,null,null,{"$f":"IF(ISERROR(VLOOKUP(CONCATENATE($AD$34,\"_\",AC46),選手名簿!$A:$E,5,FALSE))=TRUE,\"\",VLOOKUP(CONCATENATE($AD$34,\"_\",AC46),選手名簿!$A:$E,5,FALSE))","v":""}]
[null,null,null,null,"得点者",{"$f":"IF(ISERROR(VLOOKUP(CONCATENATE($F$34,\"_\",G47),選手名簿!$A:$E,5,FALSE))=TRUE,\"\",VLOOKUP(CONCATENATE($F$34,\"_\",G47),選手名簿!$A:$E,5,FALSE))","v":""},null,null,null,null,null,null,null,{"$f":"IF(ISERROR(VLOOKUP(CONCATENATE($N$34,\"_\",M47),選手名簿!$A:$E,5,FALSE))=TRUE,\"\",VLOOKUP(CONCATENATE($N$34,\"_\",M47),選手名簿!$A:$E,5,FALSE))","v":""},null,null,null,null,null,null,"得点者",{"$f":"IF(ISERROR(VLOOKUP(CONCATENATE($V$34,\"_\",W47),選手名簿!$A:$E,5,FALSE))=TRUE,\"\",VLOOKUP(CONCATENATE($V$34,\"_\",W47),選手名簿!$A:$E,5,FALSE))","v":""},null,null,null,null,null,null,null,{"$f":"IF(ISERROR(VLOOKUP(CONCATENATE($AD$34,\"_\",AC47),選手名簿!$A:$E,5,FALSE))=TRUE,\"\",VLOOKUP(CONCATENATE($AD$34,\"_\",AC47),選手名簿!$A:$E,5,FALSE))","v":""}]
["＜Referee＞",null,null,null,"警告/退場\n選択肢より","氏名","番号","分","内容\n選択肢より",null,"内容\n選択肢より","分","番号","氏名","警告/退場\n選択肢より",null,"＜Referee＞",null,null,null,"警告/退場\n選択肢より","氏名","番号","分","内容\n選択肢より",null,"内容\n選択肢より","分","番号","氏名","警告/退場\n選択肢より"]
["番号","R009554780",null,null,null,{"$f":"IF(ISERROR(VLOOKUP(CONCATENATE($F$34,\"_\",G49),選手名簿!$A:$E,5,FALSE))=TRUE,\"\",VLOOKUP(CONCATENATE($F$34,\"_\",G49),選手名簿!$A:$E,5,FALSE))","v":""},null,null,null,null,"反スポ",26,8,{"$f":"IF(ISERROR(VLOOKUP(CONCATENATE($N$34,\"_\",M49),選手名簿!$A:$E,5,FALSE))=TRUE,\"\",VLOOKUP(CONCATENATE($N$34,\"_\",M49),選手名簿!$A:$E,5,FALSE))","v":"伊藤　凛人"},"警告",null,"番号","R005405699",null,null,null,{"$f":"IF(ISERROR(VLOOKUP(CONCATENATE($V$34,\"_\",W49),選手名簿!$A:$E,5,FALSE))=TRUE,\"\",VLOOKUP(CONCATENATE($V$34,\"_\",W49),選手名簿!$A:$E,5,FALSE))","v":""},null,null,null,null,null,null,null,{"$f":"IF(ISERROR(VLOOKUP(CONCATENATE($AD$34,\"_\",AC49),選手名簿!$A:$E,5,FALSE))=TRUE,\"\",VLOOKUP(CONCATENATE($AD$34,\"_\",AC49),選手名簿!$A:$E,5,FALSE))","v":""}]
["R",{"$f":"IF(ISERROR(VLOOKUP(B49,審判員!$A:$C,2,FALSE))=TRUE,\"\",VLOOKUP(B49,審判員!$A:$C,2,FALSE))","v":"白江　直樹"},null,{"$f":"IF(ISERROR(VLOOKUP(B49,審判員!$A:$C,3,FALSE))=TRUE,\"\",VLOOKUP(B49,審判員!$A:$C,3,FALSE))","v":"３級"},null,{"$f":"IF(ISERROR(VLOOKUP(CONCATENATE($F$34,\"_\",G50),選手名簿!$A:$E,5,FALSE))=TRUE,\"\",VLOOKUP(CONCATENATE($F$34,\"_\",G50),選手名簿!$A:$E,5,FALSE))","v":""},null,null,null,null,null,null,null,{"$f":"IF(ISERROR(VLOOKUP(CONCATENATE($N$34,\"_\",M50),選手名簿!$A:$E,5,FALSE))=TRUE,\"\",VLOOKUP(CONCATENATE($N$34,\"_\",M50),選手名簿!$A:$E,5,FALSE))","v":""},null,null,"R",{"$f":"IF(ISERROR(VLOOKUP(R49,審判員!$A:$C,2,FALSE))=TRUE,\"\",VLOOKUP(R49,審判員!$A:$C,2,FALSE))","v":"箕迫　雄介"},null,{"$f":"IF(ISERROR(VLOOKUP(R49,審判員!$A:$C,3,FALSE))=TRUE,\"\",VLOOKUP(R49,審判員!$A:$C,3,FALSE))","v":"３級"},null,{"$f":"IF(ISERROR(VLOOKUP(CONCATENATE($V$34,\"_\",W50),選手名簿!$A:$E,5,FALSE))=TRUE,\"\",VLOOKUP(CONCATENATE($V$34,\"_\",W50),選手名簿!$A:$E,5,FALSE))","v":""},null,null,null,null,null,null,null,{"$f":"IF(ISERROR(VLOOKUP(CONCATENATE($AD$34,\"_\",AC50),選手名簿!$A:$E,5,FALSE))=TRUE,\"\",VLOOKUP(CONCATENATE($AD$34,\"_\",AC50),選手名簿!$A:$E,5,FALSE))","v":""}]
["番号","R009197594",null,null,null,{"$f":"IF(ISERROR(VLOOKUP(CONCATENATE($F$34,\"_\",G51),選手名簿!$A:$E,5,FALSE))=TRUE,\"\",VLOOKUP(CONCATENATE($F$34,\"_\",G51),選手名簿!$A:$E,5,FALSE))","v":""},null,null,null,null,null,null,null,{"$f":"IF(ISERROR(VLOOKUP(CONCATENATE($N$34,\"_\",M51),選手名簿!$A:$E,5,FALSE))=TRUE,\"\",VLOOKUP(CONCATENATE($N$34,\"_\",M51),選手名簿!$A:$E,5,FALSE))","v":""},null,null,"番号","R001261477",null,null,null,{"$f":"IF(ISERROR(VLOOKUP(CONCATENATE($V$34,\"_\",W51),選手名簿!$A:$E,5,FALSE))=TRUE,\"\",VLOOKUP(CONCATENATE($V$34,\"_\",W51),選手名簿!$A:$E,5,FALSE))","v":""},null,null,null,null,null,null,null,{"$f":"IF(ISERROR(VLOOKUP(CONCATENATE($AD$34,\"_\",AC51),選手名簿!$A:$E,5,FALSE))=TRUE,\"\",VLOOKUP(CONCATENATE($AD$34,\"_\",AC51),選手名簿!$A:$E,5,FALSE))","v":""}]
["AR1:",{"$f":"IF(ISERROR(VLOOKUP(B51,審判員!$A:$C,2,FALSE))=TRUE,\"\",VLOOKUP(B51,審判員!$A:$C,2,FALSE))","v":"柳元　哲哉"},null,{"$f":"IF(ISERROR(VLOOKUP(B51,審判員!$A:$C,3,FALSE))=TRUE,\"\",VLOOKUP(B51,審判員!$A:$C,3,FALSE))","v":"３級"},null,{"$f":"IF(ISERROR(VLOOKUP(CONCATENATE($F$34,\"_\",G52),選手名簿!$A:$E,5,FALSE))=TRUE,\"\",VLOOKUP(CONCATENATE($F$34,\"_\",G52),選手名簿!$A:$E,5,FALSE))","v":""},null,null,null,null,null,null,null,{"$f":"IF(ISERROR(VLOOKUP(CONCATENATE($N$34,\"_\",M52),選手名簿!$A:$E,5,FALSE))=TRUE,\"\",VLOOKUP(CONCATENATE($N$34,\"_\",M52),選手名簿!$A:$E,5,FALSE))","v":""},null,null,"AR1:",{"$f":"IF(ISERROR(VLOOKUP(R51,審判員!$A:$C,2,FALSE))=TRUE,\"\",VLOOKUP(R51,審判員!$A:$C,2,FALSE))","v":"柳本　剛"},null,{"$f":"IF(ISERROR(VLOOKUP(R51,審判員!$A:$C,3,FALSE))=TRUE,\"\",VLOOKUP(R51,審判員!$A:$C,3,FALSE))","v":"３級"},null,{"$f":"IF(ISERROR(VLOOKUP(CONCATENATE($V$34,\"_\",W52),選手名簿!$A:$E,5,FALSE))=TRUE,\"\",VLOOKUP(CONCATENATE($V$34,\"_\",W52),選手名簿!$A:$E,5,FALSE))","v":""},null,null,null,null,null,null,null,{"$f":"IF(ISERROR(VLOOKUP(CONCATENATE($AD$34,\"_\",AC52),選手名簿!$A:$E,5,FALSE))=TRUE,\"\",VLOOKUP(CONCATENATE($AD$34,\"_\",AC52),選手名簿!$A:$E,5,FALSE))","v":""}]
["番号","R001263411",null,null,null,{"$f":"IF(ISERROR(VLOOKUP(CONCATENATE($F$34,\"_\",G53),選手名簿!$A:$E,5,FALSE))=TRUE,\"\",VLOOKUP(CONCATENATE($F$34,\"_\",G53),選手名簿!$A:$E,5,FALSE))","v":""},null,null,null,null,null,null,null,{"$f":"IF(ISERROR(VLOOKUP(CONCATENATE($N$34,\"_\",M53),選手名簿!$A:$E,5,FALSE))=TRUE,\"\",VLOOKUP(CONCATENATE($N$34,\"_\",M53),選手名簿!$A:$E,5,FALSE))","v":""},null,null,"番号","R006093817",null,null,null,{"$f":"IF(ISERROR(VLOOKUP(CONCATENATE($V$34,\"_\",W53),選手名簿!$A:$E,5,FALSE))=TRUE,\"\",VLOOKUP(CONCATENATE($V$34,\"_\",W53),選手名簿!$A:$E,5,FALSE))","v":""},null,null,null,null,null,null,null,{"$f":"IF(ISERROR(VLOOKUP(CONCATENATE($AD$34,\"_\",AC53),選手名簿!$A:$E,5,FALSE))=TRUE,\"\",VLOOKUP(CONCATENATE($AD$34,\"_\",AC53),選手名簿!$A:$E,5,FALSE))","v":""}]
["AR2:",{"$f":"IF(ISERROR(VLOOKUP(B53,審判員!$A:$C,2,FALSE))=TRUE,\"\",VLOOKUP(B53,審判員!$A:$C,2,FALSE))","v":"佐々木　正志"},null,{"$f":"IF(ISERROR(VLOOKUP(B53,審判員!$A:$C,3,FALSE))=TRUE,\"\",VLOOKUP(B53,審判員!$A:$C,3,FALSE))","v":"３級"},null,{"$f":"IF(ISERROR(VLOOKUP(CONCATENATE($F$34,\"_\",G54),選手名簿!$A:$E,5,FALSE))=TRUE,\"\",VLOOKUP(CONCATENATE($F$34,\"_\",G54),選手名簿!$A:$E,5,FALSE))","v":""},null,null,null,null,null,null,null,{"$f":"IF(ISERROR(VLOOKUP(CONCATENATE($N$34,\"_\",M54),選手名簿!$A:$E,5,FALSE))=TRUE,\"\",VLOOKUP(CONCATENATE($N$34,\"_\",M54),選手名簿!$A:$E,5,FALSE))","v":""},null,null,"AR2:",{"$f":"IF(ISERROR(VLOOKUP(R53,審判員!$A:$C,2,FALSE))=TRUE,\"\",VLOOKUP(R53,審判員!$A:$C,2,FALSE))","v":"幸　壮一郎"},null,{"$f":"IF(ISERROR(VLOOKUP(R53,審判員!$A:$C,3,FALSE))=TRUE,\"\",VLOOKUP(R53,審判員!$A:$C,3,FALSE))","v":"２級"},null,{"$f":"IF(ISERROR(VLOOKUP(CONCATENATE($V$34,\"_\",W54),選手名簿!$A:$E,5,FALSE))=TRUE,\"\",VLOOKUP(CONCATENATE($V$34,\"_\",W54),選手名簿!$A:$E,5,FALSE))","v":""},null,null,null,null,null,null,null,{"$f":"IF(ISERROR(VLOOKUP(CONCATENATE($AD$34,\"_\",AC54),選手名簿!$A:$E,5,FALSE))=TRUE,\"\",VLOOKUP(CONCATENATE($AD$34,\"_\",AC54),選手名簿!$A:$E,5,FALSE))","v":""}]
["番号","R003350854",null,null,null,{"$f":"IF(ISERROR(VLOOKUP(CONCATENATE($F$34,\"_\",G55),選手名簿!$A:$E,5,FALSE))=TRUE,\"\",VLOOKUP(CONCATENATE($F$34,\"_\",G55),選手名簿!$A:$E,5,FALSE))","v":""},null,null,null,null,null,null,null,{"$f":"IF(ISERROR(VLOOKUP(CONCATENATE($N$34,\"_\",M55),選手名簿!$A:$E,5,FALSE))=TRUE,\"\",VLOOKUP(CONCATENATE($N$34,\"_\",M55),選手名簿!$A:$E,5,FALSE))","v":""},null,null,"番号","R001265385",null,null,null,{"$f":"IF(ISERROR(VLOOKUP(CONCATENATE($V$34,\"_\",W55),選手名簿!$A:$E,5,FALSE))=TRUE,\"\",VLOOKUP(CONCATENATE($V$34,\"_\",W55),選手名簿!$A:$E,5,FALSE))","v":""},null,null,null,null,null,null,null,{"$f":"IF(ISERROR(VLOOKUP(CONCATENATE($AD$34,\"_\",AC55),選手名簿!$A:$E,5,FALSE))=TRUE,\"\",VLOOKUP(CONCATENATE($AD$34,\"_\",AC55),選手名簿!$A:$E,5,FALSE))","v":""}]
["4th:",{"$f":"IF(ISERROR(VLOOKUP(B55,審判員!$A:$C,2,FALSE))=TRUE,\"\",VLOOKUP(B55,審判員!$A:$C,2,FALSE))","v":"毛藤　勇三"},null,{"$f":"IF(ISERROR(VLOOKUP(B55,審判員!$A:$C,3,FALSE))=TRUE,\"\",VLOOKUP(B55,審判員!$A:$C,3,FALSE))","v":"３級"},null,{"$f":"IF(ISERROR(VLOOKUP(CONCATENATE($F$34,\"_\",G56),選手名簿!$A:$E,5,FALSE))=TRUE,\"\",VLOOKUP(CONCATENATE($F$34,\"_\",G56),選手名簿!$A:$E,5,FALSE))","v":""},null,null,null,null,null,null,null,{"$f":"IF(ISERROR(VLOOKUP(CONCATENATE($N$34,\"_\",M56),選手名簿!$A:$E,5,FALSE))=TRUE,\"\",VLOOKUP(CONCATENATE($N$34,\"_\",M56),選手名簿!$A:$E,5,FALSE))","v":""},null,null,"4th:",{"$f":"IF(ISERROR(VLOOKUP(R55,審判員!$A:$C,2,FALSE))=TRUE,\"\",VLOOKUP(R55,審判員!$A:$C,2,FALSE))","v":"須藤　健二"},null,{"$f":"IF(ISERROR(VLOOKUP(R55,審判員!$A:$C,3,FALSE))=TRUE,\"\",VLOOKUP(R55,審判員!$A:$C,3,FALSE))","v":"２級"},null,{"$f":"IF(ISERROR(VLOOKUP(CONCATENATE($V$34,\"_\",W56),選手名簿!$A:$E,5,FALSE))=TRUE,\"\",VLOOKUP(CONCATENATE($V$34,\"_\",W56),選手名簿!$A:$E,5,FALSE))","v":""},null,null,null,null,null,null,null,{"$f":"IF(ISERROR(VLOOKUP(CONCATENATE($AD$34,\"_\",AC56),選手名簿!$A:$E,5,FALSE))=TRUE,\"\",VLOOKUP(CONCATENATE($AD$34,\"_\",AC56),選手名簿!$A:$E,5,FALSE))","v":""}]
[]
[]
[]
[]
[null,"Match No：30"]
["MC",null,null,null,{"$f":"決勝トーナメント!T17","v":"11:10:00"},"スマイス　セレソン　スポーツクラブ",{"$f":"SUM(I62:I63)","v":1},"（",1,"前半",0,"）",{"$f":"SUM(K62:K63)","v":2},"ＦＣ中津ジュニア"]
["Welfare\nOfficer",null,null,null,null,null,null,null,0,"後半",2]
["記録","大鶴　翔太郎",null,null,null,null,null,null,null,"PK"]
[null,null,null,null,null,"氏名","番号","分",null,null,null,"分","番号","氏名"]
[null,null,null,null,"得点者",{"$f":"IF(ISERROR(VLOOKUP(CONCATENATE($F$62,\"_\",G66),選手名簿!$A:$E,5,FALSE))=TRUE,\"\",VLOOKUP(CONCATENATE($F$62,\"_\",G66),選手名簿!$A:$E,5,FALSE))","v":""},null,null,null,null,null,null,null,{"$f":"IF(ISERROR(VLOOKUP(CONCATENATE($N$62,\"_\",M66),選手名簿!$A:$E,5,FALSE))=TRUE,\"\",VLOOKUP(CONCATENATE($N$62,\"_\",M66),選手名簿!$A:$E,5,FALSE))","v":""}]
[null,null,null,null,"得点者",{"$f":"IF(ISERROR(VLOOKUP(CONCATENATE($F$62,\"_\",G67),選手名簿!$A:$E,5,FALSE))=TRUE,\"\",VLOOKUP(CONCATENATE($F$62,\"_\",G67),選手名簿!$A:$E,5,FALSE))","v":""},null,null,null,null,null,null,null,{"$f":"IF(ISERROR(VLOOKUP(CONCATENATE($N$62,\"_\",M67),選手名簿!$A:$E,5,FALSE))=TRUE,\"\",VLOOKUP(CONCATENATE($N$62,\"_\",M67),選手名簿!$A:$E,5,FALSE))","v":""}]
[null,null,null,null,"得点者",{"$f":"IF(ISERROR(VLOOKUP(CONCATENATE($F$62,\"_\",G68),選手名簿!$A:$E,5,FALSE))=TRUE,\"\",VLOOKUP(CONCATENATE($F$62,\"_\",G68),選手名簿!$A:$E,5,FALSE))","v":""},null,null,null,null,null,null,null,{"$f":"IF(ISERROR(VLOOKUP(CONCATENATE($N$62,\"_\",M68),選手名簿!$A:$E,5,FALSE))=TRUE,\"\",VLOOKUP(CONCATENATE($N$62,\"_\",M68),選手名簿!$A:$E,5,FALSE))","v":""}]
[null,null,null,null,"得点者",{"$f":"IF(ISERROR(VLOOKUP(CONCATENATE($F$62,\"_\",G69),選手名簿!$A:$E,5,FALSE))=TRUE,\"\",VLOOKUP(CONCATENATE($F$62,\"_\",G69),選手名簿!$A:$E,5,FALSE))","v":""},null,null,null,null,null,null,null,{"$f":"IF(ISERROR(VLOOKUP(CONCATENATE($N$62,\"_\",M69),選手名簿!$A:$E,5,FALSE))=TRUE,\"\",VLOOKUP(CONCATENATE($N$62,\"_\",M69),選手名簿!$A:$E,5,FALSE))","v":""}]
[null,null,null,null,"得点者",{"$f":"IF(ISERROR(VLOOKUP(CONCATENATE($F$62,\"_\",G70),選手名簿!$A:$E,5,FALSE))=TRUE,\"\",VLOOKUP(CONCATENATE($F$62,\"_\",G70),選手名簿!$A:$E,5,FALSE))","v":""},null,null,null,null,null,null,null,{"$f":"IF(ISERROR(VLOOKUP(CONCATENATE($N$62,\"_\",M70),選手名簿!$A:$E,5,FALSE))=TRUE,\"\",VLOOKUP(CONCATENATE($N$62,\"_\",M70),選手名簿!$A:$E,5,FALSE))","v":""}]
[null,null,null,null,"得点者",{"$f":"IF(ISERROR(VLOOKUP(CONCATENATE($F$62,\"_\",G71),選手名簿!$A:$E,5,FALSE))=TRUE,\"\",VLOOKUP(CONCATENATE($F$62,\"_\",G71),選手名簿!$A:$E,5,FALSE))","v":""},null,null,null,null,null,null,null,{"$f":"IF(ISERROR(VLOOKUP(CONCATENATE($N$62,\"_\",M71),選手名簿!$A:$E,5,FALSE))=TRUE,\"\",VLOOKUP(CONCATENATE($N$62,\"_\",M71),選手名簿!$A:$E,5,FALSE))","v":""}]
[null,null,null,null,"得点者",{"$f":"IF(ISERROR(VLOOKUP(CONCATENATE($F$62,\"_\",G72),選手名簿!$A:$E,5,FALSE))=TRUE,\"\",VLOOKUP(CONCATENATE($F$62,\"_\",G72),選手名簿!$A:$E,5,FALSE))","v":""},null,null,null,null,null,null,null,{"$f":"IF(ISERROR(VLOOKUP(CONCATENATE($N$62,\"_\",M72),選手名簿!$A:$E,5,FALSE))=TRUE,\"\",VLOOKUP(CONCATENATE($N$62,\"_\",M72),選手名簿!$A:$E,5,FALSE))","v":""}]
[null,null,null,null,"得点者",{"$f":"IF(ISERROR(VLOOKUP(CONCATENATE($F$62,\"_\",G73),選手名簿!$A:$E,5,FALSE))=TRUE,\"\",VLOOKUP(CONCATENATE($F$62,\"_\",G73),選手名簿!$A:$E,5,FALSE))","v":""},null,null,null,null,null,null,null,{"$f":"IF(ISERROR(VLOOKUP(CONCATENATE($N$62,\"_\",M73),選手名簿!$A:$E,5,FALSE))=TRUE,\"\",VLOOKUP(CONCATENATE($N$62,\"_\",M73),選手名簿!$A:$E,5,FALSE))","v":""}]
[null,null,null,null,"得点者",{"$f":"IF(ISERROR(VLOOKUP(CONCATENATE($F$62,\"_\",G74),選手名簿!$A:$E,5,FALSE))=TRUE,\"\",VLOOKUP(CONCATENATE($F$62,\"_\",G74),選手名簿!$A:$E,5,FALSE))","v":""},null,null,null,null,null,null,null,{"$f":"IF(ISERROR(VLOOKUP(CONCATENATE($N$62,\"_\",M74),選手名簿!$A:$E,5,FALSE))=TRUE,\"\",VLOOKUP(CONCATENATE($N$62,\"_\",M74),選手名簿!$A:$E,5,FALSE))","v":""}]
[null,null,null,null,"得点者",{"$f":"IF(ISERROR(VLOOKUP(CONCATENATE($F$62,\"_\",G75),選手名簿!$A:$E,5,FALSE))=TRUE,\"\",VLOOKUP(CONCATENATE($F$62,\"_\",G75),選手名簿!$A:$E,5,FALSE))","v":""},null,null,null,null,null,null,null,{"$f":"IF(ISERROR(VLOOKUP(CONCATENATE($N$62,\"_\",M75),選手名簿!$A:$E,5,FALSE))=TRUE,\"\",VLOOKUP(CONCATENATE($N$62,\"_\",M75),選手名簿!$A:$E,5,FALSE))","v":""}]
["＜Referee＞",null,null,null,"警告/退場\n選択肢より","氏名","番号","分","内容\n選択肢より",null,"内容\n選択肢より","分","番号","氏名","警告/退場\n選択肢より"]
["番号","R009460551",null,null,null,{"$f":"IF(ISERROR(VLOOKUP(CONCATENATE($F$62,\"_\",G77),選手名簿!$A:$E,5,FALSE))=TRUE,\"\",VLOOKUP(CONCATENATE($F$62,\"_\",G77),選手名簿!$A:$E,5,FALSE))","v":""},null,null,null,null,null,null,null,{"$f":"IF(ISERROR(VLOOKUP(CONCATENATE($N$62,\"_\",M77),選手名簿!$A:$E,5,FALSE))=TRUE,\"\",VLOOKUP(CONCATENATE($N$62,\"_\",M77),選手名簿!$A:$E,5,FALSE))","v":""}]
["R",{"$f":"IF(ISERROR(VLOOKUP(B77,審判員!$A:$C,2,FALSE))=TRUE,\"\",VLOOKUP(B77,審判員!$A:$C,2,FALSE))","v":"佐藤　慎二"},null,{"$f":"IF(ISERROR(VLOOKUP(B77,審判員!$A:$C,3,FALSE))=TRUE,\"\",VLOOKUP(B77,審判員!$A:$C,3,FALSE))","v":"３級"},null,{"$f":"IF(ISERROR(VLOOKUP(CONCATENATE($F$62,\"_\",G78),選手名簿!$A:$E,5,FALSE))=TRUE,\"\",VLOOKUP(CONCATENATE($F$62,\"_\",G78),選手名簿!$A:$E,5,FALSE))","v":""},null,null,null,null,null,null,null,{"$f":"IF(ISERROR(VLOOKUP(CONCATENATE($N$62,\"_\",M78),選手名簿!$A:$E,5,FALSE))=TRUE,\"\",VLOOKUP(CONCATENATE($N$62,\"_\",M78),選手名簿!$A:$E,5,FALSE))","v":""}]
["番号",null,null,null,null,{"$f":"IF(ISERROR(VLOOKUP(CONCATENATE($F$62,\"_\",G79),選手名簿!$A:$E,5,FALSE))=TRUE,\"\",VLOOKUP(CONCATENATE($F$62,\"_\",G79),選手名簿!$A:$E,5,FALSE))","v":""},null,null,null,null,null,null,null,{"$f":"IF(ISERROR(VLOOKUP(CONCATENATE($N$62,\"_\",M79),選手名簿!$A:$E,5,FALSE))=TRUE,\"\",VLOOKUP(CONCATENATE($N$62,\"_\",M79),選手名簿!$A:$E,5,FALSE))","v":""}]
["AR1:",{"$f":"IF(ISERROR(VLOOKUP(B79,審判員!$A:$C,2,FALSE))=TRUE,\"\",VLOOKUP(B79,審判員!$A:$C,2,FALSE))","v":""},null,{"$f":"IF(ISERROR(VLOOKUP(B79,審判員!$A:$C,3,FALSE))=TRUE,\"\",VLOOKUP(B79,審判員!$A:$C,3,FALSE))","v":""},null,{"$f":"IF(ISERROR(VLOOKUP(CONCATENATE($F$62,\"_\",G80),選手名簿!$A:$E,5,FALSE))=TRUE,\"\",VLOOKUP(CONCATENATE($F$62,\"_\",G80),選手名簿!$A:$E,5,FALSE))","v":""},null,null,null,null,null,null,null,{"$f":"IF(ISERROR(VLOOKUP(CONCATENATE($N$62,\"_\",M80),選手名簿!$A:$E,5,FALSE))=TRUE,\"\",VLOOKUP(CONCATENATE($N$62,\"_\",M80),選手名簿!$A:$E,5,FALSE))","v":""}]
["番号",null,null,null,null,{"$f":"IF(ISERROR(VLOOKUP(CONCATENATE($F$62,\"_\",G81),選手名簿!$A:$E,5,FALSE))=TRUE,\"\",VLOOKUP(CONCATENATE($F$62,\"_\",G81),選手名簿!$A:$E,5,FALSE))","v":""},null,null,null,null,null,null,null,{"$f":"IF(ISERROR(VLOOKUP(CONCATENATE($N$62,\"_\",M81),選手名簿!$A:$E,5,FALSE))=TRUE,\"\",VLOOKUP(CONCATENATE($N$62,\"_\",M81),選手名簿!$A:$E,5,FALSE))","v":""}]
["AR2:",{"$f":"IF(ISERROR(VLOOKUP(B81,審判員!$A:$C,2,FALSE))=TRUE,\"\",VLOOKUP(B81,審判員!$A:$C,2,FALSE))","v":""},null,{"$f":"IF(ISERROR(VLOOKUP(B81,審判員!$A:$C,3,FALSE))=TRUE,\"\",VLOOKUP(B81,審判員!$A:$C,3,FALSE))","v":""},null,{"$f":"IF(ISERROR(VLOOKUP(CONCATENATE($F$62,\"_\",G82),選手名簿!$A:$E,5,FALSE))=TRUE,\"\",VLOOKUP(CONCATENATE($F$62,\"_\",G82),選手名簿!$A:$E,5,FALSE))","v":""},null,null,null,null,null,null,null,{"$f":"IF(ISERROR(VLOOKUP(CONCATENATE($N$62,\"_\",M82),選手名簿!$A:$E,5,FALSE))=TRUE,\"\",VLOOKUP(CONCATENATE($N$62,\"_\",M82),選手名簿!$A:$E,5,FALSE))","v":""}]
["番号","R001256402",null,null,null,{"$f":"IF(ISERROR(VLOOKUP(CONCATENATE($F$62,\"_\",G83),選手名簿!$A:$E,5,FALSE))=TRUE,\"\",VLOOKUP(CONCATENATE($F$62,\"_\",G83),選手名簿!$A:$E,5,FALSE))","v":""},null,null,null,null,null,null,null,{"$f":"IF(ISERROR(VLOOKUP(CONCATENATE($N$62,\"_\",M83),選手名簿!$A:$E,5,FALSE))=TRUE,\"\",VLOOKUP(CONCATENATE($N$62,\"_\",M83),選手名簿!$A:$E,5,FALSE))","v":""}]
["4th:",{"$f":"IF(ISERROR(VLOOKUP(B83,審判員!$A:$C,2,FALSE))=TRUE,\"\",VLOOKUP(B83,審判員!$A:$C,2,FALSE))","v":"小石川　悟"},null,{"$f":"IF(ISERROR(VLOOKUP(B83,審判員!$A:$C,3,FALSE))=TRUE,\"\",VLOOKUP(B83,審判員!$A:$C,3,FALSE))","v":"３級"},null,{"$f":"IF(ISERROR(VLOOKUP(CONCATENATE($F$62,\"_\",G84),選手名簿!$A:$E,5,FALSE))=TRUE,\"\",VLOOKUP(CONCATENATE($F$62,\"_\",G84),選手名簿!$A:$E,5,FALSE))","v":""},null,null,null,null,null,null,null,{"$f":"IF(ISERROR(VLOOKUP(CONCATENATE($N$62,\"_\",M84),選手名簿!$A:$E,5,FALSE))=TRUE,\"\",VLOOKUP(CONCATENATE($N$62,\"_\",M84),選手名簿!$A:$E,5,FALSE))","v":""}]
[]
[]
[]
[]
[null,"Match No：32"]
["MC",null,null,null,{"$f":"決勝トーナメント!T21","v":"12:00:00"},"東大分サッカースポーツ少年団",{"$f":"SUM(I90:I91)","v":4},"（",2,"前半",0,"）",{"$f":"SUM(K90:K91)","v":0},"千怒サッカースポーツ少年団"]
["Welfare\nOfficer",null,null,null,null,null,null,null,2,"後半",0]
["記録","市原　宗久",null,null,null,null,null,null,null,"PK"]
[null,null,null,null,null,"氏名","番号","分",null,null,null,"分","番号","氏名"]
[null,null,null,null,"得点者",{"$f":"IF(ISERROR(VLOOKUP(CONCATENATE($F$90,\"_\",G94),選手名簿!$A:$E,5,FALSE))=TRUE,\"\",VLOOKUP(CONCATENATE($F$90,\"_\",G94),選手名簿!$A:$E,5,FALSE))","v":""},null,null,null,null,null,null,null,{"$f":"IF(ISERROR(VLOOKUP(CONCATENATE($N$90,\"_\",M94),選手名簿!$A:$E,5,FALSE))=TRUE,\"\",VLOOKUP(CONCATENATE($N$90,\"_\",M94),選手名簿!$A:$E,5,FALSE))","v":""}]
[null,null,null,null,"得点者",{"$f":"IF(ISERROR(VLOOKUP(CONCATENATE($F$90,\"_\",G95),選手名簿!$A:$E,5,FALSE))=TRUE,\"\",VLOOKUP(CONCATENATE($F$90,\"_\",G95),選手名簿!$A:$E,5,FALSE))","v":""},null,null,null,null,null,null,null,{"$f":"IF(ISERROR(VLOOKUP(CONCATENATE($N$90,\"_\",M95),選手名簿!$A:$E,5,FALSE))=TRUE,\"\",VLOOKUP(CONCATENATE($N$90,\"_\",M95),選手名簿!$A:$E,5,FALSE))","v":""}]
[null,null,null,null,"得点者",{"$f":"IF(ISERROR(VLOOKUP(CONCATENATE($F$90,\"_\",G96),選手名簿!$A:$E,5,FALSE))=TRUE,\"\",VLOOKUP(CONCATENATE($F$90,\"_\",G96),選手名簿!$A:$E,5,FALSE))","v":""},null,null,null,null,null,null,null,{"$f":"IF(ISERROR(VLOOKUP(CONCATENATE($N$90,\"_\",M96),選手名簿!$A:$E,5,FALSE))=TRUE,\"\",VLOOKUP(CONCATENATE($N$90,\"_\",M96),選手名簿!$A:$E,5,FALSE))","v":""}]
[null,null,null,null,"得点者",{"$f":"IF(ISERROR(VLOOKUP(CONCATENATE($F$90,\"_\",G97),選手名簿!$A:$E,5,FALSE))=TRUE,\"\",VLOOKUP(CONCATENATE($F$90,\"_\",G97),選手名簿!$A:$E,5,FALSE))","v":""},null,null,null,null,null,null,null,{"$f":"IF(ISERROR(VLOOKUP(CONCATENATE($N$90,\"_\",M97),選手名簿!$A:$E,5,FALSE))=TRUE,\"\",VLOOKUP(CONCATENATE($N$90,\"_\",M97),選手名簿!$A:$E,5,FALSE))","v":""}]
[null,null,null,null,"得点者",{"$f":"IF(ISERROR(VLOOKUP(CONCATENATE($F$90,\"_\",G98),選手名簿!$A:$E,5,FALSE))=TRUE,\"\",VLOOKUP(CONCATENATE($F$90,\"_\",G98),選手名簿!$A:$E,5,FALSE))","v":""},null,null,null,null,null,null,null,{"$f":"IF(ISERROR(VLOOKUP(CONCATENATE($N$90,\"_\",M98),選手名簿!$A:$E,5,FALSE))=TRUE,\"\",VLOOKUP(CONCATENATE($N$90,\"_\",M98),選手名簿!$A:$E,5,FALSE))","v":""}]
[null,null,null,null,"得点者",{"$f":"IF(ISERROR(VLOOKUP(CONCATENATE($F$90,\"_\",G99),選手名簿!$A:$E,5,FALSE))=TRUE,\"\",VLOOKUP(CONCATENATE($F$90,\"_\",G99),選手名簿!$A:$E,5,FALSE))","v":""},null,null,null,null,null,null,null,{"$f":"IF(ISERROR(VLOOKUP(CONCATENATE($N$90,\"_\",M99),選手名簿!$A:$E,5,FALSE))=TRUE,\"\",VLOOKUP(CONCATENATE($N$90,\"_\",M99),選手名簿!$A:$E,5,FALSE))","v":""}]
[null,null,null,null,"得点者",{"$f":"IF(ISERROR(VLOOKUP(CONCATENATE($F$90,\"_\",G100),選手名簿!$A:$E,5,FALSE))=TRUE,\"\",VLOOKUP(CONCATENATE($F$90,\"_\",G100),選手名簿!$A:$E,5,FALSE))","v":""},null,null,null,null,null,null,null,{"$f":"IF(ISERROR(VLOOKUP(CONCATENATE($N$90,\"_\",M100),選手名簿!$A:$E,5,FALSE))=TRUE,\"\",VLOOKUP(CONCATENATE($N$90,\"_\",M100),選手名簿!$A:$E,5,FALSE))","v":""}]
[null,null,null,null,"得点者",{"$f":"IF(ISERROR(VLOOKUP(CONCATENATE($F$90,\"_\",G101),選手名簿!$A:$E,5,FALSE))=TRUE,\"\",VLOOKUP(CONCATENATE($F$90,\"_\",G101),選手名簿!$A:$E,5,FALSE))","v":""},null,null,null,null,null,null,null,{"$f":"IF(ISERROR(VLOOKUP(CONCATENATE($N$90,\"_\",M101),選手名簿!$A:$E,5,FALSE))=TRUE,\"\",VLOOKUP(CONCATENATE($N$90,\"_\",M101),選手名簿!$A:$E,5,FALSE))","v":""}]
[null,null,null,null,"得点者",{"$f":"IF(ISERROR(VLOOKUP(CONCATENATE($F$90,\"_\",G102),選手名簿!$A:$E,5,FALSE))=TRUE,\"\",VLOOKUP(CONCATENATE($F$90,\"_\",G102),選手名簿!$A:$E,5,FALSE))","v":""},null,null,null,null,null,null,null,{"$f":"IF(ISERROR(VLOOKUP(CONCATENATE($N$90,\"_\",M102),選手名簿!$A:$E,5,FALSE))=TRUE,\"\",VLOOKUP(CONCATENATE($N$90,\"_\",M102),選手名簿!$A:$E,5,FALSE))","v":""}]
[null,null,null,null,"得点者",{"$f":"IF(ISERROR(VLOOKUP(CONCATENATE($F$90,\"_\",G103),選手名簿!$A:$E,5,FALSE))=TRUE,\"\",VLOOKUP(CONCATENATE($F$90,\"_\",G103),選手名簿!$A:$E,5,FALSE))","v":""},null,null,null,null,null,null,null,{"$f":"IF(ISERROR(VLOOKUP(CONCATENATE($N$90,\"_\",M103),選手名簿!$A:$E,5,FALSE))=TRUE,\"\",VLOOKUP(CONCATENATE($N$90,\"_\",M103),選手名簿!$A:$E,5,FALSE))","v":""}]
["＜Referee＞",null,null,null,"警告/退場\n選択肢より","氏名","番号","分","内容\n選択肢より",null,"内容\n選択肢より","分","番号","氏名","警告/退場\n選択肢より"]
["番号","R001263411",null,null,null,{"$f":"IF(ISERROR(VLOOKUP(CONCATENATE($F$90,\"_\",G105),選手名簿!$A:$E,5,FALSE))=TRUE,\"\",VLOOKUP(CONCATENATE($F$90,\"_\",G105),選手名簿!$A:$E,5,FALSE))","v":""},null,null,null,null,null,null,null,{"$f":"IF(ISERROR(VLOOKUP(CONCATENATE($N$90,\"_\",M105),選手名簿!$A:$E,5,FALSE))=TRUE,\"\",VLOOKUP(CONCATENATE($N$90,\"_\",M105),選手名簿!$A:$E,5,FALSE))","v":""}]
["R",{"$f":"IF(ISERROR(VLOOKUP(B105,審判員!$A:$C,2,FALSE))=TRUE,\"\",VLOOKUP(B105,審判員!$A:$C,2,FALSE))","v":"佐々木　正志"},null,{"$f":"IF(ISERROR(VLOOKUP(B105,審判員!$A:$C,3,FALSE))=TRUE,\"\",VLOOKUP(B105,審判員!$A:$C,3,FALSE))","v":"３級"},null,{"$f":"IF(ISERROR(VLOOKUP(CONCATENATE($F$90,\"_\",G106),選手名簿!$A:$E,5,FALSE))=TRUE,\"\",VLOOKUP(CONCATENATE($F$90,\"_\",G106),選手名簿!$A:$E,5,FALSE))","v":""},null,null,null,null,null,null,null,{"$f":"IF(ISERROR(VLOOKUP(CONCATENATE($N$90,\"_\",M106),選手名簿!$A:$E,5,FALSE))=TRUE,\"\",VLOOKUP(CONCATENATE($N$90,\"_\",M106),選手名簿!$A:$E,5,FALSE))","v":""}]
["番号",null,null,null,null,{"$f":"IF(ISERROR(VLOOKUP(CONCATENATE($F$90,\"_\",G107),選手名簿!$A:$E,5,FALSE))=TRUE,\"\",VLOOKUP(CONCATENATE($F$90,\"_\",G107),選手名簿!$A:$E,5,FALSE))","v":""},null,null,null,null,null,null,null,{"$f":"IF(ISERROR(VLOOKUP(CONCATENATE($N$90,\"_\",M107),選手名簿!$A:$E,5,FALSE))=TRUE,\"\",VLOOKUP(CONCATENATE($N$90,\"_\",M107),選手名簿!$A:$E,5,FALSE))","v":""}]
["AR1:",{"$f":"IF(ISERROR(VLOOKUP(B107,審判員!$A:$C,2,FALSE))=TRUE,\"\",VLOOKUP(B107,審判員!$A:$C,2,FALSE))","v":""},null,{"$f":"IF(ISERROR(VLOOKUP(B107,審判員!$A:$C,3,FALSE))=TRUE,\"\",VLOOKUP(B107,審判員!$A:$C,3,FALSE))","v":""},null,{"$f":"IF(ISERROR(VLOOKUP(CONCATENATE($F$90,\"_\",G108),選手名簿!$A:$E,5,FALSE))=TRUE,\"\",VLOOKUP(CONCATENATE($F$90,\"_\",G108),選手名簿!$A:$E,5,FALSE))","v":""},null,null,null,null,null,null,null,{"$f":"IF(ISERROR(VLOOKUP(CONCATENATE($N$90,\"_\",M108),選手名簿!$A:$E,5,FALSE))=TRUE,\"\",VLOOKUP(CONCATENATE($N$90,\"_\",M108),選手名簿!$A:$E,5,FALSE))","v":""}]
["番号",null,null,null,null,{"$f":"IF(ISERROR(VLOOKUP(CONCATENATE($F$90,\"_\",G109),選手名簿!$A:$E,5,FALSE))=TRUE,\"\",VLOOKUP(CONCATENATE($F$90,\"_\",G109),選手名簿!$A:$E,5,FALSE))","v":""},null,null,null,null,null,null,null,{"$f":"IF(ISERROR(VLOOKUP(CONCATENATE($N$90,\"_\",M109),選手名簿!$A:$E,5,FALSE))=TRUE,\"\",VLOOKUP(CONCATENATE($N$90,\"_\",M109),選手名簿!$A:$E,5,FALSE))","v":""}]
["AR2:",{"$f":"IF(ISERROR(VLOOKUP(B109,審判員!$A:$C,2,FALSE))=TRUE,\"\",VLOOKUP(B109,審判員!$A:$C,2,FALSE))","v":""},null,{"$f":"IF(ISERROR(VLOOKUP(B109,審判員!$A:$C,3,FALSE))=TRUE,\"\",VLOOKUP(B109,審判員!$A:$C,3,FALSE))","v":""},null,{"$f":"IF(ISERROR(VLOOKUP(CONCATENATE($F$90,\"_\",G110),選手名簿!$A:$E,5,FALSE))=TRUE,\"\",VLOOKUP(CONCATENATE($F$90,\"_\",G110),選手名簿!$A:$E,5,FALSE))","v":""},null,null,null,null,null,null,null,{"$f":"IF(ISERROR(VLOOKUP(CONCATENATE($N$90,\"_\",M110),選手名簿!$A:$E,5,FALSE))=TRUE,\"\",VLOOKUP(CONCATENATE($N$90,\"_\",M110),選手名簿!$A:$E,5,FALSE))","v":""}]
["番号","R009554780",null,null,null,{"$f":"IF(ISERROR(VLOOKUP(CONCATENATE($F$90,\"_\",G111),選手名簿!$A:$E,5,FALSE))=TRUE,\"\",VLOOKUP(CONCATENATE($F$90,\"_\",G111),選手名簿!$A:$E,5,FALSE))","v":""},null,null,null,null,null,null,null,{"$f":"IF(ISERROR(VLOOKUP(CONCATENATE($N$90,\"_\",M111),選手名簿!$A:$E,5,FALSE))=TRUE,\"\",VLOOKUP(CONCATENATE($N$90,\"_\",M111),選手名簿!$A:$E,5,FALSE))","v":""}]
["4th:",{"$f":"IF(ISERROR(VLOOKUP(B111,審判員!$A:$C,2,FALSE))=TRUE,\"\",VLOOKUP(B111,審判員!$A:$C,2,FALSE))","v":"白江　直樹"},null,{"$f":"IF(ISERROR(VLOOKUP(B111,審判員!$A:$C,3,FALSE))=TRUE,\"\",VLOOKUP(B111,審判員!$A:$C,3,FALSE))","v":"３級"},null,{"$f":"IF(ISERROR(VLOOKUP(CONCATENATE($F$90,\"_\",G112),選手名簿!$A:$E,5,FALSE))=TRUE,\"\",VLOOKUP(CONCATENATE($F$90,\"_\",G112),選手名簿!$A:$E,5,FALSE))","v":""},null,null,null,null,null,null,null,{"$f":"IF(ISERROR(VLOOKUP(CONCATENATE($N$90,\"_\",M112),選手名簿!$A:$E,5,FALSE))=TRUE,\"\",VLOOKUP(CONCATENATE($N$90,\"_\",M112),選手名簿!$A:$E,5,FALSE))","v":""}]

{"sheet":"準決勝公式記録No,29","index":16,"n_rows":73,"n_cols":51,"rows_kept":73,"cut":false,"hidden":false,"merged":[[1,28,2,29],[1,31,1,35],[2,0,2,1],[2,14,2,15],[2,16,2,17],[2,18,2,26],[2,31,2,35],[0,0,0,5],[0,6,0,9],[0,10,0,11],[1,0,1,1],[1,2,3,13],[1,15,1,16],[3,0,3,1],[3,14,3,15],[3,16,3,17],[3,18,3,26],[3,28,3,29],[5,18,5,19],[5,21,5,25],[5,26,5,30],[3,31,3,35],[4,0,4,1],[4,2,6,8],[4,11,4,12],[4,18,4,19],[5,0,5,1],[5,11,5,12],[5,13,5,14],[6,0,6,1],[6,11,6,12],[5,31,5,35],[6,13,6,14],[6,18,6,19],[6,26,6,30],[7,20,11,20],[7,21,7,23],[9,12,9,14],[9,17,9,18],[8,11,8,14],[8,17,8,18],[8,22,8,31],[9,21,9,23],[7,0,7,2],[7,11,7,14],[7,15,11,15],[7,17,7,18],[10,13,10,14],[10,11,10,12],[11,17,11,18],[13,41,13,42],[10,17,10,18],[10,21,10,22],[10,23,10,24],[8,32,8,35],[7,32,7,35],[8,1,8,10],[14,0,14,1],[14,2,14,3],[14,4,14,5],[14,6,14,7],[14,8,14,9],[14,26,14,27],[14,28,14,29],[12,41,12,42],[13,0,13,1],[13,2,13,3],[13,4,13,5],[13,6,13,7],[13,8,13,9],[13,17,13,18],[13,26,13,27],[13,28,13,29],[13,30,13,31],[12,2,12,9],[14,30,14,31],[14,32,14,33],[14,34,14,35],[12,26,12,33],[15,11,15,15],[15,20,15,24],[16,11,16,15],[16,20,16,24],[13,32,13,33],[13,34,13,35],[20,11,20,15],[20,20,20,24],[21,11,21,15],[21,20,21,24],[22,11,22,15],[22,20,22,24],[17,11,17,15],[17,20,17,24],[18,11,18,15],[18,20,18,24],[19,11,19,15],[19,20,19,24],[27,11,27,15],[27,20,27,24],[28,11,28,15],[28,20,28,24],[29,11,29,15],[29,20,29,24],[23,16,23,19],[24,11,24,15],[24,20,24,24],[25,11,25,15],[25,20,25,24],[26,11,26,15],[26,20,26,24],[30,11,30,15],[30,20,30,24],[31,11,31,15],[31,20,31,24],[35,20,36,26],[35,27,36,27],[32,11,32,15],[32,20,32,24],[33,11,33,15],[33,20,33,24],[35,10,36,16],[35,17,35,18],[38,4,38,8],[38,12,38,16],[38,22,38,26],[34,11,34,15],[34,17,34,18],[34,20,34,24],[38,30,38,34],[39,4,39,8],[39,12,39,16],[39,22,39,26],[39,30,39,34],[35,28,36,34],[36,17,36,18],[37,4,37,8],[37,12,37,16],[37,22,37,26],[37,30,37,34],[35,2,36,8],[35,9,36,9],[40,4,40,8],[40,12,40,16],[40,22,40,26],[40,30,40,34],[43,30,43,34],[44,4,44,8],[44,12,44,16],[44,22,44,26],[44,30,44,34],[41,4,41,8],[41,12,41,16],[41,22,41,26],[41,30,41,34],[42,4,42,8],[42,12,42,16],[42,22,42,26],[42,30,42,34],[45,0,45,6],[45,7,45,8],[45,9,45,10],[45,11,45,12],[45,13,45,14],[45,15,45,16],[43,4,43,8],[43,12,43,16],[43,22,43,26],[45,29,45,35],[46,7,46,8],[46,9,46,10],[46,11,46,12],[46,13,46,14],[46,15,46,16],[46,19,46,20],[46,21,46,22],[46,23,46,24],[46,25,46,26],[45,17,45,18],[45,19,45,20],[45,21,45,22],[45,23,45,24],[45,25,45,26],[45,27,45,28],[46,27,46,28],[49,25,49,26],[47,27,47,28],[48,7,48,8],[48,9,48,10],[48,11,48,12],[48,13,48,14],[48,15,48,16],[48,19,48,20],[48,21,48,22],[48,23,48,24],[48,25,48,26],[48,27,48,28],[47,7,47,8],[47,9,47,10],[47,11,47,12],[47,13,47,14],[47,15,47,16],[47,19,47,20],[47,21,47,22],[47,23,47,24],[47,25,47,26],[51,0,51,2],[51,3,51,4],[51,5,51,17],[51,18,51,20],[51,21,51,22],[51,23,51,35],[49,27,49,28],[50,7,50,8],[50,9,50,10],[50,11,50,12],[50,13,50,14],[50,15,50,16],[50,19,50,20],[50,21,50,22],[50,23,50,24],[50,25,50,26],[49,7,49,8],[49,9,49,10],[49,11,49,12],[49,13,49,14],[49,15,49,16],[49,19,49,20],[49,21,49,22],[49,23,49,24],[52,3,52,4],[52,5,52,17],[52,21,52,22],[52,23,52,35],[53,3,53,4],[53,5,53,17],[53,21,53,22],[53,23,53,35],[50,27,50,28],[56,3,56,4],[56,5,56,17],[56,21,56,22],[56,23,56,35],[57,3,57,4],[57,5,57,17],[57,21,57,22],[57,23,57,35],[54,3,54,4],[54,5,54,17],[54,21,54,22],[54,23,54,35],[55,3,55,4],[55,5,55,17],[55,21,55,22],[55,23,55,35],[71,20,71,26],[71,13,71,19],[71,27,71,35],[72,20,74,26],[72,13,74,19],[72,27,74,35],[58,29,58,30],[60,0,60,3],[60,5,60,9],[60,12,60,16],[60,18,60,33],[61,0,67,35],[58,3,58,5],[58,7,58,8],[58,11,58,13],[58,16,58,17],[58,20,58,21],[58,24,58,26],[71,6,71,12],[72,6,74,12],[68,0,68,35],[69,0,69,35]]}
["公式記録",null,null,null,null,null,"Match No：",null,null,null,29]
["大",null,"OFA 第 33 回 \n大分県U-11サッカー選手権大会\n大分県大会",null,null,null,null,null,null,null,null,null,null,null,"第",2,null,"日",null,null,null,null,null,null,null,null,null,"競技","30分",null,"記"]
["会",null,null,null,null,null,null,null,null,null,null,null,null,null,"1回戦",null,"2回戦",null,"令和3年　12月5日（日）",null,null,null,null,null,null,null,null,"時間",null,null,"録","佐々木　秀樹"]
["名",null,null,null,null,null,null,null,null,null,null,null,null,null,"準決勝",null,"決勝",null,"試合開始　11時10分～",null,null,null,null,null,null,null,null,"延長","6分",null,"者","松下　省吾"]
["会",null,"大分県大分スポーツ公園\n昭和電工サッカー・ラグビー場\nＢコート　北側",null,null,null,null,null,null,"天","晴","風",null,"強","弱","無","芝","状","良好",null,"審","主審",null,null,null,null,"副審",null,null,null,null,"第4の審判員"]
[null,null,null,null,null,null,null,null,null,null,"曇","気温",null,10.8,null,"℃",null,null,"不良",null,null,"大塚　浩司",null,null,null,null,"金子　翔",null,null,null,null,"下原　優一"]
["場",null,null,null,null,null,null,null,null,"候","雨","湿度",null,52.8,null,"％","土","態","泥沼",null,"判",null,null,null,null,null,"吐合　直樹"]
["【チーム名】",null,null,null,null,null,null,null,null,null,null,null,null,null,null,3,2,"前半",null,0,1,"【チーム名】"]
[null,{"$f":"+AR13","v":"ドリームキッズフットボールクラブ"},null,null,null,null,null,null,null,null,null,{"$f":"AR14","v":"大分市"},null,null,null,null,1,"後半",null,1,null,null,{"$f":"+AY13","v":"スマイス・セレソン"},null,null,null,null,null,null,null,null,null,{"$f":"AY14","v":"別府市"}]
[null,null,null,null,null,null,null,null,null,null,null,null,"kick off",null,null,null,null,"延前",null,null,null,"kick off"]
[null,null,null,null,null,null,null,null,null,null,null,"番号",null,"PK",null,null,null,"延後",null,null,null,"PK",null,"番号"]
[null,null,null,null,null,null,null,null,null,null,null,"○","×","先","後",null,null,"ＰＫ戦",null,null,null,"先","後","○","×"]
[null,null,"シュート（得点者は○印）",null,null,null,null,null,null,null,"学",null,null,null,null,null,"番",null,null,"番",null,null,null,null,null,"学","シュート（得点者は○印）",null,null,null,null,null,null,null,null,null,null,null,null,null,null,"チーム名",null,"ドリームキッズフットボールクラブ",null,null,null,null,null,"チーム名","スマイス・セレソン"]
["合",null,"延",null,"延",null,"後",null,"前",null,null,null,"選","手","名",null,null,"位置",null,null,null,"選","手","名",null,null,"前",null,"後",null,"延",null,"延",null,"合",null,null,null,null,null,null,"地区名",null,"大分市",null,null,null,null,null,"地区名","別府市"]
["計",null,"後",null,"前",null,"半",null,"半",null,"年",null,null,null,null,null,"号",null,null,"号",null,null,null,null,null,"年","半",null,"半",null,"前",null,"後",null,"計"]
[null,{"$f":"SUM(D16,F16,H16,J16)","v":0},null,null,null,null,null,null,null,null,{"$f":"IF(ISERROR(VLOOKUP(CONCATENATE($B$9,\"_\",Q16),選手名簿!$A:$G,7,FALSE))=TRUE,\"\",VLOOKUP(CONCATENATE($B$9,\"_\",Q16),選手名簿!$A:$G,7,FALSE))","v":5},{"$f":"IF(ISERROR(VLOOKUP(CONCATENATE($B$9,\"_\",Q16),選手名簿!$A:$E,5,FALSE))=TRUE,\"\",VLOOKUP(CONCATENATE($B$9,\"_\",Q16),選手名簿!$A:$E,5,FALSE))","v":"江藤　治人"},null,null,null,null,1,{"$f":"IF(ISERROR(VLOOKUP(CONCATENATE($B$9,\"_\",Q16),選手名簿!$A:$E,4,FALSE))=TRUE,\"\",VLOOKUP(CONCATENATE($B$9,\"_\",Q16),選手名簿!$A:$E,4,FALSE))","v":"GK"},{"$f":"IF(ISERROR(VLOOKUP(CONCATENATE($W$9,\"_\",T16),選手名簿!$A:$E,4,FALSE))=TRUE,\"\",VLOOKUP(CONCATENATE($W$9,\"_\",T16),選手名簿!$A:$E,4,FALSE))","v":"GK"},1,{"$f":"IF(ISERROR(VLOOKUP(CONCATENATE($W$9,\"_\",T16),選手名簿!$A:$E,5,FALSE))=TRUE,\"\",VLOOKUP(CONCATENATE($W$9,\"_\",T16),選手名簿!$A:$E,5,FALSE))","v":"青山　恭輔"},null,null,null,null,{"$f":"IF(ISERROR(VLOOKUP(CONCATENATE($W$9,\"_\",T16),選手名簿!$A:$G,7,FALSE))=TRUE,\"\",VLOOKUP(CONCATENATE($W$9,\"_\",T16),選手名簿!$A:$G,7,FALSE))","v":5},null,null,null,null,null,null,null,null,null,{"$f":"SUM(AB16,AD16,AF16,AH16)","v":0}]
[null,3,null,null,null,null,null,2,null,1,{"$f":"IF(ISERROR(VLOOKUP(CONCATENATE($B$9,\"_\",Q17),選手名簿!$A:$G,7,FALSE))=TRUE,\"\",VLOOKUP(CONCATENATE($B$9,\"_\",Q17),選手名簿!$A:$G,7,FALSE))","v":5},{"$f":"IF(ISERROR(VLOOKUP(CONCATENATE($B$9,\"_\",Q17),選手名簿!$A:$E,5,FALSE))=TRUE,\"\",VLOOKUP(CONCATENATE($B$9,\"_\",Q17),選手名簿!$A:$E,5,FALSE))","v":"佐藤　天雅"},null,null,null,null,3,{"$f":"IF(ISERROR(VLOOKUP(CONCATENATE($B$9,\"_\",Q17),選手名簿!$A:$E,4,FALSE))=TRUE,\"\",VLOOKUP(CONCATENATE($B$9,\"_\",Q17),選手名簿!$A:$E,4,FALSE))","v":"DF"},{"$f":"IF(ISERROR(VLOOKUP(CONCATENATE($W$9,\"_\",T17),選手名簿!$A:$E,4,FALSE))=TRUE,\"\",VLOOKUP(CONCATENATE($W$9,\"_\",T17),選手名簿!$A:$E,4,FALSE))","v":"DF"},3,{"$f":"IF(ISERROR(VLOOKUP(CONCATENATE($W$9,\"_\",T17),選手名簿!$A:$E,5,FALSE))=TRUE,\"\",VLOOKUP(CONCATENATE($W$9,\"_\",T17),選手名簿!$A:$E,5,FALSE))","v":"長野　官叫"},null,null,null,null,{"$f":"IF(ISERROR(VLOOKUP(CONCATENATE($W$9,\"_\",T17),選手名簿!$A:$G,7,FALSE))=TRUE,\"\",VLOOKUP(CONCATENATE($W$9,\"_\",T17),選手名簿!$A:$G,7,FALSE))","v":5},null,null,null,null,null,null,null,null,null,0]
[null,0,null,null,null,null,null,null,null,null,{"$f":"IF(ISERROR(VLOOKUP(CONCATENATE($B$9,\"_\",Q18),選手名簿!$A:$G,7,FALSE))=TRUE,\"\",VLOOKUP(CONCATENATE($B$9,\"_\",Q18),選手名簿!$A:$G,7,FALSE))","v":5},{"$f":"IF(ISERROR(VLOOKUP(CONCATENATE($B$9,\"_\",Q18),選手名簿!$A:$E,5,FALSE))=TRUE,\"\",VLOOKUP(CONCATENATE($B$9,\"_\",Q18),選手名簿!$A:$E,5,FALSE))","v":"那須　虎太郎"},null,null,null,null,9,{"$f":"IF(ISERROR(VLOOKUP(CONCATENATE($B$9,\"_\",Q18),選手名簿!$A:$E,4,FALSE))=TRUE,\"\",VLOOKUP(CONCATENATE($B$9,\"_\",Q18),選手名簿!$A:$E,4,FALSE))","v":"DF"},{"$f":"IF(ISERROR(VLOOKUP(CONCATENATE($W$9,\"_\",T18),選手名簿!$A:$E,4,FALSE))=TRUE,\"\",VLOOKUP(CONCATENATE($W$9,\"_\",T18),選手名簿!$A:$E,4,FALSE))","v":"DF"},4,{"$f":"IF(ISERROR(VLOOKUP(CONCATENATE($W$9,\"_\",T18),選手名簿!$A:$E,5,FALSE))=TRUE,\"\",VLOOKUP(CONCATENATE($W$9,\"_\",T18),選手名簿!$A:$E,5,FALSE))","v":"濱野　脩翔"},null,null,null,null,{"$f":"IF(ISERROR(VLOOKUP(CONCATENATE($W$9,\"_\",T18),選手名簿!$A:$G,7,FALSE))=TRUE,\"\",VLOOKUP(CONCATENATE($W$9,\"_\",T18),選手名簿!$A:$G,7,FALSE))","v":5},null,2,null,null,null,null,null,null,null,2]
[null,1,null,null,null,null,null,1,null,null,{"$f":"IF(ISERROR(VLOOKUP(CONCATENATE($B$9,\"_\",Q19),選手名簿!$A:$G,7,FALSE))=TRUE,\"\",VLOOKUP(CONCATENATE($B$9,\"_\",Q19),選手名簿!$A:$G,7,FALSE))","v":5},{"$f":"IF(ISERROR(VLOOKUP(CONCATENATE($B$9,\"_\",Q19),選手名簿!$A:$E,5,FALSE))=TRUE,\"\",VLOOKUP(CONCATENATE($B$9,\"_\",Q19),選手名簿!$A:$E,5,FALSE))","v":"亀野　佑輝"},null,null,null,null,6,{"$f":"IF(ISERROR(VLOOKUP(CONCATENATE($B$9,\"_\",Q19),選手名簿!$A:$E,4,FALSE))=TRUE,\"\",VLOOKUP(CONCATENATE($B$9,\"_\",Q19),選手名簿!$A:$E,4,FALSE))","v":"MF"},{"$f":"IF(ISERROR(VLOOKUP(CONCATENATE($W$9,\"_\",T19),選手名簿!$A:$E,4,FALSE))=TRUE,\"\",VLOOKUP(CONCATENATE($W$9,\"_\",T19),選手名簿!$A:$E,4,FALSE))","v":"MF"},6,{"$f":"IF(ISERROR(VLOOKUP(CONCATENATE($W$9,\"_\",T19),選手名簿!$A:$E,5,FALSE))=TRUE,\"\",VLOOKUP(CONCATENATE($W$9,\"_\",T19),選手名簿!$A:$E,5,FALSE))","v":"伊藤　廉真"},null,null,null,null,{"$f":"IF(ISERROR(VLOOKUP(CONCATENATE($W$9,\"_\",T19),選手名簿!$A:$G,7,FALSE))=TRUE,\"\",VLOOKUP(CONCATENATE($W$9,\"_\",T19),選手名簿!$A:$G,7,FALSE))","v":5},null,null,null,null,null,null,null,null,null,0]
[null,0,null,null,null,null,null,null,null,null,{"$f":"IF(ISERROR(VLOOKUP(CONCATENATE($B$9,\"_\",Q20),選手名簿!$A:$G,7,FALSE))=TRUE,\"\",VLOOKUP(CONCATENATE($B$9,\"_\",Q20),選手名簿!$A:$G,7,FALSE))","v":5},{"$f":"IF(ISERROR(VLOOKUP(CONCATENATE($B$9,\"_\",Q20),選手名簿!$A:$E,5,FALSE))=TRUE,\"\",VLOOKUP(CONCATENATE($B$9,\"_\",Q20),選手名簿!$A:$E,5,FALSE))","v":"菊川　翼"},null,null,null,null,7,{"$f":"IF(ISERROR(VLOOKUP(CONCATENATE($B$9,\"_\",Q20),選手名簿!$A:$E,4,FALSE))=TRUE,\"\",VLOOKUP(CONCATENATE($B$9,\"_\",Q20),選手名簿!$A:$E,4,FALSE))","v":"MF"},{"$f":"IF(ISERROR(VLOOKUP(CONCATENATE($W$9,\"_\",T20),選手名簿!$A:$E,4,FALSE))=TRUE,\"\",VLOOKUP(CONCATENATE($W$9,\"_\",T20),選手名簿!$A:$E,4,FALSE))","v":"MF"},7,{"$f":"IF(ISERROR(VLOOKUP(CONCATENATE($W$9,\"_\",T20),選手名簿!$A:$E,5,FALSE))=TRUE,\"\",VLOOKUP(CONCATENATE($W$9,\"_\",T20),選手名簿!$A:$E,5,FALSE))","v":"市野　琉太"},null,null,null,null,{"$f":"IF(ISERROR(VLOOKUP(CONCATENATE($W$9,\"_\",T20),選手名簿!$A:$G,7,FALSE))=TRUE,\"\",VLOOKUP(CONCATENATE($W$9,\"_\",T20),選手名簿!$A:$G,7,FALSE))","v":5},null,null,null,null,null,null,null,null,null,0]
[null,1,null,null,null,null,null,null,null,1,{"$f":"IF(ISERROR(VLOOKUP(CONCATENATE($B$9,\"_\",Q21),選手名簿!$A:$G,7,FALSE))=TRUE,\"\",VLOOKUP(CONCATENATE($B$9,\"_\",Q21),選手名簿!$A:$G,7,FALSE))","v":5},{"$f":"IF(ISERROR(VLOOKUP(CONCATENATE($B$9,\"_\",Q21),選手名簿!$A:$E,5,FALSE))=TRUE,\"\",VLOOKUP(CONCATENATE($B$9,\"_\",Q21),選手名簿!$A:$E,5,FALSE))","v":"林　天音"},null,null,null,null,8,{"$f":"IF(ISERROR(VLOOKUP(CONCATENATE($B$9,\"_\",Q21),選手名簿!$A:$E,4,FALSE))=TRUE,\"\",VLOOKUP(CONCATENATE($B$9,\"_\",Q21),選手名簿!$A:$E,4,FALSE))","v":"MF"},{"$f":"IF(ISERROR(VLOOKUP(CONCATENATE($W$9,\"_\",T21),選手名簿!$A:$E,4,FALSE))=TRUE,\"\",VLOOKUP(CONCATENATE($W$9,\"_\",T21),選手名簿!$A:$E,4,FALSE))","v":"MF"},8,{"$f":"IF(ISERROR(VLOOKUP(CONCATENATE($W$9,\"_\",T21),選手名簿!$A:$E,5,FALSE))=TRUE,\"\",VLOOKUP(CONCATENATE($W$9,\"_\",T21),選手名簿!$A:$E,5,FALSE))","v":"橋本　錦空"},null,null,null,null,{"$f":"IF(ISERROR(VLOOKUP(CONCATENATE($W$9,\"_\",T21),選手名簿!$A:$G,7,FALSE))=TRUE,\"\",VLOOKUP(CONCATENATE($W$9,\"_\",T21),選手名簿!$A:$G,7,FALSE))","v":5},null,1,null,null,null,null,null,null,null,1]
[null,2,null,null,null,null,"①",1,"①",1,{"$f":"IF(ISERROR(VLOOKUP(CONCATENATE($B$9,\"_\",Q22),選手名簿!$A:$G,7,FALSE))=TRUE,\"\",VLOOKUP(CONCATENATE($B$9,\"_\",Q22),選手名簿!$A:$G,7,FALSE))","v":5},{"$f":"IF(ISERROR(VLOOKUP(CONCATENATE($B$9,\"_\",Q22),選手名簿!$A:$E,5,FALSE))=TRUE,\"\",VLOOKUP(CONCATENATE($B$9,\"_\",Q22),選手名簿!$A:$E,5,FALSE))","v":"下郡　悠翔"},null,null,null,null,10,{"$f":"IF(ISERROR(VLOOKUP(CONCATENATE($B$9,\"_\",Q22),選手名簿!$A:$E,4,FALSE))=TRUE,\"\",VLOOKUP(CONCATENATE($B$9,\"_\",Q22),選手名簿!$A:$E,4,FALSE))","v":"FW"},{"$f":"IF(ISERROR(VLOOKUP(CONCATENATE($W$9,\"_\",T22),選手名簿!$A:$E,4,FALSE))=TRUE,\"\",VLOOKUP(CONCATENATE($W$9,\"_\",T22),選手名簿!$A:$E,4,FALSE))","v":"MF"},10,{"$f":"IF(ISERROR(VLOOKUP(CONCATENATE($W$9,\"_\",T22),選手名簿!$A:$E,5,FALSE))=TRUE,\"\",VLOOKUP(CONCATENATE($W$9,\"_\",T22),選手名簿!$A:$E,5,FALSE))","v":"中嶌　大喜"},null,null,null,null,{"$f":"IF(ISERROR(VLOOKUP(CONCATENATE($W$9,\"_\",T22),選手名簿!$A:$G,7,FALSE))=TRUE,\"\",VLOOKUP(CONCATENATE($W$9,\"_\",T22),選手名簿!$A:$G,7,FALSE))","v":5},null,null,"①",2,null,null,null,null,null,2]
[null,4,null,null,null,null,null,2,"①",2,{"$f":"IF(ISERROR(VLOOKUP(CONCATENATE($B$9,\"_\",Q23),選手名簿!$A:$G,7,FALSE))=TRUE,\"\",VLOOKUP(CONCATENATE($B$9,\"_\",Q23),選手名簿!$A:$G,7,FALSE))","v":5},{"$f":"IF(ISERROR(VLOOKUP(CONCATENATE($B$9,\"_\",Q23),選手名簿!$A:$E,5,FALSE))=TRUE,\"\",VLOOKUP(CONCATENATE($B$9,\"_\",Q23),選手名簿!$A:$E,5,FALSE))","v":"長野　瑛斗"},null,null,null,null,11,{"$f":"IF(ISERROR(VLOOKUP(CONCATENATE($B$9,\"_\",Q23),選手名簿!$A:$E,4,FALSE))=TRUE,\"\",VLOOKUP(CONCATENATE($B$9,\"_\",Q23),選手名簿!$A:$E,4,FALSE))","v":"FW"},{"$f":"IF(ISERROR(VLOOKUP(CONCATENATE($W$9,\"_\",T23),選手名簿!$A:$E,4,FALSE))=TRUE,\"\",VLOOKUP(CONCATENATE($W$9,\"_\",T23),選手名簿!$A:$E,4,FALSE))","v":"FW"},9,{"$f":"IF(ISERROR(VLOOKUP(CONCATENATE($W$9,\"_\",T23),選手名簿!$A:$E,5,FALSE))=TRUE,\"\",VLOOKUP(CONCATENATE($W$9,\"_\",T23),選手名簿!$A:$E,5,FALSE))","v":"下嶋　龍斗"},null,null,null,null,{"$f":"IF(ISERROR(VLOOKUP(CONCATENATE($W$9,\"_\",T23),選手名簿!$A:$G,7,FALSE))=TRUE,\"\",VLOOKUP(CONCATENATE($W$9,\"_\",T23),選手名簿!$A:$G,7,FALSE))","v":5},null,null,null,null,null,null,null,null,null,0]
[null,null,null,null,null,null,null,null,null,null,null,null,null,null,null,null,"交替要員"]
[null,{"$f":"SUM(D25,F25,H25,J25)","v":0},null,null,null,null,null,null,null,null,{"$f":"IF(ISERROR(VLOOKUP(CONCATENATE($B$9,\"_\",Q25),選手名簿!$A:$G,7,FALSE))=TRUE,\"\",VLOOKUP(CONCATENATE($B$9,\"_\",Q25),選手名簿!$A:$G,7,FALSE))","v":5},{"$f":"IF(ISERROR(VLOOKUP(CONCATENATE($B$9,\"_\",Q25),選手名簿!$A:$E,5,FALSE))=TRUE,\"\",VLOOKUP(CONCATENATE($B$9,\"_\",Q25),選手名簿!$A:$E,5,FALSE))","v":"阿部　京輔"},null,null,null,null,12,{"$f":"IF(ISERROR(VLOOKUP(CONCATENATE($B$9,\"_\",Q25),選手名簿!$A:$E,4,FALSE))=TRUE,\"\",VLOOKUP(CONCATENATE($B$9,\"_\",Q25),選手名簿!$A:$E,4,FALSE))","v":"DF"},{"$f":"IF(ISERROR(VLOOKUP(CONCATENATE($W$9,\"_\",T25),選手名簿!$A:$E,4,FALSE))=TRUE,\"\",VLOOKUP(CONCATENATE($W$9,\"_\",T25),選手名簿!$A:$E,4,FALSE))","v":"DF"},2,{"$f":"IF(ISERROR(VLOOKUP(CONCATENATE($W$9,\"_\",T25),選手名簿!$A:$E,5,FALSE))=TRUE,\"\",VLOOKUP(CONCATENATE($W$9,\"_\",T25),選手名簿!$A:$E,5,FALSE))","v":"佐藤　睦翔"},null,null,null,null,{"$f":"IF(ISERROR(VLOOKUP(CONCATENATE($W$9,\"_\",T25),選手名簿!$A:$G,7,FALSE))=TRUE,\"\",VLOOKUP(CONCATENATE($W$9,\"_\",T25),選手名簿!$A:$G,7,FALSE))","v":5},null,null,null,null,null,null,null,null,null,{"$f":"SUM(AB25,AD25,AF25,AH25)","v":0}]
[null,0,null,null,null,null,null,null,null,null,{"$f":"IF(ISERROR(VLOOKUP(CONCATENATE($B$9,\"_\",Q26),選手名簿!$A:$G,7,FALSE))=TRUE,\"\",VLOOKUP(CONCATENATE($B$9,\"_\",Q26),選手名簿!$A:$G,7,FALSE))","v":5},{"$f":"IF(ISERROR(VLOOKUP(CONCATENATE($B$9,\"_\",Q26),選手名簿!$A:$E,5,FALSE))=TRUE,\"\",VLOOKUP(CONCATENATE($B$9,\"_\",Q26),選手名簿!$A:$E,5,FALSE))","v":"大津　瑞斗"},null,null,null,null,13,{"$f":"IF(ISERROR(VLOOKUP(CONCATENATE($B$9,\"_\",Q26),選手名簿!$A:$E,4,FALSE))=TRUE,\"\",VLOOKUP(CONCATENATE($B$9,\"_\",Q26),選手名簿!$A:$E,4,FALSE))","v":"DF"},{"$f":"IF(ISERROR(VLOOKUP(CONCATENATE($W$9,\"_\",T26),選手名簿!$A:$E,4,FALSE))=TRUE,\"\",VLOOKUP(CONCATENATE($W$9,\"_\",T26),選手名簿!$A:$E,4,FALSE))","v":"MF"},5,{"$f":"IF(ISERROR(VLOOKUP(CONCATENATE($W$9,\"_\",T26),選手名簿!$A:$E,5,FALSE))=TRUE,\"\",VLOOKUP(CONCATENATE($W$9,\"_\",T26),選手名簿!$A:$E,5,FALSE))","v":"佐々木　琉衣"},null,null,null,null,{"$f":"IF(ISERROR(VLOOKUP(CONCATENATE($W$9,\"_\",T26),選手名簿!$A:$G,7,FALSE))=TRUE,\"\",VLOOKUP(CONCATENATE($W$9,\"_\",T26),選手名簿!$A:$G,7,FALSE))","v":5},null,null,null,null,null,null,null,null,null,0]
[null,0,null,null,null,null,null,null,null,null,{"$f":"IF(ISERROR(VLOOKUP(CONCATENATE($B$9,\"_\",Q27),選手名簿!$A:$G,7,FALSE))=TRUE,\"\",VLOOKUP(CONCATENATE($B$9,\"_\",Q27),選手名簿!$A:$G,7,FALSE))","v":5},{"$f":"IF(ISERROR(VLOOKUP(CONCATENATE($B$9,\"_\",Q27),選手名簿!$A:$E,5,FALSE))=TRUE,\"\",VLOOKUP(CONCATENATE($B$9,\"_\",Q27),選手名簿!$A:$E,5,FALSE))","v":"松山　遥郁"},null,null,null,null,14,{"$f":"IF(ISERROR(VLOOKUP(CONCATENATE($B$9,\"_\",Q27),選手名簿!$A:$E,4,FALSE))=TRUE,\"\",VLOOKUP(CONCATENATE($B$9,\"_\",Q27),選手名簿!$A:$E,4,FALSE))","v":"DF"},{"$f":"IF(ISERROR(VLOOKUP(CONCATENATE($W$9,\"_\",T27),選手名簿!$A:$E,4,FALSE))=TRUE,\"\",VLOOKUP(CONCATENATE($W$9,\"_\",T27),選手名簿!$A:$E,4,FALSE))","v":"FW"},11,{"$f":"IF(ISERROR(VLOOKUP(CONCATENATE($W$9,\"_\",T27),選手名簿!$A:$E,5,FALSE))=TRUE,\"\",VLOOKUP(CONCATENATE($W$9,\"_\",T27),選手名簿!$A:$E,5,FALSE))","v":"工藤　義人"},null,null,null,null,{"$f":"IF(ISERROR(VLOOKUP(CONCATENATE($W$9,\"_\",T27),選手名簿!$A:$G,7,FALSE))=TRUE,\"\",VLOOKUP(CONCATENATE($W$9,\"_\",T27),選手名簿!$A:$G,7,FALSE))","v":4},null,null,null,null,null,null,null,null,null,0]
[null,0,null,null,null,null,null,null,null,null,{"$f":"IF(ISERROR(VLOOKUP(CONCATENATE($B$9,\"_\",Q28),選手名簿!$A:$G,7,FALSE))=TRUE,\"\",VLOOKUP(CONCATENATE($B$9,\"_\",Q28),選手名簿!$A:$G,7,FALSE))","v":5},{"$f":"IF(ISERROR(VLOOKUP(CONCATENATE($B$9,\"_\",Q28),選手名簿!$A:$E,5,FALSE))=TRUE,\"\",VLOOKUP(CONCATENATE($B$9,\"_\",Q28),選手名簿!$A:$E,5,FALSE))","v":"西江　真翔"},null,null,null,null,15,{"$f":"IF(ISERROR(VLOOKUP(CONCATENATE($B$9,\"_\",Q28),選手名簿!$A:$E,4,FALSE))=TRUE,\"\",VLOOKUP(CONCATENATE($B$9,\"_\",Q28),選手名簿!$A:$E,4,FALSE))","v":"DF"},{"$f":"IF(ISERROR(VLOOKUP(CONCATENATE($W$9,\"_\",T28),選手名簿!$A:$E,4,FALSE))=TRUE,\"\",VLOOKUP(CONCATENATE($W$9,\"_\",T28),選手名簿!$A:$E,4,FALSE))","v":"DF"},12,{"$f":"IF(ISERROR(VLOOKUP(CONCATENATE($W$9,\"_\",T28),選手名簿!$A:$E,5,FALSE))=TRUE,\"\",VLOOKUP(CONCATENATE($W$9,\"_\",T28),選手名簿!$A:$E,5,FALSE))","v":"後藤　大輝"},null,null,null,null,{"$f":"IF(ISERROR(VLOOKUP(CONCATENATE($W$9,\"_\",T28),選手名簿!$A:$G,7,FALSE))=TRUE,\"\",VLOOKUP(CONCATENATE($W$9,\"_\",T28),選手名簿!$A:$G,7,FALSE))","v":5},null,null,null,null,null,null,null,null,null,0]
[null,{"$f":"SUM(D29,F29,H29,J29)","v":0},null,null,null,null,null,null,null,null,{"$f":"IF(ISERROR(VLOOKUP(CONCATENATE($B$9,\"_\",Q29),選手名簿!$A:$G,7,FALSE))=TRUE,\"\",VLOOKUP(CONCATENATE($B$9,\"_\",Q29),選手名簿!$A:$G,7,FALSE))","v":5},{"$f":"IF(ISERROR(VLOOKUP(CONCATENATE($B$9,\"_\",Q29),選手名簿!$A:$E,5,FALSE))=TRUE,\"\",VLOOKUP(CONCATENATE($B$9,\"_\",Q29),選手名簿!$A:$E,5,FALSE))","v":"上田　拳己"},null,null,null,null,16,{"$f":"IF(ISERROR(VLOOKUP(CONCATENATE($B$9,\"_\",Q29),選手名簿!$A:$E,4,FALSE))=TRUE,\"\",VLOOKUP(CONCATENATE($B$9,\"_\",Q29),選手名簿!$A:$E,4,FALSE))","v":"DF"},{"$f":"IF(ISERROR(VLOOKUP(CONCATENATE($W$9,\"_\",T29),選手名簿!$A:$E,4,FALSE))=TRUE,\"\",VLOOKUP(CONCATENATE($W$9,\"_\",T29),選手名簿!$A:$E,4,FALSE))","v":"MF"},13,{"$f":"IF(ISERROR(VLOOKUP(CONCATENATE($W$9,\"_\",T29),選手名簿!$A:$E,5,FALSE))=TRUE,\"\",VLOOKUP(CONCATENATE($W$9,\"_\",T29),選手名簿!$A:$E,5,FALSE))","v":"伊東　凌"},null,null,null,null,{"$f":"IF(ISERROR(VLOOKUP(CONCATENATE($W$9,\"_\",T29),選手名簿!$A:$G,7,FALSE))=TRUE,\"\",VLOOKUP(CONCATENATE($W$9,\"_\",T29),選手名簿!$A:$G,7,FALSE))","v":5},null,null,null,null,null,null,null,null,null,{"$f":"SUM(AB29,AD29,AF29,AH29)","v":0}]
[null,{"$f":"SUM(D30,F30,H30,J30)","v":0},null,null,null,null,null,null,null,null,{"$f":"IF(ISERROR(VLOOKUP(CONCATENATE($B$9,\"_\",Q30),選手名簿!$A:$G,7,FALSE))=TRUE,\"\",VLOOKUP(CONCATENATE($B$9,\"_\",Q30),選手名簿!$A:$G,7,FALSE))","v":""},{"$f":"IF(ISERROR(VLOOKUP(CONCATENATE($B$9,\"_\",Q30),選手名簿!$A:$E,5,FALSE))=TRUE,\"\",VLOOKUP(CONCATENATE($B$9,\"_\",Q30),選手名簿!$A:$E,5,FALSE))","v":""},null,null,null,null,null,{"$f":"IF(ISERROR(VLOOKUP(CONCATENATE($B$9,\"_\",Q30),選手名簿!$A:$E,4,FALSE))=TRUE,\"\",VLOOKUP(CONCATENATE($B$9,\"_\",Q30),選手名簿!$A:$E,4,FALSE))","v":""},{"$f":"IF(ISERROR(VLOOKUP(CONCATENATE($W$9,\"_\",T30),選手名簿!$A:$E,4,FALSE))=TRUE,\"\",VLOOKUP(CONCATENATE($W$9,\"_\",T30),選手名簿!$A:$E,4,FALSE))","v":"FW"},14,{"$f":"IF(ISERROR(VLOOKUP(CONCATENATE($W$9,\"_\",T30),選手名簿!$A:$E,5,FALSE))=TRUE,\"\",VLOOKUP(CONCATENATE($W$9,\"_\",T30),選手名簿!$A:$E,5,FALSE))","v":"安波　颯人"},null,null,null,null,{"$f":"IF(ISERROR(VLOOKUP(CONCATENATE($W$9,\"_\",T30),選手名簿!$A:$G,7,FALSE))=TRUE,\"\",VLOOKUP(CONCATENATE($W$9,\"_\",T30),選手名簿!$A:$G,7,FALSE))","v":5},null,null,null,null,null,null,null,null,null,{"$f":"SUM(AB30,AD30,AF30,AH30)","v":0}]
[null,0,null,null,null,null,null,null,null,null,{"$f":"IF(ISERROR(VLOOKUP(CONCATENATE($B$9,\"_\",Q31),選手名簿!$A:$G,7,FALSE))=TRUE,\"\",VLOOKUP(CONCATENATE($B$9,\"_\",Q31),選手名簿!$A:$G,7,FALSE))","v":""},{"$f":"IF(ISERROR(VLOOKUP(CONCATENATE($B$9,\"_\",Q31),選手名簿!$A:$E,5,FALSE))=TRUE,\"\",VLOOKUP(CONCATENATE($B$9,\"_\",Q31),選手名簿!$A:$E,5,FALSE))","v":""},null,null,null,null,null,{"$f":"IF(ISERROR(VLOOKUP(CONCATENATE($B$9,\"_\",Q31),選手名簿!$A:$E,4,FALSE))=TRUE,\"\",VLOOKUP(CONCATENATE($B$9,\"_\",Q31),選手名簿!$A:$E,4,FALSE))","v":""},{"$f":"IF(ISERROR(VLOOKUP(CONCATENATE($W$9,\"_\",T31),選手名簿!$A:$E,4,FALSE))=TRUE,\"\",VLOOKUP(CONCATENATE($W$9,\"_\",T31),選手名簿!$A:$E,4,FALSE))","v":"DF"},15,{"$f":"IF(ISERROR(VLOOKUP(CONCATENATE($W$9,\"_\",T31),選手名簿!$A:$E,5,FALSE))=TRUE,\"\",VLOOKUP(CONCATENATE($W$9,\"_\",T31),選手名簿!$A:$E,5,FALSE))","v":"矢田　孝太郎"},null,null,null,null,{"$f":"IF(ISERROR(VLOOKUP(CONCATENATE($W$9,\"_\",T31),選手名簿!$A:$G,7,FALSE))=TRUE,\"\",VLOOKUP(CONCATENATE($W$9,\"_\",T31),選手名簿!$A:$G,7,FALSE))","v":5},null,null,null,null,null,null,null,null,null,0]
[null,0,null,null,null,null,null,null,null,null,{"$f":"IF(ISERROR(VLOOKUP(CONCATENATE($B$9,\"_\",Q32),選手名簿!$A:$G,7,FALSE))=TRUE,\"\",VLOOKUP(CONCATENATE($B$9,\"_\",Q32),選手名簿!$A:$G,7,FALSE))","v":""},{"$f":"IF(ISERROR(VLOOKUP(CONCATENATE($B$9,\"_\",Q32),選手名簿!$A:$E,5,FALSE))=TRUE,\"\",VLOOKUP(CONCATENATE($B$9,\"_\",Q32),選手名簿!$A:$E,5,FALSE))","v":""},null,null,null,null,null,{"$f":"IF(ISERROR(VLOOKUP(CONCATENATE($B$9,\"_\",Q32),選手名簿!$A:$E,4,FALSE))=TRUE,\"\",VLOOKUP(CONCATENATE($B$9,\"_\",Q32),選手名簿!$A:$E,4,FALSE))","v":""},{"$f":"IF(ISERROR(VLOOKUP(CONCATENATE($W$9,\"_\",T32),選手名簿!$A:$E,4,FALSE))=TRUE,\"\",VLOOKUP(CONCATENATE($W$9,\"_\",T32),選手名簿!$A:$E,4,FALSE))","v":"GK"},16,{"$f":"IF(ISERROR(VLOOKUP(CONCATENATE($W$9,\"_\",T32),選手名簿!$A:$E,5,FALSE))=TRUE,\"\",VLOOKUP(CONCATENATE($W$9,\"_\",T32),選手名簿!$A:$E,5,FALSE))","v":"石田　大和"},null,null,null,null,{"$f":"IF(ISERROR(VLOOKUP(CONCATENATE($W$9,\"_\",T32),選手名簿!$A:$G,7,FALSE))=TRUE,\"\",VLOOKUP(CONCATENATE($W$9,\"_\",T32),選手名簿!$A:$G,7,FALSE))","v":5},null,null,null,null,null,null,null,null,null,0]
[null,0,null,null,null,null,null,null,null,null,{"$f":"IF(ISERROR(VLOOKUP(CONCATENATE($B$9,\"_\",Q33),選手名簿!$A:$G,7,FALSE))=TRUE,\"\",VLOOKUP(CONCATENATE($B$9,\"_\",Q33),選手名簿!$A:$G,7,FALSE))","v":""},{"$f":"IF(ISERROR(VLOOKUP(CONCATENATE($B$9,\"_\",Q33),選手名簿!$A:$E,5,FALSE))=TRUE,\"\",VLOOKUP(CONCATENATE($B$9,\"_\",Q33),選手名簿!$A:$E,5,FALSE))","v":""},null,null,null,null,null,{"$f":"IF(ISERROR(VLOOKUP(CONCATENATE($B$9,\"_\",Q33),選手名簿!$A:$E,4,FALSE))=TRUE,\"\",VLOOKUP(CONCATENATE($B$9,\"_\",Q33),選手名簿!$A:$E,4,FALSE))","v":""},{"$f":"IF(ISERROR(VLOOKUP(CONCATENATE($W$9,\"_\",T33),選手名簿!$A:$E,4,FALSE))=TRUE,\"\",VLOOKUP(CONCATENATE($W$9,\"_\",T33),選手名簿!$A:$E,4,FALSE))","v":""},null,{"$f":"IF(ISERROR(VLOOKUP(CONCATENATE($W$9,\"_\",T33),選手名簿!$A:$E,5,FALSE))=TRUE,\"\",VLOOKUP(CONCATENATE($W$9,\"_\",T33),選手名簿!$A:$E,5,FALSE))","v":""},null,null,null,null,{"$f":"IF(ISERROR(VLOOKUP(CONCATENATE($W$9,\"_\",T33),選手名簿!$A:$G,7,FALSE))=TRUE,\"\",VLOOKUP(CONCATENATE($W$9,\"_\",T33),選手名簿!$A:$G,7,FALSE))","v":""},null,null,null,null,null,null,null,null,null,0]
[null,0,null,null,null,null,null,null,null,null,{"$f":"IF(ISERROR(VLOOKUP(CONCATENATE($B$9,\"_\",Q34),選手名簿!$A:$G,7,FALSE))=TRUE,\"\",VLOOKUP(CONCATENATE($B$9,\"_\",Q34),選手名簿!$A:$G,7,FALSE))","v":""},{"$f":"IF(ISERROR(VLOOKUP(CONCATENATE($B$9,\"_\",Q34),選手名簿!$A:$E,5,FALSE))=TRUE,\"\",VLOOKUP(CONCATENATE($B$9,\"_\",Q34),選手名簿!$A:$E,5,FALSE))","v":""},null,null,null,null,null,{"$f":"IF(ISERROR(VLOOKUP(CONCATENATE($B$9,\"_\",Q34),選手名簿!$A:$E,4,FALSE))=TRUE,\"\",VLOOKUP(CONCATENATE($B$9,\"_\",Q34),選手名簿!$A:$E,4,FALSE))","v":""},{"$f":"IF(ISERROR(VLOOKUP(CONCATENATE($W$9,\"_\",T34),選手名簿!$A:$E,4,FALSE))=TRUE,\"\",VLOOKUP(CONCATENATE($W$9,\"_\",T34),選手名簿!$A:$E,4,FALSE))","v":""},null,{"$f":"IF(ISERROR(VLOOKUP(CONCATENATE($W$9,\"_\",T34),選手名簿!$A:$E,5,FALSE))=TRUE,\"\",VLOOKUP(CONCATENATE($W$9,\"_\",T34),選手名簿!$A:$E,5,FALSE))","v":""},null,null,null,null,{"$f":"IF(ISERROR(VLOOKUP(CONCATENATE($W$9,\"_\",T34),選手名簿!$A:$G,7,FALSE))=TRUE,\"\",VLOOKUP(CONCATENATE($W$9,\"_\",T34),選手名簿!$A:$G,7,FALSE))","v":""},null,null,null,null,null,null,null,null,null,0]
[null,{"$f":"SUM(C35:J35)","v":11},null,{"$f":"SUM(D16:D23,D25:D34)","v":0},null,{"$f":"SUM(F16:F23,F25:F34)","v":0},null,{"$f":"SUM(H16:H23,H25:H34)","v":6},null,{"$f":"SUM(J16:J23,J25:J34)","v":5},"小計",{"$f":"SUM(D35,F35,H35,J35)","v":11},null,null,null,null,"合計","シュート数",null,"合計",{"$f":"SUM(AB35,AD35,AF35,AH35)","v":5},null,null,null,null,"小計",null,{"$f":"SUM(AB16:AB23,AB25:AB34)","v":3},null,{"$f":"SUM(AD16:AD23,AD25:AD34)","v":2},null,{"$f":"SUM(AF16:AF23,AF25:AF34)","v":0},null,{"$f":"SUM(AH16:AH23,AH25:AH34)","v":0},null,{"$f":"SUM(AA35:AH35)","v":5}]
[null,null,"OUT",null,null,null,null,null,null,"→","IN",null,null,null,null,null,null,"交代",null,null,"OUT",null,null,null,null,null,null,"→","IN"]
[null,null,null,null,null,null,null,null,null,null,null,null,null,null,null,null,null,"選手"]
[null,"分",null,"番",{"$f":"IF(ISERROR(VLOOKUP(CONCATENATE($B$9,\"_\",C38),選手名簿!$A:$E,5,FALSE))=TRUE,\"\",VLOOKUP(CONCATENATE($B$9,\"_\",C38),選手名簿!$A:$E,5,FALSE))","v":""},null,null,null,null,"→",null,"番",{"$f":"IF(ISERROR(VLOOKUP(CONCATENATE($B$9,\"_\",K38),選手名簿!$A:$E,5,FALSE))=TRUE,\"\",VLOOKUP(CONCATENATE($B$9,\"_\",K38),選手名簿!$A:$E,5,FALSE))","v":""},null,null,null,null,null,14,"分",6,"番",{"$f":"IF(ISERROR(VLOOKUP(CONCATENATE($W$9,\"_\",U38),選手名簿!$A:$E,5,FALSE))=TRUE,\"\",VLOOKUP(CONCATENATE($W$9,\"_\",U38),選手名簿!$A:$E,5,FALSE))","v":"伊藤　廉真"},null,null,null,null,"→",5,"番",{"$f":"IF(ISERROR(VLOOKUP(CONCATENATE($W$9,\"_\",AC38),選手名簿!$A:$E,5,FALSE))=TRUE,\"\",VLOOKUP(CONCATENATE($W$9,\"_\",AC38),選手名簿!$A:$E,5,FALSE))","v":"佐々木　琉衣"}]
[null,"分",null,"番",{"$f":"IF(ISERROR(VLOOKUP(CONCATENATE($B$9,\"_\",C39),選手名簿!$A:$E,5,FALSE))=TRUE,\"\",VLOOKUP(CONCATENATE($B$9,\"_\",C39),選手名簿!$A:$E,5,FALSE))","v":""},null,null,null,null,"→",null,"番",{"$f":"IF(ISERROR(VLOOKUP(CONCATENATE($B$9,\"_\",K39),選手名簿!$A:$E,5,FALSE))=TRUE,\"\",VLOOKUP(CONCATENATE($B$9,\"_\",K39),選手名簿!$A:$E,5,FALSE))","v":""},null,null,null,null,null,null,"分",null,"番",{"$f":"IF(ISERROR(VLOOKUP(CONCATENATE($W$9,\"_\",U39),選手名簿!$A:$E,5,FALSE))=TRUE,\"\",VLOOKUP(CONCATENATE($W$9,\"_\",U39),選手名簿!$A:$E,5,FALSE))","v":""},null,null,null,null,"→",null,"番",{"$f":"IF(ISERROR(VLOOKUP(CONCATENATE($W$9,\"_\",AC39),選手名簿!$A:$E,5,FALSE))=TRUE,\"\",VLOOKUP(CONCATENATE($W$9,\"_\",AC39),選手名簿!$A:$E,5,FALSE))","v":""}]
[null,"分",null,"番",{"$f":"IF(ISERROR(VLOOKUP(CONCATENATE($B$9,\"_\",C40),選手名簿!$A:$E,5,FALSE))=TRUE,\"\",VLOOKUP(CONCATENATE($B$9,\"_\",C40),選手名簿!$A:$E,5,FALSE))","v":""},null,null,null,null,"→",null,"番",{"$f":"IF(ISERROR(VLOOKUP(CONCATENATE($B$9,\"_\",K40),選手名簿!$A:$E,5,FALSE))=TRUE,\"\",VLOOKUP(CONCATENATE($B$9,\"_\",K40),選手名簿!$A:$E,5,FALSE))","v":""},null,null,null,null,null,null,"分",null,"番",{"$f":"IF(ISERROR(VLOOKUP(CONCATENATE($W$9,\"_\",U40),選手名簿!$A:$E,5,FALSE))=TRUE,\"\",VLOOKUP(CONCATENATE($W$9,\"_\",U40),選手名簿!$A:$E,5,FALSE))","v":""},null,null,null,null,"→",null,"番",{"$f":"IF(ISERROR(VLOOKUP(CONCATENATE($W$9,\"_\",AC40),選手名簿!$A:$E,5,FALSE))=TRUE,\"\",VLOOKUP(CONCATENATE($W$9,\"_\",AC40),選手名簿!$A:$E,5,FALSE))","v":""}]
[null,"分",null,"番",{"$f":"IF(ISERROR(VLOOKUP(CONCATENATE($B$9,\"_\",C41),選手名簿!$A:$E,5,FALSE))=TRUE,\"\",VLOOKUP(CONCATENATE($B$9,\"_\",C41),選手名簿!$A:$E,5,FALSE))","v":""},null,null,null,null,"→",null,"番",{"$f":"IF(ISERROR(VLOOKUP(CONCATENATE($B$9,\"_\",K41),選手名簿!$A:$E,5,FALSE))=TRUE,\"\",VLOOKUP(CONCATENATE($B$9,\"_\",K41),選手名簿!$A:$E,5,FALSE))","v":""},null,null,null,null,null,null,"分",null,"番",{"$f":"IF(ISERROR(VLOOKUP(CONCATENATE($W$9,\"_\",U41),選手名簿!$A:$E,5,FALSE))=TRUE,\"\",VLOOKUP(CONCATENATE($W$9,\"_\",U41),選手名簿!$A:$E,5,FALSE))","v":""},null,null,null,null,"→",null,"番",{"$f":"IF(ISERROR(VLOOKUP(CONCATENATE($W$9,\"_\",AC41),選手名簿!$A:$E,5,FALSE))=TRUE,\"\",VLOOKUP(CONCATENATE($W$9,\"_\",AC41),選手名簿!$A:$E,5,FALSE))","v":""}]
[null,"分",null,"番",{"$f":"IF(ISERROR(VLOOKUP(CONCATENATE($B$9,\"_\",C42),選手名簿!$A:$E,5,FALSE))=TRUE,\"\",VLOOKUP(CONCATENATE($B$9,\"_\",C42),選手名簿!$A:$E,5,FALSE))","v":""},null,null,null,null,"→",null,"番",{"$f":"IF(ISERROR(VLOOKUP(CONCATENATE($B$9,\"_\",K42),選手名簿!$A:$E,5,FALSE))=TRUE,\"\",VLOOKUP(CONCATENATE($B$9,\"_\",K42),選手名簿!$A:$E,5,FALSE))","v":""},null,null,null,null,null,null,"分",null,"番",{"$f":"IF(ISERROR(VLOOKUP(CONCATENATE($W$9,\"_\",U42),選手名簿!$A:$E,5,FALSE))=TRUE,\"\",VLOOKUP(CONCATENATE($W$9,\"_\",U42),選手名簿!$A:$E,5,FALSE))","v":""},null,null,null,null,"→",null,"番",{"$f":"IF(ISERROR(VLOOKUP(CONCATENATE($W$9,\"_\",AC42),選手名簿!$A:$E,5,FALSE))=TRUE,\"\",VLOOKUP(CONCATENATE($W$9,\"_\",AC42),選手名簿!$A:$E,5,FALSE))","v":""}]
[null,"分",null,"番",{"$f":"IF(ISERROR(VLOOKUP(CONCATENATE($B$9,\"_\",C43),選手名簿!$A:$E,5,FALSE))=TRUE,\"\",VLOOKUP(CONCATENATE($B$9,\"_\",C43),選手名簿!$A:$E,5,FALSE))","v":""},null,null,null,null,"→",null,"番",{"$f":"IF(ISERROR(VLOOKUP(CONCATENATE($B$9,\"_\",K43),選手名簿!$A:$E,5,FALSE))=TRUE,\"\",VLOOKUP(CONCATENATE($B$9,\"_\",K43),選手名簿!$A:$E,5,FALSE))","v":""},null,null,null,null,null,null,"分",null,"番",{"$f":"IF(ISERROR(VLOOKUP(CONCATENATE($W$9,\"_\",U43),選手名簿!$A:$E,5,FALSE))=TRUE,\"\",VLOOKUP(CONCATENATE($W$9,\"_\",U43),選手名簿!$A:$E,5,FALSE))","v":""},null,null,null,null,"→",null,"番",{"$f":"IF(ISERROR(VLOOKUP(CONCATENATE($W$9,\"_\",AC43),選手名簿!$A:$E,5,FALSE))=TRUE,\"\",VLOOKUP(CONCATENATE($W$9,\"_\",AC43),選手名簿!$A:$E,5,FALSE))","v":""}]
[null,"分",null,"番",{"$f":"IF(ISERROR(VLOOKUP(CONCATENATE($B$9,\"_\",C44),選手名簿!$A:$E,5,FALSE))=TRUE,\"\",VLOOKUP(CONCATENATE($B$9,\"_\",C44),選手名簿!$A:$E,5,FALSE))","v":""},null,null,null,null,"→",null,"番",{"$f":"IF(ISERROR(VLOOKUP(CONCATENATE($B$9,\"_\",K44),選手名簿!$A:$E,5,FALSE))=TRUE,\"\",VLOOKUP(CONCATENATE($B$9,\"_\",K44),選手名簿!$A:$E,5,FALSE))","v":""},null,null,null,null,null,null,"分",null,"番",{"$f":"IF(ISERROR(VLOOKUP(CONCATENATE($W$9,\"_\",U44),選手名簿!$A:$E,5,FALSE))=TRUE,\"\",VLOOKUP(CONCATENATE($W$9,\"_\",U44),選手名簿!$A:$E,5,FALSE))","v":""},null,null,null,null,"→",null,"番",{"$f":"IF(ISERROR(VLOOKUP(CONCATENATE($W$9,\"_\",AC44),選手名簿!$A:$E,5,FALSE))=TRUE,\"\",VLOOKUP(CONCATENATE($W$9,\"_\",AC44),選手名簿!$A:$E,5,FALSE))","v":""}]
[null,"分",null,"番",{"$f":"IF(ISERROR(VLOOKUP(CONCATENATE($B$9,\"_\",C45),選手名簿!$A:$E,5,FALSE))=TRUE,\"\",VLOOKUP(CONCATENATE($B$9,\"_\",C45),選手名簿!$A:$E,5,FALSE))","v":""},null,null,null,null,"→",null,"番",{"$f":"IF(ISERROR(VLOOKUP(CONCATENATE($B$9,\"_\",K45),選手名簿!$A:$E,5,FALSE))=TRUE,\"\",VLOOKUP(CONCATENATE($B$9,\"_\",K45),選手名簿!$A:$E,5,FALSE))","v":""},null,null,null,null,null,null,"分",null,"番",{"$f":"IF(ISERROR(VLOOKUP(CONCATENATE($W$9,\"_\",U45),選手名簿!$A:$E,5,FALSE))=TRUE,\"\",VLOOKUP(CONCATENATE($W$9,\"_\",U45),選手名簿!$A:$E,5,FALSE))","v":""},null,null,null,null,"→",null,"番",{"$f":"IF(ISERROR(VLOOKUP(CONCATENATE($W$9,\"_\",AC45),選手名簿!$A:$E,5,FALSE))=TRUE,\"\",VLOOKUP(CONCATENATE($W$9,\"_\",AC45),選手名簿!$A:$E,5,FALSE))","v":""}]
["警告（Ｃ）・退場（Ｓ）など",null,null,null,null,null,null,"合計",null,"延後",null,"延前",null,"後半",null,"前半",null,"チーム\n合計",null,"前半",null,"後半",null,"延前",null,"延後",null,"合計",null,"警告（Ｃ）・退場（Ｓ）など"]
[null,null,null,null,null,null,null,{"$f":"SUM(J47:Q47)","v":2},null,null,null,null,null,1,null,1,null,"Ｇ","Ｋ",1,null,1,null,null,null,null,null,{"$f":"SUM(T47:AA47)","v":2}]
[null,null,null,null,null,null,null,{"$f":"SUM(J48:Q48)","v":0},null,null,null,null,null,0,null,0,null,"Ｃ","Ｋ",1,null,2,null,null,null,null,null,{"$f":"SUM(T48:AA48)","v":3}]
[null,null,null,null,null,null,null,{"$f":"SUM(J49:Q49)","v":2},null,null,null,null,null,1,null,1,null,"直接","ＦＫ",3,null,2,null,null,null,null,null,{"$f":"SUM(T49:AA49)","v":5}]
[null,null,null,null,null,null,null,{"$f":"SUM(J50:Q50)","v":1},null,null,null,null,null,0,null,1,null,"間接","ＦＫ",0,null,1,null,null,null,null,null,{"$f":"SUM(T50:AA50)","v":1}]
[null,null,null,null,null,null,null,{"$f":"SUM(J51:Q51)","v":0},null,null,null,null,null,0,null,0,null,"Ｐ","Ｋ",0,null,0,null,null,null,null,null,{"$f":"SUM(T51:AA51)","v":0}]
["時間",null,null,"得点者",null,"得　　点　　経　　過",null,null,null,null,null,null,null,null,null,null,null,null,"時間",null,null,"得点者",null,"得　　点　　経　　過"]
[null,3,"分",10,null,"10～S",null,null,null,null,null,null,null,null,null,null,null,null,null,26,"分",10,null,"3　→　10S"]
[null,7,"分",11,null,"10　→　11S",null,null,null,null,null,null,null,null,null,null,null,null,null,null,"分"]
[null,23,"分",10,null,"7　∩　10～S",null,null,null,null,null,null,null,null,null,null,null,null,null,null,"分"]
[null,null,"分",null,null,null,null,null,null,null,null,null,null,null,null,null,null,null,null,null,"分"]
[null,null,"分",null,null,null,null,null,null,null,null,null,null,null,null,null,null,null,null,null,"分"]
[null,null,"分",null,null,null,null,null,null,null,null,null,null,null,null,null,null,null,null,null,"分"]
[" ",null,null,"《略号例》",null,null,null,"ドリブル",null,"～",null,"ゴロのパス",null,null,"→",null,"浮き球",null,"∩",null,"混戦",null,"×",null,"ヘディング",null,null,"H",null,"シュート",null,"S"]
[]
["戦評者氏名",null,null,null,"（",null,null,null,null,null,"）",null,"勤務先または所属",null,null,null,null,"（","一般社団法人　大分県サッカー協会　技術委員会",null,null,null,null,null,null,null,null,null,null,null,null,null,null,null,"　）"]
[]
[]
[]
[]
[]
[]
[]
["[警告理由]C1：反スポーツ的行為，C2：ラフプレー，C3：異議，C4：繰り返し違反，C5：遅延行為，C6：距離不足，C7：無許可入，C8：無許可去"]
["[退場理由]S1：著しく不正なプレー，S2：乱暴な行為，S3：つば吐き，S4：得点機会阻止(ハンド)，S5：得点機会阻止(他)，S6：侮辱的発言，CS：警告2回による退場"]
[]
[null,null,null,null,null,null,"M   C",null,null,null,null,null,null,"ウェルフェアオフィサー",null,null,null,null,null,null,"会　場　長",null,null,null,null,null,null,"主　　審"]
[null,null,null,null,null,null,"榊　謙治",null,null,null,null,null,null,"中野　観司郎",null,null,null,null,null,null,"安東　幹雄",null,null,null,null,null,null,"大塚　浩司"]

{"sheet":"準決勝公式記録No,31","index":17,"n_rows":73,"n_cols":51,"rows_kept":73,"cut":false,"hidden":false,"merged":[[1,28,2,29],[1,31,1,35],[2,0,2,1],[2,14,2,15],[2,16,2,17],[2,18,2,26],[2,31,2,35],[0,0,0,5],[0,6,0,9],[0,10,0,11],[1,0,1,1],[1,2,3,13],[1,15,1,16],[3,0,3,1],[3,14,3,15],[3,16,3,17],[3,18,3,26],[3,28,3,29],[5,18,5,19],[5,21,5,25],[5,26,5,30],[3,31,3,35],[4,0,4,1],[4,2,6,8],[4,11,4,12],[4,18,4,19],[5,0,5,1],[5,11,5,12],[5,13,5,14],[6,0,6,1],[6,11,6,12],[5,31,5,35],[6,13,6,14],[6,18,6,19],[6,26,6,30],[7,20,11,20],[7,21,7,23],[9,12,9,14],[9,17,9,18],[8,11,8,14],[8,17,8,18],[8,22,8,31],[9,21,9,23],[7,0,7,2],[7,11,7,14],[7,15,11,15],[7,17,7,18],[10,13,10,14],[10,11,10,12],[11,17,11,18],[13,41,13,42],[10,17,10,18],[10,21,10,22],[10,23,10,24],[8,32,8,35],[7,32,7,35],[8,1,8,10],[14,0,14,1],[14,2,14,3],[14,4,14,5],[14,6,14,7],[14,8,14,9],[14,26,14,27],[14,28,14,29],[12,41,12,42],[13,0,13,1],[13,2,13,3],[13,4,13,5],[13,6,13,7],[13,8,13,9],[13,17,13,18],[13,26,13,27],[13,28,13,29],[13,30,13,31],[12,2,12,9],[14,30,14,31],[14,32,14,33],[14,34,14,35],[12,26,12,33],[15,11,15,15],[15,20,15,24],[16,11,16,15],[16,20,16,24],[13,32,13,33],[13,34,13,35],[20,11,20,15],[20,20,20,24],[21,11,21,15],[21,20,21,24],[22,11,22,15],[22,20,22,24],[17,11,17,15],[17,20,17,24],[18,11,18,15],[18,20,18,24],[19,11,19,15],[19,20,19,24],[27,11,27,15],[27,20,27,24],[28,11,28,15],[28,20,28,24],[29,11,29,15],[29,20,29,24],[23,16,23,19],[24,11,24,15],[24,20,24,24],[25,11,25,15],[25,20,25,24],[26,11,26,15],[26,20,26,24],[30,11,30,15],[30,20,30,24],[31,11,31,15],[31,20,31,24],[35,20,36,26],[35,27,36,27],[32,11,32,15],[32,20,32,24],[33,11,33,15],[33,20,33,24],[35,10,36,16],[35,17,35,18],[38,4,38,8],[38,12,38,16],[38,22,38,26],[34,11,34,15],[34,17,34,18],[34,20,34,24],[38,30,38,34],[39,4,39,8],[39,12,39,16],[39,22,39,26],[39,30,39,34],[35,28,36,34],[36,17,36,18],[37,4,37,8],[37,12,37,16],[37,22,37,26],[37,30,37,34],[35,2,36,8],[35,9,36,9],[40,4,40,8],[40,12,40,16],[40,22,40,26],[40,30,40,34],[43,30,43,34],[44,4,44,8],[44,12,44,16],[44,22,44,26],[44,30,44,34],[41,4,41,8],[41,12,41,16],[41,22,41,26],[41,30,41,34],[42,4,42,8],[42,12,42,16],[42,22,42,26],[42,30,42,34],[45,0,45,6],[45,7,45,8],[45,9,45,10],[45,11,45,12],[45,13,45,14],[45,15,45,16],[43,4,43,8],[43,12,43,16],[43,22,43,26],[45,29,45,35],[46,7,46,8],[46,9,46,10],[46,11,46,12],[46,13,46,14],[46,15,46,16],[46,19,46,20],[46,21,46,22],[46,23,46,24],[46,25,46,26],[45,17,45,18],[45,19,45,20],[45,21,45,22],[45,23,45,24],[45,25,45,26],[45,27,45,28],[46,27,46,28],[49,25,49,26],[47,27,47,28],[48,7,48,8],[48,9,48,10],[48,11,48,12],[48,13,48,14],[48,15,48,16],[48,19,48,20],[48,21,48,22],[48,23,48,24],[48,25,48,26],[48,27,48,28],[47,7,47,8],[47,9,47,10],[47,11,47,12],[47,13,47,14],[47,15,47,16],[47,19,47,20],[47,21,47,22],[47,23,47,24],[47,25,47,26],[51,0,51,2],[51,3,51,4],[51,5,51,17],[51,18,51,20],[51,21,51,22],[51,23,51,35],[49,27,49,28],[50,7,50,8],[50,9,50,10],[50,11,50,12],[50,13,50,14],[50,15,50,16],[50,19,50,20],[50,21,50,22],[50,23,50,24],[50,25,50,26],[49,7,49,8],[49,9,49,10],[49,11,49,12],[49,13,49,14],[49,15,49,16],[49,19,49,20],[49,21,49,22],[49,23,49,24],[52,3,52,4],[52,5,52,17],[52,21,52,22],[52,23,52,35],[53,3,53,4],[53,5,53,17],[53,21,53,22],[53,23,53,35],[50,27,50,28],[56,3,56,4],[56,5,56,17],[56,21,56,22],[56,23,56,35],[57,3,57,4],[57,5,57,17],[57,21,57,22],[57,23,57,35],[54,3,54,4],[54,5,54,17],[54,21,54,22],[54,23,54,35],[55,3,55,4],[55,5,55,17],[55,21,55,22],[55,23,55,35],[71,20,71,26],[71,13,71,19],[71,27,71,35],[72,20,74,26],[72,13,74,19],[72,27,74,35],[58,29,58,30],[60,0,60,3],[60,5,60,9],[60,12,60,16],[60,18,60,33],[61,0,67,35],[58,3,58,5],[58,7,58,8],[58,11,58,13],[58,16,58,17],[58,20,58,21],[58,24,58,26],[71,6,71,12],[72,6,74,12],[68,0,68,35],[69,0,69,35]]}
["公式記録",null,null,null,null,null,"Match No：",null,null,null,31]
["大",null,"OFA 第 33 回 \n大分県U-11サッカー選手権大会\n大分県大会",null,null,null,null,null,null,null,null,null,null,null,"第",2,null,"日",null,null,null,null,null,null,null,null,null,"競技","30分",null,"記"]
["会",null,null,null,null,null,null,null,null,null,null,null,null,null,"1回戦",null,"2回戦",null,"令和3年　12月5日（日）",null,null,null,null,null,null,null,null,"時間",null,null,"録","唐下　直之"]
["名",null,null,null,null,null,null,null,null,null,null,null,null,null,"準決勝",null,"決勝",null,"試合開始　12時00分～",null,null,null,null,null,null,null,null,"延長","6分",null,"者","磯村　信一"]
["会",null,"大分県大分スポーツ公園\n昭和電工サッカー・ラグビー場\nＢコート　北側",null,null,null,null,null,null,"天","晴","風",null,"強","弱","無","芝","状","良好",null,"審","主審",null,null,null,null,"副審",null,null,null,null,"第4の審判員"]
[null,null,null,null,null,null,null,null,null,null,"曇","気温",null,12,null,"℃",null,null,"不良",null,null,"須藤　健二",null,null,null,null,"柳元　哲哉",null,null,null,null," 箕迫　雄介"]
["場",null,null,null,null,null,null,null,null,"候","雨","湿度",null,46.2,null,"％","土","態","泥沼",null,"判",null,null,null,null,null,"柳本　剛"]
["【チーム名】",null,null,null,null,null,null,null,null,null,null,null,null,null,null,5,2,"前半",null,0,0,"【チーム名】"]
[null,{"$f":"+AR13","v":"太陽スポーツクラブ大分西"},null,null,null,null,null,null,null,null,null,{"$f":"AR14","v":"日田市"},null,null,null,null,3,"後半",null,0,null,null,{"$f":"+AY13","v":"大分トリニータタートルズ　キング"},null,null,null,null,null,null,null,null,null,{"$f":"AY14","v":"大分市"}]
[null,null,null,null,null,null,null,null,null,null,null,null,"kick off",null,null,null,null,"延前",null,null,null,"kick off"]
[null,null,null,null,null,null,null,null,null,null,null,"番号",null,"PK",null,null,null,"延後",null,null,null,"PK",null,"番号"]
[null,null,null,null,null,null,null,null,null,null,null,"○","×","先","後",null,null,"ＰＫ戦",null,null,null,"先","後","○","×"]
[null,null,"シュート（得点者は○印）",null,null,null,null,null,null,null,"学",null,null,null,null,null,"番",null,null,"番",null,null,null,null,null,"学","シュート（得点者は○印）",null,null,null,null,null,null,null,null,null,null,null,null,null,null,"チーム名",null,"太陽スポーツクラブ大分西",null,null,null,null,null,"チーム名","大分トリニータタートルズ　キング"]
["合",null,"延",null,"延",null,"後",null,"前",null,null,null,"選","手","名",null,null,"位置",null,null,null,"選","手","名",null,null,"前",null,"後",null,"延",null,"延",null,"合",null,null,null,null,null,null,"地区名",null,"日田市",null,null,null,null,null,"地区名","大分市"]
["計",null,"後",null,"前",null,"半",null,"半",null,"年",null,null,null,null,null,"号",null,null,"号",null,null,null,null,null,"年","半",null,"半",null,"前",null,"後",null,"計"]
[null,{"$f":"SUM(D16,F16,H16,J16)","v":0},null,null,null,null,null,null,null,null,{"$f":"IF(ISERROR(VLOOKUP(CONCATENATE($B$9,\"_\",Q16),選手名簿!$A:$G,7,FALSE))=TRUE,\"\",VLOOKUP(CONCATENATE($B$9,\"_\",Q16),選手名簿!$A:$G,7,FALSE))","v":4},{"$f":"IF(ISERROR(VLOOKUP(CONCATENATE($B$9,\"_\",Q16),選手名簿!$A:$E,5,FALSE))=TRUE,\"\",VLOOKUP(CONCATENATE($B$9,\"_\",Q16),選手名簿!$A:$E,5,FALSE))","v":"山本　涼介"},null,null,null,null,16,{"$f":"IF(ISERROR(VLOOKUP(CONCATENATE($B$9,\"_\",Q16),選手名簿!$A:$E,4,FALSE))=TRUE,\"\",VLOOKUP(CONCATENATE($B$9,\"_\",Q16),選手名簿!$A:$E,4,FALSE))","v":"GK"},{"$f":"IF(ISERROR(VLOOKUP(CONCATENATE($W$9,\"_\",T16),選手名簿!$A:$E,4,FALSE))=TRUE,\"\",VLOOKUP(CONCATENATE($W$9,\"_\",T16),選手名簿!$A:$E,4,FALSE))","v":"GK"},1,{"$f":"IF(ISERROR(VLOOKUP(CONCATENATE($W$9,\"_\",T16),選手名簿!$A:$E,5,FALSE))=TRUE,\"\",VLOOKUP(CONCATENATE($W$9,\"_\",T16),選手名簿!$A:$E,5,FALSE))","v":"後藤　旺太"},null,null,null,null,{"$f":"IF(ISERROR(VLOOKUP(CONCATENATE($W$9,\"_\",T16),選手名簿!$A:$G,7,FALSE))=TRUE,\"\",VLOOKUP(CONCATENATE($W$9,\"_\",T16),選手名簿!$A:$G,7,FALSE))","v":5},null,null,null,null,null,null,null,null,null,{"$f":"SUM(AB16,AD16,AF16,AH16)","v":0}]
[null,2,null,null,null,null,"①",1,null,1,{"$f":"IF(ISERROR(VLOOKUP(CONCATENATE($B$9,\"_\",Q17),選手名簿!$A:$G,7,FALSE))=TRUE,\"\",VLOOKUP(CONCATENATE($B$9,\"_\",Q17),選手名簿!$A:$G,7,FALSE))","v":5},{"$f":"IF(ISERROR(VLOOKUP(CONCATENATE($B$9,\"_\",Q17),選手名簿!$A:$E,5,FALSE))=TRUE,\"\",VLOOKUP(CONCATENATE($B$9,\"_\",Q17),選手名簿!$A:$E,5,FALSE))","v":"金子　将大"},null,null,null,null,6,{"$f":"IF(ISERROR(VLOOKUP(CONCATENATE($B$9,\"_\",Q17),選手名簿!$A:$E,4,FALSE))=TRUE,\"\",VLOOKUP(CONCATENATE($B$9,\"_\",Q17),選手名簿!$A:$E,4,FALSE))","v":"DF"},{"$f":"IF(ISERROR(VLOOKUP(CONCATENATE($W$9,\"_\",T17),選手名簿!$A:$E,4,FALSE))=TRUE,\"\",VLOOKUP(CONCATENATE($W$9,\"_\",T17),選手名簿!$A:$E,4,FALSE))","v":"DF"},3,{"$f":"IF(ISERROR(VLOOKUP(CONCATENATE($W$9,\"_\",T17),選手名簿!$A:$E,5,FALSE))=TRUE,\"\",VLOOKUP(CONCATENATE($W$9,\"_\",T17),選手名簿!$A:$E,5,FALSE))","v":"麻生　凱斗"},null,null,null,null,{"$f":"IF(ISERROR(VLOOKUP(CONCATENATE($W$9,\"_\",T17),選手名簿!$A:$G,7,FALSE))=TRUE,\"\",VLOOKUP(CONCATENATE($W$9,\"_\",T17),選手名簿!$A:$G,7,FALSE))","v":5},null,null,null,1,null,null,null,null,null,1]
[null,0,null,null,null,null,null,null,null,null,{"$f":"IF(ISERROR(VLOOKUP(CONCATENATE($B$9,\"_\",Q18),選手名簿!$A:$G,7,FALSE))=TRUE,\"\",VLOOKUP(CONCATENATE($B$9,\"_\",Q18),選手名簿!$A:$G,7,FALSE))","v":5},{"$f":"IF(ISERROR(VLOOKUP(CONCATENATE($B$9,\"_\",Q18),選手名簿!$A:$E,5,FALSE))=TRUE,\"\",VLOOKUP(CONCATENATE($B$9,\"_\",Q18),選手名簿!$A:$E,5,FALSE))","v":"大道　琉生"},null,null,null,null,14,{"$f":"IF(ISERROR(VLOOKUP(CONCATENATE($B$9,\"_\",Q18),選手名簿!$A:$E,4,FALSE))=TRUE,\"\",VLOOKUP(CONCATENATE($B$9,\"_\",Q18),選手名簿!$A:$E,4,FALSE))","v":"DF"},{"$f":"IF(ISERROR(VLOOKUP(CONCATENATE($W$9,\"_\",T18),選手名簿!$A:$E,4,FALSE))=TRUE,\"\",VLOOKUP(CONCATENATE($W$9,\"_\",T18),選手名簿!$A:$E,4,FALSE))","v":"DF"},6,{"$f":"IF(ISERROR(VLOOKUP(CONCATENATE($W$9,\"_\",T18),選手名簿!$A:$E,5,FALSE))=TRUE,\"\",VLOOKUP(CONCATENATE($W$9,\"_\",T18),選手名簿!$A:$E,5,FALSE))","v":"三宮　直人"},null,null,null,null,{"$f":"IF(ISERROR(VLOOKUP(CONCATENATE($W$9,\"_\",T18),選手名簿!$A:$G,7,FALSE))=TRUE,\"\",VLOOKUP(CONCATENATE($W$9,\"_\",T18),選手名簿!$A:$G,7,FALSE))","v":5},null,1,null,null,null,null,null,null,null,1]
[null,3,null,null,null,null,null,1,null,2,{"$f":"IF(ISERROR(VLOOKUP(CONCATENATE($B$9,\"_\",Q19),選手名簿!$A:$G,7,FALSE))=TRUE,\"\",VLOOKUP(CONCATENATE($B$9,\"_\",Q19),選手名簿!$A:$G,7,FALSE))","v":5},{"$f":"IF(ISERROR(VLOOKUP(CONCATENATE($B$9,\"_\",Q19),選手名簿!$A:$E,5,FALSE))=TRUE,\"\",VLOOKUP(CONCATENATE($B$9,\"_\",Q19),選手名簿!$A:$E,5,FALSE))","v":"坂本　悠虎"},null,null,null,null,11,{"$f":"IF(ISERROR(VLOOKUP(CONCATENATE($B$9,\"_\",Q19),選手名簿!$A:$E,4,FALSE))=TRUE,\"\",VLOOKUP(CONCATENATE($B$9,\"_\",Q19),選手名簿!$A:$E,4,FALSE))","v":"MF"},{"$f":"IF(ISERROR(VLOOKUP(CONCATENATE($W$9,\"_\",T19),選手名簿!$A:$E,4,FALSE))=TRUE,\"\",VLOOKUP(CONCATENATE($W$9,\"_\",T19),選手名簿!$A:$E,4,FALSE))","v":"DF"},8,{"$f":"IF(ISERROR(VLOOKUP(CONCATENATE($W$9,\"_\",T19),選手名簿!$A:$E,5,FALSE))=TRUE,\"\",VLOOKUP(CONCATENATE($W$9,\"_\",T19),選手名簿!$A:$E,5,FALSE))","v":"藤本　英太郎"},null,null,null,null,{"$f":"IF(ISERROR(VLOOKUP(CONCATENATE($W$9,\"_\",T19),選手名簿!$A:$G,7,FALSE))=TRUE,\"\",VLOOKUP(CONCATENATE($W$9,\"_\",T19),選手名簿!$A:$G,7,FALSE))","v":5},null,null,null,null,null,null,null,null,null,0]
[null,0,null,null,null,null,null,null,null,null,{"$f":"IF(ISERROR(VLOOKUP(CONCATENATE($B$9,\"_\",Q20),選手名簿!$A:$G,7,FALSE))=TRUE,\"\",VLOOKUP(CONCATENATE($B$9,\"_\",Q20),選手名簿!$A:$G,7,FALSE))","v":5},{"$f":"IF(ISERROR(VLOOKUP(CONCATENATE($B$9,\"_\",Q20),選手名簿!$A:$E,5,FALSE))=TRUE,\"\",VLOOKUP(CONCATENATE($B$9,\"_\",Q20),選手名簿!$A:$E,5,FALSE))","v":"堀田　徠亜"},null,null,null,null,12,{"$f":"IF(ISERROR(VLOOKUP(CONCATENATE($B$9,\"_\",Q20),選手名簿!$A:$E,4,FALSE))=TRUE,\"\",VLOOKUP(CONCATENATE($B$9,\"_\",Q20),選手名簿!$A:$E,4,FALSE))","v":"MF"},{"$f":"IF(ISERROR(VLOOKUP(CONCATENATE($W$9,\"_\",T20),選手名簿!$A:$E,4,FALSE))=TRUE,\"\",VLOOKUP(CONCATENATE($W$9,\"_\",T20),選手名簿!$A:$E,4,FALSE))","v":"MF"},7,{"$f":"IF(ISERROR(VLOOKUP(CONCATENATE($W$9,\"_\",T20),選手名簿!$A:$E,5,FALSE))=TRUE,\"\",VLOOKUP(CONCATENATE($W$9,\"_\",T20),選手名簿!$A:$E,5,FALSE))","v":"藤野　和馬"},null,null,null,null,{"$f":"IF(ISERROR(VLOOKUP(CONCATENATE($W$9,\"_\",T20),選手名簿!$A:$G,7,FALSE))=TRUE,\"\",VLOOKUP(CONCATENATE($W$9,\"_\",T20),選手名簿!$A:$G,7,FALSE))","v":5},null,null,null,null,null,null,null,null,null,0]
[null,5,null,null,null,null,"②",3,null,2,{"$f":"IF(ISERROR(VLOOKUP(CONCATENATE($B$9,\"_\",Q21),選手名簿!$A:$G,7,FALSE))=TRUE,\"\",VLOOKUP(CONCATENATE($B$9,\"_\",Q21),選手名簿!$A:$G,7,FALSE))","v":5},{"$f":"IF(ISERROR(VLOOKUP(CONCATENATE($B$9,\"_\",Q21),選手名簿!$A:$E,5,FALSE))=TRUE,\"\",VLOOKUP(CONCATENATE($B$9,\"_\",Q21),選手名簿!$A:$E,5,FALSE))","v":"伊藤　凛人"},null,null,null,null,8,{"$f":"IF(ISERROR(VLOOKUP(CONCATENATE($B$9,\"_\",Q21),選手名簿!$A:$E,4,FALSE))=TRUE,\"\",VLOOKUP(CONCATENATE($B$9,\"_\",Q21),選手名簿!$A:$E,4,FALSE))","v":"FW"},{"$f":"IF(ISERROR(VLOOKUP(CONCATENATE($W$9,\"_\",T21),選手名簿!$A:$E,4,FALSE))=TRUE,\"\",VLOOKUP(CONCATENATE($W$9,\"_\",T21),選手名簿!$A:$E,4,FALSE))","v":"MF"},10,{"$f":"IF(ISERROR(VLOOKUP(CONCATENATE($W$9,\"_\",T21),選手名簿!$A:$E,5,FALSE))=TRUE,\"\",VLOOKUP(CONCATENATE($W$9,\"_\",T21),選手名簿!$A:$E,5,FALSE))","v":"矢野　壮太郎"},null,null,null,null,{"$f":"IF(ISERROR(VLOOKUP(CONCATENATE($W$9,\"_\",T21),選手名簿!$A:$G,7,FALSE))=TRUE,\"\",VLOOKUP(CONCATENATE($W$9,\"_\",T21),選手名簿!$A:$G,7,FALSE))","v":5},null,null,null,null,null,null,null,null,null,0]
[null,5,null,null,null,null,null,1,"②",4,{"$f":"IF(ISERROR(VLOOKUP(CONCATENATE($B$9,\"_\",Q22),選手名簿!$A:$G,7,FALSE))=TRUE,\"\",VLOOKUP(CONCATENATE($B$9,\"_\",Q22),選手名簿!$A:$G,7,FALSE))","v":4},{"$f":"IF(ISERROR(VLOOKUP(CONCATENATE($B$9,\"_\",Q22),選手名簿!$A:$E,5,FALSE))=TRUE,\"\",VLOOKUP(CONCATENATE($B$9,\"_\",Q22),選手名簿!$A:$E,5,FALSE))","v":"中尾　栄都"},null,null,null,null,13,{"$f":"IF(ISERROR(VLOOKUP(CONCATENATE($B$9,\"_\",Q22),選手名簿!$A:$E,4,FALSE))=TRUE,\"\",VLOOKUP(CONCATENATE($B$9,\"_\",Q22),選手名簿!$A:$E,4,FALSE))","v":"FW"},{"$f":"IF(ISERROR(VLOOKUP(CONCATENATE($W$9,\"_\",T22),選手名簿!$A:$E,4,FALSE))=TRUE,\"\",VLOOKUP(CONCATENATE($W$9,\"_\",T22),選手名簿!$A:$E,4,FALSE))","v":"FW"},4,{"$f":"IF(ISERROR(VLOOKUP(CONCATENATE($W$9,\"_\",T22),選手名簿!$A:$E,5,FALSE))=TRUE,\"\",VLOOKUP(CONCATENATE($W$9,\"_\",T22),選手名簿!$A:$E,5,FALSE))","v":"小松　俊介"},null,null,null,null,{"$f":"IF(ISERROR(VLOOKUP(CONCATENATE($W$9,\"_\",T22),選手名簿!$A:$G,7,FALSE))=TRUE,\"\",VLOOKUP(CONCATENATE($W$9,\"_\",T22),選手名簿!$A:$G,7,FALSE))","v":5},null,null,null,null,null,null,null,null,null,0]
[null,1,null,null,null,null,null,null,null,1,{"$f":"IF(ISERROR(VLOOKUP(CONCATENATE($B$9,\"_\",Q23),選手名簿!$A:$G,7,FALSE))=TRUE,\"\",VLOOKUP(CONCATENATE($B$9,\"_\",Q23),選手名簿!$A:$G,7,FALSE))","v":5},{"$f":"IF(ISERROR(VLOOKUP(CONCATENATE($B$9,\"_\",Q23),選手名簿!$A:$E,5,FALSE))=TRUE,\"\",VLOOKUP(CONCATENATE($B$9,\"_\",Q23),選手名簿!$A:$E,5,FALSE))","v":"黒木　陸叶"},null,null,null,null,15,{"$f":"IF(ISERROR(VLOOKUP(CONCATENATE($B$9,\"_\",Q23),選手名簿!$A:$E,4,FALSE))=TRUE,\"\",VLOOKUP(CONCATENATE($B$9,\"_\",Q23),選手名簿!$A:$E,4,FALSE))","v":"FW"},{"$f":"IF(ISERROR(VLOOKUP(CONCATENATE($W$9,\"_\",T23),選手名簿!$A:$E,4,FALSE))=TRUE,\"\",VLOOKUP(CONCATENATE($W$9,\"_\",T23),選手名簿!$A:$E,4,FALSE))","v":"FW"},9,{"$f":"IF(ISERROR(VLOOKUP(CONCATENATE($W$9,\"_\",T23),選手名簿!$A:$E,5,FALSE))=TRUE,\"\",VLOOKUP(CONCATENATE($W$9,\"_\",T23),選手名簿!$A:$E,5,FALSE))","v":"谷川　颯太"},null,null,null,null,{"$f":"IF(ISERROR(VLOOKUP(CONCATENATE($W$9,\"_\",T23),選手名簿!$A:$G,7,FALSE))=TRUE,\"\",VLOOKUP(CONCATENATE($W$9,\"_\",T23),選手名簿!$A:$G,7,FALSE))","v":5},null,null,null,2,null,null,null,null,null,2]
[null,null,null,null,null,null,null,null,null,null,null,null,null,null,null,null,"交替要員"]
[null,{"$f":"SUM(D25,F25,H25,J25)","v":0},null,null,null,null,null,null,null,null,{"$f":"IF(ISERROR(VLOOKUP(CONCATENATE($B$9,\"_\",Q25),選手名簿!$A:$G,7,FALSE))=TRUE,\"\",VLOOKUP(CONCATENATE($B$9,\"_\",Q25),選手名簿!$A:$G,7,FALSE))","v":5},{"$f":"IF(ISERROR(VLOOKUP(CONCATENATE($B$9,\"_\",Q25),選手名簿!$A:$E,5,FALSE))=TRUE,\"\",VLOOKUP(CONCATENATE($B$9,\"_\",Q25),選手名簿!$A:$E,5,FALSE))","v":"久保﨑　兆"},null,null,null,null,1,{"$f":"IF(ISERROR(VLOOKUP(CONCATENATE($B$9,\"_\",Q25),選手名簿!$A:$E,4,FALSE))=TRUE,\"\",VLOOKUP(CONCATENATE($B$9,\"_\",Q25),選手名簿!$A:$E,4,FALSE))","v":"GK"},{"$f":"IF(ISERROR(VLOOKUP(CONCATENATE($W$9,\"_\",T25),選手名簿!$A:$E,4,FALSE))=TRUE,\"\",VLOOKUP(CONCATENATE($W$9,\"_\",T25),選手名簿!$A:$E,4,FALSE))","v":"MF"},2,{"$f":"IF(ISERROR(VLOOKUP(CONCATENATE($W$9,\"_\",T25),選手名簿!$A:$E,5,FALSE))=TRUE,\"\",VLOOKUP(CONCATENATE($W$9,\"_\",T25),選手名簿!$A:$E,5,FALSE))","v":"栗本　真帆"},null,null,null,null,{"$f":"IF(ISERROR(VLOOKUP(CONCATENATE($W$9,\"_\",T25),選手名簿!$A:$G,7,FALSE))=TRUE,\"\",VLOOKUP(CONCATENATE($W$9,\"_\",T25),選手名簿!$A:$G,7,FALSE))","v":5},null,null,null,null,null,null,null,null,null,{"$f":"SUM(AB25,AD25,AF25,AH25)","v":0}]
[null,0,null,null,null,null,null,null,null,null,{"$f":"IF(ISERROR(VLOOKUP(CONCATENATE($B$9,\"_\",Q26),選手名簿!$A:$G,7,FALSE))=TRUE,\"\",VLOOKUP(CONCATENATE($B$9,\"_\",Q26),選手名簿!$A:$G,7,FALSE))","v":5},{"$f":"IF(ISERROR(VLOOKUP(CONCATENATE($B$9,\"_\",Q26),選手名簿!$A:$E,5,FALSE))=TRUE,\"\",VLOOKUP(CONCATENATE($B$9,\"_\",Q26),選手名簿!$A:$E,5,FALSE))","v":"石谷　柚太郎"},null,null,null,null,2,{"$f":"IF(ISERROR(VLOOKUP(CONCATENATE($B$9,\"_\",Q26),選手名簿!$A:$E,4,FALSE))=TRUE,\"\",VLOOKUP(CONCATENATE($B$9,\"_\",Q26),選手名簿!$A:$E,4,FALSE))","v":"MF"},{"$f":"IF(ISERROR(VLOOKUP(CONCATENATE($W$9,\"_\",T26),選手名簿!$A:$E,4,FALSE))=TRUE,\"\",VLOOKUP(CONCATENATE($W$9,\"_\",T26),選手名簿!$A:$E,4,FALSE))","v":"DF"},5,{"$f":"IF(ISERROR(VLOOKUP(CONCATENATE($W$9,\"_\",T26),選手名簿!$A:$E,5,FALSE))=TRUE,\"\",VLOOKUP(CONCATENATE($W$9,\"_\",T26),選手名簿!$A:$E,5,FALSE))","v":"佐藤　稜悟"},null,null,null,null,{"$f":"IF(ISERROR(VLOOKUP(CONCATENATE($W$9,\"_\",T26),選手名簿!$A:$G,7,FALSE))=TRUE,\"\",VLOOKUP(CONCATENATE($W$9,\"_\",T26),選手名簿!$A:$G,7,FALSE))","v":5},null,null,null,1,null,null,null,null,null,1]
[null,0,null,null,null,null,null,null,null,null,{"$f":"IF(ISERROR(VLOOKUP(CONCATENATE($B$9,\"_\",Q27),選手名簿!$A:$G,7,FALSE))=TRUE,\"\",VLOOKUP(CONCATENATE($B$9,\"_\",Q27),選手名簿!$A:$G,7,FALSE))","v":4},{"$f":"IF(ISERROR(VLOOKUP(CONCATENATE($B$9,\"_\",Q27),選手名簿!$A:$E,5,FALSE))=TRUE,\"\",VLOOKUP(CONCATENATE($B$9,\"_\",Q27),選手名簿!$A:$E,5,FALSE))","v":"矢幡　陸"},null,null,null,null,5,{"$f":"IF(ISERROR(VLOOKUP(CONCATENATE($B$9,\"_\",Q27),選手名簿!$A:$E,4,FALSE))=TRUE,\"\",VLOOKUP(CONCATENATE($B$9,\"_\",Q27),選手名簿!$A:$E,4,FALSE))","v":"DF"},{"$f":"IF(ISERROR(VLOOKUP(CONCATENATE($W$9,\"_\",T27),選手名簿!$A:$E,4,FALSE))=TRUE,\"\",VLOOKUP(CONCATENATE($W$9,\"_\",T27),選手名簿!$A:$E,4,FALSE))","v":"GK"},12,{"$f":"IF(ISERROR(VLOOKUP(CONCATENATE($W$9,\"_\",T27),選手名簿!$A:$E,5,FALSE))=TRUE,\"\",VLOOKUP(CONCATENATE($W$9,\"_\",T27),選手名簿!$A:$E,5,FALSE))","v":"野上　泰雅"},null,null,null,null,{"$f":"IF(ISERROR(VLOOKUP(CONCATENATE($W$9,\"_\",T27),選手名簿!$A:$G,7,FALSE))=TRUE,\"\",VLOOKUP(CONCATENATE($W$9,\"_\",T27),選手名簿!$A:$G,7,FALSE))","v":5},null,null,null,null,null,null,null,null,null,0]
[null,0,null,null,null,null,null,null,null,null,{"$f":"IF(ISERROR(VLOOKUP(CONCATENATE($B$9,\"_\",Q28),選手名簿!$A:$G,7,FALSE))=TRUE,\"\",VLOOKUP(CONCATENATE($B$9,\"_\",Q28),選手名簿!$A:$G,7,FALSE))","v":4},{"$f":"IF(ISERROR(VLOOKUP(CONCATENATE($B$9,\"_\",Q28),選手名簿!$A:$E,5,FALSE))=TRUE,\"\",VLOOKUP(CONCATENATE($B$9,\"_\",Q28),選手名簿!$A:$E,5,FALSE))","v":"坂本　帆那"},null,null,null,null,7,{"$f":"IF(ISERROR(VLOOKUP(CONCATENATE($B$9,\"_\",Q28),選手名簿!$A:$E,4,FALSE))=TRUE,\"\",VLOOKUP(CONCATENATE($B$9,\"_\",Q28),選手名簿!$A:$E,4,FALSE))","v":"FW"},{"$f":"IF(ISERROR(VLOOKUP(CONCATENATE($W$9,\"_\",T28),選手名簿!$A:$E,4,FALSE))=TRUE,\"\",VLOOKUP(CONCATENATE($W$9,\"_\",T28),選手名簿!$A:$E,4,FALSE))","v":"FW"},13,{"$f":"IF(ISERROR(VLOOKUP(CONCATENATE($W$9,\"_\",T28),選手名簿!$A:$E,5,FALSE))=TRUE,\"\",VLOOKUP(CONCATENATE($W$9,\"_\",T28),選手名簿!$A:$E,5,FALSE))","v":"諏訪　要"},null,null,null,null,{"$f":"IF(ISERROR(VLOOKUP(CONCATENATE($W$9,\"_\",T28),選手名簿!$A:$G,7,FALSE))=TRUE,\"\",VLOOKUP(CONCATENATE($W$9,\"_\",T28),選手名簿!$A:$G,7,FALSE))","v":4},null,null,null,null,null,null,null,null,null,0]
[null,{"$f":"SUM(D29,F29,H29,J29)","v":0},null,null,null,null,null,null,null,null,{"$f":"IF(ISERROR(VLOOKUP(CONCATENATE($B$9,\"_\",Q29),選手名簿!$A:$G,7,FALSE))=TRUE,\"\",VLOOKUP(CONCATENATE($B$9,\"_\",Q29),選手名簿!$A:$G,7,FALSE))","v":""},{"$f":"IF(ISERROR(VLOOKUP(CONCATENATE($B$9,\"_\",Q29),選手名簿!$A:$E,5,FALSE))=TRUE,\"\",VLOOKUP(CONCATENATE($B$9,\"_\",Q29),選手名簿!$A:$E,5,FALSE))","v":""},null,null,null,null,null,{"$f":"IF(ISERROR(VLOOKUP(CONCATENATE($B$9,\"_\",Q29),選手名簿!$A:$E,4,FALSE))=TRUE,\"\",VLOOKUP(CONCATENATE($B$9,\"_\",Q29),選手名簿!$A:$E,4,FALSE))","v":""},{"$f":"IF(ISERROR(VLOOKUP(CONCATENATE($W$9,\"_\",T29),選手名簿!$A:$E,4,FALSE))=TRUE,\"\",VLOOKUP(CONCATENATE($W$9,\"_\",T29),選手名簿!$A:$E,4,FALSE))","v":"MF"},14,{"$f":"IF(ISERROR(VLOOKUP(CONCATENATE($W$9,\"_\",T29),選手名簿!$A:$E,5,FALSE))=TRUE,\"\",VLOOKUP(CONCATENATE($W$9,\"_\",T29),選手名簿!$A:$E,5,FALSE))","v":"橋本　万璃"},null,null,null,null,{"$f":"IF(ISERROR(VLOOKUP(CONCATENATE($W$9,\"_\",T29),選手名簿!$A:$G,7,FALSE))=TRUE,\"\",VLOOKUP(CONCATENATE($W$9,\"_\",T29),選手名簿!$A:$G,7,FALSE))","v":4},null,null,null,null,null,null,null,null,null,{"$f":"SUM(AB29,AD29,AF29,AH29)","v":0}]
[null,{"$f":"SUM(D30,F30,H30,J30)","v":0},null,null,null,null,null,null,null,null,{"$f":"IF(ISERROR(VLOOKUP(CONCATENATE($B$9,\"_\",Q30),選手名簿!$A:$G,7,FALSE))=TRUE,\"\",VLOOKUP(CONCATENATE($B$9,\"_\",Q30),選手名簿!$A:$G,7,FALSE))","v":""},{"$f":"IF(ISERROR(VLOOKUP(CONCATENATE($B$9,\"_\",Q30),選手名簿!$A:$E,5,FALSE))=TRUE,\"\",VLOOKUP(CONCATENATE($B$9,\"_\",Q30),選手名簿!$A:$E,5,FALSE))","v":""},null,null,null,null,null,{"$f":"IF(ISERROR(VLOOKUP(CONCATENATE($B$9,\"_\",Q30),選手名簿!$A:$E,4,FALSE))=TRUE,\"\",VLOOKUP(CONCATENATE($B$9,\"_\",Q30),選手名簿!$A:$E,4,FALSE))","v":""},{"$f":"IF(ISERROR(VLOOKUP(CONCATENATE($W$9,\"_\",T30),選手名簿!$A:$E,4,FALSE))=TRUE,\"\",VLOOKUP(CONCATENATE($W$9,\"_\",T30),選手名簿!$A:$E,4,FALSE))","v":"FW"},15,{"$f":"IF(ISERROR(VLOOKUP(CONCATENATE($W$9,\"_\",T30),選手名簿!$A:$E,5,FALSE))=TRUE,\"\",VLOOKUP(CONCATENATE($W$9,\"_\",T30),選手名簿!$A:$E,5,FALSE))","v":"宮部　桔平"},null,null,null,null,{"$f":"IF(ISERROR(VLOOKUP(CONCATENATE($W$9,\"_\",T30),選手名簿!$A:$G,7,FALSE))=TRUE,\"\",VLOOKUP(CONCATENATE($W$9,\"_\",T30),選手名簿!$A:$G,7,FALSE))","v":4},null,null,null,null,null,null,null,null,null,{"$f":"SUM(AB30,AD30,AF30,AH30)","v":0}]
[null,0,null,null,null,null,null,null,null,null,{"$f":"IF(ISERROR(VLOOKUP(CONCATENATE($B$9,\"_\",Q31),選手名簿!$A:$G,7,FALSE))=TRUE,\"\",VLOOKUP(CONCATENATE($B$9,\"_\",Q31),選手名簿!$A:$G,7,FALSE))","v":""},{"$f":"IF(ISERROR(VLOOKUP(CONCATENATE($B$9,\"_\",Q31),選手名簿!$A:$E,5,FALSE))=TRUE,\"\",VLOOKUP(CONCATENATE($B$9,\"_\",Q31),選手名簿!$A:$E,5,FALSE))","v":""},null,null,null,null,null,{"$f":"IF(ISERROR(VLOOKUP(CONCATENATE($B$9,\"_\",Q31),選手名簿!$A:$E,4,FALSE))=TRUE,\"\",VLOOKUP(CONCATENATE($B$9,\"_\",Q31),選手名簿!$A:$E,4,FALSE))","v":""},{"$f":"IF(ISERROR(VLOOKUP(CONCATENATE($W$9,\"_\",T31),選手名簿!$A:$E,4,FALSE))=TRUE,\"\",VLOOKUP(CONCATENATE($W$9,\"_\",T31),選手名簿!$A:$E,4,FALSE))","v":""},null,{"$f":"IF(ISERROR(VLOOKUP(CONCATENATE($W$9,\"_\",T31),選手名簿!$A:$E,5,FALSE))=TRUE,\"\",VLOOKUP(CONCATENATE($W$9,\"_\",T31),選手名簿!$A:$E,5,FALSE))","v":""},null,null,null,null,{"$f":"IF(ISERROR(VLOOKUP(CONCATENATE($W$9,\"_\",T31),選手名簿!$A:$G,7,FALSE))=TRUE,\"\",VLOOKUP(CONCATENATE($W$9,\"_\",T31),選手名簿!$A:$G,7,FALSE))","v":""},null,null,null,null,null,null,null,null,null,0]
[null,0,null,null,null,null,null,null,null,null,{"$f":"IF(ISERROR(VLOOKUP(CONCATENATE($B$9,\"_\",Q32),選手名簿!$A:$G,7,FALSE))=TRUE,\"\",VLOOKUP(CONCATENATE($B$9,\"_\",Q32),選手名簿!$A:$G,7,FALSE))","v":""},{"$f":"IF(ISERROR(VLOOKUP(CONCATENATE($B$9,\"_\",Q32),選手名簿!$A:$E,5,FALSE))=TRUE,\"\",VLOOKUP(CONCATENATE($B$9,\"_\",Q32),選手名簿!$A:$E,5,FALSE))","v":""},null,null,null,null,null,{"$f":"IF(ISERROR(VLOOKUP(CONCATENATE($B$9,\"_\",Q32),選手名簿!$A:$E,4,FALSE))=TRUE,\"\",VLOOKUP(CONCATENATE($B$9,\"_\",Q32),選手名簿!$A:$E,4,FALSE))","v":""},{"$f":"IF(ISERROR(VLOOKUP(CONCATENATE($W$9,\"_\",T32),選手名簿!$A:$E,4,FALSE))=TRUE,\"\",VLOOKUP(CONCATENATE($W$9,\"_\",T32),選手名簿!$A:$E,4,FALSE))","v":""},null,{"$f":"IF(ISERROR(VLOOKUP(CONCATENATE($W$9,\"_\",T32),選手名簿!$A:$E,5,FALSE))=TRUE,\"\",VLOOKUP(CONCATENATE($W$9,\"_\",T32),選手名簿!$A:$E,5,FALSE))","v":""},null,null,null,null,{"$f":"IF(ISERROR(VLOOKUP(CONCATENATE($W$9,\"_\",T32),選手名簿!$A:$G,7,FALSE))=TRUE,\"\",VLOOKUP(CONCATENATE($W$9,\"_\",T32),選手名簿!$A:$G,7,FALSE))","v":""},null,null,null,null,null,null,null,null,null,0]
[null,0,null,null,null,null,null,null,null,null,{"$f":"IF(ISERROR(VLOOKUP(CONCATENATE($B$9,\"_\",Q33),選手名簿!$A:$G,7,FALSE))=TRUE,\"\",VLOOKUP(CONCATENATE($B$9,\"_\",Q33),選手名簿!$A:$G,7,FALSE))","v":""},{"$f":"IF(ISERROR(VLOOKUP(CONCATENATE($B$9,\"_\",Q33),選手名簿!$A:$E,5,FALSE))=TRUE,\"\",VLOOKUP(CONCATENATE($B$9,\"_\",Q33),選手名簿!$A:$E,5,FALSE))","v":""},null,null,null,null,null,{"$f":"IF(ISERROR(VLOOKUP(CONCATENATE($B$9,\"_\",Q33),選手名簿!$A:$E,4,FALSE))=TRUE,\"\",VLOOKUP(CONCATENATE($B$9,\"_\",Q33),選手名簿!$A:$E,4,FALSE))","v":""},{"$f":"IF(ISERROR(VLOOKUP(CONCATENATE($W$9,\"_\",T33),選手名簿!$A:$E,4,FALSE))=TRUE,\"\",VLOOKUP(CONCATENATE($W$9,\"_\",T33),選手名簿!$A:$E,4,FALSE))","v":""},null,{"$f":"IF(ISERROR(VLOOKUP(CONCATENATE($W$9,\"_\",T33),選手名簿!$A:$E,5,FALSE))=TRUE,\"\",VLOOKUP(CONCATENATE($W$9,\"_\",T33),選手名簿!$A:$E,5,FALSE))","v":""},null,null,null,null,{"$f":"IF(ISERROR(VLOOKUP(CONCATENATE($W$9,\"_\",T33),選手名簿!$A:$G,7,FALSE))=TRUE,\"\",VLOOKUP(CONCATENATE($W$9,\"_\",T33),選手名簿!$A:$G,7,FALSE))","v":""},null,null,null,null,null,null,null,null,null,0]
[null,0,null,null,null,null,null,null,null,null,{"$f":"IF(ISERROR(VLOOKUP(CONCATENATE($B$9,\"_\",Q34),選手名簿!$A:$G,7,FALSE))=TRUE,\"\",VLOOKUP(CONCATENATE($B$9,\"_\",Q34),選手名簿!$A:$G,7,FALSE))","v":""},{"$f":"IF(ISERROR(VLOOKUP(CONCATENATE($B$9,\"_\",Q34),選手名簿!$A:$E,5,FALSE))=TRUE,\"\",VLOOKUP(CONCATENATE($B$9,\"_\",Q34),選手名簿!$A:$E,5,FALSE))","v":""},null,null,null,null,null,{"$f":"IF(ISERROR(VLOOKUP(CONCATENATE($B$9,\"_\",Q34),選手名簿!$A:$E,4,FALSE))=TRUE,\"\",VLOOKUP(CONCATENATE($B$9,\"_\",Q34),選手名簿!$A:$E,4,FALSE))","v":""},{"$f":"IF(ISERROR(VLOOKUP(CONCATENATE($W$9,\"_\",T34),選手名簿!$A:$E,4,FALSE))=TRUE,\"\",VLOOKUP(CONCATENATE($W$9,\"_\",T34),選手名簿!$A:$E,4,FALSE))","v":""},null,{"$f":"IF(ISERROR(VLOOKUP(CONCATENATE($W$9,\"_\",T34),選手名簿!$A:$E,5,FALSE))=TRUE,\"\",VLOOKUP(CONCATENATE($W$9,\"_\",T34),選手名簿!$A:$E,5,FALSE))","v":""},null,null,null,null,{"$f":"IF(ISERROR(VLOOKUP(CONCATENATE($W$9,\"_\",T34),選手名簿!$A:$G,7,FALSE))=TRUE,\"\",VLOOKUP(CONCATENATE($W$9,\"_\",T34),選手名簿!$A:$G,7,FALSE))","v":""},null,null,null,null,null,null,null,null,null,0]
[null,{"$f":"SUM(C35:J35)","v":16},null,{"$f":"SUM(D16:D23,D25:D34)","v":0},null,{"$f":"SUM(F16:F23,F25:F34)","v":0},null,{"$f":"SUM(H16:H23,H25:H34)","v":6},null,{"$f":"SUM(J16:J23,J25:J34)","v":10},"小計",{"$f":"SUM(D35,F35,H35,J35)","v":16},null,null,null,null,"合計","シュート数",null,"合計",{"$f":"SUM(AB35,AD35,AF35,AH35)","v":5},null,null,null,null,"小計",null,{"$f":"SUM(AB16:AB23,AB25:AB34)","v":1},null,{"$f":"SUM(AD16:AD23,AD25:AD34)","v":4},null,{"$f":"SUM(AF16:AF23,AF25:AF34)","v":0},null,{"$f":"SUM(AH16:AH23,AH25:AH34)","v":0},null,{"$f":"SUM(AA35:AH35)","v":5}]
[null,null,"OUT",null,null,null,null,null,null,"→","IN",null,null,null,null,null,null,"交代",null,null,"OUT",null,null,null,null,null,null,"→","IN"]
[null,null,null,null,null,null,null,null,null,null,null,null,null,null,null,null,null,"選手"]
[22,"分",15,"番",{"$f":"IF(ISERROR(VLOOKUP(CONCATENATE($B$9,\"_\",C38),選手名簿!$A:$E,5,FALSE))=TRUE,\"\",VLOOKUP(CONCATENATE($B$9,\"_\",C38),選手名簿!$A:$E,5,FALSE))","v":"黒木　陸叶"},null,null,null,null,"→",7,"番",{"$f":"IF(ISERROR(VLOOKUP(CONCATENATE($B$9,\"_\",K38),選手名簿!$A:$E,5,FALSE))=TRUE,\"\",VLOOKUP(CONCATENATE($B$9,\"_\",K38),選手名簿!$A:$E,5,FALSE))","v":"坂本　帆那"},null,null,null,null,null,9,"分",9,"番",{"$f":"IF(ISERROR(VLOOKUP(CONCATENATE($W$9,\"_\",U38),選手名簿!$A:$E,5,FALSE))=TRUE,\"\",VLOOKUP(CONCATENATE($W$9,\"_\",U38),選手名簿!$A:$E,5,FALSE))","v":"谷川　颯太"},null,null,null,null,"→",2,"番",{"$f":"IF(ISERROR(VLOOKUP(CONCATENATE($W$9,\"_\",AC38),選手名簿!$A:$E,5,FALSE))=TRUE,\"\",VLOOKUP(CONCATENATE($W$9,\"_\",AC38),選手名簿!$A:$E,5,FALSE))","v":"栗本　真帆"}]
[27,"分",7,"番",{"$f":"IF(ISERROR(VLOOKUP(CONCATENATE($B$9,\"_\",C39),選手名簿!$A:$E,5,FALSE))=TRUE,\"\",VLOOKUP(CONCATENATE($B$9,\"_\",C39),選手名簿!$A:$E,5,FALSE))","v":"坂本　帆那"},null,null,null,null,"→",2,"番",{"$f":"IF(ISERROR(VLOOKUP(CONCATENATE($B$9,\"_\",K39),選手名簿!$A:$E,5,FALSE))=TRUE,\"\",VLOOKUP(CONCATENATE($B$9,\"_\",K39),選手名簿!$A:$E,5,FALSE))","v":"石谷　柚太郎"},null,null,null,null,null,"HT","分",2,"番",{"$f":"IF(ISERROR(VLOOKUP(CONCATENATE($W$9,\"_\",U39),選手名簿!$A:$E,5,FALSE))=TRUE,\"\",VLOOKUP(CONCATENATE($W$9,\"_\",U39),選手名簿!$A:$E,5,FALSE))","v":"栗本　真帆"},null,null,null,null,"→",5,"番",{"$f":"IF(ISERROR(VLOOKUP(CONCATENATE($W$9,\"_\",AC39),選手名簿!$A:$E,5,FALSE))=TRUE,\"\",VLOOKUP(CONCATENATE($W$9,\"_\",AC39),選手名簿!$A:$E,5,FALSE))","v":"佐藤　稜悟"}]
[30,"分",14,"番",{"$f":"IF(ISERROR(VLOOKUP(CONCATENATE($B$9,\"_\",C40),選手名簿!$A:$E,5,FALSE))=TRUE,\"\",VLOOKUP(CONCATENATE($B$9,\"_\",C40),選手名簿!$A:$E,5,FALSE))","v":"大道　琉生"},null,null,null,null,"→",5,"番",{"$f":"IF(ISERROR(VLOOKUP(CONCATENATE($B$9,\"_\",K40),選手名簿!$A:$E,5,FALSE))=TRUE,\"\",VLOOKUP(CONCATENATE($B$9,\"_\",K40),選手名簿!$A:$E,5,FALSE))","v":"矢幡　陸"},null,null,null,null,null,"HT","分",6,"番",{"$f":"IF(ISERROR(VLOOKUP(CONCATENATE($W$9,\"_\",U40),選手名簿!$A:$E,5,FALSE))=TRUE,\"\",VLOOKUP(CONCATENATE($W$9,\"_\",U40),選手名簿!$A:$E,5,FALSE))","v":"三宮　直人"},null,null,null,null,"→",9,"番",{"$f":"IF(ISERROR(VLOOKUP(CONCATENATE($W$9,\"_\",AC40),選手名簿!$A:$E,5,FALSE))=TRUE,\"\",VLOOKUP(CONCATENATE($W$9,\"_\",AC40),選手名簿!$A:$E,5,FALSE))","v":"谷川　颯太"}]
[null,"分",null,"番",{"$f":"IF(ISERROR(VLOOKUP(CONCATENATE($B$9,\"_\",C41),選手名簿!$A:$E,5,FALSE))=TRUE,\"\",VLOOKUP(CONCATENATE($B$9,\"_\",C41),選手名簿!$A:$E,5,FALSE))","v":""},null,null,null,null,"→",null,"番",{"$f":"IF(ISERROR(VLOOKUP(CONCATENATE($B$9,\"_\",K41),選手名簿!$A:$E,5,FALSE))=TRUE,\"\",VLOOKUP(CONCATENATE($B$9,\"_\",K41),選手名簿!$A:$E,5,FALSE))","v":""},null,null,null,null,null,24,"分",3,"番",{"$f":"IF(ISERROR(VLOOKUP(CONCATENATE($W$9,\"_\",U41),選手名簿!$A:$E,5,FALSE))=TRUE,\"\",VLOOKUP(CONCATENATE($W$9,\"_\",U41),選手名簿!$A:$E,5,FALSE))","v":"麻生　凱斗"},null,null,null,null,"→",12,"番",{"$f":"IF(ISERROR(VLOOKUP(CONCATENATE($W$9,\"_\",AC41),選手名簿!$A:$E,5,FALSE))=TRUE,\"\",VLOOKUP(CONCATENATE($W$9,\"_\",AC41),選手名簿!$A:$E,5,FALSE))","v":"野上　泰雅"}]
[null,"分",null,"番",{"$f":"IF(ISERROR(VLOOKUP(CONCATENATE($B$9,\"_\",C42),選手名簿!$A:$E,5,FALSE))=TRUE,\"\",VLOOKUP(CONCATENATE($B$9,\"_\",C42),選手名簿!$A:$E,5,FALSE))","v":""},null,null,null,null,"→",null,"番",{"$f":"IF(ISERROR(VLOOKUP(CONCATENATE($B$9,\"_\",K42),選手名簿!$A:$E,5,FALSE))=TRUE,\"\",VLOOKUP(CONCATENATE($B$9,\"_\",K42),選手名簿!$A:$E,5,FALSE))","v":""},null,null,null,null,null,null,"分",null,"番",{"$f":"IF(ISERROR(VLOOKUP(CONCATENATE($W$9,\"_\",U42),選手名簿!$A:$E,5,FALSE))=TRUE,\"\",VLOOKUP(CONCATENATE($W$9,\"_\",U42),選手名簿!$A:$E,5,FALSE))","v":""},null,null,null,null,"→",null,"番",{"$f":"IF(ISERROR(VLOOKUP(CONCATENATE($W$9,\"_\",AC42),選手名簿!$A:$E,5,FALSE))=TRUE,\"\",VLOOKUP(CONCATENATE($W$9,\"_\",AC42),選手名簿!$A:$E,5,FALSE))","v":""}]
[null,"分",null,"番",{"$f":"IF(ISERROR(VLOOKUP(CONCATENATE($B$9,\"_\",C43),選手名簿!$A:$E,5,FALSE))=TRUE,\"\",VLOOKUP(CONCATENATE($B$9,\"_\",C43),選手名簿!$A:$E,5,FALSE))","v":""},null,null,null,null,"→",null,"番",{"$f":"IF(ISERROR(VLOOKUP(CONCATENATE($B$9,\"_\",K43),選手名簿!$A:$E,5,FALSE))=TRUE,\"\",VLOOKUP(CONCATENATE($B$9,\"_\",K43),選手名簿!$A:$E,5,FALSE))","v":""},null,null,null,null,null,null,"分",null,"番",{"$f":"IF(ISERROR(VLOOKUP(CONCATENATE($W$9,\"_\",U43),選手名簿!$A:$E,5,FALSE))=TRUE,\"\",VLOOKUP(CONCATENATE($W$9,\"_\",U43),選手名簿!$A:$E,5,FALSE))","v":""},null,null,null,null,"→",null,"番",{"$f":"IF(ISERROR(VLOOKUP(CONCATENATE($W$9,\"_\",AC43),選手名簿!$A:$E,5,FALSE))=TRUE,\"\",VLOOKUP(CONCATENATE($W$9,\"_\",AC43),選手名簿!$A:$E,5,FALSE))","v":""}]
[null,"分",null,"番",{"$f":"IF(ISERROR(VLOOKUP(CONCATENATE($B$9,\"_\",C44),選手名簿!$A:$E,5,FALSE))=TRUE,\"\",VLOOKUP(CONCATENATE($B$9,\"_\",C44),選手名簿!$A:$E,5,FALSE))","v":""},null,null,null,null,"→",null,"番",{"$f":"IF(ISERROR(VLOOKUP(CONCATENATE($B$9,\"_\",K44),選手名簿!$A:$E,5,FALSE))=TRUE,\"\",VLOOKUP(CONCATENATE($B$9,\"_\",K44),選手名簿!$A:$E,5,FALSE))","v":""},null,null,null,null,null,null,"分",null,"番",{"$f":"IF(ISERROR(VLOOKUP(CONCATENATE($W$9,\"_\",U44),選手名簿!$A:$E,5,FALSE))=TRUE,\"\",VLOOKUP(CONCATENATE($W$9,\"_\",U44),選手名簿!$A:$E,5,FALSE))","v":""},null,null,null,null,"→",null,"番",{"$f":"IF(ISERROR(VLOOKUP(CONCATENATE($W$9,\"_\",AC44),選手名簿!$A:$E,5,FALSE))=TRUE,\"\",VLOOKUP(CONCATENATE($W$9,\"_\",AC44),選手名簿!$A:$E,5,FALSE))","v":""}]
[null,"分",null,"番",{"$f":"IF(ISERROR(VLOOKUP(CONCATENATE($B$9,\"_\",C45),選手名簿!$A:$E,5,FALSE))=TRUE,\"\",VLOOKUP(CONCATENATE($B$9,\"_\",C45),選手名簿!$A:$E,5,FALSE))","v":""},null,null,null,null,"→",null,"番",{"$f":"IF(ISERROR(VLOOKUP(CONCATENATE($B$9,\"_\",K45),選手名簿!$A:$E,5,FALSE))=TRUE,\"\",VLOOKUP(CONCATENATE($B$9,\"_\",K45),選手名簿!$A:$E,5,FALSE))","v":""},null,null,null,null,null,null,"分",null,"番",{"$f":"IF(ISERROR(VLOOKUP(CONCATENATE($W$9,\"_\",U45),選手名簿!$A:$E,5,FALSE))=TRUE,\"\",VLOOKUP(CONCATENATE($W$9,\"_\",U45),選手名簿!$A:$E,5,FALSE))","v":""},null,null,null,null,"→",null,"番",{"$f":"IF(ISERROR(VLOOKUP(CONCATENATE($W$9,\"_\",AC45),選手名簿!$A:$E,5,FALSE))=TRUE,\"\",VLOOKUP(CONCATENATE($W$9,\"_\",AC45),選手名簿!$A:$E,5,FALSE))","v":""}]
["警告（Ｃ）・退場（Ｓ）など",null,null,null,null,null,null,"合計",null,"延後",null,"延前",null,"後半",null,"前半",null,"チーム\n合計",null,"前半",null,"後半",null,"延前",null,"延後",null,"合計",null,"警告（Ｃ）・退場（Ｓ）など"]
[null,null,null,null,null,null,null,{"$f":"SUM(J47:Q47)","v":3},null,null,null,null,null,3,null,0,null,"Ｇ","Ｋ",5,null,1,null,null,null,null,null,{"$f":"SUM(T47:AA47)","v":6}]
[null,null,null,null,null,null,null,{"$f":"SUM(J48:Q48)","v":6},null,null,null,null,null,4,null,2,null,"Ｃ","Ｋ",0,null,1,null,null,null,null,null,{"$f":"SUM(T48:AA48)","v":1}]
[null,null,null,null,null,null,null,{"$f":"SUM(J49:Q49)","v":1},null,null,null,null,null,0,null,1,null,"直接","ＦＫ",0,null,1,null,null,null,null,null,{"$f":"SUM(T49:AA49)","v":1}]
[null,null,null,null,null,null,null,{"$f":"SUM(J50:Q50)","v":0},null,null,null,null,null,0,null,0,null,"間接","ＦＫ",2,null,0,null,null,null,null,null,{"$f":"SUM(T50:AA50)","v":2}]
[null,null,null,null,null,null,null,{"$f":"SUM(J51:Q51)","v":0},null,null,null,null,null,0,null,0,null,"Ｐ","Ｋ",0,null,0,null,null,null,null,null,{"$f":"SUM(T51:AA51)","v":0}]
["時間",null,null,"得点者",null,"得　　点　　経　　過",null,null,null,null,null,null,null,null,null,null,null,null,"時間",null,null,"得点者",null,"得　　点　　経　　過"]
[null,6,"分",13,null,"13～S",null,null,null,null,null,null,null,null,null,null,null,null,null,null,"分"]
[null,15,"分",13,null,"8　→　13S",null,null,null,null,null,null,null,null,null,null,null,null,null,null,"分"]
[null,17,"分",8,null,"11　∩　8HS",null,null,null,null,null,null,null,null,null,null,null,null,null,null,"分"]
[null,19,"分",8,null,"8～S",null,null,null,null,null,null,null,null,null,null,null,null,null,null,"分"]
[null,28,"分",6,null,"6～S",null,null,null,null,null,null,null,null,null,null,null,null,null,null,"分"]
[null,null,"分",null,null,null,null,null,null,null,null,null,null,null,null,null,null,null,null,null,"分"]
[" ",null,null,"《略号例》",null,null,null,"ドリブル",null,"～",null,"ゴロのパス",null,null,"→",null,"浮き球",null,"∩",null,"混戦",null,"×",null,"ヘディング",null,null,"H",null,"シュート",null,"S"]
[]
["戦評者氏名",null,null,null,"（",null,null,null,null,null,"）",null,"勤務先または所属",null,null,null,null,"（","一般社団法人　大分県サッカー協会　技術委員会",null,null,null,null,null,null,null,null,null,null,null,null,null,null,null,"　）"]
[]
[]
[]
[]
[]
[]
[]
["[警告理由]C1：反スポーツ的行為，C2：ラフプレー，C3：異議，C4：繰り返し違反，C5：遅延行為，C6：距離不足，C7：無許可入，C8：無許可去"]
["[退場理由]S1：著しく不正なプレー，S2：乱暴な行為，S3：つば吐き，S4：得点機会阻止(ハンド)，S5：得点機会阻止(他)，S6：侮辱的発言，CS：警告2回による退場"]
[]
[null,null,null,null,null,null,"M   C",null,null,null,null,null,null,"ウェルフェアオフィサー",null,null,null,null,null,null,"会　場　長",null,null,null,null,null,null,"主　　審"]
[null,null,null,null,null,null,"仲野　昭博",null,null,null,null,null,null,"大鶴　翔太郎",null,null,null,null,null,null,"安東　幹雄",null,null,null,null,null,null,"須藤　健二"]

{"sheet":"決勝公式記録 No,33","index":18,"n_rows":73,"n_cols":51,"rows_kept":73,"cut":false,"hidden":false,"merged":[[1,28,2,29],[1,31,1,35],[2,0,2,1],[2,14,2,15],[2,16,2,17],[2,18,2,26],[2,31,2,35],[0,0,0,5],[0,6,0,9],[0,10,0,11],[1,0,1,1],[1,2,3,13],[1,15,1,16],[3,0,3,1],[3,14,3,15],[3,16,3,17],[3,18,3,26],[3,28,3,29],[5,18,5,19],[5,21,5,25],[5,26,5,30],[3,31,3,35],[4,0,4,1],[4,2,6,8],[4,11,4,12],[4,18,4,19],[5,0,5,1],[5,11,5,12],[5,13,5,14],[6,0,6,1],[6,11,6,12],[5,31,5,35],[6,13,6,14],[6,18,6,19],[6,26,6,30],[7,20,11,20],[7,21,7,23],[9,12,9,14],[9,17,9,18],[8,11,8,14],[8,17,8,18],[8,22,8,31],[9,21,9,23],[7,0,7,2],[7,11,7,14],[7,15,11,15],[7,17,7,18],[10,13,10,14],[10,11,10,12],[11,17,11,18],[13,41,13,42],[10,17,10,18],[10,21,10,22],[10,23,10,24],[8,32,8,35],[7,32,7,35],[8,1,8,10],[14,0,14,1],[14,2,14,3],[14,4,14,5],[14,6,14,7],[14,8,14,9],[14,26,14,27],[14,28,14,29],[12,41,12,42],[13,0,13,1],[13,2,13,3],[13,4,13,5],[13,6,13,7],[13,8,13,9],[13,17,13,18],[13,26,13,27],[13,28,13,29],[13,30,13,31],[12,2,12,9],[14,30,14,31],[14,32,14,33],[14,34,14,35],[12,26,12,33],[15,11,15,15],[15,20,15,24],[16,11,16,15],[16,20,16,24],[13,32,13,33],[13,34,13,35],[20,11,20,15],[20,20,20,24],[21,11,21,15],[21,20,21,24],[22,11,22,15],[22,20,22,24],[17,11,17,15],[17,20,17,24],[18,11,18,15],[18,20,18,24],[19,11,19,15],[19,20,19,24],[27,11,27,15],[27,20,27,24],[28,11,28,15],[28,20,28,24],[29,11,29,15],[29,20,29,24],[23,16,23,19],[24,11,24,15],[24,20,24,24],[25,11,25,15],[25,20,25,24],[26,11,26,15],[26,20,26,24],[30,11,30,15],[30,20,30,24],[31,11,31,15],[31,20,31,24],[35,20,36,26],[35,27,36,27],[32,11,32,15],[32,20,32,24],[33,11,33,15],[33,20,33,24],[35,10,36,16],[35,17,35,18],[38,4,38,8],[38,12,38,16],[38,22,38,26],[34,11,34,15],[34,17,34,18],[34,20,34,24],[38,30,38,34],[39,4,39,8],[39,12,39,16],[39,22,39,26],[39,30,39,34],[35,28,36,34],[36,17,36,18],[37,4,37,8],[37,12,37,16],[37,22,37,26],[37,30,37,34],[35,2,36,8],[35,9,36,9],[40,4,40,8],[40,12,40,16],[40,22,40,26],[40,30,40,34],[43,30,43,34],[44,4,44,8],[44,12,44,16],[44,22,44,26],[44,30,44,34],[41,4,41,8],[41,12,41,16],[41,22,41,26],[41,30,41,34],[42,4,42,8],[42,12,42,16],[42,22,42,26],[42,30,42,34],[45,0,45,6],[45,7,45,8],[45,9,45,10],[45,11,45,12],[45,13,45,14],[45,15,45,16],[43,4,43,8],[43,12,43,16],[43,22,43,26],[45,29,45,35],[46,7,46,8],[46,9,46,10],[46,11,46,12],[46,13,46,14],[46,15,46,16],[46,19,46,20],[46,21,46,22],[46,23,46,24],[46,25,46,26],[45,17,45,18],[45,19,45,20],[45,21,45,22],[45,23,45,24],[45,25,45,26],[45,27,45,28],[46,27,46,28],[49,25,49,26],[47,27,47,28],[48,7,48,8],[48,9,48,10],[48,11,48,12],[48,13,48,14],[48,15,48,16],[48,19,48,20],[48,21,48,22],[48,23,48,24],[48,25,48,26],[48,27,48,28],[47,7,47,8],[47,9,47,10],[47,11,47,12],[47,13,47,14],[47,15,47,16],[47,19,47,20],[47,21,47,22],[47,23,47,24],[47,25,47,26],[51,0,51,2],[51,3,51,4],[51,5,51,17],[51,18,51,20],[51,21,51,22],[51,23,51,35],[49,27,49,28],[50,7,50,8],[50,9,50,10],[50,11,50,12],[50,13,50,14],[50,15,50,16],[50,19,50,20],[50,21,50,22],[50,23,50,24],[50,25,50,26],[49,7,49,8],[49,9,49,10],[49,11,49,12],[49,13,49,14],[49,15,49,16],[49,19,49,20],[49,21,49,22],[49,23,49,24],[52,3,52,4],[52,5,52,17],[52,21,52,22],[52,23,52,35],[53,3,53,4],[53,5,53,17],[53,21,53,22],[53,23,53,35],[50,27,50,28],[56,3,56,4],[56,5,56,17],[56,21,56,22],[56,23,56,35],[57,3,57,4],[57,5,57,17],[57,21,57,22],[57,23,57,35],[54,3,54,4],[54,5,54,17],[54,21,54,22],[54,23,54,35],[55,3,55,4],[55,5,55,17],[55,21,55,22],[55,23,55,35],[71,20,71,26],[71,13,71,19],[71,27,71,35],[72,20,74,26],[72,13,74,19],[72,27,74,35],[58,29,58,30],[60,0,60,3],[60,5,60,9],[60,12,60,16],[60,18,60,33],[61,0,67,35],[58,3,58,5],[58,7,58,8],[58,11,58,13],[58,16,58,17],[58,20,58,21],[58,24,58,26],[71,6,71,12],[72,6,74,12],[68,0,68,35],[69,0,69,35]]}
["公式記録",null,null,null,null,null,"Match No：",null,null,null,33]
["大",null,"OFA 第 33 回 \n大分県U-11サッカー選手権大会\n大分県大会",null,null,null,null,null,null,null,null,null,null,null,"第",2,null,"日",null,null,null,null,null,null,null,null,null,"競技","30分",null,"記"]
["会",null,null,null,null,null,null,null,null,null,null,null,null,null,"1回戦",null,"2回戦",null,"令和3年　12月5日（日）",null,null,null,null,null,null,null,null,"時間",null,null,"録","松下　省吾"]
["名",null,null,null,null,null,null,null,null,null,null,null,null,null,"準決勝",null,"決勝",null,"試合開始　14時10分～",null,null,null,null,null,null,null,null,"延長","6分",null,"者","安東　信二"]
["会",null,"大分県大分スポーツ公園\n昭和電工サッカー・ラグビー場\nＢコート　北側",null,null,null,null,null,null,"天","晴","風",null,"強","弱","無","芝","状","良好",null,"審","主審",null,null,null,null,"副審",null,null,null,null,"第4の審判員"]
[null,null,null,null,null,null,null,null,null,null,"曇","気温",null,12.4,null,"℃",null,null,"不良",null,null,"幸　壮一郎",null,null,null,null,"須藤　健二",null,null,null,null,"菊地　謙一"]
["場",null,null,null,null,null,null,null,null,"候","雨","湿度",null,46.6,null,"％","土","態","泥沼",null,"判",null,null,null,null,null,"大塚　浩司"]
["【チーム名】",null,null,null,null,null,null,null,null,null,null,null,null,null,null,2,0,"前半",null,0,0,"【チーム名】"]
[null,{"$f":"AR13","v":"ドリームキッズフットボールクラブ"},null,null,null,null,null,null,null,null,null,{"$f":"AR14","v":"大分市"},null,null,null,null,2,"後半",null,0,null,null,{"$f":"AY13","v":"太陽スポーツクラブ大分西"},null,null,null,null,null,null,null,null,null,{"$f":"AY14","v":"日田市"}]
[null,null,null,null,null,null,null,null,null,null,null,null,"kick off",null,null,null,null,"延前",null,null,null,"kick off"]
[null,null,null,null,null,null,null,null,null,null,null,"番号",null,"PK",null,null,null,"延後",null,null,null,"PK",null,"番号"]
[null,null,null,null,null,null,null,null,null,null,null,"○","×","先","後",null,null,"ＰＫ戦",null,null,null,"先","後","○","×"]
[null,null,"シュート（得点者は○印）",null,null,null,null,null,null,null,"学",null,null,null,null,null,"番",null,null,"番",null,null,null,null,null,"学","シュート（得点者は○印）",null,null,null,null,null,null,null,null,null,null,null,null,null,null,"チーム名",null,"ドリームキッズフットボールクラブ",null,null,null,null,null,"チーム名","太陽スポーツクラブ大分西"]
["合",null,"延",null,"延",null,"後",null,"前",null,null,null,"選","手","名",null,null,"位置",null,null,null,"選","手","名",null,null,"前",null,"後",null,"延",null,"延",null,"合",null,null,null,null,null,null,"地区名",null,"大分市",null,null,null,null,null,"地区名","日田市"]
["計",null,"後",null,"前",null,"半",null,"半",null,"年",null,null,null,null,null,"号",null,null,"号",null,null,null,null,null,"年","半",null,"半",null,"前",null,"後",null,"計"]
[null,{"$f":"SUM(D16,F16,H16,J16)","v":0},null,null,null,null,null,null,null,null,{"$f":"IF(ISERROR(VLOOKUP(CONCATENATE($B$9,\"_\",Q16),選手名簿!$A:$G,7,FALSE))=TRUE,\"\",VLOOKUP(CONCATENATE($B$9,\"_\",Q16),選手名簿!$A:$G,7,FALSE))","v":5},{"$f":"IF(ISERROR(VLOOKUP(CONCATENATE($B$9,\"_\",Q16),選手名簿!$A:$E,5,FALSE))=TRUE,\"\",VLOOKUP(CONCATENATE($B$9,\"_\",Q16),選手名簿!$A:$E,5,FALSE))","v":"江藤　治人"},null,null,null,null,1,{"$f":"IF(ISERROR(VLOOKUP(CONCATENATE($B$9,\"_\",Q16),選手名簿!$A:$E,4,FALSE))=TRUE,\"\",VLOOKUP(CONCATENATE($B$9,\"_\",Q16),選手名簿!$A:$E,4,FALSE))","v":"GK"},{"$f":"IF(ISERROR(VLOOKUP(CONCATENATE($W$9,\"_\",T16),選手名簿!$A:$E,4,FALSE))=TRUE,\"\",VLOOKUP(CONCATENATE($W$9,\"_\",T16),選手名簿!$A:$E,4,FALSE))","v":"GK"},16,{"$f":"IF(ISERROR(VLOOKUP(CONCATENATE($W$9,\"_\",T16),選手名簿!$A:$E,5,FALSE))=TRUE,\"\",VLOOKUP(CONCATENATE($W$9,\"_\",T16),選手名簿!$A:$E,5,FALSE))","v":"山本　涼介"},null,null,null,null,{"$f":"IF(ISERROR(VLOOKUP(CONCATENATE($W$9,\"_\",T16),選手名簿!$A:$G,7,FALSE))=TRUE,\"\",VLOOKUP(CONCATENATE($W$9,\"_\",T16),選手名簿!$A:$G,7,FALSE))","v":4},null,null,null,null,null,null,null,null,null,{"$f":"SUM(AB16,AD16,AF16,AH16)","v":0}]
[null,2,null,null,null,null,null,1,null,1,{"$f":"IF(ISERROR(VLOOKUP(CONCATENATE($B$9,\"_\",Q17),選手名簿!$A:$G,7,FALSE))=TRUE,\"\",VLOOKUP(CONCATENATE($B$9,\"_\",Q17),選手名簿!$A:$G,7,FALSE))","v":5},{"$f":"IF(ISERROR(VLOOKUP(CONCATENATE($B$9,\"_\",Q17),選手名簿!$A:$E,5,FALSE))=TRUE,\"\",VLOOKUP(CONCATENATE($B$9,\"_\",Q17),選手名簿!$A:$E,5,FALSE))","v":"佐藤　天雅"},null,null,null,null,3,{"$f":"IF(ISERROR(VLOOKUP(CONCATENATE($B$9,\"_\",Q17),選手名簿!$A:$E,4,FALSE))=TRUE,\"\",VLOOKUP(CONCATENATE($B$9,\"_\",Q17),選手名簿!$A:$E,4,FALSE))","v":"DF"},{"$f":"IF(ISERROR(VLOOKUP(CONCATENATE($W$9,\"_\",T17),選手名簿!$A:$E,4,FALSE))=TRUE,\"\",VLOOKUP(CONCATENATE($W$9,\"_\",T17),選手名簿!$A:$E,4,FALSE))","v":"DF"},6,{"$f":"IF(ISERROR(VLOOKUP(CONCATENATE($W$9,\"_\",T17),選手名簿!$A:$E,5,FALSE))=TRUE,\"\",VLOOKUP(CONCATENATE($W$9,\"_\",T17),選手名簿!$A:$E,5,FALSE))","v":"金子　将大"},null,null,null,null,{"$f":"IF(ISERROR(VLOOKUP(CONCATENATE($W$9,\"_\",T17),選手名簿!$A:$G,7,FALSE))=TRUE,\"\",VLOOKUP(CONCATENATE($W$9,\"_\",T17),選手名簿!$A:$G,7,FALSE))","v":5},null,null,null,null,null,null,null,null,null,0]
[null,2,null,null,null,null,null,1,null,1,{"$f":"IF(ISERROR(VLOOKUP(CONCATENATE($B$9,\"_\",Q18),選手名簿!$A:$G,7,FALSE))=TRUE,\"\",VLOOKUP(CONCATENATE($B$9,\"_\",Q18),選手名簿!$A:$G,7,FALSE))","v":5},{"$f":"IF(ISERROR(VLOOKUP(CONCATENATE($B$9,\"_\",Q18),選手名簿!$A:$E,5,FALSE))=TRUE,\"\",VLOOKUP(CONCATENATE($B$9,\"_\",Q18),選手名簿!$A:$E,5,FALSE))","v":"那須　虎太郎"},null,null,null,null,9,{"$f":"IF(ISERROR(VLOOKUP(CONCATENATE($B$9,\"_\",Q18),選手名簿!$A:$E,4,FALSE))=TRUE,\"\",VLOOKUP(CONCATENATE($B$9,\"_\",Q18),選手名簿!$A:$E,4,FALSE))","v":"DF"},{"$f":"IF(ISERROR(VLOOKUP(CONCATENATE($W$9,\"_\",T18),選手名簿!$A:$E,4,FALSE))=TRUE,\"\",VLOOKUP(CONCATENATE($W$9,\"_\",T18),選手名簿!$A:$E,4,FALSE))","v":"DF"},14,{"$f":"IF(ISERROR(VLOOKUP(CONCATENATE($W$9,\"_\",T18),選手名簿!$A:$E,5,FALSE))=TRUE,\"\",VLOOKUP(CONCATENATE($W$9,\"_\",T18),選手名簿!$A:$E,5,FALSE))","v":"大道　琉生"},null,null,null,null,{"$f":"IF(ISERROR(VLOOKUP(CONCATENATE($W$9,\"_\",T18),選手名簿!$A:$G,7,FALSE))=TRUE,\"\",VLOOKUP(CONCATENATE($W$9,\"_\",T18),選手名簿!$A:$G,7,FALSE))","v":5},null,null,null,null,null,null,null,null,null,0]
[null,0,null,null,null,null,null,null,null,null,{"$f":"IF(ISERROR(VLOOKUP(CONCATENATE($B$9,\"_\",Q19),選手名簿!$A:$G,7,FALSE))=TRUE,\"\",VLOOKUP(CONCATENATE($B$9,\"_\",Q19),選手名簿!$A:$G,7,FALSE))","v":5},{"$f":"IF(ISERROR(VLOOKUP(CONCATENATE($B$9,\"_\",Q19),選手名簿!$A:$E,5,FALSE))=TRUE,\"\",VLOOKUP(CONCATENATE($B$9,\"_\",Q19),選手名簿!$A:$E,5,FALSE))","v":"亀野　佑輝"},null,null,null,null,6,{"$f":"IF(ISERROR(VLOOKUP(CONCATENATE($B$9,\"_\",Q19),選手名簿!$A:$E,4,FALSE))=TRUE,\"\",VLOOKUP(CONCATENATE($B$9,\"_\",Q19),選手名簿!$A:$E,4,FALSE))","v":"MF"},{"$f":"IF(ISERROR(VLOOKUP(CONCATENATE($W$9,\"_\",T19),選手名簿!$A:$E,4,FALSE))=TRUE,\"\",VLOOKUP(CONCATENATE($W$9,\"_\",T19),選手名簿!$A:$E,4,FALSE))","v":"MF"},11,{"$f":"IF(ISERROR(VLOOKUP(CONCATENATE($W$9,\"_\",T19),選手名簿!$A:$E,5,FALSE))=TRUE,\"\",VLOOKUP(CONCATENATE($W$9,\"_\",T19),選手名簿!$A:$E,5,FALSE))","v":"坂本　悠虎"},null,null,null,null,{"$f":"IF(ISERROR(VLOOKUP(CONCATENATE($W$9,\"_\",T19),選手名簿!$A:$G,7,FALSE))=TRUE,\"\",VLOOKUP(CONCATENATE($W$9,\"_\",T19),選手名簿!$A:$G,7,FALSE))","v":5},null,null,null,null,null,null,null,null,null,0]
[null,0,null,null,null,null,null,null,null,null,{"$f":"IF(ISERROR(VLOOKUP(CONCATENATE($B$9,\"_\",Q20),選手名簿!$A:$G,7,FALSE))=TRUE,\"\",VLOOKUP(CONCATENATE($B$9,\"_\",Q20),選手名簿!$A:$G,7,FALSE))","v":5},{"$f":"IF(ISERROR(VLOOKUP(CONCATENATE($B$9,\"_\",Q20),選手名簿!$A:$E,5,FALSE))=TRUE,\"\",VLOOKUP(CONCATENATE($B$9,\"_\",Q20),選手名簿!$A:$E,5,FALSE))","v":"菊川　翼"},null,null,null,null,7,{"$f":"IF(ISERROR(VLOOKUP(CONCATENATE($B$9,\"_\",Q20),選手名簿!$A:$E,4,FALSE))=TRUE,\"\",VLOOKUP(CONCATENATE($B$9,\"_\",Q20),選手名簿!$A:$E,4,FALSE))","v":"MF"},{"$f":"IF(ISERROR(VLOOKUP(CONCATENATE($W$9,\"_\",T20),選手名簿!$A:$E,4,FALSE))=TRUE,\"\",VLOOKUP(CONCATENATE($W$9,\"_\",T20),選手名簿!$A:$E,4,FALSE))","v":"MF"},12,{"$f":"IF(ISERROR(VLOOKUP(CONCATENATE($W$9,\"_\",T20),選手名簿!$A:$E,5,FALSE))=TRUE,\"\",VLOOKUP(CONCATENATE($W$9,\"_\",T20),選手名簿!$A:$E,5,FALSE))","v":"堀田　徠亜"},null,null,null,null,{"$f":"IF(ISERROR(VLOOKUP(CONCATENATE($W$9,\"_\",T20),選手名簿!$A:$G,7,FALSE))=TRUE,\"\",VLOOKUP(CONCATENATE($W$9,\"_\",T20),選手名簿!$A:$G,7,FALSE))","v":5},null,null,null,null,null,null,null,null,null,0]
[null,3,null,null,null,null,null,2,null,1,{"$f":"IF(ISERROR(VLOOKUP(CONCATENATE($B$9,\"_\",Q21),選手名簿!$A:$G,7,FALSE))=TRUE,\"\",VLOOKUP(CONCATENATE($B$9,\"_\",Q21),選手名簿!$A:$G,7,FALSE))","v":5},{"$f":"IF(ISERROR(VLOOKUP(CONCATENATE($B$9,\"_\",Q21),選手名簿!$A:$E,5,FALSE))=TRUE,\"\",VLOOKUP(CONCATENATE($B$9,\"_\",Q21),選手名簿!$A:$E,5,FALSE))","v":"林　天音"},null,null,null,null,8,{"$f":"IF(ISERROR(VLOOKUP(CONCATENATE($B$9,\"_\",Q21),選手名簿!$A:$E,4,FALSE))=TRUE,\"\",VLOOKUP(CONCATENATE($B$9,\"_\",Q21),選手名簿!$A:$E,4,FALSE))","v":"MF"},{"$f":"IF(ISERROR(VLOOKUP(CONCATENATE($W$9,\"_\",T21),選手名簿!$A:$E,4,FALSE))=TRUE,\"\",VLOOKUP(CONCATENATE($W$9,\"_\",T21),選手名簿!$A:$E,4,FALSE))","v":"FW"},8,{"$f":"IF(ISERROR(VLOOKUP(CONCATENATE($W$9,\"_\",T21),選手名簿!$A:$E,5,FALSE))=TRUE,\"\",VLOOKUP(CONCATENATE($W$9,\"_\",T21),選手名簿!$A:$E,5,FALSE))","v":"伊藤　凛人"},null,null,null,null,{"$f":"IF(ISERROR(VLOOKUP(CONCATENATE($W$9,\"_\",T21),選手名簿!$A:$G,7,FALSE))=TRUE,\"\",VLOOKUP(CONCATENATE($W$9,\"_\",T21),選手名簿!$A:$G,7,FALSE))","v":5},null,1,null,null,null,null,null,null,null,1]
[null,0,null,null,null,null,null,null,null,null,{"$f":"IF(ISERROR(VLOOKUP(CONCATENATE($B$9,\"_\",Q22),選手名簿!$A:$G,7,FALSE))=TRUE,\"\",VLOOKUP(CONCATENATE($B$9,\"_\",Q22),選手名簿!$A:$G,7,FALSE))","v":5},{"$f":"IF(ISERROR(VLOOKUP(CONCATENATE($B$9,\"_\",Q22),選手名簿!$A:$E,5,FALSE))=TRUE,\"\",VLOOKUP(CONCATENATE($B$9,\"_\",Q22),選手名簿!$A:$E,5,FALSE))","v":"下郡　悠翔"},null,null,null,null,10,{"$f":"IF(ISERROR(VLOOKUP(CONCATENATE($B$9,\"_\",Q22),選手名簿!$A:$E,4,FALSE))=TRUE,\"\",VLOOKUP(CONCATENATE($B$9,\"_\",Q22),選手名簿!$A:$E,4,FALSE))","v":"FW"},{"$f":"IF(ISERROR(VLOOKUP(CONCATENATE($W$9,\"_\",T22),選手名簿!$A:$E,4,FALSE))=TRUE,\"\",VLOOKUP(CONCATENATE($W$9,\"_\",T22),選手名簿!$A:$E,4,FALSE))","v":"FW"},13,{"$f":"IF(ISERROR(VLOOKUP(CONCATENATE($W$9,\"_\",T22),選手名簿!$A:$E,5,FALSE))=TRUE,\"\",VLOOKUP(CONCATENATE($W$9,\"_\",T22),選手名簿!$A:$E,5,FALSE))","v":"中尾　栄都"},null,null,null,null,{"$f":"IF(ISERROR(VLOOKUP(CONCATENATE($W$9,\"_\",T22),選手名簿!$A:$G,7,FALSE))=TRUE,\"\",VLOOKUP(CONCATENATE($W$9,\"_\",T22),選手名簿!$A:$G,7,FALSE))","v":4},null,null,null,null,null,null,null,null,null,0]
[null,7,null,null,null,null,"②",6,null,1,{"$f":"IF(ISERROR(VLOOKUP(CONCATENATE($B$9,\"_\",Q23),選手名簿!$A:$G,7,FALSE))=TRUE,\"\",VLOOKUP(CONCATENATE($B$9,\"_\",Q23),選手名簿!$A:$G,7,FALSE))","v":5},{"$f":"IF(ISERROR(VLOOKUP(CONCATENATE($B$9,\"_\",Q23),選手名簿!$A:$E,5,FALSE))=TRUE,\"\",VLOOKUP(CONCATENATE($B$9,\"_\",Q23),選手名簿!$A:$E,5,FALSE))","v":"長野　瑛斗"},null,null,null,null,11,{"$f":"IF(ISERROR(VLOOKUP(CONCATENATE($B$9,\"_\",Q23),選手名簿!$A:$E,4,FALSE))=TRUE,\"\",VLOOKUP(CONCATENATE($B$9,\"_\",Q23),選手名簿!$A:$E,4,FALSE))","v":"FW"},{"$f":"IF(ISERROR(VLOOKUP(CONCATENATE($W$9,\"_\",T23),選手名簿!$A:$E,4,FALSE))=TRUE,\"\",VLOOKUP(CONCATENATE($W$9,\"_\",T23),選手名簿!$A:$E,4,FALSE))","v":"FW"},15,{"$f":"IF(ISERROR(VLOOKUP(CONCATENATE($W$9,\"_\",T23),選手名簿!$A:$E,5,FALSE))=TRUE,\"\",VLOOKUP(CONCATENATE($W$9,\"_\",T23),選手名簿!$A:$E,5,FALSE))","v":"黒木　陸叶"},null,null,null,null,{"$f":"IF(ISERROR(VLOOKUP(CONCATENATE($W$9,\"_\",T23),選手名簿!$A:$G,7,FALSE))=TRUE,\"\",VLOOKUP(CONCATENATE($W$9,\"_\",T23),選手名簿!$A:$G,7,FALSE))","v":5},null,null,null,null,null,null,null,null,null,0]
[null,null,null,null,null,null,null,null,null,null,null,null,null,null,null,null,"交替要員"]
[null,{"$f":"SUM(D25,F25,H25,J25)","v":0},null,null,null,null,null,null,null,null,{"$f":"IF(ISERROR(VLOOKUP(CONCATENATE($B$9,\"_\",Q25),選手名簿!$A:$G,7,FALSE))=TRUE,\"\",VLOOKUP(CONCATENATE($B$9,\"_\",Q25),選手名簿!$A:$G,7,FALSE))","v":5},{"$f":"IF(ISERROR(VLOOKUP(CONCATENATE($B$9,\"_\",Q25),選手名簿!$A:$E,5,FALSE))=TRUE,\"\",VLOOKUP(CONCATENATE($B$9,\"_\",Q25),選手名簿!$A:$E,5,FALSE))","v":"江島　優斗"},null,null,null,null,5,{"$f":"IF(ISERROR(VLOOKUP(CONCATENATE($B$9,\"_\",Q25),選手名簿!$A:$E,4,FALSE))=TRUE,\"\",VLOOKUP(CONCATENATE($B$9,\"_\",Q25),選手名簿!$A:$E,4,FALSE))","v":"MF"},{"$f":"IF(ISERROR(VLOOKUP(CONCATENATE($W$9,\"_\",T25),選手名簿!$A:$E,4,FALSE))=TRUE,\"\",VLOOKUP(CONCATENATE($W$9,\"_\",T25),選手名簿!$A:$E,4,FALSE))","v":"GK"},1,{"$f":"IF(ISERROR(VLOOKUP(CONCATENATE($W$9,\"_\",T25),選手名簿!$A:$E,5,FALSE))=TRUE,\"\",VLOOKUP(CONCATENATE($W$9,\"_\",T25),選手名簿!$A:$E,5,FALSE))","v":"久保﨑　兆"},null,null,null,null,{"$f":"IF(ISERROR(VLOOKUP(CONCATENATE($W$9,\"_\",T25),選手名簿!$A:$G,7,FALSE))=TRUE,\"\",VLOOKUP(CONCATENATE($W$9,\"_\",T25),選手名簿!$A:$G,7,FALSE))","v":5},null,null,null,null,null,null,null,null,null,{"$f":"SUM(AB25,AD25,AF25,AH25)","v":0}]
[null,0,null,null,null,null,null,null,null,null,{"$f":"IF(ISERROR(VLOOKUP(CONCATENATE($B$9,\"_\",Q26),選手名簿!$A:$G,7,FALSE))=TRUE,\"\",VLOOKUP(CONCATENATE($B$9,\"_\",Q26),選手名簿!$A:$G,7,FALSE))","v":5},{"$f":"IF(ISERROR(VLOOKUP(CONCATENATE($B$9,\"_\",Q26),選手名簿!$A:$E,5,FALSE))=TRUE,\"\",VLOOKUP(CONCATENATE($B$9,\"_\",Q26),選手名簿!$A:$E,5,FALSE))","v":"阿部　京輔"},null,null,null,null,12,{"$f":"IF(ISERROR(VLOOKUP(CONCATENATE($B$9,\"_\",Q26),選手名簿!$A:$E,4,FALSE))=TRUE,\"\",VLOOKUP(CONCATENATE($B$9,\"_\",Q26),選手名簿!$A:$E,4,FALSE))","v":"DF"},{"$f":"IF(ISERROR(VLOOKUP(CONCATENATE($W$9,\"_\",T26),選手名簿!$A:$E,4,FALSE))=TRUE,\"\",VLOOKUP(CONCATENATE($W$9,\"_\",T26),選手名簿!$A:$E,4,FALSE))","v":"MF"},2,{"$f":"IF(ISERROR(VLOOKUP(CONCATENATE($W$9,\"_\",T26),選手名簿!$A:$E,5,FALSE))=TRUE,\"\",VLOOKUP(CONCATENATE($W$9,\"_\",T26),選手名簿!$A:$E,5,FALSE))","v":"石谷　柚太郎"},null,null,null,null,{"$f":"IF(ISERROR(VLOOKUP(CONCATENATE($W$9,\"_\",T26),選手名簿!$A:$G,7,FALSE))=TRUE,\"\",VLOOKUP(CONCATENATE($W$9,\"_\",T26),選手名簿!$A:$G,7,FALSE))","v":5},null,null,null,null,null,null,null,null,null,0]
[null,0,null,null,null,null,null,null,null,null,{"$f":"IF(ISERROR(VLOOKUP(CONCATENATE($B$9,\"_\",Q27),選手名簿!$A:$G,7,FALSE))=TRUE,\"\",VLOOKUP(CONCATENATE($B$9,\"_\",Q27),選手名簿!$A:$G,7,FALSE))","v":5},{"$f":"IF(ISERROR(VLOOKUP(CONCATENATE($B$9,\"_\",Q27),選手名簿!$A:$E,5,FALSE))=TRUE,\"\",VLOOKUP(CONCATENATE($B$9,\"_\",Q27),選手名簿!$A:$E,5,FALSE))","v":"大津　瑞斗"},null,null,null,null,13,{"$f":"IF(ISERROR(VLOOKUP(CONCATENATE($B$9,\"_\",Q27),選手名簿!$A:$E,4,FALSE))=TRUE,\"\",VLOOKUP(CONCATENATE($B$9,\"_\",Q27),選手名簿!$A:$E,4,FALSE))","v":"DF"},{"$f":"IF(ISERROR(VLOOKUP(CONCATENATE($W$9,\"_\",T27),選手名簿!$A:$E,4,FALSE))=TRUE,\"\",VLOOKUP(CONCATENATE($W$9,\"_\",T27),選手名簿!$A:$E,4,FALSE))","v":"DF"},5,{"$f":"IF(ISERROR(VLOOKUP(CONCATENATE($W$9,\"_\",T27),選手名簿!$A:$E,5,FALSE))=TRUE,\"\",VLOOKUP(CONCATENATE($W$9,\"_\",T27),選手名簿!$A:$E,5,FALSE))","v":"矢幡　陸"},null,null,null,null,{"$f":"IF(ISERROR(VLOOKUP(CONCATENATE($W$9,\"_\",T27),選手名簿!$A:$G,7,FALSE))=TRUE,\"\",VLOOKUP(CONCATENATE($W$9,\"_\",T27),選手名簿!$A:$G,7,FALSE))","v":4},null,null,null,null,null,null,null,null,null,0]
[null,0,null,null,null,null,null,null,null,null,{"$f":"IF(ISERROR(VLOOKUP(CONCATENATE($B$9,\"_\",Q28),選手名簿!$A:$G,7,FALSE))=TRUE,\"\",VLOOKUP(CONCATENATE($B$9,\"_\",Q28),選手名簿!$A:$G,7,FALSE))","v":5},{"$f":"IF(ISERROR(VLOOKUP(CONCATENATE($B$9,\"_\",Q28),選手名簿!$A:$E,5,FALSE))=TRUE,\"\",VLOOKUP(CONCATENATE($B$9,\"_\",Q28),選手名簿!$A:$E,5,FALSE))","v":"松山　遥郁"},null,null,null,null,14,{"$f":"IF(ISERROR(VLOOKUP(CONCATENATE($B$9,\"_\",Q28),選手名簿!$A:$E,4,FALSE))=TRUE,\"\",VLOOKUP(CONCATENATE($B$9,\"_\",Q28),選手名簿!$A:$E,4,FALSE))","v":"DF"},{"$f":"IF(ISERROR(VLOOKUP(CONCATENATE($W$9,\"_\",T28),選手名簿!$A:$E,4,FALSE))=TRUE,\"\",VLOOKUP(CONCATENATE($W$9,\"_\",T28),選手名簿!$A:$E,4,FALSE))","v":"FW"},7,{"$f":"IF(ISERROR(VLOOKUP(CONCATENATE($W$9,\"_\",T28),選手名簿!$A:$E,5,FALSE))=TRUE,\"\",VLOOKUP(CONCATENATE($W$9,\"_\",T28),選手名簿!$A:$E,5,FALSE))","v":"坂本　帆那"},null,null,null,null,{"$f":"IF(ISERROR(VLOOKUP(CONCATENATE($W$9,\"_\",T28),選手名簿!$A:$G,7,FALSE))=TRUE,\"\",VLOOKUP(CONCATENATE($W$9,\"_\",T28),選手名簿!$A:$G,7,FALSE))","v":4},null,null,null,null,null,null,null,null,null,0]
[null,{"$f":"SUM(D29,F29,H29,J29)","v":0},null,null,null,null,null,null,null,null,{"$f":"IF(ISERROR(VLOOKUP(CONCATENATE($B$9,\"_\",Q29),選手名簿!$A:$G,7,FALSE))=TRUE,\"\",VLOOKUP(CONCATENATE($B$9,\"_\",Q29),選手名簿!$A:$G,7,FALSE))","v":5},{"$f":"IF(ISERROR(VLOOKUP(CONCATENATE($B$9,\"_\",Q29),選手名簿!$A:$E,5,FALSE))=TRUE,\"\",VLOOKUP(CONCATENATE($B$9,\"_\",Q29),選手名簿!$A:$E,5,FALSE))","v":"西江　真翔"},null,null,null,null,15,{"$f":"IF(ISERROR(VLOOKUP(CONCATENATE($B$9,\"_\",Q29),選手名簿!$A:$E,4,FALSE))=TRUE,\"\",VLOOKUP(CONCATENATE($B$9,\"_\",Q29),選手名簿!$A:$E,4,FALSE))","v":"DF"},{"$f":"IF(ISERROR(VLOOKUP(CONCATENATE($W$9,\"_\",T29),選手名簿!$A:$E,4,FALSE))=TRUE,\"\",VLOOKUP(CONCATENATE($W$9,\"_\",T29),選手名簿!$A:$E,4,FALSE))","v":"FW"},9,{"$f":"IF(ISERROR(VLOOKUP(CONCATENATE($W$9,\"_\",T29),選手名簿!$A:$E,5,FALSE))=TRUE,\"\",VLOOKUP(CONCATENATE($W$9,\"_\",T29),選手名簿!$A:$E,5,FALSE))","v":"千原　仁斗"},null,null,null,null,{"$f":"IF(ISERROR(VLOOKUP(CONCATENATE($W$9,\"_\",T29),選手名簿!$A:$G,7,FALSE))=TRUE,\"\",VLOOKUP(CONCATENATE($W$9,\"_\",T29),選手名簿!$A:$G,7,FALSE))","v":4},null,null,null,null,null,null,null,null,null,{"$f":"SUM(AB29,AD29,AF29,AH29)","v":0}]
[null,{"$f":"SUM(D30,F30,H30,J30)","v":0},null,null,null,null,null,null,null,null,{"$f":"IF(ISERROR(VLOOKUP(CONCATENATE($B$9,\"_\",Q30),選手名簿!$A:$G,7,FALSE))=TRUE,\"\",VLOOKUP(CONCATENATE($B$9,\"_\",Q30),選手名簿!$A:$G,7,FALSE))","v":5},{"$f":"IF(ISERROR(VLOOKUP(CONCATENATE($B$9,\"_\",Q30),選手名簿!$A:$E,5,FALSE))=TRUE,\"\",VLOOKUP(CONCATENATE($B$9,\"_\",Q30),選手名簿!$A:$E,5,FALSE))","v":"上田　拳己"},null,null,null,null,16,{"$f":"IF(ISERROR(VLOOKUP(CONCATENATE($B$9,\"_\",Q30),選手名簿!$A:$E,4,FALSE))=TRUE,\"\",VLOOKUP(CONCATENATE($B$9,\"_\",Q30),選手名簿!$A:$E,4,FALSE))","v":"DF"},{"$f":"IF(ISERROR(VLOOKUP(CONCATENATE($W$9,\"_\",T30),選手名簿!$A:$E,4,FALSE))=TRUE,\"\",VLOOKUP(CONCATENATE($W$9,\"_\",T30),選手名簿!$A:$E,4,FALSE))","v":""},null,{"$f":"IF(ISERROR(VLOOKUP(CONCATENATE($W$9,\"_\",T30),選手名簿!$A:$E,5,FALSE))=TRUE,\"\",VLOOKUP(CONCATENATE($W$9,\"_\",T30),選手名簿!$A:$E,5,FALSE))","v":""},null,null,null,null,{"$f":"IF(ISERROR(VLOOKUP(CONCATENATE($W$9,\"_\",T30),選手名簿!$A:$G,7,FALSE))=TRUE,\"\",VLOOKUP(CONCATENATE($W$9,\"_\",T30),選手名簿!$A:$G,7,FALSE))","v":""},null,null,null,null,null,null,null,null,null,{"$f":"SUM(AB30,AD30,AF30,AH30)","v":0}]
[null,0,null,null,null,null,null,null,null,null,{"$f":"IF(ISERROR(VLOOKUP(CONCATENATE($B$9,\"_\",Q31),選手名簿!$A:$G,7,FALSE))=TRUE,\"\",VLOOKUP(CONCATENATE($B$9,\"_\",Q31),選手名簿!$A:$G,7,FALSE))","v":""},{"$f":"IF(ISERROR(VLOOKUP(CONCATENATE($B$9,\"_\",Q31),選手名簿!$A:$E,5,FALSE))=TRUE,\"\",VLOOKUP(CONCATENATE($B$9,\"_\",Q31),選手名簿!$A:$E,5,FALSE))","v":""},null,null,null,null,null,{"$f":"IF(ISERROR(VLOOKUP(CONCATENATE($B$9,\"_\",Q31),選手名簿!$A:$E,4,FALSE))=TRUE,\"\",VLOOKUP(CONCATENATE($B$9,\"_\",Q31),選手名簿!$A:$E,4,FALSE))","v":""},{"$f":"IF(ISERROR(VLOOKUP(CONCATENATE($W$9,\"_\",T31),選手名簿!$A:$E,4,FALSE))=TRUE,\"\",VLOOKUP(CONCATENATE($W$9,\"_\",T31),選手名簿!$A:$E,4,FALSE))","v":""},null,{"$f":"IF(ISERROR(VLOOKUP(CONCATENATE($W$9,\"_\",T31),選手名簿!$A:$E,5,FALSE))=TRUE,\"\",VLOOKUP(CONCATENATE($W$9,\"_\",T31),選手名簿!$A:$E,5,FALSE))","v":""},null,null,null,null,{"$f":"IF(ISERROR(VLOOKUP(CONCATENATE($W$9,\"_\",T31),選手名簿!$A:$G,7,FALSE))=TRUE,\"\",VLOOKUP(CONCATENATE($W$9,\"_\",T31),選手名簿!$A:$G,7,FALSE))","v":""},null,null,null,null,null,null,null,null,null,0]
[null,0,null,null,null,null,null,null,null,null,{"$f":"IF(ISERROR(VLOOKUP(CONCATENATE($B$9,\"_\",Q32),選手名簿!$A:$G,7,FALSE))=TRUE,\"\",VLOOKUP(CONCATENATE($B$9,\"_\",Q32),選手名簿!$A:$G,7,FALSE))","v":""},{"$f":"IF(ISERROR(VLOOKUP(CONCATENATE($B$9,\"_\",Q32),選手名簿!$A:$E,5,FALSE))=TRUE,\"\",VLOOKUP(CONCATENATE($B$9,\"_\",Q32),選手名簿!$A:$E,5,FALSE))","v":""},null,null,null,null,null,{"$f":"IF(ISERROR(VLOOKUP(CONCATENATE($B$9,\"_\",Q32),選手名簿!$A:$E,4,FALSE))=TRUE,\"\",VLOOKUP(CONCATENATE($B$9,\"_\",Q32),選手名簿!$A:$E,4,FALSE))","v":""},{"$f":"IF(ISERROR(VLOOKUP(CONCATENATE($W$9,\"_\",T32),選手名簿!$A:$E,4,FALSE))=TRUE,\"\",VLOOKUP(CONCATENATE($W$9,\"_\",T32),選手名簿!$A:$E,4,FALSE))","v":""},null,{"$f":"IF(ISERROR(VLOOKUP(CONCATENATE($W$9,\"_\",T32),選手名簿!$A:$E,5,FALSE))=TRUE,\"\",VLOOKUP(CONCATENATE($W$9,\"_\",T32),選手名簿!$A:$E,5,FALSE))","v":""},null,null,null,null,{"$f":"IF(ISERROR(VLOOKUP(CONCATENATE($W$9,\"_\",T32),選手名簿!$A:$G,7,FALSE))=TRUE,\"\",VLOOKUP(CONCATENATE($W$9,\"_\",T32),選手名簿!$A:$G,7,FALSE))","v":""},null,null,null,null,null,null,null,null,null,0]
[null,0,null,null,null,null,null,null,null,null,{"$f":"IF(ISERROR(VLOOKUP(CONCATENATE($B$9,\"_\",Q33),選手名簿!$A:$G,7,FALSE))=TRUE,\"\",VLOOKUP(CONCATENATE($B$9,\"_\",Q33),選手名簿!$A:$G,7,FALSE))","v":""},{"$f":"IF(ISERROR(VLOOKUP(CONCATENATE($B$9,\"_\",Q33),選手名簿!$A:$E,5,FALSE))=TRUE,\"\",VLOOKUP(CONCATENATE($B$9,\"_\",Q33),選手名簿!$A:$E,5,FALSE))","v":""},null,null,null,null,null,{"$f":"IF(ISERROR(VLOOKUP(CONCATENATE($B$9,\"_\",Q33),選手名簿!$A:$E,4,FALSE))=TRUE,\"\",VLOOKUP(CONCATENATE($B$9,\"_\",Q33),選手名簿!$A:$E,4,FALSE))","v":""},{"$f":"IF(ISERROR(VLOOKUP(CONCATENATE($W$9,\"_\",T33),選手名簿!$A:$E,4,FALSE))=TRUE,\"\",VLOOKUP(CONCATENATE($W$9,\"_\",T33),選手名簿!$A:$E,4,FALSE))","v":""},null,{"$f":"IF(ISERROR(VLOOKUP(CONCATENATE($W$9,\"_\",T33),選手名簿!$A:$E,5,FALSE))=TRUE,\"\",VLOOKUP(CONCATENATE($W$9,\"_\",T33),選手名簿!$A:$E,5,FALSE))","v":""},null,null,null,null,{"$f":"IF(ISERROR(VLOOKUP(CONCATENATE($W$9,\"_\",T33),選手名簿!$A:$G,7,FALSE))=TRUE,\"\",VLOOKUP(CONCATENATE($W$9,\"_\",T33),選手名簿!$A:$G,7,FALSE))","v":""},null,null,null,null,null,null,null,null,null,0]
[null,0,null,null,null,null,null,null,null,null,{"$f":"IF(ISERROR(VLOOKUP(CONCATENATE($B$9,\"_\",Q34),選手名簿!$A:$G,7,FALSE))=TRUE,\"\",VLOOKUP(CONCATENATE($B$9,\"_\",Q34),選手名簿!$A:$G,7,FALSE))","v":""},{"$f":"IF(ISERROR(VLOOKUP(CONCATENATE($B$9,\"_\",Q34),選手名簿!$A:$E,5,FALSE))=TRUE,\"\",VLOOKUP(CONCATENATE($B$9,\"_\",Q34),選手名簿!$A:$E,5,FALSE))","v":""},null,null,null,null,null,{"$f":"IF(ISERROR(VLOOKUP(CONCATENATE($B$9,\"_\",Q34),選手名簿!$A:$E,4,FALSE))=TRUE,\"\",VLOOKUP(CONCATENATE($B$9,\"_\",Q34),選手名簿!$A:$E,4,FALSE))","v":""},{"$f":"IF(ISERROR(VLOOKUP(CONCATENATE($W$9,\"_\",T34),選手名簿!$A:$E,4,FALSE))=TRUE,\"\",VLOOKUP(CONCATENATE($W$9,\"_\",T34),選手名簿!$A:$E,4,FALSE))","v":""},null,{"$f":"IF(ISERROR(VLOOKUP(CONCATENATE($W$9,\"_\",T34),選手名簿!$A:$E,5,FALSE))=TRUE,\"\",VLOOKUP(CONCATENATE($W$9,\"_\",T34),選手名簿!$A:$E,5,FALSE))","v":""},null,null,null,null,{"$f":"IF(ISERROR(VLOOKUP(CONCATENATE($W$9,\"_\",T34),選手名簿!$A:$G,7,FALSE))=TRUE,\"\",VLOOKUP(CONCATENATE($W$9,\"_\",T34),選手名簿!$A:$G,7,FALSE))","v":""},null,null,null,null,null,null,null,null,null,0]
[null,{"$f":"SUM(C35:J35)","v":14},null,{"$f":"SUM(D16:D23,D25:D34)","v":0},null,{"$f":"SUM(F16:F23,F25:F34)","v":0},null,{"$f":"SUM(H16:H23,H25:H34)","v":10},null,{"$f":"SUM(J16:J23,J25:J34)","v":4},"小計",{"$f":"SUM(D35,F35,H35,J35)","v":14},null,null,null,null,"合計","シュート数",null,"合計",{"$f":"SUM(AB35,AD35,AF35,AH35)","v":1},null,null,null,null,"小計",null,{"$f":"SUM(AB16:AB23,AB25:AB34)","v":1},null,{"$f":"SUM(AD16:AD23,AD25:AD34)","v":0},null,{"$f":"SUM(AF16:AF23,AF25:AF34)","v":0},null,{"$f":"SUM(AH16:AH23,AH25:AH34)","v":0},null,{"$f":"SUM(AA35:AH35)","v":1}]
[null,null,"OUT",null,null,null,null,null,null,"→","IN",null,null,null,null,null,null,"交代",null,null,"OUT",null,null,null,null,null,null,"→","IN"]
[null,null,null,null,null,null,null,null,null,null,null,null,null,null,null,null,null,"選手"]
[null,"分",null,"番",{"$f":"IF(ISERROR(VLOOKUP(CONCATENATE($B$9,\"_\",C38),選手名簿!$A:$E,5,FALSE))=TRUE,\"\",VLOOKUP(CONCATENATE($B$9,\"_\",C38),選手名簿!$A:$E,5,FALSE))","v":""},null,null,null,null,"→",null,"番",{"$f":"IF(ISERROR(VLOOKUP(CONCATENATE($B$9,\"_\",K38),選手名簿!$A:$E,5,FALSE))=TRUE,\"\",VLOOKUP(CONCATENATE($B$9,\"_\",K38),選手名簿!$A:$E,5,FALSE))","v":""},null,null,null,null,null,null,"分",null,"番",{"$f":"IF(ISERROR(VLOOKUP(CONCATENATE($W$9,\"_\",U38),選手名簿!$A:$E,5,FALSE))=TRUE,\"\",VLOOKUP(CONCATENATE($W$9,\"_\",U38),選手名簿!$A:$E,5,FALSE))","v":""},null,null,null,null,"→",null,"番",{"$f":"IF(ISERROR(VLOOKUP(CONCATENATE($W$9,\"_\",AC38),選手名簿!$A:$E,5,FALSE))=TRUE,\"\",VLOOKUP(CONCATENATE($W$9,\"_\",AC38),選手名簿!$A:$E,5,FALSE))","v":""}]
[null,"分",null,"番",{"$f":"IF(ISERROR(VLOOKUP(CONCATENATE($B$9,\"_\",C39),選手名簿!$A:$E,5,FALSE))=TRUE,\"\",VLOOKUP(CONCATENATE($B$9,\"_\",C39),選手名簿!$A:$E,5,FALSE))","v":""},null,null,null,null,"→",null,"番",{"$f":"IF(ISERROR(VLOOKUP(CONCATENATE($B$9,\"_\",K39),選手名簿!$A:$E,5,FALSE))=TRUE,\"\",VLOOKUP(CONCATENATE($B$9,\"_\",K39),選手名簿!$A:$E,5,FALSE))","v":""},null,null,null,null,null,null,"分",null,"番",{"$f":"IF(ISERROR(VLOOKUP(CONCATENATE($W$9,\"_\",U39),選手名簿!$A:$E,5,FALSE))=TRUE,\"\",VLOOKUP(CONCATENATE($W$9,\"_\",U39),選手名簿!$A:$E,5,FALSE))","v":""},null,null,null,null,"→",null,"番",{"$f":"IF(ISERROR(VLOOKUP(CONCATENATE($W$9,\"_\",AC39),選手名簿!$A:$E,5,FALSE))=TRUE,\"\",VLOOKUP(CONCATENATE($W$9,\"_\",AC39),選手名簿!$A:$E,5,FALSE))","v":""}]
[null,"分",null,"番",{"$f":"IF(ISERROR(VLOOKUP(CONCATENATE($B$9,\"_\",C40),選手名簿!$A:$E,5,FALSE))=TRUE,\"\",VLOOKUP(CONCATENATE($B$9,\"_\",C40),選手名簿!$A:$E,5,FALSE))","v":""},null,null,null,null,"→",null,"番",{"$f":"IF(ISERROR(VLOOKUP(CONCATENATE($B$9,\"_\",K40),選手名簿!$A:$E,5,FALSE))=TRUE,\"\",VLOOKUP(CONCATENATE($B$9,\"_\",K40),選手名簿!$A:$E,5,FALSE))","v":""},null,null,null,null,null,null,"分",null,"番",{"$f":"IF(ISERROR(VLOOKUP(CONCATENATE($W$9,\"_\",U40),選手名簿!$A:$E,5,FALSE))=TRUE,\"\",VLOOKUP(CONCATENATE($W$9,\"_\",U40),選手名簿!$A:$E,5,FALSE))","v":""},null,null,null,null,"→",null,"番",{"$f":"IF(ISERROR(VLOOKUP(CONCATENATE($W$9,\"_\",AC40),選手名簿!$A:$E,5,FALSE))=TRUE,\"\",VLOOKUP(CONCATENATE($W$9,\"_\",AC40),選手名簿!$A:$E,5,FALSE))","v":""}]
[null,"分",null,"番",{"$f":"IF(ISERROR(VLOOKUP(CONCATENATE($B$9,\"_\",C41),選手名簿!$A:$E,5,FALSE))=TRUE,\"\",VLOOKUP(CONCATENATE($B$9,\"_\",C41),選手名簿!$A:$E,5,FALSE))","v":""},null,null,null,null,"→",null,"番",{"$f":"IF(ISERROR(VLOOKUP(CONCATENATE($B$9,\"_\",K41),選手名簿!$A:$E,5,FALSE))=TRUE,\"\",VLOOKUP(CONCATENATE($B$9,\"_\",K41),選手名簿!$A:$E,5,FALSE))","v":""},null,null,null,null,null,null,"分",null,"番",{"$f":"IF(ISERROR(VLOOKUP(CONCATENATE($W$9,\"_\",U41),選手名簿!$A:$E,5,FALSE))=TRUE,\"\",VLOOKUP(CONCATENATE($W$9,\"_\",U41),選手名簿!$A:$E,5,FALSE))","v":""},null,null,null,null,"→",null,"番",{"$f":"IF(ISERROR(VLOOKUP(CONCATENATE($W$9,\"_\",AC41),選手名簿!$A:$E,5,FALSE))=TRUE,\"\",VLOOKUP(CONCATENATE($W$9,\"_\",AC41),選手名簿!$A:$E,5,FALSE))","v":""}]
[null,"分",null,"番",{"$f":"IF(ISERROR(VLOOKUP(CONCATENATE($B$9,\"_\",C42),選手名簿!$A:$E,5,FALSE))=TRUE,\"\",VLOOKUP(CONCATENATE($B$9,\"_\",C42),選手名簿!$A:$E,5,FALSE))","v":""},null,null,null,null,"→",null,"番",{"$f":"IF(ISERROR(VLOOKUP(CONCATENATE($B$9,\"_\",K42),選手名簿!$A:$E,5,FALSE))=TRUE,\"\",VLOOKUP(CONCATENATE($B$9,\"_\",K42),選手名簿!$A:$E,5,FALSE))","v":""},null,null,null,null,null,null,"分",null,"番",{"$f":"IF(ISERROR(VLOOKUP(CONCATENATE($W$9,\"_\",U42),選手名簿!$A:$E,5,FALSE))=TRUE,\"\",VLOOKUP(CONCATENATE($W$9,\"_\",U42),選手名簿!$A:$E,5,FALSE))","v":""},null,null,null,null,"→",null,"番",{"$f":"IF(ISERROR(VLOOKUP(CONCATENATE($W$9,\"_\",AC42),選手名簿!$A:$E,5,FALSE))=TRUE,\"\",VLOOKUP(CONCATENATE($W$9,\"_\",AC42),選手名簿!$A:$E,5,FALSE))","v":""}]
[null,"分",null,"番",{"$f":"IF(ISERROR(VLOOKUP(CONCATENATE($B$9,\"_\",C43),選手名簿!$A:$E,5,FALSE))=TRUE,\"\",VLOOKUP(CONCATENATE($B$9,\"_\",C43),選手名簿!$A:$E,5,FALSE))","v":""},null,null,null,null,"→",null,"番",{"$f":"IF(ISERROR(VLOOKUP(CONCATENATE($B$9,\"_\",K43),選手名簿!$A:$E,5,FALSE))=TRUE,\"\",VLOOKUP(CONCATENATE($B$9,\"_\",K43),選手名簿!$A:$E,5,FALSE))","v":""},null,null,null,null,null,null,"分",null,"番",{"$f":"IF(ISERROR(VLOOKUP(CONCATENATE($W$9,\"_\",U43),選手名簿!$A:$E,5,FALSE))=TRUE,\"\",VLOOKUP(CONCATENATE($W$9,\"_\",U43),選手名簿!$A:$E,5,FALSE))","v":""},null,null,null,null,"→",null,"番",{"$f":"IF(ISERROR(VLOOKUP(CONCATENATE($W$9,\"_\",AC43),選手名簿!$A:$E,5,FALSE))=TRUE,\"\",VLOOKUP(CONCATENATE($W$9,\"_\",AC43),選手名簿!$A:$E,5,FALSE))","v":""}]
[null,"分",null,"番",{"$f":"IF(ISERROR(VLOOKUP(CONCATENATE($B$9,\"_\",C44),選手名簿!$A:$E,5,FALSE))=TRUE,\"\",VLOOKUP(CONCATENATE($B$9,\"_\",C44),選手名簿!$A:$E,5,FALSE))","v":""},null,null,null,null,"→",null,"番",{"$f":"IF(ISERROR(VLOOKUP(CONCATENATE($B$9,\"_\",K44),選手名簿!$A:$E,5,FALSE))=TRUE,\"\",VLOOKUP(CONCATENATE($B$9,\"_\",K44),選手名簿!$A:$E,5,FALSE))","v":""},null,null,null,null,null,null,"分",null,"番",{"$f":"IF(ISERROR(VLOOKUP(CONCATENATE($W$9,\"_\",U44),選手名簿!$A:$E,5,FALSE))=TRUE,\"\",VLOOKUP(CONCATENATE($W$9,\"_\",U44),選手名簿!$A:$E,5,FALSE))","v":""},null,null,null,null,"→",null,"番",{"$f":"IF(ISERROR(VLOOKUP(CONCATENATE($W$9,\"_\",AC44),選手名簿!$A:$E,5,FALSE))=TRUE,\"\",VLOOKUP(CONCATENATE($W$9,\"_\",AC44),選手名簿!$A:$E,5,FALSE))","v":""}]
[null,"分",null,"番",{"$f":"IF(ISERROR(VLOOKUP(CONCATENATE($B$9,\"_\",C45),選手名簿!$A:$E,5,FALSE))=TRUE,\"\",VLOOKUP(CONCATENATE($B$9,\"_\",C45),選手名簿!$A:$E,5,FALSE))","v":""},null,null,null,null,"→",null,"番",{"$f":"IF(ISERROR(VLOOKUP(CONCATENATE($B$9,\"_\",K45),選手名簿!$A:$E,5,FALSE))=TRUE,\"\",VLOOKUP(CONCATENATE($B$9,\"_\",K45),選手名簿!$A:$E,5,FALSE))","v":""},null,null,null,null,null,null,"分",null,"番",{"$f":"IF(ISERROR(VLOOKUP(CONCATENATE($W$9,\"_\",U45),選手名簿!$A:$E,5,FALSE))=TRUE,\"\",VLOOKUP(CONCATENATE($W$9,\"_\",U45),選手名簿!$A:$E,5,FALSE))","v":""},null,null,null,null,"→",null,"番",{"$f":"IF(ISERROR(VLOOKUP(CONCATENATE($W$9,\"_\",AC45),選手名簿!$A:$E,5,FALSE))=TRUE,\"\",VLOOKUP(CONCATENATE($W$9,\"_\",AC45),選手名簿!$A:$E,5,FALSE))","v":""}]
["警告（Ｃ）・退場（Ｓ）など",null,null,null,null,null,null,"合計",null,"延後",null,"延前",null,"後半",null,"前半",null,"チーム\n合計",null,"前半",null,"後半",null,"延前",null,"延後",null,"合計",null,"警告（Ｃ）・退場（Ｓ）など"]
[null,null,null,null,null,null,null,{"$f":"SUM(J47:Q47)","v":2},null,null,null,null,null,1,null,1,null,"Ｇ","Ｋ",4,null,1,null,null,null,null,null,{"$f":"SUM(T47:AA47)","v":5}]
[null,null,null,null,null,null,null,{"$f":"SUM(J48:Q48)","v":5},null,null,null,null,null,2,null,3,null,"Ｃ","Ｋ",1,null,0,null,null,null,null,null,{"$f":"SUM(T48:AA48)","v":1}]
[null,null,null,null,null,null,null,{"$f":"SUM(J49:Q49)","v":2},null,null,null,null,null,1,null,1,null,"直接","ＦＫ",0,null,0,null,null,null,null,null,{"$f":"SUM(T49:AA49)","v":0}]
[null,null,null,null,null,null,null,{"$f":"SUM(J50:Q50)","v":4},null,null,null,null,null,1,null,3,null,"間接","ＦＫ",0,null,0,null,null,null,null,null,{"$f":"SUM(T50:AA50)","v":0}]
[null,null,null,null,null,null,null,{"$f":"SUM(J51:Q51)","v":0},null,null,null,null,null,0,null,0,null,"Ｐ","Ｋ",0,null,0,null,null,null,null,null,{"$f":"SUM(T51:AA51)","v":0}]
["時間",null,null,"得点者",null,"得　　点　　経　　過",null,null,null,null,null,null,null,null,null,null,null,null,"時間",null,null,"得点者",null,"得　　点　　経　　過"]
[null,24,"分",11,null,"× 11S",null,null,null,null,null,null,null,null,null,null,null,null,null,null,"分"]
[null,28,"分",11,null,"× 11S",null,null,null,null,null,null,null,null,null,null,null,null,null,null,"分"]
[null,null,"分",null,null,null,null,null,null,null,null,null,null,null,null,null,null,null,null,null,"分"]
[null,null,"分",null,null,null,null,null,null,null,null,null,null,null,null,null,null,null,null,null,"分"]
[null,null,"分",null,null,null,null,null,null,null,null,null,null,null,null,null,null,null,null,null,"分"]
[null,null,"分",null,null,null,null,null,null,null,null,null,null,null,null,null,null,null,null,null,"分"]
[" ",null,null,"《略号例》",null,null,null,"ドリブル",null,"～",null,"ゴロのパス",null,null,"→",null,"浮き球",null,"∩",null,"混戦",null,"×",null,"ヘディング",null,null,"H",null,"シュート",null,"S"]
[]
["戦評者氏名",null,null,null,"（",null,null,null,null,null,"）",null,"勤務先または所属",null,null,null,null,"（","一般社団法人　大分県サッカー協会　ジュニア委員会",null,null,null,null,null,null,null,null,null,null,null,null,null,null,null,"　）"]
[]
[]
[]
[]
[]
[]
[]
["[警告理由]C1：反スポーツ的行為，C2：ラフプレー，C3：異議，C4：繰り返し違反，C5：遅延行為，C6：距離不足，C7：無許可入，C8：無許可去"]
["[退場理由]S1：著しく不正なプレー，S2：乱暴な行為，S3：つば吐き，S4：得点機会阻止(ハンド)，S5：得点機会阻止(他)，S6：侮辱的発言，CS：警告2回による退場"]
[]
[null,null,null,null,null,null,"M   C",null,null,null,null,null,null,"ウェルフェアオフィサー",null,null,null,null,null,null,"会　場　長",null,null,null,null,null,null,"主　　審"]
[null,null,null,null,null,null,"中原　圭介",null,null,null,null,null,null,"仲野　昭博",null,null,null,null,null,null,"安東　幹雄",null,null,null,null,null,null,"幸　壮一郎"]

{"sheet":"審判員","index":19,"n_rows":2812,"n_cols":11,"rows_kept":2812,"cut":false,"hidden":true,"merged":[]}
["審判登録番号","氏名","資格","性別","技能区分","所属協会","第二登録協会",null,"選択肢より",null,"＜警告選択肢＞"]
["R001251601","佐々木　慎哉","１級","男性","S審判","大分県",null,null,"警告",null,"反スポ"]
["R001265145","秋元　昭一","２級","男性","S審判","大分県",null,null,"退場",null,"ラフ"]
["R000879756","足達　実生","２級","男性","S審判","大分県",null,null,null,null,"異議"]
["R001253502","安藤　博幸","２級","男性","S審判","大分県",null,null,null,null,"繰り返し"]
["R006221377","池添　将大","２級","男性","S審判","大分県",null,null,null,null,"遅延"]
["R001262333","諌本　秀樹","２級","男性","S審判","大分県",null,null,null,null,"距離"]
["R001254060","井上　大知","２級","男性","S審判","大分県",null,null,null,null,"無断入"]
["R001265172","岩尾　雅広","２級","男性","S審判","大分県",null,null,null,null,"無断去"]
["R001262546","岩崎　浩也","２級","男性","S審判","大分県",null,null,null,null,"＜退場選択肢＞"]
["R001265233","大野　髙洋","２級","男性","S審判","大分県",null,null,null,null,"不正"]
["R002530125","小畑　広大","２級","男性","S審判","大分県",null,null,null,null,"乱暴"]
["R009212325","戒田　直樹","２級","男性","S審判","大分県",null,null,null,null,"つば"]
["R010281800","河野　光喜","２級","男性","S審判","大分県",null,null,null,null,"阻止(手)"]
["R001262971","木下　富喜","２級","男性","S審判","大分県",null,null,null,null,"阻止(他)"]
["R001262999","木原　一心","２級","男性","S審判","大分県",null,null,null,null,"暴言"]
["R010259420","窪田　雅一","２級","男性","S審判","大分県",null,null,null,null,"警告2"]
["R005528255","黒田　大貴","２級","男性","S審判","大分県"]
["R001265349","小出　康博","２級","男性","S審判","大分県"]
["R001265376","後藤　樹明","２級","男性","S審判","大分県"]
["R000876616","後藤　晋平","２級","男性","S審判","大分県"]
["R001265367","後藤　啓之","２級","男性","S審判","大分県"]
["R010536851","酒井　駿","２級","男性","S審判","大分県"]
["R001256943","笹原　年浩","２級","男性","S審判","大分県"]
["R003255841","塩月　勇輝","２級","男性","S審判","大分県"]
["R001265385","須藤　健二","２級","男性","S審判","大分県"]
["R001257818","関　太啓","２級","男性","S審判","大分県"]
["R006221465","曽我　拓実","２級","男性","S審判","大分県"]
["R010052667","髙木　翔","２級","男性","S審判","大分県"]
["R001257924","高木　哲也","２級","男性","S審判","大分県"]
["R000892429","田中　博","２級","男性","S審判","大分県"]
["R001265428","坪井　和幸","２級","男性","S審判","大分県"]
["R001265437","寺林　豊","２級","男性","S審判","大分県"]
["R010250271","中尾　亜夢","２級","男性","S審判","大分県"]
["R006151032","中尾　優志","２級","男性","S審判","大分県"]
["R003317390","中園　健太郎","２級","男性","S審判","大分県"]
["R001265464","仲摩　則孝","２級","男性","S審判","大分県"]
["R001265358","西田　亜矢","２級","女性","S審判","大分県"]
["R010167733","原　大貴","２級","男性","S審判","大分県"]
["R001265473","引地　弘幸","２級","男性","S審判","大分県"]
["R001260140","福田　人志","２級","男性","S審判","大分県"]
["R001265534","前山　精治","２級","男性","S審判","大分県"]
["R001260593","増永　伸也","２級","男性","S審判","大分県"]
["R001265552","松原　マヤ","２級","女性","S審判","大分県"]
["R010264267","馬原　直人","２級","男性","S審判","大分県"]
["R002331010","丸小野　聡暢","２級","男性","S審判","大分県"]
["R003422498","三ヶ尻　和也","２級","男性","S審判","大分県"]
["R004793649","水江　真太郎","２級","男性","S審判","大分県"]
["R001264632","湊　弘智","２級","男性","S審判","大分県"]
["R008537139","矢羽田　崇","２級","男性","S審判","大分県","愛知県"]
["R006093817","幸　壮一郎","２級","男性","S審判","大分県"]
["R001262023","和田　敬生","２級","男性","S審判","大分県"]
["R010093470","合澤　慎太郎","３級","男性","S審判","大分県"]
["R001264881","赤山　千晶","３級","男性","S審判","大分県"]
["R001253007","秋元　貴生","３級","男性","S審判","大分県"]
["R001253025","秋吉　明","３級","男性","S審判","大分県"]
["R010376364","秋吉　慶汰","３級","男性","S審判","大分県"]
["R010382666","秋吉　徹男","３級","男性","S審判","大分県"]
["R007960093","浅井　佑太","３級","男性","S審判","大分県"]
["R010169055","朝来野　勇志","３級","男性","S審判","大分県"]
["R007728424","浅田　雄太","３級","男性","S審判","大分県"]
["R003972391","朝比奈　義行","３級","男性","S審判","大分県"]
["R003317336","朝吹　崇宏","３級","男性","S審判","大分県"]
["R006933694","東　紘造","３級","男性","S審判","大分県"]
["R001253159","麻生　勝稔","３級","男性","S審判","大分県"]
["R001265154","足立　英二","３級","男性","S審判","大分県"]
["R001253557","安達　信也","３級","男性","S審判","大分県"]
["R010069871","足立　卓也","３級","男性","S審判","大分県"]
["R010396578","足立　尚隆","３級","男性","S審判","大分県"]
["R010189040","阿地　孝","３級","男性","S審判","大分県"]
["R010313745","穴井　大地","３級","男性","S審判","大分県"]
["R010352942","姉川　光一朗","３級","男性","S審判","大分県"]
["R001262184","安部　一徳","３級","男性","S審判","大分県"]
["R006573784","安倍　和広","３級","男性","S審判","大分県"]
["R009460436","安部　隆行","３級","男性","S審判","大分県"]
["R010189323","安部　孝之","３級","男性","S審判","大分県"]
["R007959103","安倍　達也","３級","男性","S審判","大分県"]
["R001262209","阿部　浩之","３級","男性","S審判","大分県"]
["R010281814","安部　正信","３級","男性","S審判","大分県"]
["R005336098","荒木　宗明","３級","男性","S審判","大分県"]
["R010189314","有村　惇志","３級","男性","S審判","大分県"]
["R001251036","有村　季幸","３級","男性","S審判","大分県"]
["R008634229","安藤　昭徳","３級","男性","S審判","大分県"]
["R007003033","安藤　和洋","３級","男性","S審判","大分県"]
["R001253496","安東　信二","３級","男性","S審判","大分県"]
["R010013254","安藤　暢","３級","男性","S審判","大分県"]
["R010064829","安藤　英明","３級","男性","S審判","大分県"]
["R001253548","安藤　洋樹","３級","男性","S審判","大分県"]
["R001262254","安東　幹雄","３級","男性","S審判","大分県"]
["R009547124","安藤　洋一","３級","男性","S審判","大分県"]
["R007960084","安部　武志","３級","男性","S審判","大分県"]
["R001262290","池江　浩一郎","３級","男性","S審判","大分県"]
["R010306442","池田　達哉","３級","男性","S審判","大分県"]
["R002384216","池田　浩","３級","男性","S審判","大分県"]
["R010093456","池邉　賢一","３級","男性","S審判","大分県"]
["R001262324","池辺　俊明","３級","男性","S審判","大分県"]
["R010301990","池本　岬","３級","男性","S審判","大分県"]
["R009408904","石井　洋平","３級","男性","S審判","大分県"]
["R001262379","石川　慎也","３級","男性","S審判","大分県"]
["R010027832","石川　裕明","３級","男性","S審判","大分県"]
["R001321238","イシバシ　眞和","３級","男性","S審判","大分県"]
["R004060329","石松　卓哉","３級","男性","S審判","大分県"]
["R001262397","石丸　泰幸","３級","男性","S審判","大分県"]
["R007753129","石本　直也","３級","男性","S審判","大分県"]
["R010189276","石本　侑己","３級","男性","S審判","大分県"]
["R001262403","石山　慎史","３級","男性","S審判","大分県"]
["R003421338","五十川　文明","３級","男性","S審判","大分県"]
["R010448235","礒辺　宏基","３級","男性","S審判","大分県"]
["R005467918","磯村　信一","３級","男性","S審判","大分県"]
["R008536972","板井　晋一","３級","男性","S審判","大分県"]
["R010281826","板井　崇晃","３級","男性","S審判","大分県"]
["R006093835","板井　龍法","３級","男性","S審判","大分県"]
["R007686234","市田　翔太","３級","男性","S審判","大分県"]
["R002384191","居塚　繁","３級","男性","S審判","大分県"]
["R002531522","伊藤　宏充","３級","男性","S審判","大分県"]
["R001262458","伊東　雅弘","３級","男性","S審判","大分県"]
["R006173919","井上　健次郎","３級","男性","S審判","大分県"]
["R010281875","井上　颯太","３級","男性","S審判","大分県"]
["R001254051","井上　直樹","３級","男性","S審判","大分県"]
["R001869093","井上　秀文","３級","男性","S審判","大分県"]
["R006574172","猪下　侑恭","３級","男性","S審判","大分県"]
["R001262494","井堀　貴康","３級","男性","S審判","大分県"]
["R001262500","今井　克人","３級","男性","S審判","大分県"]
["R003677104","今宮　俊一","３級","男性","S審判","大分県"]
["R005603820","岩尾　潤一郎","３級","男性","S審判","大分県"]
["R010096810","岩尾　瑞貴","３級","男性","S審判","大分県"]
["R006664758","岩男　雄一郎","３級","男性","S審判","大分県"]
["R001254176","岩坂　康範","３級","男性","S審判","大分県"]
["R004778507","岩崎　彰範","３級","男性","S審判","大分県"]
["R007335297","岩丸　海斗","３級","男性","S審判","大分県"]
["R001262573","上尾　泰裕","３級","男性","S審判","大分県"]
["R004055390","植木　邦彦","３級","男性","S審判","大分県"]
["R001254282","上田　大吾","３級","男性","S審判","大分県"]
["R001262582","上田　輝彦","３級","男性","S審判","大分県"]
["R010415888","上田　源典","３級","男性","S審判","大分県"]
["R010169040","上本　慎一郎","３級","男性","S審判","大分県"]
["R010189280","魚住　健人","３級","男性","S審判","大分県"]
["R007003431","宇髙　篤史","３級","男性","S審判","大分県"]
["R003421231","内丸　貴裕","３級","男性","S審判","大分県"]
["R010396521","内山　隆寛","３級","男性","S審判","大分県"]
["R010093443","内山田　光史","３級","男性","S審判","大分県"]
["R001262874","宇都宮　潤也","３級","男性","S審判","大分県"]
["R005527609","宇都宮　貴之","３級","男性","S審判","大分県"]
["R001265190","宇野　耕二","３級","男性","S審判","大分県"]
["R010193702","梅田　高志","３級","男性","S審判","大分県"]
["R010189311","梅徳　里一","３級","男性","S審判","大分県"]
["R010100691","浦本　雅志","３級","男性","S審判","大分県"]
["R003421161","永路　尚道","３級","男性","S審判","大分県"]
["R010076621","江上　和希","３級","男性","S審判","大分県"]
["R005603361","江口　晃平","３級","男性","S審判","大分県"]
["R002530064","江崎　康平","３級","男性","S審判","大分県"]
["R001254538","江藤　修","３級","男性","S審判","大分県"]
["R005603866","衛藤　圭典","３級","男性","S審判","大分県"]
["R001254510","衛藤　兼一","３級","男性","S審判","大分県"]
["R001262607","衛藤　俊明","３級","男性","S審判","大分県"]
["R001254477","江藤　雅章","３級","男性","S審判","大分県"]
["R009197619","恵美　圭介","３級","男性","S審判","大分県"]
["R002384580","江良　信司","３級","男性","S審判","大分県"]
["R010465606","大石　聖哉","３級","男性","S審判","大分県"]
["R010538325","大石　雅宣","３級","男性","S審判","大分県"]
["R001262625","大久保　邦彦","３級","男性","S審判","大分県"]
["R008377616","大久保　稔生","３級","男性","S審判","大分県"]
["R003421912","大久保　正明","３級","男性","S審判","大分県"]
["R010189324","大嶋　伊織","３級","男性","S審判","大分県"]
["R010465581","大島　孝太","３級","男性","S審判","大分県"]
["R006093738","大谷　伸二","３級","男性","S審判","大分県"]
["R001265224","大塚　浩司","３級","男性","S審判","大分県"]
["R005528121","大塚　勇司","３級","男性","S審判","大分県"]
["R008174019","大塚　良輝","３級","男性","S審判","大分県"]
["R003351109","大津留　健太","３級","男性","S審判","大分県"]
["R003317080","大津留　聖太","３級","男性","S審判","大分県"]
["R010498317","大鶴　翔太郎","３級","男性","S審判","大分県"]
["R010281884","大戸　聡平","３級","男性","S審判","大分県"]
["R001262670","大渡　年春","３級","男性","S審判","大分県"]
["R010465607","大野　春佑","３級","男性","S審判","大分県"]
["R003421222","大野　盛通","３級","男性","S審判","大分県"]
["R010466988","大星　陸渡","３級","男性","S審判","大分県"]
["R010093494","大本　敏行","３級","男性","S審判","大分県"]
["R007660573","岡　智史","３級","男性","S審判","大分県"]
["R010313747","岡崎　俊介","３級","男性","S審判","大分県"]
["R010444522","岡田　凌哉","３級","男性","S審判","大分県"]
["R006901613","岡部　明男","３級","男性","S審判","大分県"]
["R001254875","岡部　司","３級","男性","S審判","大分県"]
["R006647584","岡松　伸弥","３級","男性","S審判","大分県"]
["R007959088","岡本　遼","３級","男性","S審判","大分県"]
["R010538391","緒方　翔平","３級","男性","S審判","大分県"]
["R001262698","緒方　崇","３級","男性","S審判","大分県"]
["R007075261","小川　翔太","３級","男性","S審判","大分県"]
["R006573979","小川　雅和","３級","男性","S審判","大分県"]
["R010376269","奥薗　将太","３級","男性","S審判","大分県"]
["R009460515","奥田　和彦","３級","男性","S審判","大分県"]
["R010100676","奥村　浩勝","３級","男性","S審判","大分県"]
["R003972355","小倉　正広","３級","男性","S審判","大分県"]
["R001262731","長田　敏明","３級","男性","S審判","大分県"]
["R010189320","尾崎　勇","３級","男性","S審判","大分県"]
["R010099453","小関　啓太郎","３級","男性","S審判","大分県"]
["R007960109","小田　将大","３級","男性","S審判","大分県"]
["R006901589","小田原　蓮","３級","男性","S審判","大分県"]
["R010311884","越智　龍平","３級","男性","S審判","大分県"]
["R002996695","乙部　哲也","３級","男性","S審判","大分県"]
["R007959954","オトメ　仁孝","３級","男性","S審判","大分県"]
["R002917661","小野　晃央","３級","男性","S審判","大分県"]
["R001255184","小野　聡","３級","男性","S審判","大分県"]
["R005603608","小野　智史","３級","男性","S審判","大分県"]
["R001255193","小野　修太郎","３級","男性","S審判","大分県"]
["R001255139","小野　慎一","３級","男性","S審判","大分県"]
["R010255178","小野　智弘","３級","男性","S審判","大分県"]
["R010538295","小野　輝","３級","男性","S審判","大分県"]
["R001262786","小野　幸登","３級","男性","S審判","大分県"]
["R010390125","小野　友美子","３級","女性","S審判","大分県"]
["R001262777","小野　亮一","３級","男性","S審判","大分県"]
["R002996659","小畑　郁夫","３級","男性","S審判","大分県"]
["R000466941","小畑　克則","３級","男性","S審判","大分県"]
["R008173700","甲斐　剛樹","３級","男性","S審判","大分県"]
["R001265260","甲斐　正三","３級","男性","S審判","大分県"]
["R003258501","甲斐　真号","３級","男性","S審判","大分県"]
["R004794055","笠置　貴路","３級","男性","S審判","大分県"]
["R001262829","笠置　忠照","３級","男性","S審判","大分県"]
["R004793542","梶川　和志","３級","男性","S審判","大分県"]
["R004055585","梶原　賢士","３級","男性","S審判","大分県"]
["R009198511","梶原　幸平","３級","男性","S審判","大分県"]
["R001262838","梶原　誠司","３級","男性","S審判","大分県"]
["R010099455","糟谷　浩志","３級","男性","S審判","大分県"]
["R010261243","片山　幹彦","３級","男性","S審判","大分県"]
["R004714642","加藤　敦士","３級","男性","S審判","大分県"]
["R007959608","加藤　恭介","３級","男性","S審判","大分県"]
["R010189342","加藤　拓己","３級","男性","S審判","大分県"]
["R009197929","加藤　泰広","３級","男性","S審判","大分県"]
["R010448916","金子　康二","３級","男性","S審判","大分県"]
["R010261482","金子　翔","３級","男性","S審判","大分県"]
["R010396582","金田　智朗","３級","男性","S審判","大分県"]
["R010376294","株根　聖太","３級","男性","S審判","大分県"]
["R009624779","株根　蒼太","３級","男性","S審判","大分県"]
["R010465586","上江　啓太","３級","男性","S審判","大分県"]
["R001262883","神川　基","３級","男性","S審判","大分県"]
["R002996668","上西　亮次","３級","男性","S審判","大分県"]
["R010256872","鴨川　奨","３級","男性","S審判","大分県"]
["R010120143","萱嶌　修平","３級","男性","S審判","大分県"]
["R001255616","川井　勇介","３級","男性","S審判","大分県"]
["R007959963","川内　智弘","３級","男性","S審判","大分県"]
["R006220952","川﨑　浩司","３級","男性","S審判","大分県"]
["R010450022","川﨑　脩斗","３級","男性","S審判","大分県"]
["R002917430","河津　裕徳","３級","男性","S審判","大分県"]
["R005103418","河野　貴裕","３級","男性","S審判","大分県"]
["R001255740","川野　剛","３級","男性","S審判","大分県"]
["R010391915","河野　晴輝","３級","男性","S審判","大分県"]
["R001255713","河野　英樹","３級","男性","S審判","大分県"]
["R001262935","河野　裕明","３級","男性","S審判","大分県"]
["R006094001","河野　祐司","３級","男性","S審判","大分県"]
["R010214623","川畑　拓人","３級","男性","S審判","大分県"]
["R010388050","川端　大翔","３級","男性","S審判","大分県"]
["R010093459","川辺　祐介","３級","男性","S審判","大分県"]
["R003351145","川村　啓一郎","３級","男性","S審判","大分県"]
["R001255935","川村　正樹","３級","男性","S審判","大分県"]
["R004112020","川元　翔","３級","男性","S審判","大分県"]
["R003256053","菊地　謙一","３級","男性","S審判","大分県"]
["R007890271","菊地　玄","３級","男性","S審判","大分県"]
["R010376296","木島　悠","３級","男性","S審判","大分県"]
["R010465605","北村　真悟","３級","男性","S審判","大分県"]
["R007959583","吉川　一馬","３級","男性","S審判","大分県"]
["R010074021","木津　洋孝","３級","男性","S審判","大分県"]
["R007003468","木本　翔平","３級","男性","S審判","大分県"]
["R010465604","木本　大地","３級","男性","S審判","大分県"]
["R001256129","木本　信之","３級","男性","S審判","大分県"]
["R001256138","木本　将斗","３級","男性","S審判","大分県"]
["R001251504","清原　雄太","３級","男性","S審判","大分県"]
["R007003486","清松　隆浩","３級","男性","S審判","大分県"]
["R001263031","吉良　信輝","３級","男性","S審判","大分県"]
["R001263040","吉良　光峰","３級","男性","S審判","大分県"]
["R001263068","切封　智和","３級","男性","S審判","大分県"]
["R001263077","草野　学","３級","男性","S審判","大分県"]
["R010247785","楠本　未沙都","３級","女性","S審判","大分県"]
["R001263129","工藤　慎一","３級","男性","S審判","大分県"]
["R003258413","工藤　隆貴","３級","男性","S審判","大分県"]
["R010189301","工藤　拓海","３級","男性","S審判","大分県"]
["R003351251","工藤　暢裕","３級","男性","S審判","大分県"]
["R007002982","工藤　政野","３級","男性","S審判","大分県"]
["R001263110","工藤　康博","３級","男性","S審判","大分県"]
["R008798262","工藤　龍成","３級","男性","S審判","大分県"]
["R010465591","工藤　遼一","３級","男性","S審判","大分県"]
["R008479330","國友　達朗","３級","男性","S審判","大分県"]
["R003677131","久保　雅敬","３級","男性","S審判","大分県"]
["R001256305","久保田　英樹","３級","男性","S審判","大分県"]
["R001256314","久保山　守","３級","男性","S審判","大分県"]
["R001263165","熊谷　浩之","３級","男性","S審判","大分県"]
["R007334890","熊谷　勇哉","３級","男性","S審判","大分県"]
["R010538565","倉原　一輝","３級","男性","S審判","大分県"]
["R010074028","栗井　勝","３級","男性","S審判","大分県"]
["R001263183","桑原　栄二郎","３級","男性","S審判","大分県"]
["R008634487","桑原　将吾","３級","男性","S審判","大分県"]
["R001256402","小石川　悟","３級","男性","S審判","大分県"]
["R001263192","小出　和明","３級","男性","S審判","大分県"]
["R007003228","河野　晋也","３級","男性","S審判","大分県"]
["R006220387","河野　翼","３級","男性","S審判","大分県"]
["R010376271","古賀　嵐士","３級","男性","S審判","大分県"]
["R010538323","古瀬　大騎","３級","男性","S審判","大分県"]
["R009546073","小玉　篤史","３級","男性","S審判","大分県"]
["R009198502","児玉　祥吾","３級","男性","S審判","大分県"]
["R010465584","児玉　雅樹","３級","男性","S審判","大分県"]
["R005405255","小手川　朋輝","３級","男性","S審判","大分県"]
["R010080887","古西　譲司","３級","男性","S審判","大分県"]
["R004706704","小林　年晴","３級","男性","S審判","大分県"]
["R007728673","小林　亮介","３級","男性","S審判","大分県"]
["R001263314","近藤　健二","３級","男性","S審判","大分県"]
["R010376362","近藤　將平","３級","男性","S審判","大分県"]
["R006591364","近藤　裕之","３級","男性","S審判","大分県"]
["R001263305","近藤　靖彦","３級","男性","S審判","大分県"]
["R010376355","合嶋　雄大","３級","男性","S審判","大分県"]
["R009408852","後藤　憲治","３級","男性","S審判","大分県"]
["R001263299","後藤　伸太郎","３級","男性","S審判","大分県"]
["R001251540","後藤　毅","３級","男性","S審判","大分県"]
["R010306452","後藤　知仁","３級","男性","S審判","大分県"]
["R010538293","後藤　寛貴","３級","男性","S審判","大分県"]
["R001256624","後藤　文生","３級","男性","S審判","大分県"]
["R010067947","後藤　美宇","３級","女性","S審判","大分県"]
["R001263271","後藤　稔","３級","男性","S審判","大分県"]
["R001263332","斎藤　克己","３級","男性","S審判","大分県"]
["R001263369","酒井　清行","３級","男性","S審判","大分県"]
["R001251577","酒井　隆宏","３級","男性","S審判","大分県"]
["R001263350","酒井　祐三","３級","男性","S審判","大分県"]
["R010356115","榊　謙治","３級","男性","S審判","大分県"]
["R004714688","坂本　克也","３級","男性","S審判","大分県"]
["R003350863","坂本　圭","３級","男性","S審判","大分県"]
["R001263402","坂本　淳吾","３級","男性","S審判","大分県"]
["R006849191","坂本　大典","３級","男性","S審判","大分県"]
["R006574400","酒盛　政晴","３級","男性","S審判","大分県"]
["R006664864","相良　章成","３級","男性","S審判","大分県"]
["R002917500","迫　裕作","３級","男性","S審判","大分県"]
["R007335136","佐々木　秀樹","３級","男性","S審判","大分県"]
["R001263411","佐々木　正志","３級","男性","S審判","大分県"]
["R003677052","佐田　敬介","３級","男性","S審判","大分県"]
["R001263448","佐藤　昭生","３級","男性","S審判","大分県"]
["R001263484","佐藤　一好","３級","男性","S審判","大分県"]
["R010261478","佐藤　賢太","３級","男性","S審判","大分県"]
["R009460551","佐藤　慎二","３級","男性","S審判","大分県"]
["R005164394","佐藤　嵩隼","３級","男性","S審判","大分県"]
["R008634706","佐藤　巨規","３級","男性","S審判","大分県"]
["R010281827","佐藤　秀昭","３級","男性","S審判","大分県"]
["R010189269","佐藤　寛季","３級","男性","S審判","大分県"]
["R007728512","佐藤　誠","３級","男性","S審判","大分県"]
["R010396593","佐藤　諒","３級","男性","S審判","大分県"]
["R007003291","佐藤　優介","３級","男性","S審判","大分県"]
["R010382660","佐藤　祐輔","３級","男性","S審判","大分県"]
["R010465594","佐藤　湧大","３級","男性","S審判","大分県"]
["R001263475","佐藤　隆太","３級","男性","S審判","大分県"]
["R009552560","佐藤　亮","３級","男性","S審判","大分県"]
["R010096806","猿渡　崇史","３級","男性","S審判","大分県"]
["R001257252","三宮　仁","３級","男性","S審判","大分県"]
["R010540712","汐先　悠介","３級","男性","S審判","大分県"]
["R007959936","塩田　誠","３級","男性","S審判","大分県"]
["R001257322","師藤　一也","３級","男性","S審判","大分県"]
["R010444495","志藤　圭史朗","３級","男性","S審判","大分県"]
["R001257340","篠田　公成","３級","男性","S審判","大分県"]
["R004326535","信田　卓也","３級","男性","S審判","大分県"]
["R010073990","篠田　裕也","３級","男性","S審判","大分県"]
["R010189333","芝崎　駿","３級","男性","S審判","大分県"]
["R008634715","柴田　健一","３級","男性","S審判","大分県"]
["R010214543","柴田　峻佑","３級","男性","S審判","大分県"]
["R002938017","柴田　徹","３級","男性","S審判","大分県"]
["R001263536","渋谷　崇","３級","男性","S審判","大分県"]
["R003317114","島津　広光","３級","男性","S審判","大分県"]
["R007686216","清水　圭二","３級","男性","S審判","大分県"]
["R006910259","下原　優一","３級","男性","S審判","大分県"]
["R006849182","志谷　進","３級","男性","S審判","大分県"]
["R001263590","首藤　圭介","３級","男性","S審判","大分県"]
["R001934616","首藤　貴弘","３級","男性","S審判","大分県"]
["R010542204","生野　憲太朗","３級","男性","S審判","大分県"]
["R010538350","白石　健","３級","男性","S審判","大分県"]
["R009554780","白江　直樹","３級","男性","S審判","大分県"]
["R006849128","城全　晃孝","３級","男性","S審判","大分県"]
["R001263606","城全　孝成","３級","男性","S審判","大分県"]
["R001257641","秦　達郎","３級","男性","S審判","大分県"]
["R001263633","秦　雅暢","３級","男性","S審判","大分県"]
["R001257650","新貝　学","３級","男性","S審判","大分県"]
["R009198335","城野　清","３級","男性","S審判","大分県"]
["R004793834","末松　敬雅","３級","男性","S審判","大分県"]
["R008515571","菅川　智","３級","男性","S審判","大分県"]
["R007003024","杉崎　恭介","３級","男性","S審判","大分県"]
["R002530860","鈴木　史朗","３級","男性","S審判","大分県"]
["R008798369","鈴木　優希","３級","男性","S審判","大分県"]
["R010444486","須藤　哲也","３級","男性","S審判","大分県"]
["R010468354","須藤　裕太","３級","男性","S審判","大分県"]
["R008798013","隅田　哲平","３級","男性","S審判","大分県"]
["R010027823","清家　大介","３級","男性","S審判","大分県"]
["R001263679","関　憲二","３級","男性","S審判","大分県"]
["R000896665","関　文雄","３級","男性","S審判","大分県"]
["R008798174","関屋　俊侑","３級","男性","S審判","大分県"]
["R001263688","瀬口　篤","３級","男性","S審判","大分県"]
["R010376284","瀬戸口　雄","３級","男性","S審判","大分県"]
["R007606238","相馬　大典","３級","男性","S審判","大分県"]
["R010247795","曽我　彩夏","３級","女性","S審判","大分県"]
["R001263697","曽我　大一郎","３級","男性","S審判","大分県"]
["R001263721","園　貴司","３級","男性","S審判","大分県"]
["R005987032","園　秀利","３級","男性","S審判","大分県"]
["R005987430","平　和隆","３級","男性","S審判","大分県"]
["R006664615","高柿　康平","３級","男性","S審判","大分県"]
["R010465617","高田　侑弥","３級","男性","S審判","大分県"]
["R010376358","高野　賢吾","３級","男性","S審判","大分県"]
["R001258048","高橋　修一","３級","男性","S審判","大分県"]
["R010465587","高橋　大寿","３級","男性","S審判","大分県"]
["R001263819","高橋　雅浩","３級","男性","S審判","大分県"]
["R010540717","高橋　優斗","３級","男性","S審判","大分県"]
["R001263785","高橋　芳洋","３級","男性","S審判","大分県"]
["R005987120","高橋　涼太","３級","男性","S審判","大分県"]
["R001263846","高畑　徳治郎","３級","男性","S審判","大分県"]
["R001263837","高畑　智秀","３級","男性","S審判","大分県"]
["R002996738","高原　英司","３級","男性","S審判","大分県"]
["R003258477","田上　和広","３級","男性","S審判","大分県"]
["R001262272","瀧山　理恵","３級","女性","S審判","大分県"]
["R010391939","武石　新太","３級","男性","S審判","大分県"]
["R010391953","武内　奨真","３級","男性","S審判","大分県"]
["R001263882","竹内　進","３級","男性","S審判","大分県"]
["R003972489","竹嶋　仁","３級","男性","S審判","大分県"]
["R006220484","武智　正敏","３級","男性","S審判","大分県"]
["R007754243","竹中　勇人","３級","男性","S審判","大分県"]
["R006030599","竹村　研一郎","３級","男性","S審判","大分県"]
["R007335075","田坂　将和","３級","男性","S審判","大分県"]
["R010120124","田尻　貴志","３級","男性","S審判","大分県"]
["R004060170","立花　陽一郎","３級","男性","S審判","大分県"]
["R008626770","立川　大記","３級","男性","S審判","大分県"]
["R009430578","立川　千紗","３級","女性","S審判","大分県"]
["R008627043","立川　充","３級","男性","S審判","大分県"]
["R004683874","田中　貴大","３級","男性","S審判","大分県"]
["R001258394","田邉　義晶","３級","男性","S審判","大分県"]
["R010540711","田之畑　絢也","３級","男性","S審判","大分県"]
["R005164677","田村　孝弘","３級","男性","S審判","大分県"]
["R010190756","垰　真樹","３級","男性","S審判","大分県"]
["R004793579","團塚　晋之祐","３級","男性","S審判","大分県"]
["R010448232","塚崎　高典","３級","男性","S審判","大分県"]
["R001263961","津崎　雅彦","３級","男性","S審判","大分県"]
["R005430057","辻　一陽","３級","男性","S審判","大分県"]
["R010281819","辻井　拓夢","３級","男性","S審判","大分県"]
["R001265419","津田　憲生","３級","男性","S審判","大分県"]
["R010214478","堤　晴菜","３級","女性","S審判","大分県"]
["R001263998","堤　祐慈","３級","男性","S審判","大分県"]
["R002996677","坪根　晃","３級","男性","S審判","大分県"]
["R010465621","坪根　弘希","３級","男性","S審判","大分県"]
["R001264003","津守　一雄","３級","男性","S審判","大分県"]
["R001264012","津守　正博","３級","男性","S審判","大分県"]
["R010376298","鶴田　和也","３級","男性","S審判","大分県"]
["R009408782","手島　冠","３級","男性","S審判","大分県"]
["R001264058","寺岡　富夫","３級","男性","S審判","大分県"]
["R001264049","寺岡　義彦","３級","男性","S審判","大分県"]
["R010120117","寺次　良生","３級","男性","S審判","大分県"]
["R004226749","寺本　義高","３級","男性","S審判","大分県"]
["R004111340","唐下　直之","３級","男性","S審判","大分県"]
["R010167725","東藤　正幸","３級","男性","S審判","大分県"]
["R004385653","徳永　尚也","３級","男性","S審判","大分県"]
["R002848671","徳永　浩幸","３級","男性","S審判","大分県"]
["R010189300","徳光　将太","３級","男性","S審判","大分県"]
["R001258701","都甲　昌亨","３級","男性","S審判","大分県"]
["R006220961","歳納　真人","３級","男性","S審判","大分県"]
["R010376357","戸髙　航汰","３級","男性","S審判","大分県"]
["R001258738","戸髙　博秋","３級","男性","S審判","大分県"]
["R003317354","戸伏　重治","３級","男性","S審判","大分県"]
["R010539320","冨永　憲司","３級","男性","S審判","大分県"]
["R002935472","友成　義朗","３級","男性","S審判","大分県"]
["R010542171","内藤　翔悟","３級","男性","S審判","大分県"]
["R010261477","仲　慎太郎","３級","男性","S審判","大分県"]
["R002917722","中尾　倫彰","３級","男性","S審判","大分県"]
["R002530046","中上　聡志","３級","男性","S審判","大分県"]
["R003317071","中島　圭太","３級","男性","S審判","大分県"]
["R008634681","中島　康平","３級","男性","S審判","大分県"]
["R010190757","中島　佑介","３級","男性","S審判","大分県"]
["R010007829","中島　亮太","３級","男性","S審判","大分県"]
["R002996686","中園　真栄","３級","男性","S審判","大分県"]
["R001258969","中田　邦明","３級","男性","S審判","大分県"]
["R007728804","中根　龍馬","３級","男性","S審判","大分県"]
["R001264164","仲野　昭博","３級","男性","S審判","大分県"]
["R005429893","中野　佐和三","３級","男性","S審判","大分県"]
["R010248583","中野　翔梧","３級","男性","S審判","大分県"]
["R003421310","中野　雄斗","３級","男性","S審判","大分県"]
["R001264182","中原　圭介","３級","男性","S審判","大分県"]
["R010099448","中原　丈聖","３級","男性","S審判","大分県"]
["R001265297","中村　圭一郎","３級","男性","S審判","大分県"]
["R010467628","中村　俊太","３級","男性","S審判","大分県"]
["R007959990","中村　髙峰","３級","男性","S審判","大分県"]
["R010382275","中村　友海","３級","男性","S審判","大分県"]
["R010073993","仲村　陽一郎","３級","男性","S審判","大分県"]
["R010189259","中山　修一","３級","男性","S審判","大分県"]
["R010162720","中山　桃香","３級","女性","S審判","大分県"]
["R010376274","永井　翔也","３級","男性","S審判","大分県"]
["R004111580","永井　勇司","３級","男性","S審判","大分県"]
["R001258871","長尾　信宏","３級","男性","S審判","大分県"]
["R001264128","長尾　寿郎","３級","男性","S審判","大分県"]
["R010448233","長岡　傑","３級","男性","S審判","大分県"]
["R001264137","永木　桂","３級","男性","S審判","大分県"]
["R001258978","長田　義弘","３級","男性","S審判","大分県"]
["R010074018","長門　崚太","３級","男性","S審判","大分県"]
["R008798129","長野　佳太","３級","男性","S審判","大分県"]
["R010538360","長野　高志","３級","男性","S審判","大分県"]
["R005164941","永松　真朗","３級","男性","S審判","大分県"]
["R006889108","永松　真樹","３級","女性","S審判","大分県"]
["R010306440","永芳　卓磨","３級","男性","S審判","大分県"]
["R002908335","南里　秀樹","３級","男性","S審判","大分県"]
["R001251975","西田　淳一","３級","男性","S審判","大分県"]
["R001264234","西村　誠","３級","男性","S審判","大分県"]
["R009670176","西村　竜司","３級","男性","S審判","大分県"]
["R006148515","西山　文朗","３級","男性","S審判","大分県"]
["R001259287","新田　祐一郎","３級","男性","S審判","大分県"]
["R001264252","二ノ谷　徹","３級","男性","S審判","大分県"]
["R010095349","二宮　慎太郎","３級","男性","S審判","大分県"]
["R010281856","如法寺　雅俊","３級","男性","S審判","大分県"]
["R001264289","野田　洋平","３級","男性","S審判","大分県"]
["R010214556","野中　裕介","３級","男性","S審判","大分県"]
["R007757994","野村　康佳","３級","男性","S審判","大分県"]
["R009546055","吐合　直樹","３級","男性","S審判","大分県"]
["R010027819","狭間　照央","３級","男性","S審判","大分県"]
["R010540722","橋口　大諒","３級","男性","S審判","大分県"]
["R001252017","橋本　伸太郎","３級","男性","S審判","大分県"]
["R010376361","橋本　淳平","３級","男性","S審判","大分県"]
["R008797962","橋本　葉音","３級","女性","S審判","大分県"]
["R010214541","羽田野　順一","３級","女性","S審判","大分県"]
["R001264304","羽田野　亘","３級","男性","S審判","大分県"]
["R010376277","花宮　大聖","３級","男性","S審判","大分県"]
["R001259588","浜崎　陽介","３級","男性","S審判","大分県"]
["R006221094","浜町　拓也","３級","男性","S審判","大分県"]
["R001259667","原　宏一","３級","男性","S審判","大分県"]
["R005603802","原　俊輔","３級","男性","S審判","大分県"]
["R008174365","原　貴宏","３級","男性","S審判","大分県"]
["R007003413","原田　雅也","３級","男性","S審判","大分県"]
["R007211182","原田　龍太郎","３級","男性","S審判","大分県"]
["R010067952","半谷　風花","３級","女性","S審判","大分県","沖縄県"]
["R001264359","東　和弘","３級","男性","S審判","大分県"]
["R010376324","菱川　翔平","３級","男性","S審判","大分県"]
["R006147048","姫野　一陽","３級","男性","S審判","大分県"]
["R005528307","姫野　恵一","３級","男性","S審判","大分県"]
["R006220183","姫野　航平","３級","男性","S審判","大分県"]
["R010189272","姫野　佑太郎","３級","男性","S審判","大分県"]
["R010313780","姫野　祐太朗","３級","男性","S審判","大分県"]
["R010352963","平井　彩斗","３級","男性","S審判","大分県"]
["R001259870","平岡　正広","３級","男性","S審判","大分県"]
["R003972513","平川　伸吾","３級","男性","S審判","大分県"]
["R010538358","平川　諒","３級","男性","S審判","大分県"]
["R007003501","廣瀬　惣一朗","３級","男性","S審判","大分県"]
["R001264401","廣瀬　文明","３級","男性","S審判","大分県"]
["R004386120","廣瀬　賢明","３級","男性","S審判","大分県"]
["R001264410","廣田　寧孝","３級","男性","S審判","大分県"]
["R001260070","廣戸　誠一","３級","男性","S審判","大分県"]
["R010376332","深津　弘毅","３級","男性","S審判","大分県"]
["R009197691","深堀　祥司","３級","男性","S審判","大分県"]
["R010099458","福原　元希","３級","男性","S審判","大分県"]
["R001264447","福元　研治","３級","男性","S審判","大分県"]
["R010396500","藤井　健人","３級","男性","S審判","大分県"]
["R008798183","藤田　和也","３級","男性","S審判","大分県"]
["R008798217","藤本　勝爾","３級","男性","S審判","大分県"]
["R007753819","藤本　洋","３級","男性","S審判","大分県"]
["R007335288","藤原　大輔","３級","男性","S審判","大分県"]
["R010027860","藤原　佑史朗","３級","男性","S審判","大分県"]
["R003421772","藤原　龍司","３級","男性","S審判","大分県"]
["R001264483","渕　辰雄","３級","男性","S審判","大分県"]
["R004060189","古川　高","３級","男性","S審判","大分県"]
["R001600205","古戸　雅崇","３級","男性","S審判","大分県"]
["R001264508","古畑　葵","３級","男性","S審判","大分県"]
["R001264492","古畑　翼","３級","男性","S審判","大分県"]
["R005987050","星野　敦","３級","男性","S審判","大分県"]
["R003351288","保月　寿智","３級","男性","S審判","大分県"]
["R006112343","堀内　信敏","３級","男性","S審判","大分県"]
["R006574066","本田　和也","３級","男性","S審判","大分県"]
["R010120173","本多　太郎","３級","男性","S審判","大分県"]
["R010127606","本戸　峰","３級","男性","S審判","大分県"]
["R010540713","前川　綺輝","３級","男性","S審判","大分県"]
["R007003422","前田　篤史","３級","男性","S審判","大分県"]
["R010512435","前田　裕哉","３級","男性","S審判","大分県"]
["R001260557","マガリェンス　リシャルドソン","３級","男性","S審判","大分県"]
["R001264544","牧　和志","３級","男性","S審判","大分県"]
["R007002733","柾木　洋平","３級","男性","S審判","大分県"]
["R010093436","松尾　達也","３級","男性","S審判","大分県"]
["R004793816","松下　明史","３級","男性","S審判","大分県"]
["R004055479","松下　昌史","３級","男性","S審判","大分県"]
["R009546806","松下　稜河","３級","男性","S審判","大分県"]
["R007335303","松田　稜","３級","男性","S審判","大分県"]
["R009408737","松原　亜衣","３級","女性","S審判","大分県"]
["R006220916","松原　慎也","３級","男性","S審判","大分県"]
["R010073975","松本　和也","３級","男性","S審判","大分県"]
["R010540718","松本　徹平","３級","男性","S審判","大分県"]
["R001264562","松本　光将","３級","男性","S審判","大分県"]
["R008481113","松山　和寛","３級","男性","S審判","大分県"]
["R006011372","松山　大二郎","３級","男性","S審判","大分県"]
["R001264580","真鍋　裕一","３級","男性","S審判","大分県"]
["R008515535","丸尾　諭志","３級","男性","S審判","大分県"]
["R005405699","箕迫　雄介","３級","男性","S審判","大分県"]
["R010209402","三浦　龍一","３級","男性","S審判","大分県"]
["R007003307","水口　裕太","３級","女性","S審判","大分県"]
["R008174046","溝辺　宏輝","３級","男性","S審判","大分県"]
["R002917263","溝邊　祐幸","３級","男性","S審判","大分県"]
["R001264605","御手洗　毅","３級","男性","S審判","大分県"]
["R004793658","光根　明徳","３級","男性","S審判","大分県"]
["R001264669","美濃　誠","３級","男性","S審判","大分県"]
["R004793764","三原　隼人","３級","男性","S審判","大分県"]
["R010306451","宮川　大志","３級","男性","S審判","大分県"]
["R004112057","都　学志","３級","男性","S審判","大分県"]
["R001264687","宮迫　利範","３級","男性","S審判","大分県"]
["R004385495","宮﨑　隆史","３級","男性","S審判","大分県"]
["R010099454","宮田　繁輝","３級","男性","S審判","大分県"]
["R010444497","宮原　良介","３級","男性","S審判","大分県"]
["R001252196","三好　美輝","３級","男性","S審判","大分県"]
["R010376894","向　拓磨","３級","男性","S審判","大分県"]
["R010001968","宗岡　弦徳","３級","男性","S審判","大分県"]
["R001264711","村上　一幸","３級","男性","S審判","大分県"]
["R001265118","村上　貴志","３級","男性","S審判","大分県"]
["R003350854","毛藤　勇三","３級","男性","S審判","大分県"]
["R001252220","毛利　明博","３級","男性","S審判","大分県"]
["R007705326","用松　修平","３級","男性","S審判","大分県"]
["R008173861","本末　総治朗","３級","男性","S審判","大分県"]
["R002530851","本杉　拓也","３級","男性","S審判","大分県"]
["R010540719","本村　和也","３級","男性","S審判","大分県"]
["R010189258","森　健太","３級","男性","S審判","大分県"]
["R010027876","森　隆嗣","３級","男性","S審判","大分県"]
["R007002779","森下　洋一","３級","男性","S審判","大分県"]
["R008634636","森山　幸介","３級","男性","S審判","大分県"]
["R001261398","森山　信浩","３級","男性","S審判","大分県"]
["R008798457","薬師寺　翔","３級","男性","S審判","大分県"]
["R008798314","薬師寺　亮太","３級","男性","S審判","大分県"]
["R010190754","八坂　柊","３級","男性","S審判","大分県"]
["R001264766","矢﨑　年勝","３級","男性","S審判","大分県"]
["R001264775","屋敷　伴幸","３級","男性","S審判","大分県"]
["R006093987","保田　薫","３級","男性","S審判","大分県"]
["R005527308","柳井　孝則","３級","男性","S審判","大分県"]
["R004793825","柳川　知也","３級","男性","S審判","大分県"]
["R001261477","柳本　剛","３級","男性","S審判","大分県"]
["R009197594","柳元　哲哉","３級","男性","S審判","大分県"]
["R003972443","矢野　三千生","３級","男性","S審判","大分県"]
["R004747206","山　大祐","３級","男性","S審判","大分県"]
["R001965713","山崎　和也","３級","男性","S審判","大分県"]
["R010240533","山﨑　典保","３級","男性","S審判","大分県"]
["R010363046","山崎　雅人","３級","男性","S審判","大分県"]
["R006147145","山下　省二","３級","男性","S審判","大分県"]
["R007753606","山下　直一","３級","男性","S審判","大分県"]
["R010189260","山下　泰明","３級","男性","S審判","大分県"]
["R010396589","山田　将来","３級","男性","S審判","大分県"]
["R004112011","山田　裕一","３級","男性","S審判","大分県"]
["R001252293","山中　早一郎","３級","男性","S審判","大分県"]
["R001264809","山野内　哲朗","３級","男性","S審判","大分県"]
["R005164358","山宮　俊寛","３級","男性","S審判","大分県"]
["R005603486","山本　篤","３級","男性","S審判","大分県"]
["R010189296","山本　和真","３級","男性","S審判","大分県"]
["R009581234","山本　翔平","３級","男性","S審判","大分県"]
["R008626886","山本　真乃介","３級","男性","S審判","大分県"]
["R010281871","山本　青","３級","男性","S審判","大分県"]
["R001252336","山本　貴志","３級","男性","S審判","大分県"]
["R010313746","山本　崇史","３級","男性","S審判","大分県"]
["R003351093","山本　哲司","３級","男性","S審判","大分県"]
["R004111562","山本　悠司","３級","男性","S審判","大分県"]
["R001264836","幸　靖博","３級","男性","S審判","大分県"]
["R001261778","湯田　浩士","３級","男性","S審判","大分県"]
["R008515553","柚木　徹也","３級","男性","S審判","大分県"]
["R003421374","横山　解史","３級","男性","S審判","大分県"]
["R010382662","吉賀　洸貴","３級","男性","S審判","大分県"]
["R001264854","吉田　栄治","３級","男性","S審判","大分県"]
["R003972665","吉田　大助","３級","男性","S審判","大分県"]
["R007090686","吉元　健太朗","３級","男性","S審判","大分県"]
["R003421541","四元　厚次","３級","男性","S審判","大分県"]
["R001264872","脇　雄洋","３級","男性","S審判","大分県"]
["R006220378","和喜田　拓","３級","男性","S審判","大分県"]
["R004386218","和才　幸司","３級","男性","S審判","大分県"]
["R007757657","渡辺　敬亮","３級","男性","S審判","大分県"]
["R010113537","渡邉　鷹也","３級","男性","S審判","大分県"]
["R010007794","渡邉　卓人","３級","男性","S審判","大分県"]
["R001262111","渡辺　陽一郎","３級","男性","S審判","大分県"]
["R001252390","渡里　賢人","３級","男性","S審判","大分県"]
["R007729070","和田　健一郎","３級","男性","S審判","大分県"]
["R001264890","和田　健二","３級","男性","S審判","大分県"]
["R010090347","和田　行祐","３級","男性","S審判","大分県"]
["R001869127","和田　浩","３級","男性","S審判","大分県"]
["R010352964","相澤　星空","４級","男性","S審判","大分県"]
["R010583777","藍澤　祐人","４級","男性","S審判","大分県"]
["R010538349","藍島　司","４級","男性","S審判","大分県"]
["R010303870","相原　良哉","４級","男性","S審判","大分県"]
["R010083876","相部　直輝","４級","男性","S審判","大分県"]
["R010576521","青木　翔大","４級","男性","S審判","大分県"]
["R010262588","青松　来樹","４級","男性","S審判","大分県"]
["R010432641","青松　琉","４級","男性","S審判","大分県"]
["R010120118","青山　義男","４級","男性","S審判","大分県"]
["R010189294","赤木　修二","４級","男性","S審判","大分県"]
["R010448637","赤木　陽斗","４級","男性","S審判","大分県"]
["R010542183","赤坂　謙弥","４級","男性","S審判","大分県"]
["R010396550","赤田　椋","４級","男性","S審判","大分県"]
["R010586321","赤野　陽亮","４級","男性","S審判","大分県"]
["R001252947","赤星　勝","４級","男性","S審判","大分県"]
["R010576578","赤間　祐稀","４級","男性","S審判","大分県"]
["R010538396","赤峰　功己","４級","男性","S審判","大分県"]
["R008174028","赤嶺　一宇","４級","男性","S審判","大分県"]
["R010542186","赤峰　一弥","４級","男性","S審判","大分県"]
["R010467250","赤嶺　翔哉","４級","男性","S審判","大分県"]
["R010093427","赤峯　慎太郎","４級","男性","S審判","大分県"]
["R010599603","赤嶺　智輝","４級","男性","S審判","大分県"]
["R010445855","赤嶺　瞭","４級","男性","S審判","大分県"]
["R010396556","阿賀　匠","４級","男性","S審判","大分県"]
["R010386813","秋月　来望","４級","女性","S審判","大分県"]
["R005603884","秋月　将吾","４級","男性","S審判","大分県"]
["R010588866","秋廣　涼介","４級","男性","S審判","大分県"]
["R010579103","秋吉　真怜","４級","男性","S審判","大分県"]
["R010583774","麻川　琉真","４級","男性","S審判","大分県"]
["R010594967","安里　耀","４級","男性","S審判","大分県"]
["R001254990","朝山　睦夫","４級","男性","S審判","大分県"]
["R010581182","畔津　大治郎","４級","男性","S審判","大分県"]
["R010593967","麻生　庵","４級","男性","S審判","大分県"]
["R010538302","麻生　元太","４級","男性","S審判","大分県"]
["R010594953","麻生　大雅","４級","男性","S審判","大分県"]
["R010538351","麻生　政裕","４級","男性","S審判","大分県"]
["R010597287","麻生　陸斗","４級","男性","S審判","大分県"]
["R010001949","麻生　凜太郎","４級","男性","S審判","大分県"]
["R010467586","足立　桜太郎","４級","男性","S審判","大分県"]
["R010449911","安達　健太","４級","男性","S審判","大分県"]
["R010538347","安達　隼平","４級","男性","S審判","大分県"]
["R010376316","安達　勉","４級","男性","S審判","大分県"]
["R010588865","足立　暖和","４級","男性","S審判","大分県"]
["R010538384","足立　悠真","４級","男性","S審判","大分県"]
["R010467631","足立　陸矩","４級","男性","S審判","大分県"]
["R010579110","阿地　優斗","４級","男性","S審判","大分県"]
["R010391961","穴井　康太","４級","男性","S審判","大分県"]
["R010576563","穴井　愛都","４級","男性","S審判","大分県"]
["R010281862","阿南　理奈","４級","女性","S審判","大分県"]
["R010539283","穴見　倫太郎","４級","男性","S審判","大分県"]
["R010540699","阿南　幸輝","４級","男性","S審判","大分県"]
["R010376330","阿南　広太朗","４級","男性","S審判","大分県"]
["R010388048","阿部　佑京","４級","男性","S審判","大分県"]
["R010539271","阿部　開世","４級","男性","S審判","大分県"]
["R010093439","阿部　和明","４級","男性","S審判","大分県"]
["R010376299","阿部　斡汰","４級","男性","S審判","大分県"]
["R010396564","阿部　凱斗","４級","男性","S審判","大分県"]
["R010581165","阿部　恭兵","４級","男性","S審判","大分県"]
["R010396552","阿部　賢次","４級","男性","S審判","大分県"]
["R010581169","安部　幸一","４級","男性","S審判","大分県"]
["R010167792","安部　航生","４級","男性","S審判","大分県"]
["R010538373","阿部　航大","４級","男性","S審判","大分県"]
["R001253344","阿部　哲士","４級","男性","S審判","大分県"]
["R010540696","安部　仁太","４級","男性","S審判","大分県"]
["R010576373","安部　奏輝","４級","男性","S審判","大分県"]
["R010027824","安部　太貴","４級","男性","S審判","大分県"]
["R001253326","阿部　孝之","４級","男性","S審判","大分県"]
["R010376264","阿部　年男","４級","男性","S審判","大分県"]
["R010167738","安倍　俊之","４級","男性","S審判","大分県"]
["R010445852","阿部　那紀","４級","男性","S審判","大分県"]
["R010167799","安倍　虎ノ介","４級","男性","S審判","大分県"]
["R010593126","阿部　直斗","４級","男性","S審判","大分県"]
["R010538320","阿部　渚","４級","男性","S審判","大分県"]
["R010581180","阿部　夏樹","４級","男性","S審判","大分県"]
["R010579147","安部　隼","４級","男性","S審判","大分県"]
["R010593966","安部　颯将","４級","男性","S審判","大分県"]
["R010599188","安部　広樹","４級","男性","S審判","大分県"]
["R010549370","安部　美優","４級","女性","S審判","大分県"]
["R010314829","安部　湧紀","４級","男性","S審判","大分県"]
["R010579063","安部　凛音","４級","男性","S審判","大分県"]
["R010259438","安部　陸翔","４級","男性","S審判","大分県"]
["R010579109","阿部　竜樹","４級","男性","S審判","大分県"]
["R010415886","阿部　涼","４級","男性","S審判","大分県"]
["R010588881","天野　俊","４級","男性","S審判","大分県"]
["R010350226","荒川　幸大","４級","男性","S審判","大分県"]
["R010542167","荒金　洋一","４級","男性","S審判","大分県"]
["R001253423","荒巻　成志","４級","男性","S審判","大分県"]
["R008798165","荒巻　恭貴","４級","男性","S審判","大分県"]
["R010552543","新本　崇翔","４級","男性","S審判","大分県"]
["R007002715","有門　寿","４級","男性","S審判","大分県"]
["R010189315","有須田　和宏","４級","男性","S審判","大分県"]
["R010538332","有田　祥太朗","４級","男性","S審判","大分県"]
["R010396506","有田　伸司","４級","男性","S審判","大分県"]
["R010123024","有田　利広","４級","男性","S審判","大分県"]
["R010445844","有田　陽翔","４級","男性","S審判","大分県"]
["R010376343","有次　奏太朗","４級","男性","S審判","大分県"]
["R010519836","有馬　綾音","４級","女性","S審判","大分県"]
["R006125763","有村　光史","４級","男性","S審判","大分県"]
["R010552552","有村　連空瑠","４級","男性","S審判","大分県"]
["R010448639","有吉　敦弘","４級","男性","S審判","大分県"]
["R010189282","安達　羽海","４級","女性","S審判","大分県"]
["R010214574","安達　巧馬","４級","男性","S審判","大分県"]
["R010356117","安達　帆海","４級","女性","S審判","大分県"]
["R010546267","安藤　歩樹","４級","男性","S審判","大分県"]
["R010579124","安東　聖輝","４級","男性","S審判","大分県"]
["R010243643","安道　健斗","４級","男性","S審判","大分県"]
["R007959158","安東　弘貴","４級","男性","S審判","大分県"]
["R010357150","安藤　幸志郎","４級","男性","S審判","大分県"]
["R010047303","安東　湖楠","４級","男性","S審判","大分県"]
["R010376281","安藤　繁","４級","男性","S審判","大分県"]
["R010432650","安東　慎平","４級","男性","S審判","大分県"]
["R010453595","安東　壮大","４級","男性","S審判","大分県"]
["R010243657","安藤　大河","４級","男性","S審判","大分県"]
["R010453596","安藤　尊司","４級","男性","S審判","大分県"]
["R010538292","安藤　卓也","４級","男性","S審判","大分県"]
["R010539276","安東　龍秀","４級","男性","S審判","大分県"]
["R010444509","安東　翼輝","４級","男性","S審判","大分県"]
["R010598060","安藤　真輝","４級","男性","S審判","大分県"]
["R010352995","安東　恭範","４級","男性","S審判","大分県"]
["R010161902","安藤　幸歩","４級","女性","S審判","大分県"]
["R010416216","安藤　梨愛","４級","女性","S審判","大分県"]
["R010538315","安藤　綾太","４級","男性","S審判","大分県"]
["R010588873","安藤　亮太","４級","男性","S審判","大分県"]
["R002530383","阿武　志郎","４級","男性","S審判","大分県"]
["R010586301","安部　颯","４級","男性","S審判","大分県"]
["R010540070","安養寺　伸也","４級","男性","S審判","大分県"]
["R010576571","井伊　祐月","４級","男性","S審判","大分県"]
["R001253584","飯倉　洋介","４級","男性","S審判","大分県"]
["R010538371","伊井野　大翔","４級","男性","S審判","大分県"]
["R010281883","飯干　遼飛","４級","男性","S審判","大分県"]
["R010352961","五十川　大雅","４級","男性","S審判","大分県"]
["R010189286","伊賀　隆博","４級","男性","S審判","大分県"]
["R010347366","池上　剛司","４級","男性","S審判","大分県"]
["R010588864","池口　海","４級","男性","S審判","大分県"]
["R010599585","池崎　聖矢","４級","男性","S審判","大分県"]
["R010576390","池崎　倶矢","４級","男性","S審判","大分県"]
["R006848873","池田　敏明","４級","男性","S審判","大分県"]
["R010391943","池田　洋明","４級","男性","S審判","大分県"]
["R005603662","池田　雅俊","４級","男性","S審判","大分県"]
["R008649124","池田　愛都","４級","男性","S審判","大分県"]
["R010347369","池田　未來都","４級","男性","S審判","大分県"]
["R010586288","池田　来輝","４級","男性","S審判","大分県"]
["R010594949","池田　琉生","４級","男性","S審判","大分県"]
["R006937229","池田　航","４級","男性","S審判","大分県"]
["R010396532","池永　壮佑","４級","男性","S審判","大分県"]
["R010390444","池邉　楓","４級","男性","S審判","大分県"]
["R010189318","池邉　晋","４級","男性","S審判","大分県"]
["R010356113","池辺　青那","４級","男性","S審判","大分県"]
["R010281879","池辺　雅也","４級","男性","S審判","大分県"]
["R010448939","池部　愛和","４級","男性","S審判","大分県"]
["R010588872","池邉　結斗","４級","男性","S審判","大分県"]
["R010263778","伊﨑　陸人","４級","男性","S審判","大分県"]
["R010347367","諫山　鮎斗","４級","男性","S審判","大分県"]
["R010588868","諌山　蒼空","４級","男性","S審判","大分県"]
["R010538324","諌山　巧","４級","男性","S審判","大分県"]
["R010579087","諌山　琉生","４級","男性","S審判","大分県"]
["R001253681","石井　重人","４級","男性","S審判","大分県"]
["R010467695","石井　綾汰","４級","男性","S審判","大分県"]
["R010391913","石井　伶弥","４級","男性","S審判","大分県"]
["R010546324","石川　凰太","４級","男性","S審判","大分県"]
["R009198399","石川　誠司","４級","男性","S審判","大分県"]
["R010352993","石川　高光","４級","男性","S審判","大分県"]
["R010576384","石川　唯斗","４級","男性","S審判","大分県"]
["R010586289","石川　遥大","４級","男性","S審判","大分県"]
["R010248588","石川　嶺瑠","４級","男性","S審判","大分県"]
["R010538393","石﨑　蒼大","４級","男性","S審判","大分県"]
["R010579090","石田　昭宏","４級","男性","S審判","大分県"]
["R010539281","石田　亮太","４級","男性","S審判","大分県"]
["R010593138","石濱　槙之助","４級","男性","S審判","大分県"]
["R010576564","石橋　弓斗","４級","男性","S審判","大分県"]
["R001253751","石松　大輔","４級","男性","S審判","大分県"]
["R010540725","石丸　皇","４級","男性","S審判","大分県"]
["R010281873","石本　和廣","４級","男性","S審判","大分県"]
["R010546289","石本　知之介","４級","男性","S審判","大分県"]
["R010583784","石本　星七","４級","男性","S審判","大分県"]
["R010214555","石本　渉","４級","男性","S審判","大分県"]
["R010576547","石山　友樹","４級","男性","S審判","大分県"]
["R010415906","泉　颯飛","４級","男性","S審判","大分県"]
["R004714712","和泉　宜幸","４級","男性","S審判","大分県"]
["R010552538","和泉　宏幸","４級","男性","S審判","大分県"]
["R010376313","泉　佑史朗","４級","男性","S審判","大分県"]
["R010540697","板井　愛之助","４級","男性","S審判","大分県"]
["R010576362","板井　航一","４級","男性","S審判","大分県"]
["R010007837","板井　裕樹","４級","男性","S審判","大分県"]
["R010583215","板井　勇樹","４級","男性","S審判","大分県"]
["R010451966","市川　大馳","４級","男性","S審判","大分県"]
["R010583775","市川　友翔","４級","男性","S審判","大分県"]
["R010552568","市川　嘉樹","４級","男性","S審判","大分県"]
["R010599593","一木　凱斗","４級","男性","S審判","大分県"]
["R010255165","市原　佳典","４級","男性","S審判","大分県"]
["R010546269","市原　龍生","４級","男性","S審判","大分県"]
["R010189278","一丸　顕範","４級","男性","S審判","大分県"]
["R010016111","一万田　陸","４級","男性","S審判","大分県"]
["R007090808","一法師　直喜","４級","男性","S審判","大分県"]
["R010261617","井手　智貴","４級","男性","S審判","大分県"]
["R010453585","出田　竣","４級","男性","S審判","大分県"]
["R008797926","出田　武","４級","男性","S審判","大分県"]
["R010281846","伊藤　魁","４級","男性","S審判","大分県"]
["R010588856","伊東　海星","４級","男性","S審判","大分県"]
["R010259419","伊東　健一","４級","男性","S審判","大分県"]
["R010376272","伊藤　賢治","４級","男性","S審判","大分県"]
["R010214557","伊東　健太郎","４級","男性","S審判","大分県"]
["R010281832","伊藤　浩介","４級","男性","S審判","大分県"]
["R010546276","伊東　将星","４級","男性","S審判","大分県"]
["R007959699","伊東　昇太郎","４級","男性","S審判","大分県"]
["R010386818","伊藤　聖菜","４級","女性","S審判","大分県"]
["R010243640","伊東　蒼馬","４級","男性","S審判","大分県"]
["R010448920","伊藤　竜希","４級","男性","S審判","大分県"]
["R010600675","伊東　直人","４級","男性","S審判","大分県"]
["R010576380","伊東　春道","４級","男性","S審判","大分県"]
["R010448642","伊藤　光琉","４級","男性","S審判","大分県"]
["R009408898","伊藤　秀征","４級","男性","S審判","大分県"]
["R010416225","伊藤　大翔","４級","男性","S審判","大分県"]
["R010599606","伊藤　勇汰","４級","男性","S審判","大分県"]
["R010579081","伊藤　瑠","４級","男性","S審判","大分県"]
["R010281816","糸永　泰樹","４級","男性","S審判","大分県"]
["R010539934","稲熊　勇成","４級","男性","S審判","大分県","福岡県"]
["R010583769","稲葉　巧真","４級","男性","S審判","大分県"]
["R010390419","稲吉　椋斗","４級","男性","S審判","大分県"]
["R010546317","犬塚　惺哉","４級","男性","S審判","大分県"]
["R008523312","井上　海","４級","男性","S審判","大分県"]
["R010067951","井上　彩","４級","女性","S審判","大分県"]
["R010347361","井上　太凱","４級","男性","S審判","大分県"]
["R010586717","井上　陽翔","４級","男性","S審判","大分県"]
["R010243651","井上　拓哉","４級","男性","S審判","大分県"]
["R010141818","井上　直之","４級","男性","S審判","大分県"]
["R010396596","井上　凌汰","４級","男性","S審判","大分県"]
["R010376263","井上　航","４級","男性","S審判","大分県"]
["R010396526","猪原　虹輝","４級","男性","S審判","大分県"]
["R010581163","猪原　康弘","４級","男性","S審判","大分県"]
["R010465598","井福　晃紀","４級","男性","S審判","大分県"]
["R010576558","井堀　弘晶","４級","男性","S審判","大分県"]
["R010451963","今井　優人","４級","男性","S審判","大分県"]
["R010538348","今田　優太","４級","男性","S審判","大分県"]
["R010542169","今富　康平","４級","男性","S審判","大分県"]
["R010386817","今村　咲羽","４級","女性","S審判","大分県"]
["R010141834","今村　蓮","４級","男性","S審判","大分県"]
["R010599871","今村　蓮","４級","男性","S審判","大分県"]
["R006220624","今本　展也","４級","男性","S審判","大分県"]
["R010444518","今山　碧雪","４級","男性","S審判","大分県"]
["R010579071","芋岡　克征","４級","男性","S審判","大分県"]
["R010579070","芋岡　翼","４級","男性","S審判","大分県"]
["R010354819","井元　禅","４級","男性","S審判","大分県"]
["R010448932","岩男　柊人","４級","男性","S審判","大分県"]
["R010445832","岩尾　槙之助","４級","男性","S審判","大分県"]
["R010465585","岩男　冬喜","４級","男性","S審判","大分県"]
["R010352951","岩尾　誠","４級","男性","S審判","大分県"]
["R010056098","岩尾　勇吾","４級","男性","S審判","大分県"]
["R010538374","岩坂　遥斗","４級","男性","S審判","大分県"]
["R010465578","岩坂　浩行","４級","男性","S審判","大分県"]
["R010100663","岩崎　晋也","４級","男性","S審判","大分県"]
["R010465595","岩崎　俊","４級","男性","S審判","大分県"]
["R001254185","岩崎　利勝","４級","男性","S審判","大分県"]
["R010599609","岩﨑　嘉人","４級","男性","S審判","大分県"]
["R010586310","岩﨑　蓮武","４級","男性","S審判","大分県"]
["R007959176","岩田　進","４級","男性","S審判","大分県"]
["R010376292","岩田　拓也","４級","男性","S審判","大分県"]
["R010396598","岩田　和海","４級","女性","S審判","大分県"]
["R010453588","岩田　晃輝","４級","男性","S審判","大分県"]
["R010306436","岩田　優佑","４級","男性","S審判","大分県"]
["R010007818","岩戸　敦史","４級","男性","S審判","大分県"]
["R010189261","岩永　和馬","４級","男性","S審判","大分県"]
["R010376282","岩野　貴文","４級","男性","S審判","大分県"]
["R010248570","岩丸　英治","４級","男性","S審判","大分県"]
["R010546284","岩丸　陽斗","４級","男性","S審判","大分県"]
["R010579130","岩丸　虎雅","４級","男性","S審判","大分県"]
["R006314464","岩丸　博季","４級","男性","S審判","大分県"]
["R010432625","石見　祐人","４級","男性","S審判","大分県"]
["R010576577","岩村　昂政","４級","男性","S審判","大分県"]
["R010593139","岩本　健太郎","４級","男性","S審判","大分県"]
["R010448635","岩本　好誠","４級","男性","S審判","大分県"]
["R010599607","岩本　翔太郎","４級","男性","S審判","大分県"]
["R010579092","岩本　武史","４級","男性","S審判","大分県"]
["R010432609","岩本　将也","４級","男性","S審判","大分県"]
["R010583770","岩本　凌真","４級","男性","S審判","大分県"]
["R004111410","上尾　雅彰","４級","男性","S審判","大分県"]
["R008480956","植垣　秀人","４級","男性","S審判","大分県"]
["R010159752","植木　莉香","４級","女性","S審判","大分県"]
["R010391923","上栗　一将","４級","男性","S審判","大分県"]
["R010453593","上園　大和","４級","男性","S審判","大分県"]
["R008797944","上田　晃","４級","男性","S審判","大分県"]
["R010248034","上田　翔聖","４級","男性","S審判","大分県"]
["R010552531","上田　龍汰","４級","男性","S審判","大分県"]
["R010599597","上地　康太","４級","男性","S審判","大分県"]
["R010552551","上野　海翔","４級","男性","S審判","大分県"]
["R010576555","上野　玄貴","４級","男性","S審判","大分県"]
["R001251133","上野　貴士","４級","男性","S審判","大分県"]
["R010386808","上野　仁胡","４級","女性","S審判","大分県"]
["R010579101","上野　悠陽","４級","男性","S審判","大分県"]
["R010313761","上野　亮司","４級","男性","S審判","大分県"]
["R010552534","上野　蓮","４級","男性","S審判","大分県"]
["R010354664","上村　俊介","４級","男性","S審判","大分県"]
["R007959617","上屋　守","４級","男性","S審判","大分県"]
["R010599180","宇木　聖ニ","４級","男性","S審判","大分県"]
["R010579053","宇佐川　蓮太郎","４級","男性","S審判","大分県"]
["R010593119","氏田　洵悠","４級","男性","S審判","大分県"]
["R010432630","臼井　宏亮","４級","男性","S審判","大分県"]
["R010448923","歌　好陸","４級","男性","S審判","大分県"]
["R010448252","内田　花音","４級","女性","S審判","大分県"]
["R007728549","内田　公夫","４級","男性","S審判","大分県"]
["R010599587","内田　聖人","４級","男性","S審判","大分県"]
["R010599189","内田　孝介","４級","男性","S審判","大分県"]
["R010542199","内田　真悟","４級","男性","S審判","大分県"]
["R010396563","内田　颯太","４級","男性","S審判","大分県"]
["R010552535","内田　徹","４級","男性","S審判","大分県"]
["R010549367","内田　真緒","４級","女性","S審判","大分県"]
["R010396587","内田　結也","４級","男性","S審判","大分県"]
["R010376341","内海　優斗","４級","男性","S審判","大分県"]
["R010391966","有働　洋匡","４級","男性","S審判","大分県"]
["R010542180","宇野　駿佑","４級","男性","S審判","大分県"]
["R010313767","梅木　裕斗","４級","男性","S審判","大分県"]
["R010214530","梅木　悠也","４級","男性","S審判","大分県"]
["R010586729","梅田　尚弥","４級","男性","S審判","大分県"]
["R010586726","梅田　侑虎","４級","男性","S審判","大分県"]
["R010120178","梅田　竜一","４級","男性","S審判","大分県"]
["R010128054","梅津　瑠暉","４級","男性","S審判","大分県"]
["R010594966","梅野　歩","４級","男性","S審判","大分県"]
["R010448930","梅本　琉成","４級","男性","S審判","大分県"]
["R006093729","浦部　信哉","４級","男性","S審判","大分県"]
["R010357998","浦邊　剛史","４級","男性","S審判","大分県"]
["R010588875","浦本　心?","４級","男性","S審判","大分県"]
["R010594947","浦本　優心","４級","男性","S審判","大分県"]
["R010352945","瓜生　一裕","４級","男性","S審判","大分県"]
["R010600681","漆間　泰我","４級","男性","S審判","大分県"]
["R001254431","漆間　大士","４級","男性","S審判","大分県"]
["R010594965","上船　賢史朗","４級","男性","S審判","大分県"]
["R010542179","永路　拓実","４級","男性","S審判","大分県"]
["R010391964","江頭　京佑","４級","男性","S審判","大分県"]
["R010255169","江頭　徳也","４級","男性","S審判","大分県"]
["R010538307","江上　颯太","４級","男性","S審判","大分県"]
["R010120137","江上　智啓","４級","男性","S審判","大分県"]
["R010576560","江川　脩斗","４級","男性","S審判","大分県"]
["R010538296","江川　題磯","４級","男性","S審判","大分県"]
["R010391938","江口　大貴","４級","男性","S審判","大分県"]
["R010594948","江口　成","４級","男性","S審判","大分県"]
["R010546298","江口　光翔","４級","男性","S審判","大分県"]
["R010468356","江口　烈史","４級","男性","S審判","大分県"]
["R010002119","江隈　健斗","４級","男性","S審判","大分県"]
["R010445849","江島　迅人","４級","男性","S審判","大分県"]
["R010169060","江島　礼奈斗","４級","男性","S審判","大分県"]
["R010538368","衛藤　朱翔","４級","男性","S審判","大分県"]
["R010552544","衛藤　庵","４級","男性","S審判","大分県"]
["R004653305","衛藤　和憲","４級","男性","S審判","大分県"]
["R008634274","江藤　恭平","４級","男性","S審判","大分県"]
["R010444502","衞藤　公助","４級","男性","S審判","大分県"]
["R010396518","江藤　真一","４級","男性","S審判","大分県"]
["R010552564","恵藤　蒼太","４級","男性","S審判","大分県"]
["R010465589","江藤　貴司","４級","男性","S審判","大分県"]
["R010467579","江藤　大智","４級","男性","S審判","大分県"]
["R010588854","江藤　司","４級","男性","S審判","大分県"]
["R007959796","衛藤　智成","４級","男性","S審判","大分県"]
["R010393994","衛藤　七海","４級","女性","S審判","大分県"]
["R007728983","衛藤　秀高","４級","男性","S審判","大分県"]
["R010600680","江藤　優希","４級","男性","S審判","大分県"]
["R010444516","江藤　璃大","４級","男性","S審判","大分県"]
["R010432648","衛藤　亮佑","４級","男性","S審判","大分県"]
["R010391940","江藤　蓮","４級","男性","S審判","大分県"]
["R010538319","江戸　利樹","４級","男性","S審判","大分県"]
["R010583796","江良　明俊","４級","男性","S審判","大分県"]
["R010354795","遠藤　翔大","４級","男性","S審判","大分県"]
["R003350881","遠藤　朝春","４級","男性","S審判","大分県"]
["R010352962","遠藤　優翔","４級","男性","S審判","大分県"]
["R010432619","遠藤　之仁","４級","男性","S審判","大分県"]
["R010599591","遠藤　了彩","４級","男性","S審判","大分県"]
["R001254583","大芦　佳宏","４級","男性","S審判","大分県"]
["R010189313","大石　周弥","４級","男性","S審判","大分県"]
["R010313760","大石　琢斗","４級","男性","S審判","大分県"]
["R010027883","大石　拓也","４級","男性","S審判","大分県"]
["R010027821","大石　正雄","４級","男性","S審判","大分県"]
["R010586290","大内　隆之介","４級","男性","S審判","大分県"]
["R010453598","大川内　太陸","４級","男性","S審判","大分県"]
["R010588859","大城　悠史","４級","男性","S審判","大分県"]
["R010576570","大久保　彩斗","４級","男性","S審判","大分県"]
["R010576382","大久保　宙","４級","男性","S審判","大分県"]
["R005430163","大久保　広紀","４級","男性","S審判","大分県"]
["R010351382","大久保　優心","４級","男性","S審判","大分県"]
["R010546336","大久保　律輝","４級","男性","S審判","大分県"]
["R010538299","大倉　舜佑","４級","男性","S審判","大分県"]
["R010542173","大島　和暖","４級","男性","S審判","大分県"]
["R010540701","太田　陽己","４級","男性","S審判","大分県"]
["R010248567","太田　祐希","４級","男性","S審判","大分県"]
["R010593121","太田　悠斗","４級","男性","S審判","大分県"]
["R010159132","大谷　幸希","４級","男性","S審判","大分県"]
["R010583773","大谷　悟史","４級","男性","S審判","大分県"]
["R010388043","大谷　宗太郎","４級","男性","S審判","大分県"]
["R010576359","大谷　琉惺","４級","男性","S審判","大分県"]
["R010465580","大津　俊一","４級","男性","S審判","大分県"]
["R010376317","大津　匠司","４級","男性","S審判","大分県"]
["R010396538","大塚　紀彰","４級","男性","S審判","大分県"]
["R010167737","大塚　誠也","４級","男性","S審判","大分県"]
["R005528130","大塚　丈司","４級","男性","S審判","大分県"]
["R010281805","大塚　雅基","４級","男性","S審判","大分県"]
["R010415890","大塚　涼平","４級","男性","S審判","大分県"]
["R010579043","大坪　俊介","４級","男性","S審判","大分県"]
["R010159757","大津留　康代","４級","女性","S審判","大分県"]
["R010546288","大戸　朝陽","４級","男性","S審判","大分県"]
["R010243638","大友　開晴","４級","男性","S審判","大分県"]
["R010576517","大友　海翔","４級","男性","S審判","大分県"]
["R010314820","大友　尋平","４級","男性","S審判","大分県"]
["R010390431","大友　響姫","４級","女性","S審判","大分県"]
["R010599580","大西　ルイス","４級","男性","S審判","大分県"]
["R010586295","大橋　凪","４級","男性","S審判","大分県"]
["R010583799","大橋　颯","４級","男性","S審判","大分県"]
["R010538317","大原　光人","４級","男性","S審判","大分県"]
["R010444521","大庭　弘暉","４級","男性","S審判","大分県"]
["R010538289","大場　将公","４級","男性","S審判","大分県"]
["R010586303","大平　瑛翔","４級","男性","S審判","大分県"]
["R010579089","大平　聖也","４級","男性","S審判","大分県"]
["R010546281","大室　響","４級","男性","S審判","大分県"]
["R010546319","大森　宗樹","４級","男性","S審判","大分県"]
["R010214576","大屋　楓真","４級","男性","S審判","大分県"]
["R010576529","大山　純一郎","４級","男性","S審判","大分県"]
["R010599592","大山　弘貴","４級","男性","S審判","大分県"]
["R010214611","岡　正一郎","４級","男性","S審判","大分県"]
["R010549366","岡　誉","４級","女性","S審判","大分県"]
["R010539277","岡崎　碧","４級","男性","S審判","大分県"]
["R010538342","岡崎　広夢","４級","男性","S審判","大分県"]
["R010255182","岡田　一輝","４級","男性","S審判","大分県"]
["R010083849","岡田　幸太郎","４級","男性","S審判","大分県"]
["R005987412","岡田　隆行","４級","男性","S審判","大分県"]
["R010538361","岡田　凜空","４級","男性","S審判","大分県"]
["R005603200","岡田　涼平","４級","男性","S審判","大分県"]
["R010593131","岡野　太一","４級","男性","S審判","大分県"]
["R010552577","岡野　直人","４級","男性","S審判","大分県"]
["R010391965","岡野　凜平","４級","男性","S審判","大分県"]
["R010248029","岡部　純大","４級","男性","S審判","大分県"]
["R010391957","岡部　巧武","４級","男性","S審判","大分県"]
["R010513151","岡村　勇輝","４級","男性","S審判","大分県"]
["R010599183","岡村　綾斗","４級","男性","S審判","大分県"]
["R010538298","岡本　和也","４級","男性","S審判","大分県"]
["R010538377","岡本　健司","４級","男性","S審判","大分県"]
["R010546287","岡本　颯真","４級","男性","S審判","大分県"]
["R010453578","岡本　登揮","４級","男性","S審判","大分県"]
["R010376290","岡本　英明","４級","男性","S審判","大分県"]
["R010538294","岡本　優","４級","男性","S審判","大分県"]
["R010579059","岡本　有人","４級","男性","S審判","大分県"]
["R010214449","岡本　陸","４級","男性","S審判","大分県"]
["R010581161","小笠原　祐太","４級","男性","S審判","大分県"]
["R010538549","緒方　謙伍","４級","男性","S審判","大分県"]
["R010415912","小川　杏汰","４級","男性","S審判","大分県"]
["R010542213","小川　騎立","４級","男性","S審判","大分県"]
["R006901570","小川　健二","４級","男性","S審判","大分県"]
["R010255177","小川　航平","４級","男性","S審判","大分県"]
["R010465920","小川　遥暉","４級","男性","S審判","大分県"]
["R010579067","小川　祐二","４級","男性","S審判","大分県"]
["R010391951","荻本　翔","４級","男性","S審判","大分県"]
["R010583771","荻本　玲也","４級","男性","S審判","大分県"]
["R010579151","奥　祐翔","４級","男性","S審判","大分県"]
["R010314808","於久　流絆晟","４級","男性","S審判","大分県"]
["R010351378","奥田　翔太","４級","男性","S審判","大分県"]
["R010546302","奥田　哲平","４級","男性","S審判","大分県"]
["R010579126","奥田　智己","４級","男性","S審判","大分県"]
["R001254972","奥野　真一郎","４級","男性","S審判","大分県"]
["R010599179","奥村　祐利","４級","男性","S審判","大分県"]
["R010189264","小栗　貴成","４級","男性","S審判","大分県"]
["R010594941","桶舎　龍斗","４級","男性","S審判","大分県"]
["R010415897","長田　知樹","４級","男性","S審判","大分県"]
["R010099447","小澤　剛史","４級","男性","S審判","大分県"]
["R010501273","押田　卓","４級","男性","S審判","大分県"]
["R009546064","小田　邦昭","４級","男性","S審判","大分県"]
["R010167750","小田　晴日","４級","男性","S審判","大分県"]
["R010465611","小田巻　裕二","４級","男性","S審判","大分県"]
["R010586294","小野　陽士","４級","男性","S審判","大分県"]
["R010358202","小野　敦司","４級","男性","S審判","大分県"]
["R010546323","小野　奏音","４級","男性","S審判","大分県"]
["R010549371","小野　華凜","４級","女性","S審判","大分県"]
["R010538304","小野　柑太","４級","男性","S審判","大分県"]
["R004385936","小野　耕一","４級","男性","S審判","大分県"]
["R010214597","小野　煌平","４級","男性","S審判","大分県"]
["R010281854","小野　翔希","４級","男性","S審判","大分県"]
["R010281828","小野　将司","４級","男性","S審判","大分県"]
["R010465619","小野　翔馬","４級","男性","S審判","大分県"]
["R010579120","小野　大斗","４級","男性","S審判","大分県"]
["R010583800","小野　拓馬","４級","男性","S審判","大分県"]
["R010579065","小野　拓海","４級","男性","S審判","大分県"]
["R010248584","小野　天海","４級","男性","S審判","大分県"]
["R010388059","小野　翔希斗","４級","男性","S審判","大分県"]
["R010539289","小野　陽大","４級","男性","S審判","大分県"]
["R010313764","小野　仁志","４級","男性","S審判","大分県"]
["R010120112","小野　広道","４級","男性","S審判","大分県"]
["R010093504","小野　裕希","４級","男性","S審判","大分県"]
["R010100673","小野　裕司","４級","男性","S審判","大分県"]
["R010467578","小野　悠太郎","４級","男性","S審判","大分県"]
["R010445846","小野　佑馬","４級","男性","S審判","大分県"]
["R010445830","小野　陽祐","４級","男性","S審判","大分県"]
["R010376315","小野　祥弘","４級","男性","S審判","大分県"]
["R010354804","小野　龍ノ介","４級","男性","S審判","大分県"]
["R010539275","小野　羚稀","４級","男性","S審判","大分県"]
["R010432633","小野　蓮央","４級","男性","S審判","大分県"]
["R010357148","小野　蓮斗","４級","男性","S審判","大分県"]
["R010538329","小原　世楠","４級","男性","S審判","大分県"]
["R010167812","小原　優斗","４級","男性","S審判","大分県"]
["R010586720","小畑　歩来","４級","男性","S審判","大分県"]
["R006574048","尾林　秀章","４級","男性","S審判","大分県"]
["R010586330","小俣　慶一郎","４級","男性","S審判","大分県"]
["R010352968","尾本　想太","４級","男性","S審判","大分県"]
["R010363047","オン　ビョンフン","４級","男性","S審判","大分県"]
["R010388040","甲斐　照","４級","男性","S審判","大分県"]
["R005164446","甲斐　一翠","４級","男性","S審判","大分県"]
["R005164613","甲斐　英治","４級","男性","S審判","大分県"]
["R010600673","甲斐　順平","４級","男性","S審判","大分県"]
["R005987388","甲斐　直樹","４級","男性","S審判","大分県"]
["R010579094","甲斐　勇聖","４級","男性","S審判","大分県"]
["R006314455","甲斐　竜二","４級","男性","S審判","大分県"]
["R010391942","甲斐　龍成","４級","男性","S審判","大分県"]
["R001255281","甲斐　亮介","４級","男性","S審判","大分県"]
["R010583783","甲斐　亮佑","４級","男性","S審判","大分県"]
["R010599600","甲斐　蓮土","４級","男性","S審判","大分県"]
["R010214529","加賀　寿一","４級","男性","S審判","大分県"]
["R010262594","香川　航汰","４級","男性","S審判","大分県"]
["R010448236","香川　千璃","４級","男性","S審判","大分県"]
["R010189343","香川　真弓","４級","女性","S審判","大分県"]
["R005987397","香川　豊","４級","男性","S審判","大分県"]
["R010390414","垣内　太陽","４級","男性","S審判","大分県"]
["R010594952","角田　真治","４級","男性","S審判","大分県"]
["R010552565","加隈　歩夢","４級","男性","S審判","大分県"]
["R010465596","角谷　直樹","４級","男性","S審判","大分県"]
["R010347377","鹿毛　雅人","４級","男性","S審判","大分県"]
["R010597283","笠　琳登","４級","男性","S審判","大分県"]
["R009545913","笠村　大","４級","男性","S審判","大分県"]
["R010214467","笠村　凜","４級","女性","S審判","大分県"]
["R010007813","加治　周也","４級","男性","S審判","大分県"]
["R001255342","梶川　正和","４級","男性","S審判","大分県"]
["R010579046","梶原　愛誠","４級","男性","S審判","大分県"]
["R010281841","梶原　明空","４級","男性","S審判","大分県"]
["R010579149","梶原　琥汰","４級","男性","S審判","大分県"]
["R010007838","梶原　孝平","４級","男性","S審判","大分県"]
["R010120174","梶原　規史","４級","男性","S審判","大分県"]
["R010579075","梶原　凌","４級","男性","S審判","大分県"]
["R010576370","片島　啓太","４級","男性","S審判","大分県"]
["R010313766","片山　達郎","４級","男性","S審判","大分県"]
["R008634593","片山　雄一","４級","男性","S審判","大分県"]
["R010214621","加田　真","４級","女性","S審判","大分県"]
["R010156504","勝木　翔也","４級","男性","S審判","大分県"]
["R010444517","香月　隆之介","４級","男性","S審判","大分県"]
["R010167782","葛城　征吾","４級","男性","S審判","大分県"]
["R010576372","葛城　暖","４級","男性","S審判","大分県"]
["R010465592","加藤　大樹","４級","男性","S審判","大分県"]
["R010396549","加藤　晴久","４級","男性","S審判","大分県"]
["R010448241","加藤　大","４級","男性","S審判","大分県"]
["R010468357","加藤　史章","４級","男性","S審判","大分県"]
["R010599172","加藤　正雄","４級","男性","S審判","大分県"]
["R010576363","加藤　悠汰","４級","男性","S審判","大分県"]
["R010583786","加藤　航","４級","男性","S審判","大分県"]
["R010583757","角　晋太郎","４級","男性","S審判","大分県"]
["R010552546","金江　徹平","４級","男性","S審判","大分県"]
["R010538326","金丸　顕和","４級","男性","S審判","大分県"]
["R010448925","金丸　大海","４級","男性","S審判","大分県"]
["R010583803","金森　空良","４級","男性","S審判","大分県"]
["R010255162","金山　斗和","４級","男性","S審判","大分県"]
["R010546300","金子　周太","４級","男性","S審判","大分県"]
["R010581176","兼田　秀虎","４級","男性","S審判","大分県"]
["R010586326","鎌田　虎之介","４級","男性","S審判","大分県"]
["R010540038","上城　司","４級","男性","S審判","大分県"]
["R010027818","紙谷　昌弥","４級","男性","S審判","大分県"]
["R010594954","神野　晃汰","４級","男性","S審判","大分県"]
["R010542198","神原　和希","４級","男性","S審判","大分県"]
["R010546275","上村　叶多","４級","男性","S審判","大分県"]
["R010549369","亀井　友花","４級","女性","S審判","大分県"]
["R010467574","亀谷　柊斗","４級","男性","S審判","大分県"]
["R005603282","亀山　万生","４級","男性","S審判","大分県"]
["R010352950","萱島　良太","４級","男性","S審判","大分県"]
["R002917476","河井　寛次郎","４級","男性","S審判","大分県"]
["R010538403","河合　咲太","４級","男性","S審判","大分県"]
["R010586298","河合　来城","４級","男性","S審判","大分県"]
["R010386814","河合　瑠彩","４級","女性","S審判","大分県"]
["R010445833","河内　竜樹","４級","男性","S審判","大分県"]
["R010576575","川内　陸翔","４級","男性","S審判","大分県"]
["R010552537","川上　郁央","４級","男性","S審判","大分県"]
["R010248572","川口　航平","４級","男性","S審判","大分県"]
["R010314824","川口　俊輔","４級","男性","S審判","大分県"]
["R010579054","川口　翔太","４級","男性","S審判","大分県"]
["R010352965","川口　翼","４級","男性","S審判","大分県"]
["R010248569","川口　勇騎","４級","男性","S審判","大分県"]
["R010576567","川口　優人","４級","男性","S審判","大分県"]
["R010579133","川崎　太洋","４級","男性","S審判","大分県"]
["R010583785","川嶋　映多","４級","男性","S審判","大分県"]
["R010281803","川嶋　佳菜","４級","女性","S審判","大分県"]
["R010448924","川尻　暁斗","４級","男性","S審判","大分県"]
["R010347373","河津　柊志","４級","男性","S審判","大分県"]
["R010586721","河津　瑛斗","４級","男性","S審判","大分県"]
["R010415898","河津　魁羅","４級","男性","S審判","大分県"]
["R010579079","河津　悠星","４級","男性","S審判","大分県"]
["R010386810","川手　茉央","４級","女性","S審判","大分県"]
["R010421578","川浪　尚人","４級","男性","S審判","大分県"]
["R010159751","川浪　実歩","４級","女性","S審判","大分県"]
["R010546290","河野　優生","４級","男性","S審判","大分県"]
["R010538397","河野　栄磨","４級","男性","S審判","大分県"]
["R010451956","川野　快斗","４級","男性","S審判","大分県"]
["R010448942","河野　楓","４級","女性","S審判","大分県"]
["R010189268","河野　功寛","４級","男性","S審判","大分県"]
["R010583789","川野　公聖","４級","男性","S審判","大分県"]
["R006220606","河野　成利","４級","男性","S審判","大分県"]
["R010539287","河野　松介","４級","男性","S審判","大分県"]
["R010586201","川野　真司","４級","男性","S審判","大分県"]
["R010396561","川野　陣","４級","男性","S審判","大分県"]
["R010432651","河野　太陽","４級","男性","S審判","大分県"]
["R010415887","河野　拓巳","４級","男性","S審判","大分県"]
["R010189263","河野　徹郎","４級","男性","S審判","大分県"]
["R010027894","河野　斗馬","４級","男性","S審判","大分県"]
["R010390422","河野　桐也","４級","男性","S審判","大分県"]
["R010538375","河野　虎之介","４級","男性","S審判","大分県"]
["R010599589","川野　菜緒","４級","女性","S審判","大分県"]
["R010538388","河野　夏","４級","男性","S審判","大分県"]
["R010396562","川野　迅翔","４級","男性","S審判","大分県"]
["R010546297","河野　聖","４級","男性","S審判","大分県"]
["R010376293","河野　仁志","４級","男性","S審判","大分県"]
["R010579055","河野　暖大","４級","男性","S審判","大分県"]
["R010214628","川野　裕貴","４級","男性","S審判","大分県"]
["R010542203","河野　祐輔","４級","男性","S審判","大分県"]
["R010586329","河野　悠翔","４級","男性","S審判","大分県"]
["R010262595","川野　竜聖","４級","男性","S審判","大分県"]
["R010576365","河野　遼汰","４級","男性","S審判","大分県"]
["R010467836","川野　流楓","４級","男性","S審判","大分県"]
["R010549365","川端　沙雪","４級","女性","S審判","大分県"]
["R010357147","川端　正倫","４級","男性","S審判","大分県"]
["R010468327","川辺　湊太","４級","男性","S審判","大分県"]
["R009198487","川邉　太一朗","４級","男性","S審判","大分県"]
["R010396583","川邊　智己","４級","男性","S審判","大分県"]
["R010352999","川邉　裕也","４級","男性","S審判","大分県"]
["R005405264","河村　航大","４級","男性","S審判","大分県"]
["R010396560","河村　長雲","４級","男性","S審判","大分県"]
["R006220129","河村　哲二","４級","男性","S審判","大分県"]
["R001255908","河村　信善","４級","男性","S審判","大分県"]
["R010396525","河村　陽平","４級","男性","S審判","大分県"]
["R010539272","河室　大地","４級","男性","S審判","大分県"]
["R010546340","神崎　来実","４級","女性","S審判","大分県"]
["R010396520","神崎　大輔","４級","男性","S審判","大分県"]
["R008798101","神田　毅","４級","男性","S審判","大分県"]
["R010396529","神田　武志","４級","男性","S審判","大分県"]
["R010449910","神田　裕","４級","男性","S審判","大分県"]
["R010542195","木内　諭貴久","４級","男性","S審判","大分県"]
["R010576535","菊口　和希","４級","男性","S審判","大分県"]
["R001255953","菊田　興太郎","４級","男性","S審判","大分県"]
["R010432646","菊池　敏志","４級","男性","S審判","大分県"]
["R003972586","菊地　誠","４級","男性","S審判","大分県"]
["R010214551","菊地　隆之輔","４級","男性","S審判","大分県"]
["R010538345","菊屋　令","４級","男性","S審判","大分県"]
["R001255980","木嶋　高行","４級","男性","S審判","大分県"]
["R010546303","北川　奏","４級","男性","S審判","大分県"]
["R010313776","北河　祐一","４級","男性","S審判","大分県"]
["R008798147","キタニ　大希","４級","男性","S審判","大分県"]
["R010576509","木谷　亮太","４級","男性","S審判","大分県"]
["R010542197","木付　晴翔","４級","男性","S審判","大分県"]
["R010214583","木津　浩太","４級","男性","S審判","大分県"]
["R010214584","木津　春歌","４級","女性","S審判","大分県"]
["R010538331","木戸　航大","４級","男性","S審判","大分県"]
["R010546304","衣笠　勇輝","４級","男性","S審判","大分県"]
["R001256031","木下　和夫","４級","男性","S審判","大分県"]
["R010546305","木下　敬介","４級","男性","S審判","大分県"]
["R010396543","木下　広貴","４級","男性","S審判","大分県"]
["R010444512","木下　泰暉","４級","男性","S審判","大分県"]
["R008798138","木下　秀紀","４級","男性","S審判","大分県"]
["R010356143","木原　将和","４級","男性","S審判","大分県"]
["R010542211","岐部　匠","４級","男性","S審判","大分県"]
["R001256068","岐部　裕二","４級","男性","S審判","大分県"]
["R010248580","木村　一平","４級","男性","S審判","大分県"]
["R010576552","木村　颯太","４級","男性","S審判","大分県"]
["R010583778","木村　太陽","４級","男性","S審判","大分県"]
["R010451957","木村　勇斗","４級","男性","S審判","大分県"]
["R010552550","木村　翔瑛","４級","男性","S審判","大分県"]
["R010593120","木村　凌","４級","男性","S審判","大分県"]
["R010538369","木本　心","４級","男性","S審判","大分県"]
["R010448240","木本　博昭","４級","男性","S審判","大分県"]
["R010552562","清末　歩夢","４級","男性","S審判","大分県"]
["R010581166","清末　智暉","４級","男性","S審判","大分県"]
["R010538337","清末　七翔","４級","男性","S審判","大分県"]
["R010586306","清末　勘之","４級","男性","S審判","大分県"]
["R010552571","清末　隆生","４級","男性","S審判","大分県"]
["R010281797","清原　勇二","４級","男性","S審判","大分県"]
["R010415896","清原　耀","４級","男性","S審判","大分県"]
["R010261615","吉良　匡弘","４級","男性","S審判","大分県"]
["R010593963","吉良　優輝","４級","男性","S審判","大分県"]
["R001256183","吉良　陽平","４級","男性","S審判","大分県"]
["R010455154","切封　蹴人","４級","男性","S審判","大分県"]
["R010586314","桐村　虎夢","４級","男性","S審判","大分県"]
["R010189291","釘宮　孝史","４級","男性","S審判","大分県"]
["R010248041","釘宮　翼","４級","男性","S審判","大分県"]
["R010354661","日下　拓人","４級","男性","S審判","大分県"]
["R010583761","日下部　悠大","４級","男性","S審判","大分県"]
["R010313754","櫛野　理弘","４級","男性","S審判","大分県"]
["R010539278","楠田　優","４級","男性","S審判","大分県"]
["R010579060","楠野　裕也","４級","男性","S審判","大分県"]
["R010334503","楠　明日香","４級","女性","S審判","大分県"]
["R010542190","楠木　裕二","４級","男性","S審判","大分県"]
["R010351368","楠元　和馬","４級","男性","S審判","大分県"]
["R010576541","葛西　翔太","４級","男性","S審判","大分県"]
["R010376336","沓掛　聖和","４級","男性","S審判","大分県"]
["R010538387","工藤　元気","４級","男性","S審判","大分県"]
["R010579146","工藤　渉","４級","男性","S審判","大分県"]
["R010261616","工藤　大昌","４級","男性","S審判","大分県"]
["R009546116","工藤　忠弘","４級","男性","S審判","大分県"]
["R010576385","工藤　大明","４級","男性","S審判","大分県"]
["R010579123","工藤　凪","４級","男性","S審判","大分県"]
["R010586300","工藤　光向太","４級","男性","S審判","大分県"]
["R001256253","工藤　洋","４級","男性","S審判","大分県"]
["R001256244","工藤　光範","４級","男性","S審判","大分県"]
["R010083877","工藤　大和","４級","男性","S審判","大分県"]
["R010396522","工藤　竜世","４級","男性","S審判","大分県"]
["R010538367","工藤　凌成","４級","男性","S審判","大分県"]
["R010576543","国武　祥澄","４級","男性","S審判","大分県"]
["R010162988","国広　雄陽","４級","男性","S審判","大分県"]
["R010214468","久保　花暖","４級","女性","S審判","大分県"]
["R010465620","久保　宏太","４級","男性","S審判","大分県"]
["R008793249","久保　茂樹","４級","男性","S審判","大分県"]
["R010376344","久保　翔太郎","４級","男性","S審判","大分県"]
["R010540700","久保　颯香","４級","男性","S審判","大分県"]
["R010583764","久保　雄平","４級","男性","S審判","大分県"]
["R010396541","久保　幸弥","４級","男性","S審判","大分県"]
["R010352939","久保田　智史","４級","男性","S審判","大分県"]
["R010594959","窪田　大地","４級","男性","S審判","大分県"]
["R010589056","久保田　隼斗","４級","男性","S審判","大分県"]
["R010027820","久保山　崇","４級","男性","S審判","大分県"]
["R010450128","熊井　貴司","４級","男性","S審判","大分県"]
["R010450129","熊井　優斗","４級","男性","S審判","大分県"]
["R010579132","熊谷　颯人","４級","男性","S審判","大分県"]
["R010546306","倉田　煌大","４級","男性","S審判","大分県"]
["R010586724","倉田　康成","４級","男性","S審判","大分県"]
["R010391937","倉盛　雅基","４級","男性","S審判","大分県"]
["R010448643","栗井　蓮","４級","男性","S審判","大分県"]
["R010599598","栗原　竜","４級","男性","S審判","大分県"]
["R010552553","栗山　隼人","４級","男性","S審判","大分県"]
["R010444503","黒木　祥悟","４級","男性","S審判","大分県"]
["R010513913","黒木　大治郎","４級","男性","S審判","大分県"]
["R010281807","黒木　一輝","４級","男性","S審判","大分県"]
["R010386822","黒田　珠樺","４級","女性","S審判","大分県"]
["R010546307","黒田　侑希","４級","男性","S審判","大分県"]
["R010501305","桑野　宏幸","４級","男性","S審判","大分県"]
["R010520028","桑原　率","４級","男性","S審判","大分県"]
["R010248040","桑原　誓良","４級","男性","S審判","大分県"]
["R001256387","桑原　剛志","４級","男性","S審判","大分県"]
["R010432618","桑原　優人","４級","男性","S審判","大分県"]
["R010538366","桑原　力飛","４級","男性","S審判","大分県"]
["R010576371","桑山　元汰","４級","男性","S審判","大分県"]
["R010579119","郡司島　樹","４級","男性","S審判","大分県"]
["R010542184","小石　圭亮","４級","男性","S審判","大分県"]
["R010519835","小泉　碧美","４級","女性","S審判","大分県"]
["R010214595","小泉　斗眞","４級","男性","S審判","大分県"]
["R010255153","小岩　晴久","４級","男性","S審判","大分県"]
["R010391959","高　昇辰","４級","男性","S審判","大分県"]
["R010189321","神志那　公市","４級","男性","S審判","大分県"]
["R010281843","江田　秀斗","４級","男性","S審判","大分県"]
["R010599182","幸田　晨佑","４級","男性","S審判","大分県"]
["R010576520","江田　麟太郎","４級","男性","S審判","大分県"]
["R010586308","河野　一翔","４級","男性","S審判","大分県"]
["R010546274","河野　泰良","４級","男性","S審判","大分県"]
["R001255670","河野　千恵子","４級","女性","S審判","大分県"]
["R010376319","河野　匡視","４級","男性","S審判","大分県"]
["R010586325","河野　陸","４級","男性","S審判","大分県"]
["R010599594","香梅　慎","４級","男性","S審判","大分県"]
["R010189273","高麗　勇輝","４級","男性","S審判","大分県"]
["R010579088","古賀　貫太郎","４級","男性","S審判","大分県"]
["R010347375","古賀　奏太郎","４級","男性","S審判","大分県"]
["R010396510","古賀　時宗","４級","男性","S審判","大分県"]
["R002530277","古賀　博喜","４級","男性","S審判","大分県"]
["R006574206","古賀　雅則","４級","男性","S審判","大分県"]
["R010162996","小越　憲太郎","４級","男性","S審判","大分県"]
["R010583795","古城　帆貴","４級","男性","S審判","大分県"]
["R010396586","小杉　青空","４級","男性","S審判","大分県"]
["R010579057","児玉　敦志","４級","男性","S審判","大分県"]
["R010386815","児玉　一穂","４級","女性","S審判","大分県"]
["R010357149","児玉　空悟","４級","男性","S審判","大分県"]
["R010444511","兒玉　朔都","４級","男性","S審判","大分県"]
["R010313775","児玉　伸","４級","男性","S審判","大分県"]
["R010552559","児玉　准哉","４級","男性","S審判","大分県"]
["R010259431","兒玉　颯斗","４級","男性","S審判","大分県"]
["R010159131","児玉　勇翔","４級","男性","S審判","大分県"]
["R010169042","児玉　悠介","４級","男性","S審判","大分県"]
["R010445239","児玉　佑太","４級","男性","S審判","大分県"]
["R010538305","児玉　龍飛","４級","男性","S審判","大分県"]
["R010448922","児玉　留己也","４級","男性","S審判","大分県"]
["R005528060","小手川　洋介","４級","男性","S審判","大分県"]
["R010467696","小手川　蓮","４級","男性","S審判","大分県"]
["R010581156","小寺　一廣","４級","男性","S審判","大分県"]
["R010576530","琴尾　敬太","４級","男性","S審判","大分県"]
["R010450132","小洞　晴哉","４級","男性","S審判","大分県"]
["R010552579","木場　漸","４級","男性","S審判","大分県"]
["R010448940","小林　神月","４級","男性","S審判","大分県"]
["R010583804","小林　奏翔","４級","男性","S審判","大分県"]
["R010588880","小林　幹大","４級","男性","S審判","大分県"]
["R004226712","小林　覚","４級","男性","S審判","大分県"]
["R010546326","小林　昴琉","４級","男性","S審判","大分県"]
["R010599583","小林　優仁","４級","男性","S審判","大分県"]
["R010255174","小林　亮太","４級","男性","S審判","大分県"]
["R010538355","小深田　大晟","４級","男性","S審判","大分県"]
["R010597290","小松　隼人","４級","男性","S審判","大分県"]
["R010576519","小松　弘毅","４級","男性","S審判","大分県"]
["R010549364","小松　由奈","４級","女性","S審判","大分県"]
["R010261603","古屋　友晟","４級","男性","S審判","大分県"]
["R010542166","古谷　悠汰","４級","男性","S審判","大分県"]
["R010546292","小山　純平","４級","男性","S審判","大分県"]
["R010347385","小山　大輝","４級","男性","S審判","大分県"]
["R006664855","近藤　孝司","４級","男性","S審判","大分県"]
["R010594963","近藤　秀翔","４級","男性","S審判","大分県"]
["R010540721","近藤　拓海","４級","男性","S審判","大分県"]
["R010509969","合谷　佑木","４級","男性","S審判","大分県"]
["R010588857","郷地　拓真","４級","男性","S審判","大分県"]
["R009546091","五所　睦雄","４級","男性","S審判","大分県"]
["R010583779","後藤　碧斗","４級","男性","S審判","大分県"]
["R010539279","後藤　彰臣","４級","男性","S審判","大分県"]
["R010593962","後藤　綾心","４級","男性","S審判","大分県"]
["R010432627","後藤　英斗","４級","男性","S審判","大分県"]
["R010163001","後藤　快斗","４級","男性","S審判","大分県"]
["R001256572","後藤　儀一郎","４級","男性","S審判","大分県"]
["R010583797","後藤　慶","４級","男性","S審判","大分県"]
["R010067950","後藤　恵子","４級","女性","S審判","大分県"]
["R010354802","後藤　圭梧","４級","男性","S審判","大分県"]
["R005987519","後藤　慶太郎","４級","男性","S審判","大分県"]
["R010576369","後藤　健伍","４級","男性","S審判","大分県"]
["R010552541","後藤　滉稀","４級","男性","S審判","大分県"]
["R001256590","後藤　幸治","４級","男性","S審判","大分県"]
["R003421426","後藤　茂好","４級","男性","S審判","大分県"]
["R003256044","後藤　真一","４級","男性","S審判","大分県"]
["R001256606","後藤　信也","４級","男性","S審判","大分県"]
["R010581179","後藤　淳哉","４級","男性","S審判","大分県"]
["R010432636","後藤　正剛","４級","男性","S審判","大分県"]
["R010255175","後藤　颯太","４級","男性","S審判","大分県"]
["R010193704","後藤　健文","４級","男性","S審判","大分県"]
["R005603671","後藤　達也","４級","男性","S審判","大分県"]
["R010539321","後藤　大輝","４級","男性","S審判","大分県"]
["R010579143","後藤　凪海","４級","男性","S審判","大分県"]
["R001256554","後藤　寿","４級","男性","S審判","大分県"]
["R007090978","後藤　洋彰","４級","男性","S審判","大分県"]
["R010303884","後藤　文太","４級","男性","S審判","大分県"]
["R010396547","後藤　真弥","４級","男性","S審判","大分県"]
["R010538300","後藤　睦希","４級","男性","S審判","大分県"]
["R010354663","後藤　大和","４級","男性","S審判","大分県"]
["R010586296","後藤　優空","４級","男性","S審判","大分県"]
["R010396571","後藤　勇飛","４級","男性","S審判","大分県"]
["R010120116","後藤　芳健","４級","男性","S審判","大分県"]
["R010001964","後藤　亮一","４級","男性","S審判","大分県"]
["R010538364","後藤　凛太朗","４級","男性","S審判","大分県"]
["R010538336","後藤　涼之介","４級","男性","S審判","大分県"]
["R010539282","佐伯　圭介","４級","男性","S審判","大分県"]
["R010552532","佐伯　正一","４級","男性","S審判","大分県"]
["R010467244","齋藤　健智","４級","男性","S審判","大分県"]
["R010376289","齋藤　俊孝","４級","男性","S審判","大分県"]
["R010540709","斉藤　晄吏","４級","男性","S審判","大分県"]
["R010468352","斉藤　祐輔","４級","男性","S審判","大分県"]
["R008173685","斎藤　亮真","４級","男性","S審判","大分県"]
["R010546329","西耒　龍界","４級","男性","S審判","大分県"]
["R010552567","酒井　碧海","４級","男性","S審判","大分県"]
["R010448935","酒井　洸太","４級","男性","S審判","大分県"]
["R010579099","酒井　琥士朗","４級","男性","S審判","大分県"]
["R006932525","酒井　泰峰","４級","男性","S審判","大分県"]
["R010546308","酒井　渉","４級","男性","S審判","大分県"]
["R010538308","榊原　隆之輔","４級","男性","S審判","大分県"]
["R010189326","坂田　大樹","４級","男性","S審判","大分県"]
["R010576358","坂本　和哉","４級","男性","S審判","大分県"]
["R010600678","坂本　航輝","４級","男性","S審判","大分県"]
["R010542182","坂元　達啓","４級","男性","S審判","大分県"]
["R010388052","坂本　晴陽","４級","男性","S審判","大分県"]
["R010071981","坂本　璃王","４級","男性","S審判","大分県"]
["R010283833","坂本　莉音","４級","女性","S審判","大分県"]
["R010421577","坂本　陸","４級","男性","S審判","大分県"]
["R010581164","相良　晃平","４級","男性","S審判","大分県"]
["R010599175","相良　雅斗","４級","男性","S審判","大分県"]
["R008173746","相良　宣雄","４級","男性","S審判","大分県"]
["R010444490","櫻井　貴寛","４級","男性","S審判","大分県"]
["R010576381","櫻木　海晴","４級","男性","S審判","大分県"]
["R010542194","迫　聖一郎","４級","男性","S審判","大分県"]
["R010594962","佐々木　凰我","４級","男性","S審判","大分県"]
["R010432604","佐々木　匠実","４級","男性","S審判","大分県"]
["R010586324","佐々木　陽音","４級","男性","S審判","大分県"]
["R010586315","佐々木　大和","４級","男性","S審判","大分県"]
["R010281874","指原　健太郎","４級","男性","S審判","大分県"]
["R010214626","指原　徹志","４級","男性","S審判","大分県"]
["R010396573","佐田　惇","４級","男性","S審判","大分県"]
["R010189039","目　匡弘","４級","男性","S審判","大分県"]
["R010259437","佐藤　愛莉","４級","女性","S審判","大分県"]
["R001257076","佐藤　明","４級","男性","S審判","大分県"]
["R010538390","佐藤　歩虎","４級","男性","S審判","大分県"]
["R010540710","佐藤　應之佑","４級","男性","S審判","大分県"]
["R010448943","佐藤　凱翔","４級","男性","S審判","大分県"]
["R010376318","佐藤　一史","４級","男性","S審判","大分県"]
["R010432647","佐藤　亨志郎","４級","男性","S審判","大分県"]
["R010396579","佐藤　健司","４級","男性","S審判","大分県"]
["R010552536","佐藤　航輝","４級","男性","S審判","大分県"]
["R010552574","佐藤　洸輝","４級","男性","S審判","大分県"]
["R010396604","佐藤　耕輔","４級","男性","S審判","大分県"]
["R010579095","佐藤　修一","４級","男性","S審判","大分県"]
["R010540704","佐藤　愁哲","４級","男性","S審判","大分県"]
["R010599176","佐藤　周平","４級","男性","S審判","大分県"]
["R010432632","佐藤　秀哉","４級","男性","S審判","大分県"]
["R010538354","佐藤　秀弥","４級","男性","S審判","大分県"]
["R010432602","佐藤　翔太","４級","男性","S審判","大分県"]
["R004386306","佐藤　慎也","４級","男性","S審判","大分県"]
["R010262644","佐藤　颯","４級","男性","S審判","大分県"]
["R010599596","佐藤　匠未","４級","男性","S審判","大分県"]
["R001257085","佐藤　武吉","４級","男性","S審判","大分県"]
["R010552561","佐藤　哲也","４級","男性","S審判","大分県"]
["R010594942","佐藤　直","４級","男性","S審判","大分県"]
["R010599178","佐藤　大翔","４級","男性","S審判","大分県"]
["R010189325","佐藤　遥哉","４級","男性","S審判","大分県"]
["R001257137","佐藤　秀勝","４級","男性","S審判","大分県"]
["R010538322","佐藤　浩樹","４級","男性","S審判","大分県"]
["R010354658","佐藤　史典","４級","男性","S審判","大分県"]
["R010376310","佐藤　雅斗吏","４級","男性","S審判","大分県"]
["R010465577","佐藤　守","４級","男性","S審判","大分県"]
["R005603389","佐藤　光雄","４級","男性","S審判","大分県"]
["R010599169","佐藤　元気","４級","男性","S審判","大分県"]
["R010581171","佐藤　優","４級","男性","S審判","大分県"]
["R010586313","佐藤　佑樹","４級","男性","S審判","大分県"]
["R010465593","佐藤　祐親","４級","男性","S審判","大分県"]
["R010391925","佐藤　祐介","４級","男性","S審判","大分県"]
["R010538353","佐藤　悠星","４級","男性","S審判","大分県"]
["R010579128","佐藤　悠晴","４級","男性","S審判","大分県"]
["R010396516","佐藤　侑大","４級","男性","S審判","大分県"]
["R010243660","佐藤　勇仁","４級","男性","S審判","大分県"]
["R010444501","佐藤　悠登","４級","男性","S審判","大分県"]
["R010538306","佐藤　悠人","４級","男性","S審判","大分県"]
["R010069874","佐藤　佑哉","４級","男性","S審判","大分県"]
["R010314823","佐藤　善成","４級","男性","S審判","大分県"]
["R007729210","佐藤　教春","４級","男性","S審判","大分県"]
["R010593964","佐藤　圭悠","４級","男性","S審判","大分県"]
["R010451955","佐藤　璃空","４級","男性","S審判","大分県"]
["R010552573","佐藤　陸","４級","男性","S審判","大分県"]
["R010579096","佐藤　亮次","４級","男性","S審判","大分県"]
["R010593133","佐藤　涼介","４級","男性","S審判","大分県"]
["R010583788","佐藤　凛太朗","４級","男性","S審判","大分県"]
["R010579112","佐藤　凛乃丞","４級","男性","S審判","大分県"]
["R010588870","佐藤　琉偉","４級","男性","S審判","大分県"]
["R010453590","佐藤　羚矢","４級","男性","S審判","大分県"]
["R010453594","佐藤　伶凰","４級","男性","S審判","大分県"]
["R010396509","佐藤　蓮太","４級","男性","S審判","大分県"]
["R010599595","眞田　裕馬","４級","男性","S審判","大分県"]
["R010388045","實松　祐輝","４級","男性","S審判","大分県"]
["R010448933","佐野　大葵","４級","男性","S審判","大分県"]
["R010214533","鮫島　裕貴","４級","男性","S審判","大分県"]
["R010376311","澤井　駿樂","４級","男性","S審判","大分県"]
["R010390432","沢田　奏太","４級","男性","S審判","大分県"]
["R010376331","澤田　弘教","４級","男性","S審判","大分県"]
["R010396568","澤永　悠樹","４級","男性","S審判","大分県"]
["R010358004","澤藤　慎之助","４級","男性","S審判","大分県"]
["R010540720","三堂　楽斗","４級","男性","S審判","大分県"]
["R010594958","山王　拓海","４級","男性","S審判","大分県"]
["R010415891","三ノ宮　真吾","４級","男性","S審判","大分県"]
["R010448919","三ノ宮　琉偉","４級","男性","S審判","大分県"]
["R010576536","三分一　彪斗","４級","男性","S審判","大分県"]
["R010100659","財前　友担","４級","男性","S審判","大分県"]
["R010432654","財前　飛向","４級","男性","S審判","大分県"]
["R010586297","財前　大翔","４級","男性","S審判","大分県"]
["R010588874","財津　翔大","４級","男性","S審判","大分県"]
["R010538386","財津　亮介","４級","男性","S審判","大分県"]
["R005603291","椎原　健夫","４級","男性","S審判","大分県"]
["R010597286","椎橋　風仁","４級","男性","S審判","大分県"]
["R010542200","鹿内　克彦","４級","男性","S審判","大分県"]
["R010281801","志賀　泰二","４級","男性","S審判","大分県"]
["R010599184","志賀　裕太","４級","男性","S審判","大分県"]
["R010552555","敷嶋　義郎","４級","男性","S審判","大分県"]
["R010579058","式村　龍馬","４級","男性","S審判","大分県"]
["R010391927","重　遥大","４級","男性","S審判","大分県"]
["R010542188","重住　優成","４級","男性","S審判","大分県"]
["R001257304","重藤　光","４級","男性","S審判","大分県"]
["R010391920","重松　剛史","４級","男性","S審判","大分県"]
["R010583765","重光　淳乃介","４級","男性","S審判","大分県"]
["R010538301","重光　日向","４級","男性","S審判","大分県"]
["R010588882","志堂寺　和之介","４級","男性","S審判","大分県"]
["R010576556","品川　魁杜","４級","男性","S審判","大分県"]
["R010594951","篠崎　晟哉","４級","男性","S審判","大分県"]
["R010579048","篠田　怜央","４級","男性","S審判","大分県"]
["R010540695","柴田　峻徳","４級","男性","S審判","大分県"]
["R010450024","柴田　毅","４級","男性","S審判","大分県"]
["R010583772","渋谷　駿","４級","男性","S審判","大分県"]
["R010415895","島　拓朗","４級","男性","S審判","大分県"]
["R010539273","島岡　歩","４級","男性","S審判","大分県"]
["R010167757","嶋岡　烈士","４級","男性","S審判","大分県"]
["R007959592","島崎　雄大","４級","男性","S審判","大分県"]
["R001257447","島谷　真司","４級","男性","S審判","大分県"]
["R010356121","嶌田　幸志","４級","男性","S審判","大分県"]
["R010313749","嶋田　尚祐","４級","男性","S審判","大分県"]
["R010445837","嶋田　祐也","４級","男性","S審判","大分県"]
["R010391958","島田　蓮平","４級","男性","S審判","大分県"]
["R010391963","島津　悠揮","４級","男性","S審判","大分県"]
["R010586719","嶋津　慶真","４級","男性","S審判","大分県"]
["R010465614","島畑　欣史","４級","男性","S審判","大分県"]
["R010396565","清水　和","４級","男性","S審判","大分県"]
["R005986981","清水　聖徳","４級","男性","S審判","大分県"]
["R010579105","清水　颯太","４級","男性","S審判","大分県"]
["R010069898","清水　樹生","４級","男性","S審判","大分県"]
["R010189304","清水　哲也","４級","男性","S審判","大分県"]
["R010255172","清水　寛人","４級","男性","S審判","大分県"]
["R010421576","清水　碧倭","４級","男性","S審判","大分県"]
["R010593958","清水　瑞樹","４級","男性","S審判","大分県"]
["R010264990","清水　友貴","４級","男性","S審判","大分県"]
["R010303857","清水　羅偉","４級","男性","S審判","大分県"]
["R010093497","七五三　正寿","４級","男性","S審判","大分県"]
["R010576361","下久保　魅兎","４級","男性","S審判","大分県"]
["R010594964","下地　里旺","４級","男性","S審判","大分県"]
["R010576515","下畑　凜太朗","４級","男性","S審判","大分県"]
["R010453576","周藤　彼方","４級","男性","S審判","大分県"]
["R010579135","周藤　光輝","４級","男性","S審判","大分県"]
["R010467838","宿利　一冴","４級","男性","S審判","大分県"]
["R010581170","首藤　康司","４級","男性","S審判","大分県"]
["R010465612","首藤　貴志","４級","男性","S審判","大分県"]
["R010581167","首藤　崇浩","４級","男性","S審判","大分県"]
["R010352940","首藤　保","４級","男性","S審判","大分県"]
["R008643838","首藤　翼","４級","男性","S審判","大分県"]
["R007002645","首藤　晴美","４級","男性","S審判","大分県"]
["R010581158","首藤　英俊","４級","男性","S審判","大分県"]
["R010354788","首藤　弘樹","４級","男性","S審判","大分県"]
["R010376326","首藤　博貴","４級","男性","S審判","大分県"]
["R010376340","首藤　正叡","４級","男性","S審判","大分県"]
["R010432614","首藤　唯斗","４級","男性","S審判","大分県"]
["R010356122","首藤　航","４級","男性","S審判","大分県"]
["R010162994","首藤　光翼","４級","男性","S審判","大分県"]
["R005527362","庄司　誠","４級","男性","S審判","大分県"]
["R009460533","庄部　正人","４級","男性","S審判","大分県"]
["R010546309","庄部　優汰","４級","男性","S審判","大分県"]
["R010445243","庄司　壮甫","４級","男性","S審判","大分県"]
["R010352971","白石　琥太郎","４級","男性","S審判","大分県"]
["R010599602","白石　匠皇","４級","男性","S審判","大分県"]
["R010259417","白岩　孝啓","４級","男性","S審判","大分県"]
["R010579134","白岩　裕晟","４級","男性","S審判","大分県"]
["R010354662","秦　琥太郎","４級","男性","S審判","大分県"]
["R010350238","秦　鼓乃実","４級","女性","S審判","大分県"]
["R010306453","秦　翔平","４級","男性","S審判","大分県"]
["R010444489","秦　拓真","４級","男性","S審判","大分県"]
["R010451965","秦　龍也","４級","男性","S審判","大分県"]
["R010451964","秦　翼早","４級","男性","S審判","大分県"]
["R010579104","秦　涼介","４級","男性","S審判","大分県"]
["R010599874","新谷　敏希","４級","男性","S審判","大分県"]
["R010576532","新谷　天斗","４級","男性","S審判","大分県"]
["R010576525","新立　龍真","４級","男性","S審判","大分県"]
["R010579091","進藤　匠翔","４級","男性","S審判","大分県"]
["R010546283","新納　奏太","４級","男性","S審判","大分県"]
["R010579086","新原　遥翔","４級","男性","S審判","大分県"]
["R010347368","新原　優翔","４級","男性","S審判","大分県"]
["R009567863","新村　亘未","４級","男性","S審判","大分県"]
["R010579129","軸丸　生己","４級","男性","S審判","大分県"]
["R006123774","軸丸　耕平","４級","男性","S審判","大分県"]
["R010313772","軸丸　翔矢","４級","男性","S審判","大分県"]
["R010303859","字室　航平","４級","男性","S審判","大分県"]
["R010542212","上崎　俊介","４級","男性","S審判","大分県"]
["R010467245","城野　皇我","４級","男性","S審判","大分県"]
["R010579073","城野　大翔","４級","男性","S審判","大分県"]
["R010347371","城野　雅翔","４級","男性","S審判","大分県"]
["R010576518","陣内　拓海","４級","男性","S審判","大分県"]
["R007959167","須浦　清隆","４級","男性","S審判","大分県"]
["R010449909","末　洸樹","４級","男性","S審判","大分県"]
["R010189331","末崎　智也","４級","男性","S審判","大分県"]
["R010579052","末﨑　賢光","４級","男性","S審判","大分県"]
["R010586716","末竹　快健","４級","男性","S審判","大分県"]
["R004055424","末綱　海人","４級","男性","S審判","大分県"]
["R001257711","末綱　航大","４級","男性","S審判","大分県"]
["R006148463","末綱　太舟","４級","男性","S審判","大分県"]
["R010546310","末綱　倖成","４級","男性","S審判","大分県"]
["R009545995","末永　成久","４級","男性","S審判","大分県"]
["R010552569","末成　隼","４級","男性","S審判","大分県"]
["R010593140","末平　陽祐","４級","男性","S審判","大分県"]
["R010546311","末弘　智亮","４級","男性","S審判","大分県"]
["R010546318","末元　隼太","４級","男性","S審判","大分県"]
["R010390421","菅　左京","４級","男性","S審判","大分県"]
["R010588862","菅　晴稀","４級","男性","S審判","大分県"]
["R010579127","菅　陽翔","４級","男性","S審判","大分県"]
["R007959820","菅　博幸","４級","男性","S審判","大分県"]
["R010593132","須賀　隆太","４級","男性","S審判","大分県"]
["R010542209","菅田　和真","４級","男性","S審判","大分県"]
["R010453579","菅原　颯太","４級","男性","S審判","大分県"]
["R010453587","菅原　悠貴","４級","男性","S審判","大分県"]
["R010581177","須川　愛琉","４級","男性","S審判","大分県"]
["R010448634","菅川　青空","４級","男性","S審判","大分県"]
["R008798004","杉崎　誠","４級","男性","S審判","大分県"]
["R010599611","杉田　翔","４級","男性","S審判","大分県"]
["R010594961","杉田　凱風","４級","男性","S審判","大分県"]
["R005528103","杉野　岳士","４級","男性","S審判","大分県"]
["R006220369","杉本　哲太","４級","男性","S審判","大分県"]
["R010281838","鈴江　真士","４級","男性","S審判","大分県"]
["R010281839","鈴江　涼生","４級","男性","S審判","大分県"]
["R010214548","鈴木　公大","４級","男性","S審判","大分県"]
["R010465610","須藤　聡","４級","男性","S審判","大分県"]
["R010067965","須藤　夏羽","４級","女性","S審判","大分県"]
["R010247793","須藤　美羽","４級","女性","S審判","大分県"]
["R007959185","巣野　哲平","４級","男性","S審判","大分県"]
["R010214540","隅田　渚斗","４級","男性","S審判","大分県"]
["R010356124","隅田　波希","４級","男性","S審判","大分県"]
["R010303863","住田　翔","４級","男性","S審判","大分県"]
["R010162998","圖師　好至朗","４級","男性","S審判","大分県"]
["R010576507","清家　海佐輝","４級","男性","S審判","大分県"]
["R003258422","関　一昭","４級","男性","S審判","大分県"]
["R001257809","関　正二","４級","男性","S審判","大分県"]
["R010352992","関　翼","４級","男性","S審判","大分県"]
["R010576522","関　智仁","４級","男性","S審判","大分県"]
["R010189267","関　雅人","４級","男性","S審判","大分県"]
["R010576368","関谷　昂大","４級","男性","S審判","大分県"]
["R010542176","関谷　彰太","４級","男性","S審判","大分県"]
["R007959750","関谷　僚人","４級","男性","S審判","大分県"]
["R009533653","瀬田　英明","４級","男性","S審判","大分県"]
["R010354812","瀬戸　天我","４級","男性","S審判","大分県"]
["R010599872","芹田　幸季","４級","男性","S審判","大分県"]
["R010588876","膳瀬　晃希","４級","男性","S審判","大分県"]
["R010594950","曽根　虎大郎","４級","男性","S審判","大分県"]
["R010120162","曽根　文武","４級","男性","S審判","大分県"]
["R001257854","曽根崎　照紀","４級","男性","S審判","大分県"]
["R005987458","曽根田　康寿","４級","男性","S審判","大分県"]
["R010262639","園　文来","４級","男性","S審判","大分県"]
["R010386816","園　ひなの","４級","女性","S審判","大分県"]
["R010465921","園　大翔","４級","男性","S審判","大分県"]
["R010588871","園　悠来","４級","男性","S審判","大分県"]
["R010306443","園田　純直","４級","男性","S審判","大分県"]
["R010579152","染矢　宏輝","４級","男性","S審判","大分県"]
["R010546282","染矢　優心","４級","男性","S審判","大分県"]
["R010391935","平　拓巳","４級","男性","S審判","大分県"]
["R010552570","高井　皓介","４級","男性","S審判","大分県"]
["R010552558","高井　颯太","４級","男性","S審判","大分県"]
["R010189295","高榎　健太郎","４級","男性","S審判","大分県"]
["R008174037","高榎　祐太郎","４級","男性","S審判","大分県"]
["R010579142","高岡　心","４級","男性","S審判","大分県"]
["R010546296","高木　勲","４級","男性","S審判","大分県"]
["R010259428","高木　伸","４級","男性","S審判","大分県"]
["R010465602","髙木　大誠","４級","男性","S審判","大分県"]
["R010546328","高木　悠成","４級","男性","S審判","大分県"]
["R010593135","髙木　涼平","４級","男性","S審判","大分県"]
["R001257942","高倉　一城","４級","男性","S審判","大分県"]
["R010314802","高倉　左京","４級","男性","S審判","大分県"]
["R010071976","高倉　凛","４級","男性","S審判","大分県"]
["R010027898","髙瀬　瑛里","４級","男性","S審判","大分県"]
["R010391932","高瀬　大雅","４級","男性","S審判","大分県"]
["R010468412","高田　雅博","４級","男性","S審判","大分県"]
["R010467246","高田　蓮心","４級","男性","S審判","大分県"]
["R010376369","高月　隆成","４級","男性","S審判","大分県"]
["R010579122","高野　凱","４級","男性","S審判","大分県"]
["R003578487","髙野　大輔","４級","男性","S審判","大分県"]
["R008798156","高橋　洸介","４級","男性","S審判","大分県"]
["R010093479","高橋　晃平","４級","男性","S審判","大分県"]
["R010432626","高橋　昊","４級","女性","S審判","大分県"]
["R010579069","高橋　卓也","４級","男性","S審判","大分県"]
["R010594957","高橋　典誠","４級","男性","S審判","大分県"]
["R010579050","髙橋　翔空","４級","男性","S審判","大分県"]
["R010189346","高橋　敏也","４級","男性","S審判","大分県"]
["R010538314","髙橋　陽","４級","男性","S審判","大分県"]
["R010583767","高橋　晴","４級","男性","S審判","大分県"]
["R010444508","高橋　飛向","４級","男性","S審判","大分県"]
["R007334924","高橋　央明","４級","男性","S審判","大分県"]
["R007767432","高橋　瑞紀","４級","女性","S審判","大分県"]
["R010542177","高橋　優","４級","男性","S審判","大分県"]
["R003256062","高橋　由資","４級","男性","S審判","大分県"]
["R006220697","高橋　勇也","４級","男性","S審判","大分県"]
["R010352959","髙橋　涼介","４級","男性","S審判","大分県"]
["R010552540","高橋　良太","４級","男性","S審判","大分県"]
["R010056101","高橋　蓮","４級","男性","S審判","大分県"]
["R010546268","高畑　星耶","４級","男性","S審判","大分県"]
["R010538402","高濱　蒼太","４級","男性","S審判","大分県"]
["R001258136","高原　啓司","４級","男性","S審判","大分県"]
["R010240538","高原　悠太","４級","男性","S審判","大分県"]
["R010546321","髙藤　雅留","４級","男性","S審判","大分県"]
["R010588869","高松　我空","４級","男性","S審判","大分県"]
["R010386811","高松　芹羽","４級","女性","S審判","大分県"]
["R010576537","高見　ゼン","４級","男性","S審判","大分県"]
["R010583798","髙村　悠悟","４級","男性","S審判","大分県"]
["R010538383","髙村　龍冴","４級","男性","S審判","大分県"]
["R010539274","高牟禮　大晃","４級","男性","S審判","大分県"]
["R010350232","髙本　澪奈","４級","女性","S審判","大分県"]
["R010255176","高森　宗治","４級","男性","S審判","大分県"]
["R010391919","高山　湧也","４級","男性","S審判","大分県"]
["R009533440","田上　龍真","４級","男性","S審判","大分県"]
["R010259435","田川　乃々香","４級","女性","S審判","大分県"]
["R010576366","田北　昇大","４級","男性","S審判","大分県"]
["R010448928","田北　豊将","４級","男性","S審判","大分県"]
["R010259424","瀧水　蓮太郎","４級","男性","S審判","大分県"]
["R010538309","田口　碧依","４級","男性","S審判","大分県"]
["R010539286","竹井　琥太朗","４級","男性","S審判","大分県"]
["R010255180","武石　優作","４級","男性","S審判","大分県"]
["R010501304","武内　友多哉","４級","男性","S審判","大分県"]
["R010579113","竹内　悠力","４級","男性","S審判","大分県"]
["R010396553","竹内　璃音","４級","男性","S審判","大分県"]
["R010599170","竹下　輝","４級","男性","S審判","大分県"]
["R010593129","竹下　凛","４級","男性","S審判","大分県"]
["R010546279","竹嶋　優","４級","男性","S審判","大分県"]
["R010546278","竹嶋　凌平","４級","男性","S審判","大分県"]
["R010576523","竹谷　嵩登","４級","男性","S審判","大分県"]
["R008616162","竹田　豪","４級","男性","S審判","大分県"]
["R010586322","武田　司","４級","男性","S審判","大分県"]
["R010586318","竹友　勝虎","４級","男性","S審判","大分県"]
["R007335127","竹中　啓司","４級","男性","S審判","大分県"]
["R010396591","竹中　太志","４級","男性","S審判","大分県"]
["R010593134","竹中　李来","４級","男性","S審判","大分県"]
["R010576549","竹久　浩夢","４級","男性","S審判","大分県"]
["R010579045","武久　文弥","４級","男性","S審判","大分県"]
["R010542181","竹本　哲也","４級","男性","S審判","大分県"]
["R010546332","竹本　優希","４級","男性","S審判","大分県"]
["R010432615","田﨑　逸正","４級","男性","S審判","大分県"]
["R010546320","田崎　大翔","４級","男性","S審判","大分県"]
["R010599870","田崎　斗翔","４級","男性","S審判","大分県"]
["R010583760","田嶋　勇征","４級","男性","S審判","大分県"]
["R010538316","田島　李凰","４級","男性","S審判","大分県"]
["R010306446","多嶋田　尚平","４級","男性","S審判","大分県"]
["R004371818","田代　修三","４級","男性","S審判","大分県"]
["R010303886","田代　翔太郎","４級","男性","S審判","大分県"]
["R010542205","但馬　廉","４級","男性","S審判","大分県"]
["R010465923","多田羅　朔","４級","男性","S審判","大分県"]
["R010599171","多田　侑槻","４級","男性","S審判","大分県"]
["R010593128","立花　幸人","４級","男性","S審判","大分県"]
["R010388057","立花　稜大","４級","男性","S審判","大分県"]
["R010600676","立川　拓樹","４級","男性","S審判","大分県"]
["R010396537","建野　年也","４級","男性","S審判","大分県"]
["R010586320","立脇　蒼惟","４級","男性","S審判","大分県"]
["R010162985","帯刀　悠","４級","男性","S審判","大分県"]
["R010599586","田中　薫平","４級","男性","S審判","大分県"]
["R010586730","田中　大雅","４級","男性","S審判","大分県"]
["R009460542","田中　友浩","４級","男性","S審判","大分県"]
["R010376342","田中　陽澄","４級","男性","S審判","大分県"]
["R010303862","田中　真輝","４級","男性","S審判","大分県"]
["R010376323","田中　真樹","４級","男性","S審判","大分県"]
["R010189067","田中　靖之","４級","男性","S審判","大分県"]
["R010576512","田中　優佑","４級","男性","S審判","大分県"]
["R010056104","田中　雄大","４級","男性","S審判","大分県"]
["R010538395","田中　悠陽","４級","男性","S審判","大分県"]
["R010599187","田中　裕也","４級","男性","S審判","大分県"]
["R010546335","田中　琉偉","４級","男性","S審判","大分県"]
["R010576511","田中　廉人","４級","男性","S審判","大分県"]
["R010538400","田辺　逞登","４級","男性","S審判","大分県"]
["R010593127","田邉　陽翔","４級","男性","S審判","大分県"]
["R010538404","田邉　秀和","４級","男性","S審判","大分県"]
["R007728503","田邊　政治","４級","男性","S審判","大分県"]
["R010599181","谷　竜之介","４級","男性","S審判","大分県"]
["R010542175","谷川　勝利","４級","男性","S審判","大分県"]
["R010444515","谷川　滉樹","４級","男性","S審判","大分県"]
["R008798484","谷川　潤弥","４級","男性","S審判","大分県"]
["R010546271","谷口　流星心","４級","男性","S審判","大分県"]
["R010540026","谷口　大将","４級","男性","S審判","大分県"]
["R010352981","谷口　直也","４級","男性","S審判","大分県"]
["R010576514","谷本　薫平","４級","男性","S審判","大分県"]
["R010214471","田野　愛華","４級","女性","S審判","大分県"]
["R010167790","田野　翔大","４級","男性","S審判","大分県"]
["R010391947","田畑　篤郎","４級","男性","S審判","大分県"]
["R010576528","田端　大夢","４級","男性","S審判","大分県"]
["R010579157","玉井　祐彰","４級","男性","S審判","大分県"]
["R010450146","玉浦　想","４級","男性","S審判","大分県"]
["R010357152","玉城　宗馬","４級","男性","S審判","大分県"]
["R010600674","玉永　史春","４級","男性","S審判","大分県"]
["R010549368","田村　音羽","４級","女性","S審判","大分県"]
["R008797704","田村　健二","４級","男性","S審判","大分県"]
["R010281809","田村　拓也","４級","男性","S審判","大分県"]
["R010576562","田村　莉生","４級","男性","S審判","大分県"]
["R010588878","田村　蓮人","４級","男性","S審判","大分県"]
["R010593125","大海　太馳","４級","男性","S審判","大分県"]
["R006111195","伊達　秀憲","４級","男性","S審判","大分県"]
["R001251753","伊達　洋介","４級","男性","S審判","大分県"]
["R010546333","壇　直助","４級","男性","S審判","大分県"]
["R010513889","近砂　覚志","４級","男性","S審判","大分県"]
["R001258455","千原　秀介","４級","男性","S審判","大分県"]
["R010579074","千原　天聖","４級","男性","S審判","大分県"]
["R010396504","忠願寺　慶祐","４級","男性","S審判","大分県"]
["R010354820","長木　環和","４級","男性","S審判","大分県"]
["R010546312","通正　純之介","４級","男性","S審判","大分県"]
["R010579156","司城　大輝","４級","男性","S審判","大分県"]
["R010552542","塚崎　春輝","４級","男性","S審判","大分県"]
["R010599581","塚崎　仁志","４級","男性","S審判","大分県"]
["R010579062","塚野　太心","４級","男性","S審判","大分県"]
["R010540698","塚本　迅平","４級","男性","S審判","大分県"]
["R010214610","津崎　祐二","４級","男性","S審判","大分県"]
["R010552563","津崎　亮佑","４級","男性","S審判","大分県"]
["R010576566","對馬　佑樹","４級","男性","S審判","大分県"]
["R010538312","辻　翔貴","４級","男性","S審判","大分県"]
["R001258491","辻　道弘","４級","男性","S審判","大分県"]
["R010093455","津田　敬太","４級","男性","S審判","大分県"]
["R010599599","津田　光一","４級","男性","S審判","大分県"]
["R010583801","土屋　慶悟","４級","男性","S審判","大分県"]
["R010599174","土屋　毅留","４級","男性","S審判","大分県"]
["R010189345","筒井　愛","４級","女性","S審判","大分県"]
["R010579144","筒井　遥斗","４級","男性","S審判","大分県"]
["R010583781","筒井　大翔","４級","男性","S審判","大分県"]
["R008360148","堤　哲郎","４級","男性","S審判","大分県"]
["R010552566","都築　正虎","４級","男性","S審判","大分県"]
["R008651794","都竹　創","４級","男性","S審判","大分県"]
["R005405723","恒松　和也","４級","男性","S審判","大分県"]
["R010303858","角田　海斗","４級","男性","S審判","大分県"]
["R010391929","津村　真生","４級","男性","S審判","大分県"]
["R006937089","津守　翔太","４級","男性","S審判","大分県"]
["R010303879","津谷　海登","４級","男性","S審判","大分県"]
["R010444498","都留　祐也","４級","男性","S審判","大分県"]
["R010538394","鶴河　翔太","４級","男性","S審判","大分県"]
["R010552530","鶴田　翔一","４級","男性","S審判","大分県"]
["R010538399","鶴原　聖季","４級","男性","S審判","大分県"]
["R010583763","鶴原　大斗","４級","男性","S審判","大分県"]
["R010444506","鶴原　楓也","４級","男性","S審判","大分県"]
["R010583792","寺田　健太郎","４級","男性","S審判","大分県"]
["R001258613","出口　功","４級","男性","S審判","大分県"]
["R010583759","出口　湧也","４級","男性","S審判","大分県"]
["R010579148","戸井　淳太","４級","男性","S審判","大分県"]
["R010542189","藤内　勇一朗","４級","男性","S審判","大分県"]
["R010243644","遠山　隼都","４級","男性","S審判","大分県"]
["R010542168","時松　辰行","４級","男性","S審判","大分県"]
["R010552548","徳留　滉人","４級","男性","S審判","大分県"]
["R010093499","徳丸　淳治","４級","男性","S審判","大分県"]
["R010538380","得丸　宗志","４級","男性","S審判","大分県"]
["R010376314","徳丸　太陽","４級","男性","S審判","大分県"]
["R010255154","得丸　拓実","４級","男性","S審判","大分県"]
["R010594940","徳丸　白空","４級","男性","S審判","大分県"]
["R001258695","徳丸　英明","４級","男性","S審判","大分県"]
["R010552560","徳丸　聖人","４級","男性","S審判","大分県"]
["R001258686","得丸　政徳","４級","男性","S審判","大分県"]
["R010391941","渡久地　蒔人","４級","男性","S審判","大分県"]
["R010379064","都甲　空","４級","男性","S審判","大分県"]
["R010599579","土佐林　優歩","４級","男性","S審判","大分県"]
["R010445854","利光　蒼志","４級","男性","S審判","大分県"]
["R010159150","戸田　汐音","４級","男性","S審判","大分県"]
["R010046512","十時　優介","４級","男性","S審判","大分県"]
["R010415910","笘川　銀雅","４級","男性","S審判","大分県"]
["R010027867","富田　靖夫","４級","男性","S審判","大分県"]
["R010593141","冨高　湧気","４級","男性","S審判","大分県"]
["R010027830","富永　渉太","４級","男性","S審判","大分県"]
["R001258765","富永　佳幸","４級","男性","S審判","大分県"]
["R010581160","富山　保","４級","男性","S審判","大分県"]
["R005405608","冨吉　弘一","４級","男性","S審判","大分県"]
["R010281868","友田　裕斗","４級","男性","S審判","大分県"]
["R010576538","友永　秀哉","４級","男性","S審判","大分県"]
["R010415915","友永　弥","４級","男性","S審判","大分県"]
["R010586715","友成　勇太朗","４級","男性","S審判","大分県"]
["R010100678","友松　誠二","４級","男性","S審判","大分県"]
["R010313755","豊島　勇樹","４級","男性","S審判","大分県"]
["R010552576","豊田　亜紀","４級","女性","S審判","大分県"]
["R010448248","豊田　颯花","４級","女性","S審判","大分県"]
["R003421170","豊田　裕司","４級","男性","S審判","大分県"]
["R010546299","豊永　優介","４級","男性","S審判","大分県"]
["R010583766","豊福　泰生","４級","男性","S審判","大分県"]
["R010576557","豊本　照仁","４級","男性","S審判","大分県"]
["R010586311","土井　純音","４級","男性","S審判","大分県"]
["R010576388","土居　駿斗","４級","男性","S審判","大分県"]
["R010579078","内藤　暖","４級","男性","S審判","大分県"]
["R010576389","直野　優斗","４級","男性","S審判","大分県"]
["R010168000","仲　恭平","４級","男性","S審判","大分県"]
["R010445845","仲　尚樹","４級","男性","S審判","大分県"]
["R010583791","中井　薫","４級","男性","S審判","大分県"]
["R010539280","中尾　颯太","４級","男性","S審判","大分県"]
["R010120161","中尾　雅俊","４級","男性","S審判","大分県"]
["R010390441","中岡　駿","４級","男性","S審判","大分県"]
["R004793931","中川　勝裕","４級","男性","S審判","大分県"]
["R010579115","中川　昂大","４級","男性","S審判","大分県"]
["R010583776","中川　翔天","４級","男性","S審判","大分県"]
["R001258880","中川　俊哉","４級","男性","S審判","大分県"]
["R010432640","中川　陽斗","４級","男性","S審判","大分県"]
["R010581174","中川　雄太","４級","男性","S審判","大分県"]
["R010263774","中川　蓮太","４級","男性","S審判","大分県"]
["R010448251","中倉　咲姫","４級","女性","S審判","大分県"]
["R010549363","中倉　舞姫","４級","女性","S審判","大分県"]
["R002530329","中島　大成","４級","男性","S審判","大分県"]
["R010388049","中島　魁利","４級","男性","S審判","大分県"]
["R010162981","中島　柊","４級","男性","S審判","大分県"]
["R010396594","中島　忠伸","４級","男性","S審判","大分県"]
["R010396533","中嶋　哲也","４級","男性","S審判","大分県"]
["R010167786","中島　湧友","４級","男性","S審判","大分県"]
["R010546327","中島　陸斗","４級","男性","S審判","大分県"]
["R010579082","中島　龍世","４級","男性","S審判","大分県"]
["R010576516","中島　壮","４級","男性","S審判","大分県"]
["R010214567","中嶋　完","４級","男性","S審判","大分県"]
["R001258914","中嶋　結孝","４級","男性","S審判","大分県"]
["R010579136","中城　篤也","４級","男性","S審判","大分県"]
["R010281836","仲宗根　玄昌","４級","男性","S審判","大分県"]
["R010083855","中津留　海翔","４級","男性","S審判","大分県"]
["R006125602","中津留　正三","４級","男性","S審判","大分県"]
["R010432607","中津留　蓮","４級","男性","S審判","大分県"]
["R007334942","中津留　治将","４級","男性","S審判","大分県"]
["R002917412","中西　智彦","４級","男性","S審判","大分県"]
["R010546313","中根　漸","４級","男性","S審判","大分県"]
["R001259038","中根　幹雄","４級","男性","S審判","大分県"]
["R010056094","中根　武蔵","４級","男性","S審判","大分県"]
["R010281799","中野　明","４級","男性","S審判","大分県"]
["R010581162","仲野　翔真","４級","男性","S審判","大分県"]
["R010594970","なかの　太陽","４級","男性","S審判","大分県"]
["R010542202","中野　匠","４級","男性","S審判","大分県"]
["R001259056","中野　俊宏","４級","男性","S審判","大分県"]
["R010586304","中野　友晶","４級","男性","S審判","大分県"]
["R010093448","中野　智博","４級","男性","S審判","大分県"]
["R010078598","中野　浩志","４級","男性","S審判","大分県"]
["R010593968","仲野　雅貴","４級","男性","S審判","大分県"]
["R010576574","中野　洸嘉","４級","男性","S審判","大分県"]
["R010281853","中野　竜太","４級","男性","S審判","大分県"]
["R006574394","中畑　光宏","４級","男性","S審判","大分県"]
["R010396575","中原　壱春","４級","男性","S審判","大分県"]
["R010546291","中原　笙","４級","男性","S審判","大分県"]
["R010576527","中原　拓海","４級","男性","S審判","大分県"]
["R010261596","中平　康士朗","４級","男性","S審判","大分県"]
["R001251896","中間　敏彦","４級","男性","S審判","大分県"]
["R010354814","中溝　遥","４級","男性","S審判","大分県"]
["R010354801","中道　裕斗","４級","男性","S審判","大分県"]
["R010016109","仲村　晃和","４級","男性","S審判","大分県"]
["R010594960","中村　歩聖","４級","男性","S審判","大分県"]
["R010391933","中村　出海","４級","男性","S審判","大分県"]
["R010538378","中村　海晴","４級","男性","S審判","大分県"]
["R010586305","中村　昊陽","４級","男性","S審判","大分県"]
["R003316948","中村　冴里","４級","女性","S審判","大分県"]
["R010576524","中村　尚英","４級","男性","S審判","大分県"]
["R010467694","中邑　惺良","４級","男性","S審判","大分県"]
["R010432643","中村　奏太","４級","男性","S審判","大分県"]
["R009197585","中村　智美","４級","女性","S審判","大分県"]
["R010599608","仲村　晃瑠","４級","男性","S審判","大分県"]
["R001251911","中村　真彦","４級","男性","S審判","大分県"]
["R010444500","中村　洋三","４級","男性","S審判","大分県"]
["R009198274","中村　洋太","４級","男性","S審判","大分県"]
["R010576561","中村　亮汰","４級","男性","S審判","大分県"]
["R010448938","中村　怜音","４級","男性","S審判","大分県"]
["R010538407","中谷　翔","４級","男性","S審判","大分県"]
["R010376273","中山　忍","４級","男性","S審判","大分県"]
["R010542206","中渡瀬　翔和","４級","男性","S審判","大分県"]
["R010376280","中渡瀬　真樹","４級","男性","S審判","大分県"]
["R010167747","永井　啓太朗","４級","男性","S審判","大分県"]
["R010352943","永井　秀","４級","男性","S審判","大分県"]
["R010240580","永井　智大","４級","男性","S審判","大分県"]
["R010546316","永井　陽","４級","男性","S審判","大分県"]
["R010538398","長井　瑠之介","４級","男性","S審判","大分県"]
["R010214609","長尾　浩希","４級","男性","S審判","大分県"]
["R010586725","長尾　俊汰","４級","男性","S審判","大分県"]
["R010281817","永尾　透","４級","男性","S審判","大分県"]
["R010597289","永尾　遥飛","４級","男性","S審判","大分県"]
["R010581159","永尾　美保","４級","女性","S審判","大分県"]
["R010376366","長岡　範","４級","男性","S審判","大分県"]
["R010448231","永岡　才拓","４級","男性","S審判","大分県"]
["R010445848","長岡　巧磨","４級","男性","S審判","大分県"]
["R010465608","長岡　大介","４級","男性","S審判","大分県"]
["R010593122","長澤　諒","４級","男性","S審判","大分県"]
["R010586309","長瀬　陽基","４級","男性","S審判","大分県"]
["R010581175","長田　昂大","４級","男性","S審判","大分県"]
["R010390438","永田　壮一郎","４級","男性","S審判","大分県"]
["R010586319","長田　遥蒼","４級","男性","S審判","大分県"]
["R010546277","永田　悠一郎","４級","男性","S審判","大分県"]
["R010448244","長田　佳洋","４級","男性","S審判","大分県"]
["R010214622","永冨　真依","４級","女性","S審判","大分県"]
["R010538406","長野　新","４級","男性","S審判","大分県"]
["R010465597","長野　武史","４級","男性","S審判","大分県"]
["R010448245","永野　暁希","４級","男性","S審判","大分県"]
["R010388058","長野　優飛","４級","男性","S審判","大分県"]
["R010576542","長濵　夢希","４級","男性","S審判","大分県"]
["R010579114","長濵　昇太朗","４級","男性","S審判","大分県"]
["R010259414","永松　和寿","４級","男性","S審判","大分県"]
["R005528264","永松　裕史","４級","男性","S審判","大分県"]
["R010396535","永松　正規","４級","男性","S審判","大分県"]
["R010465582","永松　賢俊","４級","男性","S審判","大分県"]
["R010390434","長溝　遥","４級","男性","S審判","大分県"]
["R005527353","永山　正樹","４級","男性","S審判","大分県"]
["R010193705","長山　祐介","４級","男性","S審判","大分県"]
["R005987403","流川　新","４級","男性","S審判","大分県"]
["R010581172","名古屋　凌大","４級","男性","S審判","大分県"]
["R010027829","奈須　大和","４級","男性","S審判","大分県"]
["R009072295","奈須野　安侑里","４級","女性","S審判","大分県"]
["R010546273","奈須野　友登","４級","男性","S審判","大分県"]
["R010542210","奈良　虎汰郎","４級","男性","S審判","大分県"]
["R010588879","奈良　三志朗","４級","男性","S審判","大分県"]
["R010453582","楢崎　嵩斗","４級","男性","S審判","大分県"]
["R010538327","成松　怜音","４級","男性","S審判","大分県"]
["R010542208","鳴海　翔丸","４級","男性","S審判","大分県"]
["R010538356","縄田　遊乃亮","４級","男性","S審判","大分県"]
["R010542193","南里　仁士","４級","男性","S審判","大分県"]
["R010579051","新名　桜晟","４級","男性","S審判","大分県"]
["R010583768","新名　巧旺","４級","男性","S審判","大分県"]
["R010356119","新名　翔太","４級","男性","S審判","大分県"]
["R010356118","新名　拓哉","４級","男性","S審判","大分県"]
["R010599601","新納　彪生","４級","男性","S審判","大分県"]
["R010358010","新納　永遠","４級","男性","S審判","大分県"]
["R010599186","西　佑太","４級","男性","S審判","大分県"]
["R010314809","西尾　圭翔","４級","男性","S審判","大分県"]
["R010576375","西尾　晃空","４級","男性","S審判","大分県"]
["R004386023","西尾　拓之","４級","男性","S審判","大分県"]
["R010303856","西尾　陸","４級","男性","S審判","大分県"]
["R001251957","西岡　京一郎","４級","男性","S審判","大分県"]
["R010538313","西角　航兵","４級","男性","S審判","大分県"]
["R010453597","西角　陽佑","４級","男性","S審判","大分県"]
["R010393995","西田　愛奈","４級","女性","S審判","大分県"]
["R010396501","西田　翔","４級","男性","S審判","大分県"]
["R010581168","西田　順","４級","男性","S審判","大分県"]
["R010391944","西野　凌平","４級","男性","S審判","大分県"]
["R010593130","西村　心汰","４級","男性","S審判","大分県"]
["R010593142","西村　文汰","４級","男性","S審判","大分県"]
["R010465601","西山　純平","４級","男性","S審判","大分県"]
["R010448937","新田　莉生","４級","男性","S審判","大分県"]
["R010261590","二宮　叶汰","４級","男性","S審判","大分県"]
["R010261589","二宮　慶太","４級","男性","S審判","大分県"]
["R010576379","二宮　駿太","４級","男性","S審判","大分県"]
["R010583782","二宮　颯春","４級","男性","S審判","大分県"]
["R010465600","二宮　鯛介","４級","男性","S審判","大分県"]
["R010538405","二宮　拓篤","４級","男性","S審判","大分県"]
["R010281837","二宮　大己","４級","男性","S審判","大分県"]
["R010096809","二宮　大作","４級","男性","S審判","大分県"]
["R004055664","二宮　康彰","４級","男性","S審判","大分県"]
["R010432638","仁部屋　透晃","４級","男性","S審判","大分県"]
["R010396551","丹生　良三","４級","男性","S審判","大分県"]
["R010306454","入田　裕治","４級","男性","S審判","大分県"]
["R010583794","如法寺　楓","４級","男性","S審判","大分県"]
["R010583793","如法寺　遥","４級","男性","S審判","大分県"]
["R010390433","庭瀬　元希","４級","男性","S審判","大分県"]
["R010444496","大戸　匠","４級","男性","S審判","大分県"]
["R010376301","野上　拳跳","４級","男性","S審判","大分県"]
["R010552556","野上　哲弘","４級","男性","S審判","大分県"]
["R010027878","野口　一輝","４級","男性","S審判","大分県"]
["R010579158","野口　彗翔","４級","男性","S審判","大分県"]
["R010396600","野口　源若","４級","男性","S審判","大分県"]
["R002917333","野口　康二郎","４級","男性","S審判","大分県"]
["R010027885","野口　智隆","４級","男性","S審判","大分県"]
["R010432606","野口　我太生","４級","男性","S審判","大分県"]
["R010579141","野尻　憲慎","４級","男性","S審判","大分県"]
["R010453583","野尻　慎之助","４級","男性","S審判","大分県"]
["R005527830","野尻　崇","４級","男性","S審判","大分県"]
["R010540708","野尻　拓弥","４級","男性","S審判","大分県"]
["R010306450","野田　啓佑","４級","男性","S審判","大分県"]
["R010214592","野田　航平","４級","男性","S審判","大分県"]
["R010586722","野田　大祐","４級","男性","S審判","大分県"]
["R010080607","野田　晶生","４級","男性","S審判","大分県"]
["R010576383","野仲　晃生","４級","男性","S審判","大分県"]
["R010445241","野中　慎之介","４級","男性","S審判","大分県"]
["R010453577","野々下　蒼斗","４級","男性","S審判","大分県"]
["R001259436","野村　辰寿","４級","男性","S審判","大分県"]
["R006125736","野村　哲也","４級","男性","S審判","大分県"]
["R010354811","野村　春希","４級","男性","S審判","大分県"]
["R010540707","野村　陸翔","４級","男性","S審判","大分県"]
["R010303877","野村　凌","４級","男性","S審判","大分県"]
["R010430157","野元　雅矢","４級","男性","S審判","大分県"]
["R010388042","野依　桂","４級","男性","S審判","大分県"]
["R006544278","則次　祐介","４級","男性","S審判","大分県"]
["R010576364","野呂　仁人","４級","男性","S審判","大分県"]
["R004714721","袴田　真吾","４級","男性","S審判","大分県"]
["R010552557","羽迫　吏久","４級","男性","S審判","大分県"]
["R010450135","挾間　裕生","４級","男性","S審判","大分県"]
["R010352972","間　勇翔","４級","男性","S審判","大分県"]
["R010396567","狹間　優人","４級","男性","S審判","大分県"]
["R010314814","橋口　一斗","４級","男性","S審判","大分県"]
["R010396540","橋本　壮旦","４級","男性","S審判","大分県"]
["R010581178","橋本　蹄弥","４級","男性","S審判","大分県"]
["R006221012","橋本　敏邦","４級","男性","S審判","大分県"]
["R010586328","橋本　尚","４級","男性","S審判","大分県"]
["R007959440","橋本　伸忠","４級","男性","S審判","大分県"]
["R010546293","橋本　祐司","４級","男性","S審判","大分県"]
["R010599873","橋本　琉唯","４級","男性","S審判","大分県"]
["R007729098","長谷　明治","４級","男性","S審判","大分県"]
["R010599584","長谷　樹大","４級","男性","S審判","大分県"]
["R010445839","秦　碧空","４級","男性","S審判","大分県"]
["R010432639","畑　央斗","４級","男性","S審判","大分県"]
["R010248571","畑中　恒輝","４級","男性","S審判","大分県"]
["R010542178","畑中　康祐","４級","男性","S審判","大分県"]
["R010100679","畑中　祝勝","４級","男性","S審判","大分県"]
["R010314826","畑中　大和","４級","男性","S審判","大分県"]
["R010546322","畑中　陽介","４級","男性","S審判","大分県"]
["R010352984","畑野　新司","４級","男性","S審判","大分県"]
["R010281859","羽田野　凪","４級","男性","S審判","大分県"]
["R010007845","波多野　政美","４級","男性","S審判","大分県"]
["R010347358","畑辺　康年","４級","男性","S審判","大分県"]
["R010542191","羽立　智宣","４級","男性","S審判","大分県"]
["R010544476","羽田野　天空","４級","男性","S審判","大分県"]
["R010376287","羽田野　裕之","４級","男性","S審判","大分県"]
["R010169052","羽田野　将斗","４級","男性","S審判","大分県"]
["R003421116","波津久　雄平","４級","男性","S審判","大分県"]
["R010538343","花木　賢斗","４級","男性","S審判","大分県"]
["R010599588","花崎　宏","４級","男性","S審判","大分県"]
["R010468361","花田　俊介","４級","男性","S審判","大分県"]
["R010386809","花宮　うの","４級","女性","S審判","大分県"]
["R010468353","花宮　龍之介","４級","男性","S審判","大分県"]
["R010579137","花宮　蓮","４級","男性","S審判","大分県"]
["R010576553","濱浦　翔","４級","男性","S審判","大分県"]
["R001259579","濱崎　賢一","４級","男性","S審判","大分県"]
["R010390420","浜崎　颯太","４級","男性","S審判","大分県"]
["R010352977","濱砂　樹","４級","男性","S審判","大分県"]
["R010093435","濱田　尚希","４級","男性","S審判","大分県"]
["R010467633","濱野　秀一郎","４級","男性","S審判","大分県"]
["R006221100","浜町　隆蒔","４級","男性","S審判","大分県"]
["R010540706","早木　悠登","４級","男性","S審判","大分県"]
["R010579064","林　明輝","４級","男性","S審判","大分県"]
["R010453586","林　勇陽","４級","男性","S審判","大分県"]
["R010576576","林　流夏","４級","男性","S審判","大分県"]
["R010396503","林田　健太","４級","男性","S審判","大分県"]
["R008626965","原　海斗","４級","男性","S審判","大分県"]
["R009528800","原　和将","４級","男性","S審判","大分県"]
["R006937113","原　大恭","４級","男性","S審判","大分県"]
["R006220095","原　正佳","４級","男性","S審判","大分県"]
["R010586317","原田　煌也","４級","男性","S審判","大分県"]
["R010243653","原田　圭","４級","男性","S審判","大分県"]
["R010579047","原田　航輝","４級","男性","S審判","大分県"]
["R010259430","原田　光清","４級","男性","S審判","大分県"]
["R010579117","原田　幸汰","４級","男性","S審判","大分県"]
["R010542170","原田　剛","４級","男性","S審判","大分県"]
["R010432628","原田　隼大","４級","男性","S審判","大分県"]
["R010583780","原田　高虎","４級","男性","S審判","大分県"]
["R010100690","原田　拓弥","４級","男性","S審判","大分県"]
["R001259685","原田　健士","４級","男性","S審判","大分県"]
["R010594944","原田　知哉","４級","男性","S審判","大分県"]
["R004747215","原田　宗法","４級","男性","S審判","大分県"]
["R010189330","原田　裕規","４級","男性","S審判","大分県"]
["R010432649","原田　琉唯","４級","男性","S審判","大分県"]
["R010552578","針宮　孝典","４級","男性","S審判","大分県"]
["R010376309","馬場　一颯","４級","男性","S審判","大分県"]
["R010540705","馬場　晴大","４級","男性","S審判","大分県"]
["R004111605","馬場　睦紀","４級","男性","S審判","大分県"]
["R010576572","東　健翔","４級","男性","S審判","大分県"]
["R010576579","東創也　創也","４級","男性","S審判","大分県"]
["R010376345","東　大晟","４級","男性","S審判","大分県"]
["R010546334","東　拓海","４級","男性","S審判","大分県"]
["R010453600","東　喜礼","４級","男性","S審判","大分県"]
["R010586292","東　侑平","４級","男性","S審判","大分県"]
["R010391930","東方　優也","４級","男性","S審判","大分県"]
["R010538330","疋田　和正","４級","男性","S審判","大分県"]
["R010468362","疋田　真吾","４級","男性","S審判","大分県"]
["R010546331","樋口　咲哉","４級","男性","S審判","大分県"]
["R010586731","樋口　温","４級","男性","S審判","大分県"]
["R010376333","日隈　駿","４級","男性","S審判","大分県"]
["R010579076","日隈　琳鳳","４級","男性","S審判","大分県"]
["R010542201","肥後　克匡","４級","男性","S審判","大分県"]
["R010593965","日坂　春翔","４級","男性","S審判","大分県"]
["R010313751","日坂　仁哉","４級","男性","S審判","大分県"]
["R003350890","久田　祥孝","４級","男性","S審判","大分県"]
["R010448934","久恒　碧哉","４級","男性","S審判","大分県"]
["R009533422","日高　世那","４級","男性","S審判","大分県"]
["R010576573","日高　堪斗","４級","男性","S審判","大分県"]
["R010538346","日野　一平","４級","男性","S審判","大分県"]
["R010432629","日野　開智","４級","男性","S審判","大分県"]
["R010576551","日野　海土","４級","男性","S審判","大分県"]
["R004111368","日野　崇","４級","男性","S審判","大分県"]
["R010583790","日野　天翔","４級","男性","S審判","大分県"]
["R010576367","日野　那音","４級","男性","S審判","大分県"]
["R010581181","日野　由香里","４級","女性","S審判","大分県"]
["R010189332","姫野　賢吾","４級","男性","S審判","大分県"]
["R010390435","姫野　柊斗","４級","男性","S審判","大分県"]
["R010542172","姫野　祥吾","４級","男性","S審判","大分県"]
["R010351361","姫野　聖太","４級","男性","S審判","大分県"]
["R010352969","姫野　聖也","４級","男性","S審判","大分県"]
["R010243665","姫野　青空","４級","男性","S審判","大分県"]
["R010449907","姫野　太一","４級","男性","S審判","大分県"]
["R007959194","姫野　貴裕","４級","男性","S審判","大分県"]
["R010027875","姫野　太輔","４級","男性","S審判","大分県"]
["R010579049","姫野　陽斗","４級","男性","S審判","大分県"]
["R010214596","姫野　晴人","４級","男性","S審判","大分県"]
["R010376279","姫野　雅俊","４級","男性","S審判","大分県"]
["R009430435","姫野　真智代","４級","女性","S審判","大分県"]
["R010453580","姫野　雄太","４級","男性","S審判","大分県"]
["R010542187","兵頭　哲也","４級","男性","S審判","大分県"]
["R010396576","平井　康寛","４級","男性","S審判","大分県"]
["R010588867","平石　祥梧","４級","男性","S審判","大分県"]
["R010579066","平川　幹大","４級","男性","S審判","大分県"]
["R010259426","平川　功ニ","４級","男性","S審判","大分県"]
["R001259898","平川　孝幸","４級","男性","S審判","大分県"]
["R010444519","平川　龍大","４級","男性","S審判","大分県"]
["R010432600","平沼　鉄生","４級","男性","S審判","大分県"]
["R001259986","平野　雅也","４級","男性","S審判","大分県"]
["R010468351","平野　雅幸","４級","男性","S審判","大分県"]
["R008174064","平野　道弘","４級","男性","S審判","大分県"]
["R010248581","平野　靖成","４級","男性","S審判","大分県"]
["R010376335","平野　泰寛","４級","男性","S審判","大分県"]
["R004386193","平畠　数大","４級","男性","S審判","大分県"]
["R010214604","平林　昭二","４級","男性","S審判","大分県"]
["R010352938","平林　拓朗","４級","男性","S審判","大分県"]
["R001260016","平原　晃","４級","男性","S審判","大分県"]
["R008797953","平原　悟","４級","男性","S審判","大分県"]
["R010159158","平松　孝汰朗","４級","男性","S審判","大分県"]
["R010542207","平松　敬章","４級","男性","S審判","大分県"]
["R010450133","平山　雄太","４級","男性","S審判","大分県"]
["R010579140","平山　大雅","４級","男性","S審判","大分県"]
["R010376295","平山　鷹也","４級","男性","S審判","大分県"]
["R010467837","平山　大悟","４級","男性","S審判","大分県"]
["R010579068","廣岡　克也","４級","男性","S審判","大分県"]
["R010588861","廣川　敬太","４級","男性","S審判","大分県"]
["R010262652","廣瀬　長治","４級","男性","S審判","大分県"]
["R010390436","廣瀬　丈倖","４級","男性","S審判","大分県"]
["R010069886","廣瀬　直軌","４級","男性","S審判","大分県"]
["R008798253","廣瀬　尚人","４級","男性","S審判","大分県"]
["R006872296","廣瀬　光雄","４級","男性","S審判","大分県"]
["R010351380","廣瀬　有気","４級","男性","S審判","大分県"]
["R010594945","廣瀬　雄太郎","４級","男性","S審判","大分県"]
["R010449912","廣瀬　龍治","４級","男性","S審判","大分県"]
["R010552575","廣瀬　亮","４級","男性","S審判","大分県"]
["R010538365","廣田　琉我","４級","男性","S審判","大分県"]
["R010576545","廣戸　大樹","４級","男性","S審判","大分県"]
["R010552539","廣峯　功一","４級","男性","S審判","大分県"]
["R010538370","深田　勝弥","４級","男性","S審判","大分県"]
["R010593969","深田　豪","４級","男性","S審判","大分県"]
["R010538359","深野　達也","４級","男性","S審判","大分県"]
["R010093449","深見　精二","４級","男性","S審判","大分県"]
["R010583787","福島　瞳也","４級","男性","S審判","大分県"]
["R010394158","福島　莉聖","４級","女性","S審判","大分県"]
["R010465622","福田　航陽","４級","男性","S審判","大分県"]
["R010281831","福田　紫月","４級","男性","S審判","大分県"]
["R010501257","福田　知行","４級","男性","S審判","大分県"]
["R010444513","福田　瑞樹","４級","男性","S審判","大分県"]
["R010391917","福田　芳樹","４級","男性","S審判","大分県"]
["R010576548","福永　楽人","４級","男性","S審判","大分県"]
["R010453589","福永　大起","４級","男性","S審判","大分県"]
["R010552547","福元　陸駆","４級","男性","S審判","大分県"]
["R010214568","藤井　俊輔","４級","男性","S審判","大分県"]
["R010599610","藤井　智也","４級","男性","S審判","大分県"]
["R010576565","藤井　大高","４級","男性","S審判","大分県"]
["R009408825","藤井　康之","４級","男性","S審判","大分県"]
["R010352952","藤岡　典之","４級","男性","S審判","大分県"]
["R010445838","藤川　碧冬","４級","男性","S審判","大分県"]
["R010313762","藤澤　康秀","４級","男性","S審判","大分県"]
["R008173667","藤末　学","４級","男性","S審判","大分県"]
["R010352946","藤田　翔","４級","男性","S審判","大分県"]
["R010444499","藤田　恭輔","４級","男性","S審判","大分県"]
["R010358014","藤田　聖也","４級","男性","S審判","大分県"]
["R010432652","藤田　大幹","４級","男性","S審判","大分県"]
["R010391946","藤田　輝","４級","男性","S審判","大分県"]
["R006220837","藤高　豊彦","４級","男性","S審判","大分県"]
["R010579139","藤戸　瑛太","４級","男性","S審判","大分県"]
["R006123862","藤並　敬大","４級","男性","S審判","大分県"]
["R010445245","藤並　優月","４級","男性","S審判","大分県"]
["R010396574","藤野　聖也","４級","男性","S審判","大分県"]
["R010396505","藤野　哲哉","４級","男性","S審判","大分県"]
["R007090941","藤野　誠","４級","男性","S審判","大分県"]
["R010396545","藤松　秀那","４級","男性","S審判","大分県"]
["R003351233","藤松　竜也","４級","男性","S審判","大分県"]
["R010214617","藤本　宏平","４級","男性","S審判","大分県"]
["R010303865","藤本　諒哉","４級","男性","S審判","大分県"]
["R010467576","藤由　陵司","４級","男性","S審判","大分県"]
["R010552572","藤原　昌","４級","男性","S審判","大分県"]
["R010586299","藤原　巧惺","４級","男性","S審判","大分県"]
["R010421581","藤原　翔大","４級","男性","S審判","大分県"]
["R010448931","藤原　迅","４級","男性","S審判","大分県"]
["R005467945","藤原　妙子","４級","女性","S審判","大分県"]
["R010281867","藤原　茅花紗","４級","女性","S審判","大分県"]
["R010352967","藤原　遥斗","４級","男性","S審判","大分県"]
["R007959547","藤原　宏","４級","男性","S審判","大分県"]
["R010540715","二木　彪太郎","４級","男性","S審判","大分県"]
["R010376304","渕上　力輝","４級","男性","S審判","大分県"]
["R010599604","淵野　日向","４級","男性","S審判","大分県"]
["R010396555","渕野　椋斗","４級","男性","S審判","大分県"]
["R010539285","冨米野　祐輔","４級","男性","S審判","大分県"]
["R010599177","古門　倖太","４級","男性","S審判","大分県"]
["R010588863","古川　士道","４級","男性","S審判","大分県"]
["R010586327","古川　修士","４級","男性","S審判","大分県"]
["R010243661","古川　大翔","４級","男性","S審判","大分県"]
["R010538352","古代　峻也","４級","男性","S審判","大分県"]
["R010468338","古田　健悟","４級","男性","S審判","大分県"]
["R010576544","古田　智暉","４級","男性","S審判","大分県"]
["R010432642","古寺　明日架","４級","男性","S審判","大分県"]
["R010396566","古野　渉","４級","男性","S審判","大分県"]
["R001260405","古畑　親治","４級","男性","S審判","大分県"]
["R010576568","白　太琥","４級","男性","S審判","大分県"]
["R002678009","保明　栄治","４級","男性","S審判","大分県"]
["R010214547","帆足　大","４級","男性","S審判","大分県"]
["R010576374","帆足　陽向","４級","男性","S審判","大分県"]
["R010314803","帆足　優莉","４級","男性","S審判","大分県"]
["R010347384","宝珠　史洋","４級","男性","S審判","大分県"]
["R010444504","法野　功太郎","４級","男性","S審判","大分県"]
["R010448927","外池　健流","４級","男性","S審判","大分県"]
["R010586307","外園　湊心","４級","男性","S審判","大分県"]
["R010579044","外薗　澪","４級","男性","S審判","大分県"]
["R010056105","星野　杏","４級","男性","S審判","大分県"]
["R009484728","星野　嵐","４級","男性","S審判","大分県"]
["R010542174","邉　拓哉","４級","男性","S審判","大分県"]
["R010444520","堀　悠佑","４級","男性","S審判","大分県"]
["R010356144","堀　優太","４級","男性","S審判","大分県"]
["R010448646","堀田　憲利","４級","男性","S審判","大分県"]
["R010586718","堀田　詞音","４級","男性","S審判","大分県"]
["R010538385","堀田　東寿","４級","男性","S審判","大分県"]
["R010586727","堀田　姫花","４級","女性","S審判","大分県"]
["R010376308","堀部　奏人","４級","男性","S審判","大分県"]
["R010448636","本郷　魁正","４級","男性","S審判","大分県"]
["R010354651","本城　瑛翔","４級","男性","S審判","大分県"]
["R010552533","本田　敬恭","４級","男性","S審判","大分県"]
["R001258899","本田　淳仁","４級","男性","S審判","大分県"]
["R010586293","本田　大誠","４級","男性","S審判","大分県"]
["R010583758","本田　郁恭","４級","男性","S審判","大分県"]
["R010540716","眞榮城　倫希","４級","男性","S審判","大分県"]
["R010314830","前園　健晴","４級","男性","S審判","大分県"]
["R006220192","前田　貴浩","４級","男性","S審判","大分県"]
["R010546301","前田　達也","４級","男性","S審判","大分県"]
["R010597284","前田　優希","４級","男性","S審判","大分県"]
["R010432653","マガリェンス　アルナウド","４級","男性","S審判","大分県"]
["R010467248","牧　耕成","４級","男性","S審判","大分県"]
["R010467247","牧　俊成","４級","男性","S審判","大分県"]
["R010093496","牧　大佑","４級","男性","S審判","大分県"]
["R010538362","牧　優空","４級","男性","S審判","大分県"]
["R008793276","牧野　翔","４級","男性","S審判","大分県"]
["R010576539","益田　寛治","４級","男性","S審判","大分県"]
["R010576540","増田　輝","４級","男性","S審判","大分県"]
["R010594956","益永　貫斗","４級","男性","S審判","大分県"]
["R010449558","桝永　真斗","４級","男性","S審判","大分県"]
["R010214601","増野　凌雅","４級","男性","S審判","大分県"]
["R010467242","鱒村　昂一","４級","男性","S審判","大分県"]
["R010581183","鱒村侑土　ますむらゆうと","４級","男性","S審判","大分県"]
["R010432611","松尾　歩","４級","男性","S審判","大分県"]
["R007753660","松尾　和文","４級","男性","S審判","大分県"]
["R005528097","松尾　国洋","４級","男性","S審判","大分県"]
["R007334951","松尾　賢一","４級","男性","S審判","大分県"]
["R010444487","松尾　征吾","４級","男性","S審判","大分県"]
["R010448941","松尾　晴登","４級","男性","S審判","大分県"]
["R010007816","松尾　勇","４級","男性","S審判","大分県"]
["R010599173","松尾　優希羽","４級","男性","S審判","大分県"]
["R010391936","松尾　涼真","４級","男性","S審判","大分県"]
["R010390430","松尾　玲桜馬","４級","男性","S審判","大分県"]
["R010465583","松岡　辰倫","４級","男性","S審判","大分県"]
["R010465616","松川　貴大","４級","男性","S審判","大分県"]
["R010415908","松坂　童夢","４級","男性","S審判","大分県"]
["R010538334","松崎　朱音","４級","女性","S審判","大分県"]
["R010546314","松崎　壮悟","４級","男性","S審判","大分県"]
["R010396597","松﨑　裕太郎","４級","男性","S審判","大分県"]
["R010390425","松下　昂玄","４級","男性","S審判","大分県"]
["R010576377","松下　慶和","４級","男性","S審判","大分県"]
["R010390437","松下　昊稀","４級","男性","S審判","大分県"]
["R010546338","松下　琴春","４級","女性","S審判","大分県"]
["R010390426","松下　真也","４級","男性","S審判","大分県"]
["R007959723","松下　立夫","４級","男性","S審判","大分県"]
["R010583762","松下　未来翔","４級","男性","S審判","大分県"]
["R010552545","松島　大真","４級","男性","S審判","大分県"]
["R010579116","松添　大輝","４級","男性","S審判","大分県"]
["R010448936","松高　蓮","４級","男性","S審判","大分県"]
["R010579154","松田　翔空","４級","男性","S審判","大分県"]
["R010579118","松田　直仁","４級","男性","S審判","大分県"]
["R010311808","松田　信行","４級","男性","S審判","大分県"]
["R010539288","松田　晴輝","４級","男性","S審判","大分県"]
["R010214585","松胴　敦","４級","男性","S審判","大分県"]
["R010579153","松場　次元","４級","男性","S審判","大分県"]
["R010552549","松原　樹","４級","男性","S審判","大分県"]
["R010376327","松原　舜","４級","男性","S審判","大分県"]
["R010432598","松原　巧","４級","男性","S審判","大分県"]
["R007002991","松原　広幸","４級","男性","S審判","大分県"]
["R004714970","松原　政司","４級","男性","S審判","大分県"]
["R010347359","松原　唯衣","４級","女性","S審判","大分県"]
["R010354652","松村　晟直","４級","男性","S審判","大分県"]
["R010416214","松村　未来","４級","女性","S審判","大分県"]
["R010542165","松村　優希","４級","男性","S審判","大分県"]
["R010579056","松本　明大","４級","男性","S審判","大分県"]
["R010538291","松本　元希","４級","男性","S審判","大分県"]
["R010576378","松本　竜弥","４級","男性","S審判","大分県"]
["R010093445","松本　侑樹","４級","男性","S審判","大分県"]
["R004793940","松本　祐輔","４級","男性","S審判","大分県"]
["R010388044","松屋　海","４級","男性","S審判","大分県"]
["R010597285","松山　結大","４級","男性","S審判","大分県"]
["R010546270","松山　琉維","４級","男性","S審判","大分県"]
["R010451954","松雪　浩俊","４級","男性","S審判","大分県"]
["R010007817","松吉　宏剛","４級","男性","S審判","大分県"]
["R010576531","眞鍋　瑛士","４級","男性","S審判","大分県"]
["R010358003","三浦　櫂斗","４級","男性","S審判","大分県"]
["R008634283","三浦　憲太郎","４級","男性","S審判","大分県"]
["R010281804","三浦　建人","４級","男性","S審判","大分県"]
["R010376286","三浦　弘大","４級","男性","S審判","大分県"]
["R010467585","三浦　舜平","４級","男性","S審判","大分県"]
["R010593961","三浦　蒼羽","４級","男性","S審判","大分県"]
["R010453592","三浦　大雅","４級","男性","S審判","大分県"]
["R010120131","三浦　哲郎","４級","男性","S審判","大分県"]
["R010538321","三浦　朋尚","４級","男性","S審判","大分県"]
["R010432617","三浦　永遠","４級","男性","S審判","大分県"]
["R010445836","三浦　隼","４級","男性","S審判","大分県"]
["R010451960","三浦　颯仁","４級","男性","S審判","大分県"]
["R010516222","三浦　瑞生","４級","男性","S審判","大分県"]
["R006932437","三浦　雄大","４級","男性","S審判","大分県"]
["R010538372","三浦　吏琥","４級","男性","S審判","大分県"]
["R010579100","三浦　琉誠","４級","男性","S審判","大分県"]
["R006125772","三重野　英人","４級","男性","S審判","大分県"]
["R010451962","三ヶ尻　匠吾","４級","男性","S審判","大分県"]
["R008523181","三木　慎博","４級","男性","S審判","大分県"]
["R010542192","右田　茂之","４級","男性","S審判","大分県"]
["R010391914","三代　賢司","４級","男性","S審判","大分県"]
["R010453591","三代　脩","４級","男性","S審判","大分県"]
["R004060374","水島　義規","４級","男性","S審判","大分県"]
["R010539946","水城　莉緒斗","４級","男性","S審判","大分県"]
["R010465615","水野　裕通","４級","男性","S審判","大分県"]
["R010449908","溝辺　哲也","４級","男性","S審判","大分県"]
["R010538363","溝邉　陸馬","４級","男性","S審判","大分県"]
["R010467630","御手洗　慶吾","４級","男性","S審判","大分県"]
["R004794073","御手洗　佑太","４級","男性","S審判","大分県"]
["R010386812","道久　絵理","４級","女性","S審判","大分県"]
["R010542196","道脇　陽介","４級","男性","S審判","大分県"]
["R010376283","三井　雄大","４級","男性","S審判","大分県"]
["R010465590","満永　啓祐","４級","男性","S審判","大分県"]
["R010546295","光長　好男","４級","男性","S審判","大分県"]
["R002917494","三笘　晋也","４級","男性","S審判","大分県"]
["R001261060","三苫　靖","４級","男性","S審判","大分県"]
["R010350225","南　佳織","４級","女性","S審判","大分県"]
["R010552554","南　煌大","４級","男性","S審判","大分県"]
["R010467693","南　創太","４級","男性","S審判","大分県"]
["R010352957","南　岳嗣","４級","男性","S審判","大分県"]
["R010214563","峰尾　勝","４級","男性","S審判","大分県"]
["R010599185","峰田　雅人","４級","男性","S審判","大分県"]
["R003677432","三原　将弥","４級","男性","S審判","大分県"]
["R010376288","三股　正直","４級","男性","S審判","大分県"]
["R010376890","宮井　翔太","４級","男性","S審判","大分県"]
["R010594955","宮垣　康次郎","４級","男性","S審判","大分県"]
["R010468360","宮迫　悟","４級","男性","S審判","大分県"]
["R010576546","宮崎　康晴","４級","男性","S審判","大分県"]
["R010594973","宮﨑　大翔","４級","男性","S審判","大分県"]
["R010449906","宮崎　翼","４級","男性","S審判","大分県"]
["R004793852","宮崎　友雅","４級","男性","S審判","大分県"]
["R010465624","宮崎　裕司","４級","男性","S審判","大分県"]
["R010396588","宮里　直太郎","４級","男性","S審判","大分県"]
["R010538357","宮成　亨治","４級","男性","S審判","大分県"]
["R010579098","宮野　倖希","４級","男性","S審判","大分県"]
["R010402786","宮房　舞太朗","４級","男性","S審判","大分県","大分県"]
["R010261610","宮部　俊輝","４級","男性","S審判","大分県"]
["R010588858","宮本　空弥","４級","男性","S審判","大分県"]
["R010465579","宮本　圭一郎","４級","男性","S審判","大分県"]
["R010390429","宮本　晄汰","４級","男性","S審判","大分県"]
["R010356116","宮本　崇史","４級","男性","S審判","大分県"]
["R010465928","宮本　大吾","４級","男性","S審判","大分県"]
["R010579111","宮本　凪","４級","男性","S審判","大分県"]
["R010576508","宮本　規央","４級","男性","S審判","大分県"]
["R010354797","宮本　陽紀","４級","男性","S審判","大分県"]
["R010415889","宮本　遼一","４級","男性","S審判","大分県"]
["R010546285","宮本　怜旺","４級","男性","S審判","大分県"]
["R010538328","宮脇　大芽","４級","男性","S審判","大分県"]
["R010347376","三善　李空","４級","男性","S審判","大分県"]
["R010314817","向井　翔夢","４級","男性","S審判","大分県"]
["R010576526","牟田　風太","４級","男性","S審判","大分県"]
["R010538333","武藤　匠海","４級","男性","S審判","大分県"]
["R010247786","宗岡　胡桃","４級","女性","S審判","大分県"]
["R004793755","宗岡　亮次","４級","男性","S審判","大分県"]
["R010358006","村井　栄仁","４級","男性","S審判","大分県"]
["R010354655","村岡　拓海","４級","男性","S審判","大分県"]
["R010214582","村上　叶恋","４級","女性","S審判","大分県"]
["R010314806","村上　煌誠","４級","男性","S審判","大分県"]
["R010594969","村上　豪","４級","男性","S審判","大分県"]
["R010313763","村上　瑳彩","４級","女性","S審判","大分県"]
["R010347370","村上　紫叶","４級","男性","S審判","大分県"]
["R010579061","村上　泰基","４級","男性","S審判","大分県"]
["R010579150","村上　温俊","４級","男性","S審判","大分県"]
["R010594971","村上　輝","４級","男性","S審判","大分県"]
["R010376898","村上　滉心","４級","男性","S審判","大分県"]
["R001261237","村上　康哉","４級","男性","S審判","大分県"]
["R010128051","村上　悠晟","４級","男性","S審判","大分県"]
["R001737174","村上　洋平","４級","男性","S審判","大分県"]
["R010593136","村上　陸","４級","男性","S審判","大分県"]
["R010546325","村田　龍二","４級","男性","S審判","大分県"]
["R010303878","村松　凌","４級","男性","S審判","大分県"]
["R010162976","村本　輝","４級","男性","S審判","大分県"]
["R008797908","村谷　祐一","４級","男性","S審判","大分県"]
["R010214562","村山　武志","４級","男性","S審判","大分県"]
["R010468355","室　元樹","４級","男性","S審判","大分県"]
["R010586302","室谷　優心","４級","男性","S審判","大分県"]
["R010314810","用松　聖登","４級","男性","S審判","大分県"]
["R010540714","本川　晴斗","４級","男性","S審判","大分県"]
["R010306448","元木　勇太","４級","男性","S審判","大分県"]
["R003421684","本野　秀貴","４級","男性","S審判","大分県"]
["R010576513","本室　匠翔","４級","男性","S審判","大分県"]
["R010546272","百田　凌基","４級","男性","S審判","大分県"]
["R010594939","森　愛斗","４級","男性","S審判","大分県"]
["R010451959","森　綾斗","４級","男性","S審判","大分県"]
["R010214605","森　恭子","４級","女性","S審判","大分県"]
["R010390423","森　健太朗","４級","男性","S審判","大分県"]
["R010538340","森　弦世","４級","男性","S審判","大分県"]
["R010465588","森　秀太","４級","男性","S審判","大分県"]
["R010579077","森　脩人","４級","男性","S審判","大分県"]
["R010553464","森　寛希","４級","男性","S審判","大分県"]
["R010538303","森　凛桜","４級","女性","S審判","大分県"]
["R010214606","森　凛人","４級","男性","S審判","大分県"]
["R010281811","森崎　敬三","４級","男性","S審判","大分県"]
["R010540702","森崎　陽輝","４級","男性","S審判","大分県"]
["R010448918","森崎　瑠聖","４級","男性","S審判","大分県"]
["R010421575","森崎　瑠菜","４級","女性","S審判","大分県"]
["R010261595","森迫　遥希","４級","男性","S審判","大分県"]
["R010415902","森下　柊飛","４級","男性","S審判","大分県"]
["R010069888","森下　晴悟","４級","男性","S審判","大分県"]
["R010546286","森下　春翔","４級","男性","S審判","大分県"]
["R009547081","森田　章吾","４級","男性","S審判","大分県"]
["R010391928","森田　尚貴","４級","男性","S審判","大分県"]
["R010546280","盛田　柚九","４級","男性","S審判","大分県"]
["R010576386","森永　一輝","４級","男性","S審判","大分県"]
["R010259432","森永　和彦","４級","男性","S審判","大分県"]
["R010538339","森永　悠太","４級","男性","S審判","大分県"]
["R010415904","森光　皇介","４級","男性","S審判","大分県"]
["R010576533","森本　祥晃","４級","男性","S審判","大分県"]
["R010538310","森山　藍琉","４級","男性","S審判","大分県"]
["R010416219","森山　敦能","４級","男性","S審判","大分県"]
["R010448946","森山　大翔","４級","男性","S審判","大分県"]
["R010540723","森山　悠太","４級","男性","S審判","大分県"]
["R010588860","諸永　徠斗","４級","男性","S審判","大分県"]
["R010465599","薬師寺　康平","４級","男性","S審判","大分県"]
["R010352985","薬師寺　章伊","４級","男性","S審判","大分県"]
["R009554735","八坂　直輝","４級","男性","S審判","大分県"]
["R009460472","八坂　秀青","４級","男性","S審判","大分県"]
["R010396581","矢治　弘志郎","４級","男性","S審判","大分県"]
["R007757602","保田　拓海","４級","男性","S審判","大分県"]
["R010579107","安永　瑛翔","４級","男性","S審判","大分県"]
["R001261413","安永　正宏","４級","男性","S審判","大分県"]
["R010093501","安波　俊英","４級","男性","S審判","大分県"]
["R010376892","安久　克也","４級","男性","S審判","大分県"]
["R010100689","保本　忠広","４級","男性","S審判","大分県"]
["R010594972","矢頭　幸平","４級","男性","S審判","大分県"]
["R010314816","矢田　彩都","４級","男性","S審判","大分県"]
["R010027880","柳井　颯太","４級","男性","S審判","大分県"]
["R010467577","矢内　蒼丸","４級","男性","S審判","大分県"]
["R010538290","柳井　雅貴","４級","男性","S審判","大分県"]
["R010303889","柳　侑吾","４級","男性","S審判","大分県"]
["R010579083","栁本　楓","４級","男性","S審判","大分県"]
["R010453584","柳本　龍成","４級","男性","S審判","大分県"]
["R010538389","矢野　伊織","４級","男性","S審判","大分県"]
["R010579108","矢野　草隼","４級","男性","S審判","大分県"]
["R010415909","矢野　想翔","４級","男性","S審判","大分県"]
["R010281882","矢野　巽也","４級","男性","S審判","大分県"]
["R010579072","矢野　達也","４級","男性","S審判","大分県"]
["R010255171","矢野　十央南","４級","男性","S審判","大分県"]
["R010445840","矢野　虎乃介","４級","男性","S審判","大分県"]
["R010542185","矢野　裕","４級","男性","S審判","大分県"]
["R010078599","矢野　祐樹","４級","男性","S審判","大分県"]
["R010281830","矢野　譲","４級","男性","S審判","大分県"]
["R010388051","矢野　陵太","４級","男性","S審判","大分県"]
["R010593959","矢野　廉士","４級","男性","S審判","大分県"]
["R010579080","矢羽田　大夢","４級","男性","S審判","大分県"]
["R010391952","矢羽田　澪音","４級","男性","S審判","大分県"]
["R010352990","矢部　泰史","４級","男性","S審判","大分県"]
["R010579093","山内　利彦","４級","男性","S審判","大分県"]
["R010159134","山岡　航大","４級","男性","S審判","大分県"]
["R010354810","山岸　琥生","４級","男性","S審判","大分県"]
["R010588855","山岸　秀彰","４級","男性","S審判","大分県"]
["R010538379","山口　翔大","４級","男性","S審判","大分県"]
["R010540724","山口　大空","４級","男性","S審判","大分県"]
["R010553465","山口　優希翔","４級","男性","S審判","大分県"]
["R010467642","山口　琉成","４級","男性","S審判","大分県"]
["R010579106","山﨑　櫂","４級","男性","S審判","大分県"]
["R010303867","山崎　健治","４級","男性","S審判","大分県"]
["R010586728","山﨑　康大","４級","男性","S審判","大分県"]
["R008174338","山﨑　爽暉","４級","男性","S審判","大分県"]
["R010599577","山崎　大希","４級","男性","S審判","大分県"]
["R006220873","山崎　武志","４級","男性","S審判","大分県"]
["R010553468","山崎　博文","４級","男性","S審判","大分県"]
["R010579145","山崎　竜斗","４級","男性","S審判","大分県"]
["R010466473","山崎　哲也","４級","男性","S審判","大分県"]
["R010579359","山下　一浩","４級","男性","S審判","大分県"]
["R010248576","山下　瞬亮","４級","男性","S審判","大分県"]
["R010465613","山下　翔","４級","男性","S審判","大分県"]
["R010599578","山下　貴弘","４級","男性","S審判","大分県"]
["R007090792","山下　寛明","４級","男性","S審判","大分県"]
["R010597288","山下　楓馬","４級","男性","S審判","大分県"]
["R010376893","山下　靖之","４級","男性","S審判","大分県"]
["R010396554","山下　勇翔","４級","男性","S審判","大分県"]
["R010376896","山下　竜二","４級","男性","S審判","大分県"]
["R010593957","山添　央晴","４級","男性","S審判","大分県"]
["R010358001","山添　陽生","４級","男性","S審判","大分県"]
["R010214542","山田　宏和","４級","男性","S審判","大分県"]
["R010396544","山田　結和","４級","男性","S審判","大分県"]
["R010593960","山中　栄樟","４級","男性","S審判","大分県"]
["R010303876","山西　翼","４級","男性","S審判","大分県"]
["R010586312","山根　蒼詩","４級","男性","S審判","大分県"]
["R006220101","山根　雄治","４級","男性","S審判","大分県"]
["R010445831","山野　裕斗","４級","男性","S審判","大分県"]
["R010390428","山村　一聡","４級","男性","S審判","大分県"]
["R010546339","山村　千代花","４級","女性","S審判","大分県"]
["R010538311","山村　悠己","４級","男性","S審判","大分県"]
["R010445843","山本　海璃","４級","男性","S審判","大分県"]
["R006872612","ヤマモト　一夫","４級","男性","S審判","大分県"]
["R006125639","山本　一広","４級","男性","S審判","大分県"]
["R010579097","山本　希龍","４級","男性","S審判","大分県"]
["R010538335","山本　恵太郎","４級","男性","S審判","大分県"]
["R005603228","山本　康平","４級","男性","S審判","大分県"]
["R010586723","山本　耕平","４級","男性","S審判","大分県"]
["R010303888","山本　祥二","４級","男性","S審判","大分県"]
["R010576550","山本　祥領","４級","男性","S審判","大分県"]
["R010189317","山本　純平","４級","男性","S審判","大分県"]
["R010376891","山本　空","４級","男性","S審判","大分県"]
["R009533608","山本　達之介","４級","男性","S審判","大分県"]
["R010542530","山本　太郎","４級","男性","S審判","大分県"]
["R010594943","山本　大智","４級","男性","S審判","大分県"]
["R010538381","山本　成彦","４級","男性","S審判","大分県"]
["R010400187","山本　隼斗","４級","男性","S審判","大分県"]
["R010539284","山本　成人","４級","男性","S審判","大分県"]
["R010169047","山本　政之介","４級","男性","S審判","大分県"]
["R010546337","山本　獅王","４級","男性","S審判","大分県"]
["R010214619","山矢　修冬","４級","男性","S審判","大分県"]
["R005164312","矢幡　裕一","４級","男性","S審判","大分県"]
["R010169045","湯浅　翼","４級","男性","S審判","大分県"]
["R010448921","湯浅　諒","４級","男性","S審判","大分県"]
["R010396590","幸　凱斗","４級","男性","S審判","大分県"]
["R010599605","幸　大貴","４級","男性","S審判","大分県"]
["R010465609","幸重　将輝","４級","男性","S審判","大分県"]
["R010576569","行田　啓斗","４級","男性","S審判","大分県"]
["R010214620","雪野　知花","４級","女性","S審判","大分県"]
["R010352958","油野　陣大","４級","男性","S審判","大分県"]
["R010261479","柚木　貴博","４級","男性","S審判","大分県"]
["R010540703","湯ノ口　悠斗","４級","男性","S審判","大分県"]
["R010583802","由利　倖大","４級","男性","S審判","大分県"]
["R010546330","用正　蓮歩","４級","男性","S審判","大分県"]
["R010576376","横江　恒瑛","４級","男性","S審判","大分県"]
["R010214553","横尾　茂","４級","男性","S審判","大分県"]
["R010354817","横尾　夏希","４級","男性","S審判","大分県"]
["R010376889","横尾　侑磨","４級","男性","S審判","大分県"]
["R010586316","横田　啓","４級","男性","S審判","大分県"]
["R010538392","横飛　明","４級","男性","S審判","大分県"]
["R010396519","横野　陸斗","４級","男性","S審判","大分県"]
["R010391956","横道　俊輔","４級","男性","S審判","大分県"]
["R010599590","横山　大悟","４級","男性","S審判","大分県"]
["R010546315","吉井　琉輝斗","４級","男性","S審判","大分県"]
["R010593124","吉岡　歩夢","４級","男性","S審判","大分県"]
["R010553467","吉岡　大河","４級","男性","S審判","大分県"]
["R010581157","吉岡　佑人","４級","男性","S審判","大分県"]
["R010281855","吉川　哲平","４級","男性","S審判","大分県"]
["R010352978","吉川　徳彦","４級","男性","S審判","大分県"]
["R010588877","吉川　豹生","４級","男性","S審判","大分県"]
["R010579138","吉川　雅彦","４級","男性","S審判","大分県"]
["R009430268","吉川　美里","４級","女性","S審判","大分県"]
["R010465603","吉﨑　巧真","４級","男性","S審判","大分県"]
["R003421480","吉武　毅","４級","男性","S審判","大分県"]
["R010390427","吉田　蒼威","４級","男性","S審判","大分県"]
["R010542528","吉田　光騎","４級","男性","S審判","大分県"]
["R010593137","吉田　翔栄","４級","男性","S審判","大分県"]
["R010538401","吉田　光","４級","男性","S審判","大分県"]
["R010579155","吉田　彪雅","４級","男性","S審判","大分県"]
["R010586323","吉田　白夜","４級","男性","S審判","大分県"]
["R010448929","吉田　匡","４級","男性","S審判","大分県"]
["R010553466","吉田　将志","４級","男性","S審判","大分県"]
["R010576387","吉田　湊","４級","男性","S審判","大分県"]
["R010546341","吉田　桃花","４級","女性","S審判","大分県"]
["R010576510","吉永　縁心","４級","男性","S審判","大分県"]
["R010600677","吉永　健太郎","４級","男性","S審判","大分県"]
["R010448644","吉永　優希","４級","男性","S審判","大分県"]
["R010579085","吉野　可亜斗","４級","男性","S審判","大分県"]
["R010576360","吉野　峨流","４級","男性","S審判","大分県"]
["R005603875","吉野　公司","４級","男性","S審判","大分県"]
["R010448917","吉野　大峨","４級","男性","S審判","大分県"]
["R010071979","吉野　遥紀","４級","男性","S審判","大分県"]
["R010576554","吉原　大地","４級","男性","S審判","大分県"]
["R008798466","吉原　喬樹","４級","男性","S審判","大分県"]
["R010448638","吉廣　愛琉","４級","男性","S審判","大分県"]
["R010396508","吉弘　周平","４級","男性","S審判","大分県"]
["R010396595","吉廣　心太郎","４級","男性","S審判","大分県"]
["R010120134","吉廣　年男","４級","男性","S審判","大分県"]
["R010579084","吉弘　瑠唯","４級","男性","S審判","大分県"]
["R010415907","吉弘　怜大","４級","男性","S審判","大分県"]
["R010546294","吉松　敬次郎","４級","男性","S審判","大分県"]
["R001261918","吉松　健","４級","男性","S審判","大分県"]
["R010600682","吉松　赳士","４級","男性","S審判","大分県"]
["R010581173","吉村　心冴","４級","男性","S審判","大分県"]
["R010538338","吉村　純平","４級","男性","S審判","大分県"]
["R010189303","吉村　一","４級","男性","S審判","大分県"]
["R010432635","吉村　由人","４級","男性","S審判","大分県"]
["R010579131","吉元　俊輔","４級","男性","S審判","大分県"]
["R001261936","佳元　省三","４級","男性","S審判","大分県"]
["R010594946","吉本　雅治","４級","男性","S審判","大分県"]
["R010579102","依田　勇誠","４級","男性","S審判","大分県"]
["R009533644","米倉　孝一","４級","男性","S審判","大分県"]
["R010599582","米倉　佳宏","４級","男性","S審判","大分県"]
["R010396542","米澤　邦彦","４級","男性","S審判","大分県"]
["R010451961","米田　剛","４級","男性","S審判","大分県"]
["R001261972","米田　尚司","４級","男性","S審判","大分県"]
["R010538376","米丸　碧","４級","男性","S審判","大分県"]
["R010162992","若林　歩夢","４級","男性","S審判","大分県"]
["R010281870","若林　大暉","４級","男性","S審判","大分県"]
["R010520027","若林　真有","４級","女性","S審判","大分県"]
["R010391934","若松　遼真","４級","男性","S審判","大分県"]
["R010579125","渡辺　碧海","４級","男性","S審判","大分県"]
["R010262616","渡邊　一星","４級","男性","S審判","大分県"]
["R010444510","渡邊　瑛太","４級","男性","S審判","大分県"]
["R010538344","渡辺　佳歩","４級","女性","S審判","大分県"]
["R010538318","渡辺　敢太","４級","男性","S審判","大分県"]
["R010600679","渡辺　俊介","４級","男性","S審判","大分県"]
["R010594968","渡辺　創己","４級","男性","S審判","大分県"]
["R010444491","渡邉　直耶","４級","男性","S審判","大分県"]
["R010586291","渡邊　陽星","４級","男性","S審判","大分県"]
["R010538382","渡辺　陽斗","４級","男性","S審判","大分県"]
["R010390424","渡邉　寛人","４級","男性","S審判","大分県"]
["R001262096","渡辺　寛幸","４級","男性","S審判","大分県"]
["R010542531","渡邉　風汰","４級","男性","S審判","大分県"]
["R010189289","渡邉　優憲","４級","男性","S審判","大分県"]
["R009659544","渡邉　友輔","４級","男性","S審判","大分県"]
["R010538297","渡邉　優太","４級","男性","S審判","大分県"]
["R010538341","渡辺　吉紀","４級","男性","S審判","大分県"]
["R010593123","和田　直樹","４級","男性","S審判","大分県"]
["R010579121","和田　尚也","４級","男性","S審判","大分県"]
["R010576534","和田　泰輝","４級","男性","S審判","大分県"]
["R010542529","輪田　真理","４級","女性","S審判","大分県"]
["R010576559","和田　道之心","４級","男性","S審判","大分県"]
["R010306435","和田　優作","４級","男性","S審判","大分県"]
["R010243637","和間　翔","４級","男性","S審判","大分県"]

{"sheet":"選手名簿","index":20,"n_rows":1566,"n_cols":10,"rows_kept":1566,"cut":false,"hidden":true,"merged":[]}
[{"$f":"CONCATENATE(B1,\"_\",C1)","v":"大会参加チーム名_背番号"},"大会参加チーム名","背番号","ポジション","選手名漢字","選手名カナ","学年","男女区分","キャプテン","前登録チーム"]
["ＭＦＣ三花少年サッカー教室_1","ＭＦＣ三花少年サッカー教室",{"$f":"(\"1\")","v":"1"},"GK","片岡　想友","カタオカ　ソウスケ",5,"男子"]
["ＭＦＣ三花少年サッカー教室_2","ＭＦＣ三花少年サッカー教室",{"$f":"(\"2\")","v":"2"},"DF","梶原　羽琉","カジワラ　ハル",5,"男子"]
["ＭＦＣ三花少年サッカー教室_3","ＭＦＣ三花少年サッカー教室",{"$f":"(\"3\")","v":"3"},"DF","川井　新太","カワイ　アラタ",4,"男子"]
["ＭＦＣ三花少年サッカー教室_4","ＭＦＣ三花少年サッカー教室",{"$f":"(\"4\")","v":"4"},"DF","長谷部　文人","ハセベ　フミト",4,"男子"]
["ＭＦＣ三花少年サッカー教室_5","ＭＦＣ三花少年サッカー教室",{"$f":"(\"5\")","v":"5"},"MF","本多　美月","ホンダ　ミツキ",4,"女子小学生"]
["ＭＦＣ三花少年サッカー教室_6","ＭＦＣ三花少年サッカー教室",{"$f":"(\"6\")","v":"6"},"DF","小野　颯真","オノ　ソウマ",4,"男子"]
["ＭＦＣ三花少年サッカー教室_7","ＭＦＣ三花少年サッカー教室",{"$f":"(\"7\")","v":"7"},"MF","木下　琥太郎","キノシタ　コタロウ",5,"男子","○"]
["ＭＦＣ三花少年サッカー教室_8","ＭＦＣ三花少年サッカー教室",{"$f":"(\"8\")","v":"8"},"FW","椋野　凌生","ムクノ　リュウ",4,"男子"]
["ＭＦＣ三花少年サッカー教室_9","ＭＦＣ三花少年サッカー教室",{"$f":"(\"9\")","v":"9"},"MF","佐藤　理一","サトウ　リイチ",3,"男子"]
["ＭＦＣ三花少年サッカー教室_10","ＭＦＣ三花少年サッカー教室",{"$f":"(\"10\")","v":"10"},"DF","武富　賢人","タケトミ　ケント",4,"男子"]
["ＭＦＣ三花少年サッカー教室_11","ＭＦＣ三花少年サッカー教室",{"$f":"(\"11\")","v":"11"},"MF","小野　紘弥","オノ　ヒロヤ",2,"男子"]
["ＭＦＣ三花少年サッカー教室_12","ＭＦＣ三花少年サッカー教室",{"$f":"(\"12\")","v":"12"},"FW","上田　暖","ウエダ　ハル",4,"男子"]
["ＭＦＣ三花少年サッカー教室_13","ＭＦＣ三花少年サッカー教室",{"$f":"(\"13\")","v":"13"},"DF","内海　太輝","ウツミ　タイヨウ",3,"男子"]
["ＭＦＣ三花少年サッカー教室_14","ＭＦＣ三花少年サッカー教室",{"$f":"(\"14\")","v":"14"},"MF","木下　誠喜","キノシタ　マコ",3,"男子"]
["ＭＦＣ三花少年サッカー教室_15","ＭＦＣ三花少年サッカー教室",{"$f":"(\"15\")","v":"15"},"GK","岡松　洸希","オカマツ　コウキ",5,"男子"]
["ＭＦＣ三花少年サッカー教室_16","ＭＦＣ三花少年サッカー教室",{"$f":"(\"16\")","v":"16"},"MF","建　来和","タテ　ライト",2,"男子"]
["若宮サッカースポーツ少年団_3","若宮サッカースポーツ少年団",{"$f":"(\"3\")","v":"3"},"MF","千原　美月","チハラ　ミヅキ",5,"女子小学生"]
["若宮サッカースポーツ少年団_4","若宮サッカースポーツ少年団",{"$f":"(\"4\")","v":"4"},"DF","野瀬　幹太","ノセ　カンタ",4,"男子"]
["若宮サッカースポーツ少年団_5","若宮サッカースポーツ少年団",{"$f":"(\"5\")","v":"5"},"DF","千原　凛士","チハラ　リント",4,"男子"]
["若宮サッカースポーツ少年団_6","若宮サッカースポーツ少年団",{"$f":"(\"6\")","v":"6"},"DF","星野　佑弥","ホシノ　ユウヤ",5,"男子"]
["若宮サッカースポーツ少年団_7","若宮サッカースポーツ少年団",{"$f":"(\"7\")","v":"7"},"MF","末竹　光健","スエタケ　コウケン",4,"男子"]
["若宮サッカースポーツ少年団_8","若宮サッカースポーツ少年団",{"$f":"(\"8\")","v":"8"},"MF","矢幡　宝貴","ヤワタ　タカキ",3,"男子"]
["若宮サッカースポーツ少年団_10","若宮サッカースポーツ少年団",{"$f":"(\"10\")","v":"10"},"FW","石倉　玄登","イシクラ　ゲント",5,"男子","○"]
["若宮サッカースポーツ少年団_11","若宮サッカースポーツ少年団",{"$f":"(\"11\")","v":"11"},"MF","千原　蓮己","チハラ　レンゴ",2,"男子"]
["若宮サッカースポーツ少年団_12","若宮サッカースポーツ少年団",{"$f":"(\"12\")","v":"12"},"DF","日野　湊太","ヒノ　ソウタ",2,"男子"]
["若宮サッカースポーツ少年団_13","若宮サッカースポーツ少年団",{"$f":"(\"13\")","v":"13"},"MF","鷲頭　時希","ワシズ　トキ",3,"男子"]
["若宮サッカースポーツ少年団_14","若宮サッカースポーツ少年団",{"$f":"(\"14\")","v":"14"},"MF","吉谷　海翔","ヨシタニ　カイト",2,"男子"]
["若宮サッカースポーツ少年団_15","若宮サッカースポーツ少年団",{"$f":"(\"15\")","v":"15"},"MF","黒木　丈介","クロキ　ジョウスケ",2,"男子"]
["若宮サッカースポーツ少年団_21","若宮サッカースポーツ少年団",{"$f":"(\"21\")","v":"21"},"GK","綾部　瑛太","アヤベ　エイタ",4,"男子"]
["咸宜日隈ｓｃ_1","咸宜日隈ｓｃ",{"$f":"(\"1\")","v":"1"},"GK","児玉　緋月","コダマ　ヒヅキ",5,"男子"]
["咸宜日隈ｓｃ_3","咸宜日隈ｓｃ",{"$f":"(\"3\")","v":"3"},"MF","幸　翔太","ユキ　ショウタ",3,"男子"]
["咸宜日隈ｓｃ_5","咸宜日隈ｓｃ",{"$f":"(\"5\")","v":"5"},"DF","安養寺　徳真","アンヨウジ　トクマ",3,"男子"]
["咸宜日隈ｓｃ_9","咸宜日隈ｓｃ",{"$f":"(\"9\")","v":"9"},"MF","梶原　慶","カジワラ　ケイ",3,"男子"]
["咸宜日隈ｓｃ_10","咸宜日隈ｓｃ",{"$f":"(\"10\")","v":"10"},"FW","児玉　葵","コダマ　アオイ",3,"男子"]
["咸宜日隈ｓｃ_12","咸宜日隈ｓｃ",{"$f":"(\"12\")","v":"12"},"DF","幸　愛菜","ユキ　アイナ",4,"女子小学生"]
["咸宜日隈ｓｃ_14","咸宜日隈ｓｃ",{"$f":"(\"14\")","v":"14"},"MF","西　治美","ニシ　ハルミ",3,"男子"]
["咸宜日隈ｓｃ_16","咸宜日隈ｓｃ",{"$f":"(\"16\")","v":"16"},"FW","唐木　耀誠","カラキ　ヨウセイ",5,"男子"]
["咸宜日隈ｓｃ_18","咸宜日隈ｓｃ",{"$f":"(\"18\")","v":"18"},"DF","城本　凰喜","シロモト　コウキ",3,"男子"]
["咸宜日隈ｓｃ_20","咸宜日隈ｓｃ",{"$f":"(\"20\")","v":"20"},"MF","熊谷　颯真","クマガエ　ソウマ",5,"男子"]
["咸宜日隈ｓｃ_23","咸宜日隈ｓｃ",{"$f":"(\"23\")","v":"23"},"MF","三苫　浬","ミトマ　カイリ",5,"男子"]
["咸宜日隈ｓｃ_24","咸宜日隈ｓｃ",{"$f":"(\"24\")","v":"24"},"DF","森口　将","モリグチ　マサル",4,"男子"]
["咸宜日隈ｓｃ_26","咸宜日隈ｓｃ",{"$f":"(\"26\")","v":"26"},"MF","萬　結史","ヨロズ　ユシ",5,"男子","○"]
["咸宜日隈ｓｃ_27","咸宜日隈ｓｃ",{"$f":"(\"27\")","v":"27"},"MF","萬　善","ヨロズ　ゼン",3,"男子"]
["咸宜日隈ｓｃ_30","咸宜日隈ｓｃ",{"$f":"(\"30\")","v":"30"},"DF","清水　心叶","シミズ　マナヤ",4,"男子"]
["ＦＣアリアーレ_1","ＦＣアリアーレ",{"$f":"(\"1\")","v":"1"},"GK","伊藤　翠","イトウ　スイ",4,"男子"]
["ＦＣアリアーレ_2","ＦＣアリアーレ",{"$f":"(\"2\")","v":"2"},"DF","小山　清志郎","コヤマ　セイシロウ",4,"男子"]
["ＦＣアリアーレ_3","ＦＣアリアーレ",{"$f":"(\"3\")","v":"3"},"DF","結城　寛太","ユウキ　カンタ",4,"男子"]
["ＦＣアリアーレ_4","ＦＣアリアーレ",{"$f":"(\"4\")","v":"4"},"MF","古賀　丈太郎","コガ　ジョウタロウ",4,"男子"]
["ＦＣアリアーレ_7","ＦＣアリアーレ",{"$f":"(\"7\")","v":"7"},"DF","河津　瞬","カワヅ　シュン",5,"男子","○"]
["ＦＣアリアーレ_8","ＦＣアリアーレ",{"$f":"(\"8\")","v":"8"},"MF","石井　龍正","イシイ　リュウセイ",4,"男子",null,"石井ジュニアサッカークラブ"]
["ＦＣアリアーレ_9","ＦＣアリアーレ",{"$f":"(\"9\")","v":"9"},"FW","高瀬　風緒","タカセ　カオ",4,"男子"]
["ＦＣアリアーレ_10","ＦＣアリアーレ",{"$f":"(\"10\")","v":"10"},"MF","明里　心夢","アカリ　シユウ",5,"男子",null,"ＦＣ　ＳＯＬＵＮＡ"]
["ＦＣアリアーレ_11","ＦＣアリアーレ",{"$f":"(\"11\")","v":"11"},"MF","串尾　遼馬","クシオ　ハルマ",4,"男子",null,"石井ジュニアサッカークラブ"]
["ＦＣアリアーレ_12","ＦＣアリアーレ",{"$f":"(\"12\")","v":"12"},"FW","尾形　智希","オガタ　トモキ",3,"男子"]
["ＦＣアリアーレ_13","ＦＣアリアーレ",{"$f":"(\"13\")","v":"13"},"FW","井上　凛央","イノウエ　リオ",4,"男子",null,"石井ジュニアサッカークラブ"]
["ＦＣアリアーレ_14","ＦＣアリアーレ",{"$f":"(\"14\")","v":"14"},"FW","松岡　蓮音","マツオカ　レント",4,"男子"]
["ＦＣアリアーレ_15","ＦＣアリアーレ",{"$f":"(\"15\")","v":"15"},"MF","今井　琉雅","イマイ　リュウガ",3,"男子",null,"石井ジュニアサッカークラブ"]
["ＦＣアリアーレ_16","ＦＣアリアーレ",{"$f":"(\"16\")","v":"16"},"GK","高倉　佑心","タカクラ　ユウシン",4,"男子"]
["三芳少年サッカースクール_1","三芳少年サッカースクール",{"$f":"(\"1\")","v":"1"},"GK","江田　聖流","コウダ　セナ",5,"男子","○"]
["三芳少年サッカースクール_3","三芳少年サッカースクール",{"$f":"(\"3\")","v":"3"},"FW","高波　天惺","タカナミ　テンセイ",5,"男子"]
["三芳少年サッカースクール_5","三芳少年サッカースクール",{"$f":"(\"5\")","v":"5"},"DF","安田　悠人","ヤスダ　ユウト",5,"男子"]
["三芳少年サッカースクール_6","三芳少年サッカースクール",{"$f":"(\"6\")","v":"6"},"DF","山本　晴翔","ヤマモト　ハルト",5,"男子"]
["三芳少年サッカースクール_8","三芳少年サッカースクール",{"$f":"(\"8\")","v":"8"},"DF","梶原　清太郎","カジワラ　セイタロウ",5,"男子"]
[{"$f":"CONCATENATE(B65,\"_\",C65)","v":"三芳少年サッカースクール_10"},"三芳少年サッカースクール",{"$f":"(\"10\")","v":"10"},"MF","椎原　佑大","シイハラ　ユウタ",4,"男子"]
["三芳少年サッカースクール_11","三芳少年サッカースクール",{"$f":"(\"11\")","v":"11"},"MF","金子　蓮","カネコ　レン",5,"男子"]
["三芳少年サッカースクール_12","三芳少年サッカースクール",{"$f":"(\"12\")","v":"12"},"DF","大鶴　拳志郎","オオツル　ケンシロウ",4,"男子"]
["三芳少年サッカースクール_13","三芳少年サッカースクール",{"$f":"(\"13\")","v":"13"},"DF","河津　壮真","カワヅ　ソウマ",4,"男子"]
["三芳少年サッカースクール_14","三芳少年サッカースクール",{"$f":"(\"14\")","v":"14"},"DF","佐藤　煌汰","サトウ　コウタ",4,"男子"]
["三芳少年サッカースクール_15","三芳少年サッカースクール",{"$f":"(\"15\")","v":"15"},"FW","高森　優暉","タカモリ　ユウキ",4,"男子"]
["三芳少年サッカースクール_16","三芳少年サッカースクール",{"$f":"(\"16\")","v":"16"},"GK","小山　泉粋","コヤマ　センスイ",4,"男子"]
["玖珠サッカースポーツ少年団_1","玖珠サッカースポーツ少年団",{"$f":"(\"1\")","v":"1"},"GK","荒木　崇秀","アラキ　タカヒデ",4,"男子"]
["玖珠サッカースポーツ少年団_2","玖珠サッカースポーツ少年団",{"$f":"(\"2\")","v":"2"},"DF","嶋末　大地","シマスエ　ダイチ",4,"男子"]
["玖珠サッカースポーツ少年団_3","玖珠サッカースポーツ少年団",{"$f":"(\"3\")","v":"3"},"DF","安部　叶音","アベ　カナト",4,"男子"]
["玖珠サッカースポーツ少年団_4","玖珠サッカースポーツ少年団",{"$f":"(\"4\")","v":"4"},"MF","小幡　玲治","オバタ　レイジ",4,"男子"]
["玖珠サッカースポーツ少年団_5","玖珠サッカースポーツ少年団",{"$f":"(\"5\")","v":"5"},"GK","吉武　龍玄","ヨシタケ　リュウゲン",4,"男子"]
["玖珠サッカースポーツ少年団_6","玖珠サッカースポーツ少年団",{"$f":"(\"6\")","v":"6"},"FW","佐古　慎之助","サコ　シンノスケ",4,"男子"]
["玖珠サッカースポーツ少年団_7","玖珠サッカースポーツ少年団",{"$f":"(\"7\")","v":"7"},"MF","田中　冠舟","タナカ　カンシュウ",5,"男子"]
["玖珠サッカースポーツ少年団_8","玖珠サッカースポーツ少年団",{"$f":"(\"8\")","v":"8"},"FW","衛藤　昇","エトウ　ショウ",4,"男子"]
["玖珠サッカースポーツ少年団_9","玖珠サッカースポーツ少年団",{"$f":"(\"9\")","v":"9"},"MF","繁田　大雅","シゲタ　タイガ",5,"男子"]
["玖珠サッカースポーツ少年団_10","玖珠サッカースポーツ少年団",{"$f":"(\"10\")","v":"10"},"DF","宝珠　将吾","ホウス　ショウゴ",5,"男子","○"]
["玖珠サッカースポーツ少年団_11","玖珠サッカースポーツ少年団",{"$f":"(\"11\")","v":"11"},"MF","石井　信治朗","イシイ　シンジロウ",5,"男子"]
["玖珠サッカースポーツ少年団_12","玖珠サッカースポーツ少年団",{"$f":"(\"12\")","v":"12"},"FW","佐藤　龍輝","サトウ　リュウキ",4,"男子"]
["玖珠サッカースポーツ少年団_13","玖珠サッカースポーツ少年団",{"$f":"(\"13\")","v":"13"},"FW","清藤　槙斗","キヨフジ　マキト",4,"男子"]
["玖珠サッカースポーツ少年団_14","玖珠サッカースポーツ少年団",{"$f":"(\"14\")","v":"14"},"DF","西原　颯一","ニシハラ　ソウイ",4,"男子"]
["玖珠サッカースポーツ少年団_15","玖珠サッカースポーツ少年団",{"$f":"(\"15\")","v":"15"},"DF","江隈　涼星","エグマ　リョウセイ",4,"男子"]
["玖珠サッカースポーツ少年団_16","玖珠サッカースポーツ少年団",{"$f":"(\"16\")","v":"16"},"MF","山上　修吾","ヤマガミ　シュウゴ",4,"男子"]
["ＦＣ．ＵＳＡ_1","ＦＣ．ＵＳＡ",{"$f":"(\"1\")","v":"1"},"GK","蜷木　貫人","ニナギ　カント",5,"男子"]
["ＦＣ．ＵＳＡ_2","ＦＣ．ＵＳＡ",{"$f":"(\"2\")","v":"2"},"DF","長本　康太郎","ナガモト　コウタロウ",5,"男子"]
["ＦＣ．ＵＳＡ_3","ＦＣ．ＵＳＡ",{"$f":"(\"3\")","v":"3"},"DF","桐畑　奈儀徒","キリハタ　ナギト",4,"男子"]
["ＦＣ．ＵＳＡ_4","ＦＣ．ＵＳＡ",{"$f":"(\"4\")","v":"4"},"MF","新井　瑛人","アライ　エイト",5,"男子","○"]
["ＦＣ．ＵＳＡ_5","ＦＣ．ＵＳＡ",{"$f":"(\"5\")","v":"5"},"MF","大力　翼","ダイリキ　ツバサ",4,"男子"]
["ＦＣ．ＵＳＡ_6","ＦＣ．ＵＳＡ",{"$f":"(\"6\")","v":"6"},"MF","吉井　颯","ヨシイ　ハヤテ",4,"男子"]
["ＦＣ．ＵＳＡ_7","ＦＣ．ＵＳＡ",{"$f":"(\"7\")","v":"7"},"MF","長田　旺祐","ナガタ　オウセケ",3,"男子"]
["ＦＣ．ＵＳＡ_8","ＦＣ．ＵＳＡ",{"$f":"(\"8\")","v":"8"},"FW","今永　瑛仁","イマナガ　エイト",3,"男子"]
["ＦＣ．ＵＳＡ_9","ＦＣ．ＵＳＡ",{"$f":"(\"9\")","v":"9"},"DF","長岡　宗志","ナガオカ　ソウシ",3,"男子"]
["ＦＣ．ＵＳＡ_10","ＦＣ．ＵＳＡ",{"$f":"(\"10\")","v":"10"},"DF","吉松　龍生","ヨシマツ　リュウショウ",3,"男子"]
["ＦＣ．ＵＳＡ_11","ＦＣ．ＵＳＡ",{"$f":"(\"11\")","v":"11"},"MF","光永　颯大","ミツナガ　ソウタ",3,"男子"]
["ＦＣ．ＵＳＡ_12","ＦＣ．ＵＳＡ",{"$f":"(\"12\")","v":"12"},"MF","土谷　蓮音","ツチヤ　レオン",3,"男子"]
["ＦＣ．ＵＳＡ_13","ＦＣ．ＵＳＡ",{"$f":"(\"13\")","v":"13"},"FW","豊永　優人","トヨナガ　ユウト",2,"男子"]
["ＦＣ．ＵＳＡ_14","ＦＣ．ＵＳＡ",{"$f":"(\"14\")","v":"14"},"FW","大力　隼翔","ダイリキ　ハヤト",2,"男子"]
["ＦＣ．ＵＳＡ_15","ＦＣ．ＵＳＡ",{"$f":"(\"15\")","v":"15"},"GK","吉田　幸永","ヨシダ　ユキヒサ",2,"男子"]
["ＦＣ．ＵＳＡ_16","ＦＣ．ＵＳＡ",{"$f":"(\"16\")","v":"16"},"GK","礒辺　翔","イソベ　ショウ",3,"男子"]
["ＦＣ　ＷＡＹＳ_1","ＦＣ　ＷＡＹＳ",{"$f":"(\"1\")","v":"1"},"GK","小山　響生","コヤマ　ヒビキ",5,"男子"]
["ＦＣ　ＷＡＹＳ_2","ＦＣ　ＷＡＹＳ",{"$f":"(\"2\")","v":"2"},"DF","佐藤　暖真","サトウ　ハルマ",5,"男子"]
["ＦＣ　ＷＡＹＳ_3","ＦＣ　ＷＡＹＳ",{"$f":"(\"3\")","v":"3"},"DF","高木　龍斗","タカキ　リュウト",5,"男子"]
["ＦＣ　ＷＡＹＳ_4","ＦＣ　ＷＡＹＳ",{"$f":"(\"4\")","v":"4"},"DF","佐藤　稜真","サトウ　リオマ",4,"男子"]
["ＦＣ　ＷＡＹＳ_5","ＦＣ　ＷＡＹＳ",{"$f":"(\"5\")","v":"5"},"MF","福田　貴玄","フクダ　タカトラ",4,"男子"]
["ＦＣ　ＷＡＹＳ_7","ＦＣ　ＷＡＹＳ",{"$f":"(\"7\")","v":"7"},"MF","井手　湊太","イデ　ソウタ",5,"男子",null,"ＯＫＹ山香サッカークラブ"]
["ＦＣ　ＷＡＹＳ_8","ＦＣ　ＷＡＹＳ",{"$f":"(\"8\")","v":"8"},"MF","小山　千慧","コヤマ　チサト",4,"男子"]
["ＦＣ　ＷＡＹＳ_9","ＦＣ　ＷＡＹＳ",{"$f":"(\"9\")","v":"9"},"MF","吉田　光毅","ヨシダ　コウキ",5,"男子"]
["ＦＣ　ＷＡＹＳ_10","ＦＣ　ＷＡＹＳ",{"$f":"(\"10\")","v":"10"},"MF","梶原　健","カジワラ　ケン",5,"男子","○"]
["ＦＣ　ＷＡＹＳ_11","ＦＣ　ＷＡＹＳ",{"$f":"(\"11\")","v":"11"},"FW","末　悠人","スエ　ユウト",5,"男子"]
["ＦＣ　ＷＡＹＳ_12","ＦＣ　ＷＡＹＳ",{"$f":"(\"12\")","v":"12"},"FW","桑原　煌弥","クワハラ　コウヤ",4,"男子"]
["ＦＣ　ＷＡＹＳ_13","ＦＣ　ＷＡＹＳ",{"$f":"(\"13\")","v":"13"},"FW","岩男　一吹","イワオ　イブキ",4,"男子"]
["ＦＣ　ＷＡＹＳ_23","ＦＣ　ＷＡＹＳ",{"$f":"(\"23\")","v":"23"},"GK","荒牧　悠斗","アラマキ　ハルト",4,"男子"]
["四日市南ＳＳＣ_1","四日市南ＳＳＣ",{"$f":"(\"1\")","v":"1"},"GK","斉藤　大翔","サイトウ　ヒロト",5,"男子"]
["四日市南ＳＳＣ_2","四日市南ＳＳＣ",{"$f":"(\"2\")","v":"2"},"DF","川端　一誓","カワバタ　イッセイ",4,"男子"]
["四日市南ＳＳＣ_3","四日市南ＳＳＣ",{"$f":"(\"3\")","v":"3"},"MF","川野　樹","カワノ　イツキ",4,"男子"]
["四日市南ＳＳＣ_4","四日市南ＳＳＣ",{"$f":"(\"4\")","v":"4"},"MF","岡部　龍大","オカベ　リュウダイ",4,"男子",null,"ＦＣ　ＷＡＹＳ"]
["四日市南ＳＳＣ_5","四日市南ＳＳＣ",{"$f":"(\"5\")","v":"5"},"FW","是恒　夢月","コレツネ　ユヅキ",4,"男子"]
["四日市南ＳＳＣ_6","四日市南ＳＳＣ",{"$f":"(\"6\")","v":"6"},"FW","合原　竜毅","ゴウバル　リュウキ",4,"男子",null,"ＦＣ　ＷＡＹＳ"]
["四日市南ＳＳＣ_7","四日市南ＳＳＣ",{"$f":"(\"7\")","v":"7"},"DF","川端　大稀","カワバタ　ダイキ",5,"男子"]
["四日市南ＳＳＣ_8","四日市南ＳＳＣ",{"$f":"(\"8\")","v":"8"},"DF","合原　輝翔","ゴウバル　ケント",5,"男子",null,"ＦＣ　ＷＡＹＳ"]
["四日市南ＳＳＣ_9","四日市南ＳＳＣ",{"$f":"(\"9\")","v":"9"},"MF","井手　悠稀","イデ　ユウマ",5,"男子","○"]
["四日市南ＳＳＣ_10","四日市南ＳＳＣ",{"$f":"(\"10\")","v":"10"},"FW","中間　思温","ナカマ　シオン",5,"男子"]
["四日市南ＳＳＣ_11","四日市南ＳＳＣ",{"$f":"(\"11\")","v":"11"},"MF","佐藤　瑛太","サトウ　エイタ",5,"男子"]
["四日市南ＳＳＣ_13","四日市南ＳＳＣ",{"$f":"(\"13\")","v":"13"},"DF","和田　大里","ワダ　ダイリ",3,"男子"]
[{"$f":"CONCATENATE(B129,\"_\",C129)","v":"四日市南ＳＳＣ_14"},"四日市南ＳＳＣ",{"$f":"(\"14\")","v":"14"},"MF","幡手　蓮","ハタデ　レン",3,"男子"]
["四日市北ＪＦＣ_1","四日市北ＪＦＣ",{"$f":"(\"1\")","v":"1"},"GK","吉田　和季","ヨシダ　カズ",4,"男子"]
["四日市北ＪＦＣ_3","四日市北ＪＦＣ",{"$f":"(\"3\")","v":"3"},"DF","河野　広空","カワノ　ヒロタカ",4,"男子"]
["四日市北ＪＦＣ_4","四日市北ＪＦＣ",{"$f":"(\"4\")","v":"4"},"MF","原田　将臣","ハラダ　マサオミ",3,"男子"]
["四日市北ＪＦＣ_5","四日市北ＪＦＣ",{"$f":"(\"5\")","v":"5"},"FW","長谷川　太一","ハセガワ　タイチ",5,"男子","○"]
["四日市北ＪＦＣ_6","四日市北ＪＦＣ",{"$f":"(\"6\")","v":"6"},"DF","宮木　成瑠","ミヤキ　ミチル",4,"男子"]
["四日市北ＪＦＣ_7","四日市北ＪＦＣ",{"$f":"(\"7\")","v":"7"},"DF","安倍　翔空","アベ　トア",4,"男子"]
["四日市北ＪＦＣ_8","四日市北ＪＦＣ",{"$f":"(\"8\")","v":"8"},"MF","中野　嬉生","ナカノ　キオ",4,"男子"]
["四日市北ＪＦＣ_9","四日市北ＪＦＣ",{"$f":"(\"9\")","v":"9"},"FW","戸上　維人","トウエ　ユイト",4,"男子"]
["四日市北ＪＦＣ_11","四日市北ＪＦＣ",{"$f":"(\"11\")","v":"11"},"DF","伴　龍之介","バン　リュウノスケ",4,"男子"]
["きつきＦＣ_1","きつきＦＣ",{"$f":"(\"1\")","v":"1"},"GK","衛藤　紘太","エトウ　コウタ",4,"男子"]
["きつきＦＣ_2","きつきＦＣ",{"$f":"(\"2\")","v":"2"},"MF","徳丸　緒憧","トクマル　ショア",2,"男子"]
["きつきＦＣ_3","きつきＦＣ",{"$f":"(\"3\")","v":"3"},"DF","佐藤　心乃助","サトウ　シンノスケ",4,"男子"]
["きつきＦＣ_4","きつきＦＣ",{"$f":"(\"4\")","v":"4"},"FW","亀井　凌","カメイ　リョウ",3,"男子"]
["きつきＦＣ_5","きつきＦＣ",{"$f":"(\"5\")","v":"5"},"DF","山本　璃彩","ヤマモト　リア",4,"女子小学生"]
["きつきＦＣ_6","きつきＦＣ",{"$f":"(\"6\")","v":"6"},"MF","植村　清十郎","ウエムラ　セイジュウロウ",4,"男子"]
["きつきＦＣ_7","きつきＦＣ",{"$f":"(\"7\")","v":"7"},"MF","立脇　蓮惟","タテワキ　レイ",4,"男子"]
["きつきＦＣ_8","きつきＦＣ",{"$f":"(\"8\")","v":"8"},"DF","久保　史琉","クボ　シリュウ",5,"男子"]
["きつきＦＣ_9","きつきＦＣ",{"$f":"(\"9\")","v":"9"},"FW","土居　志誠","ドイ　シセイ",3,"男子"]
["きつきＦＣ_10","きつきＦＣ",{"$f":"(\"10\")","v":"10"},"MF","内藤　士穏","ナイトウ　シオン",4,"男子","○"]
["きつきＦＣ_11","きつきＦＣ",{"$f":"(\"11\")","v":"11"},"DF","伊藤　天雅","イトウ　テンマ",4,"男子"]
["きつきＦＣ_12","きつきＦＣ",{"$f":"(\"12\")","v":"12"},"DF","濱田　瑛大","ハマダ　エイタ",3,"男子"]
["東ＦＣ_1","東ＦＣ",{"$f":"(\"1\")","v":"1"},"GK","中矢　和綺","ナカヤ　カズキ",5,"男子"]
["東ＦＣ_2","東ＦＣ",{"$f":"(\"2\")","v":"2"},"MF","吉良　蒼祐","キラ　ソウスケ",3,"男子"]
["東ＦＣ_3","東ＦＣ",{"$f":"(\"3\")","v":"3"},"MF","上野　稟都","ウエノ　リント",3,"男子"]
["東ＦＣ_4","東ＦＣ",{"$f":"(\"4\")","v":"4"},"DF","長谷雄　銀士","ハセオ　ギンジ",4,"男子"]
["東ＦＣ_5","東ＦＣ",{"$f":"(\"5\")","v":"5"},"DF","是永　愛翔","コレナガ　マナト",4,"男子"]
["東ＦＣ_6","東ＦＣ",{"$f":"(\"6\")","v":"6"},"DF","浅井　仁成","アザイ　ジンセイ",4,"男子"]
["東ＦＣ_7","東ＦＣ",{"$f":"(\"7\")","v":"7"},"FW","上野　煌太","ウエノ　オウタ",5,"男子"]
["東ＦＣ_8","東ＦＣ",{"$f":"(\"8\")","v":"8"},"DF","鹿野　亜衣莉","カノ　アイリ",5,"女子小学生"]
["東ＦＣ_9","東ＦＣ",{"$f":"(\"9\")","v":"9"},"MF","安達　靖将","アダチ　ヤスマサ",5,"男子",null,"ＦＣ　くにさき"]
["東ＦＣ_10","東ＦＣ",{"$f":"(\"10\")","v":"10"},"MF","今村　瑛太","イマムラ　エイタ",5,"男子","○"]
["東ＦＣ_11","東ＦＣ",{"$f":"(\"11\")","v":"11"},"MF","川野　颯亮","カワノ　ソウスケ",3,"男子"]
["東ＦＣ_12","東ＦＣ",{"$f":"(\"12\")","v":"12"},"MF","川野　葵翔","カワノ　アオト",1,"男子"]
["東ＦＣ_13","東ＦＣ",{"$f":"(\"13\")","v":"13"},"MF","橋本　渉生","ハシモト　ショウキ",2,"男子"]
["東ＦＣ_14","東ＦＣ",{"$f":"(\"14\")","v":"14"},"MF","永尾　凜世","ナガオ　リンジェ",2,"男子"]
["東ＦＣ_15","東ＦＣ",{"$f":"(\"15\")","v":"15"},"MF","荒巻　央琥","アラマキ　オウガ",2,"男子"]
["東ＦＣ_18","東ＦＣ",{"$f":"(\"18\")","v":"18"},"GK","相部　眞那斗","アイベ　マナト",5,"男子"]
["八坂少年サッカークラブ_2","八坂少年サッカークラブ",{"$f":"(\"2\")","v":"2"},"DF","亀井　璃月","カメイ　リツキ",5,"男子","○"]
["八坂少年サッカークラブ_3","八坂少年サッカークラブ",{"$f":"(\"3\")","v":"3"},"FW","工藤　健太","クドウ　ケンタ",5,"男子"]
["八坂少年サッカークラブ_4","八坂少年サッカークラブ",{"$f":"(\"4\")","v":"4"},"FW","内田　直斗","ウチダ　ナオト",5,"男子"]
["八坂少年サッカークラブ_5","八坂少年サッカークラブ",{"$f":"(\"5\")","v":"5"},"MF","中原　美羽","ナカハラ　ミウ",5,"女子小学生"]
["八坂少年サッカークラブ_6","八坂少年サッカークラブ",{"$f":"(\"6\")","v":"6"},"MF","南　翔真","ミナミ　ショウマ",4,"男子"]
["八坂少年サッカークラブ_7","八坂少年サッカークラブ",{"$f":"(\"7\")","v":"7"},"MF","吉田　律","ヨシダ　リツ",4,"男子"]
["八坂少年サッカークラブ_10","八坂少年サッカークラブ",{"$f":"(\"10\")","v":"10"},"DF","藤原　唯花","フジワラ　ユイカ",5,"女子小学生"]
["八坂少年サッカークラブ_11","八坂少年サッカークラブ",{"$f":"(\"11\")","v":"11"},"MF","藤原　羚佑","フジワラ　リョウスケ",3,"男子"]
["八坂少年サッカークラブ_12","八坂少年サッカークラブ",{"$f":"(\"12\")","v":"12"},"MF","中原　陽向","ナカハラ　ヒナタ",3,"男子"]
["八坂少年サッカークラブ_13","八坂少年サッカークラブ",{"$f":"(\"13\")","v":"13"},"GK","梶原　鷹介","カジワラ　タカスケ",5,"男子"]
["八坂少年サッカークラブ_14","八坂少年サッカークラブ",{"$f":"(\"14\")","v":"14"},"DF","三浦　稜汰","ミウラ　リョウタ",3,"男子"]
["八坂少年サッカークラブ_17","八坂少年サッカークラブ",{"$f":"(\"17\")","v":"17"},"DF","遠江　一平","トウエ　イッペイ",4,"男子"]
["国東ＦＣ_1","国東ＦＣ",{"$f":"(\"1\")","v":"1"},"GK","阿比留　寛太","アビル　カンタ",4,"男子",null,"くにみＦＣ"]
["国東ＦＣ_2","国東ＦＣ",{"$f":"(\"2\")","v":"2"},"DF","難波　航平","ナンバ　コウヘイ",4,"男子"]
["国東ＦＣ_3","国東ＦＣ",{"$f":"(\"3\")","v":"3"},"FW","金子　笑也","カネコ　エミヤ",4,"男子"]
["国東ＦＣ_4","国東ＦＣ",{"$f":"(\"4\")","v":"4"},"MF","厚田　恵太郎","アツダ　ケイタロウ",4,"男子"]
["国東ＦＣ_5","国東ＦＣ",{"$f":"(\"5\")","v":"5"},"DF","平野　嵩晴","ヒラノ　スバル",4,"男子"]
["国東ＦＣ_6","国東ＦＣ",{"$f":"(\"6\")","v":"6"},"MF","玉田　悠人","タマダ　ユウト",3,"男子"]
["国東ＦＣ_7","国東ＦＣ",{"$f":"(\"7\")","v":"7"},"MF","箕迫　夏海","ミイサコ　ナツミ",3,"女子小学生",null,"くにみＦＣ"]
["国東ＦＣ_8","国東ＦＣ",{"$f":"(\"8\")","v":"8"},"MF","萱嶋　颯太","カヤシマ　ハヤタ",4,"男子"]
["国東ＦＣ_9","国東ＦＣ",{"$f":"(\"9\")","v":"9"},"MF","松本　絢斗","マツモト　アヤト",4,"男子"]
["国東ＦＣ_10","国東ＦＣ",{"$f":"(\"10\")","v":"10"},"FW","板井　建親","イタイ　ケンシン",5,"男子","○"]
["国東ＦＣ_11","国東ＦＣ",{"$f":"(\"11\")","v":"11"},"MF","宮本　結生","ミヤモト　ユウキ",4,"男子"]
["国東ＦＣ_12","国東ＦＣ",{"$f":"(\"12\")","v":"12"},"FW","大谷　羚","オオタニ　レイ",4,"男子"]
["国東ＦＣ_16","国東ＦＣ",{"$f":"(\"16\")","v":"16"},"GK","中磨　龍信","ナカマ　リュウシン",4,"男子"]
["はやぶさフットボールクラブ_1","はやぶさフットボールクラブ",{"$f":"(\"1\")","v":"1"},"GK","竹本　徠希","タケモト　ライキ",4,"男子"]
[{"$f":"CONCATENATE(B193,\"_\",C193)","v":"はやぶさフットボールクラブ_3"},"はやぶさフットボールクラブ",{"$f":"(\"3\")","v":"3"},"FW","喜久里　怜央","キクザト　レオ",3,"男子"]
["はやぶさフットボールクラブ_5","はやぶさフットボールクラブ",{"$f":"(\"5\")","v":"5"},"FW","竹本　琉希","タケモト　リュウキ",4,"男子"]
["はやぶさフットボールクラブ_6","はやぶさフットボールクラブ",{"$f":"(\"6\")","v":"6"},"MF","西本　楓","ニシモト　カエデ",4,"女子小学生"]
["はやぶさフットボールクラブ_7","はやぶさフットボールクラブ",{"$f":"(\"7\")","v":"7"},"FW","赤尾　虎愛","アカオ　トア",3,"男子"]
["はやぶさフットボールクラブ_9","はやぶさフットボールクラブ",{"$f":"(\"9\")","v":"9"},"FW","吉﨑　斗立","ヨシザキ　トウリ",3,"男子"]
["はやぶさフットボールクラブ_11","はやぶさフットボールクラブ",{"$f":"(\"11\")","v":"11"},"FW","末廣　皇也","スエヒロ　コウヤ",3,"男子"]
["はやぶさフットボールクラブ_12","はやぶさフットボールクラブ",{"$f":"(\"12\")","v":"12"},"GK","奥　蓮王","オク　レオン",4,"男子"]
["はやぶさフットボールクラブ_13","はやぶさフットボールクラブ",{"$f":"(\"13\")","v":"13"},"MF","杉元　琉久","スギモト　リク",5,"男子"]
["はやぶさフットボールクラブ_14","はやぶさフットボールクラブ",{"$f":"(\"14\")","v":"14"},"DF","廣池　優楽","ヒロイケ　ユラ",5,"男子","○"]
["はやぶさフットボールクラブ_15","はやぶさフットボールクラブ",{"$f":"(\"15\")","v":"15"},"MF","岩本　啓誠","イワモト　ケイセイ",5,"男子"]
["はやぶさフットボールクラブ_16","はやぶさフットボールクラブ",{"$f":"(\"16\")","v":"16"},"DF","須藤　羽海","ストウ　ウミ",5,"女子小学生"]
["はやぶさフットボールクラブ_17","はやぶさフットボールクラブ",{"$f":"(\"17\")","v":"17"},"DF","用松　千奈","モチマツ　ユキナ",5,"女子小学生"]
["鶴居ＳＳＳ_1","鶴居ＳＳＳ",{"$f":"(\"1\")","v":"1"},"GK","岩久　慶人","イワヒサ　ケイト",5,"男子"]
["鶴居ＳＳＳ_2","鶴居ＳＳＳ",{"$f":"(\"2\")","v":"2"},"DF","工藤　一颯","クドウ　イブキ",5,"男子"]
["鶴居ＳＳＳ_3","鶴居ＳＳＳ",{"$f":"(\"3\")","v":"3"},"DF","吉本　悠純樹","ヨシモト　ユズキ",5,"男子","○"]
["鶴居ＳＳＳ_4","鶴居ＳＳＳ",{"$f":"(\"4\")","v":"4"},"DF","吉岡　愛惺","ヨシオカ　アイセイ",5,"男子"]
["鶴居ＳＳＳ_5","鶴居ＳＳＳ",{"$f":"(\"5\")","v":"5"},"DF","安武　龍司","ヤスタケ　リュウシ",5,"男子"]
["鶴居ＳＳＳ_6","鶴居ＳＳＳ",{"$f":"(\"6\")","v":"6"},"DF","波多野　勇利","ハタノ　ハヤト",4,"男子"]
["鶴居ＳＳＳ_7","鶴居ＳＳＳ",{"$f":"(\"7\")","v":"7"},"DF","稲吉　夢月","イナヨシ　ムツキ",4,"男子"]
["鶴居ＳＳＳ_8","鶴居ＳＳＳ",{"$f":"(\"8\")","v":"8"},"DF","松野　大地","マツノ　ダイチ",4,"男子"]
["鶴居ＳＳＳ_9","鶴居ＳＳＳ",{"$f":"(\"9\")","v":"9"},"MF","舞弓　龍愛","マユミ　リュウア",4,"男子"]
["鶴居ＳＳＳ_10","鶴居ＳＳＳ",{"$f":"(\"10\")","v":"10"},"FW","尾川　勇冴","オガワ　ユウゴ",4,"男子"]
["鶴居ＳＳＳ_11","鶴居ＳＳＳ",{"$f":"(\"11\")","v":"11"},"FW","原　直人","ハラ　ナオト",4,"男子"]
["鶴居ＳＳＳ_13","鶴居ＳＳＳ",{"$f":"(\"13\")","v":"13"},"MF","中川　友喜","ナカガワ　トモキ",4,"男子"]
["鶴居ＳＳＳ_14","鶴居ＳＳＳ",{"$f":"(\"14\")","v":"14"},"DF","上川　颯太","カミカワ　ソウタ",4,"男子"]
["鶴居ＳＳＳ_15","鶴居ＳＳＳ",{"$f":"(\"15\")","v":"15"},"FW","上家　伯斗","カミイエ　ハクト",4,"男子"]
["鶴居ＳＳＳ_16","鶴居ＳＳＳ",{"$f":"(\"16\")","v":"16"},"MF","迫　大輔","サコ　ダイスケ",3,"男子"]
["鶴居ＳＳＳ_17","鶴居ＳＳＳ",{"$f":"(\"17\")","v":"17"},"MF","富山　太陽","トミヤマ　タイヨウ",3,"男子"]
["ＦＣ大野_2","ＦＣ大野",{"$f":"(\"2\")","v":"2"},"MF","小野　雄稀","オノ　ユウキ",3,"男子"]
["ＦＣ大野_3","ＦＣ大野",{"$f":"(\"3\")","v":"3"},"MF","荻本　拓摩","オギモト　タクマ",1,"男子"]
["ＦＣ大野_4","ＦＣ大野",{"$f":"(\"4\")","v":"4"},"DF","麻生　結実","アソウ　ユウミ",4,"女子小学生"]
["ＦＣ大野_5","ＦＣ大野",{"$f":"(\"5\")","v":"5"},"MF","玉田　篤史","タマダ　アツシ",1,"男子"]
["ＦＣ大野_8","ＦＣ大野",{"$f":"(\"8\")","v":"8"},"MF","土居　蒔詩","ドイ　マキシ",3,"男子"]
["ＦＣ大野_11","ＦＣ大野",{"$f":"(\"11\")","v":"11"},"DF","臼杵　奏珀","ウスキ　ソウハク",5,"男子","○"]
["ＦＣ大野_12","ＦＣ大野",{"$f":"(\"12\")","v":"12"},"GK","高橋　颯志","タカハシ　ソウシ",4,"男子"]
["ＦＣ大野_14","ＦＣ大野",{"$f":"(\"14\")","v":"14"},"DF","廣瀬　遼真","ヒロセ　ハルマ",5,"男子"]
["ＦＣ大野_15","ＦＣ大野",{"$f":"(\"15\")","v":"15"},"FW","遠矢　楓斗","トオヤ　フウト",4,"男子"]
["ＦＣ大野_19","ＦＣ大野",{"$f":"(\"19\")","v":"19"},"FW","甲斐　晶","カイ　アキラ",3,"男子"]
["鶴見ジュニアサッカークラブ_2","鶴見ジュニアサッカークラブ",{"$f":"(\"2\")","v":"2"},"MF","諸富　神彪","モロトミ　タイガ",5,"男子"]
["鶴見ジュニアサッカークラブ_3","鶴見ジュニアサッカークラブ",{"$f":"(\"3\")","v":"3"},"MF","田川　喜隆","タガワ　キリュウ",5,"男子","○"]
["鶴見ジュニアサッカークラブ_13","鶴見ジュニアサッカークラブ",{"$f":"(\"13\")","v":"13"},"MF","石井　悠暉","イシイ　ユウキ",5,"男子"]
["鶴見ジュニアサッカークラブ_15","鶴見ジュニアサッカークラブ",{"$f":"(\"15\")","v":"15"},"GK","江藤　碧依","エトウ　アオイ",5,"男子"]
["鶴見ジュニアサッカークラブ_16","鶴見ジュニアサッカークラブ",{"$f":"(\"16\")","v":"16"},"MF","福本　明衣","フクモト　メイ",4,"女子小学生"]
["鶴見ジュニアサッカークラブ_17","鶴見ジュニアサッカークラブ",{"$f":"(\"17\")","v":"17"},"MF","中澤　愛","ナカザワ　アイ",4,"女子小学生"]
["鶴見ジュニアサッカークラブ_18","鶴見ジュニアサッカークラブ",{"$f":"(\"18\")","v":"18"},"MF","平野　拓馬","ヒラノ　タクマ",4,"男子"]
["鶴見ジュニアサッカークラブ_19","鶴見ジュニアサッカークラブ",{"$f":"(\"19\")","v":"19"},"MF","山田　翔太","ヤマダ　ショウタ",4,"男子"]
["鶴見ジュニアサッカークラブ_20","鶴見ジュニアサッカークラブ",{"$f":"(\"20\")","v":"20"},"GK","大関　樹","オオゼキ　タツキ",4,"男子"]
["鶴見ジュニアサッカークラブ_22","鶴見ジュニアサッカークラブ",{"$f":"(\"22\")","v":"22"},"MF","矢治　颯馬","ヤジ　ソウマ",3,"男子"]
["鶴見ジュニアサッカークラブ_23","鶴見ジュニアサッカークラブ",{"$f":"(\"23\")","v":"23"},"MF","横飛　歩","ヨコトビ　アユム",3,"男子"]
["鶴見ジュニアサッカークラブ_24","鶴見ジュニアサッカークラブ",{"$f":"(\"24\")","v":"24"},"FW","日名子　隼弥","ヒナゴ　シュンヤ",3,"男子"]
["鶴見ジュニアサッカークラブ_25","鶴見ジュニアサッカークラブ",{"$f":"(\"25\")","v":"25"},"MF","深浦　杏奈","フカウラ　アンナ",3,"女子小学生"]
["鶴見ジュニアサッカークラブ_26","鶴見ジュニアサッカークラブ",{"$f":"(\"26\")","v":"26"},"MF","前田　麟","マエダ　リン",3,"男子"]
["鶴見ジュニアサッカークラブ_27","鶴見ジュニアサッカークラブ",{"$f":"(\"27\")","v":"27"},"MF","中澤　幹翔","ナカザワ　ミキト",3,"男子"]
["大平山アソシエーション式フットボールクラブ_3","大平山アソシエーション式フットボールクラブ",{"$f":"(\"3\")","v":"3"},"DF","森　悠莉","モリ　ユウリ",5,"女子小学生","○"]
["大平山アソシエーション式フットボールクラブ_6","大平山アソシエーション式フットボールクラブ",{"$f":"(\"6\")","v":"6"},"DF","栁井　彩乃","ヤナイ　アヤノ",5,"女子小学生"]
["大平山アソシエーション式フットボールクラブ_22","大平山アソシエーション式フットボールクラブ",{"$f":"(\"22\")","v":"22"},"DF","重黒木　翔士","ジュウクロギ　ショウジ",4,"男子"]
["大平山アソシエーション式フットボールクラブ_23","大平山アソシエーション式フットボールクラブ",{"$f":"(\"23\")","v":"23"},"DF","瀧石　十雲","タキイシ　シュウ",4,"男子"]
["大平山アソシエーション式フットボールクラブ_24","大平山アソシエーション式フットボールクラブ",{"$f":"(\"24\")","v":"24"},"DF","坂本　蓮","サカモト　レン",4,"男子"]
["大平山アソシエーション式フットボールクラブ_25","大平山アソシエーション式フットボールクラブ",{"$f":"(\"25\")","v":"25"},"DF","櫻井　仁士","サクライ　トシ",4,"男子"]
["大平山アソシエーション式フットボールクラブ_26","大平山アソシエーション式フットボールクラブ",{"$f":"(\"26\")","v":"26"},"DF","後藤　志劉","ゴトウ　シリュウ",4,"男子"]
["大平山アソシエーション式フットボールクラブ_27","大平山アソシエーション式フットボールクラブ",{"$f":"(\"27\")","v":"27"},"DF","宮本　龍之介","ミヤモト　リュウノスケ",3,"男子"]
["大平山アソシエーション式フットボールクラブ_28","大平山アソシエーション式フットボールクラブ",{"$f":"(\"28\")","v":"28"},"GK","大野　陽平","オオノ　ヨウヘイ",3,"男子"]
["大平山アソシエーション式フットボールクラブ_31","大平山アソシエーション式フットボールクラブ",{"$f":"(\"31\")","v":"31"},"DF","宮崎　統矢","ミヤザキ　トウヤ",5,"男子"]
["大平山アソシエーション式フットボールクラブ　ＧＯ　Ｆｏｒ　２０２３_9","大平山アソシエーション式フットボールクラブ　ＧＯ　Ｆｏｒ　２０２３",{"$f":"(\"9\")","v":"9"},"FW","原田　脩平","ハラダ　シュウヘイ",5,"男子","○"]
[{"$f":"CONCATENATE(B257,\"_\",C257)","v":"大平山アソシエーション式フットボールクラブ　ＧＯ　Ｆｏｒ　２０２３_11"},"大平山アソシエーション式フットボールクラブ　ＧＯ　Ｆｏｒ　２０２３",{"$f":"(\"11\")","v":"11"},"FW","戸田　瑛斗","トダ　アキト",5,"男子"]
["大平山アソシエーション式フットボールクラブ　ＧＯ　Ｆｏｒ　２０２３_12","大平山アソシエーション式フットボールクラブ　ＧＯ　Ｆｏｒ　２０２３",{"$f":"(\"12\")","v":"12"},"FW","中原　宗一朗","ナカハラ　ソウイチロウ",5,"男子"]
["大平山アソシエーション式フットボールクラブ　ＧＯ　Ｆｏｒ　２０２３_13","大平山アソシエーション式フットボールクラブ　ＧＯ　Ｆｏｒ　２０２３",{"$f":"(\"13\")","v":"13"},"FW","谷　逞斗","タニ　タクト",5,"男子"]
["大平山アソシエーション式フットボールクラブ　ＧＯ　Ｆｏｒ　２０２３_14","大平山アソシエーション式フットボールクラブ　ＧＯ　Ｆｏｒ　２０２３",{"$f":"(\"14\")","v":"14"},"FW","笹原　歩夢","ササハラ　アユム",5,"男子"]
["大平山アソシエーション式フットボールクラブ　ＧＯ　Ｆｏｒ　２０２３_15","大平山アソシエーション式フットボールクラブ　ＧＯ　Ｆｏｒ　２０２３",{"$f":"(\"15\")","v":"15"},"FW","定平　柊","サダヒラ　シュウ",5,"男子"]
["大平山アソシエーション式フットボールクラブ　ＧＯ　Ｆｏｒ　２０２３_16","大平山アソシエーション式フットボールクラブ　ＧＯ　Ｆｏｒ　２０２３",{"$f":"(\"16\")","v":"16"},"GK","工藤　桜志","クドウ　オウシ",4,"男子"]
["大平山アソシエーション式フットボールクラブ　ＧＯ　Ｆｏｒ　２０２３_17","大平山アソシエーション式フットボールクラブ　ＧＯ　Ｆｏｒ　２０２３",{"$f":"(\"17\")","v":"17"},"FW","林　翔大","ハヤシ　ショウタ",4,"男子"]
["大平山アソシエーション式フットボールクラブ　ＧＯ　Ｆｏｒ　２０２３_18","大平山アソシエーション式フットボールクラブ　ＧＯ　Ｆｏｒ　２０２３",{"$f":"(\"18\")","v":"18"},"FW","和田　一真","ワダ　カズマ",4,"男子"]
["大平山アソシエーション式フットボールクラブ　ＧＯ　Ｆｏｒ　２０２３_19","大平山アソシエーション式フットボールクラブ　ＧＯ　Ｆｏｒ　２０２３",{"$f":"(\"19\")","v":"19"},"FW","宗岡　周護郎","ムナオカ　シュウゴロウ",4,"男子"]
["大平山アソシエーション式フットボールクラブ　ＧＯ　Ｆｏｒ　２０２３_20","大平山アソシエーション式フットボールクラブ　ＧＯ　Ｆｏｒ　２０２３",{"$f":"(\"20\")","v":"20"},"FW","工藤　豪汰","クドウ　ゴウタ",4,"男子"]
["大平山アソシエーション式フットボールクラブ　ＧＯ　Ｆｏｒ　２０２３_21","大平山アソシエーション式フットボールクラブ　ＧＯ　Ｆｏｒ　２０２３",{"$f":"(\"21\")","v":"21"},"FW","吉田　湊","ヨシダ　ミナト",4,"男子"]
["緑丘サッカースポーツ少年団_2","緑丘サッカースポーツ少年団",{"$f":"(\"2\")","v":"2"},"MF","杉本　勇聖","スギモト　ユウセイ",5,"男子"]
["緑丘サッカースポーツ少年団_3","緑丘サッカースポーツ少年団",{"$f":"(\"3\")","v":"3"},"DF","坂田　碧琉","サカタ　アイル",5,"男子"]
["緑丘サッカースポーツ少年団_5","緑丘サッカースポーツ少年団",{"$f":"(\"5\")","v":"5"},"FW","ジョーンズ　真秀","ジョーンズ　マシュウ",5,"男子"]
["緑丘サッカースポーツ少年団_11","緑丘サッカースポーツ少年団",{"$f":"(\"11\")","v":"11"},"DF","旗手　悠也","ハタテ　ユウヤ",5,"男子","○"]
["緑丘サッカースポーツ少年団_13","緑丘サッカースポーツ少年団",{"$f":"(\"13\")","v":"13"},"FW","酒井　琉生","サカイ　ルキ",5,"男子"]
["緑丘サッカースポーツ少年団_14","緑丘サッカースポーツ少年団",{"$f":"(\"14\")","v":"14"},"MF","荒金　ひより","アラカネ　ヒヨリ",4,"女子小学生"]
["緑丘サッカースポーツ少年団_15","緑丘サッカースポーツ少年団",{"$f":"(\"15\")","v":"15"},"MF","松尾　颯磨","マツオ　ソウマ",4,"男子"]
["緑丘サッカースポーツ少年団_17","緑丘サッカースポーツ少年団",{"$f":"(\"17\")","v":"17"},"MF","杉本　航聖","スギモト　コウセイ",4,"男子"]
["緑丘サッカースポーツ少年団_21","緑丘サッカースポーツ少年団",{"$f":"(\"21\")","v":"21"},"GK","衛藤　颯","エトウ　ハヤテ",5,"男子"]
["Ｓｈｙｎｔ　ＦＣ_1","Ｓｈｙｎｔ　ＦＣ",{"$f":"(\"1\")","v":"1"},"GK","菅原　佑大","スガハラ　ユウタ",5,"男子"]
["Ｓｈｙｎｔ　ＦＣ_2","Ｓｈｙｎｔ　ＦＣ",{"$f":"(\"2\")","v":"2"},"FW","印山　法音","インザン　ノリト",5,"男子"]
["Ｓｈｙｎｔ　ＦＣ_3","Ｓｈｙｎｔ　ＦＣ",{"$f":"(\"3\")","v":"3"},"DF","山﨑　恵美梨","ヤマサキ　エミリ",5,"女子小学生"]
["Ｓｈｙｎｔ　ＦＣ_4","Ｓｈｙｎｔ　ＦＣ",{"$f":"(\"4\")","v":"4"},"MF","渡辺　大起","ワタナベ　タイキ",5,"男子"]
["Ｓｈｙｎｔ　ＦＣ_5","Ｓｈｙｎｔ　ＦＣ",{"$f":"(\"5\")","v":"5"},"DF","山口　颯太","ヤマグチ　ソウタ",5,"男子"]
["Ｓｈｙｎｔ　ＦＣ_6","Ｓｈｙｎｔ　ＦＣ",{"$f":"(\"6\")","v":"6"},"DF","川嶋　弘輝","カワシマ　ミツキ",5,"男子"]
["Ｓｈｙｎｔ　ＦＣ_7","Ｓｈｙｎｔ　ＦＣ",{"$f":"(\"7\")","v":"7"},"MF","光枝　愛哉","ミツエダ　ヨシヤ",5,"男子"]
["Ｓｈｙｎｔ　ＦＣ_8","Ｓｈｙｎｔ　ＦＣ",{"$f":"(\"8\")","v":"8"},"FW","田崎　大夢","タサキ　ヒロム",5,"男子"]
["Ｓｈｙｎｔ　ＦＣ_9","Ｓｈｙｎｔ　ＦＣ",{"$f":"(\"9\")","v":"9"},"FW","松澤　駿之介","マツザワ　シュンノスケ",5,"男子"]
["Ｓｈｙｎｔ　ＦＣ_10","Ｓｈｙｎｔ　ＦＣ",{"$f":"(\"10\")","v":"10"},"MF","西尾　基希","ニシオ　モトキ",5,"男子","○"]
["Ｓｈｙｎｔ　ＦＣ_11","Ｓｈｙｎｔ　ＦＣ",{"$f":"(\"11\")","v":"11"},"MF","恒成　洋吉","ツネナリ　ヨウキチ",5,"男子"]
["Ｓｈｙｎｔ　ＦＣ_12","Ｓｈｙｎｔ　ＦＣ",{"$f":"(\"12\")","v":"12"},"DF","植垣　輝","ウエガキ　テル",5,"男子"]
["Ｓｈｙｎｔ　ＦＣ_13","Ｓｈｙｎｔ　ＦＣ",{"$f":"(\"13\")","v":"13"},"MF","垂水　慈桜","タルミ　ジオン",5,"男子"]
["Ｓｈｙｎｔ　ＦＣ_14","Ｓｈｙｎｔ　ＦＣ",{"$f":"(\"14\")","v":"14"},"FW","川端　虎和","カワバタ　トワ",5,"男子"]
["Ｓｈｙｎｔ　ＦＣ_15","Ｓｈｙｎｔ　ＦＣ",{"$f":"(\"15\")","v":"15"},"MF","谷山　美紗","タニヤマ　ミサ",5,"女子小学生",null,"中津ＦＣ　ＰＯＭＡＴＯ　Ｕ－１２"]
["Ｓｈｙｎｔ　ＦＣ_16","Ｓｈｙｎｔ　ＦＣ",{"$f":"(\"16\")","v":"16"},"MF","三原　琉誠","ミハラ　リュウセイ",4,"男子"]
["和田少年サッカークラブ_1","和田少年サッカークラブ",{"$f":"(\"1\")","v":"1"},"GK","岩渕　大洋","イワブチ　タイヨウ",5,"男子","○"]
["和田少年サッカークラブ_10","和田少年サッカークラブ",{"$f":"(\"10\")","v":"10"},"DF","田中　一颯","タナカ　イブキ",5,"男子"]
["和田少年サッカークラブ_11","和田少年サッカークラブ",{"$f":"(\"11\")","v":"11"},"FW","福田　雲雀","フクダ　ヒバリ",5,"男子"]
["和田少年サッカークラブ_12","和田少年サッカークラブ",{"$f":"(\"12\")","v":"12"},"DF","高橋　理夢","タカハシ　リム",5,"男子"]
["和田少年サッカークラブ_14","和田少年サッカークラブ",{"$f":"(\"14\")","v":"14"},"MF","小野田　楓真","オノダ　フウマ",4,"男子"]
["和田少年サッカークラブ_15","和田少年サッカークラブ",{"$f":"(\"15\")","v":"15"},"DF","江口　佳樹","エグチ　ヨシキ",4,"男子"]
["和田少年サッカークラブ_16","和田少年サッカークラブ",{"$f":"(\"16\")","v":"16"},"DF","倉方　颯杜","クラカタ　ハヤト",4,"男子"]
["和田少年サッカークラブ_17","和田少年サッカークラブ",{"$f":"(\"17\")","v":"17"},"MF","宮脇　匠志","ミヤワキ　ショウジ",4,"男子"]
["和田少年サッカークラブ_18","和田少年サッカークラブ",{"$f":"(\"18\")","v":"18"},"FW","古間地　櫻咲","フルマジ　ハル",4,"男子"]
["和田少年サッカークラブ_19","和田少年サッカークラブ",{"$f":"(\"19\")","v":"19"},"MF","邑本　一真","ムラモト　カズマ",4,"男子"]
["和田少年サッカークラブ_20","和田少年サッカークラブ",{"$f":"(\"20\")","v":"20"},"MF","奥　蒼太","オク　ソウタ",4,"男子"]
["下毛ＦＣ_1","下毛ＦＣ",{"$f":"(\"1\")","v":"1"},"GK","山本　寿輝","ヤマモト　トシキ",4,"男子"]
["下毛ＦＣ_2","下毛ＦＣ",{"$f":"(\"2\")","v":"2"},"DF","森脇　琥太郎","モリワキ　コタロウ",4,"男子"]
["下毛ＦＣ_3","下毛ＦＣ",{"$f":"(\"3\")","v":"3"},"MF","菅川　惺空","スガワ　セラ",4,"男子"]
["下毛ＦＣ_4","下毛ＦＣ",{"$f":"(\"4\")","v":"4"},"DF","松井　暖","マツイ　ヒナタ",5,"男子"]
["下毛ＦＣ_5","下毛ＦＣ",{"$f":"(\"5\")","v":"5"},"MF","岩下　大翔","イワシタ　ヒロト",5,"男子"]
["下毛ＦＣ_6","下毛ＦＣ",{"$f":"(\"6\")","v":"6"},"MF","山本　光城","ヤマモト　ミツキ",5,"男子"]
["下毛ＦＣ_7","下毛ＦＣ",{"$f":"(\"7\")","v":"7"},"FW","山下　空大","ヤマシタ　ソラタ",5,"男子"]
["下毛ＦＣ_8","下毛ＦＣ",{"$f":"(\"8\")","v":"8"},"MF","堂上　春希","ドウジョウ　ハルキ",5,"男子","○"]
["下毛ＦＣ_9","下毛ＦＣ",{"$f":"(\"9\")","v":"9"},"MF","村上　弘樹","ムラカミ　ヒロキ",5,"男子"]
["下毛ＦＣ_10","下毛ＦＣ",{"$f":"(\"10\")","v":"10"},"FW","馬出　蒼士","ウマデ　ソウシ",5,"男子"]
["中津豊南ＦＣ_1","中津豊南ＦＣ",{"$f":"(\"1\")","v":"1"},"GK","出口　大雅","デグチ　タイガ",5,"男子"]
["中津豊南ＦＣ_2","中津豊南ＦＣ",{"$f":"(\"2\")","v":"2"},"DF","菅野　泰雅","スガノ　タイガ",5,"男子"]
["中津豊南ＦＣ_3","中津豊南ＦＣ",{"$f":"(\"3\")","v":"3"},"FW","松尾　耕成","マツオ　コウセイ",4,"男子"]
["中津豊南ＦＣ_4","中津豊南ＦＣ",{"$f":"(\"4\")","v":"4"},"MF","近砂　宏信","チカスナ　ヒロノブ",4,"男子"]
["中津豊南ＦＣ_5","中津豊南ＦＣ",{"$f":"(\"5\")","v":"5"},"FW","森本　峻太","モリモト　シュンタ",4,"男子"]
["中津豊南ＦＣ_6","中津豊南ＦＣ",{"$f":"(\"6\")","v":"6"},"DF","宮崎　敦寛","ミヤザキ　アツヒロ",4,"男子"]
["中津豊南ＦＣ_7","中津豊南ＦＣ",{"$f":"(\"7\")","v":"7"},"MF","野依　千夏","ノヨリ　チナ",5,"女子小学生"]
[{"$f":"CONCATENATE(B321,\"_\",C321)","v":"中津豊南ＦＣ_8"},"中津豊南ＦＣ",{"$f":"(\"8\")","v":"8"},"MF","中島　諒子","ナカシマ　リョウコ",5,"女子小学生"]
["中津豊南ＦＣ_9","中津豊南ＦＣ",{"$f":"(\"9\")","v":"9"},"MF","小洞　花穂","コドウ　カホ",5,"女子小学生"]
["中津豊南ＦＣ_10","中津豊南ＦＣ",{"$f":"(\"10\")","v":"10"},"MF","稲熊　海成","イナグマ　カイセイ",5,"男子","○"]
["中津豊南ＦＣ_11","中津豊南ＦＣ",{"$f":"(\"11\")","v":"11"},"MF","山本　拓真","ヤマモト　タクマ",4,"男子"]
["中津豊南ＦＣ_12","中津豊南ＦＣ",{"$f":"(\"12\")","v":"12"},"DF","貴戸　晟吾","キド　セイゴ",4,"男子"]
["中津豊南ＦＣ_13","中津豊南ＦＣ",{"$f":"(\"13\")","v":"13"},"MF","平山　聖佳","ヒラヤマ　キヨカ",4,"女子小学生"]
["中津沖代ＪＳＣ_2","中津沖代ＪＳＣ",{"$f":"(\"2\")","v":"2"},"DF","門田　一路","カドタ　イチロ",5,"男子"]
["中津沖代ＪＳＣ_3","中津沖代ＪＳＣ",{"$f":"(\"3\")","v":"3"},"DF","松下　颯真","マツシタ　ソウマ",5,"男子"]
["中津沖代ＪＳＣ_4","中津沖代ＪＳＣ",{"$f":"(\"4\")","v":"4"},"DF","江田　博太朗","コウダ　ヒロタロウ",5,"男子"]
["中津沖代ＪＳＣ_5","中津沖代ＪＳＣ",{"$f":"(\"5\")","v":"5"},"MF","笹原　翔太郎","ササハラ　ショウタロウ",5,"男子","○"]
["中津沖代ＪＳＣ_7","中津沖代ＪＳＣ",{"$f":"(\"7\")","v":"7"},"MF","向田　颯太郎","ムコウダ　ソウタロウ",5,"男子"]
["中津沖代ＪＳＣ_12","中津沖代ＪＳＣ",{"$f":"(\"12\")","v":"12"},"FW","堀部　翔太","ホリベ　ショウタ",4,"男子"]
["中津沖代ＪＳＣ_13","中津沖代ＪＳＣ",{"$f":"(\"13\")","v":"13"},"GK","川野　泰雅","カワノ　タイガ",5,"男子"]
["中津沖代ＪＳＣ_14","中津沖代ＪＳＣ",{"$f":"(\"14\")","v":"14"},"FW","高比良　飛吹","タカヒラ　イブキ",4,"男子"]
["中津沖代ＪＳＣ_16","中津沖代ＪＳＣ",{"$f":"(\"16\")","v":"16"},"FW","白石　大翔","シライシ　ヒロト",4,"男子"]
["中津沖代ＪＳＣ_17","中津沖代ＪＳＣ",{"$f":"(\"17\")","v":"17"},"DF","後藤　蓮汰","ゴトウ　レンタ",4,"男子"]
["中津沖代ＪＳＣ_18","中津沖代ＪＳＣ",{"$f":"(\"18\")","v":"18"},"FW","田中　勇輔","タナカ　ユウスケ",4,"男子"]
["中津沖代ＪＳＣ_19","中津沖代ＪＳＣ",{"$f":"(\"19\")","v":"19"},"FW","守口　輝哉","モリグチ　ライヤ",4,"男子"]
["中津沖代ＪＳＣ_20","中津沖代ＪＳＣ",{"$f":"(\"20\")","v":"20"},"MF","飯干　響","イイホシ　ヒビキ",4,"男子"]
["中津沖代ＪＳＣ_22","中津沖代ＪＳＣ",{"$f":"(\"22\")","v":"22"},"MF","笠原　惇希","カサハラ　アツキ",4,"男子"]
["中津沖代ＪＳＣ_23","中津沖代ＪＳＣ",{"$f":"(\"23\")","v":"23"},"FW","竹尾　莞太郎","タケオ　カンタロウ",4,"男子"]
["中津沖代ＪＳＣ_30","中津沖代ＪＳＣ",{"$f":"(\"30\")","v":"30"},"FW","栗山　夕弦","クリヤマ　ユヅル",3,"男子"]
["東大分サッカースポーツ少年団_1","東大分サッカースポーツ少年団",{"$f":"(\"1\")","v":"1"},"GK","山口　律","ヤマグチ　リツ",5,"男子"]
["東大分サッカースポーツ少年団_2","東大分サッカースポーツ少年団",{"$f":"(\"2\")","v":"2"},"DF","村上　瑛翔","ムラカミ　エイト",4,"男子"]
["東大分サッカースポーツ少年団_3","東大分サッカースポーツ少年団",{"$f":"(\"3\")","v":"3"},"MF","山口　蒼空","ヤマグチ　ソラ",4,"男子"]
["東大分サッカースポーツ少年団_4","東大分サッカースポーツ少年団",{"$f":"(\"4\")","v":"4"},"DF","農上　一護","ノウガミ　イチゴ",4,"男子",null,"城東サッカースポーツ少年団"]
["東大分サッカースポーツ少年団_5","東大分サッカースポーツ少年団",{"$f":"(\"5\")","v":"5"},"MF","立川　格","タツカワ　イタル",4,"男子"]
["東大分サッカースポーツ少年団_6","東大分サッカースポーツ少年団",{"$f":"(\"6\")","v":"6"},"MF","木谷　灯吾","キタニ　トウゴ",5,"男子"]
["東大分サッカースポーツ少年団_7","東大分サッカースポーツ少年団",{"$f":"(\"7\")","v":"7"},"DF","堤　和杜","ツツミ　カズト",5,"男子","○"]
["東大分サッカースポーツ少年団_8","東大分サッカースポーツ少年団",{"$f":"(\"8\")","v":"8"},"FW","塩崎　一夏","シオザキ　イチカ",5,"男子"]
["東大分サッカースポーツ少年団_9","東大分サッカースポーツ少年団",{"$f":"(\"9\")","v":"9"},"DF","深尾　一颯","フカオ　イブキ",5,"男子"]
["東大分サッカースポーツ少年団_10","東大分サッカースポーツ少年団",{"$f":"(\"10\")","v":"10"},"MF","今井　龍之介","イマイ　リュウノスケ",5,"男子"]
["東大分サッカースポーツ少年団_11","東大分サッカースポーツ少年団",{"$f":"(\"11\")","v":"11"},"FW","池田　響絆","イケダ　ヒビキ",4,"男子",null,"アリアンサ熊本ＦＣ"]
["東大分サッカースポーツ少年団_12","東大分サッカースポーツ少年団",{"$f":"(\"12\")","v":"12"},"MF","阿南　柊人","アナン　シュウト",3,"男子"]
["東大分サッカースポーツ少年団_13","東大分サッカースポーツ少年団",{"$f":"(\"13\")","v":"13"},"MF","利光　世有","トシミツ　セア",3,"男子"]
["東大分サッカースポーツ少年団_14","東大分サッカースポーツ少年団",{"$f":"(\"14\")","v":"14"},"MF","三枝　勇斗","ミエダ　ユウト",3,"男子"]
["東大分サッカースポーツ少年団_15","東大分サッカースポーツ少年団",{"$f":"(\"15\")","v":"15"},"MF","小野　由翔","オノ　ユイト",3,"男子"]
["東大分サッカースポーツ少年団_16","東大分サッカースポーツ少年団",{"$f":"(\"16\")","v":"16"},"GK","秋月　大河","アキヅキ　タイガ",4,"男子"]
["千怒サッカースポーツ少年団_3","千怒サッカースポーツ少年団",{"$f":"(\"3\")","v":"3"},"MF","山本　蒼","ヤマモト　ソウ",5,"男子"]
["千怒サッカースポーツ少年団_4","千怒サッカースポーツ少年団",{"$f":"(\"4\")","v":"4"},"DF","仲　凌生","ナカ　リョウセイ",5,"男子"]
["千怒サッカースポーツ少年団_5","千怒サッカースポーツ少年団",{"$f":"(\"5\")","v":"5"},"DF","岩﨑　冬輝","イワサキ　トウキ",5,"男子",null,"津久見サッカースポーツ少年団"]
["千怒サッカースポーツ少年団_7","千怒サッカースポーツ少年団",{"$f":"(\"7\")","v":"7"},"MF","小手川　耀","コテガワ　ヨウ",5,"男子","○"]
["千怒サッカースポーツ少年団_11","千怒サッカースポーツ少年団",{"$f":"(\"11\")","v":"11"},"MF","上田　彗斗","ウエダ　ケイト",5,"男子"]
["千怒サッカースポーツ少年団_12","千怒サッカースポーツ少年団",{"$f":"(\"12\")","v":"12"},"DF","西村　鴻志","ニシムラ　コウシ",5,"男子"]
["千怒サッカースポーツ少年団_13","千怒サッカースポーツ少年団",{"$f":"(\"13\")","v":"13"},"MF","深津　空斗","フカヅ　ソラト",4,"男子"]
["千怒サッカースポーツ少年団_14","千怒サッカースポーツ少年団",{"$f":"(\"14\")","v":"14"},"GK","内藤　尚音","ナイトウ　ショウオン",4,"男子"]
["千怒サッカースポーツ少年団_15","千怒サッカースポーツ少年団",{"$f":"(\"15\")","v":"15"},"FW","中平　龍希","ナカヒラ　リュウキ",4,"男子"]
["千怒サッカースポーツ少年団_16","千怒サッカースポーツ少年団",{"$f":"(\"16\")","v":"16"},"FW","中津留　蓮飛","ナカツル　レント",3,"男子"]
["千怒サッカースポーツ少年団_17","千怒サッカースポーツ少年団",{"$f":"(\"17\")","v":"17"},"FW","小手川　海人","コテガワ　カイト",3,"男子"]
["千怒サッカースポーツ少年団_18","千怒サッカースポーツ少年団",{"$f":"(\"18\")","v":"18"},"FW","島田　京弥","シマダ　キョウヤ",3,"男子"]
["千怒サッカースポーツ少年団_19","千怒サッカースポーツ少年団",{"$f":"(\"19\")","v":"19"},"FW","伊賀上　智竣","イガウエ　チハヤ",2,"男子"]
["千怒サッカースポーツ少年団_20","千怒サッカースポーツ少年団",{"$f":"(\"20\")","v":"20"},"FW","酒井　夢隼","サカイ　ユウト",2,"男子"]
["鶴見少年サッカークラブ_1","鶴見少年サッカークラブ",{"$f":"(\"1\")","v":"1"},"GK","益留　尊志郎","マスドメ　トウシロウ",4,"男子"]
["鶴見少年サッカークラブ_2","鶴見少年サッカークラブ",{"$f":"(\"2\")","v":"2"},"MF","甲斐　煌大","カイ　キラト",3,"男子"]
["鶴見少年サッカークラブ_3","鶴見少年サッカークラブ",{"$f":"(\"3\")","v":"3"},"MF","谷川　颯太","タニガワ　ソウタ",3,"男子"]
["鶴見少年サッカークラブ_5","鶴見少年サッカークラブ",{"$f":"(\"5\")","v":"5"},"FW","梶西　惺凪","カジニシ　セナ",3,"男子"]
["鶴見少年サッカークラブ_6","鶴見少年サッカークラブ",{"$f":"(\"6\")","v":"6"},"DF","八藤　晴那","ヤフジ　セナ",3,"男子"]
["鶴見少年サッカークラブ_7","鶴見少年サッカークラブ",{"$f":"(\"7\")","v":"7"},"FW","清家　羽輝","セイケ　ウキ",3,"男子"]
["鶴見少年サッカークラブ_8","鶴見少年サッカークラブ",{"$f":"(\"8\")","v":"8"},"DF","小川　未央","オガワ　ミオ",4,"女子小学生"]
["鶴見少年サッカークラブ_9","鶴見少年サッカークラブ",{"$f":"(\"9\")","v":"9"},"DF","木許　玲夢","キモト　リム",3,"女子小学生"]
["鶴見少年サッカークラブ_10","鶴見少年サッカークラブ",{"$f":"(\"10\")","v":"10"},"MF","波戸崎　武虎","ハトザキ　タケトラ",5,"男子","○","木立ＦＣ"]
["鶴見少年サッカークラブ_11","鶴見少年サッカークラブ",{"$f":"(\"11\")","v":"11"},"MF","宮﨑　智大","ミヤザキ　チヒロ",5,"男子"]
["鶴見少年サッカークラブ_12","鶴見少年サッカークラブ",{"$f":"(\"12\")","v":"12"},"DF","清家　世良","セイケ　セラ",2,"男子"]
["鶴見少年サッカークラブ_13","鶴見少年サッカークラブ",{"$f":"(\"13\")","v":"13"},"MF","黒岩　伴次","クロイワ　ハンジ",3,"男子"]
[{"$f":"CONCATENATE(B385,\"_\",C385)","v":"鶴見少年サッカークラブ_14"},"鶴見少年サッカークラブ",{"$f":"(\"14\")","v":"14"},"DF","塩月　宗右","シオツキ　ソウ",2,"男子"]
["鶴見少年サッカークラブ_15","鶴見少年サッカークラブ",{"$f":"(\"15\")","v":"15"},"DF","小谷　一帆","コタニ　イッポ",2,"男子"]
["鶴見少年サッカークラブ_16","鶴見少年サッカークラブ",{"$f":"(\"16\")","v":"16"},"DF","小川　颯介","オガワ　ソウスケ",2,"男子"]
["鶴見少年サッカークラブ_17","鶴見少年サッカークラブ",{"$f":"(\"17\")","v":"17"},"GK","安部　千輝","アベ　カズキ",3,"男子"]
["弥生少年サッカークラブ_1","弥生少年サッカークラブ",{"$f":"(\"1\")","v":"1"},"GK","橋井　航","ハシイ　ワタル",4,"男子"]
["弥生少年サッカークラブ_2","弥生少年サッカークラブ",{"$f":"(\"2\")","v":"2"},"DF","江藤　陽","エトウ　ヒナタ",4,"男子"]
["弥生少年サッカークラブ_3","弥生少年サッカークラブ",{"$f":"(\"3\")","v":"3"},"DF","安達　嘉人","アダチ　ヨシト",4,"男子"]
["弥生少年サッカークラブ_4","弥生少年サッカークラブ",{"$f":"(\"4\")","v":"4"},"MF","工藤　栄伸","クドウ　シゲノブ",4,"男子"]
["弥生少年サッカークラブ_5","弥生少年サッカークラブ",{"$f":"(\"5\")","v":"5"},"DF","松下　和樹","マツシタ　カズキ",4,"男子"]
["弥生少年サッカークラブ_6","弥生少年サッカークラブ",{"$f":"(\"6\")","v":"6"},"MF","髙木　りお","タカギ　リオ",5,"女子小学生"]
["弥生少年サッカークラブ_7","弥生少年サッカークラブ",{"$f":"(\"7\")","v":"7"},"MF","岡田　琉希","オカダ　ルキ",4,"男子"]
["弥生少年サッカークラブ_8","弥生少年サッカークラブ",{"$f":"(\"8\")","v":"8"},"MF","角崎　暖","カクザキ　ハル",4,"男子"]
["弥生少年サッカークラブ_9","弥生少年サッカークラブ",{"$f":"(\"9\")","v":"9"},"FW","宮脇　陸人","ミヤワキ　リクト",4,"男子"]
["弥生少年サッカークラブ_10","弥生少年サッカークラブ",{"$f":"(\"10\")","v":"10"},"DF","淡路　旺太朗","アワジ　オオタロウ",5,"男子","○"]
["弥生少年サッカークラブ_11","弥生少年サッカークラブ",{"$f":"(\"11\")","v":"11"},"DF","神崎　陸斗","カンザキ　リクト",5,"男子"]
["弥生少年サッカークラブ_12","弥生少年サッカークラブ",{"$f":"(\"12\")","v":"12"},"FW","野﨑　里央","ノザキ　リオ",4,"男子"]
["弥生少年サッカークラブ_13","弥生少年サッカークラブ",{"$f":"(\"13\")","v":"13"},"MF","福泉　蓮介","フクイズミ　レンスケ",4,"男子"]
["弥生少年サッカークラブ_16","弥生少年サッカークラブ",{"$f":"(\"16\")","v":"16"},"FW","山村　朔人","ヤマムラ　サクト",4,"男子"]
["上堅田少年サッカークラブ_1","上堅田少年サッカークラブ",{"$f":"(\"1\")","v":"1"},"GK","染矢　羽琉","ソメヤ　ハル",5,"男子"]
["上堅田少年サッカークラブ_3","上堅田少年サッカークラブ",{"$f":"(\"3\")","v":"3"},"DF","柴田　柚希","シバタ　ユズキ",3,"男子"]
["上堅田少年サッカークラブ_4","上堅田少年サッカークラブ",{"$f":"(\"4\")","v":"4"},"FW","佐脇　暖斗","サワキ　ハルト",3,"男子"]
["上堅田少年サッカークラブ_5","上堅田少年サッカークラブ",{"$f":"(\"5\")","v":"5"},"DF","大島　佑太","オオシマ　ユウタ",4,"男子"]
["上堅田少年サッカークラブ_6","上堅田少年サッカークラブ",{"$f":"(\"6\")","v":"6"},"FW","藤原　颯天","フジワラ　ハヤテ",4,"男子"]
["上堅田少年サッカークラブ_7","上堅田少年サッカークラブ",{"$f":"(\"7\")","v":"7"},"MF","柴田　賢十","シバタ　ケント",4,"男子"]
["上堅田少年サッカークラブ_8","上堅田少年サッカークラブ",{"$f":"(\"8\")","v":"8"},"DF","秋元　智早","アキモト　チハヤ",5,"男子"]
["上堅田少年サッカークラブ_9","上堅田少年サッカークラブ",{"$f":"(\"9\")","v":"9"},"FW","古木　岬","フルキ　ミサキ",4,"男子"]
["上堅田少年サッカークラブ_10","上堅田少年サッカークラブ",{"$f":"(\"10\")","v":"10"},"MF","古本　瞭太","フルモト　リョウタ",5,"男子","○"]
["上堅田少年サッカークラブ_11","上堅田少年サッカークラブ",{"$f":"(\"11\")","v":"11"},"FW","坂本　悠真","サカモト　ユウマ",5,"男子"]
["上堅田少年サッカークラブ_12","上堅田少年サッカークラブ",{"$f":"(\"12\")","v":"12"},"MF","後藤　泉琉","ゴトウ　イズル",5,"男子"]
["上堅田少年サッカークラブ_13","上堅田少年サッカークラブ",{"$f":"(\"13\")","v":"13"},"MF","大島　湊","オオシマ　ミナト",3,"男子"]
["上堅田少年サッカークラブ_14","上堅田少年サッカークラブ",{"$f":"(\"14\")","v":"14"},"FW","塩月　悠叶","シオツキ　ユウト",3,"男子"]
["上堅田少年サッカークラブ_15","上堅田少年サッカークラブ",{"$f":"(\"15\")","v":"15"},"DF","染矢　蒼羽","ソメヤ　アオハ",4,"男子"]
["鶴岡Ｓ―ｐｌａｙ・ＭＩＮＡＭＩ_1","鶴岡Ｓ―ｐｌａｙ・ＭＩＮＡＭＩ",{"$f":"(\"1\")","v":"1"},"GK","兒玉　龍樹","コダマ　リュウジュ",5,"男子"]
["鶴岡Ｓ―ｐｌａｙ・ＭＩＮＡＭＩ_2","鶴岡Ｓ―ｐｌａｙ・ＭＩＮＡＭＩ",{"$f":"(\"2\")","v":"2"},"MF","本田　一葵","ホンダ　イツキ",4,"男子"]
["鶴岡Ｓ―ｐｌａｙ・ＭＩＮＡＭＩ_3","鶴岡Ｓ―ｐｌａｙ・ＭＩＮＡＭＩ",{"$f":"(\"3\")","v":"3"},"DF","矢野　海斗","ヤノ　カイト",4,"男子"]
["鶴岡Ｓ―ｐｌａｙ・ＭＩＮＡＭＩ_4","鶴岡Ｓ―ｐｌａｙ・ＭＩＮＡＭＩ",{"$f":"(\"4\")","v":"4"},"DF","児玉　隼人","コダマ　ハヤト",4,"男子"]
["鶴岡Ｓ―ｐｌａｙ・ＭＩＮＡＭＩ_5","鶴岡Ｓ―ｐｌａｙ・ＭＩＮＡＭＩ",{"$f":"(\"5\")","v":"5"},"DF","小花　遥陽","オバナ　ハルヒ",4,"男子"]
["鶴岡Ｓ―ｐｌａｙ・ＭＩＮＡＭＩ_6","鶴岡Ｓ―ｐｌａｙ・ＭＩＮＡＭＩ",{"$f":"(\"6\")","v":"6"},"MF","津田　楓翔","ツダ　フウト",4,"男子"]
["鶴岡Ｓ―ｐｌａｙ・ＭＩＮＡＭＩ_7","鶴岡Ｓ―ｐｌａｙ・ＭＩＮＡＭＩ",{"$f":"(\"7\")","v":"7"},"MF","小野　藏之介","オノ　クラノスケ",4,"男子"]
["鶴岡Ｓ―ｐｌａｙ・ＭＩＮＡＭＩ_8","鶴岡Ｓ―ｐｌａｙ・ＭＩＮＡＭＩ",{"$f":"(\"8\")","v":"8"},"DF","市原　蓮空","イチハラ　レン",4,"男子"]
["鶴岡Ｓ―ｐｌａｙ・ＭＩＮＡＭＩ_9","鶴岡Ｓ―ｐｌａｙ・ＭＩＮＡＭＩ",{"$f":"(\"9\")","v":"9"},"FW","矢野　晶大","ヤノ　ショウダイ",4,"男子"]
["鶴岡Ｓ―ｐｌａｙ・ＭＩＮＡＭＩ_10","鶴岡Ｓ―ｐｌａｙ・ＭＩＮＡＭＩ",{"$f":"(\"10\")","v":"10"},"MF","藤原　尚","フジワラ　ナオ",5,"男子","○"]
["鶴岡Ｓ―ｐｌａｙ・ＭＩＮＡＭＩ_11","鶴岡Ｓ―ｐｌａｙ・ＭＩＮＡＭＩ",{"$f":"(\"11\")","v":"11"},"FW","大室　颯","オオムロ　ハヤテ",4,"男子"]
["鶴岡Ｓ―ｐｌａｙ・ＭＩＮＡＭＩ_12","鶴岡Ｓ―ｐｌａｙ・ＭＩＮＡＭＩ",{"$f":"(\"12\")","v":"12"},"GK","伊東　隼汰","イトウ　シュンタ",3,"男子"]
["鶴岡Ｓ―ｐｌａｙ・ＭＩＮＡＭＩ_13","鶴岡Ｓ―ｐｌａｙ・ＭＩＮＡＭＩ",{"$f":"(\"13\")","v":"13"},"MF","曽根田　琉竜勇","ソネダ　リリュウ",2,"男子"]
["鶴岡Ｓ―ｐｌａｙ・ＭＩＮＡＭＩ_14","鶴岡Ｓ―ｐｌａｙ・ＭＩＮＡＭＩ",{"$f":"(\"14\")","v":"14"},"FW","兒玉　直樹","コダマ　ナオキ",3,"男子"]
["鶴岡Ｓ―ｐｌａｙ・ＭＩＮＡＭＩ_15","鶴岡Ｓ―ｐｌａｙ・ＭＩＮＡＭＩ",{"$f":"(\"15\")","v":"15"},"MF","吉野内　歩真","ヨシノウチ　アユマ",2,"男子"]
["鶴岡Ｓ―ｐｌａｙ・ＭＩＮＡＭＩ_16","鶴岡Ｓ―ｐｌａｙ・ＭＩＮＡＭＩ",{"$f":"(\"16\")","v":"16"},"MF","市原　綾人","イチハラ　リョウト",3,"男子"]
["佐伯リベロフットボールクラブ_1","佐伯リベロフットボールクラブ",{"$f":"(\"1\")","v":"1"},"GK","冨澤　樹","トミザワ　イツキ",4,"男子"]
["佐伯リベロフットボールクラブ_2","佐伯リベロフットボールクラブ",{"$f":"(\"2\")","v":"2"},"DF","日吉　虎輔","ヒヨシ　コスケ",4,"男子"]
["佐伯リベロフットボールクラブ_3","佐伯リベロフットボールクラブ",{"$f":"(\"3\")","v":"3"},"FW","佐藤　陽斗","サトウ　ハルト",4,"男子"]
["佐伯リベロフットボールクラブ_4","佐伯リベロフットボールクラブ",{"$f":"(\"4\")","v":"4"},"DF","山村　悠人","ヤマムラ　ヒサト",4,"男子"]
["佐伯リベロフットボールクラブ_5","佐伯リベロフットボールクラブ",{"$f":"(\"5\")","v":"5"},"DF","河野　遥真","カワノ　ハルマ",5,"男子"]
["佐伯リベロフットボールクラブ_6","佐伯リベロフットボールクラブ",{"$f":"(\"6\")","v":"6"},"DF","尾崎　恭","オザキ　キョウ",5,"男子"]
["佐伯リベロフットボールクラブ_7","佐伯リベロフットボールクラブ",{"$f":"(\"7\")","v":"7"},"FW","石上　博也","イシガミ　ヒロヤ",5,"男子"]
["佐伯リベロフットボールクラブ_8","佐伯リベロフットボールクラブ",{"$f":"(\"8\")","v":"8"},"MF","神崎　雄人","カンザキ　ユウト",5,"男子"]
["佐伯リベロフットボールクラブ_9","佐伯リベロフットボールクラブ",{"$f":"(\"9\")","v":"9"},"DF","早瀬　昇","ハヤセ　ノボル",5,"男子"]
["佐伯リベロフットボールクラブ_10","佐伯リベロフットボールクラブ",{"$f":"(\"10\")","v":"10"},"MF","岡田　虎太朗","オカダ　コタロウ",5,"男子","○"]
["佐伯リベロフットボールクラブ_11","佐伯リベロフットボールクラブ",{"$f":"(\"11\")","v":"11"},"FW","廣瀬　大治","ヒロセ　ダイチ",5,"男子"]
["佐伯リベロフットボールクラブ_12","佐伯リベロフットボールクラブ",{"$f":"(\"12\")","v":"12"},"FW","児玉　冴徠","コダマ　サク",4,"男子"]
["佐伯リベロフットボールクラブ_13","佐伯リベロフットボールクラブ",{"$f":"(\"13\")","v":"13"},"FW","渡邉　翔太","ワタナベ　ショウタ",4,"男子"]
["佐伯リベロフットボールクラブ_14","佐伯リベロフットボールクラブ",{"$f":"(\"14\")","v":"14"},"MF","上野　蒼太","ウエノ　ソウタ",4,"男子"]
["佐伯リベロフットボールクラブ_15","佐伯リベロフットボールクラブ",{"$f":"(\"15\")","v":"15"},"MF","河野　結人","カワノ　ユイト",4,"男子"]
["別府フットボールクラブ．ミネルバＵ－１２_1","別府フットボールクラブ．ミネルバＵ－１２",{"$f":"(\"1\")","v":"1"},"GK","石橋　千尋","イシバシ　チヒロ",5,"男子"]
[{"$f":"CONCATENATE(B449,\"_\",C449)","v":"別府フットボールクラブ．ミネルバＵ－１２_2"},"別府フットボールクラブ．ミネルバＵ－１２",{"$f":"(\"2\")","v":"2"},"DF","波多野　雄大","ハタノ　ユウダイ",5,"男子","○"]
["別府フットボールクラブ．ミネルバＵ－１２_3","別府フットボールクラブ．ミネルバＵ－１２",{"$f":"(\"3\")","v":"3"},"DF","小田　蒼太","オダ　ソウタ",5,"男子"]
["別府フットボールクラブ．ミネルバＵ－１２_4","別府フットボールクラブ．ミネルバＵ－１２",{"$f":"(\"4\")","v":"4"},"DF","古川　悠真","フルカワ　ユウマ",5,"男子"]
["別府フットボールクラブ．ミネルバＵ－１２_5","別府フットボールクラブ．ミネルバＵ－１２",{"$f":"(\"5\")","v":"5"},"MF","佐藤　由凰","サトウ　ユウゴ",5,"男子"]
["別府フットボールクラブ．ミネルバＵ－１２_6","別府フットボールクラブ．ミネルバＵ－１２",{"$f":"(\"6\")","v":"6"},"MF","葛城　佑真","カツラギ　ユウマ",5,"男子"]
["別府フットボールクラブ．ミネルバＵ－１２_7","別府フットボールクラブ．ミネルバＵ－１２",{"$f":"(\"7\")","v":"7"},"MF","矢野　陽介","ヤノ　ヨウスケ",5,"男子"]
["別府フットボールクラブ．ミネルバＵ－１２_8","別府フットボールクラブ．ミネルバＵ－１２",{"$f":"(\"8\")","v":"8"},"MF","西林　貴臣","ニシバヤシ　タカオミ",4,"男子"]
["別府フットボールクラブ．ミネルバＵ－１２_9","別府フットボールクラブ．ミネルバＵ－１２",{"$f":"(\"9\")","v":"9"},"FW","安部　煌生","アベ　コウキ",5,"男子"]
["別府フットボールクラブ．ミネルバＵ－１２_10","別府フットボールクラブ．ミネルバＵ－１２",{"$f":"(\"10\")","v":"10"},"MF","安倍　京弥","アベ　キョウヤ",5,"男子"]
["別府フットボールクラブ．ミネルバＵ－１２_11","別府フットボールクラブ．ミネルバＵ－１２",{"$f":"(\"11\")","v":"11"},"MF","仲道　悠人","ナカミチ　ハルト",5,"男子"]
["別府フットボールクラブ．ミネルバＵ－１２_12","別府フットボールクラブ．ミネルバＵ－１２",{"$f":"(\"12\")","v":"12"},"MF","有永　瑠浬","アリナガ　ルリ",5,"女子小学生"]
["別府フットボールクラブ．ミネルバＵ－１２_13","別府フットボールクラブ．ミネルバＵ－１２",{"$f":"(\"13\")","v":"13"},"MF","首藤　晴道","シュトウ　ハルミチ",5,"男子"]
["別府フットボールクラブ．ミネルバＵ－１２_14","別府フットボールクラブ．ミネルバＵ－１２",{"$f":"(\"14\")","v":"14"},"FW","佐藤　嗣翔","サトウ　ツグト",3,"男子"]
["別府フットボールクラブ．ミネルバＵ－１２_15","別府フットボールクラブ．ミネルバＵ－１２",{"$f":"(\"15\")","v":"15"},"GK","林　蔵人","ハヤシ　クロウド",4,"男子"]
["別府フットボールクラブ．ミネルバＵ－１２_16","別府フットボールクラブ．ミネルバＵ－１２",{"$f":"(\"16\")","v":"16"},"FW","西　寛太郎","ニシ　カンタロウ",3,"男子"]
["別保ＳＦＣ_1","別保ＳＦＣ",{"$f":"(\"1\")","v":"1"},"GK","石見　悟","イワミ　サトル",5,"男子","○"]
["別保ＳＦＣ_2","別保ＳＦＣ",{"$f":"(\"2\")","v":"2"},"DF","後藤　佑斗","ゴトウ　ユウト",4,"男子"]
["別保ＳＦＣ_3","別保ＳＦＣ",{"$f":"(\"3\")","v":"3"},"FW","大村　直人","オオムラ　ナオト",5,"男子"]
["別保ＳＦＣ_4","別保ＳＦＣ",{"$f":"(\"4\")","v":"4"},"MF","馬﨑　隆世","マサキ　リュウセイ",5,"男子"]
["別保ＳＦＣ_5","別保ＳＦＣ",{"$f":"(\"5\")","v":"5"},"FW","江藤　吉哉","エトウ　ヨシヤ",5,"男子"]
["別保ＳＦＣ_6","別保ＳＦＣ",{"$f":"(\"6\")","v":"6"},"MF","川手　一葉","カワテ　ヒトハ",5,"女子小学生"]
["別保ＳＦＣ_7","別保ＳＦＣ",{"$f":"(\"7\")","v":"7"},"MF","庄司　雅人","ショウジ　マサト",5,"男子"]
["別保ＳＦＣ_8","別保ＳＦＣ",{"$f":"(\"8\")","v":"8"},"MF","江上　結奈","エガミ　ユイナ",5,"女子小学生"]
["別保ＳＦＣ_9","別保ＳＦＣ",{"$f":"(\"9\")","v":"9"},"FW","大嶋　蒼介","オオシマ　ソウスケ",5,"男子"]
["別保ＳＦＣ_10","別保ＳＦＣ",{"$f":"(\"10\")","v":"10"},"DF","小野　琳太郎","オノ　リンタロウ",5,"男子"]
["別保ＳＦＣ_11","別保ＳＦＣ",{"$f":"(\"11\")","v":"11"},"MF","後藤　誠士郎","ゴトウ　セイシロウ",5,"男子"]
["別保ＳＦＣ_12","別保ＳＦＣ",{"$f":"(\"12\")","v":"12"},"DF","坂本　海晟","サカモト　カイセイ",4,"男子"]
["別保ＳＦＣ_13","別保ＳＦＣ",{"$f":"(\"13\")","v":"13"},"DF","佐藤　蓮","サトウ　レン",4,"男子"]
["別保ＳＦＣ_14","別保ＳＦＣ",{"$f":"(\"14\")","v":"14"},"DF","小嶋　蓮","コジマ　レン",4,"男子"]
["別保ＳＦＣ_15","別保ＳＦＣ",{"$f":"(\"15\")","v":"15"},"FW","北村　竜月","キタムラ　タツキ",4,"男子"]
["別保ＳＦＣ_16","別保ＳＦＣ",{"$f":"(\"16\")","v":"16"},"DF","小野　めい","オノ　メイ",4,"女子小学生"]
["大在サッカースポーツ少年団_1","大在サッカースポーツ少年団",{"$f":"(\"1\")","v":"1"},"GK","須川　彪雅","スガワ　ヒュウガ",5,"男子"]
["大在サッカースポーツ少年団_3","大在サッカースポーツ少年団",{"$f":"(\"3\")","v":"3"},"DF","後藤　颯斗","ゴトウ　ハヤト",5,"男子"]
["大在サッカースポーツ少年団_4","大在サッカースポーツ少年団",{"$f":"(\"4\")","v":"4"},"DF","須藤　来希","スドウ　ライキ",5,"男子"]
["大在サッカースポーツ少年団_5","大在サッカースポーツ少年団",{"$f":"(\"5\")","v":"5"},"MF","市原　玲斗","イチハラ　レオト",5,"男子"]
["大在サッカースポーツ少年団_6","大在サッカースポーツ少年団",{"$f":"(\"6\")","v":"6"},"FW","菱川　暁翔","ヒシカワ　アキト",5,"男子"]
["大在サッカースポーツ少年団_7","大在サッカースポーツ少年団",{"$f":"(\"7\")","v":"7"},"MF","姫野　大和","ヒメノ　ヤマト",5,"男子"]
["大在サッカースポーツ少年団_8","大在サッカースポーツ少年団",{"$f":"(\"8\")","v":"8"},"DF","戎野　堆牙","エビスノ　タイガ",5,"男子","○"]
["大在サッカースポーツ少年団_9","大在サッカースポーツ少年団",{"$f":"(\"9\")","v":"9"},"MF","後藤　響","ゴトウ　ヒビキ",5,"男子"]
["大在サッカースポーツ少年団_10","大在サッカースポーツ少年団",{"$f":"(\"10\")","v":"10"},"MF","金嶽　璃空","カネタケ　リク",5,"男子"]
["大在サッカースポーツ少年団_11","大在サッカースポーツ少年団",{"$f":"(\"11\")","v":"11"},"MF","松良　航雅","マツラ　コウガ",5,"男子"]
["大在サッカースポーツ少年団_12","大在サッカースポーツ少年団",{"$f":"(\"12\")","v":"12"},"DF","下川　昊登","シモカワ　ヒロト",5,"男子"]
["大在サッカースポーツ少年団_13","大在サッカースポーツ少年団",{"$f":"(\"13\")","v":"13"},"DF","守田　海渡","モリタ　カイト",5,"男子"]
["大在サッカースポーツ少年団_14","大在サッカースポーツ少年団",{"$f":"(\"14\")","v":"14"},"DF","三代　虎愛","ミシロ　トア",5,"男子"]
["大分トリニータＵ－１２_1","大分トリニータＵ－１２",{"$f":"(\"1\")","v":"1"},"GK","渡邊　颯太","ワタナベ　ソウタ",5,"男子",null,"大分トリニータタートルズ"]
["大分トリニータＵ－１２_2","大分トリニータＵ－１２",{"$f":"(\"2\")","v":"2"},"MF","薬師寺　凌空","ヤクシジ　リク",5,"男子",null,"大分トリニータタートルズ"]
["大分トリニータＵ－１２_3","大分トリニータＵ－１２",{"$f":"(\"3\")","v":"3"},"MF","小泉　咲空","コイズミ　サク",5,"女子小学生",null,"豊府サッカースポーツ少年団"]
["大分トリニータＵ－１２_4","大分トリニータＵ－１２",{"$f":"(\"4\")","v":"4"},"MF","野田　佑月","ノダ　ユズキ",5,"男子",null,"大分トリニータタートルズ"]
["大分トリニータＵ－１２_5","大分トリニータＵ－１２",{"$f":"(\"5\")","v":"5"},"MF","湯之原　旺輔","ユノハラ　オウスケ",4,"男子"]
["大分トリニータＵ－１２_6","大分トリニータＵ－１２",{"$f":"(\"6\")","v":"6"},"MF","西田　陸翔","ニシダ　リクト",5,"男子",null,"スマイス　セレソン　スポーツクラブ"]
["大分トリニータＵ－１２_7","大分トリニータＵ－１２",{"$f":"(\"7\")","v":"7"},"MF","伊勢　虎斗","イセ　タケト",5,"男子",null,"スマイス　セレソン　スポーツクラブ"]
["大分トリニータＵ－１２_8","大分トリニータＵ－１２",{"$f":"(\"8\")","v":"8"},"MF","原園　英虎","ハラゾノ　ヒデトラ",5,"男子",null,"スマイス　セレソン　スポーツクラブ"]
["大分トリニータＵ－１２_9","大分トリニータＵ－１２",{"$f":"(\"9\")","v":"9"},"MF","上本　翔海","ウエモト　ツバサ",5,"男子"]
["大分トリニータＵ－１２_10","大分トリニータＵ－１２",{"$f":"(\"10\")","v":"10"},"FW","池谷　碧","イケヤ　アオイ",5,"男子","○","大分トリニータタートルズ"]
["大分トリニータＵ－１２_11","大分トリニータＵ－１２",{"$f":"(\"11\")","v":"11"},"FW","山﨑　凱斗","ヤマザキ　カイト",4,"男子"]
["大分トリニータＵ－１２_12","大分トリニータＵ－１２",{"$f":"(\"12\")","v":"12"},"MF","安藤　晴葵","アンドウ　ハルキ",5,"男子",null,"大分トリニータタートルズ"]
["大分トリニータＵ－１２_13","大分トリニータＵ－１２",{"$f":"(\"13\")","v":"13"},"MF","上杉　結希","ウエスギ　ユウキ",4,"男子",null,"大分トリニータタートルズ"]
["大分トリニータＵ－１２_14","大分トリニータＵ－１２",{"$f":"(\"14\")","v":"14"},"MF","藤原　頼翔","フジワラ　ライト",4,"男子",null,"大道サッカースポーツ少年団"]
["大分トリニータＵ－１２_15","大分トリニータＵ－１２",{"$f":"(\"15\")","v":"15"},"FW","木許　賀琥","キモト　ガク",4,"男子",null,"津久見サッカースポーツ少年団"]
["大分トリニータＵ－１２_16","大分トリニータＵ－１２",{"$f":"(\"16\")","v":"16"},"MF","河野　蒼良","カワノ　ソラ",5,"男子",null,"リノスフットボールクラブ　Ｕ－１２"]
["碩田サッカースポーツ少年団_1","碩田サッカースポーツ少年団",{"$f":"(\"1\")","v":"1"},"GK","岩尾　賢尚","イワオ　タカヒサ",3,"男子"]
["碩田サッカースポーツ少年団_2","碩田サッカースポーツ少年団",{"$f":"(\"2\")","v":"2"},"DF","阿部　覇亜斗","アベ　ハアト",3,"男子"]
["碩田サッカースポーツ少年団_3","碩田サッカースポーツ少年団",{"$f":"(\"3\")","v":"3"},"MF","中村　光希","ナカムラ　ヒカリ",3,"男子"]
["碩田サッカースポーツ少年団_4","碩田サッカースポーツ少年団",{"$f":"(\"4\")","v":"4"},"DF","仲道　陸空人","ナカミチ　リクト",3,"男子"]
[{"$f":"CONCATENATE(B513,\"_\",C513)","v":"碩田サッカースポーツ少年団_5"},"碩田サッカースポーツ少年団",{"$f":"(\"5\")","v":"5"},"FW","村上　遥飛","ムラカミ　ハルト",3,"男子"]
["碩田サッカースポーツ少年団_6","碩田サッカースポーツ少年団",{"$f":"(\"6\")","v":"6"},"FW","海津　逞人","カイヅ　タクト",4,"男子"]
["碩田サッカースポーツ少年団_7","碩田サッカースポーツ少年団",{"$f":"(\"7\")","v":"7"},"DF","楢橋　拓斗","ナラハシ　タクト",4,"男子"]
["碩田サッカースポーツ少年団_8","碩田サッカースポーツ少年団",{"$f":"(\"8\")","v":"8"},"FW","仲道　美梨杏","ナカミチ　ミリア",5,"女子小学生"]
["碩田サッカースポーツ少年団_9","碩田サッカースポーツ少年団",{"$f":"(\"9\")","v":"9"},"DF","広瀬　瑚々乃","ヒロセ　ココノ",5,"女子小学生"]
["碩田サッカースポーツ少年団_10","碩田サッカースポーツ少年団",{"$f":"(\"10\")","v":"10"},"MF","岩村　貫吾","イワムラ　カンゴ",5,"男子","○"]
["碩田サッカースポーツ少年団_11","碩田サッカースポーツ少年団",{"$f":"(\"11\")","v":"11"},"MF","佐藤　琉斗","サトウ　リュウト",5,"男子",null,"ＦＣ　ＲＥＧＡＴＥ"]
["碩田サッカースポーツ少年団_12","碩田サッカースポーツ少年団",{"$f":"(\"12\")","v":"12"},"MF","西村　翔舞","ニシムラ　ショウマ",2,"男子"]
["碩田サッカースポーツ少年団_13","碩田サッカースポーツ少年団",{"$f":"(\"13\")","v":"13"},"DF","宮脇　黄鈴","ミヤワキ　キリン",2,"女子小学生"]
["碩田サッカースポーツ少年団_14","碩田サッカースポーツ少年団",{"$f":"(\"14\")","v":"14"},"MF","天﨑　圭太朗","アマザキ　ケイタロウ",2,"男子"]
["碩田サッカースポーツ少年団_15","碩田サッカースポーツ少年団",{"$f":"(\"15\")","v":"15"},"MF","岩村　周真","イワムラ　シュウマ",1,"男子"]
["碩田サッカースポーツ少年団_16","碩田サッカースポーツ少年団",{"$f":"(\"16\")","v":"16"},"GK","汐月　春斗","シオツキ　ハルト",2,"男子"]
["春日ＳＳＳ_1","春日ＳＳＳ",{"$f":"(\"1\")","v":"1"},"GK","是永　虎太朗","コレナガ　コタロウ",5,"男子"]
["春日ＳＳＳ_2","春日ＳＳＳ",{"$f":"(\"2\")","v":"2"},"DF","矢﨑　穂高","ヤザキ　ホダカ",5,"男子"]
["春日ＳＳＳ_3","春日ＳＳＳ",{"$f":"(\"3\")","v":"3"},"DF","矢﨑　大地","ヤザキ　ダイチ",3,"男子"]
["春日ＳＳＳ_4","春日ＳＳＳ",{"$f":"(\"4\")","v":"4"},"DF","尾崎　亘","オザキ　ワタル",3,"男子"]
["春日ＳＳＳ_5","春日ＳＳＳ",{"$f":"(\"5\")","v":"5"},"MF","本多　荘弥","ホンダ　ソウヤ",3,"男子"]
["春日ＳＳＳ_6","春日ＳＳＳ",{"$f":"(\"6\")","v":"6"},"FW","平川　樹","ヒラカワ　タツ",3,"男子"]
["春日ＳＳＳ_7","春日ＳＳＳ",{"$f":"(\"7\")","v":"7"},"MF","河野　皓馬","カワノ　コウマ",5,"男子"]
["春日ＳＳＳ_8","春日ＳＳＳ",{"$f":"(\"8\")","v":"8"},"MF","岡田　大空","オカダ　タク",4,"男子"]
["春日ＳＳＳ_9","春日ＳＳＳ",{"$f":"(\"9\")","v":"9"},"MF","小田　瑛太","オダ　エイタ",3,"男子"]
["春日ＳＳＳ_10","春日ＳＳＳ",{"$f":"(\"10\")","v":"10"},"MF","小田　冠太","オダ　カンタ",5,"男子","○"]
["春日ＳＳＳ_11","春日ＳＳＳ",{"$f":"(\"11\")","v":"11"},"FW","佐藤　結生","サトウ　ユイ",5,"女子小学生"]
["春日ＳＳＳ_12","春日ＳＳＳ",{"$f":"(\"12\")","v":"12"},"FW","安藤　ひより","アンドウ　ヒヨリ",2,"女子小学生"]
["春日ＳＳＳ_13","春日ＳＳＳ",{"$f":"(\"13\")","v":"13"},"FW","古庄　櫂士","コショウ　カイト",1,"男子"]
["春日ＳＳＳ_16","春日ＳＳＳ",{"$f":"(\"16\")","v":"16"},"GK","羽田野　淳斗","ハダノ　アツト",3,"男子"]
["春日ＳＳＳ_19","春日ＳＳＳ",{"$f":"(\"19\")","v":"19"},"DF","大久保　澪","オオクボ　レイ",5,"男子"]
["南大分サッカー少年団_1","南大分サッカー少年団",{"$f":"(\"1\")","v":"1"},"GK","首藤　優慎","シュトウ　ユウシン",5,"男子"]
["南大分サッカー少年団_2","南大分サッカー少年団",{"$f":"(\"2\")","v":"2"},"MF","甲斐　勇人","カイ　ハヤト",5,"男子"]
["南大分サッカー少年団_3","南大分サッカー少年団",{"$f":"(\"3\")","v":"3"},"DF","佐藤　大地","サトウ　ダイチ",4,"男子"]
["南大分サッカー少年団_4","南大分サッカー少年団",{"$f":"(\"4\")","v":"4"},"DF","安部　雄翔","アベ　ユウト",4,"男子"]
["南大分サッカー少年団_5","南大分サッカー少年団",{"$f":"(\"5\")","v":"5"},"MF","竹林　一護","タケバヤシ　イチゴ",5,"男子"]
["南大分サッカー少年団_6","南大分サッカー少年団",{"$f":"(\"6\")","v":"6"},"FW","河野　安璃","カワノ　アンリ",4,"男子"]
["南大分サッカー少年団_7","南大分サッカー少年団",{"$f":"(\"7\")","v":"7"},"FW","大久保　賢吾","オオクボ　ケンゴ",5,"男子"]
["南大分サッカー少年団_8","南大分サッカー少年団",{"$f":"(\"8\")","v":"8"},"DF","野尻　春樹","ノジリ　シュンキ",5,"男子"]
["南大分サッカー少年団_9","南大分サッカー少年団",{"$f":"(\"9\")","v":"9"},"MF","安部　栞奈","アベ　カンナ",4,"女子小学生"]
["南大分サッカー少年団_10","南大分サッカー少年団",{"$f":"(\"10\")","v":"10"},"DF","樋口　結人","ヒグチ　ユイト",5,"男子"]
["南大分サッカー少年団_11","南大分サッカー少年団",{"$f":"(\"11\")","v":"11"},"DF","小野　了雅","オノ　リョウガ",5,"男子"]
["南大分サッカー少年団_13","南大分サッカー少年団",{"$f":"(\"13\")","v":"13"},"MF","佐藤　煌星","サトウ　コウセイ",5,"男子"]
["南大分サッカー少年団_14","南大分サッカー少年団",{"$f":"(\"14\")","v":"14"},"DF","高橋　湊太","タカハシ　ソウタ",5,"男子"]
["南大分サッカー少年団_15","南大分サッカー少年団",{"$f":"(\"15\")","v":"15"},"GK","後藤　梢","ゴトウ　コズエ",5,"女子小学生","○"]
["アトレチコエラン横瀬_1","アトレチコエラン横瀬",{"$f":"(\"1\")","v":"1"},"GK","森山　蓮亜","モリヤマ　レイア",5,"男子"]
["アトレチコエラン横瀬_2","アトレチコエラン横瀬",{"$f":"(\"2\")","v":"2"},"MF","鶴原　宋佑","ツルハラ　ソウスケ",5,"男子"]
["アトレチコエラン横瀬_3","アトレチコエラン横瀬",{"$f":"(\"3\")","v":"3"},"MF","土師　大知","ハジ　ダイチ",5,"男子"]
["アトレチコエラン横瀬_4","アトレチコエラン横瀬",{"$f":"(\"4\")","v":"4"},"FW","末松　明樽","スエマツ　アタル",5,"男子"]
["アトレチコエラン横瀬_5","アトレチコエラン横瀬",{"$f":"(\"5\")","v":"5"},"DF","中　優輝","ナカ　マサキ",5,"男子"]
["アトレチコエラン横瀬_6","アトレチコエラン横瀬",{"$f":"(\"6\")","v":"6"},"MF","古賀　心温","コガ　ホノカ",5,"女子小学生"]
["アトレチコエラン横瀬_7","アトレチコエラン横瀬",{"$f":"(\"7\")","v":"7"},"MF","仁部屋　蓮斗","ニブヤ　レント",5,"男子"]
["アトレチコエラン横瀬_8","アトレチコエラン横瀬",{"$f":"(\"8\")","v":"8"},"MF","土師　優貴","ハジ　ユウキ",5,"男子"]
["アトレチコエラン横瀬_9","アトレチコエラン横瀬",{"$f":"(\"9\")","v":"9"},"DF","相良　祐虎","サガラ　ユウト",5,"男子"]
["アトレチコエラン横瀬_10","アトレチコエラン横瀬",{"$f":"(\"10\")","v":"10"},"MF","三浦　斡太","ミウラ　カンタ",5,"男子","○"]
["アトレチコエラン横瀬_11","アトレチコエラン横瀬",{"$f":"(\"11\")","v":"11"},"FW","田北　悠斗","タキタ　ユウト",5,"男子"]
["アトレチコエラン横瀬_12","アトレチコエラン横瀬",{"$f":"(\"12\")","v":"12"},"FW","日野　結翔","ヒノ　ユイト",4,"男子",null,"ヴェルスパ大分　Ｕ－１２"]
["アトレチコエラン横瀬_13","アトレチコエラン横瀬",{"$f":"(\"13\")","v":"13"},"DF","髙木　翔央","タカギ　ショウ",4,"男子"]
["アトレチコエラン横瀬_14","アトレチコエラン横瀬",{"$f":"(\"14\")","v":"14"},"DF","阿部　唯信","アベ　ユイシン",4,"男子"]
["アトレチコエラン横瀬_16","アトレチコエラン横瀬",{"$f":"(\"16\")","v":"16"},"FW","岩本　大寿","イワモト　タイジュ",5,"男子",null,"挾間ＪＦＣ"]
["明野北フットボールクラブ_1","明野北フットボールクラブ",{"$f":"(\"1\")","v":"1"},"GK","大嶋　凛","オオシマ　リン",5,"男子"]
["明野北フットボールクラブ_2","明野北フットボールクラブ",{"$f":"(\"2\")","v":"2"},"DF","大嶋　蘭","オオシマ　ラン",5,"男子"]
["明野北フットボールクラブ_3","明野北フットボールクラブ",{"$f":"(\"3\")","v":"3"},"FW","今村　太壱郎","イマムラ　タイチロウ",5,"男子"]
["明野北フットボールクラブ_4","明野北フットボールクラブ",{"$f":"(\"4\")","v":"4"},"DF","中津留　桜吏","ナカツル　オウリ",4,"男子"]
["明野北フットボールクラブ_5","明野北フットボールクラブ",{"$f":"(\"5\")","v":"5"},"MF","黒川　壱綺","クロカワ　イチギ",4,"男子"]
["明野北フットボールクラブ_6","明野北フットボールクラブ",{"$f":"(\"6\")","v":"6"},"DF","中野　幹太","ナカノ　カンタ",4,"男子"]
["明野北フットボールクラブ_7","明野北フットボールクラブ",{"$f":"(\"7\")","v":"7"},"MF","藤原　鉄心","フジワラ　テッシン",4,"男子"]
["明野北フットボールクラブ_8","明野北フットボールクラブ",{"$f":"(\"8\")","v":"8"},"MF","嶌田　徠煌","シマダ　ライキ",4,"男子"]
[{"$f":"CONCATENATE(B577,\"_\",C577)","v":"明野北フットボールクラブ_9"},"明野北フットボールクラブ",{"$f":"(\"9\")","v":"9"},"FW","清田　蒼介","キヨタ　ソウスケ",3,"男子"]
["明野北フットボールクラブ_10","明野北フットボールクラブ",{"$f":"(\"10\")","v":"10"},"MF","田口　岳雄","タグチ　タケオ",5,"男子","○"]
["明野北フットボールクラブ_11","明野北フットボールクラブ",{"$f":"(\"11\")","v":"11"},"FW","齊木　康太","サイキ　コウタ",3,"男子"]
["明野北フットボールクラブ_12","明野北フットボールクラブ",{"$f":"(\"12\")","v":"12"},"DF","三代　葉","ミシロ　ヨウ",3,"男子"]
["明治北ＳＳＣ_1","明治北ＳＳＣ",{"$f":"(\"1\")","v":"1"},"GK","石田　一稀","イシダ　イツキ",5,"男子"]
["明治北ＳＳＣ_2","明治北ＳＳＣ",{"$f":"(\"2\")","v":"2"},"DF","竹野内　翼","タケノウチ　ツバサ",5,"男子"]
["明治北ＳＳＣ_3","明治北ＳＳＣ",{"$f":"(\"3\")","v":"3"},"DF","佐藤　優維人","サトウ　ユイト",5,"男子"]
["明治北ＳＳＣ_4","明治北ＳＳＣ",{"$f":"(\"4\")","v":"4"},"DF","磯部　輝","イソベ　ヒカル",5,"男子"]
["明治北ＳＳＣ_5","明治北ＳＳＣ",{"$f":"(\"5\")","v":"5"},"MF","麻生　幸喜","アソウ　コウキ",5,"男子"]
["明治北ＳＳＣ_6","明治北ＳＳＣ",{"$f":"(\"6\")","v":"6"},"MF","岐部　龍一","キベ　リュウイチ",5,"男子"]
["明治北ＳＳＣ_7","明治北ＳＳＣ",{"$f":"(\"7\")","v":"7"},"MF","楢崎　奏斗","ナラサキ　カナト",5,"男子","○"]
["明治北ＳＳＣ_8","明治北ＳＳＣ",{"$f":"(\"8\")","v":"8"},"MF","周藤　隆生","シュウトウ　リュウセイ",5,"男子"]
["明治北ＳＳＣ_9","明治北ＳＳＣ",{"$f":"(\"9\")","v":"9"},"MF","岩本　太志","イワモト　タイシ",5,"男子"]
["明治北ＳＳＣ_10","明治北ＳＳＣ",{"$f":"(\"10\")","v":"10"},"MF","山室　直暉","ヤマムロ　ナオキ",5,"男子"]
["明治北ＳＳＣ_11","明治北ＳＳＣ",{"$f":"(\"11\")","v":"11"},"DF","山内　陽世","ヤマウチ　ハルセ",5,"男子"]
["明治北ＳＳＣ_12","明治北ＳＳＣ",{"$f":"(\"12\")","v":"12"},"GK","森田　圭一","モリタ　ケイイチ",5,"男子"]
["明治北ＳＳＣ_13","明治北ＳＳＣ",{"$f":"(\"13\")","v":"13"},"MF","山内　凛生","ヤマウチ　リンセイ",5,"男子",null,"ヴィンクラッソ大分ＦＣジュニア"]
["明治北ＳＳＣ_14","明治北ＳＳＣ",{"$f":"(\"14\")","v":"14"},"MF","松川　暉","マツカワ　ヒカル",4,"男子"]
["明治北ＳＳＣ_15","明治北ＳＳＣ",{"$f":"(\"15\")","v":"15"},"FW","高橋　新ノ介","タカハシ　シンノスケ",4,"男子"]
["明治北ＳＳＣ_16","明治北ＳＳＣ",{"$f":"(\"16\")","v":"16"},"MF","丸石　奏多","マルイシ　カナタ",4,"男子"]
["明野東サッカースポーツ少年団_2","明野東サッカースポーツ少年団",{"$f":"(\"2\")","v":"2"},"MF","菊池　魁大","キクチ　カイト",5,"男子"]
["明野東サッカースポーツ少年団_3","明野東サッカースポーツ少年団",{"$f":"(\"3\")","v":"3"},"MF","中上　颯太","ナカガミ　ソウタ",3,"男子"]
["明野東サッカースポーツ少年団_4","明野東サッカースポーツ少年団",{"$f":"(\"4\")","v":"4"},"MF","久保田　龍之介","クボタ　リュウノスケ",3,"男子"]
["明野東サッカースポーツ少年団_5","明野東サッカースポーツ少年団",{"$f":"(\"5\")","v":"5"},"MF","後藤　拓海","ゴトウ　タクミ",3,"男子"]
["明野東サッカースポーツ少年団_6","明野東サッカースポーツ少年団",{"$f":"(\"6\")","v":"6"},"MF","加藤　咲妃","カトウ　サキ",4,"女子小学生"]
["明野東サッカースポーツ少年団_7","明野東サッカースポーツ少年団",{"$f":"(\"7\")","v":"7"},"DF","首藤　大輝","シュトウ　ダイキ",5,"男子","○"]
["明野東サッカースポーツ少年団_8","明野東サッカースポーツ少年団",{"$f":"(\"8\")","v":"8"},"DF","阿部　希空","アベ　ノア",5,"男子"]
["明野東サッカースポーツ少年団_9","明野東サッカースポーツ少年団",{"$f":"(\"9\")","v":"9"},"DF","水野　公太郎","ミズノ　コウタロウ",5,"男子"]
["明野東サッカースポーツ少年団_10","明野東サッカースポーツ少年団",{"$f":"(\"10\")","v":"10"},"FW","山田　晃誠","ヤマダ　コウセイ",5,"男子"]
["明野東サッカースポーツ少年団_11","明野東サッカースポーツ少年団",{"$f":"(\"11\")","v":"11"},"FW","後藤　紀葉","ゴトウ　コトハ",4,"女子小学生"]
["明野東サッカースポーツ少年団_12","明野東サッカースポーツ少年団",{"$f":"(\"12\")","v":"12"},"FW","山田　芽依","ヤマダ　メイ",4,"女子小学生"]
["明野東サッカースポーツ少年団_13","明野東サッカースポーツ少年団",{"$f":"(\"13\")","v":"13"},"FW","中野　凛","ナカノ　リン",4,"女子小学生"]
["明野東サッカースポーツ少年団_14","明野東サッカースポーツ少年団",{"$f":"(\"14\")","v":"14"},"FW","甲斐　理央奈","カイ　リオナ",3,"女子小学生"]
["明野東サッカースポーツ少年団_15","明野東サッカースポーツ少年団",{"$f":"(\"15\")","v":"15"},"FW","宮﨑　風牙","ミヤザキ　フウガ",4,"男子"]
["明野東サッカースポーツ少年団_16","明野東サッカースポーツ少年団",{"$f":"(\"16\")","v":"16"},"FW","朝倉　宏天","アサクラ　ヒロタカ",4,"男子",null,"大分トリニータタートルズ"]
["明野東サッカースポーツ少年団_21","明野東サッカースポーツ少年団",{"$f":"(\"21\")","v":"21"},"GK","藤山　陸斗","フジヤマ　リクト",4,"男子"]
["戸次吉野ＳＳＳ_1","戸次吉野ＳＳＳ",{"$f":"(\"1\")","v":"1"},"GK","上村　真弘","ウエムラ　マサヒロ",5,"男子"]
["戸次吉野ＳＳＳ_2","戸次吉野ＳＳＳ",{"$f":"(\"2\")","v":"2"},"DF","坂本　凰心郎","サカモト　オウシロウ",4,"男子"]
["戸次吉野ＳＳＳ_3","戸次吉野ＳＳＳ",{"$f":"(\"3\")","v":"3"},"MF","若林　悠人","ワカバヤシ　ハルト",5,"男子"]
["戸次吉野ＳＳＳ_4","戸次吉野ＳＳＳ",{"$f":"(\"4\")","v":"4"},"DF","松田　千慧","マツダ　チサト",5,"男子"]
["戸次吉野ＳＳＳ_5","戸次吉野ＳＳＳ",{"$f":"(\"5\")","v":"5"},"DF","玉井　俊輝","タマイ　トシキ",5,"男子"]
["戸次吉野ＳＳＳ_6","戸次吉野ＳＳＳ",{"$f":"(\"6\")","v":"6"},"MF","佐用　大翔","サヨウ　ヒロト",5,"男子"]
["戸次吉野ＳＳＳ_7","戸次吉野ＳＳＳ",{"$f":"(\"7\")","v":"7"},"MF","須藤　玲空","スドウ　リク",5,"男子"]
["戸次吉野ＳＳＳ_8","戸次吉野ＳＳＳ",{"$f":"(\"8\")","v":"8"},"MF","諏訪　しほ","スワ　シホ",5,"女子小学生"]
["戸次吉野ＳＳＳ_9","戸次吉野ＳＳＳ",{"$f":"(\"9\")","v":"9"},"FW","村上　凛太朗","ムラカミ　リンタロウ",5,"男子"]
["戸次吉野ＳＳＳ_10","戸次吉野ＳＳＳ",{"$f":"(\"10\")","v":"10"},"MF","小田　湊登","オダ　ミナト",5,"男子","○"]
["戸次吉野ＳＳＳ_11","戸次吉野ＳＳＳ",{"$f":"(\"11\")","v":"11"},"FW","帆足　颯太","ホアシ　ソウタ",4,"男子"]
["戸次吉野ＳＳＳ_12","戸次吉野ＳＳＳ",{"$f":"(\"12\")","v":"12"},"DF","赤木　学人","アカギ　カグト",4,"男子"]
["戸次吉野ＳＳＳ_13","戸次吉野ＳＳＳ",{"$f":"(\"13\")","v":"13"},"MF","村上　京之輔","ムラカミ　キョウノスケ",4,"男子"]
["戸次吉野ＳＳＳ_14","戸次吉野ＳＳＳ",{"$f":"(\"14\")","v":"14"},"MF","甲斐　未桜","カイ　ミオ",4,"女子小学生"]
["大道サッカースポーツ少年団_1","大道サッカースポーツ少年団",{"$f":"(\"1\")","v":"1"},"GK","小川　隼央","オガワ　ハヤト",5,"男子"]
["大道サッカースポーツ少年団_2","大道サッカースポーツ少年団",{"$f":"(\"2\")","v":"2"},"DF","盛武　大樹","モリタケ　タイキ",5,"男子"]
["大道サッカースポーツ少年団_3","大道サッカースポーツ少年団",{"$f":"(\"3\")","v":"3"},"DF","岐部　昊平","キベ　コウヘイ",5,"男子"]
["大道サッカースポーツ少年団_4","大道サッカースポーツ少年団",{"$f":"(\"4\")","v":"4"},"DF","宮川　航","ミヤカワ　ワタル",5,"男子"]
["大道サッカースポーツ少年団_5","大道サッカースポーツ少年団",{"$f":"(\"5\")","v":"5"},"MF","穴井　幹太","アナイ　カンタ",4,"男子"]
["大道サッカースポーツ少年団_6","大道サッカースポーツ少年団",{"$f":"(\"6\")","v":"6"},"MF","髙村　千尋","タカムラ　チヒロ",5,"女子小学生"]
["大道サッカースポーツ少年団_7","大道サッカースポーツ少年団",{"$f":"(\"7\")","v":"7"},"FW","馬場　遥翔","ババ　ハルト",5,"男子","○"]
["大道サッカースポーツ少年団_8","大道サッカースポーツ少年団",{"$f":"(\"8\")","v":"8"},"FW","橋本　和弥","ハシモト　カズヤ",5,"男子"]
["大道サッカースポーツ少年団_9","大道サッカースポーツ少年団",{"$f":"(\"9\")","v":"9"},"MF","林　雄誠","ハヤシ　ユウマ",4,"男子"]
["大道サッカースポーツ少年団_10","大道サッカースポーツ少年団",{"$f":"(\"10\")","v":"10"},"MF","河野　万綺子","カワノ　マキコ",5,"女子小学生"]
["大道サッカースポーツ少年団_11","大道サッカースポーツ少年団",{"$f":"(\"11\")","v":"11"},"FW","山中　凜太郎","ヤマナカ　リンタロウ",4,"男子"]
["大道サッカースポーツ少年団_13","大道サッカースポーツ少年団",{"$f":"(\"13\")","v":"13"},"FW","金井　慶太","カナイ　ケイタ",4,"男子"]
["大道サッカースポーツ少年団_14","大道サッカースポーツ少年団",{"$f":"(\"14\")","v":"14"},"MF","本田　慶次","ホンダ　ケイジ",2,"男子"]
["大道サッカースポーツ少年団_15","大道サッカースポーツ少年団",{"$f":"(\"15\")","v":"15"},"MF","石井　智也","イシイ　トモヤ",2,"男子"]
[{"$f":"CONCATENATE(B641,\"_\",C641)","v":"大道サッカースポーツ少年団_16"},"大道サッカースポーツ少年団",{"$f":"(\"16\")","v":"16"},"FW","橋本　拓弥","ハシモト　タクヤ",2,"男子"]
["大道サッカースポーツ少年団_17","大道サッカースポーツ少年団",{"$f":"(\"17\")","v":"17"},"DF","宮川　司","ミヤガワ　ツカサ",3,"男子"]
["東稙田サッカースポーツ少年団_3","東稙田サッカースポーツ少年団",{"$f":"(\"3\")","v":"3"},"FW","大津留　新","オオツル　アラタ",3,"男子"]
["東稙田サッカースポーツ少年団_5","東稙田サッカースポーツ少年団",{"$f":"(\"5\")","v":"5"},"MF","工藤　大輝","クドウ　タイキ",3,"男子"]
["東稙田サッカースポーツ少年団_7","東稙田サッカースポーツ少年団",{"$f":"(\"7\")","v":"7"},"DF","秋元　駿佑","アキモト　シュンスケ",5,"男子"]
["東稙田サッカースポーツ少年団_8","東稙田サッカースポーツ少年団",{"$f":"(\"8\")","v":"8"},"MF","和泉　湊","イズミ　ソウ",5,"男子","○"]
["東稙田サッカースポーツ少年団_11","東稙田サッカースポーツ少年団",{"$f":"(\"11\")","v":"11"},"DF","玉井　悠詩","タマイ　ユウタ",5,"男子"]
["東稙田サッカースポーツ少年団_12","東稙田サッカースポーツ少年団",{"$f":"(\"12\")","v":"12"},"GK","高原　瞭","タカハラ　リョウ",3,"男子"]
["東稙田サッカースポーツ少年団_13","東稙田サッカースポーツ少年団",{"$f":"(\"13\")","v":"13"},"MF","髙畠　優","タカハタ　ユウ",3,"男子"]
["東稙田サッカースポーツ少年団_14","東稙田サッカースポーツ少年団",{"$f":"(\"14\")","v":"14"},"MF","中島　泰志","ナカシマ　タイシ",3,"男子"]
["東稙田サッカースポーツ少年団_15","東稙田サッカースポーツ少年団",{"$f":"(\"15\")","v":"15"},"MF","池邊　英仁","イケベ　エイジ",3,"男子"]
["東稙田サッカースポーツ少年団_16","東稙田サッカースポーツ少年団",{"$f":"(\"16\")","v":"16"},"MF","久保田　一平","クボタ　イッペイ",3,"男子"]
["東稙田サッカースポーツ少年団_17","東稙田サッカースポーツ少年団",{"$f":"(\"17\")","v":"17"},"FW","三浦　拓仁","ミウラ　タクト",3,"男子"]
["東稙田サッカースポーツ少年団_18","東稙田サッカースポーツ少年団",{"$f":"(\"18\")","v":"18"},"DF","松﨑　義英","マツザキ　ヨシヒデ",3,"男子"]
["東稙田サッカースポーツ少年団_19","東稙田サッカースポーツ少年団",{"$f":"(\"19\")","v":"19"},"DF","棚村　誠太","タナムラ　セイタ",3,"男子"]
["寒田少年サッカークラブ_1","寒田少年サッカークラブ",{"$f":"(\"1\")","v":"1"},"GK","後藤　渚玖","ゴトウ　サク",4,"男子"]
["寒田少年サッカークラブ_2","寒田少年サッカークラブ",{"$f":"(\"2\")","v":"2"},"MF","伊東　空我","イトウ　クウガ",3,"男子"]
["寒田少年サッカークラブ_3","寒田少年サッカークラブ",{"$f":"(\"3\")","v":"3"},"DF","斎藤　暖太","サイトウ　ヒナタ",4,"男子"]
["寒田少年サッカークラブ_4","寒田少年サッカークラブ",{"$f":"(\"4\")","v":"4"},"MF","工藤　竜也","クドウ　タツヤ",4,"男子"]
["寒田少年サッカークラブ_5","寒田少年サッカークラブ",{"$f":"(\"5\")","v":"5"},"DF","伊達　毅","ダテ　ツヨシ",4,"男子"]
["寒田少年サッカークラブ_6","寒田少年サッカークラブ",{"$f":"(\"6\")","v":"6"},"FW","谷口　友哉","タニグチ　ユウヤ",3,"男子"]
["寒田少年サッカークラブ_7","寒田少年サッカークラブ",{"$f":"(\"7\")","v":"7"},"DF","堀　夢希","ホリ　ユノン",4,"女子小学生"]
["寒田少年サッカークラブ_8","寒田少年サッカークラブ",{"$f":"(\"8\")","v":"8"},"DF","佐藤　礼佳","サトウ　ライカ",4,"女子小学生"]
["寒田少年サッカークラブ_9","寒田少年サッカークラブ",{"$f":"(\"9\")","v":"9"},"MF","宮脇　百合愛","ミヤワキ　リリア",4,"女子小学生"]
["寒田少年サッカークラブ_10","寒田少年サッカークラブ",{"$f":"(\"10\")","v":"10"},"MF","森　凛桜","モリ　リサ",5,"女子小学生","○"]
["寒田少年サッカークラブ_12","寒田少年サッカークラブ",{"$f":"(\"12\")","v":"12"},"MF","皆川　琉那","ミナガワ　ルナ",3,"女子小学生"]
["滝尾下郡サッカースポーツ少年団_1","滝尾下郡サッカースポーツ少年団",{"$f":"(\"1\")","v":"1"},"GK","竹本　蓮","タケモト　レン",5,"男子",null,"大分トリニータタートルズ"]
["滝尾下郡サッカースポーツ少年団_3","滝尾下郡サッカースポーツ少年団",{"$f":"(\"3\")","v":"3"},"DF","安達　葉平","アダチ　ヨウヘイ",5,"男子","○"]
["滝尾下郡サッカースポーツ少年団_4","滝尾下郡サッカースポーツ少年団",{"$f":"(\"4\")","v":"4"},"MF","佐藤　伊吹","サトウ　イブキ",5,"男子"]
["滝尾下郡サッカースポーツ少年団_7","滝尾下郡サッカースポーツ少年団",{"$f":"(\"7\")","v":"7"},"FW","藤原　亜希斗","フジワラ　アキト",4,"男子"]
["滝尾下郡サッカースポーツ少年団_8","滝尾下郡サッカースポーツ少年団",{"$f":"(\"8\")","v":"8"},"DF","数野　泰己","カズノ　タイキ",5,"男子"]
["滝尾下郡サッカースポーツ少年団_11","滝尾下郡サッカースポーツ少年団",{"$f":"(\"11\")","v":"11"},"MF","田上　楓貴","タガミ　フウキ",4,"男子"]
["滝尾下郡サッカースポーツ少年団_12","滝尾下郡サッカースポーツ少年団",{"$f":"(\"12\")","v":"12"},"DF","酒見　直樹","サケミ　ナオキ",4,"男子"]
["滝尾下郡サッカースポーツ少年団_13","滝尾下郡サッカースポーツ少年団",{"$f":"(\"13\")","v":"13"},"FW","伊藤　瑞","イトウ　ミズキ",4,"女子小学生"]
["滝尾下郡サッカースポーツ少年団_14","滝尾下郡サッカースポーツ少年団",{"$f":"(\"14\")","v":"14"},"DF","円本　伯馬","エンモト　ハクマ",4,"男子"]
["滝尾下郡サッカースポーツ少年団_15","滝尾下郡サッカースポーツ少年団",{"$f":"(\"15\")","v":"15"},"MF","池田　匠","イケダ　タクミ",4,"男子"]
["滝尾下郡サッカースポーツ少年団_16","滝尾下郡サッカースポーツ少年団",{"$f":"(\"16\")","v":"16"},"FW","竹本　陽","タケモト　ハル",3,"男子"]
["滝尾下郡サッカースポーツ少年団_17","滝尾下郡サッカースポーツ少年団",{"$f":"(\"17\")","v":"17"},"FW","須藤　瑛翔","ストウ　アキト",5,"男子"]
["滝尾下郡サッカースポーツ少年団_18","滝尾下郡サッカースポーツ少年団",{"$f":"(\"18\")","v":"18"},"MF","藤原　大心","フジワラ　タイシン",5,"男子"]
["滝尾下郡サッカースポーツ少年団_19","滝尾下郡サッカースポーツ少年団",{"$f":"(\"19\")","v":"19"},"MF","佐藤　叶羽","サトウ　トワ",4,"男子"]
["滝尾下郡サッカースポーツ少年団_20","滝尾下郡サッカースポーツ少年団",{"$f":"(\"20\")","v":"20"},"MF","松木　志穏","マツキ　シオン",4,"男子"]
["滝尾下郡サッカースポーツ少年団_21","滝尾下郡サッカースポーツ少年団",{"$f":"(\"21\")","v":"21"},"DF","小島　信恭","コジマ　ノブヤス",4,"男子"]
["豊府サッカースポーツ少年団_1","豊府サッカースポーツ少年団",{"$f":"(\"1\")","v":"1"},"GK","清時　悠聖","キヨトキ　ハルキ",5,"男子"]
["豊府サッカースポーツ少年団_2","豊府サッカースポーツ少年団",{"$f":"(\"2\")","v":"2"},"DF","西田　鑑連","ニシダ　アキツラ",5,"男子"]
["豊府サッカースポーツ少年団_3","豊府サッカースポーツ少年団",{"$f":"(\"3\")","v":"3"},"FW","後藤　丈平","ゴトウ　ジョウヘイ",5,"男子"]
["豊府サッカースポーツ少年団_4","豊府サッカースポーツ少年団",{"$f":"(\"4\")","v":"4"},"DF","河野　悠","コウノ　ユウキ",5,"男子","○"]
["豊府サッカースポーツ少年団_5","豊府サッカースポーツ少年団",{"$f":"(\"5\")","v":"5"},"MF","前田　隆之介","マエダ　リュウノスケ",4,"男子"]
["豊府サッカースポーツ少年団_6","豊府サッカースポーツ少年団",{"$f":"(\"6\")","v":"6"},"FW","土谷　兼世","ツチヤ　ケンセイ",4,"男子"]
["豊府サッカースポーツ少年団_7","豊府サッカースポーツ少年団",{"$f":"(\"7\")","v":"7"},"MF","亀山　泰雅","カメヤマ　タイガ",5,"男子"]
["豊府サッカースポーツ少年団_8","豊府サッカースポーツ少年団",{"$f":"(\"8\")","v":"8"},"MF","友永　大翔","トモナガ　ヒロト",4,"男子"]
["豊府サッカースポーツ少年団_9","豊府サッカースポーツ少年団",{"$f":"(\"9\")","v":"9"},"MF","岩永　琥太郎","イワナガ　コタロウ",5,"男子"]
["豊府サッカースポーツ少年団_10","豊府サッカースポーツ少年団",{"$f":"(\"10\")","v":"10"},"MF","時松　蒼茉","トキマツ　ソウマ",5,"男子"]
["豊府サッカースポーツ少年団_11","豊府サッカースポーツ少年団",{"$f":"(\"11\")","v":"11"},"MF","梶西　湊","カジニシ　ミナト",5,"男子"]
["豊府サッカースポーツ少年団_12","豊府サッカースポーツ少年団",{"$f":"(\"12\")","v":"12"},"GK","植田　琉海","ウエダ　ルイ",4,"男子"]
["豊府サッカースポーツ少年団_13","豊府サッカースポーツ少年団",{"$f":"(\"13\")","v":"13"},"MF","桑野　凌","クワノ　リョウ",5,"男子"]
["宗方サッカークラブ_1","宗方サッカークラブ",{"$f":"(\"1\")","v":"1"},"GK","高森　颯誠","タカモリ　ソウマ",5,"男子"]
["宗方サッカークラブ_2","宗方サッカークラブ",{"$f":"(\"2\")","v":"2"},"DF","野尻　風羽","ノジリ　フウ",4,"男子"]
["宗方サッカークラブ_3","宗方サッカークラブ",{"$f":"(\"3\")","v":"3"},"DF","矢野　凛空","ヤノ　リク",4,"男子"]
["宗方サッカークラブ_4","宗方サッカークラブ",{"$f":"(\"4\")","v":"4"},"MF","後藤　彩希","ゴトウ　サキ",5,"女子小学生"]
["宗方サッカークラブ_5","宗方サッカークラブ",{"$f":"(\"5\")","v":"5"},"DF","蓑毛　颯","ミノモ　ソウ",5,"男子"]
["宗方サッカークラブ_6","宗方サッカークラブ",{"$f":"(\"6\")","v":"6"},"MF","生野　陽大","ショウノ　ハルト",5,"男子"]
["宗方サッカークラブ_7","宗方サッカークラブ",{"$f":"(\"7\")","v":"7"},"DF","岩田　和真","イワタ　カズマ",5,"男子"]
["宗方サッカークラブ_8","宗方サッカークラブ",{"$f":"(\"8\")","v":"8"},"MF","吉國　凛音","ヨシクニ　リオン",5,"男子"]
["宗方サッカークラブ_9","宗方サッカークラブ",{"$f":"(\"9\")","v":"9"},"MF","廣石　有咲","ヒロイシ　アリサ",5,"女子小学生"]
[{"$f":"CONCATENATE(B705,\"_\",C705)","v":"宗方サッカークラブ_10"},"宗方サッカークラブ",{"$f":"(\"10\")","v":"10"},"MF","都留　瑞","ツル　ミズキ",5,"男子","○"]
["宗方サッカークラブ_11","宗方サッカークラブ",{"$f":"(\"11\")","v":"11"},"FW","盛田　絃貴","モリタ　ゲンキ",5,"男子"]
["宗方サッカークラブ_12","宗方サッカークラブ",{"$f":"(\"12\")","v":"12"},"FW","内田　麟太朗","ウチダ　リンタロウ",4,"男子"]
["宗方サッカークラブ_13","宗方サッカークラブ",{"$f":"(\"13\")","v":"13"},"MF","木本　悠太","キモト　ユウタ",3,"男子"]
["宗方サッカークラブ_21","宗方サッカークラブ",{"$f":"(\"21\")","v":"21"},"GK","釘宮　康人","クギミヤ　コウト",4,"男子"]
["明治サッカースポーツ少年団_1","明治サッカースポーツ少年団",{"$f":"(\"1\")","v":"1"},"GK","沓掛　一裟","クツカケ　イッサ",5,"男子"]
["明治サッカースポーツ少年団_4","明治サッカースポーツ少年団",{"$f":"(\"4\")","v":"4"},"FW","菊池　爽真","キクチ　ソウマ",5,"男子"]
["明治サッカースポーツ少年団_5","明治サッカースポーツ少年団",{"$f":"(\"5\")","v":"5"},"DF","古家　遙真","フルイエ　ハルマ",5,"男子","○"]
["明治サッカースポーツ少年団_6","明治サッカースポーツ少年団",{"$f":"(\"6\")","v":"6"},"DF","日浦　上総","ヒウラ　カズサ",5,"男子"]
["明治サッカースポーツ少年団_7","明治サッカースポーツ少年団",{"$f":"(\"7\")","v":"7"},"MF","吉川　侑来","ヨシカワ　ユライ",5,"男子"]
["明治サッカースポーツ少年団_8","明治サッカースポーツ少年団",{"$f":"(\"8\")","v":"8"},"MF","伊藤　百萌","イトウ　モモ",5,"女子小学生",null,"ＭＳＳ"]
["明治サッカースポーツ少年団_9","明治サッカースポーツ少年団",{"$f":"(\"9\")","v":"9"},"MF","中山　大我","ナカヤマ　オオガ",5,"男子",null,"ＭＳＳ"]
["明治サッカースポーツ少年団_11","明治サッカースポーツ少年団",{"$f":"(\"11\")","v":"11"},"FW","那賀　敦輝","ナカ　アツキ",4,"男子"]
["明治サッカースポーツ少年団_12","明治サッカースポーツ少年団",{"$f":"(\"12\")","v":"12"},"FW","園田　蓮","ソノダ　レン",4,"男子"]
["明治サッカースポーツ少年団_13","明治サッカースポーツ少年団",{"$f":"(\"13\")","v":"13"},"FW","古澤　愛斗","フルサワ　マナト",4,"男子"]
["明治サッカースポーツ少年団_14","明治サッカースポーツ少年団",{"$f":"(\"14\")","v":"14"},"DF","安藤　心大","アンドウ　シンタ",4,"男子"]
["明治サッカースポーツ少年団_15","明治サッカースポーツ少年団",{"$f":"(\"15\")","v":"15"},"DF","相川　莉久","アイカワ　リク",4,"男子"]
["明治サッカースポーツ少年団_16","明治サッカースポーツ少年団",{"$f":"(\"16\")","v":"16"},"MF","金高　光哉","カネタカ　コウヤ",4,"男子"]
["明治サッカースポーツ少年団_17","明治サッカースポーツ少年団",{"$f":"(\"17\")","v":"17"},"MF","河野　桜晴","カワノ　オウセイ",4,"男子"]
["明治サッカースポーツ少年団_18","明治サッカースポーツ少年団",{"$f":"(\"18\")","v":"18"},"GK","阿部　将大","アベ　ショウダイ",3,"男子"]
["三佐サッカースポーツ少年団_1","三佐サッカースポーツ少年団",{"$f":"(\"1\")","v":"1"},"GK","高橋　優心","タカハシ　ユウシン",4,"男子"]
["三佐サッカースポーツ少年団_2","三佐サッカースポーツ少年団",{"$f":"(\"2\")","v":"2"},"DF","河野　桜太","コウノ　オウタ",4,"男子"]
["三佐サッカースポーツ少年団_3","三佐サッカースポーツ少年団",{"$f":"(\"3\")","v":"3"},"MF","向井　照真","ムカイ　テルマ",4,"男子"]
["三佐サッカースポーツ少年団_4","三佐サッカースポーツ少年団",{"$f":"(\"4\")","v":"4"},"MF","植木　杏亮","ウエキ　キョウウスケ",4,"男子"]
["三佐サッカースポーツ少年団_5","三佐サッカースポーツ少年団",{"$f":"(\"5\")","v":"5"},"FW","南　絢斗","ミナミ　アヤト",4,"男子"]
["三佐サッカースポーツ少年団_6","三佐サッカースポーツ少年団",{"$f":"(\"6\")","v":"6"},"MF","藤澤　健琉","フジサワ　タケル",4,"男子"]
["三佐サッカースポーツ少年団_7","三佐サッカースポーツ少年団",{"$f":"(\"7\")","v":"7"},"DF","本久　湊","モトヒサ　ミナト",5,"男子","○"]
["三佐サッカースポーツ少年団_8","三佐サッカースポーツ少年団",{"$f":"(\"8\")","v":"8"},"FW","亀井　翔太朗","カメイ　ショウタロウ",5,"男子"]
["三佐サッカースポーツ少年団_9","三佐サッカースポーツ少年団",{"$f":"(\"9\")","v":"9"},"DF","三浦　喜与政","ミウラ　キヨマサ",5,"男子"]
["三佐サッカースポーツ少年団_10","三佐サッカースポーツ少年団",{"$f":"(\"10\")","v":"10"},"MF","三浦　雅翔","ミウラ　マサト",5,"男子"]
["三佐サッカースポーツ少年団_11","三佐サッカースポーツ少年団",{"$f":"(\"11\")","v":"11"},"DF","笠置　湊斗","カサギ　ミナト",5,"男子"]
["三佐サッカースポーツ少年団_12","三佐サッカースポーツ少年団",{"$f":"(\"12\")","v":"12"},"MF","村上　魁仁","ムラカミ　カイト",3,"男子"]
["三佐サッカースポーツ少年団_13","三佐サッカースポーツ少年団",{"$f":"(\"13\")","v":"13"},"MF","嶋津　琥珀","シマヅ　コハク",3,"男子"]
["三佐サッカースポーツ少年団_14","三佐サッカースポーツ少年団",{"$f":"(\"14\")","v":"14"},"GK","財前　遥仁","ザイゼン　ハルト",3,"男子"]
["三佐サッカースポーツ少年団_15","三佐サッカースポーツ少年団",{"$f":"(\"15\")","v":"15"},"FW","古屋　直己","コヤ　ナオキ",4,"男子"]
["三佐サッカースポーツ少年団_16","三佐サッカースポーツ少年団",{"$f":"(\"16\")","v":"16"},"DF","本久　旭","モトヒサ　アサヒ",3,"男子"]
["明野西ＪＦＣ_1","明野西ＪＦＣ",{"$f":"(\"1\")","v":"1"},"GK","足立　徠","アダチ　ライ",5,"男子"]
["明野西ＪＦＣ_2","明野西ＪＦＣ",{"$f":"(\"2\")","v":"2"},"FW","加藤　隆将","カトウ　タカマサ",3,"男子"]
["明野西ＪＦＣ_3","明野西ＪＦＣ",{"$f":"(\"3\")","v":"3"},"MF","髙浪　遼馬","タカナミ　リョウマ",2,"男子"]
["明野西ＪＦＣ_4","明野西ＪＦＣ",{"$f":"(\"4\")","v":"4"},"FW","杉田　翔","スギタ　ショウ",5,"男子"]
["明野西ＪＦＣ_5","明野西ＪＦＣ",{"$f":"(\"5\")","v":"5"},"DF","平田　彩純","ヒラタ　アスミ",5,"女子小学生"]
["明野西ＪＦＣ_6","明野西ＪＦＣ",{"$f":"(\"6\")","v":"6"},"DF","中島　颯汰","ナカシマ　ソウタ",4,"男子"]
["明野西ＪＦＣ_7","明野西ＪＦＣ",{"$f":"(\"7\")","v":"7"},"DF","足立　雅樹","アダチ　マサキ",5,"男子","○"]
["明野西ＪＦＣ_8","明野西ＪＦＣ",{"$f":"(\"8\")","v":"8"},"MF","緒方　惇人","オガタ　アツト",5,"男子"]
["明野西ＪＦＣ_11","明野西ＪＦＣ",{"$f":"(\"11\")","v":"11"},"MF","河村　芽依","カワムラ　メイ",4,"女子小学生"]
["明野西ＪＦＣ_12","明野西ＪＦＣ",{"$f":"(\"12\")","v":"12"},"DF","髙浪　颯馬","タカナミ　ソウマ",5,"男子"]
["明野西ＪＦＣ_13","明野西ＪＦＣ",{"$f":"(\"13\")","v":"13"},"FW","古川　雄惺","フルカワ　ユウセイ",3,"男子"]
["明野西ＪＦＣ_14","明野西ＪＦＣ",{"$f":"(\"14\")","v":"14"},"MF","足立　陸","アダチ　リク",3,"男子"]
["明野西ＪＦＣ_16","明野西ＪＦＣ",{"$f":"(\"16\")","v":"16"},"MF","首藤　舞空","シュトウ　マソラ",3,"女子小学生"]
["金池長浜サッカースポーツ少年団_2","金池長浜サッカースポーツ少年団",{"$f":"(\"2\")","v":"2"},"FW","須藤　世成","ストウ　セナ",5,"男子"]
["金池長浜サッカースポーツ少年団_3","金池長浜サッカースポーツ少年団",{"$f":"(\"3\")","v":"3"},"DF","竹之内　浬","タケノウチ　カイリ",5,"男子"]
["金池長浜サッカースポーツ少年団_12","金池長浜サッカースポーツ少年団",{"$f":"(\"12\")","v":"12"},"DF","梶谷　暖樹","カジタニ　ハルキ",5,"男子"]
["金池長浜サッカースポーツ少年団_13","金池長浜サッカースポーツ少年団",{"$f":"(\"13\")","v":"13"},"MF","村上　右京","ムラカミ　ウキョウ",5,"男子"]
["金池長浜サッカースポーツ少年団_14","金池長浜サッカースポーツ少年団",{"$f":"(\"14\")","v":"14"},"MF","大野　仁","オオノ　ジン",5,"男子",null,"ＦＣ．ＶＥＡＲＥ"]
["金池長浜サッカースポーツ少年団_15","金池長浜サッカースポーツ少年団",{"$f":"(\"15\")","v":"15"},"MF","小野　颯人","オノ　ハヤト",5,"男子"]
["金池長浜サッカースポーツ少年団_17","金池長浜サッカースポーツ少年団",{"$f":"(\"17\")","v":"17"},"DF","佐藤　陽和","サトウ　ヒヨリ",5,"男子"]
["金池長浜サッカースポーツ少年団_18","金池長浜サッカースポーツ少年団",{"$f":"(\"18\")","v":"18"},"FW","藤田　修亮","フジタ　シュウスケ",4,"男子",null,"中津沖代ＪＳＣ"]
["金池長浜サッカースポーツ少年団_19","金池長浜サッカースポーツ少年団",{"$f":"(\"19\")","v":"19"},"DF","堤　涼空","ツツミ　リク",5,"男子"]
["金池長浜サッカースポーツ少年団_20","金池長浜サッカースポーツ少年団",{"$f":"(\"20\")","v":"20"},"MF","熊谷　羚凰","クマガイ　レオ",4,"男子",null,"碩田サッカースポーツ少年団"]
["金池長浜サッカースポーツ少年団_21","金池長浜サッカースポーツ少年団",{"$f":"(\"21\")","v":"21"},"GK","小野　清志郎","オノ　キヨシロウ",5,"男子","○"]
["金池長浜サッカースポーツ少年団_22","金池長浜サッカースポーツ少年団",{"$f":"(\"22\")","v":"22"},"MF","江藤　蒼太","エトウ　ソウタ",5,"男子"]
["金池長浜サッカースポーツ少年団_23","金池長浜サッカースポーツ少年団",{"$f":"(\"23\")","v":"23"},"DF","友永　樹馬","トモナガ　タツマ",5,"男子"]
["八幡サッカースポーツ少年団_1","八幡サッカースポーツ少年団",{"$f":"(\"1\")","v":"1"},"GK","川畑　佑太","カワバタ　ユウタ",5,"男子"]
["八幡サッカースポーツ少年団_3","八幡サッカースポーツ少年団",{"$f":"(\"3\")","v":"3"},"MF","井藤　禅和","イトウ　セワ",3,"男子"]
[{"$f":"CONCATENATE(B769,\"_\",C769)","v":"八幡サッカースポーツ少年団_4"},"八幡サッカースポーツ少年団",{"$f":"(\"4\")","v":"4"},"MF","荒金　陵平","アラカネ　リョウヘイ",3,"男子"]
["八幡サッカースポーツ少年団_5","八幡サッカースポーツ少年団",{"$f":"(\"5\")","v":"5"},"MF","青柳　陽貴","アオヤギ　ハルキ",3,"男子"]
["八幡サッカースポーツ少年団_6","八幡サッカースポーツ少年団",{"$f":"(\"6\")","v":"6"},"DF","藤本　颯空","フジモト　ソラ",5,"男子"]
["八幡サッカースポーツ少年団_7","八幡サッカースポーツ少年団",{"$f":"(\"7\")","v":"7"},"MF","岡田　悠翔","オカダ　ヒサト",3,"男子"]
["八幡サッカースポーツ少年団_8","八幡サッカースポーツ少年団",{"$f":"(\"8\")","v":"8"},"MF","椎葉　悠月","シイバ　ユヅキ",5,"男子"]
["八幡サッカースポーツ少年団_9","八幡サッカースポーツ少年団",{"$f":"(\"9\")","v":"9"},"DF","小川　嘉生斗","オガワ　カブト",5,"男子"]
["八幡サッカースポーツ少年団_11","八幡サッカースポーツ少年団",{"$f":"(\"11\")","v":"11"},"DF","荒金　淳平","アラカネ　ジュンペイ",5,"男子","○"]
["八幡サッカースポーツ少年団_13","八幡サッカースポーツ少年団",{"$f":"(\"13\")","v":"13"},"MF","後藤　翔琉","ゴトウ　カイリ",2,"男子"]
["八幡サッカースポーツ少年団_16","八幡サッカースポーツ少年団",{"$f":"(\"16\")","v":"16"},"MF","井上　龍馬","イノウエ　リョウマ",3,"男子"]
["日岡サッカースポーツ少年団_1","日岡サッカースポーツ少年団",{"$f":"(\"1\")","v":"1"},"GK","野上　颯太","ノガミ　ソウタ",4,"男子"]
["日岡サッカースポーツ少年団_2","日岡サッカースポーツ少年団",{"$f":"(\"2\")","v":"2"},"MF","後藤　里央奈","ゴトウ　リオナ",4,"女子小学生"]
["日岡サッカースポーツ少年団_3","日岡サッカースポーツ少年団",{"$f":"(\"3\")","v":"3"},"MF","橋本　蓮","ハシモト　レン",4,"男子"]
["日岡サッカースポーツ少年団_4","日岡サッカースポーツ少年団",{"$f":"(\"4\")","v":"4"},"FW","長尾　龍真","ナガオ　リョウマ",4,"男子"]
["日岡サッカースポーツ少年団_5","日岡サッカースポーツ少年団",{"$f":"(\"5\")","v":"5"},"DF","柴田　光貴","シバタ　コウキ",3,"男子"]
["日岡サッカースポーツ少年団_6","日岡サッカースポーツ少年団",{"$f":"(\"6\")","v":"6"},"FW","北原　悠翔","キタハラ　ユウト",3,"男子"]
["日岡サッカースポーツ少年団_7","日岡サッカースポーツ少年団",{"$f":"(\"7\")","v":"7"},"DF","矢野　都織","ヤノ　トオリ",5,"男子","○"]
["日岡サッカースポーツ少年団_8","日岡サッカースポーツ少年団",{"$f":"(\"8\")","v":"8"},"DF","後藤　喬亮","ゴトウ　キョウスケ",5,"男子"]
["日岡サッカースポーツ少年団_9","日岡サッカースポーツ少年団",{"$f":"(\"9\")","v":"9"},"MF","首藤　志音","シュトウ　シオン",5,"男子"]
["日岡サッカースポーツ少年団_10","日岡サッカースポーツ少年団",{"$f":"(\"10\")","v":"10"},"MF","佐藤　凛月","サトウ　リツキ",5,"男子"]
["日岡サッカースポーツ少年団_11","日岡サッカースポーツ少年団",{"$f":"(\"11\")","v":"11"},"FW","北原　幸侑","キタハラ　コウスケ",5,"男子"]
["日岡サッカースポーツ少年団_12","日岡サッカースポーツ少年団",{"$f":"(\"12\")","v":"12"},"FW","匹田　心絆","ヒキタ　ココナ",3,"女子小学生"]
["日岡サッカースポーツ少年団_14","日岡サッカースポーツ少年団",{"$f":"(\"14\")","v":"14"},"MF","諌山　心空","イサヤマ　コア",3,"男子"]
["日岡サッカースポーツ少年団_15","日岡サッカースポーツ少年団",{"$f":"(\"15\")","v":"15"},"DF","野上　瑛太","ノガミ　エイタ",3,"男子"]
["日岡サッカースポーツ少年団_17","日岡サッカースポーツ少年団",{"$f":"(\"17\")","v":"17"},"GK","伊藤　大翔","イトウ　ヤマト",3,"男子"]
["城南サッカースポーツ少年団_1","城南サッカースポーツ少年団",{"$f":"(\"1\")","v":"1"},"GK","二宮　蓮王","ニノミヤ　レオ",4,"男子"]
["城南サッカースポーツ少年団_2","城南サッカースポーツ少年団",{"$f":"(\"2\")","v":"2"},"DF","座木　功伸","ザキ　コウシン",5,"男子"]
["城南サッカースポーツ少年団_3","城南サッカースポーツ少年団",{"$f":"(\"3\")","v":"3"},"DF","牧　春花","マキ　ハルカ",4,"女子小学生"]
["城南サッカースポーツ少年団_5","城南サッカースポーツ少年団",{"$f":"(\"5\")","v":"5"},"DF","足立　誠悟","アダチ　セイゴ",4,"男子",null,"ＦＣ　ＲＥＧＡＴＥ"]
["城南サッカースポーツ少年団_7","城南サッカースポーツ少年団",{"$f":"(\"7\")","v":"7"},"FW","貝塚　新","カイヅカ　アラタ",5,"男子"]
["城南サッカースポーツ少年団_8","城南サッカースポーツ少年団",{"$f":"(\"8\")","v":"8"},"FW","岡部　友咲","オカベ　ユウサク",3,"男子"]
["城南サッカースポーツ少年団_9","城南サッカースポーツ少年団",{"$f":"(\"9\")","v":"9"},"FW","松木　海耀","マツキ　カイヨウ",3,"男子"]
["城南サッカースポーツ少年団_10","城南サッカースポーツ少年団",{"$f":"(\"10\")","v":"10"},"MF","松浦　朝陽","マツウラ　アサヒ",5,"男子","○"]
["城南サッカースポーツ少年団_11","城南サッカースポーツ少年団",{"$f":"(\"11\")","v":"11"},"MF","山本　蒼汰","ヤマモト　ソウタ",4,"男子"]
["城南サッカースポーツ少年団_12","城南サッカースポーツ少年団",{"$f":"(\"12\")","v":"12"},"DF","森﨑　悠斗","モリサキ　ユウト",5,"男子"]
["城南サッカースポーツ少年団_13","城南サッカースポーツ少年団",{"$f":"(\"13\")","v":"13"},"MF","宮部　拓斗","ミヤベ　タクト",4,"男子"]
["城南サッカースポーツ少年団_14","城南サッカースポーツ少年団",{"$f":"(\"14\")","v":"14"},"FW","久保　絆人","クボ　キト",4,"男子"]
["城南サッカースポーツ少年団_15","城南サッカースポーツ少年団",{"$f":"(\"15\")","v":"15"},"DF","阿南　櫂","アナン　カイ",4,"男子"]
["城南サッカースポーツ少年団_16","城南サッカースポーツ少年団",{"$f":"(\"16\")","v":"16"},"FW","姫野　愛椛","ヒメノ　マナカ",3,"女子小学生"]
["城南サッカースポーツ少年団_17","城南サッカースポーツ少年団",{"$f":"(\"17\")","v":"17"},"DF","安藤　翔和","アンドウ　ショウイ",3,"男子"]
["荏隈サッカースポーツ少年団_1","荏隈サッカースポーツ少年団",{"$f":"(\"1\")","v":"1"},"GK","安東　新泰","アンドウ　アラタ",5,"男子"]
["荏隈サッカースポーツ少年団_5","荏隈サッカースポーツ少年団",{"$f":"(\"5\")","v":"5"},"FW","相野　秀太","ソウノ　シュウタ",4,"男子"]
["荏隈サッカースポーツ少年団_6","荏隈サッカースポーツ少年団",{"$f":"(\"6\")","v":"6"},"MF","小野　蓮華","オノ　レンカ",4,"女子小学生"]
["荏隈サッカースポーツ少年団_7","荏隈サッカースポーツ少年団",{"$f":"(\"7\")","v":"7"},"MF","中村　楽","ナカムラ　ガク",5,"男子","○"]
["荏隈サッカースポーツ少年団_8","荏隈サッカースポーツ少年団",{"$f":"(\"8\")","v":"8"},"MF","鈴木　玲央","スズキ　レオ",3,"男子"]
["荏隈サッカースポーツ少年団_10","荏隈サッカースポーツ少年団",{"$f":"(\"10\")","v":"10"},"FW","鈴木　琉斗","スズキ　リュウト",5,"男子"]
["荏隈サッカースポーツ少年団_12","荏隈サッカースポーツ少年団",{"$f":"(\"12\")","v":"12"},"DF","安部　稜大","アベ　リョウタ",3,"男子"]
["荏隈サッカースポーツ少年団_13","荏隈サッカースポーツ少年団",{"$f":"(\"13\")","v":"13"},"MF","佐藤　大夢","サトウ　ヒロム",3,"男子"]
["荏隈サッカースポーツ少年団_14","荏隈サッカースポーツ少年団",{"$f":"(\"14\")","v":"14"},"DF","下村　優斗","シモムラ　ユウト",3,"男子"]
["荏隈サッカースポーツ少年団_15","荏隈サッカースポーツ少年団",{"$f":"(\"15\")","v":"15"},"MF","芦刈　翔真","アシカリ　ショウマ",3,"男子"]
["荏隈サッカースポーツ少年団_16","荏隈サッカースポーツ少年団",{"$f":"(\"16\")","v":"16"},"FW","森山　泰山","モリヤマ　タイザン",4,"男子"]
["荏隈サッカースポーツ少年団_17","荏隈サッカースポーツ少年団",{"$f":"(\"17\")","v":"17"},"FW","武生　琉翔","タケオ　ルイト",4,"男子"]
["荏隈サッカースポーツ少年団_18","荏隈サッカースポーツ少年団",{"$f":"(\"18\")","v":"18"},"DF","河野　快音","カワノ　カイト",4,"男子"]
["稙田ＦＣサッカースポーツ少年団_1","稙田ＦＣサッカースポーツ少年団",{"$f":"(\"1\")","v":"1"},"GK","北川　藍生","キタガワ　アイキ",5,"男子","○"]
["稙田ＦＣサッカースポーツ少年団_2","稙田ＦＣサッカースポーツ少年団",{"$f":"(\"2\")","v":"2"},"DF","増野　橙磨","マスノ　トウマ",5,"男子"]
["稙田ＦＣサッカースポーツ少年団_5","稙田ＦＣサッカースポーツ少年団",{"$f":"(\"5\")","v":"5"},"DF","澤谷　昊汰","サワヤ　コウタ",5,"男子"]
["稙田ＦＣサッカースポーツ少年団_7","稙田ＦＣサッカースポーツ少年団",{"$f":"(\"7\")","v":"7"},"DF","藤野　璃空","フジノ　リクウ",5,"男子"]
["稙田ＦＣサッカースポーツ少年団_9","稙田ＦＣサッカースポーツ少年団",{"$f":"(\"9\")","v":"9"},"MF","長野　佑都","ナガノ　ユウト",5,"男子"]
["稙田ＦＣサッカースポーツ少年団_11","稙田ＦＣサッカースポーツ少年団",{"$f":"(\"11\")","v":"11"},"MF","長岡　暖真","ナガオカ　ハルマ",5,"男子"]
["稙田ＦＣサッカースポーツ少年団_12","稙田ＦＣサッカースポーツ少年団",{"$f":"(\"12\")","v":"12"},"MF","戸田　有哉","トダ　ユウヤ",5,"男子"]
["稙田ＦＣサッカースポーツ少年団_13","稙田ＦＣサッカースポーツ少年団",{"$f":"(\"13\")","v":"13"},"FW","漆間　悠介","ウルマ　ユウスケ",5,"男子"]
["稙田ＦＣサッカースポーツ少年団_14","稙田ＦＣサッカースポーツ少年団",{"$f":"(\"14\")","v":"14"},"FW","漆間　琉晟","ウルマ　リュウセイ",5,"男子"]
["稙田ＦＣサッカースポーツ少年団_15","稙田ＦＣサッカースポーツ少年団",{"$f":"(\"15\")","v":"15"},"MF","宮本　櫂吏","ミヤモト　カイリ",5,"男子",null,"ヴィンクラッソ大分ＦＣジュニア"]
["稙田ＦＣサッカースポーツ少年団_16","稙田ＦＣサッカースポーツ少年団",{"$f":"(\"16\")","v":"16"},"FW","松岡　航希","マツオカ　コウキ",5,"男子"]
["稙田ＦＣサッカースポーツ少年団_17","稙田ＦＣサッカースポーツ少年団",{"$f":"(\"17\")","v":"17"},"MF","阿南　波玖","アナン　ハク",5,"男子"]
[{"$f":"CONCATENATE(B833,\"_\",C833)","v":"北郡坂ノ市サッカースポーツ少年団_1"},"北郡坂ノ市サッカースポーツ少年団",{"$f":"(\"1\")","v":"1"},"GK","敷嶋　慶武","シキシマ　ケイタ",5,"男子"]
["北郡坂ノ市サッカースポーツ少年団_2","北郡坂ノ市サッカースポーツ少年団",{"$f":"(\"2\")","v":"2"},"DF","高橋　泰來","タカハシ　タイラ",5,"男子"]
["北郡坂ノ市サッカースポーツ少年団_4","北郡坂ノ市サッカースポーツ少年団",{"$f":"(\"4\")","v":"4"},"FW","太田　陽斗","オオタ　ハルト",4,"男子"]
["北郡坂ノ市サッカースポーツ少年団_5","北郡坂ノ市サッカースポーツ少年団",{"$f":"(\"5\")","v":"5"},"GK","佐藤　蓮斗","サトウ　レント",4,"男子"]
["北郡坂ノ市サッカースポーツ少年団_6","北郡坂ノ市サッカースポーツ少年団",{"$f":"(\"6\")","v":"6"},"MF","大塚　蒼生","オオツカ　アオイ",5,"男子"]
["北郡坂ノ市サッカースポーツ少年団_7","北郡坂ノ市サッカースポーツ少年団",{"$f":"(\"7\")","v":"7"},"DF","仲村　健介","ナカムラ　ケンスケ",5,"男子"]
["北郡坂ノ市サッカースポーツ少年団_8","北郡坂ノ市サッカースポーツ少年団",{"$f":"(\"8\")","v":"8"},"MF","安部　煌大","アベ　コウダイ",5,"男子"]
["北郡坂ノ市サッカースポーツ少年団_9","北郡坂ノ市サッカースポーツ少年団",{"$f":"(\"9\")","v":"9"},"FW","釘宮　蓮","クギミヤ　レン",4,"男子"]
["北郡坂ノ市サッカースポーツ少年団_10","北郡坂ノ市サッカースポーツ少年団",{"$f":"(\"10\")","v":"10"},"FW","梶原　晟瑠紫","カジワラ　テルム",5,"男子","○"]
["北郡坂ノ市サッカースポーツ少年団_12","北郡坂ノ市サッカースポーツ少年団",{"$f":"(\"12\")","v":"12"},"FW","日高　颯真","ヒダカ　ソウマ",4,"男子"]
["北郡坂ノ市サッカースポーツ少年団_13","北郡坂ノ市サッカースポーツ少年団",{"$f":"(\"13\")","v":"13"},"MF","牧　凛生","マキ　リオウ",4,"男子"]
["北郡坂ノ市サッカースポーツ少年団_14","北郡坂ノ市サッカースポーツ少年団",{"$f":"(\"14\")","v":"14"},"DF","衛本　翔","エモト　ショウ",4,"男子"]
["田尻サッカースポーツ少年団_1","田尻サッカースポーツ少年団",{"$f":"(\"1\")","v":"1"},"GK","泉　琉希","イズミ　リュウキ",3,"男子"]
["田尻サッカースポーツ少年団_2","田尻サッカースポーツ少年団",{"$f":"(\"2\")","v":"2"},"DF","石崎　寧々","イシザキ　ネネ",3,"女子小学生"]
["田尻サッカースポーツ少年団_5","田尻サッカースポーツ少年団",{"$f":"(\"5\")","v":"5"},"MF","村山　拓海","ムラヤマ　タクミ",5,"男子","○"]
["田尻サッカースポーツ少年団_7","田尻サッカースポーツ少年団",{"$f":"(\"7\")","v":"7"},"MF","橋本　果苑","ハシモト　カノン",3,"女子小学生"]
["田尻サッカースポーツ少年団_8","田尻サッカースポーツ少年団",{"$f":"(\"8\")","v":"8"},"DF","油布　壮太郎","ユフ　ソウタロウ",4,"男子"]
["田尻サッカースポーツ少年団_9","田尻サッカースポーツ少年団",{"$f":"(\"9\")","v":"9"},"DF","小曽根　育太","コゾネ　イクタ",3,"男子"]
["田尻サッカースポーツ少年団_10","田尻サッカースポーツ少年団",{"$f":"(\"10\")","v":"10"},"MF","植木　大地","ウエキ　ダイチ",4,"男子"]
["田尻サッカースポーツ少年団_11","田尻サッカースポーツ少年団",{"$f":"(\"11\")","v":"11"},"FW","和田　彩人","ワダ　アヤト",2,"男子"]
["田尻サッカースポーツ少年団_12","田尻サッカースポーツ少年団",{"$f":"(\"12\")","v":"12"},"FW","山崎　璃道","ヤマサキ　リドウ",2,"男子"]
["田尻サッカースポーツ少年団_13","田尻サッカースポーツ少年団",{"$f":"(\"13\")","v":"13"},"MF","小野　一珈","オノ　イチカ",2,"女子小学生"]
["田尻サッカースポーツ少年団_14","田尻サッカースポーツ少年団",{"$f":"(\"14\")","v":"14"},"DF","後藤　生翔","ゴトウ　イクト",2,"男子"]
["田尻サッカースポーツ少年団_15","田尻サッカースポーツ少年団",{"$f":"(\"15\")","v":"15"},"MF","村山　ことね","ムラヤマ　コトネ",2,"女子小学生"]
["田尻サッカースポーツ少年団_18","田尻サッカースポーツ少年団",{"$f":"(\"18\")","v":"18"},"DF","原田　蒼汰","ハラダ　ソウタ",4,"男子"]
["判田サッカースポーツ少年団_1","判田サッカースポーツ少年団",{"$f":"(\"1\")","v":"1"},"GK","長野　巧","ナガノ　タクミ",5,"男子",null,"大在サッカースポーツ少年団"]
["判田サッカースポーツ少年団_2","判田サッカースポーツ少年団",{"$f":"(\"2\")","v":"2"},"MF","森田　一真","モリタ　カズマ",5,"男子"]
["判田サッカースポーツ少年団_3","判田サッカースポーツ少年団",{"$f":"(\"3\")","v":"3"},"MF","阿南　頼仁","アナン　ライト",4,"男子"]
["判田サッカースポーツ少年団_4","判田サッカースポーツ少年団",{"$f":"(\"4\")","v":"4"},"DF","小代　仁菜","オジロ　ニナ",4,"女子小学生"]
["判田サッカースポーツ少年団_5","判田サッカースポーツ少年団",{"$f":"(\"5\")","v":"5"},"DF","今永　和希","イマナガ　カズキ",3,"男子"]
["判田サッカースポーツ少年団_6","判田サッカースポーツ少年団",{"$f":"(\"6\")","v":"6"},"FW","佐藤　楓真","サトウ　フウマ",5,"男子"]
["判田サッカースポーツ少年団_7","判田サッカースポーツ少年団",{"$f":"(\"7\")","v":"7"},"DF","西條　伶","サイジョウ　リョウ",5,"男子"]
["判田サッカースポーツ少年団_8","判田サッカースポーツ少年団",{"$f":"(\"8\")","v":"8"},"FW","髙橋　陽那汰","タカハシ　ヒナタ",4,"男子"]
["判田サッカースポーツ少年団_9","判田サッカースポーツ少年団",{"$f":"(\"9\")","v":"9"},"DF","三浦　琉空","ミウラ　リク",5,"男子","○"]
["判田サッカースポーツ少年団_10","判田サッカースポーツ少年団",{"$f":"(\"10\")","v":"10"},"DF","渡邊　蒼一朗","ワタナベ　ソウイチロウ",5,"男子"]
["判田サッカースポーツ少年団_11","判田サッカースポーツ少年団",{"$f":"(\"11\")","v":"11"},"MF","田﨑　蒼","タサキ　アオイ",4,"男子"]
["判田サッカースポーツ少年団_12","判田サッカースポーツ少年団",{"$f":"(\"12\")","v":"12"},"MF","高橋　和希","タカハシ　カズキ",4,"男子"]
["判田サッカースポーツ少年団_13","判田サッカースポーツ少年団",{"$f":"(\"13\")","v":"13"},"MF","石井　龍太","イシイ　リュウタ",4,"男子"]
["判田サッカースポーツ少年団_14","判田サッカースポーツ少年団",{"$f":"(\"14\")","v":"14"},"DF","渡邊　俊太朗","ワタナベ　シュンタロウ",3,"男子"]
["判田サッカースポーツ少年団_16","判田サッカースポーツ少年団",{"$f":"(\"16\")","v":"16"},"DF","森本　圭祐","モリモト　ケイスケ",4,"男子"]
["判田サッカースポーツ少年団_17","判田サッカースポーツ少年団",{"$f":"(\"17\")","v":"17"},"GK","首藤　凛太郎","シュトウ　リンタロウ",3,"男子"]
["賀来ジュニアサッカークラブ_2","賀来ジュニアサッカークラブ",{"$f":"(\"2\")","v":"2"},"MF","恵藤　和海","エトウ　カズミ",5,"男子","○"]
["賀来ジュニアサッカークラブ_3","賀来ジュニアサッカークラブ",{"$f":"(\"3\")","v":"3"},"MF","二宮　八大","ニノミヤ　ハチダイ",5,"男子"]
["賀来ジュニアサッカークラブ_4","賀来ジュニアサッカークラブ",{"$f":"(\"4\")","v":"4"},"MF","佐藤　太一","サトウ　タイチ",5,"男子"]
["賀来ジュニアサッカークラブ_5","賀来ジュニアサッカークラブ",{"$f":"(\"5\")","v":"5"},"MF","工藤　颯真","クドウ　ソウマ",4,"男子"]
["賀来ジュニアサッカークラブ_6","賀来ジュニアサッカークラブ",{"$f":"(\"6\")","v":"6"},"MF","副田　紗葵","ソエダ　サキ",3,"女子小学生"]
["賀来ジュニアサッカークラブ_7","賀来ジュニアサッカークラブ",{"$f":"(\"7\")","v":"7"},"MF","副田　悠生","ソエダ　ハルキ",2,"男子"]
["賀来ジュニアサッカークラブ_8","賀来ジュニアサッカークラブ",{"$f":"(\"8\")","v":"8"},"MF","川瀬　龍馬","カワセ　リョウマ",2,"男子"]
["賀来ジュニアサッカークラブ_9","賀来ジュニアサッカークラブ",{"$f":"(\"9\")","v":"9"},"MF","弓削　颯允","ユゲ　ソウマ",2,"男子"]
["賀来ジュニアサッカークラブ_10","賀来ジュニアサッカークラブ",{"$f":"(\"10\")","v":"10"},"MF","和田　心陽","ワダ　ムネハル",2,"男子"]
["賀来ジュニアサッカークラブ_11","賀来ジュニアサッカークラブ",{"$f":"(\"11\")","v":"11"},"MF","霍田　健","ツルタ　タケル",2,"男子"]
["賀来ジュニアサッカークラブ_12","賀来ジュニアサッカークラブ",{"$f":"(\"12\")","v":"12"},"MF","渡部　翔馬","ワタナベ　ショウマ",1,"男子"]
["賀来ジュニアサッカークラブ_13","賀来ジュニアサッカークラブ",{"$f":"(\"13\")","v":"13"},"MF","山下　翔吾","ヤマシタ　ショウゴ",1,"男子"]
["賀来ジュニアサッカークラブ_14","賀来ジュニアサッカークラブ",{"$f":"(\"14\")","v":"14"},"MF","恵藤　太陽","エトウ　タイヨウ",1,"男子"]
["桃園サッカースポーツ少年団_2","桃園サッカースポーツ少年団",{"$f":"(\"2\")","v":"2"},"DF","菅原　泰成","スガハラ　タイセイ",5,"男子"]
["桃園サッカースポーツ少年団_3","桃園サッカースポーツ少年団",{"$f":"(\"3\")","v":"3"},"MF","髙野　充生","タカノ　アツキ",5,"男子"]
["桃園サッカースポーツ少年団_4","桃園サッカースポーツ少年団",{"$f":"(\"4\")","v":"4"},"DF","長岡　輝一","ナガオカ　キイチ",5,"男子"]
["桃園サッカースポーツ少年団_5","桃園サッカースポーツ少年団",{"$f":"(\"5\")","v":"5"},"MF","金崎　瑞樹","カナザキ　ミズキ",5,"男子"]
["桃園サッカースポーツ少年団_6","桃園サッカースポーツ少年団",{"$f":"(\"6\")","v":"6"},"MF","佐藤　俊平","サトウ　シュンペイ",5,"男子"]
["桃園サッカースポーツ少年団_7","桃園サッカースポーツ少年団",{"$f":"(\"7\")","v":"7"},"MF","長尾　晟太朗","ナガオ　セイタロウ",5,"男子","○"]
["桃園サッカースポーツ少年団_8","桃園サッカースポーツ少年団",{"$f":"(\"8\")","v":"8"},"MF","西　琉汰","ニシ　リュウタ",4,"男子"]
["桃園サッカースポーツ少年団_9","桃園サッカースポーツ少年団",{"$f":"(\"9\")","v":"9"},"MF","衛藤　空樹","エトウ　アイキ",4,"男子",null,"鶴崎ＳＳＳ"]
["桃園サッカースポーツ少年団_10","桃園サッカースポーツ少年団",{"$f":"(\"10\")","v":"10"},"FW","宗　志優","ソウ　シユウ",5,"男子"]
["桃園サッカースポーツ少年団_11","桃園サッカースポーツ少年団",{"$f":"(\"11\")","v":"11"},"FW","小畠　健","オバタ　タケル",4,"男子"]
[{"$f":"CONCATENATE(B897,\"_\",C897)","v":"桃園サッカースポーツ少年団_12"},"桃園サッカースポーツ少年団",{"$f":"(\"12\")","v":"12"},"GK","村上　陽哉","ムラカミ　ハルヤ",4,"男子"]
["桃園サッカースポーツ少年団_13","桃園サッカースポーツ少年団",{"$f":"(\"13\")","v":"13"},"DF","三浦　悠生","ミウラ　ハルキ",4,"男子"]
["日出サッカースポーツ少年団_1","日出サッカースポーツ少年団",{"$f":"(\"1\")","v":"1"},"GK","高月　祥真","タカツキ　ショウシン",4,"男子"]
["日出サッカースポーツ少年団_2","日出サッカースポーツ少年団",{"$f":"(\"2\")","v":"2"},"MF","畠山　遙瑠","ハタケヤマ　ハル",2,"女子小学生"]
["日出サッカースポーツ少年団_3","日出サッカースポーツ少年団",{"$f":"(\"3\")","v":"3"},"MF","高月　海真","タカツキ　カイシン",2,"男子"]
["日出サッカースポーツ少年団_4","日出サッカースポーツ少年団",{"$f":"(\"4\")","v":"4"},"DF","赤山　慎一郎","アカヤマ　シンイチロウ",5,"男子"]
["日出サッカースポーツ少年団_5","日出サッカースポーツ少年団",{"$f":"(\"5\")","v":"5"},"MF","田口　心彩","タグチ　ココロ",3,"女子小学生"]
["日出サッカースポーツ少年団_6","日出サッカースポーツ少年団",{"$f":"(\"6\")","v":"6"},"DF","上野　暖和","ウエノ　ハルト",3,"男子"]
["日出サッカースポーツ少年団_7","日出サッカースポーツ少年団",{"$f":"(\"7\")","v":"7"},"MF","本田　大知","ホンダ　ダイチ",3,"男子"]
["日出サッカースポーツ少年団_8","日出サッカースポーツ少年団",{"$f":"(\"8\")","v":"8"},"FW","北川　優真","キタガワ　ユウマ",4,"男子"]
["日出サッカースポーツ少年団_9","日出サッカースポーツ少年団",{"$f":"(\"9\")","v":"9"},"FW","田口　稟太朗","タグチ　リンタロウ",5,"男子"]
["日出サッカースポーツ少年団_10","日出サッカースポーツ少年団",{"$f":"(\"10\")","v":"10"},"MF","山﨑　虎太郎","ヤマサキ　コタロウ",5,"男子","○"]
["日出サッカースポーツ少年団_11","日出サッカースポーツ少年団",{"$f":"(\"11\")","v":"11"},"DF","黒木　竣太","クロキ　シュンタ",3,"男子"]
["日出サッカースポーツ少年団_12","日出サッカースポーツ少年団",{"$f":"(\"12\")","v":"12"},"DF","山崎　遼太郎","ヤマサキ　リョウタロウ",2,"男子"]
["渡町台サッカークラブ_1","渡町台サッカークラブ",{"$f":"(\"1\")","v":"1"},"GK","多田　怜真","タダ　リョウマ",4,"男子"]
["渡町台サッカークラブ_2","渡町台サッカークラブ",{"$f":"(\"2\")","v":"2"},"DF","團塚　煌","ダンヅカ　コウ",4,"男子"]
["渡町台サッカークラブ_3","渡町台サッカークラブ",{"$f":"(\"3\")","v":"3"},"DF","増野　瑛","マスノ　アキラ",5,"男子","○"]
["渡町台サッカークラブ_4","渡町台サッカークラブ",{"$f":"(\"4\")","v":"4"},"MF","高石　靖太","タカイシ　セイタ",5,"男子"]
["渡町台サッカークラブ_5","渡町台サッカークラブ",{"$f":"(\"5\")","v":"5"},"MF","長尾　海音","ナガオ　カイト",4,"男子"]
["渡町台サッカークラブ_6","渡町台サッカークラブ",{"$f":"(\"6\")","v":"6"},"DF","青木　大和","アオキ　ヤマト",4,"男子"]
["渡町台サッカークラブ_7","渡町台サッカークラブ",{"$f":"(\"7\")","v":"7"},"FW","小野　夏希","オノ　ナツキ",5,"女子小学生"]
["渡町台サッカークラブ_8","渡町台サッカークラブ",{"$f":"(\"8\")","v":"8"},"MF","宮脇　遙冴","ミヤワキ　ハルヒ",4,"男子"]
["渡町台サッカークラブ_9","渡町台サッカークラブ",{"$f":"(\"9\")","v":"9"},"FW","安藤　岳","アンドウ　ガク",4,"男子"]
["渡町台サッカークラブ_10","渡町台サッカークラブ",{"$f":"(\"10\")","v":"10"},"MF","神崎　斗亜","カンザキ　トア",5,"男子",null,"鶴見少年サッカークラブ"]
["渡町台サッカークラブ_11","渡町台サッカークラブ",{"$f":"(\"11\")","v":"11"},"MF","上杉　想真","ウエスギ　ソウマ",4,"男子"]
["渡町台サッカークラブ_12","渡町台サッカークラブ",{"$f":"(\"12\")","v":"12"},"FW","高羽　昊","タカハ　ソラ",4,"男子"]
["渡町台サッカークラブ_13","渡町台サッカークラブ",{"$f":"(\"13\")","v":"13"},"GK","白江　朔麻","シラエ　サクマ",4,"男子"]
["渡町台サッカークラブ_14","渡町台サッカークラブ",{"$f":"(\"14\")","v":"14"},"FW","三浦　龍星","ミウラ　リュウセイ",3,"男子",null,"鶴岡Ｓ―ｐｌａｙ・ＭＩＮＡＭＩ"]
["渡町台サッカークラブ_15","渡町台サッカークラブ",{"$f":"(\"15\")","v":"15"},"FW","岩本　悠希","イワモト　ハルキ",3,"男子"]
["西の台ＪＦＣ_1","西の台ＪＦＣ",{"$f":"(\"1\")","v":"1"},"GK","首藤　悠緋","シュトウ　ユウヒ",4,"男子"]
["西の台ＪＦＣ_2","西の台ＪＦＣ",{"$f":"(\"2\")","v":"2"},"DF","成松　澄海","ナリマツ　スカイ",4,"男子"]
["西の台ＪＦＣ_3","西の台ＪＦＣ",{"$f":"(\"3\")","v":"3"},"DF","青木　稜羽","アオキ　リウ",4,"男子"]
["西の台ＪＦＣ_4","西の台ＪＦＣ",{"$f":"(\"4\")","v":"4"},"DF","近藤　総司","コンドウ　ソウシ",4,"男子"]
["西の台ＪＦＣ_5","西の台ＪＦＣ",{"$f":"(\"5\")","v":"5"},"DF","小野　太誠","オノ　タイセイ",3,"男子"]
["西の台ＪＦＣ_6","西の台ＪＦＣ",{"$f":"(\"6\")","v":"6"},"MF","今山　俊ノ助","イマヤマ　シュンノスケ",2,"男子"]
["西の台ＪＦＣ_7","西の台ＪＦＣ",{"$f":"(\"7\")","v":"7"},"MF","江藤　大央","エトウ　タオ",3,"男子"]
["西の台ＪＦＣ_8","西の台ＪＦＣ",{"$f":"(\"8\")","v":"8"},"DF","阿南　大和","アナミ　ヤマト",2,"男子"]
["西の台ＪＦＣ_9","西の台ＪＦＣ",{"$f":"(\"9\")","v":"9"},"FW","幸野　駿汰","コウノ　シュンタ",4,"男子"]
["西の台ＪＦＣ_10","西の台ＪＦＣ",{"$f":"(\"10\")","v":"10"},"MF","秋月　凛太","アキヅキ　リンタ",4,"男子"]
["西の台ＪＦＣ_11","西の台ＪＦＣ",{"$f":"(\"11\")","v":"11"},"MF","生口　彩人","イグチ　アヤト",5,"男子","○"]
["西の台ＪＦＣ_12","西の台ＪＦＣ",{"$f":"(\"12\")","v":"12"},"FW","秋吉　侃太","アキヨシ　カンタ",2,"男子"]
["西の台ＪＦＣ_13","西の台ＪＦＣ",{"$f":"(\"13\")","v":"13"},"FW","大野　拓翔","オオノ　タクト",2,"男子"]
["西の台ＪＦＣ_14","西の台ＪＦＣ",{"$f":"(\"14\")","v":"14"},"MF","行平　健晟","ユキヒラ　ケンセイ",2,"男子"]
["豊後高田ＦＣ　Ｂｏｒｄｅｒ　Ｊｒ_11","豊後高田ＦＣ　Ｂｏｒｄｅｒ　Ｊｒ",{"$f":"(\"11\")","v":"11"},"MF","大塚　祐也","オオツカ　ユウヤ",5,"男子","○"]
["豊後高田ＦＣ　Ｂｏｒｄｅｒ　Ｊｒ_12","豊後高田ＦＣ　Ｂｏｒｄｅｒ　Ｊｒ",{"$f":"(\"12\")","v":"12"},"FW","宮本　雄一稀","ミヤモト　ユイキ",5,"男子"]
["豊後高田ＦＣ　Ｂｏｒｄｅｒ　Ｊｒ_13","豊後高田ＦＣ　Ｂｏｒｄｅｒ　Ｊｒ",{"$f":"(\"13\")","v":"13"},"DF","平岡　寛望","ヒラオカ　ヒロム",5,"男子"]
["豊後高田ＦＣ　Ｂｏｒｄｅｒ　Ｊｒ_14","豊後高田ＦＣ　Ｂｏｒｄｅｒ　Ｊｒ",{"$f":"(\"14\")","v":"14"},"MF","岩永　光叶","イワナガ　ヒロト",5,"男子"]
["豊後高田ＦＣ　Ｂｏｒｄｅｒ　Ｊｒ_15","豊後高田ＦＣ　Ｂｏｒｄｅｒ　Ｊｒ",{"$f":"(\"15\")","v":"15"},"FW","上條　彩美","カミジョウ　アヤミ",5,"女子小学生"]
["豊後高田ＦＣ　Ｂｏｒｄｅｒ　Ｊｒ_16","豊後高田ＦＣ　Ｂｏｒｄｅｒ　Ｊｒ",{"$f":"(\"16\")","v":"16"},"DF","平岡　歩望","ヒラオカ　アユム",5,"男子"]
["豊後高田ＦＣ　Ｂｏｒｄｅｒ　Ｊｒ_17","豊後高田ＦＣ　Ｂｏｒｄｅｒ　Ｊｒ",{"$f":"(\"17\")","v":"17"},"MF","津崎　俐玖","ツザキ　リク",5,"男子"]
["豊後高田ＦＣ　Ｂｏｒｄｅｒ　Ｊｒ_20","豊後高田ＦＣ　Ｂｏｒｄｅｒ　Ｊｒ",{"$f":"(\"20\")","v":"20"},"MF","山田　唯","ヤマダ　ユイ",4,"男子"]
["豊後高田ＦＣ　Ｂｏｒｄｅｒ　Ｊｒ_21","豊後高田ＦＣ　Ｂｏｒｄｅｒ　Ｊｒ",{"$f":"(\"21\")","v":"21"},"DF","徳永　理旺","トクナガ　リオ",4,"男子"]
["豊後高田ＦＣ　Ｂｏｒｄｅｒ　Ｊｒ_22","豊後高田ＦＣ　Ｂｏｒｄｅｒ　Ｊｒ",{"$f":"(\"22\")","v":"22"},"MF","秋田　大和","アキタ　ヤマト",4,"男子"]
["竹田直入ＦＣ_1","竹田直入ＦＣ",{"$f":"(\"1\")","v":"1"},"GK","土屋　諒悟","ツチヤ　リョウゴ",5,"男子"]
["竹田直入ＦＣ_4","竹田直入ＦＣ",{"$f":"(\"4\")","v":"4"},"MF","山中　夏紗音","ヤマナカ　カサネ",4,"女子小学生"]
["竹田直入ＦＣ_5","竹田直入ＦＣ",{"$f":"(\"5\")","v":"5"},"MF","吉良　皓心","キラ　コウシン",5,"男子"]
["竹田直入ＦＣ_6","竹田直入ＦＣ",{"$f":"(\"6\")","v":"6"},"DF","工藤　雄輝","クドウ　ユウキ",5,"男子"]
["竹田直入ＦＣ_8","竹田直入ＦＣ",{"$f":"(\"8\")","v":"8"},"MF","金田　敦暉","クドウ　アツキ",5,"男子"]
["竹田直入ＦＣ_9","竹田直入ＦＣ",{"$f":"(\"9\")","v":"9"},"MF","内川　愛梨","ウチカワ　アイリ",5,"女子小学生","○"]
["竹田直入ＦＣ_10","竹田直入ＦＣ",{"$f":"(\"10\")","v":"10"},"MF","後藤　侑大","ゴトウ　ユウタ",4,"男子"]
["竹田直入ＦＣ_12","竹田直入ＦＣ",{"$f":"(\"12\")","v":"12"},"GK","菅　泰河","スガ　タイガ",5,"男子"]
["竹田直入ＦＣ_13","竹田直入ＦＣ",{"$f":"(\"13\")","v":"13"},"DF","渡邊　彩人","ワタナベ　アヤト",4,"男子"]
["竹田直入ＦＣ_14","竹田直入ＦＣ",{"$f":"(\"14\")","v":"14"},"FW","坂本　陽","サカモト　ハル",4,"男子"]
["竹田直入ＦＣ_16","竹田直入ＦＣ",{"$f":"(\"16\")","v":"16"},"DF","小林　里奈","コバヤシ　リナ",4,"女子小学生"]
[{"$f":"CONCATENATE(B961,\"_\",C961)","v":"竹田直入ＦＣ_17"},"竹田直入ＦＣ",{"$f":"(\"17\")","v":"17"},"FW","大塚　光","オオツカ　ヒカル",4,"男子"]
["竹田直入ＦＣ_21","竹田直入ＦＣ",{"$f":"(\"21\")","v":"21"},"FW","瓜生　姫七夕","ウリウ　ヒナタ",3,"女子小学生"]
["竹田直入ＦＣ_23","竹田直入ＦＣ",{"$f":"(\"23\")","v":"23"},"MF","羽田野　陸","ハダノ　リク",3,"男子"]
["竹田直入ＦＣ_24","竹田直入ＦＣ",{"$f":"(\"24\")","v":"24"},"FW","成田　怜","ナリタ　レイ",3,"男子"]
["竹田直入ＦＣ_27","竹田直入ＦＣ",{"$f":"(\"27\")","v":"27"},"FW","村上　真威人","ムラカミ　マイト",1,"男子"]
["南立石サッカースポーツ少年団_1","南立石サッカースポーツ少年団",{"$f":"(\"1\")","v":"1"},"GK","上田　一護","ウエダ　イチゴ",4,"男子"]
["南立石サッカースポーツ少年団_5","南立石サッカースポーツ少年団",{"$f":"(\"5\")","v":"5"},"DF","有村　一翔","アリムラ　カズト",4,"男子"]
["南立石サッカースポーツ少年団_10","南立石サッカースポーツ少年団",{"$f":"(\"10\")","v":"10"},"DF","佐藤　宗義","サトウ　ムネヨシ",5,"男子","○"]
["南立石サッカースポーツ少年団_11","南立石サッカースポーツ少年団",{"$f":"(\"11\")","v":"11"},"DF","工藤　大空","クドウ　ツバサ",4,"男子"]
["南立石サッカースポーツ少年団_13","南立石サッカースポーツ少年団",{"$f":"(\"13\")","v":"13"},"DF","後藤　大夢","ゴトウ　ヒロム",4,"男子"]
["南立石サッカースポーツ少年団_15","南立石サッカースポーツ少年団",{"$f":"(\"15\")","v":"15"},"DF","澤井　衣愛","サワイ　イチカ",4,"女子小学生"]
["南立石サッカースポーツ少年団_18","南立石サッカースポーツ少年団",{"$f":"(\"18\")","v":"18"},"FW","大久保　孝紀","オオクボ　コウキ",2,"男子"]
["南立石サッカースポーツ少年団_20","南立石サッカースポーツ少年団",{"$f":"(\"20\")","v":"20"},"FW","藤原　翔斗","フジワラ　ソラト",3,"男子"]
["南立石サッカースポーツ少年団_26","南立石サッカースポーツ少年団",{"$f":"(\"26\")","v":"26"},"FW","松浦　幸輝","マツウラ　コウキ",3,"男子"]
["南立石サッカースポーツ少年団_28","南立石サッカースポーツ少年団",{"$f":"(\"28\")","v":"28"},"DF","澤井　司聡","サワイ　ツカサ",2,"男子"]
["南立石サッカースポーツ少年団_29","南立石サッカースポーツ少年団",{"$f":"(\"29\")","v":"29"},"MF","本田　光","ホンダ　レイ",2,"男子"]
["南立石サッカースポーツ少年団_30","南立石サッカースポーツ少年団",{"$f":"(\"30\")","v":"30"},"MF","佐藤　譲治","サトウ　ジョウジ",2,"男子"]
["南立石サッカースポーツ少年団_31","南立石サッカースポーツ少年団",{"$f":"(\"31\")","v":"31"},"DF","釘宮　旭希","クギミヤ　アサキ",2,"男子"]
["ドリームキッズフットボールクラブ_1","ドリームキッズフットボールクラブ",{"$f":"(\"1\")","v":"1"},"GK","江藤　治人","エトウ　ハルト",5,"男子"]
["ドリームキッズフットボールクラブ_2","ドリームキッズフットボールクラブ",{"$f":"(\"2\")","v":"2"},"DF","古賀　謙心","コガ　ケンシン",5,"男子"]
["ドリームキッズフットボールクラブ_3","ドリームキッズフットボールクラブ",{"$f":"(\"3\")","v":"3"},"DF","佐藤　天雅","サトウ　テンガ",5,"男子"]
["ドリームキッズフットボールクラブ_4","ドリームキッズフットボールクラブ",{"$f":"(\"4\")","v":"4"},"MF","中川　泰良","ナカガワ　タイラ",5,"男子"]
["ドリームキッズフットボールクラブ_5","ドリームキッズフットボールクラブ",{"$f":"(\"5\")","v":"5"},"MF","江島　優斗","エジマ　ユウト",5,"男子"]
["ドリームキッズフットボールクラブ_6","ドリームキッズフットボールクラブ",{"$f":"(\"6\")","v":"6"},"MF","亀野　佑輝","カメノ　ユウキ",5,"男子"]
["ドリームキッズフットボールクラブ_7","ドリームキッズフットボールクラブ",{"$f":"(\"7\")","v":"7"},"MF","菊川　翼","キクガワ　ツバサ",5,"男子"]
["ドリームキッズフットボールクラブ_8","ドリームキッズフットボールクラブ",{"$f":"(\"8\")","v":"8"},"MF","林　天音","ハヤシ　テオン",5,"男子",null,"カティオーラフットボールクラブ　大在"]
["ドリームキッズフットボールクラブ_9","ドリームキッズフットボールクラブ",{"$f":"(\"9\")","v":"9"},"DF","那須　虎太郎","ナス　コタロウ",5,"男子"]
["ドリームキッズフットボールクラブ_10","ドリームキッズフットボールクラブ",{"$f":"(\"10\")","v":"10"},"FW","下郡　悠翔","シモゴオリ　ユウト",5,"男子","○"]
["ドリームキッズフットボールクラブ_11","ドリームキッズフットボールクラブ",{"$f":"(\"11\")","v":"11"},"FW","長野　瑛斗","ナガノ　エイト",5,"男子",null,"別保ＳＦＣ"]
["ドリームキッズフットボールクラブ_12","ドリームキッズフットボールクラブ",{"$f":"(\"12\")","v":"12"},"DF","阿部　京輔","アベ　キョウスケ",5,"男子"]
["ドリームキッズフットボールクラブ_13","ドリームキッズフットボールクラブ",{"$f":"(\"13\")","v":"13"},"DF","大津　瑞斗","オオツ　ミズト",5,"男子"]
["ドリームキッズフットボールクラブ_14","ドリームキッズフットボールクラブ",{"$f":"(\"14\")","v":"14"},"DF","松山　遥郁","マツヤマ　ユウガ",5,"男子"]
["ドリームキッズフットボールクラブ_15","ドリームキッズフットボールクラブ",{"$f":"(\"15\")","v":"15"},"DF","西江　真翔","ニシエ　マナト",5,"男子"]
["ドリームキッズフットボールクラブ_16","ドリームキッズフットボールクラブ",{"$f":"(\"16\")","v":"16"},"DF","上田　拳己","ウエダ　ゲンキ",5,"男子"]
["ドリームキッズフットボールクラブＳＣ_1","ドリームキッズフットボールクラブＳＣ",{"$f":"(\"1\")","v":"1"},"GK","冨高　麗臣","トミタカ　レオ",4,"男子"]
["ドリームキッズフットボールクラブＳＣ_2","ドリームキッズフットボールクラブＳＣ",{"$f":"(\"2\")","v":"2"},"MF","當麻　晃基","トウマ　コウキ",5,"男子"]
["ドリームキッズフットボールクラブＳＣ_3","ドリームキッズフットボールクラブＳＣ",{"$f":"(\"3\")","v":"3"},"DF","安部　來輝","アベ　ライキ",5,"男子"]
["ドリームキッズフットボールクラブＳＣ_4","ドリームキッズフットボールクラブＳＣ",{"$f":"(\"4\")","v":"4"},"DF","池田　蒼梧","イケダ　ソウゴ",4,"男子"]
["ドリームキッズフットボールクラブＳＣ_5","ドリームキッズフットボールクラブＳＣ",{"$f":"(\"5\")","v":"5"},"DF","木村　琳一","キムラ　リヒト",4,"男子"]
["ドリームキッズフットボールクラブＳＣ_6","ドリームキッズフットボールクラブＳＣ",{"$f":"(\"6\")","v":"6"},"MF","北田　汰佑","キタダ　タイスケ",4,"男子"]
["ドリームキッズフットボールクラブＳＣ_7","ドリームキッズフットボールクラブＳＣ",{"$f":"(\"7\")","v":"7"},"FW","川上　倫央","カワカミ　リオン",4,"男子"]
["ドリームキッズフットボールクラブＳＣ_8","ドリームキッズフットボールクラブＳＣ",{"$f":"(\"8\")","v":"8"},"MF","宇野　藤獅郎","ウノ　トウシロウ",4,"男子"]
["ドリームキッズフットボールクラブＳＣ_9","ドリームキッズフットボールクラブＳＣ",{"$f":"(\"9\")","v":"9"},"FW","大塚　優河","オオツカ　ユウガ",4,"男子"]
["ドリームキッズフットボールクラブＳＣ_10","ドリームキッズフットボールクラブＳＣ",{"$f":"(\"10\")","v":"10"},"MF","工藤　貫太","クドウ　カンタ",4,"男子","○"]
["ドリームキッズフットボールクラブＳＣ_11","ドリームキッズフットボールクラブＳＣ",{"$f":"(\"11\")","v":"11"},"FW","中鶴　悠翔","ナカツル　ユウト",4,"男子"]
["ドリームキッズフットボールクラブＳＣ_12","ドリームキッズフットボールクラブＳＣ",{"$f":"(\"12\")","v":"12"},"DF","川畑　蒼空","カワバタ　ソア",4,"男子"]
["ドリームキッズフットボールクラブＳＣ_13","ドリームキッズフットボールクラブＳＣ",{"$f":"(\"13\")","v":"13"},"DF","中野　陸翔","ナカノ　リクト",4,"男子"]
["ドリームキッズフットボールクラブＳＣ_14","ドリームキッズフットボールクラブＳＣ",{"$f":"(\"14\")","v":"14"},"MF","岩田　遥斗","イワタ　ハルト",4,"男子"]
["ドリームキッズフットボールクラブＳＣ_15","ドリームキッズフットボールクラブＳＣ",{"$f":"(\"15\")","v":"15"},"MF","渡辺　海輝","ワタナベ　カイキ",4,"男子"]
["東陽フットボールクラブ_1","東陽フットボールクラブ",{"$f":"(\"1\")","v":"1"},"GK","牧　紫音","マキ　シオン",5,"男子"]
["東陽フットボールクラブ_3","東陽フットボールクラブ",{"$f":"(\"3\")","v":"3"},"DF","江崎　陽悠","エザキ　ハルチカ",5,"男子"]
["東陽フットボールクラブ_4","東陽フットボールクラブ",{"$f":"(\"4\")","v":"4"},"DF","丹生　昴亨","ニュウ　タカユキ",5,"男子"]
["東陽フットボールクラブ_5","東陽フットボールクラブ",{"$f":"(\"5\")","v":"5"},"DF","政村　青空","マサムラ　ソラ",5,"男子"]
["東陽フットボールクラブ_7","東陽フットボールクラブ",{"$f":"(\"7\")","v":"7"},"MF","松尾　翔","マツオ　ショウ",4,"男子"]
["東陽フットボールクラブ_8","東陽フットボールクラブ",{"$f":"(\"8\")","v":"8"},"MF","重住　龍真","シゲズミ　リュウマ",5,"男子"]
["東陽フットボールクラブ_9","東陽フットボールクラブ",{"$f":"(\"9\")","v":"9"},"FW","赤峰　宗佑","アカミネ　ソウスケ",5,"男子",null,"浦和中尾サッカースポーツ少年団"]
["東陽フットボールクラブ_10","東陽フットボールクラブ",{"$f":"(\"10\")","v":"10"},"MF","阿部　瑞己","アベ　ミズキ",5,"男子","○"]
["東陽フットボールクラブ_11","東陽フットボールクラブ",{"$f":"(\"11\")","v":"11"},"MF","重住　亮真","シゲズミ　リョウマ",5,"男子"]
["東陽フットボールクラブ_14","東陽フットボールクラブ",{"$f":"(\"14\")","v":"14"},"DF","阿孫　羽南","アソン　ハナ",5,"女子小学生"]
["東陽フットボールクラブ_15","東陽フットボールクラブ",{"$f":"(\"15\")","v":"15"},"GK","鶴原　瑞葵","ツルハラ　ミズキ",4,"男子"]
["ＯＫＹ山香サッカークラブ_1","ＯＫＹ山香サッカークラブ",{"$f":"(\"1\")","v":"1"},"GK","河合　康太朗","カワイ　コウタロウ",4,"男子"]
["ＯＫＹ山香サッカークラブ_2","ＯＫＹ山香サッカークラブ",{"$f":"(\"2\")","v":"2"},"MF","箸尾　行真","ハシオ　イクマ",3,"男子"]
["ＯＫＹ山香サッカークラブ_3","ＯＫＹ山香サッカークラブ",{"$f":"(\"3\")","v":"3"},"FW","仲島　光嵐","ナカシマ　ミラン",3,"男子"]
["ＯＫＹ山香サッカークラブ_4","ＯＫＹ山香サッカークラブ",{"$f":"(\"4\")","v":"4"},"FW","木全　晃大","キマタ　コウダイ",4,"男子"]
[{"$f":"CONCATENATE(B1025,\"_\",C1025)","v":"ＯＫＹ山香サッカークラブ_5"},"ＯＫＹ山香サッカークラブ",{"$f":"(\"5\")","v":"5"},"FW","後藤　颯太","ゴトウ　ソウタ",4,"男子"]
["ＯＫＹ山香サッカークラブ_6","ＯＫＹ山香サッカークラブ",{"$f":"(\"6\")","v":"6"},"DF","児玉　遥翔","コダマ　ハルカ",4,"男子"]
["ＯＫＹ山香サッカークラブ_7","ＯＫＹ山香サッカークラブ",{"$f":"(\"7\")","v":"7"},"MF","仲島　れある","ナカシマ　レアル",5,"女子小学生"]
["ＯＫＹ山香サッカークラブ_8","ＯＫＹ山香サッカークラブ",{"$f":"(\"8\")","v":"8"},"MF","玉井　葉夏","タマイ　ハナ",5,"女子小学生",null,"周布サッカースクール"]
["ＯＫＹ山香サッカークラブ_9","ＯＫＹ山香サッカークラブ",{"$f":"(\"9\")","v":"9"},"DF","平川　桃子","ヒラカワ　モモコ",5,"女子小学生"]
["ＯＫＹ山香サッカークラブ_10","ＯＫＹ山香サッカークラブ",{"$f":"(\"10\")","v":"10"},"MF","竹丸　哲平","タケマル　テッペイ",5,"男子","○"]
["ＯＫＹ山香サッカークラブ_11","ＯＫＹ山香サッカークラブ",{"$f":"(\"11\")","v":"11"},"DF","安部　蔵乃介","アベ　クラノスケ",4,"男子"]
["ＯＫＹ山香サッカークラブ_12","ＯＫＹ山香サッカークラブ",{"$f":"(\"12\")","v":"12"},"DF","佐藤　大和","サトウ　ヤマト",3,"男子"]
["ＯＫＹ山香サッカークラブ_13","ＯＫＹ山香サッカークラブ",{"$f":"(\"13\")","v":"13"},"FW","田中　進太郎","タナカ　シンタロウ",3,"男子"]
["ＯＫＹ山香サッカークラブ_14","ＯＫＹ山香サッカークラブ",{"$f":"(\"14\")","v":"14"},"MF","桑田　優辰","クワタ　ユウシン",3,"男子"]
["ＯＫＹ山香サッカークラブ_15","ＯＫＹ山香サッカークラブ",{"$f":"(\"15\")","v":"15"},"FW","長野　玲汰","ナガノ　レイタ",3,"男子"]
["ＯＫＹ山香サッカークラブ_16","ＯＫＹ山香サッカークラブ",{"$f":"(\"16\")","v":"16"},"GK","阿部　颯馬","アベ　ソウマ",3,"男子"]
["臼杵ＳＳＳ_1","臼杵ＳＳＳ",{"$f":"(\"1\")","v":"1"},"GK","曽我　?地","ソガ　ライチ",5,"男子"]
["臼杵ＳＳＳ_2","臼杵ＳＳＳ",{"$f":"(\"2\")","v":"2"},"DF","三嶋　祐澄","ミシマ　ユウト",5,"男子"]
["臼杵ＳＳＳ_3","臼杵ＳＳＳ",{"$f":"(\"3\")","v":"3"},"FW","吉良　龍之介","キラ　リュウノスケ",5,"男子"]
["臼杵ＳＳＳ_4","臼杵ＳＳＳ",{"$f":"(\"4\")","v":"4"},"DF","伊東　倫生","イトウ　トモキ",5,"男子"]
["臼杵ＳＳＳ_5","臼杵ＳＳＳ",{"$f":"(\"5\")","v":"5"},"MF","足立　橙葉","アダチ　トウハ",5,"男子"]
["臼杵ＳＳＳ_6","臼杵ＳＳＳ",{"$f":"(\"6\")","v":"6"},"MF","荻野　蓮士","オギノ　レント",5,"男子"]
["臼杵ＳＳＳ_7","臼杵ＳＳＳ",{"$f":"(\"7\")","v":"7"},"DF","安藤　颯","アンドウ　ハヤテ",5,"男子"]
["臼杵ＳＳＳ_8","臼杵ＳＳＳ",{"$f":"(\"8\")","v":"8"},"DF","椎原　蓮丸","シイハラ　レンマル",5,"男子","○"]
["臼杵ＳＳＳ_9","臼杵ＳＳＳ",{"$f":"(\"9\")","v":"9"},"FW","平松　健志郎","ヒラマツ　ケンシロウ",5,"男子"]
["臼杵ＳＳＳ_10","臼杵ＳＳＳ",{"$f":"(\"10\")","v":"10"},"MF","廣瀬　颯大","ヒロセ　ソウタ",5,"男子"]
["臼杵ＳＳＳ_12","臼杵ＳＳＳ",{"$f":"(\"12\")","v":"12"},"MF","大戸　隆成","ネギ　リュウセイ",4,"男子"]
["臼杵ＳＳＳ_13","臼杵ＳＳＳ",{"$f":"(\"13\")","v":"13"},"DF","薬師寺　洵翔","ヤクシジ　シュント",4,"男子"]
["臼杵ＳＳＳ_14","臼杵ＳＳＳ",{"$f":"(\"14\")","v":"14"},"MF","芥川　勇翔","アクタガワ　ユウト",4,"男子"]
["臼杵ＳＳＳ_15","臼杵ＳＳＳ",{"$f":"(\"15\")","v":"15"},"FW","眞庭　航","マニワ　コウ",4,"男子"]
["臼杵ＳＳＳ_16","臼杵ＳＳＳ",{"$f":"(\"16\")","v":"16"},"GK","秋田　悠羽","アキタ　ユウワ",4,"男子"]
["挾間ＪＦＣ_1","挾間ＪＦＣ",{"$f":"(\"1\")","v":"1"},"GK","山村　大地","ヤマムラ　ダイチ",4,"男子"]
["挾間ＪＦＣ_2","挾間ＪＦＣ",{"$f":"(\"2\")","v":"2"},"MF","渡辺　晃大","ワタナベ　コウタ",4,"男子"]
["挾間ＪＦＣ_3","挾間ＪＦＣ",{"$f":"(\"3\")","v":"3"},"MF","佐藤　翔真","サトウ　ショウマ",5,"男子"]
["挾間ＪＦＣ_4","挾間ＪＦＣ",{"$f":"(\"4\")","v":"4"},"DF","佐藤　和真","サトウ　カズマ",5,"男子"]
["挾間ＪＦＣ_5","挾間ＪＦＣ",{"$f":"(\"5\")","v":"5"},"DF","石田　翼","イシダ　ツバサ",5,"男子"]
["挾間ＪＦＣ_6","挾間ＪＦＣ",{"$f":"(\"6\")","v":"6"},"MF","麻生　蓮","アソウ　レン",5,"男子"]
["挾間ＪＦＣ_7","挾間ＪＦＣ",{"$f":"(\"7\")","v":"7"},"DF","阿部　虎牙","アベ　タイガ",5,"男子"]
["挾間ＪＦＣ_8","挾間ＪＦＣ",{"$f":"(\"8\")","v":"8"},"MF","大石　陽也","オオイシ　ハルヤ",4,"男子"]
["挾間ＪＦＣ_9","挾間ＪＦＣ",{"$f":"(\"9\")","v":"9"},"FW","秋吉　玲桜叶","アキヨシ　レオト",5,"男子"]
["挾間ＪＦＣ_11","挾間ＪＦＣ",{"$f":"(\"11\")","v":"11"},"MF","依田　雄翔","ヨダ　ユウショウ",5,"男子","○"]
["挾間ＪＦＣ_12","挾間ＪＦＣ",{"$f":"(\"12\")","v":"12"},"FW","麻生　悠","アソウ　ユウ",3,"男子"]
["挾間ＪＦＣ_13","挾間ＪＦＣ",{"$f":"(\"13\")","v":"13"},"FW","安永　蒼史","ヤスナガ　ソウシ",3,"男子"]
["挾間ＪＦＣ_14","挾間ＪＦＣ",{"$f":"(\"14\")","v":"14"},"DF","依田　侑大","ヨダ　ユウダイ",2,"男子"]
["挾間ＪＦＣ_15","挾間ＪＦＣ",{"$f":"(\"15\")","v":"15"},"FW","佐藤　湊斗","サトウ　ミナト",2,"男子"]
["挾間ＪＦＣ_17","挾間ＪＦＣ",{"$f":"(\"17\")","v":"17"},"MF","後藤　爽空朗","ゴトウ　サクロウ",5,"男子",null,"横瀬西ＦＣ．ＲｏｓａＣｌａｒｏ"]
["挾間ＪＦＣ_18","挾間ＪＦＣ",{"$f":"(\"18\")","v":"18"},"MF","山本　教介","ヤマモト　キョウスケ",4,"男子"]
["ＦＣ安岐_1","ＦＣ安岐",{"$f":"(\"1\")","v":"1"},"GK","伊賀上　陸","イガガミ　リク",4,"男子"]
["ＦＣ安岐_2","ＦＣ安岐",{"$f":"(\"2\")","v":"2"},"MF","仮屋　月雲","カリヤ　ツクモ",4,"男子"]
["ＦＣ安岐_3","ＦＣ安岐",{"$f":"(\"3\")","v":"3"},"DF","松丸　真大","マツマル　マサト",4,"男子"]
["ＦＣ安岐_4","ＦＣ安岐",{"$f":"(\"4\")","v":"4"},"DF","廣峯　咲功","ヒロミネ　サク",5,"男子"]
["ＦＣ安岐_5","ＦＣ安岐",{"$f":"(\"5\")","v":"5"},"DF","明石　琉希亜","アカシ　ルキア",5,"男子",null,"くにさき東ＦＣ"]
["ＦＣ安岐_6","ＦＣ安岐",{"$f":"(\"6\")","v":"6"},"DF","田中　理琥","タナカ　リク",5,"男子"]
["ＦＣ安岐_7","ＦＣ安岐",{"$f":"(\"7\")","v":"7"},"DF","南　凌介","ミナミ　リョウスケ",5,"男子"]
["ＦＣ安岐_8","ＦＣ安岐",{"$f":"(\"8\")","v":"8"},"MF","小玉　湊翔","コダマ　ミナト",4,"男子"]
["ＦＣ安岐_9","ＦＣ安岐",{"$f":"(\"9\")","v":"9"},"MF","上野　紗奈","ウエノ　サナ",5,"女子小学生","○"]
["ＦＣ安岐_10","ＦＣ安岐",{"$f":"(\"10\")","v":"10"},"MF","山田　蓮次","ヤマダ　レンジ",5,"男子"]
["ＦＣ安岐_11","ＦＣ安岐",{"$f":"(\"11\")","v":"11"},"FW","峯下　快斗","ミネシタ　カイト",3,"男子"]
["ＦＣ安岐_12","ＦＣ安岐",{"$f":"(\"12\")","v":"12"},"DF","勝見　悠樹","カツミ　ユウキ",4,"男子"]
["ＦＣ安岐_13","ＦＣ安岐",{"$f":"(\"13\")","v":"13"},"FW","参　優太朗","サン　ユウタロウ",3,"男子"]
["ＦＣ安岐_16","ＦＣ安岐",{"$f":"(\"16\")","v":"16"},"GK","服部　澪央","ハットリ　レオ",4,"男子"]
["スマイス・セレソン_1","スマイス・セレソン",{"$f":"(\"1\")","v":"1"},"GK","青山　恭輔","アオヤマ　キョウスケ",5,"男子"]
["スマイス・セレソン_2","スマイス・セレソン",{"$f":"(\"2\")","v":"2"},"DF","佐藤　睦翔","サトウ　リクト",5,"男子",null,"スマイスＦＣ"]
["スマイス・セレソン_3","スマイス・セレソン",{"$f":"(\"3\")","v":"3"},"DF","長野　官叫","ナガノ　カンギュ",5,"男子"]
["スマイス・セレソン_4","スマイス・セレソン",{"$f":"(\"4\")","v":"4"},"DF","濱野　脩翔","ハマノ　シュウト",5,"男子"]
["スマイス・セレソン_5","スマイス・セレソン",{"$f":"(\"5\")","v":"5"},"MF","佐々木　琉衣","ササキ　ルイ",5,"男子"]
["スマイス・セレソン_6","スマイス・セレソン",{"$f":"(\"6\")","v":"6"},"MF","伊藤　廉真","イトウ　レンマ",5,"男子"]
["スマイス・セレソン_7","スマイス・セレソン",{"$f":"(\"7\")","v":"7"},"MF","市野　琉太","イチノ　リュウタ",5,"男子"]
[{"$f":"CONCATENATE(B1089,\"_\",C1089)","v":"スマイス・セレソン_8"},"スマイス・セレソン",{"$f":"(\"8\")","v":"8"},"MF","橋本　錦空","ハシモト　キング",5,"男子",null,"ＭＳＳ"]
["スマイス・セレソン_9","スマイス・セレソン",{"$f":"(\"9\")","v":"9"},"FW","下嶋　龍斗","シモジマ　リュウト",5,"男子"]
["スマイス・セレソン_10","スマイス・セレソン",{"$f":"(\"10\")","v":"10"},"MF","中嶌　大喜","ナカジマ　タイキ",5,"男子","○"]
["スマイス・セレソン_11","スマイス・セレソン",{"$f":"(\"11\")","v":"11"},"FW","工藤　義人","クドウ　ヨシト",4,"男子"]
["スマイス・セレソン_12","スマイス・セレソン",{"$f":"(\"12\")","v":"12"},"DF","後藤　大輝","ゴトウ　マサキ",5,"男子"]
["スマイス・セレソン_13","スマイス・セレソン",{"$f":"(\"13\")","v":"13"},"MF","伊東　凌","イトウ　リョウ",5,"男子",null,"スマイスＦＣ"]
["スマイス・セレソン_14","スマイス・セレソン",{"$f":"(\"14\")","v":"14"},"FW","安波　颯人","ヤスナミ　ハヤト",5,"男子",null,"別府フットボールクラブ．ミネルバＵ－１２"]
["スマイス・セレソン_15","スマイス・セレソン",{"$f":"(\"15\")","v":"15"},"DF","矢田　孝太郎","ヤダ　コウタロウ",5,"男子"]
["スマイス・セレソン_16","スマイス・セレソン",{"$f":"(\"16\")","v":"16"},"GK","石田　大和","イシダ　ヤマト",5,"男子"]
["スマイス・セレソンＢ_1","スマイス・セレソンＢ",{"$f":"(\"1\")","v":"1"},"GK","横田　真輝","ヨコタ　マキ",4,"男子"]
["スマイス・セレソンＢ_2","スマイス・セレソンＢ",{"$f":"(\"2\")","v":"2"},"MF","一丸　慶悟","イチマル　ケイゴ",4,"男子"]
["スマイス・セレソンＢ_3","スマイス・セレソンＢ",{"$f":"(\"3\")","v":"3"},"MF","桒野　董士","クワノ　トウジ",4,"男子"]
["スマイス・セレソンＢ_4","スマイス・セレソンＢ",{"$f":"(\"4\")","v":"4"},"MF","桒野　ゆりな","クワノ　ユリナ",4,"女子小学生"]
["スマイス・セレソンＢ_5","スマイス・セレソンＢ",{"$f":"(\"5\")","v":"5"},"DF","松田　煌","マツダ　コウ",4,"男子"]
["スマイス・セレソンＢ_6","スマイス・セレソンＢ",{"$f":"(\"6\")","v":"6"},"MF","松本　優理","マツモト　ユウリ",4,"男子"]
["スマイス・セレソンＢ_7","スマイス・セレソンＢ",{"$f":"(\"7\")","v":"7"},"DF","齊藤　蒼大","サイトウ　ソウダイ",4,"男子"]
["スマイス・セレソンＢ_8","スマイス・セレソンＢ",{"$f":"(\"8\")","v":"8"},"DF","堤　悠晴","ツツミ　ユウセイ",5,"男子",null,"スマイスＦＣ"]
["スマイス・セレソンＢ_9","スマイス・セレソンＢ",{"$f":"(\"9\")","v":"9"},"FW","吉田　侑生","ヨシダ　ユウセイ",5,"男子",null,"府中東フットボールクラブ"]
["スマイス・セレソンＢ_10","スマイス・セレソンＢ",{"$f":"(\"10\")","v":"10"},"FW","大橋　薫","オオハシ　カオル",5,"男子","○"]
["スマイス・セレソンＢ_11","スマイス・セレソンＢ",{"$f":"(\"11\")","v":"11"},"FW","桐村　永遠","キリムラ　トワ",4,"男子"]
["スマイス・セレソンＢ_12","スマイス・セレソンＢ",{"$f":"(\"12\")","v":"12"},"MF","田中　煌晟","タナカ　コウセイ",3,"男子"]
["スマイス・セレソンＢ_13","スマイス・セレソンＢ",{"$f":"(\"13\")","v":"13"},"FW","山下　葵斗","ヤマシタ　アオト",3,"男子"]
["スマイス・セレソンＢ_14","スマイス・セレソンＢ",{"$f":"(\"14\")","v":"14"},"DF","萱島　奏太","カヤシマ　ソウタ",3,"男子"]
["スマイス・セレソンＢ_16","スマイス・セレソンＢ",{"$f":"(\"16\")","v":"16"},"GK","堀　晴道","ホリ　ハルミチ",4,"男子"]
["カティオーラフットボールクラブＵ－１２_1","カティオーラフットボールクラブＵ－１２",{"$f":"(\"1\")","v":"1"},"GK","福吉　晴斗","フクヨシ　ハルト",5,"男子",null,"明治北ＳＳＣ"]
["カティオーラフットボールクラブＵ－１２_2","カティオーラフットボールクラブＵ－１２",{"$f":"(\"2\")","v":"2"},"DF","梅木　翔平","ウメキ　ショウヘイ",5,"男子",null,"大在サッカースポーツ少年団"]
["カティオーラフットボールクラブＵ－１２_3","カティオーラフットボールクラブＵ－１２",{"$f":"(\"3\")","v":"3"},"DF","藤田　遙大","フジタ　ユウキ",5,"男子"]
["カティオーラフットボールクラブＵ－１２_4","カティオーラフットボールクラブＵ－１２",{"$f":"(\"4\")","v":"4"},"MF","坂下　蓮","サカシタ　レン",5,"男子"]
["カティオーラフットボールクラブＵ－１２_5","カティオーラフットボールクラブＵ－１２",{"$f":"(\"5\")","v":"5"},"MF","髙野　陽生","タカノ　ハルキ",5,"男子"]
["カティオーラフットボールクラブＵ－１２_6","カティオーラフットボールクラブＵ－１２",{"$f":"(\"6\")","v":"6"},"DF","有田　悠真","アリタ　ユウマ",5,"男子"]
["カティオーラフットボールクラブＵ－１２_7","カティオーラフットボールクラブＵ－１２",{"$f":"(\"7\")","v":"7"},"DF","隅　悠來","スミ　ユウライ",5,"男子"]
["カティオーラフットボールクラブＵ－１２_8","カティオーラフットボールクラブＵ－１２",{"$f":"(\"8\")","v":"8"},"MF","吉田　爽人","ヨシダ　アキト",5,"男子"]
["カティオーラフットボールクラブＵ－１２_9","カティオーラフットボールクラブＵ－１２",{"$f":"(\"9\")","v":"9"},"FW","井野　景太","イノ　ケイタ",5,"男子",null,"カティオーラフットボールクラブ　松岡"]
["カティオーラフットボールクラブＵ－１２_10","カティオーラフットボールクラブＵ－１２",{"$f":"(\"10\")","v":"10"},"MF","芝　虎之介","シバ　トラノスケ",5,"男子","○","カティオーラフットボールクラブ　大在"]
["カティオーラフットボールクラブＵ－１２_11","カティオーラフットボールクラブＵ－１２",{"$f":"(\"11\")","v":"11"},"FW","阿南　徠已","アナミ　ライ",5,"男子"]
["カティオーラフットボールクラブＵ－１２_12","カティオーラフットボールクラブＵ－１２",{"$f":"(\"12\")","v":"12"},"GK","西田　伍希","ニシダ　イツキ",5,"男子"]
["カティオーラフットボールクラブＵ－１２_13","カティオーラフットボールクラブＵ－１２",{"$f":"(\"13\")","v":"13"},"FW","山﨑　耕大","ヤマサキ　コウダイ",4,"男子"]
["カティオーラフットボールクラブＵ－１２_14","カティオーラフットボールクラブＵ－１２",{"$f":"(\"14\")","v":"14"},"FW","西山　龍之介","ニシヤマ　リュウノスケ",3,"男子"]
["カティオーラフットボールクラブＵ－１２　大在_1","カティオーラフットボールクラブＵ－１２　大在",{"$f":"(\"1\")","v":"1"},"GK","谷崎　冬虎","タニザキ　トウゴ",5,"男子"]
["カティオーラフットボールクラブＵ－１２　大在_2","カティオーラフットボールクラブＵ－１２　大在",{"$f":"(\"2\")","v":"2"},"DF","石橋　空樹","イシバシ　ソラキ",5,"男子"]
["カティオーラフットボールクラブＵ－１２　大在_3","カティオーラフットボールクラブＵ－１２　大在",{"$f":"(\"3\")","v":"3"},"FW","濱田　司","ハマダ　ツカサ",5,"男子"]
["カティオーラフットボールクラブＵ－１２　大在_4","カティオーラフットボールクラブＵ－１２　大在",{"$f":"(\"4\")","v":"4"},"DF","梶原　羚央","カジワラ　レオ",5,"男子"]
["カティオーラフットボールクラブＵ－１２　大在_5","カティオーラフットボールクラブＵ－１２　大在",{"$f":"(\"5\")","v":"5"},"DF","齋藤　悠翔","サイトウ　ユウト",5,"男子"]
["カティオーラフットボールクラブＵ－１２　大在_6","カティオーラフットボールクラブＵ－１２　大在",{"$f":"(\"6\")","v":"6"},"MF","石﨑　愛音","イシザキ　アイネ",5,"女子小学生"]
["カティオーラフットボールクラブＵ－１２　大在_7","カティオーラフットボールクラブＵ－１２　大在",{"$f":"(\"7\")","v":"7"},"DF","安部　優衣","アベ　ユイ",5,"女子小学生",null,"大在サッカースポーツ少年団"]
["カティオーラフットボールクラブＵ－１２　大在_8","カティオーラフットボールクラブＵ－１２　大在",{"$f":"(\"8\")","v":"8"},"FW","軸丸　ゆな","ジクマル　ユナ",5,"女子小学生"]
["カティオーラフットボールクラブＵ－１２　大在_9","カティオーラフットボールクラブＵ－１２　大在",{"$f":"(\"9\")","v":"9"},"FW","石﨑　美羽","イシザキ　ミハネ",5,"女子小学生"]
["カティオーラフットボールクラブＵ－１２　大在_10","カティオーラフットボールクラブＵ－１２　大在",{"$f":"(\"10\")","v":"10"},"MF","原野　蒼涼","ハラノ　ソウスケ",5,"男子","○"]
["カティオーラフットボールクラブＵ－１２　大在_11","カティオーラフットボールクラブＵ－１２　大在",{"$f":"(\"11\")","v":"11"},"FW","田邉　諒真","タナベ　リョウマ",5,"男子"]
["カティオーラフットボールクラブＵ－１２　大在_12","カティオーラフットボールクラブＵ－１２　大在",{"$f":"(\"12\")","v":"12"},"GK","西　彬成","ニシ　アキナリ",5,"男子"]
["カティオーラフットボールクラブＵ－１２　大在_13","カティオーラフットボールクラブＵ－１２　大在",{"$f":"(\"13\")","v":"13"},"MF","姫野　白雲澄","ヒメノ　ハグト",5,"男子"]
["カティオーラフットボールクラブＵ－１２　大在_14","カティオーラフットボールクラブＵ－１２　大在",{"$f":"(\"14\")","v":"14"},"FW","宮本　歩真","ミヤモト　アルマ",4,"男子"]
["カティオーラフットボールクラブＵ－１２　大在_15","カティオーラフットボールクラブＵ－１２　大在",{"$f":"(\"15\")","v":"15"},"MF","岩永　燈和","イワナガ　トワ",4,"男子"]
["カティオーラフットボールクラブＵ－１２　大在_16","カティオーラフットボールクラブＵ－１２　大在",{"$f":"(\"16\")","v":"16"},"FW","桜木　歩人","サクラギ　アルト",4,"男子"]
["カティオーラフットボールクラブＵ－１２　松岡_1","カティオーラフットボールクラブＵ－１２　松岡",{"$f":"(\"1\")","v":"1"},"GK","染谷　徠翔","ソメヤ　ライト",5,"男子"]
["カティオーラフットボールクラブＵ－１２　松岡_2","カティオーラフットボールクラブＵ－１２　松岡",{"$f":"(\"2\")","v":"2"},"DF","河野　朔","カワノ　サク",4,"男子"]
["カティオーラフットボールクラブＵ－１２　松岡_3","カティオーラフットボールクラブＵ－１２　松岡",{"$f":"(\"3\")","v":"3"},"DF","後藤　凪音","ゴトウ　ナオト",5,"男子"]
["カティオーラフットボールクラブＵ－１２　松岡_4","カティオーラフットボールクラブＵ－１２　松岡",{"$f":"(\"4\")","v":"4"},"MF","山下　蓮介","ヤマシタ　レンスケ",5,"男子"]
["カティオーラフットボールクラブＵ－１２　松岡_5","カティオーラフットボールクラブＵ－１２　松岡",{"$f":"(\"5\")","v":"5"},"MF","加藤　浩志","カトウ　コウシ",5,"男子"]
["カティオーラフットボールクラブＵ－１２　松岡_6","カティオーラフットボールクラブＵ－１２　松岡",{"$f":"(\"6\")","v":"6"},"MF","阿部　翔空","アベ　トア",5,"男子"]
["カティオーラフットボールクラブＵ－１２　松岡_7","カティオーラフットボールクラブＵ－１２　松岡",{"$f":"(\"7\")","v":"7"},"DF","髙橋　蓮佑","タカハシ　レンスケ",5,"男子"]
["カティオーラフットボールクラブＵ－１２　松岡_8","カティオーラフットボールクラブＵ－１２　松岡",{"$f":"(\"8\")","v":"8"},"MF","真鍋　伊由","マナベ　イオリ",5,"男子"]
["カティオーラフットボールクラブＵ－１２　松岡_9","カティオーラフットボールクラブＵ－１２　松岡",{"$f":"(\"9\")","v":"9"},"FW","林　和真","ハヤシ　カズマ",5,"男子"]
["カティオーラフットボールクラブＵ－１２　松岡_10","カティオーラフットボールクラブＵ－１２　松岡",{"$f":"(\"10\")","v":"10"},"DF","羽田　拓真","ハダ　タクマ",5,"男子"]
[{"$f":"CONCATENATE(B1153,\"_\",C1153)","v":"カティオーラフットボールクラブＵ－１２　松岡_11"},"カティオーラフットボールクラブＵ－１２　松岡",{"$f":"(\"11\")","v":"11"},"FW","河野　蒼空","カワノ　ソラ",4,"男子"]
["カティオーラフットボールクラブＵ－１２　松岡_12","カティオーラフットボールクラブＵ－１２　松岡",{"$f":"(\"12\")","v":"12"},"MF","小野　剛瑠","オノ　タケル",5,"男子","○"]
["カティオーラフットボールクラブＵ－１２　松岡_13","カティオーラフットボールクラブＵ－１２　松岡",{"$f":"(\"13\")","v":"13"},"DF","池田　龍之介","イケダ　リュウノスケ",4,"男子"]
["カティオーラフットボールクラブＵ－１２　松岡_14","カティオーラフットボールクラブＵ－１２　松岡",{"$f":"(\"14\")","v":"14"},"MF","菅　健琉","スガ　タケル",4,"男子"]
["カティオーラフットボールクラブＵ－１２　松岡_15","カティオーラフットボールクラブＵ－１２　松岡",{"$f":"(\"15\")","v":"15"},"FW","園　智尋","ソノ　チヒロ",4,"女子小学生"]
["カティオーラフットボールクラブＵ－１２　松岡_16","カティオーラフットボールクラブＵ－１２　松岡",{"$f":"(\"16\")","v":"16"},"FW","佐藤　拓馬","サトウ　タクマ",3,"男子"]
["由布川サッカースポーツ少年団_2","由布川サッカースポーツ少年団",{"$f":"(\"2\")","v":"2"},"DF","山田　陽喜","ヤマダ　ハルキ",5,"男子"]
["由布川サッカースポーツ少年団_4","由布川サッカースポーツ少年団",{"$f":"(\"4\")","v":"4"},"FW","伊地知　蒼士","イジチ　ソウシ",4,"男子"]
["由布川サッカースポーツ少年団_5","由布川サッカースポーツ少年団",{"$f":"(\"5\")","v":"5"},"GK","片山　峻吾","カタヤマ　シュンゴ",4,"男子"]
["由布川サッカースポーツ少年団_6","由布川サッカースポーツ少年団",{"$f":"(\"6\")","v":"6"},"MF","衛藤　蒼依","エトウ　アオイ",5,"女子小学生","○"]
["由布川サッカースポーツ少年団_7","由布川サッカースポーツ少年団",{"$f":"(\"7\")","v":"7"},"FW","上野　桜汰","ウエノ　オウタ",5,"男子"]
["由布川サッカースポーツ少年団_8","由布川サッカースポーツ少年団",{"$f":"(\"8\")","v":"8"},"MF","後藤　恵大","ゴトウ　ケイタ",3,"男子"]
["由布川サッカースポーツ少年団_10","由布川サッカースポーツ少年団",{"$f":"(\"10\")","v":"10"},"DF","鶴岡　晃汰","ツルオカ　コウタ",3,"男子"]
["由布川サッカースポーツ少年団_11","由布川サッカースポーツ少年団",{"$f":"(\"11\")","v":"11"},"DF","大塚　憧希","オオツカ　ショウキ",5,"男子"]
["由布川サッカースポーツ少年団_12","由布川サッカースポーツ少年団",{"$f":"(\"12\")","v":"12"},"DF","古野　大我","フルノ　タイガ",4,"男子"]
["由布川サッカースポーツ少年団_13","由布川サッカースポーツ少年団",{"$f":"(\"13\")","v":"13"},"DF","上野　透瑚","ウエノ　トウゴ",3,"男子"]
["由布川サッカースポーツ少年団_14","由布川サッカースポーツ少年団",{"$f":"(\"14\")","v":"14"},"DF","村中　俊太","ムラナカ　シュンタ",3,"男子"]
["由布川サッカースポーツ少年団_15","由布川サッカースポーツ少年団",{"$f":"(\"15\")","v":"15"},"FW","塚﨑　琉生","ツカザキ　ルイ",3,"男子"]
["由布川サッカースポーツ少年団_16","由布川サッカースポーツ少年団",{"$f":"(\"16\")","v":"16"},"GK","首藤　彰斗","シュトウ　アキト",3,"男子"]
["ＫＩＮＧＳ　ＦＯＯＴＢＡＬＬＣＬＵＢ　Ｕ－１２_1","ＫＩＮＧＳ　ＦＯＯＴＢＡＬＬＣＬＵＢ　Ｕ－１２",{"$f":"(\"1\")","v":"1"},"GK","児玉　陵空","コダマ　リク",5,"男子"]
["ＫＩＮＧＳ　ＦＯＯＴＢＡＬＬＣＬＵＢ　Ｕ－１２_2","ＫＩＮＧＳ　ＦＯＯＴＢＡＬＬＣＬＵＢ　Ｕ－１２",{"$f":"(\"2\")","v":"2"},"DF","池永　煌一朗","イケナガ　コウイチロウ",4,"男子"]
["ＫＩＮＧＳ　ＦＯＯＴＢＡＬＬＣＬＵＢ　Ｕ－１２_3","ＫＩＮＧＳ　ＦＯＯＴＢＡＬＬＣＬＵＢ　Ｕ－１２",{"$f":"(\"3\")","v":"3"},"MF","高橋　恒太","タカハシ　コウタ",5,"男子"]
["ＫＩＮＧＳ　ＦＯＯＴＢＡＬＬＣＬＵＢ　Ｕ－１２_4","ＫＩＮＧＳ　ＦＯＯＴＢＡＬＬＣＬＵＢ　Ｕ－１２",{"$f":"(\"4\")","v":"4"},"DF","栗林　透我","クリバヤシ　トウガ",5,"男子"]
["ＫＩＮＧＳ　ＦＯＯＴＢＡＬＬＣＬＵＢ　Ｕ－１２_5","ＫＩＮＧＳ　ＦＯＯＴＢＡＬＬＣＬＵＢ　Ｕ－１２",{"$f":"(\"5\")","v":"5"},"MF","北山　春斗","キタヤマ　ハルト",5,"男子"]
["ＫＩＮＧＳ　ＦＯＯＴＢＡＬＬＣＬＵＢ　Ｕ－１２_6","ＫＩＮＧＳ　ＦＯＯＴＢＡＬＬＣＬＵＢ　Ｕ－１２",{"$f":"(\"6\")","v":"6"},"MF","井上　陽太","イノウエ　ハルタ",5,"男子"]
["ＫＩＮＧＳ　ＦＯＯＴＢＡＬＬＣＬＵＢ　Ｕ－１２_7","ＫＩＮＧＳ　ＦＯＯＴＢＡＬＬＣＬＵＢ　Ｕ－１２",{"$f":"(\"7\")","v":"7"},"MF","古野　光臥","フルノ　コウガ",5,"男子"]
["ＫＩＮＧＳ　ＦＯＯＴＢＡＬＬＣＬＵＢ　Ｕ－１２_8","ＫＩＮＧＳ　ＦＯＯＴＢＡＬＬＣＬＵＢ　Ｕ－１２",{"$f":"(\"8\")","v":"8"},"MF","伊藤　太我","イトウ　タイガ",5,"男子"]
["ＫＩＮＧＳ　ＦＯＯＴＢＡＬＬＣＬＵＢ　Ｕ－１２_9","ＫＩＮＧＳ　ＦＯＯＴＢＡＬＬＣＬＵＢ　Ｕ－１２",{"$f":"(\"9\")","v":"9"},"FW","河野　悠亜","カワノ　ユウア",5,"男子","○"]
["ＫＩＮＧＳ　ＦＯＯＴＢＡＬＬＣＬＵＢ　Ｕ－１２_10","ＫＩＮＧＳ　ＦＯＯＴＢＡＬＬＣＬＵＢ　Ｕ－１２",{"$f":"(\"10\")","v":"10"},"DF","石川　洸英","イシカワ　コウエイ",5,"男子"]
["ＫＩＮＧＳ　ＦＯＯＴＢＡＬＬＣＬＵＢ　Ｕ－１２_11","ＫＩＮＧＳ　ＦＯＯＴＢＡＬＬＣＬＵＢ　Ｕ－１２",{"$f":"(\"11\")","v":"11"},"FW","長友　響叶","ナガトモ　ヒビト",5,"男子"]
["ＫＩＮＧＳ　ＦＯＯＴＢＡＬＬＣＬＵＢ　Ｕ－１２_12","ＫＩＮＧＳ　ＦＯＯＴＢＡＬＬＣＬＵＢ　Ｕ－１２",{"$f":"(\"12\")","v":"12"},"GK","亀井　嘉人","カメイ　ヨシト",4,"男子"]
["ＫＩＮＧＳ　ＦＯＯＴＢＡＬＬＣＬＵＢ　Ｕ－１２_13","ＫＩＮＧＳ　ＦＯＯＴＢＡＬＬＣＬＵＢ　Ｕ－１２",{"$f":"(\"13\")","v":"13"},"FW","横山　成毅","ヨコヤマ　ナルキ",4,"男子"]
["ＫＩＮＧＳ　ＦＯＯＴＢＡＬＬＣＬＵＢ　Ｕ－１２_14","ＫＩＮＧＳ　ＦＯＯＴＢＡＬＬＣＬＵＢ　Ｕ－１２",{"$f":"(\"14\")","v":"14"},"MF","下瀬　魁莉","シモセ　カイリ",4,"男子"]
["ＫＩＮＧＳ　ＦＯＯＴＢＡＬＬＣＬＵＢ　Ｕ－１２_15","ＫＩＮＧＳ　ＦＯＯＴＢＡＬＬＣＬＵＢ　Ｕ－１２",{"$f":"(\"15\")","v":"15"},"FW","宮田　柊真","ミヤタ　トウマ",4,"男子"]
["スマイスＦＣ_1","スマイスＦＣ",{"$f":"(\"1\")","v":"1"},"GK","増田　理久","マスダ　リク",4,"男子"]
["スマイスＦＣ_2","スマイスＦＣ",{"$f":"(\"2\")","v":"2"},"DF","山田　桂司","ヤマダ　ケイジ",3,"男子"]
["スマイスＦＣ_3","スマイスＦＣ",{"$f":"(\"3\")","v":"3"},"DF","西林　昴輝","ニシバヤシ　コウキ",4,"男子"]
["スマイスＦＣ_4","スマイスＦＣ",{"$f":"(\"4\")","v":"4"},"DF","吉崎　色和","ヨシザキ　イロハ",4,"女子小学生"]
["スマイスＦＣ_5","スマイスＦＣ",{"$f":"(\"5\")","v":"5"},"FW","西宮　大翔","ニシミヤ　ヒロト",5,"男子"]
["スマイスＦＣ_6","スマイスＦＣ",{"$f":"(\"6\")","v":"6"},"MF","末光　隆晟","スエミツ　リュウセイ",5,"男子"]
["スマイスＦＣ_7","スマイスＦＣ",{"$f":"(\"7\")","v":"7"},"MF","廣松　聖大郎","ヒロマツ　セイタロウ",4,"男子"]
["スマイスＦＣ_8","スマイスＦＣ",{"$f":"(\"8\")","v":"8"},"MF","児玉　颯太","コダマ　ソウタ",4,"男子"]
["スマイスＦＣ_9","スマイスＦＣ",{"$f":"(\"9\")","v":"9"},"MF","石垣　天","イシガキ　ソラ",4,"男子"]
["スマイスＦＣ_10","スマイスＦＣ",{"$f":"(\"10\")","v":"10"},"MF","塩穴　耕太","シオナ　コウタ",4,"男子","○"]
["スマイスＦＣ_11","スマイスＦＣ",{"$f":"(\"11\")","v":"11"},"MF","松谷　和龍","マツタニ　リョウ",4,"男子"]
["スマイスＦＣ_12","スマイスＦＣ",{"$f":"(\"12\")","v":"12"},"FW","杉山　幸史郎","スギヤマ　コウシロウ",4,"男子"]
["スマイスＦＣ_13","スマイスＦＣ",{"$f":"(\"13\")","v":"13"},"FW","髙田　輝裕","タカダ　アキヒロ",5,"男子"]
["スマイスＦＣ_14","スマイスＦＣ",{"$f":"(\"14\")","v":"14"},"MF","髙木　悠翔","タカギ　ユウト",4,"男子"]
["市浜レッドソックス_1","市浜レッドソックス",{"$f":"(\"1\")","v":"1"},"GK","郡田　匠","コオリダ　タクミ",4,"男子"]
["市浜レッドソックス_2","市浜レッドソックス",{"$f":"(\"2\")","v":"2"},"DF","師藤　大輔","シトウ　ダイスケ",4,"男子"]
["市浜レッドソックス_3","市浜レッドソックス",{"$f":"(\"3\")","v":"3"},"FW","衛藤　祥太","エトウ　ショウタ",5,"男子"]
["市浜レッドソックス_4","市浜レッドソックス",{"$f":"(\"4\")","v":"4"},"MF","幸　優翔","ユキ　ユウト",5,"男子"]
["市浜レッドソックス_5","市浜レッドソックス",{"$f":"(\"5\")","v":"5"},"DF","吉良　瑛翔","キラ　エイト",5,"男子"]
["市浜レッドソックス_6","市浜レッドソックス",{"$f":"(\"6\")","v":"6"},"DF","小畑　楓叶","オバタ　フウカイ",5,"男子"]
["市浜レッドソックス_9","市浜レッドソックス",{"$f":"(\"9\")","v":"9"},"MF","穴見　恒輝","アナミ　コウキ",5,"男子","○"]
["市浜レッドソックス_12","市浜レッドソックス",{"$f":"(\"12\")","v":"12"},"FW","五十川　蘭","イカガワ　ラン",5,"女子小学生"]
["市浜レッドソックス_13","市浜レッドソックス",{"$f":"(\"13\")","v":"13"},"FW","小倉　遙隼","オグラ　ハルト",5,"男子"]
["市浜レッドソックス_14","市浜レッドソックス",{"$f":"(\"14\")","v":"14"},"MF","山田　燎明","ヤマダ　リョウメイ",5,"男子"]
["市浜レッドソックス_15","市浜レッドソックス",{"$f":"(\"15\")","v":"15"},"DF","平川　晴貴","ヒラカワ　ハルキ",5,"男子"]
["市浜レッドソックス_16","市浜レッドソックス",{"$f":"(\"16\")","v":"16"},"FW","嶋津　色音","シマヅ　イロト",5,"男子"]
["県央おおのＪＦＣ_2","県央おおのＪＦＣ",{"$f":"(\"2\")","v":"2"},"DF","冨田　伊吹","トミタ　イブキ",4,"男子"]
["県央おおのＪＦＣ_3","県央おおのＪＦＣ",{"$f":"(\"3\")","v":"3"},"MF","足立　希望","アダチ　ノゾム",4,"男子"]
["県央おおのＪＦＣ_4","県央おおのＪＦＣ",{"$f":"(\"4\")","v":"4"},"FW","河辺　光央","カワベ　コオ",4,"男子"]
["県央おおのＪＦＣ_7","県央おおのＪＦＣ",{"$f":"(\"7\")","v":"7"},"MF","宮成　淳也","ミヤナリ　ジュンヤ",5,"男子","○"]
[{"$f":"CONCATENATE(B1217,\"_\",C1217)","v":"県央おおのＪＦＣ_8"},"県央おおのＪＦＣ",{"$f":"(\"8\")","v":"8"},"MF","深田　瑠唯","フカタ　ルイ",5,"女子小学生"]
["県央おおのＪＦＣ_9","県央おおのＪＦＣ",{"$f":"(\"9\")","v":"9"},"DF","宮成　一慎","ミヤナリ　カズマ",5,"男子"]
["県央おおのＪＦＣ_11","県央おおのＪＦＣ",{"$f":"(\"11\")","v":"11"},"MF","仲町　駿祐","ナカマチ　シュンスケ",5,"男子"]
["県央おおのＪＦＣ_12","県央おおのＪＦＣ",{"$f":"(\"12\")","v":"12"},"DF","深田　吏都","フカタ　リツ",2,"男子"]
["県央おおのＪＦＣ_13","県央おおのＪＦＣ",{"$f":"(\"13\")","v":"13"},"FW","小出　海翔","コイデ　カイト",2,"男子"]
["県央おおのＪＦＣ_14","県央おおのＪＦＣ",{"$f":"(\"14\")","v":"14"},"FW","森田　悠司","モリタ　ユウジ",3,"男子"]
["県央おおのＪＦＣ_15","県央おおのＪＦＣ",{"$f":"(\"15\")","v":"15"},"MF","小野　陽斗","オノ　ハルト",4,"男子"]
["県央おおのＪＦＣ_17","県央おおのＪＦＣ",{"$f":"(\"17\")","v":"17"},"GK","矢野　啓","ヤノ　ヒラク",4,"男子"]
["県央おおのＪＦＣ_18","県央おおのＪＦＣ",{"$f":"(\"18\")","v":"18"},"DF","小野　琢磨","オノ　タクマ",4,"男子"]
["ブルーウイングフットボールクラブ_1","ブルーウイングフットボールクラブ",{"$f":"(\"1\")","v":"1"},"GK","紀野　海翔","キノ　カイト",4,"男子"]
["ブルーウイングフットボールクラブ_2","ブルーウイングフットボールクラブ",{"$f":"(\"2\")","v":"2"},"DF","佐々木　陸","ササキ　リク",4,"男子"]
["ブルーウイングフットボールクラブ_3","ブルーウイングフットボールクラブ",{"$f":"(\"3\")","v":"3"},"DF","宮本　陸光","ミヤモト　タカヒロ",5,"男子",null,"北郡坂ノ市サッカースポーツ少年団"]
["ブルーウイングフットボールクラブ_4","ブルーウイングフットボールクラブ",{"$f":"(\"4\")","v":"4"},"FW","平山　洸太","ヒラヤマ　コウタ",5,"男子"]
["ブルーウイングフットボールクラブ_5","ブルーウイングフットボールクラブ",{"$f":"(\"5\")","v":"5"},"DF","渡辺　太観","ワタナベ　タイカン",5,"男子"]
["ブルーウイングフットボールクラブ_6","ブルーウイングフットボールクラブ",{"$f":"(\"6\")","v":"6"},"DF","伊賀　旺甫","イガ　オウスケ",5,"男子"]
["ブルーウイングフットボールクラブ_7","ブルーウイングフットボールクラブ",{"$f":"(\"7\")","v":"7"},"MF","河野　彪駕","カワノ　ヒュウガ",5,"男子",null,"大在サッカースポーツ少年団"]
["ブルーウイングフットボールクラブ_8","ブルーウイングフットボールクラブ",{"$f":"(\"8\")","v":"8"},"MF","藤野　世那","フジノ　セナ",5,"男子"]
["ブルーウイングフットボールクラブ_9","ブルーウイングフットボールクラブ",{"$f":"(\"9\")","v":"9"},"FW","加藤　悠都","カトウ　ユウト",5,"男子"]
["ブルーウイングフットボールクラブ_10","ブルーウイングフットボールクラブ",{"$f":"(\"10\")","v":"10"},"MF","田村　瑛人","タムラ　エイト",5,"男子","○"]
["ブルーウイングフットボールクラブ_11","ブルーウイングフットボールクラブ",{"$f":"(\"11\")","v":"11"},"MF","中道　祐槻","ナカミチ　ユヅキ",5,"男子"]
["ブルーウイングフットボールクラブ_12","ブルーウイングフットボールクラブ",{"$f":"(\"12\")","v":"12"},"GK","向　一志","ムコウ　ヒトシ",4,"男子"]
["ブルーウイングフットボールクラブ_13","ブルーウイングフットボールクラブ",{"$f":"(\"13\")","v":"13"},"DF","岩本　蒼","イワモト　アオイ",4,"男子"]
["ブルーウイングフットボールクラブ_14","ブルーウイングフットボールクラブ",{"$f":"(\"14\")","v":"14"},"MF","菅　光希","スガ　ミツキ",4,"男子"]
["ブルーウイングフットボールクラブ_15","ブルーウイングフットボールクラブ",{"$f":"(\"15\")","v":"15"},"MF","誉田　隼人","ホマレダ　ハヤト",4,"男子"]
["ブルーウイングフットボールクラブ_16","ブルーウイングフットボールクラブ",{"$f":"(\"16\")","v":"16"},"DF","関　航平","セキ　コウヘイ",4,"男子"]
["ブルーウイングフットボールクラブ　Ｂ_1","ブルーウイングフットボールクラブ　Ｂ",{"$f":"(\"1\")","v":"1"},"GK","倉見　澪","クラミ　レイ",5,"男子",null,"大在サッカースポーツ少年団"]
["ブルーウイングフットボールクラブ　Ｂ_2","ブルーウイングフットボールクラブ　Ｂ",{"$f":"(\"2\")","v":"2"},"DF","秋月　太一","アキヅキ　タイチ",4,"男子",null,"ＮＩＦＳ　ＫＡＮＯＹＡ　ＦＣ　Ｕー１２"]
["ブルーウイングフットボールクラブ　Ｂ_3","ブルーウイングフットボールクラブ　Ｂ",{"$f":"(\"3\")","v":"3"},"MF","宮本　歩夢","ミヤモト　アユム",4,"男子"]
["ブルーウイングフットボールクラブ　Ｂ_4","ブルーウイングフットボールクラブ　Ｂ",{"$f":"(\"4\")","v":"4"},"DF","梅尾　俊介","ウメオ　シュンスケ",4,"男子"]
["ブルーウイングフットボールクラブ　Ｂ_5","ブルーウイングフットボールクラブ　Ｂ",{"$f":"(\"5\")","v":"5"},"MF","田羽多　利希亜","タバタ　リキア",4,"男子",null,"大分トリニータタートルズ"]
["ブルーウイングフットボールクラブ　Ｂ_6","ブルーウイングフットボールクラブ　Ｂ",{"$f":"(\"6\")","v":"6"},"FW","島谷　絆人","シマタニ　ハント",5,"男子",null,"大在サッカースポーツ少年団"]
["ブルーウイングフットボールクラブ　Ｂ_7","ブルーウイングフットボールクラブ　Ｂ",{"$f":"(\"7\")","v":"7"},"MF","甲斐　凛太郎","カイ　リンタロウ",4,"男子"]
["ブルーウイングフットボールクラブ　Ｂ_8","ブルーウイングフットボールクラブ　Ｂ",{"$f":"(\"8\")","v":"8"},"DF","中島　虎珀","ナカシマ　コハク",5,"男子"]
["ブルーウイングフットボールクラブ　Ｂ_9","ブルーウイングフットボールクラブ　Ｂ",{"$f":"(\"9\")","v":"9"},"MF","山内　陽太","ヤマウチ　ヨウタ",5,"男子"]
["ブルーウイングフットボールクラブ　Ｂ_10","ブルーウイングフットボールクラブ　Ｂ",{"$f":"(\"10\")","v":"10"},"DF","冨來　晃平","トミキ　コウヘイ",5,"男子","○"]
["ブルーウイングフットボールクラブ　Ｂ_11","ブルーウイングフットボールクラブ　Ｂ",{"$f":"(\"11\")","v":"11"},"FW","足達　蒼介","アダチ　ソウスケ",5,"男子"]
["ブルーウイングフットボールクラブ　Ｂ_12","ブルーウイングフットボールクラブ　Ｂ",{"$f":"(\"12\")","v":"12"},"GK","田口　椋雅","タグチ　リョウガ",4,"男子",null,"大分トリニータタートルズ"]
["ブルーウイングフットボールクラブ　Ｂ_13","ブルーウイングフットボールクラブ　Ｂ",{"$f":"(\"13\")","v":"13"},"MF","篠原　朝來","シノハラ　サク",3,"男子"]
["ブルーウイングフットボールクラブ　Ｂ_14","ブルーウイングフットボールクラブ　Ｂ",{"$f":"(\"14\")","v":"14"},"FW","遠藤　楓牙","エンドウ　フウガ",4,"男子"]
["ブルーウイングフットボールクラブ　Ｂ_15","ブルーウイングフットボールクラブ　Ｂ",{"$f":"(\"15\")","v":"15"},"DF","渡邉　碧斗","ワタナベ　アオト",4,"男子"]
["ブルーウイングフットボールクラブ　Ｂ_16","ブルーウイングフットボールクラブ　Ｂ",{"$f":"(\"16\")","v":"16"},"FW","小野　琥太郎","オノ　コタロウ",4,"男子"]
["ようこくバンビーレＦＣ_1","ようこくバンビーレＦＣ",{"$f":"(\"1\")","v":"1"},"GK","福良　太一","フクラ　タイチ",5,"男子"]
["ようこくバンビーレＦＣ_3","ようこくバンビーレＦＣ",{"$f":"(\"3\")","v":"3"},"DF","宮下　斗真","ミヤシタ　トウマ",5,"男子"]
["ようこくバンビーレＦＣ_4","ようこくバンビーレＦＣ",{"$f":"(\"4\")","v":"4"},"DF","藤川　桃也","フジカワ　トウヤ",5,"男子"]
["ようこくバンビーレＦＣ_5","ようこくバンビーレＦＣ",{"$f":"(\"5\")","v":"5"},"DF","井戸　翔琉","イド　カケル",5,"男子"]
["ようこくバンビーレＦＣ_6","ようこくバンビーレＦＣ",{"$f":"(\"6\")","v":"6"},"MF","大本　理生","オオモト　リオ",5,"男子"]
["ようこくバンビーレＦＣ_7","ようこくバンビーレＦＣ",{"$f":"(\"7\")","v":"7"},"MF","山下　大輔","ヤマシタ　ダイスケ",5,"男子"]
["ようこくバンビーレＦＣ_8","ようこくバンビーレＦＣ",{"$f":"(\"8\")","v":"8"},"MF","河野　陽真","コウノ　ハルマ",5,"男子"]
["ようこくバンビーレＦＣ_9","ようこくバンビーレＦＣ",{"$f":"(\"9\")","v":"9"},"DF","佐藤　晴斗","サトウ　ハルト",5,"男子"]
["ようこくバンビーレＦＣ_11","ようこくバンビーレＦＣ",{"$f":"(\"11\")","v":"11"},"MF","山下　慶人","ヤマシタ　ケイト",5,"男子","○"]
["ようこくバンビーレＦＣ_12","ようこくバンビーレＦＣ",{"$f":"(\"12\")","v":"12"},"FW","松田　慶人","マツダ　ケイト",4,"男子"]
["ようこくバンビーレＦＣ_13","ようこくバンビーレＦＣ",{"$f":"(\"13\")","v":"13"},"FW","前田　陽向","マエダ　ヒナタ",3,"男子"]
["ようこくバンビーレＦＣ_14","ようこくバンビーレＦＣ",{"$f":"(\"14\")","v":"14"},"FW","大本　琉生","オオモト　ルイ",3,"男子"]
["野津ＦＣ_2","野津ＦＣ",{"$f":"(\"2\")","v":"2"},"FW","白根　知紘","シラネ　チヒロ",3,"男子"]
["野津ＦＣ_3","野津ＦＣ",{"$f":"(\"3\")","v":"3"},"MF","福西　勝哉","フクニシ　マサヤ",5,"男子"]
["野津ＦＣ_4","野津ＦＣ",{"$f":"(\"4\")","v":"4"},"DF","柴田　琉生","シバタ　ルイ",5,"男子","○"]
["野津ＦＣ_6","野津ＦＣ",{"$f":"(\"6\")","v":"6"},"DF","神野　隼羽","カミノ　トワ",5,"男子"]
["野津ＦＣ_10","野津ＦＣ",{"$f":"(\"10\")","v":"10"},"MF","河村　大輔","カワムラ　ダイスケ",5,"男子"]
["野津ＦＣ_11","野津ＦＣ",{"$f":"(\"11\")","v":"11"},"MF","川野　晃汰","カワノ　コウタ",5,"男子"]
["野津ＦＣ_12","野津ＦＣ",{"$f":"(\"12\")","v":"12"},"DF","平　光ノ介","ヒラ　コウノスケ",4,"男子"]
["野津ＦＣ_13","野津ＦＣ",{"$f":"(\"13\")","v":"13"},"DF","岡部　安莉","オカベ　アンリ",3,"男子"]
["野津ＦＣ_14","野津ＦＣ",{"$f":"(\"14\")","v":"14"},"MF","吉良　咲耶","キラ　サクヤ",3,"男子"]
["野津ＦＣ_15","野津ＦＣ",{"$f":"(\"15\")","v":"15"},"MF","川野　秀弥","カワノ　シュウヤ",3,"男子"]
["野津ＦＣ_17","野津ＦＣ",{"$f":"(\"17\")","v":"17"},"FW","植田　琉生","ウエダ　ルイ",3,"男子"]
[{"$f":"CONCATENATE(B1281,\"_\",C1281)","v":"野津ＦＣ_21"},"野津ＦＣ",{"$f":"(\"21\")","v":"21"},"GK","流　大智","ミズユキ　ダイチ",3,"男子"]
["野津ＦＣ_29","野津ＦＣ",{"$f":"(\"29\")","v":"29"},"DF","平山　旭","ヒラヤマ　アサヒ",3,"男子"]
["ヴェルスパ大分　Ｕ－１２_1","ヴェルスパ大分　Ｕ－１２",{"$f":"(\"1\")","v":"1"},"GK","大野　遥生","オオノ　ハルキ",5,"男子"]
["ヴェルスパ大分　Ｕ－１２_2","ヴェルスパ大分　Ｕ－１２",{"$f":"(\"2\")","v":"2"},"MF","遠藤　太雅","エンドウ　タイガ",5,"男子"]
["ヴェルスパ大分　Ｕ－１２_3","ヴェルスパ大分　Ｕ－１２",{"$f":"(\"3\")","v":"3"},"DF","桑山　廣大","クワヤマ　コウタ",5,"男子"]
["ヴェルスパ大分　Ｕ－１２_4","ヴェルスパ大分　Ｕ－１２",{"$f":"(\"4\")","v":"4"},"DF","宮川　泰晴","ミヤカワ　タイセイ",5,"男子"]
["ヴェルスパ大分　Ｕ－１２_5","ヴェルスパ大分　Ｕ－１２",{"$f":"(\"5\")","v":"5"},"MF","本城　梛翔","ホンジョウ　ナギト",5,"男子"]
["ヴェルスパ大分　Ｕ－１２_6","ヴェルスパ大分　Ｕ－１２",{"$f":"(\"6\")","v":"6"},"MF","小山　誠人","コヤマ　マコト",5,"男子",null,"大分トリニータタートルズ"]
["ヴェルスパ大分　Ｕ－１２_7","ヴェルスパ大分　Ｕ－１２",{"$f":"(\"7\")","v":"7"},"FW","松垣　蒼空","マツガキ　ソラ",5,"男子"]
["ヴェルスパ大分　Ｕ－１２_8","ヴェルスパ大分　Ｕ－１２",{"$f":"(\"8\")","v":"8"},"FW","石井　瑛登","イシイ　エイト",5,"男子"]
["ヴェルスパ大分　Ｕ－１２_9","ヴェルスパ大分　Ｕ－１２",{"$f":"(\"9\")","v":"9"},"DF","松垣　龍空","マツガキ　リク",4,"男子"]
["ヴェルスパ大分　Ｕ－１２_10","ヴェルスパ大分　Ｕ－１２",{"$f":"(\"10\")","v":"10"},"FW","大庭　圭人","オオバ　ケイト",5,"男子"]
["ヴェルスパ大分　Ｕ－１２_11","ヴェルスパ大分　Ｕ－１２",{"$f":"(\"11\")","v":"11"},"DF","工藤　快翔","クドウ　カイト",4,"男子"]
["ヴェルスパ大分　Ｕ－１２_12","ヴェルスパ大分　Ｕ－１２",{"$f":"(\"12\")","v":"12"},"GK","湯浅　聡","ユアサ　サトル",5,"男子","○"]
["ヴェルスパ大分　Ｕ－１２_13","ヴェルスパ大分　Ｕ－１２",{"$f":"(\"13\")","v":"13"},"DF","江戸　翔哉","エド　ショウヤ",4,"男子"]
["ＦＣ　ＲＥＧＡＴＥ_1","ＦＣ　ＲＥＧＡＴＥ",{"$f":"(\"1\")","v":"1"},"GK","柳井　侑也","ヤナイ　ユウヤ",5,"男子"]
["ＦＣ　ＲＥＧＡＴＥ_2","ＦＣ　ＲＥＧＡＴＥ",{"$f":"(\"2\")","v":"2"},"DF","三木　柊歩","ミキ　シュウト",4,"男子"]
["ＦＣ　ＲＥＧＡＴＥ_3","ＦＣ　ＲＥＧＡＴＥ",{"$f":"(\"3\")","v":"3"},"DF","堺　彩実","サカイ　アヤミ",4,"女子小学生"]
["ＦＣ　ＲＥＧＡＴＥ_4","ＦＣ　ＲＥＧＡＴＥ",{"$f":"(\"4\")","v":"4"},"DF","米田　壮志","ヨネダ　ソウシ",4,"男子",null,"春日ＳＳＳ"]
["ＦＣ　ＲＥＧＡＴＥ_5","ＦＣ　ＲＥＧＡＴＥ",{"$f":"(\"5\")","v":"5"},"DF","池田　瀧矢","イケダ　ソウシ",5,"男子","○"]
["ＦＣ　ＲＥＧＡＴＥ_6","ＦＣ　ＲＥＧＡＴＥ",{"$f":"(\"6\")","v":"6"},"FW","河野　春叶","カワノ　ハルト",4,"男子"]
["ＦＣ　ＲＥＧＡＴＥ_7","ＦＣ　ＲＥＧＡＴＥ",{"$f":"(\"7\")","v":"7"},"MF","後藤　快瑠","ゴトウ　カイル",5,"男子"]
["ＦＣ　ＲＥＧＡＴＥ_8","ＦＣ　ＲＥＧＡＴＥ",{"$f":"(\"8\")","v":"8"},"MF","工藤　蓮大","クドウ　レンタ",5,"男子",null,"春日ＳＳＳ"]
["ＦＣ　ＲＥＧＡＴＥ_9","ＦＣ　ＲＥＧＡＴＥ",{"$f":"(\"9\")","v":"9"},"FW","黒川　薫月","クロカワ　タツキ",5,"男子",null,"碩田サッカースポーツ少年団"]
["ＦＣ　ＲＥＧＡＴＥ_10","ＦＣ　ＲＥＧＡＴＥ",{"$f":"(\"10\")","v":"10"},"MF","藤川　成","フジカワ　ナル",5,"男子",null,"碩田サッカースポーツ少年団"]
["ＦＣ　ＲＥＧＡＴＥ_11","ＦＣ　ＲＥＧＡＴＥ",{"$f":"(\"11\")","v":"11"},"FW","佐藤　稜真","サトウ　リョウマ",5,"男子"]
["ＦＣ　ＲＥＧＡＴＥ_12","ＦＣ　ＲＥＧＡＴＥ",{"$f":"(\"12\")","v":"12"},"FW","森山　佳恒","モリヤマ　ヨシヒサ",3,"男子"]
["ＦＣ　ＲＥＧＡＴＥ_13","ＦＣ　ＲＥＧＡＴＥ",{"$f":"(\"13\")","v":"13"},"FW","佐藤　悠磨","サトウ　ユウマ",3,"男子"]
["ＦＣ　ＲＥＧＡＴＥ_14","ＦＣ　ＲＥＧＡＴＥ",{"$f":"(\"14\")","v":"14"},"DF","西坂　空人","ニシザカ　ソラト",4,"男子"]
["ＦＣ　ＲＥＧＡＴＥ_20","ＦＣ　ＲＥＧＡＴＥ",{"$f":"(\"20\")","v":"20"},"GK","長田　莉旺","ナガタ　リオ",4,"男子"]
["大分トリニータタートルズ　キング_1","大分トリニータタートルズ　キング",{"$f":"(\"1\")","v":"1"},"GK","後藤　旺太","ゴトウ　オウタ",5,"男子"]
["大分トリニータタートルズ　キング_2","大分トリニータタートルズ　キング",{"$f":"(\"2\")","v":"2"},"MF","栗本　真帆","クリモト　マホ",5,"女子小学生"]
["大分トリニータタートルズ　キング_3","大分トリニータタートルズ　キング",{"$f":"(\"3\")","v":"3"},"DF","麻生　凱斗","アソウ　カイト",5,"男子"]
["大分トリニータタートルズ　キング_4","大分トリニータタートルズ　キング",{"$f":"(\"4\")","v":"4"},"FW","小松　俊介","コマツ　シュンスケ",5,"男子"]
["大分トリニータタートルズ　キング_5","大分トリニータタートルズ　キング",{"$f":"(\"5\")","v":"5"},"DF","佐藤　稜悟","サトウ　リョウゴ",5,"男子"]
["大分トリニータタートルズ　キング_6","大分トリニータタートルズ　キング",{"$f":"(\"6\")","v":"6"},"DF","三宮　直人","サンノミヤ　ナオト",5,"男子"]
["大分トリニータタートルズ　キング_7","大分トリニータタートルズ　キング",{"$f":"(\"7\")","v":"7"},"MF","藤野　和馬","フジノ　カズマ",5,"男子"]
["大分トリニータタートルズ　キング_8","大分トリニータタートルズ　キング",{"$f":"(\"8\")","v":"8"},"DF","藤本　英太郎","フジモト　エイタロウ",5,"男子"]
["大分トリニータタートルズ　キング_9","大分トリニータタートルズ　キング",{"$f":"(\"9\")","v":"9"},"FW","谷川　颯太","タニガワ　ソウタ",5,"男子"]
["大分トリニータタートルズ　キング_10","大分トリニータタートルズ　キング",{"$f":"(\"10\")","v":"10"},"MF","矢野　壮太郎","ヤノ　ソウタロウ",5,"男子","○"]
["大分トリニータタートルズ　キング_12","大分トリニータタートルズ　キング",{"$f":"(\"12\")","v":"12"},"GK","野上　泰雅","ノガミ　タイガ",5,"男子"]
["大分トリニータタートルズ　キング_13","大分トリニータタートルズ　キング",{"$f":"(\"13\")","v":"13"},"FW","諏訪　要","スワ　カナメ",4,"男子"]
["大分トリニータタートルズ　キング_14","大分トリニータタートルズ　キング",{"$f":"(\"14\")","v":"14"},"MF","橋本　万璃","ハシモト　バンリ",4,"男子"]
["大分トリニータタートルズ　キング_15","大分トリニータタートルズ　キング",{"$f":"(\"15\")","v":"15"},"FW","宮部　桔平","ミヤベ　キッペイ",4,"男子"]
["大分トリニータタートルズ　ウルトラ_1","大分トリニータタートルズ　ウルトラ",{"$f":"(\"1\")","v":"1"},"GK","伊東　俊紀","イトウ　トシキ",4,"男子"]
["大分トリニータタートルズ　ウルトラ_2","大分トリニータタートルズ　ウルトラ",{"$f":"(\"2\")","v":"2"},"DF","田尻　真路","タジリ　マサミチ",4,"男子"]
["大分トリニータタートルズ　ウルトラ_3","大分トリニータタートルズ　ウルトラ",{"$f":"(\"3\")","v":"3"},"DF","小林　央宜","コバヤシ　オウキ",4,"男子"]
["大分トリニータタートルズ　ウルトラ_4","大分トリニータタートルズ　ウルトラ",{"$f":"(\"4\")","v":"4"},"MF","後藤　和貴","ゴトウ　カズキ",4,"男子"]
["大分トリニータタートルズ　ウルトラ_5","大分トリニータタートルズ　ウルトラ",{"$f":"(\"5\")","v":"5"},"FW","高倉　怜臣","タカクラ　レオ",4,"男子"]
["大分トリニータタートルズ　ウルトラ_6","大分トリニータタートルズ　ウルトラ",{"$f":"(\"6\")","v":"6"},"DF","大原　瑠斗","オオハラ　リュウト",5,"男子",null,"リノスフットボールクラブ　Ｕ－１２"]
["大分トリニータタートルズ　ウルトラ_7","大分トリニータタートルズ　ウルトラ",{"$f":"(\"7\")","v":"7"},"MF","三浦　蓮美","ミウラ　ハスミ",5,"男子"]
["大分トリニータタートルズ　ウルトラ_8","大分トリニータタートルズ　ウルトラ",{"$f":"(\"8\")","v":"8"},"FW","久野　隆貴","ヒサノ　リュウキ",5,"男子"]
["大分トリニータタートルズ　ウルトラ_9","大分トリニータタートルズ　ウルトラ",{"$f":"(\"9\")","v":"9"},"FW","中野　祥汰","ナカノ　ショウタ",5,"男子"]
["大分トリニータタートルズ　ウルトラ_10","大分トリニータタートルズ　ウルトラ",{"$f":"(\"10\")","v":"10"},"MF","河津　侑真","カワズ　ユウマ",5,"男子","○"]
["大分トリニータタートルズ　ウルトラ_11","大分トリニータタートルズ　ウルトラ",{"$f":"(\"11\")","v":"11"},"FW","石﨑　瑛大","イシザキ　アキヒロ",4,"男子",null,"スマイス　セレソン　スポーツクラブ"]
["大分トリニータタートルズ　ウルトラ_12","大分トリニータタートルズ　ウルトラ",{"$f":"(\"12\")","v":"12"},"MF","諌山　永遠","イサヤマ　トワ",5,"男子"]
["大分トリニータタートルズ　ウルトラ_13","大分トリニータタートルズ　ウルトラ",{"$f":"(\"13\")","v":"13"},"FW","井上　楓斗","イノウエ　カイト",4,"男子"]
["大分トリニータタートルズ　ウルトラ_14","大分トリニータタートルズ　ウルトラ",{"$f":"(\"14\")","v":"14"},"MF","河野　祐生","カワノ　ユウ",4,"男子"]
["大分トリニータタートルズ　ウルトラ_15","大分トリニータタートルズ　ウルトラ",{"$f":"(\"15\")","v":"15"},"MF","伊藤　結兜","イトウ　ユイト",4,"男子"]
["大分トリニータタートルズ　ウルトラ_16","大分トリニータタートルズ　ウルトラ",{"$f":"(\"16\")","v":"16"},"MF","本村　湊士","モトムラ　ミナト",4,"男子"]
["鶴崎ＳＳＳ_1","鶴崎ＳＳＳ",{"$f":"(\"1\")","v":"1"},"GK","田村　知樹","タムラ　トモキ",5,"男子"]
["鶴崎ＳＳＳ_2","鶴崎ＳＳＳ",{"$f":"(\"2\")","v":"2"},"FW","山﨑　旦","ヤマサキ　タン",2,"男子"]
["鶴崎ＳＳＳ_3","鶴崎ＳＳＳ",{"$f":"(\"3\")","v":"3"},"FW","阿部　太陽","アベ　タイヨウ",2,"男子"]
["鶴崎ＳＳＳ_4","鶴崎ＳＳＳ",{"$f":"(\"4\")","v":"4"},"FW","竹永　絆人","タケナガ　ハント",2,"男子"]
[{"$f":"CONCATENATE(B1345,\"_\",C1345)","v":"鶴崎ＳＳＳ_5"},"鶴崎ＳＳＳ",{"$f":"(\"5\")","v":"5"},"FW","幸　彩加","ユキ　アヤカ",2,"女子小学生"]
["鶴崎ＳＳＳ_6","鶴崎ＳＳＳ",{"$f":"(\"6\")","v":"6"},"FW","後藤　将太","ゴトウ　ショウタ",2,"男子"]
["鶴崎ＳＳＳ_7","鶴崎ＳＳＳ",{"$f":"(\"7\")","v":"7"},"DF","石田　玲凰","イシダ　レオ",4,"男子"]
["鶴崎ＳＳＳ_8","鶴崎ＳＳＳ",{"$f":"(\"8\")","v":"8"},"DF","高岡　聖生","タカオカ　イブキ",4,"男子"]
["鶴崎ＳＳＳ_9","鶴崎ＳＳＳ",{"$f":"(\"9\")","v":"9"},"FW","阿部　結太朗","アベ　ユイタロウ",2,"男子"]
["鶴崎ＳＳＳ_10","鶴崎ＳＳＳ",{"$f":"(\"10\")","v":"10"},"MF","幸　大斗","ユキ　ダイト",5,"男子","○"]
["鶴崎ＳＳＳ_11","鶴崎ＳＳＳ",{"$f":"(\"11\")","v":"11"},"MF","河合　奏風","カアイ　カナタ",5,"男子"]
["鶴崎ＳＳＳ_12","鶴崎ＳＳＳ",{"$f":"(\"12\")","v":"12"},"FW","姫野　雅楽","ヒメノ　ウタ",1,"男子"]
["鶴崎ＳＳＳ_13","鶴崎ＳＳＳ",{"$f":"(\"13\")","v":"13"},"FW","鮫島　諒成","サメジマ　リョウセイ",1,"男子"]
["鶴崎ＳＳＳ_16","鶴崎ＳＳＳ",{"$f":"(\"16\")","v":"16"},"GK","後藤　大輝","ゴトウ　ダイキ",5,"男子"]
["ティエラフットボールクラブＵ－１２_1","ティエラフットボールクラブＵ－１２",{"$f":"(\"1\")","v":"1"},"GK","松山　朔也","マツヤ　サクヤ",4,"男子"]
["ティエラフットボールクラブＵ－１２_4","ティエラフットボールクラブＵ－１２",{"$f":"(\"4\")","v":"4"},"MF","溝口　颯士","ミゾグチ　ソウシ",3,"男子"]
["ティエラフットボールクラブＵ－１２_9","ティエラフットボールクラブＵ－１２",{"$f":"(\"9\")","v":"9"},"FW","瀬戸　夢人","セト　ユメト",4,"男子"]
["ティエラフットボールクラブＵ－１２_11","ティエラフットボールクラブＵ－１２",{"$f":"(\"11\")","v":"11"},"FW","ミュージアル　晄亜","ミュージアル　コア",5,"男子"]
["ティエラフットボールクラブＵ－１２_15","ティエラフットボールクラブＵ－１２",{"$f":"(\"15\")","v":"15"},"MF","里脇　絆","サトワキ　キズナ",4,"男子"]
["ティエラフットボールクラブＵ－１２_18","ティエラフットボールクラブＵ－１２",{"$f":"(\"18\")","v":"18"},"DF","日高　佑晴","ヒダカ　ユウセイ",4,"男子"]
["ティエラフットボールクラブＵ－１２_20","ティエラフットボールクラブＵ－１２",{"$f":"(\"20\")","v":"20"},"DF","近藤　幹太","コンドウ　カンタ",3,"男子"]
["ティエラフットボールクラブＵ－１２_21","ティエラフットボールクラブＵ－１２",{"$f":"(\"21\")","v":"21"},"MF","小川　真拓","オガワ　マサヒロ",4,"男子"]
["ティエラフットボールクラブＵ－１２_22","ティエラフットボールクラブＵ－１２",{"$f":"(\"22\")","v":"22"},"DF","西耒路　隼也","サイライジ　シュンヤ",5,"男子","○"]
["ティエラフットボールクラブＵ－１２_24","ティエラフットボールクラブＵ－１２",{"$f":"(\"24\")","v":"24"},"MF","谷口　水音","タニグチ　ミナト",4,"男子"]
["ティエラフットボールクラブＵ－１２_35","ティエラフットボールクラブＵ－１２",{"$f":"(\"35\")","v":"35"},"FW","高田　光明","タカダ　コウメイ",5,"男子"]
["ティエラフットボールクラブＵ－１２_37","ティエラフットボールクラブＵ－１２",{"$f":"(\"37\")","v":"37"},"MF","乙女　楓太","オトメ　フウタ",3,"男子"]
["スマイス日出_1","スマイス日出",{"$f":"(\"1\")","v":"1"},"GK","堀　健琉","ホリ　タケル",5,"男子",null,"きつきＦＣ"]
["スマイス日出_3","スマイス日出",{"$f":"(\"3\")","v":"3"},"MF","清水　煌太","シミズ　コウタ",5,"男子"]
["スマイス日出_4","スマイス日出",{"$f":"(\"4\")","v":"4"},"MF","大村　星和","オオムラ　セナ",5,"男子"]
["スマイス日出_6","スマイス日出",{"$f":"(\"6\")","v":"6"},"FW","重松　裕人","シゲマツ　ユウト",5,"男子"]
["スマイス日出_7","スマイス日出",{"$f":"(\"7\")","v":"7"},"DF","秦　友起","ハタ　ユウキ",5,"男子"]
["スマイス日出_8","スマイス日出",{"$f":"(\"8\")","v":"8"},"MF","吉岡　大悟","ヨシオカ　ダイゴ",5,"男子"]
["スマイス日出_9","スマイス日出",{"$f":"(\"9\")","v":"9"},"FW","佐藤　寛太","サトウ　カンタ",5,"男子"]
["スマイス日出_10","スマイス日出",{"$f":"(\"10\")","v":"10"},"MF","藤井　晴斗","フジイ　ハルト",5,"男子","○"]
["スマイス日出_11","スマイス日出",{"$f":"(\"11\")","v":"11"},"MF","碇山　大貴","イカリヤマ　ダイキ",4,"男子"]
["スマイス日出_16","スマイス日出",{"$f":"(\"16\")","v":"16"},"DF","阿部　颯太","アベ　ソウタ",5,"男子"]
["ＦＣ　ＵＮＩＴＥ_1","ＦＣ　ＵＮＩＴＥ",{"$f":"(\"1\")","v":"1"},"GK","磯田　葵","イソダ　アオイ",5,"男子"]
["ＦＣ　ＵＮＩＴＥ_2","ＦＣ　ＵＮＩＴＥ",{"$f":"(\"2\")","v":"2"},"DF","中島　達成","ナカシマ　タツナリ",3,"男子"]
["ＦＣ　ＵＮＩＴＥ_3","ＦＣ　ＵＮＩＴＥ",{"$f":"(\"3\")","v":"3"},"FW","矢野　美虹","ヤノ　ミコ",4,"女子小学生"]
["ＦＣ　ＵＮＩＴＥ_4","ＦＣ　ＵＮＩＴＥ",{"$f":"(\"4\")","v":"4"},"FW","矢野　海美","ヤノ　ウミ",4,"女子小学生"]
["ＦＣ　ＵＮＩＴＥ_5","ＦＣ　ＵＮＩＴＥ",{"$f":"(\"5\")","v":"5"},"FW","中島　桜雅","ナカシマ　オウガ",3,"男子"]
["ＦＣ　ＵＮＩＴＥ_6","ＦＣ　ＵＮＩＴＥ",{"$f":"(\"6\")","v":"6"},"DF","加藤　茉梨百","カトウ　マリモ",4,"女子小学生"]
["ＦＣ　ＵＮＩＴＥ_7","ＦＣ　ＵＮＩＴＥ",{"$f":"(\"7\")","v":"7"},"DF","時枝　依吹","トキエダ　イブキ",5,"男子"]
["ＦＣ　ＵＮＩＴＥ_8","ＦＣ　ＵＮＩＴＥ",{"$f":"(\"8\")","v":"8"},"DF","石見　絆騎","イシミ　ツナキ",5,"男子"]
["ＦＣ　ＵＮＩＴＥ_9","ＦＣ　ＵＮＩＴＥ",{"$f":"(\"9\")","v":"9"},"MF","中島　大雅","ナカシマ　タイガ",5,"男子"]
["ＦＣ　ＵＮＩＴＥ_10","ＦＣ　ＵＮＩＴＥ",{"$f":"(\"10\")","v":"10"},"MF","末弘　俊晶","スエヒロ　トシアキ",5,"男子","○"]
["ＦＣ　ＵＮＩＴＥ_11","ＦＣ　ＵＮＩＴＥ",{"$f":"(\"11\")","v":"11"},"MF","橋本　陽馬","ハシモト　ハルマ",5,"男子"]
["ＦＣ　ＵＮＩＴＥ_13","ＦＣ　ＵＮＩＴＥ",{"$f":"(\"13\")","v":"13"},"FW","稲葉　悠貴","イナバ　ユウキ",4,"男子"]
["太陽スポーツクラブ大分西_1","太陽スポーツクラブ大分西",{"$f":"(\"1\")","v":"1"},"GK","久保﨑　兆","クボサキ　キザシ",5,"男子"]
["太陽スポーツクラブ大分西_2","太陽スポーツクラブ大分西",{"$f":"(\"2\")","v":"2"},"MF","石谷　柚太郎","イシタニ　ユウタロウ",5,"男子"]
["太陽スポーツクラブ大分西_3","太陽スポーツクラブ大分西",{"$f":"(\"3\")","v":"3"},"MF","髙村　陽太","タカムラ　ヨウタ",4,"男子"]
["太陽スポーツクラブ大分西_5","太陽スポーツクラブ大分西",{"$f":"(\"5\")","v":"5"},"DF","矢幡　陸","ヤハタ　リク",4,"男子"]
["太陽スポーツクラブ大分西_6","太陽スポーツクラブ大分西",{"$f":"(\"6\")","v":"6"},"DF","金子　将大","カネコ　ショウタ",5,"男子"]
["太陽スポーツクラブ大分西_7","太陽スポーツクラブ大分西",{"$f":"(\"7\")","v":"7"},"FW","坂本　帆那","サカモト　ハンナ",4,"男子"]
["太陽スポーツクラブ大分西_8","太陽スポーツクラブ大分西",{"$f":"(\"8\")","v":"8"},"FW","伊藤　凛人","イトウ　リント",5,"男子","○"]
["太陽スポーツクラブ大分西_9","太陽スポーツクラブ大分西",{"$f":"(\"9\")","v":"9"},"FW","千原　仁斗","チハラ　ジント",4,"男子"]
["太陽スポーツクラブ大分西_11","太陽スポーツクラブ大分西",{"$f":"(\"11\")","v":"11"},"MF","坂本　悠虎","サカモト　ハルト",5,"男子"]
["太陽スポーツクラブ大分西_12","太陽スポーツクラブ大分西",{"$f":"(\"12\")","v":"12"},"MF","堀田　徠亜","ホリタ　ライア",5,"男子"]
["太陽スポーツクラブ大分西_13","太陽スポーツクラブ大分西",{"$f":"(\"13\")","v":"13"},"FW","中尾　栄都","ナカオ　ハルト",4,"男子"]
["太陽スポーツクラブ大分西_14","太陽スポーツクラブ大分西",{"$f":"(\"14\")","v":"14"},"DF","大道　琉生","オオミチ　リュウセイ",5,"男子"]
["太陽スポーツクラブ大分西_15","太陽スポーツクラブ大分西",{"$f":"(\"15\")","v":"15"},"FW","黒木　陸叶","クロキ　リクト",5,"男子"]
["太陽スポーツクラブ大分西_16","太陽スポーツクラブ大分西",{"$f":"(\"16\")","v":"16"},"GK","山本　涼介","ヤマモト　リョウスケ",4,"男子"]
["太陽スポーツクラブ大分西_18","太陽スポーツクラブ大分西",{"$f":"(\"18\")","v":"18"},"DF","足立　皇清","アダチ　コウセイ",4,"男子"]
["横瀬西ＦＣ．ＲｏｓａＣｌａｒｏ_1","横瀬西ＦＣ．ＲｏｓａＣｌａｒｏ",{"$f":"(\"1\")","v":"1"},"GK","吉良　真翔","キラ　マナト",4,"男子"]
["横瀬西ＦＣ．ＲｏｓａＣｌａｒｏ_2","横瀬西ＦＣ．ＲｏｓａＣｌａｒｏ",{"$f":"(\"2\")","v":"2"},"FW","後藤　依知花","ゴトウ　イチカ",3,"女子小学生"]
["横瀬西ＦＣ．ＲｏｓａＣｌａｒｏ_3","横瀬西ＦＣ．ＲｏｓａＣｌａｒｏ",{"$f":"(\"3\")","v":"3"},"MF","伊藤　舜狼","イトウ　シュンラン",4,"男子"]
["横瀬西ＦＣ．ＲｏｓａＣｌａｒｏ_4","横瀬西ＦＣ．ＲｏｓａＣｌａｒｏ",{"$f":"(\"4\")","v":"4"},"FW","森崎　祐輝","モリサキ　ユウキ",4,"男子"]
["横瀬西ＦＣ．ＲｏｓａＣｌａｒｏ_5","横瀬西ＦＣ．ＲｏｓａＣｌａｒｏ",{"$f":"(\"5\")","v":"5"},"MF","森崎　聖菜","モリサキ　セイナ",4,"女子小学生"]
[{"$f":"CONCATENATE(B1409,\"_\",C1409)","v":"横瀬西ＦＣ．ＲｏｓａＣｌａｒｏ_6"},"横瀬西ＦＣ．ＲｏｓａＣｌａｒｏ",{"$f":"(\"6\")","v":"6"},"DF","後藤　謙太","ゴトウ　ケンタ",4,"男子"]
["横瀬西ＦＣ．ＲｏｓａＣｌａｒｏ_7","横瀬西ＦＣ．ＲｏｓａＣｌａｒｏ",{"$f":"(\"7\")","v":"7"},"DF","荻本　琉煌","オギモト　リオン",5,"男子","○"]
["横瀬西ＦＣ．ＲｏｓａＣｌａｒｏ_8","横瀬西ＦＣ．ＲｏｓａＣｌａｒｏ",{"$f":"(\"8\")","v":"8"},"MF","徳重　宗太","トクシゲ　ソウタ",5,"男子"]
["横瀬西ＦＣ．ＲｏｓａＣｌａｒｏ_12","横瀬西ＦＣ．ＲｏｓａＣｌａｒｏ",{"$f":"(\"12\")","v":"12"},"FW","佐藤　翔","サトウ　タケル",5,"男子"]
["横瀬西ＦＣ．ＲｏｓａＣｌａｒｏ_13","横瀬西ＦＣ．ＲｏｓａＣｌａｒｏ",{"$f":"(\"13\")","v":"13"},"DF","後藤　舜太","ゴトウ　シュンタ",5,"男子"]
["横瀬西ＦＣ．ＲｏｓａＣｌａｒｏ_14","横瀬西ＦＣ．ＲｏｓａＣｌａｒｏ",{"$f":"(\"14\")","v":"14"},"MF","小石　宗太郎","コイシ　ソウタロウ",5,"男子"]
["横瀬西ＦＣ．ＲｏｓａＣｌａｒｏ_15","横瀬西ＦＣ．ＲｏｓａＣｌａｒｏ",{"$f":"(\"15\")","v":"15"},"GK","河野　晃也","カワノ　テルヤ",4,"男子"]
["Ｍ．Ｓ．Ｓ_1","Ｍ．Ｓ．Ｓ",{"$f":"(\"1\")","v":"1"},"GK","湯田　王士","ユダ　オウジ",5,"男子"]
["Ｍ．Ｓ．Ｓ_3","Ｍ．Ｓ．Ｓ",{"$f":"(\"3\")","v":"3"},"DF","兼田　毅竜","カネダ　キリュウ",5,"男子"]
["Ｍ．Ｓ．Ｓ_4","Ｍ．Ｓ．Ｓ",{"$f":"(\"4\")","v":"4"},"DF","河野　真幸","カワノ　サネユキ",5,"男子"]
["Ｍ．Ｓ．Ｓ_5","Ｍ．Ｓ．Ｓ",{"$f":"(\"5\")","v":"5"},"DF","髙橋　悠真","タカハシ　ユウマ",5,"男子",null,"八幡サッカースポーツ少年団"]
["Ｍ．Ｓ．Ｓ_6","Ｍ．Ｓ．Ｓ",{"$f":"(\"6\")","v":"6"},"DF","高山　尚大","タカヤマ　ナオヒロ",5,"男子"]
["Ｍ．Ｓ．Ｓ_7","Ｍ．Ｓ．Ｓ",{"$f":"(\"7\")","v":"7"},"FW","末廣　虎太郎","スエヒロ　コタロウ",5,"男子",null,"きつきＦＣ"]
["Ｍ．Ｓ．Ｓ_8","Ｍ．Ｓ．Ｓ",{"$f":"(\"8\")","v":"8"},"MF","河野　蒼祐","カワノ　ソウスケ",4,"男子",null,"大分トリニータタートルズ"]
["Ｍ．Ｓ．Ｓ_9","Ｍ．Ｓ．Ｓ",{"$f":"(\"9\")","v":"9"},"FW","大住　拓真","オオスミ　タクマ",5,"男子","○"]
["Ｍ．Ｓ．Ｓ_10","Ｍ．Ｓ．Ｓ",{"$f":"(\"10\")","v":"10"},"MF","三浦　幹太","ミウラ　カンタ",3,"男子"]
["Ｍ．Ｓ．Ｓ_11","Ｍ．Ｓ．Ｓ",{"$f":"(\"11\")","v":"11"},"DF","二宮　励斗","ニノミヤ　レイト",5,"男子"]
["Ｍ．Ｓ．Ｓ_12","Ｍ．Ｓ．Ｓ",{"$f":"(\"12\")","v":"12"},"DF","坂本　航大","サカモト　コウタ",5,"男子"]
["Ｍ．Ｓ．Ｓ_13","Ｍ．Ｓ．Ｓ",{"$f":"(\"13\")","v":"13"},"MF","安藤　朱生","アンドウ　シュウ",4,"男子"]
["Ｍ．Ｓ．Ｓ_14","Ｍ．Ｓ．Ｓ",{"$f":"(\"14\")","v":"14"},"MF","羽生　悠真","ハブ　ユウマ",4,"男子"]
["Ｍ．Ｓ．Ｓ_15","Ｍ．Ｓ．Ｓ",{"$f":"(\"15\")","v":"15"},"MF","福田　悠之助","フクダ　ユウノスケ",4,"男子",null,"滝尾下郡サッカースポーツ少年団"]
["Ｍ．Ｓ．Ｓ_16","Ｍ．Ｓ．Ｓ",{"$f":"(\"16\")","v":"16"},"GK","上野　壮琉","ウエノ　タケル",5,"男子",null,"城東サッカースポーツ少年団"]
["Ｍ．Ｓ．Ｓ_18","Ｍ．Ｓ．Ｓ",{"$f":"(\"18\")","v":"18"},"DF","安東　暖人","アンドウ　ハルト",4,"男子"]
["豊川サッカークラブ_1","豊川サッカークラブ",{"$f":"(\"1\")","v":"1"},"GK","清永　龍臣","キヨナガ　タツオミ",4,"男子"]
["豊川サッカークラブ_2","豊川サッカークラブ",{"$f":"(\"2\")","v":"2"},"MF","岩男　蘭","イワオ　ラン",5,"女子小学生"]
["豊川サッカークラブ_3","豊川サッカークラブ",{"$f":"(\"3\")","v":"3"},"DF","松原　璃央","マツバラ　リオ",5,"男子"]
["豊川サッカークラブ_4","豊川サッカークラブ",{"$f":"(\"4\")","v":"4"},"FW","中原　晴生","ナカハラ　ハルキ",3,"男子"]
["豊川サッカークラブ_5","豊川サッカークラブ",{"$f":"(\"5\")","v":"5"},"MF","井ノ口　菫","イノクチ　スミレ",3,"女子小学生"]
["豊川サッカークラブ_6","豊川サッカークラブ",{"$f":"(\"6\")","v":"6"},"MF","岡部　聖来","オカベ　セラ",2,"男子"]
["豊川サッカークラブ_9","豊川サッカークラブ",{"$f":"(\"9\")","v":"9"},"DF","井ノ口　新","イノクチ　アラタ",5,"男子","○"]
["豊川サッカークラブ_11","豊川サッカークラブ",{"$f":"(\"11\")","v":"11"},"MF","小野　琉煌亜","オノ　ルキア",4,"男子"]
["リノスフットボールクラブ　Ｕ－１２_20","リノスフットボールクラブ　Ｕ－１２",{"$f":"(\"20\")","v":"20"},"MF","藤田　直斗","フジタ　ナオト",5,"男子",null,"ＭＳＳ"]
["リノスフットボールクラブ　Ｕ－１２_25","リノスフットボールクラブ　Ｕ－１２",{"$f":"(\"25\")","v":"25"},"DF","赤石　昂輝","アカイシ　コウキ",4,"男子"]
["リノスフットボールクラブ　Ｕ－１２_26","リノスフットボールクラブ　Ｕ－１２",{"$f":"(\"26\")","v":"26"},"DF","三浦　健","ミウラ　タケル",4,"男子"]
["リノスフットボールクラブ　Ｕ－１２_29","リノスフットボールクラブ　Ｕ－１２",{"$f":"(\"29\")","v":"29"},"GK","家股　麟太郎","ヤマタ　リンタロウ",5,"男子"]
["リノスフットボールクラブ　Ｕ－１２_32","リノスフットボールクラブ　Ｕ－１２",{"$f":"(\"32\")","v":"32"},"FW","西山　支庵","ニシヤマ　ジアン",3,"男子"]
["リノスフットボールクラブ　Ｕ－１２_35","リノスフットボールクラブ　Ｕ－１２",{"$f":"(\"35\")","v":"35"},"DF","小泉　杏奈","コイズミ　アンナ",5,"女子小学生","○","横瀬西ＳＦＣ"]
["リノスフットボールクラブ　Ｕ－１２_42","リノスフットボールクラブ　Ｕ－１２",{"$f":"(\"42\")","v":"42"},"FW","酒井　彩海","サカイ　アヤト",5,"男子"]
["リノスフットボールクラブ　Ｕ－１２_45","リノスフットボールクラブ　Ｕ－１２",{"$f":"(\"45\")","v":"45"},"MF","川端　翼惺","カワバタ　エルト",5,"男子",null,"スマイス　セレソン　スポーツクラブ"]
["リノスフットボールクラブ　Ｕ－１２_46","リノスフットボールクラブ　Ｕ－１２",{"$f":"(\"46\")","v":"46"},"MF","西村　純平","ニシムラ　ジュンペイ",4,"男子"]
["リノスフットボールクラブ　Ｕ－１２_48","リノスフットボールクラブ　Ｕ－１２",{"$f":"(\"48\")","v":"48"},"MF","川野　有翔","カワノ　ユウショウ",4,"男子",null,"ヴェルスパ大分　Ｕ－１２"]
["リノスフットボールクラブ　Ｕ－１２_52","リノスフットボールクラブ　Ｕ－１２",{"$f":"(\"52\")","v":"52"},"DF","橋本　竜人","ハシモト　リュウト",3,"男子"]
["リノスフットボールクラブ　Ｕ－１２_53","リノスフットボールクラブ　Ｕ－１２",{"$f":"(\"53\")","v":"53"},"MF","大茂　蓮人","オオシゲ　レント",4,"男子",null,"大分トリニータタートルズ"]
["リノスフットボールクラブ　Ｕ－１２_56","リノスフットボールクラブ　Ｕ－１２",{"$f":"(\"56\")","v":"56"},"FW","大久保　翔太朗","オオクボ　ショウタロウ",5,"男子",null,"荏隈サッカースポーツ少年団"]
["朝日ＦＣ_1","朝日ＦＣ",{"$f":"(\"1\")","v":"1"},"GK","安部　湧貴","アベ　ユウキ",5,"男子"]
["朝日ＦＣ_2","朝日ＦＣ",{"$f":"(\"2\")","v":"2"},"MF","窪　紗幸","クボ　サユキ",5,"女子小学生"]
["朝日ＦＣ_3","朝日ＦＣ",{"$f":"(\"3\")","v":"3"},"DF","平川　怜","ヒラカワ　レイ",4,"男子"]
["朝日ＦＣ_4","朝日ＦＣ",{"$f":"(\"4\")","v":"4"},"MF","吉水　小夏","ヨシミズ　コナツ",4,"女子小学生"]
["朝日ＦＣ_5","朝日ＦＣ",{"$f":"(\"5\")","v":"5"},"MF","加藤　慶悟","カトウ　ケイゴ",3,"男子"]
["朝日ＦＣ_7","朝日ＦＣ",{"$f":"(\"7\")","v":"7"},"MF","立花　由弥","タチバナ　ユイヤ",3,"男子"]
["朝日ＦＣ_8","朝日ＦＣ",{"$f":"(\"8\")","v":"8"},"DF","北林　凛成","キタバヤシ　リンセイ",5,"男子"]
["朝日ＦＣ_9","朝日ＦＣ",{"$f":"(\"9\")","v":"9"},"MF","安波　進之介","ヤスナミ　シンノスケ",4,"男子"]
["朝日ＦＣ_12","朝日ＦＣ",{"$f":"(\"12\")","v":"12"},"FW","鈴木　奏志","スズキ　ソウシ",5,"男子","○"]
["朝日ＦＣ_13","朝日ＦＣ",{"$f":"(\"13\")","v":"13"},"MF","河野　優斗","コウノ　ユウト",4,"男子"]
["朝日ＦＣ_14","朝日ＦＣ",{"$f":"(\"14\")","v":"14"},"MF","清水　遼","シミズ　リョウ",3,"男子"]
["朝日ＦＣ_15","朝日ＦＣ",{"$f":"(\"15\")","v":"15"},"DF","内田　翔貴","ウチダ　ショウキ",5,"男子"]
["スマイス　セレソン　スポーツクラブ_1","スマイス　セレソン　スポーツクラブ",{"$f":"(\"1\")","v":"1"},"GK","青松　蒼空","アオマツ　ソラ",5,"男子"]
["スマイス　セレソン　スポーツクラブ_2","スマイス　セレソン　スポーツクラブ",{"$f":"(\"2\")","v":"2"},"DF","大石　楓太","オオイシ　フウタ",5,"男子","○"]
["スマイス　セレソン　スポーツクラブ_3","スマイス　セレソン　スポーツクラブ",{"$f":"(\"3\")","v":"3"},"MF","桑原　一護","クワハラ　イチゴ",4,"男子",null,"稙田ＦＣサッカースポーツ少年団"]
["スマイス　セレソン　スポーツクラブ_4","スマイス　セレソン　スポーツクラブ",{"$f":"(\"4\")","v":"4"},"MF","竹中　啓悟","タケナカ　ケイゴ",5,"男子"]
["スマイス　セレソン　スポーツクラブ_5","スマイス　セレソン　スポーツクラブ",{"$f":"(\"5\")","v":"5"},"DF","安倍　孝輝","アベ　コウキ",5,"男子"]
["スマイス　セレソン　スポーツクラブ_6","スマイス　セレソン　スポーツクラブ",{"$f":"(\"6\")","v":"6"},"DF","荒井　応生","アライ　オウセイ",5,"男子",null,"大分トリニータタートルズ"]
["スマイス　セレソン　スポーツクラブ_7","スマイス　セレソン　スポーツクラブ",{"$f":"(\"7\")","v":"7"},"MF","中川　侑哉","ナカガワ　ユウヤ",5,"男子"]
["スマイス　セレソン　スポーツクラブ_8","スマイス　セレソン　スポーツクラブ",{"$f":"(\"8\")","v":"8"},"MF","清原　大雅","キヨハラ　タイガ",5,"男子",null,"大分トリニータタートルズ"]
[{"$f":"CONCATENATE(B1473,\"_\",C1473)","v":"スマイス　セレソン　スポーツクラブ_9"},"スマイス　セレソン　スポーツクラブ",{"$f":"(\"9\")","v":"9"},"FW","生野　晴斗","ショウノ　ハルト",5,"男子"]
["スマイス　セレソン　スポーツクラブ_10","スマイス　セレソン　スポーツクラブ",{"$f":"(\"10\")","v":"10"},"FW","嶋村　堪太","シマムラ　カンタ",5,"男子"]
["スマイス　セレソン　スポーツクラブ_11","スマイス　セレソン　スポーツクラブ",{"$f":"(\"11\")","v":"11"},"MF","田金　晴葵","タガネ　ハルキ",4,"男子",null,"田尻サッカースポーツ少年団"]
["スマイス　セレソン　スポーツクラブ_12","スマイス　セレソン　スポーツクラブ",{"$f":"(\"12\")","v":"12"},"GK","久保田　龍太郎","クボタ　リュウタロウ",5,"男子"]
["スマイス　セレソン　スポーツクラブ_13","スマイス　セレソン　スポーツクラブ",{"$f":"(\"13\")","v":"13"},"FW","矢野　虎士朗","ヤノ　コジロウ",5,"男子"]
["スマイス　セレソン　スポーツクラブ_14","スマイス　セレソン　スポーツクラブ",{"$f":"(\"14\")","v":"14"},"DF","久保　琥太郎","クボ　コタロウ",4,"男子"]
["スマイス　セレソン　スポーツクラブ_15","スマイス　セレソン　スポーツクラブ",{"$f":"(\"15\")","v":"15"},"FW","清原　大絆","キヨハラ　タイキ",4,"男子"]
["スマイスセレソンスポーツクラブＢ_1","スマイスセレソンスポーツクラブＢ",{"$f":"(\"1\")","v":"1"},"GK","立山　心詠","タテヤマ　コウ",4,"男子"]
["スマイスセレソンスポーツクラブＢ_2","スマイスセレソンスポーツクラブＢ",{"$f":"(\"2\")","v":"2"},"DF","上野　兼謙","ウエノ　ケンゴ",5,"男子"]
["スマイスセレソンスポーツクラブＢ_3","スマイスセレソンスポーツクラブＢ",{"$f":"(\"3\")","v":"3"},"FW","佐藤　空也","サトウ　ソラ",4,"男子",null,"ヴェルスパ大分　Ｕ－１２"]
["スマイスセレソンスポーツクラブＢ_4","スマイスセレソンスポーツクラブＢ",{"$f":"(\"4\")","v":"4"},"DF","首藤　洸明","シュトウ　コウメイ",4,"男子"]
["スマイスセレソンスポーツクラブＢ_5","スマイスセレソンスポーツクラブＢ",{"$f":"(\"5\")","v":"5"},"FW","古屋　俊洋","コヤ　トシヒロ",4,"男子"]
["スマイスセレソンスポーツクラブＢ_6","スマイスセレソンスポーツクラブＢ",{"$f":"(\"6\")","v":"6"},"MF","本多　衣音","ホンダ　イオン",5,"女子小学生",null,"東稙田サッカースポーツ少年団"]
["スマイスセレソンスポーツクラブＢ_7","スマイスセレソンスポーツクラブＢ",{"$f":"(\"7\")","v":"7"},"DF","加藤　遼士","カトウ　ハルト",5,"男子",null,"ドリームキッズフットボールクラブ"]
["スマイスセレソンスポーツクラブＢ_8","スマイスセレソンスポーツクラブＢ",{"$f":"(\"8\")","v":"8"},"MF","二宮　武輝","ニノミヤ　タケキ",5,"男子","○"]
["スマイスセレソンスポーツクラブＢ_9","スマイスセレソンスポーツクラブＢ",{"$f":"(\"9\")","v":"9"},"FW","高井　蒼良","タカイ　ソラ",5,"男子"]
["スマイスセレソンスポーツクラブＢ_10","スマイスセレソンスポーツクラブＢ",{"$f":"(\"10\")","v":"10"},"MF","森　瑠唯","モリ　ルイ",5,"男子"]
["スマイスセレソンスポーツクラブＢ_11","スマイスセレソンスポーツクラブＢ",{"$f":"(\"11\")","v":"11"},"DF","小林　咲翔","コバヤシ　サクト",4,"男子"]
["スマイスセレソンスポーツクラブＢ_12","スマイスセレソンスポーツクラブＢ",{"$f":"(\"12\")","v":"12"},"DF","首藤　清愛","シュトウ　キヨチカ",4,"男子",null,"東稙田サッカースポーツ少年団"]
["スマイスセレソンスポーツクラブＢ_13","スマイスセレソンスポーツクラブＢ",{"$f":"(\"13\")","v":"13"},"MF","川野　颯斗","カワノ　ハヤト",4,"男子",null,"東稙田サッカースポーツ少年団"]
["スマイスセレソンスポーツクラブＢ_14","スマイスセレソンスポーツクラブＢ",{"$f":"(\"14\")","v":"14"},"FW","相澤　啓貴","アイザワ　ヒロキ",4,"男子"]
["スマイスセレソンスポーツクラブＢ_15","スマイスセレソンスポーツクラブＢ",{"$f":"(\"15\")","v":"15"},"DF","中村　碧大","ナカムラ　アオ",4,"男子"]
["スマイスセレソンスポーツクラブＢ_16","スマイスセレソンスポーツクラブＢ",{"$f":"(\"16\")","v":"16"},"GK","奥原　大和","オクハラ　ヤマト",4,"男子"]
["ＦＣ　ＪＵＮＩＯＲＳ_1","ＦＣ　ＪＵＮＩＯＲＳ",{"$f":"(\"1\")","v":"1"},"GK","今石　旺甫","イマイシ　オウスケ",5,"男子"]
["ＦＣ　ＪＵＮＩＯＲＳ_2","ＦＣ　ＪＵＮＩＯＲＳ",{"$f":"(\"2\")","v":"2"},"DF","坪根　央汰","ツボネ　オウタ",4,"男子"]
["ＦＣ　ＪＵＮＩＯＲＳ_3","ＦＣ　ＪＵＮＩＯＲＳ",{"$f":"(\"3\")","v":"3"},"DF","中野　琉星","ナカノ　ルイ",5,"男子"]
["ＦＣ　ＪＵＮＩＯＲＳ_4","ＦＣ　ＪＵＮＩＯＲＳ",{"$f":"(\"4\")","v":"4"},"DF","江藤　侑也","エトウ　ユウヤ",5,"男子","○"]
["ＦＣ　ＪＵＮＩＯＲＳ_5","ＦＣ　ＪＵＮＩＯＲＳ",{"$f":"(\"5\")","v":"5"},"DF","濱内　大輝","ハマウチ　ダイキ",4,"男子"]
["ＦＣ　ＪＵＮＩＯＲＳ_6","ＦＣ　ＪＵＮＩＯＲＳ",{"$f":"(\"6\")","v":"6"},"FW","北崎　優輝斗","キタザキ　ユキト",5,"男子"]
["ＦＣ　ＪＵＮＩＯＲＳ_7","ＦＣ　ＪＵＮＩＯＲＳ",{"$f":"(\"7\")","v":"7"},"MF","中野　蒼空","ナカノ　ソラ",5,"男子"]
["ＦＣ　ＪＵＮＩＯＲＳ_8","ＦＣ　ＪＵＮＩＯＲＳ",{"$f":"(\"8\")","v":"8"},"MF","森　陸翔","モリ　リクト",4,"男子"]
["ＦＣ　ＪＵＮＩＯＲＳ_9","ＦＣ　ＪＵＮＩＯＲＳ",{"$f":"(\"9\")","v":"9"},"FW","小手川　優真","コテガワ　ユウマ",5,"男子"]
["ＦＣ　ＪＵＮＩＯＲＳ_10","ＦＣ　ＪＵＮＩＯＲＳ",{"$f":"(\"10\")","v":"10"},"MF","濱田　空","ハマダ　ソラ",5,"男子"]
["ＦＣ　ＪＵＮＩＯＲＳ_11","ＦＣ　ＪＵＮＩＯＲＳ",{"$f":"(\"11\")","v":"11"},"FW","弓場　昴","ユバ　スバル",4,"男子"]
["ＦＣ　ＪＵＮＩＯＲＳ_13","ＦＣ　ＪＵＮＩＯＲＳ",{"$f":"(\"13\")","v":"13"},"DF","小野　白孟","オノ　ハクウ",5,"男子"]
["ＦＣ　ＪＵＮＩＯＲＳ_14","ＦＣ　ＪＵＮＩＯＲＳ",{"$f":"(\"14\")","v":"14"},"MF","宮坂　虎我","ミヤサカ　タイガ",5,"男子"]
["ＦＣ　ＪＵＮＩＯＲＳ_15","ＦＣ　ＪＵＮＩＯＲＳ",{"$f":"(\"15\")","v":"15"},"FW","末神　天世","スエガミ　テンセイ",4,"男子"]
["ＦＣ　ＪＵＮＩＯＲＳ_17","ＦＣ　ＪＵＮＩＯＲＳ",{"$f":"(\"17\")","v":"17"},"MF","中山　煌","ナカヤマ　コウ",4,"男子"]
["ＦＣ中津ジュニア_1","ＦＣ中津ジュニア",{"$f":"(\"1\")","v":"1"},"GK","上田　倫太郎","ウエダ　リンタロウ",5,"男子"]
["ＦＣ中津ジュニア_2","ＦＣ中津ジュニア",{"$f":"(\"2\")","v":"2"},"FW","井上　碧琉","イノウエ　アル",5,"男子"]
["ＦＣ中津ジュニア_3","ＦＣ中津ジュニア",{"$f":"(\"3\")","v":"3"},"DF","田中　湊人","タナカ　ミナト",5,"男子"]
["ＦＣ中津ジュニア_4","ＦＣ中津ジュニア",{"$f":"(\"4\")","v":"4"},"FW","高崎　藍太郎","タカサキ　ランタロウ",5,"男子"]
["ＦＣ中津ジュニア_5","ＦＣ中津ジュニア",{"$f":"(\"5\")","v":"5"},"FW","吉崎　晴登","ヨシザキ　ハルト",5,"男子",null,"ＦＣリーベル"]
["ＦＣ中津ジュニア_6","ＦＣ中津ジュニア",{"$f":"(\"6\")","v":"6"},"MF","永竿　友大","ナガサオ　ユウダイ",5,"男子"]
["ＦＣ中津ジュニア_7","ＦＣ中津ジュニア",{"$f":"(\"7\")","v":"7"},"MF","久保　結唯斗","クボ　ユイト",5,"男子",null,"ＭＳＳ"]
["ＦＣ中津ジュニア_8","ＦＣ中津ジュニア",{"$f":"(\"8\")","v":"8"},"DF","久保　瑠唯斗","クボ　ルイト",5,"男子",null,"ＭＳＳ"]
["ＦＣ中津ジュニア_9","ＦＣ中津ジュニア",{"$f":"(\"9\")","v":"9"},"MF","島津　大河","シマヅ　タイガ",5,"男子",null,"如水ジュニアサッカークラブ"]
["ＦＣ中津ジュニア_10","ＦＣ中津ジュニア",{"$f":"(\"10\")","v":"10"},"MF","植村　紅","ウエムラ　ベニ",5,"男子","○"]
["ＦＣ中津ジュニア_11","ＦＣ中津ジュニア",{"$f":"(\"11\")","v":"11"},"MF","壇　智大","ダン　チヒロ",4,"男子"]
["ＦＣ中津ジュニア_12","ＦＣ中津ジュニア",{"$f":"(\"12\")","v":"12"},"GK","小松　未来","コマツ　ミキ",4,"男子"]
["ＦＣリーベル_1","ＦＣリーベル",{"$f":"(\"1\")","v":"1"},"GK","植山　颯太","ウエヤマ　ソウタ",4,"男子"]
["ＦＣリーベル_2","ＦＣリーベル",{"$f":"(\"2\")","v":"2"},"FW","山崎　ノア","ヤマザキ　ノア",4,"男子"]
["ＦＣリーベル_3","ＦＣリーベル",{"$f":"(\"3\")","v":"3"},"MF","岩尾　薫","イワオ　カオル",4,"男子"]
["ＦＣリーベル_4","ＦＣリーベル",{"$f":"(\"4\")","v":"4"},"DF","島田　旺汰","シマダ　オウタ",2,"男子"]
["ＦＣリーベル_5","ＦＣリーベル",{"$f":"(\"5\")","v":"5"},"FW","明石　凌芽","アカシ　リョウガ",4,"男子"]
["ＦＣリーベル_6","ＦＣリーベル",{"$f":"(\"6\")","v":"6"},"MF","平野　心椿","ヒラノ　ココロ",3,"女子小学生"]
["ＦＣリーベル_7","ＦＣリーベル",{"$f":"(\"7\")","v":"7"},"FW","田中　千聖","タナカ　チサト",4,"女子小学生"]
["ＦＣリーベル_8","ＦＣリーベル",{"$f":"(\"8\")","v":"8"},"DF","下原　律希","シモバル　リツキ",4,"男子"]
["ＦＣリーベル_9","ＦＣリーベル",{"$f":"(\"9\")","v":"9"},"FW","園田　湊斗","ソノダ　ミナト",2,"男子"]
["ＦＣリーベル_10","ＦＣリーベル",{"$f":"(\"10\")","v":"10"},"DF","仮屋園　和空","カリヤゾノ　ワク",4,"男子"]
["ＦＣリーベル_11","ＦＣリーベル",{"$f":"(\"11\")","v":"11"},"MF","島田　幹斗","シマダ　ミキト",5,"男子",null,"和田・如水少年サッカークラブ"]
["ＦＣリーベル_12","ＦＣリーベル",{"$f":"(\"12\")","v":"12"},"GK","西邑　聖愛","ニシムラ　セイア",3,"男子"]
["ＦＣリーベル_13","ＦＣリーベル",{"$f":"(\"13\")","v":"13"},"DF","園田　龍斗","ソノダ　リュウト",4,"男子"]
["ＦＣリーベル_14","ＦＣリーベル",{"$f":"(\"14\")","v":"14"},"MF","三股　虎聖","ミマタ　コウセイ",5,"男子","○","和田・如水少年サッカークラブ"]
[{"$f":"CONCATENATE(B1537,\"_\",C1537)","v":"ＦＣリーベル_15"},"ＦＣリーベル",{"$f":"(\"15\")","v":"15"},"MF","山本　優吾","ヤマモト　ユウゴ",2,"男子"]
["如水ジュニアサッカークラブ_1","如水ジュニアサッカークラブ",{"$f":"(\"1\")","v":"1"},"GK","佐藤　翔","サトウ　カケル",4,"男子"]
["如水ジュニアサッカークラブ_2","如水ジュニアサッカークラブ",{"$f":"(\"2\")","v":"2"},"DF","稲積　健太","イナヅミ　ケンタ",4,"男子"]
["如水ジュニアサッカークラブ_3","如水ジュニアサッカークラブ",{"$f":"(\"3\")","v":"3"},"DF","石田　怜士","イシダ　レイジ",4,"男子"]
["如水ジュニアサッカークラブ_4","如水ジュニアサッカークラブ",{"$f":"(\"4\")","v":"4"},"MF","木城　來覇","キシロ　ライハ",5,"男子"]
["如水ジュニアサッカークラブ_6","如水ジュニアサッカークラブ",{"$f":"(\"6\")","v":"6"},"MF","河津　夏樹","カワヅ　ナツキ",4,"男子"]
["如水ジュニアサッカークラブ_7","如水ジュニアサッカークラブ",{"$f":"(\"7\")","v":"7"},"FW","小野　倫平","オノ　リンペイ",3,"男子"]
["如水ジュニアサッカークラブ_8","如水ジュニアサッカークラブ",{"$f":"(\"8\")","v":"8"},"FW","大新田　大輝","オオシンデン　ダイキ",4,"男子"]
["如水ジュニアサッカークラブ_9","如水ジュニアサッカークラブ",{"$f":"(\"9\")","v":"9"},"DF","小川　裕聖","オガワ　ユウセイ",4,"男子"]
["如水ジュニアサッカークラブ_10","如水ジュニアサッカークラブ",{"$f":"(\"10\")","v":"10"},"MF","黒土　挨吾","クロツチ　アイゴ",5,"男子"]
["如水ジュニアサッカークラブ_11","如水ジュニアサッカークラブ",{"$f":"(\"11\")","v":"11"},"DF","椎橋　世凪","シイバシ　セナ",4,"男子"]
["如水ジュニアサッカークラブ_12","如水ジュニアサッカークラブ",{"$f":"(\"12\")","v":"12"},"GK","中村　神童","ナカムラ　シュウト",3,"男子"]
["如水ジュニアサッカークラブ_13","如水ジュニアサッカークラブ",{"$f":"(\"13\")","v":"13"},"DF","原田　一瑳","ハラダ　イッサ",3,"男子"]
["如水ジュニアサッカークラブ_14","如水ジュニアサッカークラブ",{"$f":"(\"14\")","v":"14"},"DF","北村　優","キタムラ　ヒロ",5,"男子","○"]
["如水ジュニアサッカークラブ_18","如水ジュニアサッカークラブ",{"$f":"(\"18\")","v":"18"},"MF","屋敷　健将","ヤシキ　ケンショウ",5,"男子"]
["ＦＣ．ＲＥ．ＳＴＡＲＴ　_2","ＦＣ．ＲＥ．ＳＴＡＲＴ　",{"$f":"(\"2\")","v":"2"},"DF","坂本　稟太郎","サカモト　リンタロウ",3,"男子"]
["ＦＣ．ＲＥ．ＳＴＡＲＴ　_3","ＦＣ．ＲＥ．ＳＴＡＲＴ　",{"$f":"(\"3\")","v":"3"},"DF","大井　煌己","オオイ　コウキ",3,"男子"]
["ＦＣ．ＲＥ．ＳＴＡＲＴ　_4","ＦＣ．ＲＥ．ＳＴＡＲＴ　",{"$f":"(\"4\")","v":"4"},"FW","井上　來都","イノウエ　ライト",3,"男子",null,"桂林少年サッカークラブ"]
["ＦＣ．ＲＥ．ＳＴＡＲＴ　_5","ＦＣ．ＲＥ．ＳＴＡＲＴ　",{"$f":"(\"5\")","v":"5"},"DF","千原　悠真","チハラ　ユウマ",5,"男子"]
["ＦＣ．ＲＥ．ＳＴＡＲＴ　_6","ＦＣ．ＲＥ．ＳＴＡＲＴ　",{"$f":"(\"6\")","v":"6"},"MF","諌山　唯斗","イサヤマ　ユイト",4,"男子"]
["ＦＣ．ＲＥ．ＳＴＡＲＴ　_7","ＦＣ．ＲＥ．ＳＴＡＲＴ　",{"$f":"(\"7\")","v":"7"},"MF","渡邉　凌大","ワタナベ　リョウタ",3,"男子"]
["ＦＣ．ＲＥ．ＳＴＡＲＴ　_8","ＦＣ．ＲＥ．ＳＴＡＲＴ　",{"$f":"(\"8\")","v":"8"},"DF","安藤　光流","アンドウ　ヒカル",4,"男子"]
["ＦＣ．ＲＥ．ＳＴＡＲＴ　_9","ＦＣ．ＲＥ．ＳＴＡＲＴ　",{"$f":"(\"9\")","v":"9"},"FW","小田　徳大","オダ　トクダイ",4,"男子",null,"桂林少年サッカークラブ"]
["ＦＣ．ＲＥ．ＳＴＡＲＴ　_10","ＦＣ．ＲＥ．ＳＴＡＲＴ　",{"$f":"(\"10\")","v":"10"},"FW","日野　快玲","ヒノ　カイリ",4,"男子","○","桂林少年サッカークラブ"]
["ＦＣ．ＲＥ．ＳＴＡＲＴ　_11","ＦＣ．ＲＥ．ＳＴＡＲＴ　",{"$f":"(\"11\")","v":"11"},"MF","横田　聡佑","ヨコタ　ソウスケ",3,"男子"]
["ＦＣ．ＲＥ．ＳＴＡＲＴ　_12","ＦＣ．ＲＥ．ＳＴＡＲＴ　",{"$f":"(\"12\")","v":"12"},"DF","苑田　龍弥","ソノダ　リュウヤ",3,"男子"]
["ＦＣ．ＲＥ．ＳＴＡＲＴ　_13","ＦＣ．ＲＥ．ＳＴＡＲＴ　",{"$f":"(\"13\")","v":"13"},"GK","小田原　明楽","オダワラ　アキラ",3,"男子"]
["ＦＣ．ＲＥ．ＳＴＡＲＴ　_14","ＦＣ．ＲＥ．ＳＴＡＲＴ　",{"$f":"(\"14\")","v":"14"},"DF","岡見　柊飛","オカミ　シュウト",3,"男子"]
["ＦＣ．ＲＥ．ＳＴＡＲＴ　_15","ＦＣ．ＲＥ．ＳＴＡＲＴ　",{"$f":"(\"15\")","v":"15"},"GK","佐藤　空和","サトウ　ソワ",4,"男子"]
["_"]

{"sheet":"項目","index":21,"n_rows":27,"n_cols":8,"rows_kept":27,"cut":false,"hidden":true,"merged":[]}
["警告/退場",null,"＜警告選択肢＞",null,"＜会場＞",null,"＜役員名簿＞","＜審判名簿＞"]
["警告",null,"反スポ",null,"昭和電工ｻｯｶｰ･ﾗｸﾞﾋﾞｰ場　Aｺｰﾄ",null,"-","幸　壮一郎"]
["退場",null,"ラフ",null,"昭和電工ｻｯｶｰ･ﾗｸﾞﾋﾞｰ場　Bｺｰﾄ",null,"安東　幹雄","白江　直樹"]
["警告(累積2枚目次節出場停止）",null,"異議",null,"大分県ｻｯｶｰ協会人工芝ｸﾞﾗｳﾝﾄﾞ",null,"仲野　昭博","宇高　篤"]
[null,null,"繰り返し",null,null,null,"中原　圭介","佐藤　慎二"]
[null,null,"遅延",null,null,null,"佐々木　秀樹"]
[null,null,"距離",null,null,null,"榊　謙治"]
[null,null,"無断入",null,null,null,"河野　千恵子"]
[null,null,"無断去",null,null,null,"上野　貴士"]
[null,null,"＜退場選択肢＞",null,null,null,"岡部　司"]
[null,null,"不正",null,null,null,"毛藤　勇三"]
[null,null,"乱暴",null,null,null,"隅田　哲平"]
[null,null,"つば",null,null,null,"羽田野　亘"]
[null,null,"阻止(手)",null,null,null,"津守　一雄"]
[null,null,"阻止(他)",null,null,null,"笠野　わかこ"]
[null,null,"暴言",null,null,null,"伊達　洋介"]
[null,null,"警告2",null,null,null,"東　一騎"]
[null,null,null,null,null,null,"唐下　直之"]
[null,null,null,null,null,null,"磯村　信一"]
[null,null,null,null,null,null,"諌本　秀樹"]
[null,null,null,null,null,null,"石井　洋平"]
[null,null,null,null,null,null,"中野　観司郎"]
[null,null,null,null,null,null,"甲斐　直樹"]
[null,null,null,null,null,null,"秋吉　明"]
[null,null,null,null,null,null,"安東　信二"]
[null,null,null,null,null,null,"松下　省吾"]
[null,null,null,null,null,null,"市原　宗久"]