Workbook

Sheet 抽選会資料
A1: =要項!C2 -> OFA 第 37 回 大分県U-11サッカー選手権大会 | J1: 抽選会及び監督(代表者)会議
A3: １．日時 | B3: =要項!D43 -> 11月16日(日) 17：00〜
A5: ２．場所 | B5: =要項!I43 -> TOSテレビ大分 大会議室（予定）
A7: ３．参加チーム | C7: 24 | D7: チーム
B9: Aブロック（フリー） | I9: Bブロック（奇数）
A10: 抽選順 | B10: 地 区 | C10: チーム名 | D10: 申込 | E10: 参加料 | F10: 出欠 | H10: 抽選順 | I10: 地 区 | J10: チーム名 | K10: 申込 | L10: 参加料 | M10: 出欠
A11: 14 | B11: 大分 | I11: 中津
A12: 15
A13: 16 | I13: 速杵国東
A14: 17
A15: 18 | I15: 宇佐高田
A16: 19
A17: 20 | I17: 別府
A18: 21
A19: 22 | I19: 日田/玖珠
A20: 23
A21: 24 | I21: 佐伯
I22: 豊肥
I23: 臼杵/津久見
A25: ４．会議次第
A26: ①ジュニア委員長あいさつ
A27: ②要項の確認
A28: ③審判部より
A29: ・大会１日目（予選リーグ）は、帯同審判員を（３級以上）チームで帯同する。
A30: ※出場チームにて責任を持って準備する事。
A31: ④質問、諸注意
A32: ⑤抽選
A34: ５．その他
A35: ①選手証/指導者資格証/審判資格証を、持参のこと。
A36: ②領収証は、｢振込みの際の領収証」にかえさせていただきます。
A37: ③大会期間中は、「駐車証」を」車内に表示すること。
... A43: ６．試合会場
B44: 会場 | H44: 住所
A45: サブA | B45: 大分スポーツ公園 レゾナック サッカー・ラグビー場 Aコート | H45: 大分市大字松岡6841番地
A46: サブB | B46: 大分スポーツ公園 レゾナック サッカー・ラグビー場 Bコート | H46: 大分市大字松岡6841番地

Sheet 要項
A1: OFA 第 37 回 大分県U-11サッカー選手権大会 | M1: 大会要項(案)
A2: 1 | B2: 名 称 | C2: OFA 第 37 回 大分県U-11サッカー選手権大会
A3: 2 | B3: 主 催 | C3: 一般社団法人 大分県サッカー協会
A4: 3 | B4: 主 管 | C4: 一般社団法人 大分県サッカー協会4種委員会
A5: 4 | B5: 後 援 | C5: 大分県教育委員会、公益財団法人大分県スポーツ協会、TOSテレビ大分 大分合同新聞社(依頼中)
A6: 5 | B6: 特別協賛 | C6: 『対話式進学塾1対1ネッツ』
A7: 6 | B7: 協賛 | C7: ㈱モルテン
A8: 7 | B8: 日 程 | C8: 2025年12月6日(土)～12月7日(日) ＊監督会議：12月6日(土)9:00より
A9: 8 | B9: 会 場 | C9: 大分スポーツ公園 クラサスサッカー・ラグビー場A/Bコート
A10: 9 | B10: 参加資格 | C10: ①日本サッカー協会第Ⅳ種に加盟登録したチームであること。
C11: ②各地区の代表チームであること。
C12: ③大会実施年度に大分県サッカー協会に加盟登録(第4種)され、5年生以下の選手で構成されたチームであること。
C13: ④日本協会発行の登録選手証を有し当日持っている者で、選手8名以上16名以内とする。また、同一「加盟チーム」より複数チームの参加を
C14: 認めるが、同じ選手が違うチームで出場できない。地区予選時及び上位大会でのメンバーの入れ替えはできない。
C15: その際、それぞれのチームに別々の有資格指導者が帯同すること。
C16: 同じ有資格指導者がチームにまたがって登録することはできない。審判員の扱いも同様である（地区大会と県大会は別とする）。
C17: ⑤大分県サッカー協会に2チーム以上加盟登録している同母体のチームについては、2重登録を禁止する。また、地区大会と県大会においては、
C18: 違うチームでの出場はできない。加えて、年間を通じて同じチームで活動するチームであることとする。
C19: 他のチームで予選大会に出場またはエントリーされた移籍選手の出場は認めない。
C20: 移籍選手含め、9月17日(水)までに選手登録及び移籍手続きが完了し、WEBエントリー申請ができることとする。
C21: ⑥健康であり、且つ保護者の同意を得た選手。
C22: ⑦傷害保険(スポーツ安全傷害保険)に加入しているチーム及び選手であり、大会中におけるケガや、賠償金の発生する損害については、
... C26: ⑩大会運営に協力でき、マナーを守るチーム(保護者も含む)であること。
A27: 10 | B27: 出場枠 | C27: 各地区からの代表24チームとする。
C28: ただし、24チームに満たない場合は、比例割の小数ポイントが高い順に推薦する。
A29: 11 | B29: 大会申込 | C29: ①11月3日(月)から受付開始し、11月12日(水)15:00までに、大会参加費(11,000円)の振り込みを済ませること。
D30: 《振込先》 大分銀行 南支店 普通 7500897 | E30: 大分銀行 南支店 普通 7500897
D31: 一般社団法人 大分県サッカー協会 代表理事 首藤隆憲 | E31: 一般社団法人 大分県サッカー協会
C32: ②申込先 | D32: KICK OFF(JFA ID)の大会(大会への参加申込)より申込願います(地区大会兼用)。ジュニア委員会HPに掲載している
D33: 【大会エントリーガイド】を必ず確認し、対応をお願いします。
D34: ※ベンチスタッフは、大会申込のスタッフ情報に申請した1名以上3名以内とし、内1名はJFA公認指導者ライセンスを有する事。
D35: ※審判員一覧及びその他スタッフ一覧の【帯同審判】は使用しない(各チーム責任を持って準備しておく事)。
D36: ※申請受理されているか確認の事。【大会エントリーガイド参照】
D37: 9月17日(水)21:00までに申込完了のこと。以降の変更は認めない。
D38: 県大会出場チームについては、11月12日(水)21:00まで変更を認める。
D39: ※修正及び変更手続きについては、Web大会参加申込の問い合わせ先まで連絡の事。
D40: ※期限内に参加のための手続き及び参加料の振り込みができない場合は出場を認めない。
C41: ③連絡先 一般社団法人 大分県サッカー協会4種委員会 委員長 仲野昭博 TEL：090-8661-3560
A43: 12 | B43: 抽選方法 | C43: 期日： | D43: 11月16日(日) 17：00〜 | H43: 場所： | I43: TOSテレビ大分 大会議室（予定）
C44: ※各チームより指導者１名、選手1名に制限します。
A45: 13 | B45: 競技規則 | C45: 本大会競技規則は、2024/2025(公財)日本サッカー協会競技規則及び8人制サッカー競技規則に基づく。
C46: 但し、以下の項目については、特に本大会用として大会規定を定める。
C47: ①ユニフォームについて
C48: 1 | D48: 本競技会に登録した正・副２組のユニフォーム（シャツ、ショーツ及びソックス）を試合会場に持参し、
D49: いずれかを着用しなければならない。いずれも背番号は選手本人と一致することとし、番号は1～16までの通し番号とするのが
D50: 望ましい。シャツについては、胸番号/背番号必須で一致している事とする。
C51: 2 | D51: 正・副の２色については明確に異なる色とし、シャツの色彩は審判員が通常着用する黒色と明確に判別し得るものでなければ
D52: ならない。
C53: 3 | D53: ユニフォームのデザイン、ロゴ等が異なっていても、本競技会主催者が認める場合、主たる色が同系色であれば着用することができる。
C54: 4 | D54: ゴールキーパーのユニフォームについて、ショーツ、ソックスはフィールドプレーヤーと同色系でも良いものとする。
C55: 5 | D55: 主審は、対戦するチームのユニフォームの色彩が類似しており判別しがたいと判断したときは、両チームの立ち会いのもとに、
D56: その試合において着用するユニフォームを決定する。
C57: 6 | D57: 前項の場合、主審は、両チームの各2組のユニフォームのうちから、シャツ、ショーツ及びソックスのそれぞれについて、
D58: 判別しやすい組み合わせを決定することができる。
C59: 7 | D59: ソックスにテープまたはその他の材質のものを貼り付ける、または外部に着用する場合、ソックスと同色でなくても良い。
C60: 8 | D60: アンダーシャツの色は問わない。ただし原則としてチーム内で同色のものを着用する。
C61: 9 | D61: アンダーショーツおよびタイツの色は問わない。ただし原則としてチーム内で同色のものを着用する。
C62: 10 | D62: JFA規約 ユニフォームの既定 第5条(7)その他⑤に明記されているとおり、チームは、各国代表チーム及びプロクラブチーム等の
D63: レプリカを着用して公式競技会に出場する ことはできない。
C64: 11 | D64: 広告表示については、JFA規約 ユニフォームの既定 第6条により承認された場合のみ認める。
C65: 12 | D65: 交代要員の選手は、両チームのユニホームおよび審判のユニホームと明確に異なる色の着衣(ビブス等)を身につけること。
C66: ②ユニフォームの調整は、1日目は9:00からの監督会議の際に、2日目は1試合目の試合開始70分前にMCMを行い決定する。
C67: 2試合目以降は試合終了後に本部にて決定。1日目の監督会議及び2日目の1試合目のMCM時は、FP用/GK用各2種類を持参すること。
C68: ③本大会期間中、警告を2回受けた選手等は次の1試合に出場できない。
C69: ④本大会に於いて退場を命じられた選手等は次の1試合に出場できず、それ以降の処置については本大会の規律・フェアプレー委員会で
C70: 決定する。
C71: ⑤グリーンカードを導入する。
C72: ⑥競技者は8人(内1人はGK)とし、6人未満となった場合0-5の負けとする。
C73: ⑦8人制のルールに則り、キックオフゴールは認められない。
C74: ⑧ベンチスタッフは、大会申込のスタッフ情報に申請した5名のうち3名以内とし、内1名はJFA公認指導者ライセンスを有する事。
C75: ※ベンチに入る指導者・選手は、あらかじめ明記した監督1名・その他役職者2名・選手8名まで。それ以外の指導者・選手のベンチ入りは認め
C76: ない。また、ベンチ入りする指導者は、指導者を識別するためのIDプレートを大会本部より配布する。選手への戦術的な指示やコーチングを
C77: 行う際は、必ずIDプレートを着用すること。尚、IDを配布される指導者はD級以上の有資格者とし、無資格者のベンチ入りは認めるが戦術的
... C81: ⑩ポイント取り換え式のシューズは着用は認めない。
A82: 14 | B82: 競技時間 | C82: 15分ハーフの計30分とし、ハーフタイムのインターバルは10分とする。
A83: 15 | B83: 選手交替 | C83: 13.競技規則 ⑩に準ずる。
A84: 16 | B84: 競技方法 | C84: ①予選リーグにおいては、参加24チームを3チーム毎の8パートに分けて総当たりによるリーグ戦を行う。
C85: ②予選リーグにおける順位は、勝ち点(勝3、引分1、負0)・当該対戦・PKの順で決定する。
C86: 予選リーグにおいて、3チーム共に同率時の場合は、3人制のPK方式にて2連勝したチームが次回戦進出とする。
C87: ③予選リーグの各パート上位1チームにより、2日目に決勝トーナメントを行い、優勝チームを決定する。
C88: ④決勝トーナメントで同点の場合、3人制のPK方式にて次回戦進出チームを決定する。
C89: 次回戦進出チームを決定するPK方式においてFPをGKとする場合、その選手と同番号のGKユニフォーム又は、サブユニフォームの
C90: シャツを着用させる。
C91: ⑤準決勝戦以降同点の場合は、6分間の延長(3分ハーフ)を行い、なお決しない場合は3人制のPK方式にて勝敗を決定する。
A92: 17 | B92: 審判 | C92: 審判は、予選リーグは、主審1名の1人制とし、相互審判割り当て制とする（第4審は、本部対応とする）。
C93: 決勝トーナメントにおいては主審1名、副審2名 第4審の4人制とし、本部対応とする。各試合にマッチコミッショナーを置く。
C94: 決勝トーナメントは、ウェルフェアオフィサーも置く。
A95: 18 | B95: ボ ー ル | C95: 少年用4号球を本部で準備する。
A96: 19 | B96: 競技場 | C96: ①コート | E96: 縦68m×横50m
C97: ②センターサークル | E97: 半径7m
C98: ③ゴールエリア | E98: ゴールポスト外側へ4m、その地点からゴールラインに直角に4m
C99: ④ペナルティエリア | E99: ゴールポスト外側へ12m、その地点からゴールラインに直角に12m
C100: ⑤ペナルティマーク | E100: 8m
C101: ⑥ゴール | E101: 少年用ゴール・高さ2.15m、幅5m
A102: 20 | B102: その他 | C102: ①異議：ベンチ(監督、コーチ、スタッフ等)が審判の判定に対して異議を唱えたり、選手に対し罵声を浴びせる等のネガティブなコーチングを
C103: 行ったりして、主審から一度注意を受けた後に再度同様な行為があった場合は、主審の判断により退席処分とし、それ以降はベンチからの
C104: コーチングを不可とする。
C105: ②監督会議：12月6日(土)9:00よりAコート本部テント前にて行う。
C106: ③閉会式：試合終了後直ちに行う。
C107: ④大会上位2チーム(大会運営に協力のできるチームでもあること)は3月28日(土)・29日(日)に大分県で開催予定の
...

Sheet 組合せ抽選用
B2: =要項!C2 -> OFA 第 37 回 大分県U-11サッカー選手権大会 | M2: 組み合わせ | R2: Aブロック（フリー）
R3: 地 区 | S3: チーム名
E4: 「Aパート」 | L4: 「Cパート」 | Q4: A1 | R4: 大分 | S4: A1 | U4: =抽選会資料!C11 -> 0 | V4: 大分
D5: A1 | E5: =IF(ISERROR(VLOOKUP(D5,$Q:$S,3,FALSE))=TRUE,"",VLOOKUP(D5,$Q:$S,3,FALSE)) -> A1 | K5: C1 | L5: =IF(ISERROR(VLOOKUP(K5,$Q:$S,3,FALSE))=TRUE,"",VLOOKUP(K5,$Q:$S,3,FALSE)) -> C1 | Q5: A2 | S5: A2 | U5: =抽選会資料!C12 -> 0 | V5: 大分
Q6: A3 | S6: A3 | U6: =抽選会資料!C13 -> 0 | V6: 大分
Q7: B1 | S7: B1 | U7: =抽選会資料!C14 -> 0 | V7: 大分
Q8: B2 | S8: B2 | U8: =抽選会資料!C15 -> 0 | V8: 大分
B9: A2 | C9: =IF(ISERROR(VLOOKUP(B9,$Q:$S,3,FALSE))=TRUE,"",VLOOKUP(B9,$Q:$S,3,FALSE)) -> A2 | F9: =IF(ISERROR(VLOOKUP(H9,$Q:$S,3,FALSE))=TRUE,"",VLOOKUP(H9,$Q:$S,3,FALSE)) -> A3 | H9: A3 | I9: C2 | J9: =IF(ISERROR(VLOOKUP(I9,$Q:$S,3,FALSE))=TRUE,"",VLOOKUP(I9,$Q:$S,3,FALSE)) -> C2 | M9: =IF(ISERROR(VLOOKUP(O9,$Q:$S,3,FALSE))=TRUE,"",VLOOKUP(O9,$Q:$S,3,FALSE)) -> C3 | O9: C3 | Q9: B3 | S9: B3 | U9: =抽選会資料!C16 -> 0 | V9: 大分
Q10: C1 | S10: C1 | U10: =抽選会資料!C17 -> 0 | V10: 大分
Q11: C2 | S11: C2 | U11: =抽選会資料!C18 -> 0 | V11: 大分
E12: 「Eパート」 | L12: 「Gパート」 | Q12: C3 | S12: C3 | U12: =抽選会資料!C19 -> 0 | V12: 大分
D13: E1 | E13: =IF(ISERROR(VLOOKUP(D13,$Q:$S,3,FALSE))=TRUE,"",VLOOKUP(D13,$Q:$S,3,FALSE)) -> E1 | K13: G1 | L13: =IF(ISERROR(VLOOKUP(K13,$Q:$S,3,FALSE))=TRUE,"",VLOOKUP(K13,$Q:$S,3,FALSE)) -> G1 | Q13: D1 | S13: D1 | U13: =抽選会資料!C20 -> 0 | V13: 大分
Q14: D2 | S14: D2 | U14: =抽選会資料!C21 -> 0 | V14: 大分
B17: E2 | C17: =IF(ISERROR(VLOOKUP(B17,$Q:$S,3,FALSE))=TRUE,"",VLOOKUP(B17,$Q:$S,3,FALSE)) -> E2 | F17: =IF(ISERROR(VLOOKUP(H17,$Q:$S,3,FALSE))=TRUE,"",VLOOKUP(H17,$Q:$S,3,FALSE)) -> E3 | H17: E3 | I17: G2 | J17: =IF(ISERROR(VLOOKUP(I17,$Q:$S,3,FALSE))=TRUE,"",VLOOKUP(I17,$Q:$S,3,FALSE)) -> G2 | M17: =IF(ISERROR(VLOOKUP(O17,$Q:$S,3,FALSE))=TRUE,"",VLOOKUP(O17,$Q:$S,3,FALSE)) -> G3 | O17: G3
R18: Bブロック（奇数）
R19: 地 区 | S19: チーム名
Q20: D3 | R20: 中津 | S20: D3 | U20: =抽選会資料!J11 -> 0 | V20: 中津
E21: 「Bパート」 | L21: 「Dパート」 | Q21: E1 | S21: E1 | U21: =抽選会資料!J12 -> 0 | V21: 中津
D22: B1 | E22: =IF(ISERROR(VLOOKUP(D22,$Q:$S,3,FALSE))=TRUE,"",VLOOKUP(D22,$Q:$S,3,FALSE)) -> B1 | K22: D1 | L22: =IF(ISERROR(VLOOKUP(K22,$Q:$S,3,FALSE))=TRUE,"",VLOOKUP(K22,$Q:$S,3,FALSE)) -> D1 | Q22: E2 | R22: 速杵国東 | S22: E2 | U22: =抽選会資料!J13 -> 0 | V22: 速杵国東
Q23: E3 | S23: E3 | U23: =抽選会資料!J14 -> 0 | V23: 速杵国東
Q24: F1 | R24: 宇佐高田 | S24: F1 | U24: =抽選会資料!J15 -> 0 | V24: 宇佐高田
Q25: F2 | S25: F2 | U25: =抽選会資料!J16 -> 0 | V25: 宇佐高田
B26: B2 | C26: =IF(ISERROR(VLOOKUP(B26,$Q:$S,3,FALSE))=TRUE,"",VLOOKUP(B26,$Q:$S,3,FALSE)) -> B2 | F26: =IF(ISERROR(VLOOKUP(H26,$Q:$S,3,FALSE))=TRUE,"",VLOOKUP(H26,$Q:$S,3,FALSE)) -> B3 | H26: B3 | I26: D2 | J26: =IF(ISERROR(VLOOKUP(I26,$Q:$S,3,FALSE))=TRUE,"",VLOOKUP(I26,$Q:$S,3,FALSE)) -> D2 | M26: =IF(ISERROR(VLOOKUP(O26,$Q:$S,3,FALSE))=TRUE,"",VLOOKUP(O26,$Q:$S,3,FALSE)) -> D3 | O26: D3 | Q26: F3 | R26: 別府 | S26: F3 | U26: =抽選会資料!J17 -> 0 | V26: 別府
Q27: G1 | S27: G1 | U27: =抽選会資料!J18 -> 0 | V27: 別府
Q28: G2 | R28: 日田/玖珠 | S28: G2 | U28: =抽選会資料!J19 -> 0 | V28: 日田/玖珠
E29: 「Fパート」 | L29: 「Hパート」 | Q29: G3 | S29: G3 | U29: =抽選会資料!J20 -> 0 | V29: 日田/玖珠
D30: F1 | E30: =IF(ISERROR(VLOOKUP(D30,$Q:$S,3,FALSE))=TRUE,"",VLOOKUP(D30,$Q:$S,3,FALSE)) -> F1 | K30: H1 | L30: =IF(ISERROR(VLOOKUP(K30,$Q:$S,3,FALSE))=TRUE,"",VLOOKUP(K30,$Q:$S,3,FALSE)) -> H1 | Q30: H1 | R30: 佐伯 | S30: H1 | U30: =抽選会資料!J21 -> 0 | V30: 佐伯
Q31: H2 | R31: 豊肥 | S31: H2 | U31: =抽選会資料!J22 -> 0 | V31: 豊肥
Q32: H3 | R32: 臼杵/津久見 | S32: H3 | U32: =抽選会資料!J23 -> 0 | V32: 臼杵/津久見
B34: F2 | C34: =IF(ISERROR(VLOOKUP(B34,$Q:$S,3,FALSE))=TRUE,"",VLOOKUP(B34,$Q:$S,3,FALSE)) -> F2 | F34: =IF(ISERROR(VLOOKUP(H34,$Q:$S,3,FALSE))=TRUE,"",VLOOKUP(H34,$Q:$S,3,FALSE)) -> F3 | H34: F3 | I34: H2 | J34: =IF(ISERROR(VLOOKUP(I34,$Q:$S,3,FALSE))=TRUE,"",VLOOKUP(I34,$Q:$S,3,FALSE)) -> H2 | M34: =IF(ISERROR(VLOOKUP(O34,$Q:$S,3,FALSE))=TRUE,"",VLOOKUP(O34,$Q:$S,3,FALSE)) -> H3 | O34: H3
R41: ＜抽選方法＞
R42: Bブロック 9地区の各第1代表が8パートに分かれるように抽選。
R43: (まず、大分地区以外が全パートに入る事が前提で、開会式がある場合は、A1を選手宣誓とする。)
R44: ２チーム出場の地区が、第1代表と決勝戦まで対戦しないように、左右のパートに分かれるように抽選。
R45: 大分地区は、振込順にて抽選
S50: Match No：25 勝 | U50: Match No：25 勝
S51: Match No：26 勝 | U51: Match No：26 勝
S52: Match No：27 勝 | U52: Match No：27 勝
S53: Match No：28 勝 | U53: Match No：28 勝
S54: Match No：29 勝 | U54: Match No：29 勝
S55: Match No：31 勝 | U55: Match No：31 勝
S56: Match No：25 負 | U56: Match No：25 負
S57: Match No：26 負 | U57: Match No：26 負
S58: Match No：27 負 | U58: Match No：27 負
S59: Match No：28 負 | U59: Match No：28 負

Sheet 会場図
A1: =要項!C2 -> OFA 第 37 回 大分県U-11サッカー選手権大会 | AF1: 会場図
A2: =要項!C9 -> 大分スポーツ公園 クラサスサッカー・ラグビー場A/Bコート
P3: ①芝生・応援席
A5: 芝生・応援席 | I5: 50m | AL5: 芝生・応援席
C11: ベンチ | AK11: ベンチ
P13: 68m
C15: ベンチ | AK15: ベンチ
C23: ↑ | S23: 本部ﾃﾝﾄ | AK23: ↑
C24: ↑ | G24: ①応援席(スタンド） | Q24: ④管理棟（来賓・役員） | X24: ①応援席(スタンド） | AK24: ↑
B25: ②応援出入り口 | AH25: ②応援出入り口
A26: ⑥車進入禁止 | S26: ③出入口締切
R27: （役員のみ）
A28: ⑥Ｂ駐車場 | S28: テント設営可 | W28: 倉庫
W31: WC
O35: ② | P35: 出
A36: ①芝生・応援席 | N36: ← | O36: 応 | P36: 入 | R36: （役員のみ）
N37: ↓ | O37: 援 | P37: 口 | S37: ③出入口締切 | AC37: ②応援出入り口
A38: 芝生・応援席 | C38: ← | D38: ← | E38: ← | F38: ← | G38: ← | H38: ← | I38: ← | J38: ← | K38: ← | L38: ← | M38: ← | N38: ← | S38: 本部ﾃﾝﾄ | AG38: ↓ | AH38: → | AI38: → | AJ38: → | AK38: → | AL38: → | AM38: ↓
J40: 50m
D46: ベンチ | AL46: ベンチ
Q48: 68m
D50: ベンチ | AL50: ベンチ
P57: ①芝生・応援席
B59: ※チーム用横断幕は、ネットへの取り付け不可。 | W59: ※喫煙は、本部テント裏の吸い殻入れ付近のみとする。

Sheet MCM資料
A1: マッチコーディネーションミーティング
A2: OFA 第 37 回 大分県U-11サッカー選手権大会
G6: 予選リーグ ／ 決勝トーナメント 統一資料
D8: 組み合わせ左側チーム | M8: （ | Q8: 市） | S8: ｖｓ | V8: 組み合わせ右側チーム | AE8: （ | AI8: 市）
A10: 予選リーグ会場：大分スポーツ公園 クラサス サッカー・ラグビー場 A / B【A】【B】
A11: 決勝トーナメント会場：大分スポーツ公園 クラサス サッカー・ラグビー場 A【A】【B】
G13: 2025年12月6日(土)～12月7日(日)
B14: 予選L | F14: ①10:00 ②10:50 ③11:40 ④13:20 ⑤14:10 ⑥15:00
B15: 決勝T | F15: ① 9:30 ②10:20 ③11:10 ④12:00 ⑤14:10
A17: 1 | B17: 挨拶および出席者の確認 | M17: 主管協会（ 一般社団法人 大分県サッカー協会 ）
D18: 予選Ｌは、監督会議にて全体でMCM実施
D19: 決勝Ｔは、各チームの1試合目70分前に実施。以降は試合終了後、本部テントにてユニフォーム確認実施。
D20: 決勝戦については、開始70分前に、MCM室にて正式に行う。ユニフォーム持参の事。
A21: 2 | B21: 競技関連事項
B22: （1） | D22: 累積警告選手等の確認 | O22: （本大会要項 （13）競技規則 ③、④）
C23: 組み合わせ左側チーム | K23: ：
C24: 組み合わせ右側チーム | K24: ：
B25: （2） | D25: ユニフォームの色の決定
B27: （3） | D27: 試合登録メンバー（選手および役員）の確認
B29: （４） | D29: 試合時間
B30: ○ | C30: 予選リーグ
C31: ・ | D31: 競技時間は、15分ハーフの計30分とし、ハーフタイムのインターバルは10分とする。
C32: ・ | D32: 順位は、勝ち点(勝3、引分1、負0)・当該対戦・PKの順で決定する。
C33: ・ | D33: 3チーム共に同率時の場合は、3人制のPK方式にて2連勝したチームが次回戦進出とする。
C34: ・ | D34: 各パート上位1チームにより、2日目に決勝トーナメントを行い、優勝チームを決定する。
B35: ○ | C35: 決勝トーナメント
C36: ・ | D36: 競技時間は、15分ハーフの計30分とし、ハーフタイムのインターバルは10分とする。
C37: ・ | D37: 同点の場合、3人制のPK方式にて次回戦進出チームを決定する。
C38: ・ | D38: 準決勝戦以降同点の場合は、6分間の延長(3分ハーフ)を行い、なお決しない場合は3人制のPK方式にて勝敗を決定する。
C39: ・ | D39: （次回戦進出チームを決定するPK方式においてFPをGKとする場合、その選手と同番号のGKユニフォーム又は、サブユニフォームのシャツを着用させる。）
C41: ・ | D41: インターバル＝延長戦に入る前：3分、ペナルティーキック方式に入る前：3分
B42: ○ | C42: 飲水タイムをとる場合は、「その他の理由」により空費された時間として追加する。
B43: ○ | C43: アディッショナルタイムの標記: | O43: 行う（表示用ボード）
B44: （5） | D44: 競技者の数
B45: ○ | C45: 試合開始時の人数は、8対8を原則とする。
B46: ○ | C46: 競技中、怪我人が出た場合は、交代要員から補充すること。
B47: ○ | C47: 退場者が出た場合は、交代要員から補充し、退場者のベンチ戻入は認めない。
B48: ○ | C48: 競技者の数がアンバランスになるのは、該当チームに交代要員がいなくなった時に限る。
B49: （6） | D49: 選手の交代
B50: ○ | C50: 競技開始前に登録した最大8名の交代要員の中から、自由な交代が認められ、交代して退いた競技者は交代要員となり、
C51: 再び出場することができる。（交代の回数は制限されない。）
B52: ○ | C52: 交代は、ボールがインプレー中、アウトオブプレー中にかかわらず行うことができ、チームの指導者、もしくは選手は「第4審」に
C53: 交代選手の番号を口頭で報告し、用具チェックを受けた後、交代ゾーンから行う。ただし、交代で退く競技者が負傷している場合
C54: は、主審の承認を得た上でどこからフィールドを離れてもよい。また、ＧＫが交代する場合はアウトプレー時に主審を通じ行う。
B55: （7） | D55: チームベンチへの人数
C56: ベンチに入る指導者・選手は、あらかじめスタッフ情報に申請した5名のうち1名以上3名以内（うち1名はJFA公認指導者ライセンスを有すること。）・交代要員となる選手８名を最大とする。 ※大会登録書（メンバー表）に記載された選手及び監督・役員以外のベンチ入りは認めない。
B59: （8） | D59: ウォーミングアップ
B60: ***試合前***
B61: ○ | C61: 場所： | F61: 各会場の指定された区域にて
B62: ○ | C62: 時間： | F62: ピッチ外：指定された区域にて
F63: ピッチ内：ゴール使用 前の試合のハーフタイムのみ
B64: ○ | C64: ボール使用の可否： | J64: 可
B65: ***試合中***
B66: ○ | C66: 場所： | F66: ベンチ横
B67: ○ | C67: ボール使用の可否： | J67: 否
B68: ○ | C68: 着衣： | F68: 交代要員の選手は、両チームのユニフォームおよび審判のユニフォームと明確に異なる色の着衣（ビブス等）を身につけること。
B70: （9） | D70: テクニカルエリア
C71: 戦術的指示を与える際は、その都度ただ1名の役員(監督に限定されない)のみが、テクニカルエリア(ベンチの両端から１メ－トルとタッチラインから1メ－トル)内で行うこと。
B73: （10） | D73: 選手のけがの治療
B74: ○ | C74: レフェリ－が認める特別な場合でないかぎり、フィ－ルド内での医療処置は一切認められない。
B75: ○ | C75: ケガをした選手が運び出されたり、主審の許可によりフィ－ルドを出ることが認められる場合、医療担当者は医療処置をフィ－ルドの外で行う。
B77: ○ | C77: 主審の指示を受けた場合にのみ、2名以内のチ－ム役員と担架がフィ－ルドに入ることができる。
B78: ○ | C78: ゴ－ルキ－パ－がケガをした場合は試合を中断し、フィ－ルド内で手当てを受けることが許される。手当てが終わってから試合は再開される。
B80: ○ | C80: 負傷により出血した選手は、出血が止まったことを審判が確認し、主審の合図を受けてからフィールドに復帰することができる。
B81: ○ | C81: 負傷した選手が交代ゾーン以外からピッチを離れ、交替する場合は交替ゾーンから交替する選手は入場する。負傷した選手が治療をおえ、再度交替し入場する場合も交替ゾーンから行う。
B83: （11） | D83: 選手の品行
B84: ○ | C84: フェアプレー | M84: ○ | N84: サッカーのイメージアップ
B85: ○ | C85: ストッキングを引き上げる | M85: ○ | N85: シャツをパンツの中に入れる
B86: ○ | C86: 試合開始前および終了後のセレモニー
B87: （12） | D87: 試合球 | G87: 「 | H87: 予選L：本部にて準備 | Q87: 」 | S87: 「 | T87: 決勝T：本部にて準備 | AC87: 」
B88: （13） | D88: 選手の用具 | I88: 用具及びメンバーチェック キックオフ10分前
B89: ○ | C89: ユニフォームについて（13競技規則①による）
B90: ・ | C90: シャツについては、胸番号/背番号必須で一致していることとし、色彩は、審判員が通常着用する黒色と明確に判別し得るものでなければならない。
B92: ・ | C92: ユニフォームのデザイン、ロゴ等が異なっていても、本競技会主催者が認める場合、主たる色が同系色であれば着用することができる。
B93: ・ | C93: ゴールキーパーのユニフォームについて、ショーツ、ソックスはフィールドプレーヤーと同色系でも良いものとする。
B94: ・ | C94: ソックスにテープまたはその他の材質のものを貼り付ける、または外部に着用する場合、ソックスと同色でなくても良い。
B95: ・ | C95: アンダーシャツの色は問わない。ただし原則としてチーム内で同色のものを着用する。
B96: ・ | C96: アンダーショーツおよびタイツの色は問わない。ただし原則としてチーム内で同色のものを着用する。
B97: ・ | C97: すねあてを必ず着用（すねあて留めを使用する場合は、ソックスと同色である事）
B98: ・ | C98: ゴ－ルキ－パ－は、フィ－ルドの状態、天候によっては長いパンツを着用しても良い
B99: （14） | D99: キックオフ前のセレモニー
B100: ○ | C100: 本部に挨拶を行い、プレーの開始方法を確認した後に、ピッチ内に入場する。
D101: 《 | E101: 組み合わせ左側チーム | N101: 》 | O101: ＜審判団＞ | U101: 《 | V101: 組み合わせ右側チーム | AE101: 》
O102: 本部
A104: 3 | B104: その他
C105: ①大会期間中は、常に選手証及び、指導者資格証、審判資格証を携帯し、必要に応じて提示すること。 指導者資格証、審判資格証を有していない、ベンチ入り予定の指導者については、顔写真の確認が 出来る証明書(運転免許証等)を携帯し、必要に応じて提示すること。 また、ベンチ入りする指導者は、指導者を識別するためのIDプレートを大会本部より配布する。 選手への戦術的な指示やコーチングを行う際は、必ずIDプレートを着用すること。尚、IDを配布される 指導者はD級以上の有資格者とし、無資格者のベンチ入りは認めるが戦術的指示は認めない。
C110: ②本大会要項（20）その他 を、役員・保護者に周知徹底し、大会運営及び感染症対策等に協力すること。
C112: 2025年度 第4種委員会目標
C113: 『安心安全なサッカー ～ベンチからの声かけ～』

Sheet 累積警告・退場
A1: × | C1: =要項!C2 -> OFA 第 37 回 大分県U-11サッカー選手権大会 | F1: 累積警告・退場
C2: =要項!C8 -> 2025年12月6日(土)～12月7日(日) ＊監督会議：12月6日(土)9:00より
D3: 地区予選 | H3: 予選リーグ （１試合目） | L3: 予選リーグ （2試合目） | P3: 1回戦 | T3: 準決勝
A4: 敗戦 | B4: 地区 | C4: チーム名 | D4: 背番号 | E4: 氏名 | F4: 警告/退場 | G4: 内容 | H4: 背番号 | I4: 氏名 | J4: 警告/退場 | K4: 内容 | L4: 背番号 | M4: 氏名 | N4: 警告/退場 | O4: 内容 | P4: 背番号 | Q4: 氏名 | R4: 警告/退場 | S4: 内容 | T4: 背番号 | U4: 氏名 | V4: 警告/退場 | W4: 内容
B5: 大分 | C5: =抽選会資料!C11 -> 0 | E5: =IF(D5="","",VLOOKUP(CONCATENATE(C5,"_",D5),選手名簿!$A:$H,5,FALSE)) | I5: =IF(H5="","",VLOOKUP(CONCATENATE(C5,"_",H5),選手名簿!$A:$H,5,FALSE)) | M5: =IF(L5="","",VLOOKUP(CONCATENATE(C5,"_",L5),選手名簿!$A:$H,5,FALSE)) | Q5: =IF(P5="","",VLOOKUP(CONCATENATE(C5,"_",P5),選手名簿!$A:$H,5,FALSE)) | U5: =IF(T5="","",VLOOKUP(CONCATENATE(C5,"_",T5),選手名簿!$A:$H,5,FALSE))
C6: =抽選会資料!C12 -> 0 | E6: =IF(D6="","",VLOOKUP(CONCATENATE(C6,"_",D6),選手名簿!$A:$H,5,FALSE)) | I6: =IF(H6="","",VLOOKUP(CONCATENATE(C6,"_",H6),選手名簿!$A:$H,5,FALSE)) | M6: =IF(L6="","",VLOOKUP(CONCATENATE(C6,"_",L6),選手名簿!$A:$H,5,FALSE)) | Q6: =IF(P6="","",VLOOKUP(CONCATENATE(C6,"_",P6),選手名簿!$A:$H,5,FALSE)) | U6: =IF(T6="","",VLOOKUP(CONCATENATE(C6,"_",T6),選手名簿!$A:$H,5,FALSE))
C7: =抽選会資料!C13 -> 0 | E7: =IF(D7="","",VLOOKUP(CONCATENATE(C7,"_",D7),選手名簿!$A:$H,5,FALSE)) | I7: =IF(H7="","",VLOOKUP(CONCATENATE(C7,"_",H7),選手名簿!$A:$H,5,FALSE)) | M7: =IF(L7="","",VLOOKUP(CONCATENATE(C7,"_",L7),選手名簿!$A:$H,5,FALSE)) | Q7: =IF(P7="","",VLOOKUP(CONCATENATE(C7,"_",P7),選手名簿!$A:$H,5,FALSE)) | U7: =IF(T7="","",VLOOKUP(CONCATENATE(C7,"_",T7),選手名簿!$A:$H,5,FALSE))
C8: =抽選会資料!C14 -> 0 | E8: =IF(D8="","",VLOOKUP(CONCATENATE(C8,"_",D8),選手名簿!$A:$H,5,FALSE)) | I8: =IF(H8="","",VLOOKUP(CONCATENATE(C8,"_",H8),選手名簿!$A:$H,5,FALSE)) | M8: =IF(L8="","",VLOOKUP(CONCATENATE(C8,"_",L8),選手名簿!$A:$H,5,FALSE)) | Q8: =IF(P8="","",VLOOKUP(CONCATENATE(C8,"_",P8),選手名簿!$A:$H,5,FALSE)) | U8: =IF(T8="","",VLOOKUP(CONCATENATE(C8,"_",T8),選手名簿!$A:$H,5,FALSE))
C9: =抽選会資料!C15 -> 0 | E9: =IF(D9="","",VLOOKUP(CONCATENATE(C9,"_",D9),選手名簿!$A:$H,5,FALSE)) | I9: =IF(H9="","",VLOOKUP(CONCATENATE(C9,"_",H9),選手名簿!$A:$H,5,FALSE)) | M9: =IF(L9="","",VLOOKUP(CONCATENATE(C9,"_",L9),選手名簿!$A:$H,5,FALSE)) | Q9: =IF(P9="","",VLOOKUP(CONCATENATE(C9,"_",P9),選手名簿!$A:$H,5,FALSE)) | U9: =IF(T9="","",VLOOKUP(CONCATENATE(C9,"_",T9),選手名簿!$A:$H,5,FALSE))
C10: =抽選会資料!C16 -> 0 | E10: =IF(D10="","",VLOOKUP(CONCATENATE(C10,"_",D10),選手名簿!$A:$H,5,FALSE)) | I10: =IF(H10="","",VLOOKUP(CONCATENATE(C10,"_",H10),選手名簿!$A:$H,5,FALSE)) | M10: =IF(L10="","",VLOOKUP(CONCATENATE(C10,"_",L10),選手名簿!$A:$H,5,FALSE)) | Q10: =IF(P10="","",VLOOKUP(CONCATENATE(C10,"_",P10),選手名簿!$A:$H,5,FALSE)) | U10: =IF(T10="","",VLOOKUP(CONCATENATE(C10,"_",T10),選手名簿!$A:$H,5,FALSE))
C11: =抽選会資料!C17 -> 0 | E11: =IF(D11="","",VLOOKUP(CONCATENATE(C11,"_",D11),選手名簿!$A:$H,5,FALSE)) | I11: =IF(H11="","",VLOOKUP(CONCATENATE(C11,"_",H11),選手名簿!$A:$H,5,FALSE)) | M11: =IF(L11="","",VLOOKUP(CONCATENATE(C11,"_",L11),選手名簿!$A:$H,5,FALSE)) | Q11: =IF(P11="","",VLOOKUP(CONCATENATE(C11,"_",P11),選手名簿!$A:$H,5,FALSE)) | U11: =IF(T11="","",VLOOKUP(CONCATENATE(C11,"_",T11),選手名簿!$A:$H,5,FALSE))
C12: =抽選会資料!C18 -> 0 | E12: =IF(D12="","",VLOOKUP(CONCATENATE(C12,"_",D12),選手名簿!$A:$H,5,FALSE)) | I12: =IF(H12="","",VLOOKUP(CONCATENATE(C12,"_",H12),選手名簿!$A:$H,5,FALSE)) | M12: =IF(L12="","",VLOOKUP(CONCATENATE(C12,"_",L12),選手名簿!$A:$H,5,FALSE)) | Q12: =IF(P12="","",VLOOKUP(CONCATENATE(C12,"_",P12),選手名簿!$A:$H,5,FALSE)) | U12: =IF(T12="","",VLOOKUP(CONCATENATE(C12,"_",T12),選手名簿!$A:$H,5,FALSE))
C13: =抽選会資料!C19 -> 0 | E13: =IF(D13="","",VLOOKUP(CONCATENATE(C13,"_",D13),選手名簿!$A:$H,5,FALSE)) | I13: =IF(H13="","",VLOOKUP(CONCATENATE(C13,"_",H13),選手名簿!$A:$H,5,FALSE)) | M13: =IF(L13="","",VLOOKUP(CONCATENATE(C13,"_",L13),選手名簿!$A:$H,5,FALSE)) | Q13: =IF(P13="","",VLOOKUP(CONCATENATE(C13,"_",P13),選手名簿!$A:$H,5,FALSE)) | U13: =IF(T13="","",VLOOKUP(CONCATENATE(C13,"_",T13),選手名簿!$A:$H,5,FALSE))
C14: =抽選会資料!C20 -> 0 | E14: =IF(D14="","",VLOOKUP(CONCATENATE(C14,"_",D14),選手名簿!$A:$H,5,FALSE)) | I14: =IF(H14="","",VLOOKUP(CONCATENATE(C14,"_",H14),選手名簿!$A:$H,5,FALSE)) | M14: =IF(L14="","",VLOOKUP(CONCATENATE(C14,"_",L14),選手名簿!$A:$H,5,FALSE)) | Q14: =IF(P14="","",VLOOKUP(CONCATENATE(C14,"_",P14),選手名簿!$A:$H,5,FALSE)) | U14: =IF(T14="","",VLOOKUP(CONCATENATE(C14,"_",T14),選手名簿!$A:$H,5,FALSE))
C15: =抽選会資料!C21 -> 0 | E15: =IF(D15="","",VLOOKUP(CONCATENATE(C15,"_",D15),選手名簿!$A:$H,5,FALSE)) | I15: =IF(H15="","",VLOOKUP(CONCATENATE(C15,"_",H15),選手名簿!$A:$H,5,FALSE)) | M15: =IF(L15="","",VLOOKUP(CONCATENATE(C15,"_",L15),選手名簿!$A:$H,5,FALSE)) | Q15: =IF(P15="","",VLOOKUP(CONCATENATE(C15,"_",P15),選手名簿!$A:$H,5,FALSE)) | U15: =IF(T15="","",VLOOKUP(CONCATENATE(C15,"_",T15),選手名簿!$A:$H,5,FALSE))
B16: 中津 | C16: =抽選会資料!J11 -> 0 | E16: =IF(D16="","",VLOOKUP(CONCATENATE(C16,"_",D16),選手名簿!$A:$H,5,FALSE)) | I16: =IF(H16="","",VLOOKUP(CONCATENATE(C16,"_",H16),選手名簿!$A:$H,5,FALSE)) | M16: =IF(L16="","",VLOOKUP(CONCATENATE(C16,"_",L16),選手名簿!$A:$H,5,FALSE)) | Q16: =IF(P16="","",VLOOKUP(CONCATENATE(C16,"_",P16),選手名簿!$A:$H,5,FALSE)) | U16: =IF(T16="","",VLOOKUP(CONCATENATE(C16,"_",T16),選手名簿!$A:$H,5,FALSE))
C17: =抽選会資料!J12 -> 0 | E17: =IF(D17="","",VLOOKUP(CONCATENATE(C17,"_",D17),選手名簿!$A:$H,5,FALSE)) | I17: =IF(H17="","",VLOOKUP(CONCATENATE(C17,"_",H17),選手名簿!$A:$H,5,FALSE)) | M17: =IF(L17="","",VLOOKUP(CONCATENATE(C17,"_",L17),選手名簿!$A:$H,5,FALSE)) | Q17: =IF(P17="","",VLOOKUP(CONCATENATE(C17,"_",P17),選手名簿!$A:$H,5,FALSE)) | U17: =IF(T17="","",VLOOKUP(CONCATENATE(C17,"_",T17),選手名簿!$A:$H,5,FALSE))
B18: 速杵国東 | C18: =抽選会資料!J13 -> 0 | E18: =IF(D18="","",VLOOKUP(CONCATENATE(C18,"_",D18),選手名簿!$A:$H,5,FALSE)) | I18: =IF(H18="","",VLOOKUP(CONCATENATE(C18,"_",H18),選手名簿!$A:$H,5,FALSE)) | M18: =IF(L18="","",VLOOKUP(CONCATENATE(C18,"_",L18),選手名簿!$A:$H,5,FALSE)) | Q18: =IF(P18="","",VLOOKUP(CONCATENATE(C18,"_",P18),選手名簿!$A:$H,5,FALSE)) | U18: =IF(T18="","",VLOOKUP(CONCATENATE(C18,"_",T18),選手名簿!$A:$H,5,FALSE))
C19: =抽選会資料!J14 -> 0 | E19: =IF(D19="","",VLOOKUP(CONCATENATE(C19,"_",D19),選手名簿!$A:$H,5,FALSE)) | I19: =IF(H19="","",VLOOKUP(CONCATENATE(C19,"_",H19),選手名簿!$A:$H,5,FALSE)) | M19: =IF(L19="","",VLOOKUP(CONCATENATE(C19,"_",L19),選手名簿!$A:$H,5,FALSE)) | Q19: =IF(P19="","",VLOOKUP(CONCATENATE(C19,"_",P19),選手名簿!$A:$H,5,FALSE)) | U19: =IF(T19="","",VLOOKUP(CONCATENATE(C19,"_",T19),選手名簿!$A:$H,5,FALSE))
B20: 宇佐高田 | C20: =抽選会資料!J15 -> 0 | E20: =IF(D20="","",VLOOKUP(CONCATENATE(C20,"_",D20),選手名簿!$A:$H,5,FALSE)) | I20: =IF(H20="","",VLOOKUP(CONCATENATE(C20,"_",H20),選手名簿!$A:$H,5,FALSE)) | M20: =IF(L20="","",VLOOKUP(CONCATENATE(C20,"_",L20),選手名簿!$A:$H,5,FALSE)) | Q20: =IF(P20="","",VLOOKUP(CONCATENATE(C20,"_",P20),選手名簿!$A:$H,5,FALSE)) | U20: =IF(T20="","",VLOOKUP(CONCATENATE(C20,"_",T20),選手名簿!$A:$H,5,FALSE))
C21: =抽選会資料!J16 -> 0 | E21: =IF(D21="","",VLOOKUP(CONCATENATE(C21,"_",D21),選手名簿!$A:$H,5,FALSE)) | I21: =IF(H21="","",VLOOKUP(CONCATENATE(C21,"_",H21),選手名簿!$A:$H,5,FALSE)) | M21: =IF(L21="","",VLOOKUP(CONCATENATE(C21,"_",L21),選手名簿!$A:$H,5,FALSE)) | Q21: =IF(P21="","",VLOOKUP(CONCATENATE(C21,"_",P21),選手名簿!$A:$H,5,FALSE)) | U21: =IF(T21="","",VLOOKUP(CONCATENATE(C21,"_",T21),選手名簿!$A:$H,5,FALSE))
B22: 別府 | C22: =抽選会資料!J17 -> 0 | E22: =IF(D22="","",VLOOKUP(CONCATENATE(C22,"_",D22),選手名簿!$A:$H,5,FALSE)) | I22: =IF(H22="","",VLOOKUP(CONCATENATE(C22,"_",H22),選手名簿!$A:$H,5,FALSE)) | M22: =IF(L22="","",VLOOKUP(CONCATENATE(C22,"_",L22),選手名簿!$A:$H,5,FALSE)) | Q22: =IF(P22="","",VLOOKUP(CONCATENATE(C22,"_",P22),選手名簿!$A:$H,5,FALSE)) | U22: =IF(T22="","",VLOOKUP(CONCATENATE(C22,"_",T22),選手名簿!$A:$H,5,FALSE))
C23: =抽選会資料!J18 -> 0 | E23: =IF(D23="","",VLOOKUP(CONCATENATE(C23,"_",D23),選手名簿!$A:$H,5,FALSE)) | I23: =IF(H23="","",VLOOKUP(CONCATENATE(C23,"_",H23),選手名簿!$A:$H,5,FALSE)) | M23: =IF(L23="","",VLOOKUP(CONCATENATE(C23,"_",L23),選手名簿!$A:$H,5,FALSE)) | Q23: =IF(P23="","",VLOOKUP(CONCATENATE(C23,"_",P23),選手名簿!$A:$H,5,FALSE)) | U23: =IF(T23="","",VLOOKUP(CONCATENATE(C23,"_",T23),選手名簿!$A:$H,5,FALSE))
B24: 日田/玖珠 | C24: =抽選会資料!J19 -> 0 | E24: =IF(D24="","",VLOOKUP(CONCATENATE(C24,"_",D24),選手名簿!$A:$H,5,FALSE)) | I24: =IF(H24="","",VLOOKUP(CONCATENATE(C24,"_",H24),選手名簿!$A:$H,5,FALSE)) | M24: =IF(L24="","",VLOOKUP(CONCATENATE(C24,"_",L24),選手名簿!$A:$H,5,FALSE)) | Q24: =IF(P24="","",VLOOKUP(CONCATENATE(C24,"_",P24),選手名簿!$A:$H,5,FALSE)) | U24: =IF(T24="","",VLOOKUP(CONCATENATE(C24,"_",T24),選手名簿!$A:$H,5,FALSE))
C25: =抽選会資料!J20 -> 0 | E25: =IF(D25="","",VLOOKUP(CONCATENATE(C25,"_",D25),選手名簿!$A:$H,5,FALSE)) | I25: =IF(H25="","",VLOOKUP(CONCATENATE(C25,"_",H25),選手名簿!$A:$H,5,FALSE)) | M25: =IF(L25="","",VLOOKUP(CONCATENATE(C25,"_",L25),選手名簿!$A:$H,5,FALSE)) | Q25: =IF(P25="","",VLOOKUP(CONCATENATE(C25,"_",P25),選手名簿!$A:$H,5,FALSE)) | U25: =IF(T25="","",VLOOKUP(CONCATENATE(C25,"_",T25),選手名簿!$A:$H,5,FALSE))
B26: 佐伯 | C26: =抽選会資料!J21 -> 0 | E26: =IF(D26="","",VLOOKUP(CONCATENATE(C26,"_",D26),選手名簿!$A:$H,5,FALSE)) | I26: =IF(H26="","",VLOOKUP(CONCATENATE(C26,"_",H26),選手名簿!$A:$H,5,FALSE)) | M26: =IF(L26="","",VLOOKUP(CONCATENATE(C26,"_",L26),選手名簿!$A:$H,5,FALSE)) | Q26: =IF(P26="","",VLOOKUP(CONCATENATE(C26,"_",P26),選手名簿!$A:$H,5,FALSE)) | U26: =IF(T26="","",VLOOKUP(CONCATENATE(C26,"_",T26),選手名簿!$A:$H,5,FALSE))
B27: 豊肥 | C27: =抽選会資料!J22 -> 0 | E27: =IF(D27="","",VLOOKUP(CONCATENATE(C27,"_",D27),選手名簿!$A:$H,5,FALSE)) | I27: =IF(H27="","",VLOOKUP(CONCATENATE(C27,"_",H27),選手名簿!$A:$H,5,FALSE)) | M27: =IF(L27="","",VLOOKUP(CONCATENATE(C27,"_",L27),選手名簿!$A:$H,5,FALSE)) | Q27: =IF(P27="","",VLOOKUP(CONCATENATE(C27,"_",P27),選手名簿!$A:$H,5,FALSE)) | U27: =IF(T27="","",VLOOKUP(CONCATENATE(C27,"_",T27),選手名簿!$A:$H,5,FALSE))
B28: 臼杵/津久見 | C28: =抽選会資料!J23 -> 0 | E28: =IF(D28="","",VLOOKUP(CONCATENATE(C28,"_",D28),選手名簿!$A:$H,5,FALSE)) | I28: =IF(H28="","",VLOOKUP(CONCATENATE(C28,"_",H28),選手名簿!$A:$H,5,FALSE)) | M28: =IF(L28="","",VLOOKUP(CONCATENATE(C28,"_",L28),選手名簿!$A:$H,5,FALSE)) | Q28: =IF(P28="","",VLOOKUP(CONCATENATE(C28,"_",P28),選手名簿!$A:$H,5,FALSE)) | U28: =IF(T28="","",VLOOKUP(CONCATENATE(C28,"_",T28),選手名簿!$A:$H,5,FALSE))
C31: 豊府サッカースポーツ少年団 | D31: 8 | E31: 坂口 翔望 | F31: 警告 | G31: 反スポ
C34: 戸次吉野ＳＳＳ | D34: 1 | E34: 上村 航平 | F34: 警告 | G34: 反スポ
C35: 戸次吉野ＳＳＳ | D35: 17 | E35: 佐藤 凱李 | F35: 警告 | G35: 繰り返し
C38: ドリームキッズフットボールクラブ | D38: 2 | E38: 橋山 駿 | F38: 警告 | G38: 繰り返し

Sheet 予選リーグ
B1: 《予選リーグ日程》 | F1: 12月6日（土）
C2: 8:00 | E2: グラウンド設営 | G2: 9:00 | I2: 監督会議
D4: 「Aパート」 | G4: 「Bパート」 | J4: 「Eパート」 | M4: 「Fパート」
D5: =組合せ抽選用!E5 -> A1 | G5: =組合せ抽選用!E22 -> B1 | J5: =組合せ抽選用!E13 -> E1 | M5: =組合せ抽選用!E30 -> F1
C7: =組合せ抽選用!C9 -> A2 | E7: =組合せ抽選用!F9 -> A3 | F7: =組合せ抽選用!C26 -> B2 | H7: =組合せ抽選用!F26 -> B3 | I7: =組合せ抽選用!C17 -> E2 | K7: =組合せ抽選用!F17 -> E3 | L7: =組合せ抽選用!C34 -> F2 | N7: =組合せ抽選用!F34 -> F3
D9: 「Cパート」 | G9: 「Dパート」 | J9: 「Gパート」 | M9: 「Hパート」
D10: =組合せ抽選用!L5 -> C1 | G10: =組合せ抽選用!L22 -> D1 | J10: =組合せ抽選用!L13 -> G1 | M10: =組合せ抽選用!L30 -> H1
C12: =組合せ抽選用!J9 -> C2 | E12: =組合せ抽選用!M9 -> C3 | F12: =組合せ抽選用!J26 -> D2 | H12: =組合せ抽選用!M26 -> D3 | I12: =組合せ抽選用!J17 -> G2 | K12: =組合せ抽選用!M17 -> G3 | L12: =組合せ抽選用!J34 -> H2 | N12: =組合せ抽選用!M34 -> H3
C14: レゾナック サッカー・ラグビー場 Aコート | I14: レゾナック サッカー・ラグビー場 Bコート
B15: 開始時刻 | C15: 「A」コート | F15: 「B」コート | I15: 「A」コート | L15: 「B」コート
B16: 会場設営
B17: ｺﾞｰﾙ運搬
B18: 審判 | D18: 1人 審判 | G18: 1人 審判 | J18: 1人 審判 | M18: 1人 審判
A19: ① | B19: 0.41666667 | C19: =D5 -> A1 | D19: =E7 -> A3 | E19: =C7 -> A2 | F19: =G5 -> B1 | G19: =H7 -> B3 | H19: =F7 -> B2 | I19: =J5 -> E1 | J19: =K7 -> E3 | K19: =I7 -> E2 | L19: =M5 -> F1 | M19: =N7 -> F3 | N19: =L7 -> F2
A21: ② | B21: 0.45138889 | C21: =D10 -> C1 | D21: =E12 -> C3 | E21: =C12 -> C2 | F21: =G10 -> D1 | G21: =H12 -> D3 | H21: =F12 -> D2 | I21: =J10 -> G1 | J21: =K12 -> G3 | K21: =I12 -> G2 | L21: =M10 -> H1 | M21: =N12 -> H3 | N21: =L12 -> H2
A23: ③ | B23: 0.48611111 | C23: =C7 -> A2 | D23: =D5 -> A1 | E23: =E7 -> A3 | F23: =F7 -> B2 | G23: =G5 -> B1 | H23: =H7 -> B3 | I23: =I7 -> E2 | J23: =J5 -> E1 | K23: =K7 -> E3 | L23: =L7 -> F2 | M23: =M5 -> F1 | N23: =N7 -> F3
B25: 0.52083333 | C25: 休 憩
A27: ④ | B27: 0.55555556 | C27: =C12 -> C2 | D27: =D10 -> C1 | E27: =E12 -> C3 | F27: =F12 -> D2 | G27: =G10 -> D1 | H27: =H12 -> D3 | I27: =I12 -> G2 | J27: =J10 -> G1 | K27: =K12 -> G3 | L27: =L12 -> H2 | M27: =M10 -> H1 | N27: =N12 -> H3
A29: ⑤ | B29: 0.59027778 | C29: =E7 -> A3 | D29: =C7 -> A2 | E29: =D5 -> A1 | F29: =H7 -> B3 | G29: =F7 -> B2 | H29: =G5 -> B1 | I29: =K7 -> E3 | J29: =I7 -> E2 | K29: =J5 -> E1 | L29: =N7 -> F3 | M29: =L7 -> F2 | N29: =M5 -> F1
A31: ⑥ | B31: 0.625 | C31: =E12 -> C3 | D31: =C12 -> C2 | E31: =D10 -> C1 | F31: =H12 -> D3 | G31: =F12 -> D2 | H31: =G10 -> D1 | I31: =K12 -> G3 | J31: =I12 -> G2 | K31: =J10 -> G1 | L31: =N12 -> H3 | M31: =L12 -> H2 | N31: =M10 -> H1

Sheet 予選リーグ (2)
A1: ＜予選リーグ組み合わせ・結果＞ | AC1: ＜予選リーグ組み合わせ・結果＞
A3: 会場 | D3: =予選リーグ!C14 -> レゾナック サッカー・ラグビー場 Aコート | AC3: 会場 | AF3: =予選リーグ!I14 -> レゾナック サッカー・ラグビー場 Bコート
A4: グループ | D4: 【 A 】 | J4: 【 C 】 | P4: 【 B 】 | V4: 【 D 】 | AC4: グループ | AF4: 【 E 】 | AL4: 【 G 】 | AR4: 【 F 】 | AX4: 【 H 】
A5: チーム | D5: =予選リーグ!D5 -> A1 | J5: =予選リーグ!D10 -> C1 | P5: =予選リーグ!G5 -> B1 | V5: =予選リーグ!G10 -> D1 | AC5: チーム | AF5: =予選リーグ!J5 -> E1 | AL5: =予選リーグ!J10 -> G1 | AR5: =予選リーグ!M5 -> F1 | AX5: =予選リーグ!M10 -> H1
D6: =予選リーグ!C7 -> A2 | J6: =予選リーグ!C12 -> C2 | P6: =予選リーグ!F7 -> B2 | V6: =予選リーグ!F12 -> D2 | AF6: =予選リーグ!I7 -> E2 | AL6: =予選リーグ!I12 -> G2 | AR6: =予選リーグ!L7 -> F2 | AX6: =予選リーグ!L12 -> H2
D7: =予選リーグ!E7 -> A3 | J7: =予選リーグ!E12 -> C3 | P7: =予選リーグ!H7 -> B3 | V7: =予選リーグ!H12 -> D3 | AF7: =予選リーグ!K7 -> E3 | AL7: =予選リーグ!K12 -> G3 | AR7: =予選リーグ!N7 -> F3 | AX7: =予選リーグ!N12 -> H3
A10: 【組合せ・時間割】 | AC10: 【組合せ・時間割】
A11: コート | D11: =予選リーグ!C15 -> 「A」コート | P11: =予選リーグ!F15 -> 「B」コート | AC11: コート | AF11: =予選リーグ!I15 -> 「A」コート | AR11: =予選リーグ!L15 -> 「B」コート
A12: 試合時間 | I12: 対戦相手 | M12: 1人審判 | U12: 対戦相手 | Y12: 1人審判 | AC12: 試合時間 | AK12: 対戦相手 | AO12: 1人審判 | AW12: 対戦相手 | BA12: 1人審判
A13: ① | B13: =予選リーグ!B19 -> 0.41666667 | D13: チーム名 | F13: =予選リーグ!C19 -> A1 | I13: - | J13: =予選リーグ!E19 -> A2 | M13: =予選リーグ!D19 -> A3 | P13: チーム名 | R13: =予選リーグ!F19 -> B1 | U13: - | V13: =予選リーグ!H19 -> B2 | Y13: =予選リーグ!G19 -> B3 | AC13: ① | AD13: =予選リーグ!B19 -> 0.41666667 | AF13: チーム名 | AH13: =予選リーグ!I19 -> E1 | AK13: - | AL13: =予選リーグ!K19 -> E2 | AO13: =予選リーグ!J19 -> E3 | AR13: チーム名 | AT13: =予選リーグ!L19 -> F1 | AW13: - | AX13: =予選リーグ!N19 -> F2 | BA13: =予選リーグ!M19 -> F3
D14: 得失点 | I14: - | P14: 得失点 | U14: - | AF14: 得失点 | AK14: - | AR14: 得失点 | AW14: -
A15: ② | B15: =予選リーグ!B21 -> 0.45138889 | D15: チーム名 | F15: =予選リーグ!C21 -> C1 | I15: - | J15: =予選リーグ!E21 -> C2 | M15: =予選リーグ!D21 -> C3 | P15: チーム名 | R15: =予選リーグ!F21 -> D1 | U15: - | V15: =予選リーグ!H21 -> D2 | Y15: =予選リーグ!G21 -> D3 | AC15: ② | AD15: =予選リーグ!B21 -> 0.45138889 | AF15: チーム名 | AH15: =予選リーグ!I21 -> G1 | AK15: - | AL15: =予選リーグ!K21 -> G2 | AO15: =予選リーグ!J21 -> G3 | AR15: チーム名 | AT15: =予選リーグ!L21 -> H1 | AW15: - | AX15: =予選リーグ!N21 -> H2 | BA15: =予選リーグ!M21 -> H3
D16: 得失点 | I16: - | P16: 得失点 | U16: - | AF16: 得失点 | AK16: - | AR16: 得失点 | AW16: -
A17: ③ | B17: =予選リーグ!B23 -> 0.48611111 | D17: チーム名 | F17: =予選リーグ!C23 -> A2 | I17: - | J17: =予選リーグ!E23 -> A3 | M17: =予選リーグ!D23 -> A1 | P17: チーム名 | R17: =予選リーグ!F23 -> B2 | U17: - | V17: =予選リーグ!H23 -> B3 | Y17: =予選リーグ!G23 -> B1 | AC17: ③ | AD17: =予選リーグ!B23 -> 0.48611111 | AF17: チーム名 | AH17: =予選リーグ!I23 -> E2 | AK17: - | AL17: =予選リーグ!K23 -> E3 | AO17: =予選リーグ!J23 -> E1 | AR17: チーム名 | AT17: =予選リーグ!L23 -> F2 | AW17: - | AX17: =予選リーグ!N23 -> F3 | BA17: =予選リーグ!M23 -> F1
D18: 得失点 | I18: - | P18: 得失点 | U18: - | AF18: 得失点 | AK18: - | AR18: 得失点 | AW18: -
B19: =予選リーグ!B25 -> 0.52083333 | D19: 休 憩 | AD19: =予選リーグ!B25 -> 0.52083333 | AF19: 休 憩
A21: ④ | B21: =予選リーグ!B27 -> 0.55555556 | D21: チーム名 | F21: =予選リーグ!C27 -> C2 | I21: - | J21: =予選リーグ!E27 -> C3 | M21: =予選リーグ!D27 -> C1 | P21: チーム名 | R21: =予選リーグ!F27 -> D2 | U21: - | V21: =予選リーグ!H27 -> D3 | Y21: =予選リーグ!G27 -> D1 | AC21: ④ | AD21: =予選リーグ!B27 -> 0.55555556 | AF21: チーム名 | AH21: =予選リーグ!I27 -> G2 | AK21: - | AL21: =予選リーグ!K27 -> G3 | AO21: =予選リーグ!J27 -> G1 | AR21: チーム名 | AT21: =予選リーグ!L27 -> H2 | AW21: - | AX21: =予選リーグ!N27 -> H3 | BA21: =予選リーグ!M27 -> H1
D22: 得失点 | I22: - | P22: 得失点 | U22: - | AF22: 得失点 | AK22: - | AR22: 得失点 | AW22: -
A23: ⑤ | B23: =予選リーグ!B29 -> 0.59027778 | D23: チーム名 | F23: =予選リーグ!C29 -> A3 | I23: - | J23: =予選リーグ!E29 -> A1 | M23: =予選リーグ!D29 -> A2 | P23: チーム名 | R23: =予選リーグ!F29 -> B3 | U23: - | V23: =予選リーグ!H29 -> B1 | Y23: =予選リーグ!G29 -> B2 | AC23: ⑤ | AD23: =予選リーグ!B29 -> 0.59027778 | AF23: チーム名 | AH23: =予選リーグ!I29 -> E3 | AK23: - | AL23: =予選リーグ!K29 -> E1 | AO23: =予選リーグ!J29 -> E2 | AR23: チーム名 | AT23: =予選リーグ!L29 -> F3 | AW23: - | AX23: =予選リーグ!N29 -> F1 | BA23: =予選リーグ!M29 -> F2
D24: 得失点 | I24: - | P24: 得失点 | U24: - | AF24: 得失点 | AK24: - | AR24: 得失点 | AW24: -
A25: ⑥ | B25: =予選リーグ!B31 -> 0.625 | D25: チーム名 | F25: =予選リーグ!C31 -> C3 | I25: - | J25: =予選リーグ!E31 -> C1 | M25: =予選リーグ!D31 -> C2 | P25: チーム名 | R25: =予選リーグ!F31 -> D3 | U25: - | V25: =予選リーグ!H31 -> D1 | Y25: =予選リーグ!G31 -> D2 | AC25: ⑥ | AD25: =予選リーグ!B31 -> 0.625 | AF25: チーム名 | AH25: =予選リーグ!I31 -> G3 | AK25: - | AL25: =予選リーグ!K31 -> G1 | AO25: =予選リーグ!J31 -> G2 | AR25: チーム名 | AT25: =予選リーグ!L31 -> H3 | AW25: - | AX25: =予選リーグ!N31 -> H1 | BA25: =予選リーグ!M31 -> H2
D26: 得失点 | I26: - | P26: 得失点 | U26: - | AF26: 得失点 | AK26: - | AR26: 得失点 | AW26: -
F45: 勝点表 | G45: 勝 | H45: 3 | J45: 分 | K45: 1 | M45: 負 | N45: 0 | AH45: 勝点表 | AI45: 勝 | AJ45: 3 | AL45: 分 | AM45: 1 | AO45: 負 | AP45: 0
AV46: ※大会規定によるPK結果
A47: Aパート | D47: =A48 -> A1 | G47: =A50 -> A2 | J47: =A52 -> A3 | M47: 勝 | N47: 分 | O47: 敗 | P47: 勝 点 | Q47: 勝点 順位 | S47: ﾄｰﾀﾙ 順位 | AC47: Eパート | AF47: =AC48 -> E1 | AI47: =AC50 -> E2 | AL47: =AC52 -> E3 | AO47: 勝 | AP47: 分 | AQ47: 敗 | AR47: 勝 点 | AS47: 勝点 順位 | AU47: ﾄｰﾀﾙ 順位
A48: =予選リーグ!D5 -> A1 | B48: 星取表 | H48: =IF(G49="","",IF(G49>I49,"○",IF(G49<I49,"●",IF(G49=I49,"△")))) -> △ | K48: =IF(J49="","",IF(J49>L49,"○",IF(J49<L49,"●",IF(J49=L49,"△")))) -> △ | M48: =COUNTIF(D48:L48,"○") -> 0 | N48: =COUNTIF(D48:L48,"△")+COUNTIF(D48:L48,"▲") -> 2 | O48: =COUNTIF(D48:L48,"●") -> 0 | P48: =(M48*3)+(N48*1) -> 2 | Q48: =RANK(P48,P$48:P$53) -> 1 | R48: 位 | AC48: =予選リーグ!J5 -> E1 | AD48: 星取表 | AJ48: =IF(AI49="","",IF(AI49>AK49,"○",IF(AI49<AK49,"●",IF(AI49=AK49,"△")))) -> △ | AM48: =IF(AL49="","",IF(AL49>AN49,"○",IF(AL49<AN49,"●",IF(AL49=AN49,"△")))) -> △ | AO48: =COUNTIF(AF48:AN48,"○") -> 0 | AP48: =COUNTIF(AF48:AN48,"△")+COUNTIF(AF48:AN48,"▲") -> 2 | AQ48: =COUNTIF(AF48:AN48,"●") -> 0 | AR48: =(AO48*3)+(AP48*1) -> 2 | AS48: =RANK(AR48,AR$48:AR$53) -> 1 | AT48: 位
B49: 得失点 | G49: =F14 -> 0 | H49: - | I49: =J14 -> 0 | J49: =J24 -> 0 | K49: - | L49: =F24 -> 0 | AD49: 得失点 | AI49: =AH14 -> 0 | AJ49: - | AK49: =AL14 -> 0 | AL49: =AL24 -> 0 | AM49: - | AN49: =AH24 -> 0
A50: =予選リーグ!C7 -> A2 | B50: 星取表 | E50: =IF(D51="","",IF(D51>F51,"○",IF(D51<F51,"●",IF(D51=F51,"△")))) -> △ | K50: =IF(J51="","",IF(J51>L51,"○",IF(J51<L51,"●",IF(J51=L51,"△")))) -> △ | M50: =COUNTIF(D50:L50,"○") -> 0 | N50: =COUNTIF(D50:L50,"△")+COUNTIF(D50:L50,"▲") -> 2 | O50: =COUNTIF(D50:L50,"●") -> 0 | P50: =(M50*3)+(N50*1) -> 2 | Q50: =RANK(P50,P$48:P$53) -> 1 | R50: 位 | AC50: =予選リーグ!I7 -> E2 | AD50: 星取表 | AG50: =IF(AF51="","",IF(AF51>AH51,"○",IF(AF51<AH51,"●",IF(AF51=AH51,"△")))) -> △ | AM50: =IF(AL51="","",IF(AL51>AN51,"○",IF(AL51<AN51,"●",IF(AL51=AN51,"△")))) -> △ | AO50: =COUNTIF(AF50:AN50,"○") -> 0 | AP50: =COUNTIF(AF50:AN50,"△")+COUNTIF(AF50:AN50,"▲") -> 2 | AQ50: =COUNTIF(AF50:AN50,"●") -> 0 | AR50: =(AO50*3)+(AP50*1) -> 2 | AS50: =RANK(AR50,AR$48:AR$53) -> 1 | AT50: 位
B51: 得失点 | D51: =I49 -> 0 | E51: - | F51: =G49 -> 0 | J51: =F18 -> 0 | K51: - | L51: =J18 -> 0 | AD51: 得失点 | AF51: =AK49 -> 0 | AG51: - | AH51: =AI49 -> 0 | AL51: =AH18 -> 0 | AM51: - | AN51: =AL18 -> 0
A52: =予選リーグ!E7 -> A3 | B52: 星取表 | E52: =IF(D53="","",IF(D53>F53,"○",IF(D53<F53,"●",IF(D53=F53,"△")))) -> △ | H52: =IF(G53="","",IF(G53>I53,"○",IF(G53<I53,"●",IF(G53=I53,"△")))) -> △ | M52: =COUNTIF(D52:L52,"○") -> 0 | N52: =COUNTIF(D52:L52,"△")+COUNTIF(D52:L52,"▲") -> 2 | O52: =COUNTIF(D52:L52,"●") -> 0 | P52: =(M52*3)+(N52*1) -> 2 | Q52: =RANK(P52,P$48:P$53) -> 1 | R52: 位 | AC52: =予選リーグ!K7 -> E3 | AD52: 星取表 | AG52: =IF(AF53="","",IF(AF53>AH53,"○",IF(AF53<AH53,"●",IF(AF53=AH53,"△")))) -> △ | AJ52: =IF(AI53="","",IF(AI53>AK53,"○",IF(AI53<AK53,"●",IF(AI53=AK53,"△")))) -> △ | AO52: =COUNTIF(AF52:AN52,"○") -> 0 | AP52: =COUNTIF(AF52:AN52,"△")+COUNTIF(AF52:AN52,"▲") -> 2 | AQ52: =COUNTIF(AF52:AN52,"●") -> 0 | AR52: =(AO52*3)+(AP52*1) -> 2 | AS52: =RANK(AR52,AR$48:AR$53) -> 1 | AT52: 位
B53: 得失点 | D53: =L49 -> 0 | E53: - | F53: =J49 -> 0 | G53: =L51 -> 0 | H53: - | I53: =J51 -> 0 | AD53: 得失点 | AF53: =AN49 -> 0 | AG53: - | AH53: =AL49 -> 0 | AI53: =AN51 -> 0 | AJ53: - | AK53: =AL51 -> 0
A55: Bパート | D55: =A56 -> B1 | G55: =A58 -> B2 | J55: =A60 -> B3 | M55: 勝 | N55: 分 | O55: 敗 | P55: 勝 点 | Q55: 勝点 順位 | S55: ﾄｰﾀﾙ 順位 | AC55: Fパート | AF55: =AC56 -> F1 | AI55: =AC58 -> F2 | AL55: =AC60 -> F3 | AO55: 勝 | AP55: 分 | AQ55: 敗 | AR55: 勝 点 | AS55: 勝点 順位 | AU55: ﾄｰﾀﾙ 順位
A56: =予選リーグ!G5 -> B1 | B56: 星取表 | H56: =IF(G57="","",IF(G57>I57,"○",IF(G57<I57,"●",IF(G57=I57,"△")))) -> △ | K56: =IF(J57="","",IF(J57>L57,"○",IF(J57<L57,"●",IF(J57=L57,"△")))) -> △ | M56: =COUNTIF(D56:L56,"○") -> 0 | N56: =COUNTIF(D56:L56,"△")+COUNTIF(D56:L56,"▲") -> 2 | O56: =COUNTIF(D56:L56,"●") -> 0 | P56: =(M56*3)+(N56*1) -> 2 | Q56: =RANK(P56,$P$56:$P$61) -> 1 | R56: 位 | AC56: =予選リーグ!M5 -> F1 | AD56: 星取表 | AJ56: =IF(AI57="","",IF(AI57>AK57,"○",IF(AI57<AK57,"●",IF(AI57=AK57,"△")))) -> △ | AM56: =IF(AL57="","",IF(AL57>AN57,"○",IF(AL57<AN57,"●",IF(AL57=AN57,"△")))) -> △ | AO56: =COUNTIF(AF56:AN56,"○") -> 0 | AP56: =COUNTIF(AF56:AN56,"△")+COUNTIF(AF56:AN56,"▲") -> 2 | AQ56: =COUNTIF(AF56:AN56,"●") -> 0 | AR56: =(AO56*3)+(AP56*1) -> 2 | AS56: =RANK(AR56,$AR$56:$AR$61) -> 1 | AT56: 位
B57: 得失点 | G57: =R14 -> 0 | H57: - | I57: =V14 -> 0 | J57: =V24 -> 0 | K57: - | L57: =R24 -> 0 | AD57: 得失点 | AI57: =AT14 -> 0 | AJ57: - | AK57: =AX14 -> 0 | AL57: =AX24 -> 0 | AM57: - | AN57: =AT24 -> 0
A58: =予選リーグ!F7 -> B2 | B58: 星取表 | E58: =IF(D59="","",IF(D59>F59,"○",IF(D59<F59,"●",IF(D59=F59,"△")))) -> △ | K58: =IF(J59="","",IF(J59>L59,"○",IF(J59<L59,"●",IF(J59=L59,"△")))) -> △ | M58: =COUNTIF(D58:L58,"○") -> 0 | N58: =COUNTIF(D58:L58,"△")+COUNTIF(D58:L58,"▲") -> 2 | O58: =COUNTIF(D58:L58,"●") -> 0 | P58: =(M58*3)+(N58*1) -> 2 | Q58: =RANK(P58,$P$56:$P$61) -> 1 | R58: 位 | AC58: =予選リーグ!L7 -> F2 | AD58: 星取表 | AG58: =IF(AF59="","",IF(AF59>AH59,"○",IF(AF59<AH59,"●",IF(AF59=AH59,"△")))) -> △ | AM58: =IF(AL59="","",IF(AL59>AN59,"○",IF(AL59<AN59,"●",IF(AL59=AN59,"△")))) -> △ | AO58: =COUNTIF(AF58:AN58,"○") -> 0 | AP58: =COUNTIF(AF58:AN58,"△")+COUNTIF(AF58:AN58,"▲") -> 2 | AQ58: =COUNTIF(AF58:AN58,"●") -> 0 | AR58: =(AO58*3)+(AP58*1) -> 2 | AS58: =RANK(AR58,$AR$56:$AR$61) -> 1 | AT58: 位
B59: 得失点 | D59: =I57 -> 0 | E59: - | F59: =G57 -> 0 | J59: =R18 -> 0 | K59: - | L59: =V18 -> 0 | AD59: 得失点 | AF59: =AK57 -> 0 | AG59: - | AH59: =AI57 -> 0 | AL59: =AT18 -> 0 | AM59: - | AN59: =AX18 -> 0
A60: =予選リーグ!H7 -> B3 | B60: 星取表 | E60: =IF(D61="","",IF(D61>F61,"○",IF(D61<F61,"●",IF(D61=F61,"△")))) -> △ | H60: =IF(G61="","",IF(G61>I61,"○",IF(G61<I61,"●",IF(G61=I61,"△")))) -> △ | M60: =COUNTIF(D60:L60,"○") -> 0 | N60: =COUNTIF(D60:L60,"△")+COUNTIF(D60:L60,"▲") -> 2 | O60: =COUNTIF(D60:L60,"●") -> 0 | P60: =(M60*3)+(N60*1) -> 2 | Q60: =RANK(P60,$P$56:$P$61) -> 1 | R60: 位 | AC60: =予選リーグ!N7 -> F3 | AD60: 星取表 | AG60: =IF(AF61="","",IF(AF61>AH61,"○",IF(AF61<AH61,"●",IF(AF61=AH61,"△")))) -> △ | AJ60: =IF(AI61="","",IF(AI61>AK61,"○",IF(AI61<AK61,"●",IF(AI61=AK61,"△")))) -> △ | AO60: =COUNTIF(AF60:AN60,"○") -> 0 | AP60: =COUNTIF(AF60:AN60,"△")+COUNTIF(AF60:AN60,"▲") -> 2 | AQ60: =COUNTIF(AF60:AN60,"●") -> 0 | AR60: =(AO60*3)+(AP60*1) -> 2 | AS60: =RANK(AR60,$AR$56:$AR$61) -> 1 | AT60: 位
B61: 得失点 | D61: =L57 -> 0 | E61: - | F61: =J57 -> 0 | G61: =L59 -> 0 | H61: - | I61: =J59 -> 0 | AD61: 得失点 | AF61: =AN57 -> 0 | AG61: - | AH61: =AL57 -> 0 | AI61: =AN59 -> 0 | AJ61: - | AK61: =AL59 -> 0
A63: Cパート | D63: =A64 -> C1 | G63: =A66 -> C2 | J63: =A68 -> C3 | M63: 勝 | N63: 分 | O63: 敗 | P63: 勝 点 | Q63: 勝点 順位 | S63: ﾄｰﾀﾙ 順位 | AC63: Gパート | AF63: =AC64 -> G1 | AI63: =AC66 -> G2 | AL63: =AC68 -> G3 | AO63: 勝 | AP63: 分 | AQ63: 敗 | AR63: 勝 点 | AS63: 勝点 順位 | AU63: ﾄｰﾀﾙ 順位
A64: =予選リーグ!D10 -> C1 | B64: 星取表 | H64: =IF(G65="","",IF(G65>I65,"○",IF(G65<I65,"●",IF(G65=I65,"△")))) -> △ | K64: =IF(J65="","",IF(J65>L65,"○",IF(J65<L65,"●",IF(J65=L65,"△")))) -> △ | M64: =COUNTIF(D64:L64,"○") -> 0 | N64: =COUNTIF(D64:L64,"△")+COUNTIF(D64:L64,"▲") -> 2 | O64: =COUNTIF(D64:L64,"●") -> 0 | P64: =(M64*3)+(N64*1) -> 2 | Q64: =RANK(P64,$P$64:$P$69) -> 1 | R64: 位 | AC64: =予選リーグ!J10 -> G1 | AD64: 星取表 | AJ64: =IF(AI65="","",IF(AI65>AK65,"○",IF(AI65<AK65,"●",IF(AI65=AK65,"△")))) -> △ | AM64: =IF(AL65="","",IF(AL65>AN65,"○",IF(AL65<AN65,"●",IF(AL65=AN65,"△")))) -> △ | AO64: =COUNTIF(AF64:AN64,"○") -> 0 | AP64: =COUNTIF(AF64:AN64,"△")+COUNTIF(AF64:AN64,"▲") -> 2 | AQ64: =COUNTIF(AF64:AN64,"●") -> 0 | AR64: =(AO64*3)+(AP64*1) -> 2 | AS64: =RANK(AR64,$AR$64:$AR$69) -> 1 | AT64: 位
B65: 得失点 | G65: =F16 -> 0 | H65: - | I65: =J16 -> 0 | J65: =J26 -> 0 | K65: - | L65: =F26 -> 0 | AD65: 得失点 | AI65: =AH16 -> 0 | AJ65: - | AK65: =AL16 -> 0 | AL65: =AL26 -> 0 | AM65: - | AN65: =AH26 -> 0
A66: =予選リーグ!C12 -> C2 | B66: 星取表 | E66: =IF(D67="","",IF(D67>F67,"○",IF(D67<F67,"●",IF(D67=F67,"△")))) -> △ | K66: =IF(J67="","",IF(J67>L67,"○",IF(J67<L67,"●",IF(J67=L67,"△")))) -> △ | M66: =COUNTIF(D66:L66,"○") -> 0 | N66: =COUNTIF(D66:L66,"△")+COUNTIF(D66:L66,"▲") -> 2 | O66: =COUNTIF(D66:L66,"●") -> 0 | P66: =(M66*3)+(N66*1) -> 2 | Q66: =RANK(P66,$P$64:$P$69) -> 1 | R66: 位 | AC66: =予選リーグ!I12 -> G2 | AD66: 星取表 | AG66: =IF(AF67="","",IF(AF67>AH67,"○",IF(AF67<AH67,"●",IF(AF67=AH67,"△")))) -> △ | AM66: =IF(AL67="","",IF(AL67>AN67,"○",IF(AL67<AN67,"●",IF(AL67=AN67,"△")))) -> △ | AO66: =COUNTIF(AF66:AN66,"○") -> 0 | AP66: =COUNTIF(AF66:AN66,"△")+COUNTIF(AF66:AN66,"▲") -> 2 | AQ66: =COUNTIF(AF66:AN66,"●") -> 0 | AR66: =(AO66*3)+(AP66*1) -> 2 | AS66: =RANK(AR66,$AR$64:$AR$69) -> 1 | AT66: 位
B67: 得失点 | D67: =I65 -> 0 | E67: - | F67: =G65 -> 0 | J67: =F22 -> 0 | K67: - | L67: =J22 -> 0 | AD67: 得失点 | AF67: =AK65 -> 0 | AG67: - | AH67: =AI65 -> 0 | AL67: =AH22 -> 0 | AM67: - | AN67: =AL22 -> 0
A68: =予選リーグ!E12 -> C3 | B68: 星取表 | E68: =IF(D69="","",IF(D69>F69,"○",IF(D69<F69,"●",IF(D69=F69,"△")))) -> △ | H68: =IF(G69="","",IF(G69>I69,"○",IF(G69<I69,"●",IF(G69=I69,"△")))) -> △ | M68: =COUNTIF(D68:L68,"○") -> 0 | N68: =COUNTIF(D68:L68,"△")+COUNTIF(D68:L68,"▲") -> 2 | O68: =COUNTIF(D68:L68,"●") -> 0 | P68: =(M68*3)+(N68*1) -> 2 | Q68: =RANK(P68,$P$64:$P$69) -> 1 | R68: 位 | AC68: =予選リーグ!K12 -> G3 | AD68: 星取表 | AG68: =IF(AF69="","",IF(AF69>AH69,"○",IF(AF69<AH69,"●",IF(AF69=AH69,"△")))) -> △ | AJ68: =IF(AI69="","",IF(AI69>AK69,"○",IF(AI69<AK69,"●",IF(AI69=AK69,"△")))) -> △ | AO68: =COUNTIF(AF68:AN68,"○") -> 0 | AP68: =COUNTIF(AF68:AN68,"△")+COUNTIF(AF68:AN68,"▲") -> 2 | AQ68: =COUNTIF(AF68:AN68,"●") -> 0 | AR68: =(AO68*3)+(AP68*1) -> 2 | AS68: =RANK(AR68,$AR$64:$AR$69) -> 1 | AT68: 位
B69: 得失点 | D69: =L65 -> 0 | E69: - | F69: =J65 -> 0 | G69: =L67 -> 0 | H69: - | I69: =J67 -> 0 | AD69: 得失点 | AF69: =AN65 -> 0 | AG69: - | AH69: =AL65 -> 0 | AI69: =AN67 -> 0 | AJ69: - | AK69: =AL67 -> 0
A71: Dパート | D71: =A72 -> D1 | G71: =A74 -> D2 | J71: =A76 -> D3 | M71: 勝 | N71: 分 | O71: 敗 | P71: 勝 点 | Q71: 勝点 順位 | S71: ﾄｰﾀﾙ 順位 | AC71: Hパート | AF71: =AC72 -> H1 | AI71: =AC74 -> H2 | AL71: =AC76 -> H3 | AO71: 勝 | AP71: 分 | AQ71: 敗 | AR71: 勝 点 | AS71: 勝点 順位 | AU71: ﾄｰﾀﾙ 順位
A72: =予選リーグ!G10 -> D1 | B72: 星取表 | H72: =IF(G73="","",IF(G73>I73,"○",IF(G73<I73,"●",IF(G73=I73,"△")))) -> △ | K72: =IF(J73="","",IF(J73>L73,"○",IF(J73<L73,"●",IF(J73=L73,"△")))) -> △ | M72: =COUNTIF(D72:L72,"○") -> 0 | N72: =COUNTIF(D72:L72,"△")+COUNTIF(D72:L72,"▲") -> 2 | O72: =COUNTIF(D72:L72,"●") -> 0 | P72: =(M72*3)+(N72*1) -> 2 | Q72: =RANK(P72,$P$72:$P$77) -> 1 | R72: 位 | AC72: =予選リーグ!M10 -> H1 | AD72: 星取表 | AJ72: =IF(AI73="","",IF(AI73>AK73,"○",IF(AI73<AK73,"●",IF(AI73=AK73,"△")))) -> △ | AM72: =IF(AL73="","",IF(AL73>AN73,"○",IF(AL73<AN73,"●",IF(AL73=AN73,"△")))) -> △ | AO72: =COUNTIF(AF72:AN72,"○") -> 0 | AP72: =COUNTIF(AF72:AN72,"△")+COUNTIF(AF72:AN72,"▲") -> 2 | AQ72: =COUNTIF(AF72:AN72,"●") -> 0 | AR72: =(AO72*3)+(AP72*1) -> 2 | AS72: =RANK(AR72,$AR$72:$AR$77) -> 1 | AT72: 位
B73: 得失点 | G73: =R16 -> 0 | H73: - | I73: =V16 -> 0 | J73: =V26 -> 0 | K73: - | L73: =R26 -> 0 | AD73: 得失点 | AI73: =AT16 -> 0 | AJ73: - | AK73: =AX16 -> 0 | AL73: =AX26 -> 0 | AM73: - | AN73: =AT26 -> 0
A74: =予選リーグ!F12 -> D2 | B74: 星取表 | E74: =IF(D75="","",IF(D75>F75,"○",IF(D75<F75,"●",IF(D75=F75,"△")))) -> △ | K74: =IF(J75="","",IF(J75>L75,"○",IF(J75<L75,"●",IF(J75=L75,"△")))) -> △ | M74: =COUNTIF(D74:L74,"○") -> 0 | N74: =COUNTIF(D74:L74,"△")+COUNTIF(D74:L74,"▲") -> 2 | O74: =COUNTIF(D74:L74,"●") -> 0 | P74: =(M74*3)+(N74*1) -> 2 | Q74: =RANK(P74,$P$72:$P$77) -> 1 | R74: 位 | AC74: =予選リーグ!L12 -> H2 | AD74: 星取表 | AG74: =IF(AF75="","",IF(AF75>AH75,"○",IF(AF75<AH75,"●",IF(AF75=AH75,"△")))) -> △ | AM74: =IF(AL75="","",IF(AL75>AN75,"○",IF(AL75<AN75,"●",IF(AL75=AN75,"△")))) -> △ | AO74: =COUNTIF(AF74:AN74,"○") -> 0 | AP74: =COUNTIF(AF74:AN74,"△")+COUNTIF(AF74:AN74,"▲") -> 2 | AQ74: =COUNTIF(AF74:AN74,"●") -> 0 | AR74: =(AO74*3)+(AP74*1) -> 2 | AS74: =RANK(AR74,$AR$72:$AR$77) -> 1 | AT74: 位
B75: 得失点 | D75: =I73 -> 0 | E75: - | F75: =G73 -> 0 | J75: =R22 -> 0 | K75: - | L75: =V22 -> 0 | AD75: 得失点 | AF75: =AK73 -> 0 | AG75: - | AH75: =AI73 -> 0 | AL75: =AT22 -> 0 | AM75: - | AN75: =AX22 -> 0
A76: =予選リーグ!H12 -> D3 | B76: 星取表 | E76: =IF(D77="","",IF(D77>F77,"○",IF(D77<F77,"●",IF(D77=F77,"△")))) -> △ | H76: =IF(G77="","",IF(G77>I77,"○",IF(G77<I77,"●",IF(G77=I77,"△")))) -> △ | M76: =COUNTIF(D76:L76,"○") -> 0 | N76: =COUNTIF(D76:L76,"△")+COUNTIF(D76:L76,"▲") -> 2 | O76: =COUNTIF(D76:L76,"●") -> 0 | P76: =(M76*3)+(N76*1) -> 2 | Q76: =RANK(P76,$P$72:$P$77) -> 1 | R76: 位 | AC76: =予選リーグ!N12 -> H3 | AD76: 星取表 | AG76: =IF(AF77="","",IF(AF77>AH77,"○",IF(AF77<AH77,"●",IF(AF77=AH77,"△")))) -> △ | AJ76: =IF(AI77="","",IF(AI77>AK77,"○",IF(AI77<AK77,"●",IF(AI77=AK77,"△")))) -> △ | AO76: =COUNTIF(AF76:AN76,"○") -> 0 | AP76: =COUNTIF(AF76:AN76,"△")+COUNTIF(AF76:AN76,"▲") -> 2 | AQ76: =COUNTIF(AF76:AN76,"●") -> 0 | AR76: =(AO76*3)+(AP76*1) -> 2 | AS76: =RANK(AR76,$AR$72:$AR$77) -> 1 | AT76: 位
B77: 得失点 | D77: =L73 -> 0 | E77: - | F77: =J73 -> 0 | G77: =L75 -> 0 | H77: - | I77: =J75 -> 0 | AD77: 得失点 | AF77: =AN73 -> 0 | AG77: - | AH77: =AL73 -> 0 | AI77: =AN75 -> 0 | AJ77: - | AK77: =AL75 -> 0

Sheet 予選リーグ公式記録(AコートA)
A1: =要項!C2 -> OFA 第 37 回 大分県U-11サッカー選手権大会 | K1: 予選リーグ結果 報告用紙 | Q1: =要項!C2 -> OFA 第 37 回 大分県U-11サッカー選手権大会 | AA1: 予選リーグ結果 報告用紙
A3: 会場 | B3: =予選リーグ!C14 -> レゾナック サッカー・ラグビー場 Aコート | G3: =予選リーグ!C15 -> 「A」コート | Q3: 会場 | R3: =予選リーグ!C14 -> レゾナック サッカー・ラグビー場 Aコート | W3: =予選リーグ!C15 -> 「A」コート
E5: A1 | F5: =VLOOKUP(E5,組合せ抽選用!$Q:$U,5,FALSE) -> 0 | M5: =VLOOKUP(E5,組合せ抽選用!$Q:$V,6,FALSE) -> 大分 | U5: C1 | V5: =VLOOKUP(U5,組合せ抽選用!$Q:$U,5,FALSE) -> 0 | AC5: =VLOOKUP(U5,組合せ抽選用!$Q:$V,6,FALSE) -> 大分
E6: A2 | F6: =VLOOKUP(E6,組合せ抽選用!$Q:$U,5,FALSE) -> 0 | M6: =VLOOKUP(E6,組合せ抽選用!$Q:$V,6,FALSE) -> 大分 | U6: C2 | V6: =VLOOKUP(U6,組合せ抽選用!$Q:$U,5,FALSE) -> 0 | AC6: =VLOOKUP(U6,組合せ抽選用!$Q:$V,6,FALSE) -> 大分
E7: A3 | F7: =VLOOKUP(E7,組合せ抽選用!$Q:$U,5,FALSE) -> 0 | M7: =VLOOKUP(E7,組合せ抽選用!$Q:$V,6,FALSE) -> 大分 | U7: C3 | V7: =VLOOKUP(U7,組合せ抽選用!$Q:$U,5,FALSE) -> 0 | AC7: =VLOOKUP(U7,組合せ抽選用!$Q:$V,6,FALSE) -> 大分
A10: MC | E10: =予選リーグ!B19 -> 0.41666667 | F10: =F5 -> 0 | G10: =IF(I10="","",SUM(I10:I11)) | H10: （ | J10: 前半 | L10: ） | M10: =IF(K10="","",SUM(K10:K11)) | N10: =F6 -> 0 | Q10: MC | U10: =予選リーグ!B21 -> 0.45138889 | V10: =V5 -> 0 | W10: =IF(Y10="","",SUM(Y10:Y11)) | X10: （ | Z10: 前半 | AB10: ） | AC10: =IF(AA10="","",SUM(AA10:AA11)) | AD10: =V6 -> 0
A11: Welfare Officer | J11: 後半 | Q11: Welfare Officer | Z11: 後半
A12: 記録 | J12: PK | Q12: 記録 | Z12: PK
A13: ＜Referee＞ | E13: 警告/退場 選択肢より | F13: 氏名 | G13: 番号 | H13: 分 | I13: 内容 選択肢より | K13: 内容 選択肢より | L13: 分 | M13: 番号 | N13: 氏名 | O13: 警告/退場 選択肢より | Q13: ＜Referee＞ | U13: 警告/退場 選択肢より | V13: 氏名 | W13: 番号 | X13: 分 | Y13: 内容 選択肢より | AA13: 内容 選択肢より | AB13: 分 | AC13: 番号 | AD13: 氏名 | AE13: 警告/退場 選択肢より
E14: 得点者 | F14: =IF(ISERROR(VLOOKUP(CONCATENATE($F$10,"_",G14),選手名簿!$A:$E,5,FALSE))=TRUE,"",VLOOKUP(CONCATENATE($F$10,"_",G14),選手名簿!$A:$E,5,FALSE)) | N14: =IF(ISERROR(VLOOKUP(CONCATENATE($N$10,"_",M14),選手名簿!$A:$E,5,FALSE))=TRUE,"",VLOOKUP(CONCATENATE($N$10,"_",M14),選手名簿!$A:$E,5,FALSE)) | U14: 得点者 | V14: =IF(ISERROR(VLOOKUP(CONCATENATE($V$10,"_",W14),選手名簿!$A:$E,5,FALSE))=TRUE,"",VLOOKUP(CONCATENATE($V$10,"_",W14),選手名簿!$A:$E,5,FALSE)) | AD14: =IF(ISERROR(VLOOKUP(CONCATENATE($AD$10,"_",AC14),選手名簿!$A:$E,5,FALSE))=TRUE,"",VLOOKUP(CONCATENATE($AD$10,"_",AC14),選手名簿!$A:$E,5,FALSE))
E15: 得点者 | F15: =IF(ISERROR(VLOOKUP(CONCATENATE($F$10,"_",G15),選手名簿!$A:$E,5,FALSE))=TRUE,"",VLOOKUP(CONCATENATE($F$10,"_",G15),選手名簿!$A:$E,5,FALSE)) | N15: =IF(ISERROR(VLOOKUP(CONCATENATE($N$10,"_",M15),選手名簿!$A:$E,5,FALSE))=TRUE,"",VLOOKUP(CONCATENATE($N$10,"_",M15),選手名簿!$A:$E,5,FALSE)) | U15: 得点者 | V15: =IF(ISERROR(VLOOKUP(CONCATENATE($V$10,"_",W15),選手名簿!$A:$E,5,FALSE))=TRUE,"",VLOOKUP(CONCATENATE($V$10,"_",W15),選手名簿!$A:$E,5,FALSE)) | AD15: =IF(ISERROR(VLOOKUP(CONCATENATE($AD$10,"_",AC15),選手名簿!$A:$E,5,FALSE))=TRUE,"",VLOOKUP(CONCATENATE($AD$10,"_",AC15),選手名簿!$A:$E,5,FALSE))
E16: 得点者 | F16: =IF(ISERROR(VLOOKUP(CONCATENATE($F$10,"_",G16),選手名簿!$A:$E,5,FALSE))=TRUE,"",VLOOKUP(CONCATENATE($F$10,"_",G16),選手名簿!$A:$E,5,FALSE)) | N16: =IF(ISERROR(VLOOKUP(CONCATENATE($N$10,"_",M16),選手名簿!$A:$E,5,FALSE))=TRUE,"",VLOOKUP(CONCATENATE($N$10,"_",M16),選手名簿!$A:$E,5,FALSE)) | U16: 得点者 | V16: =IF(ISERROR(VLOOKUP(CONCATENATE($V$10,"_",W16),選手名簿!$A:$E,5,FALSE))=TRUE,"",VLOOKUP(CONCATENATE($V$10,"_",W16),選手名簿!$A:$E,5,FALSE)) | AD16: =IF(ISERROR(VLOOKUP(CONCATENATE($AD$10,"_",AC16),選手名簿!$A:$E,5,FALSE))=TRUE,"",VLOOKUP(CONCATENATE($AD$10,"_",AC16),選手名簿!$A:$E,5,FALSE))
E17: 得点者 | F17: =IF(ISERROR(VLOOKUP(CONCATENATE($F$10,"_",G17),選手名簿!$A:$E,5,FALSE))=TRUE,"",VLOOKUP(CONCATENATE($F$10,"_",G17),選手名簿!$A:$E,5,FALSE)) | N17: =IF(ISERROR(VLOOKUP(CONCATENATE($N$10,"_",M17),選手名簿!$A:$E,5,FALSE))=TRUE,"",VLOOKUP(CONCATENATE($N$10,"_",M17),選手名簿!$A:$E,5,FALSE)) | U17: 得点者 | V17: =IF(ISERROR(VLOOKUP(CONCATENATE($V$10,"_",W17),選手名簿!$A:$E,5,FALSE))=TRUE,"",VLOOKUP(CONCATENATE($V$10,"_",W17),選手名簿!$A:$E,5,FALSE)) | AD17: =IF(ISERROR(VLOOKUP(CONCATENATE($AD$10,"_",AC17),選手名簿!$A:$E,5,FALSE))=TRUE,"",VLOOKUP(CONCATENATE($AD$10,"_",AC17),選手名簿!$A:$E,5,FALSE))
E18: 得点者 | F18: =IF(ISERROR(VLOOKUP(CONCATENATE($F$10,"_",G18),選手名簿!$A:$E,5,FALSE))=TRUE,"",VLOOKUP(CONCATENATE($F$10,"_",G18),選手名簿!$A:$E,5,FALSE)) | N18: =IF(ISERROR(VLOOKUP(CONCATENATE($N$10,"_",M18),選手名簿!$A:$E,5,FALSE))=TRUE,"",VLOOKUP(CONCATENATE($N$10,"_",M18),選手名簿!$A:$E,5,FALSE)) | U18: 得点者 | V18: =IF(ISERROR(VLOOKUP(CONCATENATE($V$10,"_",W18),選手名簿!$A:$E,5,FALSE))=TRUE,"",VLOOKUP(CONCATENATE($V$10,"_",W18),選手名簿!$A:$E,5,FALSE)) | AD18: =IF(ISERROR(VLOOKUP(CONCATENATE($AD$10,"_",AC18),選手名簿!$A:$E,5,FALSE))=TRUE,"",VLOOKUP(CONCATENATE($AD$10,"_",AC18),選手名簿!$A:$E,5,FALSE))
E19: 得点者 | F19: =IF(ISERROR(VLOOKUP(CONCATENATE($F$10,"_",G19),選手名簿!$A:$E,5,FALSE))=TRUE,"",VLOOKUP(CONCATENATE($F$10,"_",G19),選手名簿!$A:$E,5,FALSE)) | N19: =IF(ISERROR(VLOOKUP(CONCATENATE($N$10,"_",M19),選手名簿!$A:$E,5,FALSE))=TRUE,"",VLOOKUP(CONCATENATE($N$10,"_",M19),選手名簿!$A:$E,5,FALSE)) | U19: 得点者 | V19: =IF(ISERROR(VLOOKUP(CONCATENATE($V$10,"_",W19),選手名簿!$A:$E,5,FALSE))=TRUE,"",VLOOKUP(CONCATENATE($V$10,"_",W19),選手名簿!$A:$E,5,FALSE)) | AD19: =IF(ISERROR(VLOOKUP(CONCATENATE($AD$10,"_",AC19),選手名簿!$A:$E,5,FALSE))=TRUE,"",VLOOKUP(CONCATENATE($AD$10,"_",AC19),選手名簿!$A:$E,5,FALSE))
E20: 得点者 | F20: =IF(ISERROR(VLOOKUP(CONCATENATE($F$10,"_",G20),選手名簿!$A:$E,5,FALSE))=TRUE,"",VLOOKUP(CONCATENATE($F$10,"_",G20),選手名簿!$A:$E,5,FALSE)) | N20: =IF(ISERROR(VLOOKUP(CONCATENATE($N$10,"_",M20),選手名簿!$A:$E,5,FALSE))=TRUE,"",VLOOKUP(CONCATENATE($N$10,"_",M20),選手名簿!$A:$E,5,FALSE)) | U20: 得点者 | V20: =IF(ISERROR(VLOOKUP(CONCATENATE($V$10,"_",W20),選手名簿!$A:$E,5,FALSE))=TRUE,"",VLOOKUP(CONCATENATE($V$10,"_",W20),選手名簿!$A:$E,5,FALSE)) | AD20: =IF(ISERROR(VLOOKUP(CONCATENATE($AD$10,"_",AC20),選手名簿!$A:$E,5,FALSE))=TRUE,"",VLOOKUP(CONCATENATE($AD$10,"_",AC20),選手名簿!$A:$E,5,FALSE))
E21: 得点者 | F21: =IF(ISERROR(VLOOKUP(CONCATENATE($F$10,"_",G21),選手名簿!$A:$E,5,FALSE))=TRUE,"",VLOOKUP(CONCATENATE($F$10,"_",G21),選手名簿!$A:$E,5,FALSE)) | N21: =IF(ISERROR(VLOOKUP(CONCATENATE($N$10,"_",M21),選手名簿!$A:$E,5,FALSE))=TRUE,"",VLOOKUP(CONCATENATE($N$10,"_",M21),選手名簿!$A:$E,5,FALSE)) | U21: 得点者 | V21: =IF(ISERROR(VLOOKUP(CONCATENATE($V$10,"_",W21),選手名簿!$A:$E,5,FALSE))=TRUE,"",VLOOKUP(CONCATENATE($V$10,"_",W21),選手名簿!$A:$E,5,FALSE)) | AD21: =IF(ISERROR(VLOOKUP(CONCATENATE($AD$10,"_",AC21),選手名簿!$A:$E,5,FALSE))=TRUE,"",VLOOKUP(CONCATENATE($AD$10,"_",AC21),選手名簿!$A:$E,5,FALSE))
E22: 得点者 | F22: =IF(ISERROR(VLOOKUP(CONCATENATE($F$10,"_",G22),選手名簿!$A:$E,5,FALSE))=TRUE,"",VLOOKUP(CONCATENATE($F$10,"_",G22),選手名簿!$A:$E,5,FALSE)) | N22: =IF(ISERROR(VLOOKUP(CONCATENATE($N$10,"_",M22),選手名簿!$A:$E,5,FALSE))=TRUE,"",VLOOKUP(CONCATENATE($N$10,"_",M22),選手名簿!$A:$E,5,FALSE)) | U22: 得点者 | V22: =IF(ISERROR(VLOOKUP(CONCATENATE($V$10,"_",W22),選手名簿!$A:$E,5,FALSE))=TRUE,"",VLOOKUP(CONCATENATE($V$10,"_",W22),選手名簿!$A:$E,5,FALSE)) | AD22: =IF(ISERROR(VLOOKUP(CONCATENATE($AD$10,"_",AC22),選手名簿!$A:$E,5,FALSE))=TRUE,"",VLOOKUP(CONCATENATE($AD$10,"_",AC22),選手名簿!$A:$E,5,FALSE))
E23: 得点者 | F23: =IF(ISERROR(VLOOKUP(CONCATENATE($F$10,"_",G23),選手名簿!$A:$E,5,FALSE))=TRUE,"",VLOOKUP(CONCATENATE($F$10,"_",G23),選手名簿!$A:$E,5,FALSE)) | N23: =IF(ISERROR(VLOOKUP(CONCATENATE($N$10,"_",M23),選手名簿!$A:$E,5,FALSE))=TRUE,"",VLOOKUP(CONCATENATE($N$10,"_",M23),選手名簿!$A:$E,5,FALSE)) | U23: 得点者 | V23: =IF(ISERROR(VLOOKUP(CONCATENATE($V$10,"_",W23),選手名簿!$A:$E,5,FALSE))=TRUE,"",VLOOKUP(CONCATENATE($V$10,"_",W23),選手名簿!$A:$E,5,FALSE)) | AD23: =IF(ISERROR(VLOOKUP(CONCATENATE($AD$10,"_",AC23),選手名簿!$A:$E,5,FALSE))=TRUE,"",VLOOKUP(CONCATENATE($AD$10,"_",AC23),選手名簿!$A:$E,5,FALSE))
A24: 番号 | F24: =IF(ISERROR(VLOOKUP(CONCATENATE($F$10,"_",G24),選手名簿!$A:$E,5,FALSE))=TRUE,"",VLOOKUP(CONCATENATE($F$10,"_",G24),選手名簿!$A:$E,5,FALSE)) | N24: =IF(ISERROR(VLOOKUP(CONCATENATE($N$10,"_",M24),選手名簿!$A:$E,5,FALSE))=TRUE,"",VLOOKUP(CONCATENATE($N$10,"_",M24),選手名簿!$A:$E,5,FALSE)) | Q24: 番号 | V24: =IF(ISERROR(VLOOKUP(CONCATENATE($V$10,"_",W24),選手名簿!$A:$E,5,FALSE))=TRUE,"",VLOOKUP(CONCATENATE($V$10,"_",W24),選手名簿!$A:$E,5,FALSE)) | AD24: =IF(ISERROR(VLOOKUP(CONCATENATE($AD$10,"_",AC24),選手名簿!$A:$E,5,FALSE))=TRUE,"",VLOOKUP(CONCATENATE($AD$10,"_",AC24),選手名簿!$A:$E,5,FALSE))
A25: R | B25: =IF(ISERROR(VLOOKUP(B24,審判員!$A:$C,2,FALSE))=TRUE,"",VLOOKUP(B24,審判員!$A:$C,2,FALSE)) | D25: =IF(ISERROR(VLOOKUP(B24,審判員!$A:$C,3,FALSE))=TRUE,"",VLOOKUP(B24,審判員!$A:$C,3,FALSE)) | F25: =IF(ISERROR(VLOOKUP(CONCATENATE($F$10,"_",G25),選手名簿!$A:$E,5,FALSE))=TRUE,"",VLOOKUP(CONCATENATE($F$10,"_",G25),選手名簿!$A:$E,5,FALSE)) | N25: =IF(ISERROR(VLOOKUP(CONCATENATE($N$10,"_",M25),選手名簿!$A:$E,5,FALSE))=TRUE,"",VLOOKUP(CONCATENATE($N$10,"_",M25),選手名簿!$A:$E,5,FALSE)) | Q25: R | R25: =IF(ISERROR(VLOOKUP(R24,審判員!$A:$C,2,FALSE))=TRUE,"",VLOOKUP(R24,審判員!$A:$C,2,FALSE)) | T25: =IF(ISERROR(VLOOKUP(R24,審判員!$A:$C,3,FALSE))=TRUE,"",VLOOKUP(R24,審判員!$A:$C,3,FALSE)) | V25: =IF(ISERROR(VLOOKUP(CONCATENATE($V$10,"_",W25),選手名簿!$A:$E,5,FALSE))=TRUE,"",VLOOKUP(CONCATENATE($V$10,"_",W25),選手名簿!$A:$E,5,FALSE)) | AD25: =IF(ISERROR(VLOOKUP(CONCATENATE($AD$10,"_",AC25),選手名簿!$A:$E,5,FALSE))=TRUE,"",VLOOKUP(CONCATENATE($AD$10,"_",AC25),選手名簿!$A:$E,5,FALSE))
A26: 番号 | F26: =IF(ISERROR(VLOOKUP(CONCATENATE($F$10,"_",G26),選手名簿!$A:$E,5,FALSE))=TRUE,"",VLOOKUP(CONCATENATE($F$10,"_",G26),選手名簿!$A:$E,5,FALSE)) | N26: =IF(ISERROR(VLOOKUP(CONCATENATE($N$10,"_",M26),選手名簿!$A:$E,5,FALSE))=TRUE,"",VLOOKUP(CONCATENATE($N$10,"_",M26),選手名簿!$A:$E,5,FALSE)) | Q26: 番号 | V26: =IF(ISERROR(VLOOKUP(CONCATENATE($V$10,"_",W26),選手名簿!$A:$E,5,FALSE))=TRUE,"",VLOOKUP(CONCATENATE($V$10,"_",W26),選手名簿!$A:$E,5,FALSE)) | AD26: =IF(ISERROR(VLOOKUP(CONCATENATE($AD$10,"_",AC26),選手名簿!$A:$E,5,FALSE))=TRUE,"",VLOOKUP(CONCATENATE($AD$10,"_",AC26),選手名簿!$A:$E,5,FALSE))
A27: AR1: | B27: =IF(ISERROR(VLOOKUP(B26,審判員!$A:$C,2,FALSE))=TRUE,"",VLOOKUP(B26,審判員!$A:$C,2,FALSE)) | D27: =IF(ISERROR(VLOOKUP(B26,審判員!$A:$C,3,FALSE))=TRUE,"",VLOOKUP(B26,審判員!$A:$C,3,FALSE)) | F27: =IF(ISERROR(VLOOKUP(CONCATENATE($F$10,"_",G27),選手名簿!$A:$E,5,FALSE))=TRUE,"",VLOOKUP(CONCATENATE($F$10,"_",G27),選手名簿!$A:$E,5,FALSE)) | N27: =IF(ISERROR(VLOOKUP(CONCATENATE($N$10,"_",M27),選手名簿!$A:$E,5,FALSE))=TRUE,"",VLOOKUP(CONCATENATE($N$10,"_",M27),選手名簿!$A:$E,5,FALSE)) | Q27: AR1: | R27: =IF(ISERROR(VLOOKUP(R26,審判員!$A:$C,2,FALSE))=TRUE,"",VLOOKUP(R26,審判員!$A:$C,2,FALSE)) | T27: =IF(ISERROR(VLOOKUP(R26,審判員!$A:$C,3,FALSE))=TRUE,"",VLOOKUP(R26,審判員!$A:$C,3,FALSE)) | V27: =IF(ISERROR(VLOOKUP(CONCATENATE($V$10,"_",W27),選手名簿!$A:$E,5,FALSE))=TRUE,"",VLOOKUP(CONCATENATE($V$10,"_",W27),選手名簿!$A:$E,5,FALSE)) | AD27: =IF(ISERROR(VLOOKUP(CONCATENATE($AD$10,"_",AC27),選手名簿!$A:$E,5,FALSE))=TRUE,"",VLOOKUP(CONCATENATE($AD$10,"_",AC27),選手名簿!$A:$E,5,FALSE))
A28: 番号 | F28: =IF(ISERROR(VLOOKUP(CONCATENATE($F$10,"_",G28),選手名簿!$A:$E,5,FALSE))=TRUE,"",VLOOKUP(CONCATENATE($F$10,"_",G28),選手名簿!$A:$E,5,FALSE)) | N28: =IF(ISERROR(VLOOKUP(CONCATENATE($N$10,"_",M28),選手名簿!$A:$E,5,FALSE))=TRUE,"",VLOOKUP(CONCATENATE($N$10,"_",M28),選手名簿!$A:$E,5,FALSE)) | Q28: 番号 | V28: =IF(ISERROR(VLOOKUP(CONCATENATE($V$10,"_",W28),選手名簿!$A:$E,5,FALSE))=TRUE,"",VLOOKUP(CONCATENATE($V$10,"_",W28),選手名簿!$A:$E,5,FALSE)) | AD28: =IF(ISERROR(VLOOKUP(CONCATENATE($AD$10,"_",AC28),選手名簿!$A:$E,5,FALSE))=TRUE,"",VLOOKUP(CONCATENATE($AD$10,"_",AC28),選手名簿!$A:$E,5,FALSE))
A29: AR2: | B29: =IF(ISERROR(VLOOKUP(B28,審判員!$A:$C,2,FALSE))=TRUE,"",VLOOKUP(B28,審判員!$A:$C,2,FALSE)) | D29: =IF(ISERROR(VLOOKUP(B28,審判員!$A:$C,3,FALSE))=TRUE,"",VLOOKUP(B28,審判員!$A:$C,3,FALSE)) | F29: =IF(ISERROR(VLOOKUP(CONCATENATE($F$10,"_",G29),選手名簿!$A:$E,5,FALSE))=TRUE,"",VLOOKUP(CONCATENATE($F$10,"_",G29),選手名簿!$A:$E,5,FALSE)) | N29: =IF(ISERROR(VLOOKUP(CONCATENATE($N$10,"_",M29),選手名簿!$A:$E,5,FALSE))=TRUE,"",VLOOKUP(CONCATENATE($N$10,"_",M29),選手名簿!$A:$E,5,FALSE)) | Q29: AR2: | R29: =IF(ISERROR(VLOOKUP(R28,審判員!$A:$C,2,FALSE))=TRUE,"",VLOOKUP(R28,審判員!$A:$C,2,FALSE)) | T29: =IF(ISERROR(VLOOKUP(R28,審判員!$A:$C,3,FALSE))=TRUE,"",VLOOKUP(R28,審判員!$A:$C,3,FALSE)) | V29: =IF(ISERROR(VLOOKUP(CONCATENATE($V$10,"_",W29),選手名簿!$A:$E,5,FALSE))=TRUE,"",VLOOKUP(CONCATENATE($V$10,"_",W29),選手名簿!$A:$E,5,FALSE)) | AD29: =IF(ISERROR(VLOOKUP(CONCATENATE($AD$10,"_",AC29),選手名簿!$A:$E,5,FALSE))=TRUE,"",VLOOKUP(CONCATENATE($AD$10,"_",AC29),選手名簿!$A:$E,5,FALSE))
A30: 番号 | F30: =IF(ISERROR(VLOOKUP(CONCATENATE($F$10,"_",G30),選手名簿!$A:$E,5,FALSE))=TRUE,"",VLOOKUP(CONCATENATE($F$10,"_",G30),選手名簿!$A:$E,5,FALSE)) | N30: =IF(ISERROR(VLOOKUP(CONCATENATE($N$10,"_",M30),選手名簿!$A:$E,5,FALSE))=TRUE,"",VLOOKUP(CONCATENATE($N$10,"_",M30),選手名簿!$A:$E,5,FALSE)) | Q30: 番号 | V30: =IF(ISERROR(VLOOKUP(CONCATENATE($V$10,"_",W30),選手名簿!$A:$E,5,FALSE))=TRUE,"",VLOOKUP(CONCATENATE($V$10,"_",W30),選手名簿!$A:$E,5,FALSE)) | AD30: =IF(ISERROR(VLOOKUP(CONCATENATE($AD$10,"_",AC30),選手名簿!$A:$E,5,FALSE))=TRUE,"",VLOOKUP(CONCATENATE($AD$10,"_",AC30),選手名簿!$A:$E,5,FALSE))
A31: 4th: | B31: =IF(ISERROR(VLOOKUP(B30,審判員!$A:$C,2,FALSE))=TRUE,"",VLOOKUP(B30,審判員!$A:$C,2,FALSE)) | D31: =IF(ISERROR(VLOOKUP(B30,審判員!$A:$C,3,FALSE))=TRUE,"",VLOOKUP(B30,審判員!$A:$C,3,FALSE)) | F31: =IF(ISERROR(VLOOKUP(CONCATENATE($F$10,"_",G31),選手名簿!$A:$E,5,FALSE))=TRUE,"",VLOOKUP(CONCATENATE($F$10,"_",G31),選手名簿!$A:$E,5,FALSE)) | N31: =IF(ISERROR(VLOOKUP(CONCATENATE($N$10,"_",M31),選手名簿!$A:$E,5,FALSE))=TRUE,"",VLOOKUP(CONCATENATE($N$10,"_",M31),選手名簿!$A:$E,5,FALSE)) | Q31: 4th: | R31: =IF(ISERROR(VLOOKUP(R30,審判員!$A:$C,2,FALSE))=TRUE,"",VLOOKUP(R30,審判員!$A:$C,2,FALSE)) | T31: =IF(ISERROR(VLOOKUP(R30,審判員!$A:$C,3,FALSE))=TRUE,"",VLOOKUP(R30,審判員!$A:$C,3,FALSE)) | V31: =IF(ISERROR(VLOOKUP(CONCATENATE($V$10,"_",W31),選手名簿!$A:$E,5,FALSE))=TRUE,"",VLOOKUP(CONCATENATE($V$10,"_",W31),選手名簿!$A:$E,5,FALSE)) | AD31: =IF(ISERROR(VLOOKUP(CONCATENATE($AD$10,"_",AC31),選手名簿!$A:$E,5,FALSE))=TRUE,"",VLOOKUP(CONCATENATE($AD$10,"_",AC31),選手名簿!$A:$E,5,FALSE))
A39: MC | E39: =予選リーグ!B23 -> 0.48611111 | F39: =F6 -> 0 | G39: =IF(I39="","",SUM(I39:I40)) | H39: （ | J39: 前半 | L39: ） | M39: =IF(K39="","",SUM(K39:K40)) | N39: =F7 -> 0 | Q39: MC | U39: =予選リーグ!B27 -> 0.55555556 | V39: =V6 -> 0 | W39: =IF(Y39="","",SUM(Y39:Y40)) | X39: （ | Z39: 前半 | AB39: ） | AC39: =IF(AA39="","",SUM(AA39:AA40)) | AD39: =V7 -> 0
A40: Welfare Officer | J40: 後半 | Q40: Welfare Officer | Z40: 後半
A41: 記録 | J41: PK | Q41: 記録 | Z41: PK
A42: ＜Referee＞ | E42: 警告/退場 選択肢より | F42: 氏名 | G42: 番号 | H42: 分 | I42: 内容 選択肢より | K42: 内容 選択肢より | L42: 分 | M42: 番号 | N42: 氏名 | O42: 警告/退場 選択肢より | Q42: ＜Referee＞ | U42: 警告/退場 選択肢より | V42: 氏名 | W42: 番号 | X42: 分 | Y42: 内容 選択肢より | AA42: 内容 選択肢より | AB42: 分 | AC42: 番号 | AD42: 氏名 | AE42: 警告/退場 選択肢より
E43: 得点者 | F43: =IF(ISERROR(VLOOKUP(CONCATENATE($F$39,"_",G43),選手名簿!$A:$E,5,FALSE))=TRUE,"",VLOOKUP(CONCATENATE($F$39,"_",G43),選手名簿!$A:$E,5,FALSE)) | N43: =IF(ISERROR(VLOOKUP(CONCATENATE($N$39,"_",M43),選手名簿!$A:$E,5,FALSE))=TRUE,"",VLOOKUP(CONCATENATE($N$39,"_",M43),選手名簿!$A:$E,5,FALSE)) | U43: 得点者 | V43: =IF(ISERROR(VLOOKUP(CONCATENATE($V$39,"_",W43),選手名簿!$A:$E,5,FALSE))=TRUE,"",VLOOKUP(CONCATENATE($V$39,"_",W43),選手名簿!$A:$E,5,FALSE)) | AD43: =IF(ISERROR(VLOOKUP(CONCATENATE($AD$39,"_",AC43),選手名簿!$A:$E,5,FALSE))=TRUE,"",VLOOKUP(CONCATENATE($AD$39,"_",AC43),選手名簿!$A:$E,5,FALSE))
E44: 得点者 | F44: =IF(ISERROR(VLOOKUP(CONCATENATE($F$39,"_",G44),選手名簿!$A:$E,5,FALSE))=TRUE,"",VLOOKUP(CONCATENATE($F$39,"_",G44),選手名簿!$A:$E,5,FALSE)) | N44: =IF(ISERROR(VLOOKUP(CONCATENATE($N$39,"_",M44),選手名簿!$A:$E,5,FALSE))=TRUE,"",VLOOKUP(CONCATENATE($N$39,"_",M44),選手名簿!$A:$E,5,FALSE)) | U44: 得点者 | V44: =IF(ISERROR(VLOOKUP(CONCATENATE($V$39,"_",W44),選手名簿!$A:$E,5,FALSE))=TRUE,"",VLOOKUP(CONCATENATE($V$39,"_",W44),選手名簿!$A:$E,5,FALSE)) | AD44: =IF(ISERROR(VLOOKUP(CONCATENATE($AD$39,"_",AC44),選手名簿!$A:$E,5,FALSE))=TRUE,"",VLOOKUP(CONCATENATE($AD$39,"_",AC44),選手名簿!$A:$E,5,FALSE))
E45: 得点者 | F45: =IF(ISERROR(VLOOKUP(CONCATENATE($F$39,"_",G45),選手名簿!$A:$E,5,FALSE))=TRUE,"",VLOOKUP(CONCATENATE($F$39,"_",G45),選手名簿!$A:$E,5,FALSE)) | N45: =IF(ISERROR(VLOOKUP(CONCATENATE($N$39,"_",M45),選手名簿!$A:$E,5,FALSE))=TRUE,"",VLOOKUP(CONCATENATE($N$39,"_",M45),選手名簿!$A:$E,5,FALSE)) | U45: 得点者 | V45: =IF(ISERROR(VLOOKUP(CONCATENATE($V$39,"_",W45),選手名簿!$A:$E,5,FALSE))=TRUE,"",VLOOKUP(CONCATENATE($V$39,"_",W45),選手名簿!$A:$E,5,FALSE)) | AD45: =IF(ISERROR(VLOOKUP(CONCATENATE($AD$39,"_",AC45),選手名簿!$A:$E,5,FALSE))=TRUE,"",VLOOKUP(CONCATENATE($AD$39,"_",AC45),選手名簿!$A:$E,5,FALSE))
E46: 得点者 | F46: =IF(ISERROR(VLOOKUP(CONCATENATE($F$39,"_",G46),選手名簿!$A:$E,5,FALSE))=TRUE,"",VLOOKUP(CONCATENATE($F$39,"_",G46),選手名簿!$A:$E,5,FALSE)) | N46: =IF(ISERROR(VLOOKUP(CONCATENATE($N$39,"_",M46),選手名簿!$A:$E,5,FALSE))=TRUE,"",VLOOKUP(CONCATENATE($N$39,"_",M46),選手名簿!$A:$E,5,FALSE)) | U46: 得点者 | V46: =IF(ISERROR(VLOOKUP(CONCATENATE($V$39,"_",W46),選手名簿!$A:$E,5,FALSE))=TRUE,"",VLOOKUP(CONCATENATE($V$39,"_",W46),選手名簿!$A:$E,5,FALSE)) | AD46: =IF(ISERROR(VLOOKUP(CONCATENATE($AD$39,"_",AC46),選手名簿!$A:$E,5,FALSE))=TRUE,"",VLOOKUP(CONCATENATE($AD$39,"_",AC46),選手名簿!$A:$E,5,FALSE))
E47: 得点者 | F47: =IF(ISERROR(VLOOKUP(CONCATENATE($F$39,"_",G47),選手名簿!$A:$E,5,FALSE))=TRUE,"",VLOOKUP(CONCATENATE($F$39,"_",G47),選手名簿!$A:$E,5,FALSE)) | N47: =IF(ISERROR(VLOOKUP(CONCATENATE($N$39,"_",M47),選手名簿!$A:$E,5,FALSE))=TRUE,"",VLOOKUP(CONCATENATE($N$39,"_",M47),選手名簿!$A:$E,5,FALSE)) | U47: 得点者 | V47: =IF(ISERROR(VLOOKUP(CONCATENATE($V$39,"_",W47),選手名簿!$A:$E,5,FALSE))=TRUE,"",VLOOKUP(CONCATENATE($V$39,"_",W47),選手名簿!$A:$E,5,FALSE)) | AD47: =IF(ISERROR(VLOOKUP(CONCATENATE($AD$39,"_",AC47),選手名簿!$A:$E,5,FALSE))=TRUE,"",VLOOKUP(CONCATENATE($AD$39,"_",AC47),選手名簿!$A:$E,5,FALSE))
E48: 得点者 | F48: =IF(ISERROR(VLOOKUP(CONCATENATE($F$39,"_",G48),選手名簿!$A:$E,5,FALSE))=TRUE,"",VLOOKUP(CONCATENATE($F$39,"_",G48),選手名簿!$A:$E,5,FALSE)) | N48: =IF(ISERROR(VLOOKUP(CONCATENATE($N$39,"_",M48),選手名簿!$A:$E,5,FALSE))=TRUE,"",VLOOKUP(CONCATENATE($N$39,"_",M48),選手名簿!$A:$E,5,FALSE)) | U48: 得点者 | V48: =IF(ISERROR(VLOOKUP(CONCATENATE($V$39,"_",W48),選手名簿!$A:$E,5,FALSE))=TRUE,"",VLOOKUP(CONCATENATE($V$39,"_",W48),選手名簿!$A:$E,5,FALSE)) | AD48: =IF(ISERROR(VLOOKUP(CONCATENATE($AD$39,"_",AC48),選手名簿!$A:$E,5,FALSE))=TRUE,"",VLOOKUP(CONCATENATE($AD$39,"_",AC48),選手名簿!$A:$E,5,FALSE))
E49: 得点者 | F49: =IF(ISERROR(VLOOKUP(CONCATENATE($F$39,"_",G49),選手名簿!$A:$E,5,FALSE))=TRUE,"",VLOOKUP(CONCATENATE($F$39,"_",G49),選手名簿!$A:$E,5,FALSE)) | N49: =IF(ISERROR(VLOOKUP(CONCATENATE($N$39,"_",M49),選手名簿!$A:$E,5,FALSE))=TRUE,"",VLOOKUP(CONCATENATE($N$39,"_",M49),選手名簿!$A:$E,5,FALSE)) | U49: 得点者 | V49: =IF(ISERROR(VLOOKUP(CONCATENATE($V$39,"_",W49),選手名簿!$A:$E,5,FALSE))=TRUE,"",VLOOKUP(CONCATENATE($V$39,"_",W49),選手名簿!$A:$E,5,FALSE)) | AD49: =IF(ISERROR(VLOOKUP(CONCATENATE($AD$39,"_",AC49),選手名簿!$A:$E,5,FALSE))=TRUE,"",VLOOKUP(CONCATENATE($AD$39,"_",AC49),選手名簿!$A:$E,5,FALSE))
E50: 得点者 | F50: =IF(ISERROR(VLOOKUP(CONCATENATE($F$39,"_",G50),選手名簿!$A:$E,5,FALSE))=TRUE,"",VLOOKUP(CONCATENATE($F$39,"_",G50),選手名簿!$A:$E,5,FALSE)) | N50: =IF(ISERROR(VLOOKUP(CONCATENATE($N$39,"_",M50),選手名簿!$A:$E,5,FALSE))=TRUE,"",VLOOKUP(CONCATENATE($N$39,"_",M50),選手名簿!$A:$E,5,FALSE)) | U50: 得点者 | V50: =IF(ISERROR(VLOOKUP(CONCATENATE($V$39,"_",W50),選手名簿!$A:$E,5,FALSE))=TRUE,"",VLOOKUP(CONCATENATE($V$39,"_",W50),選手名簿!$A:$E,5,FALSE)) | AD50: =IF(ISERROR(VLOOKUP(CONCATENATE($AD$39,"_",AC50),選手名簿!$A:$E,5,FALSE))=TRUE,"",VLOOKUP(CONCATENATE($AD$39,"_",AC50),選手名簿!$A:$E,5,FALSE))
E51: 得点者 | F51: =IF(ISERROR(VLOOKUP(CONCATENATE($F$39,"_",G51),選手名簿!$A:$E,5,FALSE))=TRUE,"",VLOOKUP(CONCATENATE($F$39,"_",G51),選手名簿!$A:$E,5,FALSE)) | N51: =IF(ISERROR(VLOOKUP(CONCATENATE($N$39,"_",M51),選手名簿!$A:$E,5,FALSE))=TRUE,"",VLOOKUP(CONCATENATE($N$39,"_",M51),選手名簿!$A:$E,5,FALSE)) | U51: 得点者 | V51: =IF(ISERROR(VLOOKUP(CONCATENATE($V$39,"_",W51),選手名簿!$A:$E,5,FALSE))=TRUE,"",VLOOKUP(CONCATENATE($V$39,"_",W51),選手名簿!$A:$E,5,FALSE)) | AD51: =IF(ISERROR(VLOOKUP(CONCATENATE($AD$39,"_",AC51),選手名簿!$A:$E,5,FALSE))=TRUE,"",VLOOKUP(CONCATENATE($AD$39,"_",AC51),選手名簿!$A:$E,5,FALSE))
E52: 得点者 | F52: =IF(ISERROR(VLOOKUP(CONCATENATE($F$39,"_",G52),選手名簿!$A:$E,5,FALSE))=TRUE,"",VLOOKUP(CONCATENATE($F$39,"_",G52),選手名簿!$A:$E,5,FALSE)) | N52: =IF(ISERROR(VLOOKUP(CONCATENATE($N$39,"_",M52),選手名簿!$A:$E,5,FALSE))=TRUE,"",VLOOKUP(CONCATENATE($N$39,"_",M52),選手名簿!$A:$E,5,FALSE)) | U52: 得点者 | V52: =IF(ISERROR(VLOOKUP(CONCATENATE($V$39,"_",W52),選手名簿!$A:$E,5,FALSE))=TRUE,"",VLOOKUP(CONCATENATE($V$39,"_",W52),選手名簿!$A:$E,5,FALSE)) | AD52: =IF(ISERROR(VLOOKUP(CONCATENATE($AD$39,"_",AC52),選手名簿!$A:$E,5,FALSE))=TRUE,"",VLOOKUP(CONCATENATE($AD$39,"_",AC52),選手名簿!$A:$E,5,FALSE))
A53: 番号 | F53: =IF(ISERROR(VLOOKUP(CONCATENATE($F$39,"_",G53),選手名簿!$A:$E,5,FALSE))=TRUE,"",VLOOKUP(CONCATENATE($F$39,"_",G53),選手名簿!$A:$E,5,FALSE)) | N53: =IF(ISERROR(VLOOKUP(CONCATENATE($N$39,"_",M53),選手名簿!$A:$E,5,FALSE))=TRUE,"",VLOOKUP(CONCATENATE($N$39,"_",M53),選手名簿!$A:$E,5,FALSE)) | Q53: 番号 | V53: =IF(ISERROR(VLOOKUP(CONCATENATE($V$39,"_",W53),選手名簿!$A:$E,5,FALSE))=TRUE,"",VLOOKUP(CONCATENATE($V$39,"_",W53),選手名簿!$A:$E,5,FALSE)) | AD53: =IF(ISERROR(VLOOKUP(CONCATENATE($AD$39,"_",AC53),選手名簿!$A:$E,5,FALSE))=TRUE,"",VLOOKUP(CONCATENATE($AD$39,"_",AC53),選手名簿!$A:$E,5,FALSE))
A54: R | B54: =IF(ISERROR(VLOOKUP(B53,審判員!$A:$C,2,FALSE))=TRUE,"",VLOOKUP(B53,審判員!$A:$C,2,FALSE)) | D54: =IF(ISERROR(VLOOKUP(B53,審判員!$A:$C,3,FALSE))=TRUE,"",VLOOKUP(B53,審判員!$A:$C,3,FALSE)) | F54: =IF(ISERROR(VLOOKUP(CONCATENATE($F$39,"_",G54),選手名簿!$A:$E,5,FALSE))=TRUE,"",VLOOKUP(CONCATENATE($F$39,"_",G54),選手名簿!$A:$E,5,FALSE)) | N54: =IF(ISERROR(VLOOKUP(CONCATENATE($N$39,"_",M54),選手名簿!$A:$E,5,FALSE))=TRUE,"",VLOOKUP(CONCATENATE($N$39,"_",M54),選手名簿!$A:$E,5,FALSE)) | Q54: R | R54: =IF(ISERROR(VLOOKUP(R53,審判員!$A:$C,2,FALSE))=TRUE,"",VLOOKUP(R53,審判員!$A:$C,2,FALSE)) | T54: =IF(ISERROR(VLOOKUP(R53,審判員!$A:$C,3,FALSE))=TRUE,"",VLOOKUP(R53,審判員!$A:$C,3,FALSE)) | V54: =IF(ISERROR(VLOOKUP(CONCATENATE($V$39,"_",W54),選手名簿!$A:$E,5,FALSE))=TRUE,"",VLOOKUP(CONCATENATE($V$39,"_",W54),選手名簿!$A:$E,5,FALSE)) | AD54: =IF(ISERROR(VLOOKUP(CONCATENATE($AD$39,"_",AC54),選手名簿!$A:$E,5,FALSE))=TRUE,"",VLOOKUP(CONCATENATE($AD$39,"_",AC54),選手名簿!$A:$E,5,FALSE))
A55: 番号 | F55: =IF(ISERROR(VLOOKUP(CONCATENATE($F$39,"_",G55),選手名簿!$A:$E,5,FALSE))=TRUE,"",VLOOKUP(CONCATENATE($F$39,"_",G55),選手名簿!$A:$E,5,FALSE)) | N55: =IF(ISERROR(VLOOKUP(CONCATENATE($N$39,"_",M55),選手名簿!$A:$E,5,FALSE))=TRUE,"",VLOOKUP(CONCATENATE($N$39,"_",M55),選手名簿!$A:$E,5,FALSE)) | Q55: 番号 | V55: =IF(ISERROR(VLOOKUP(CONCATENATE($V$39,"_",W55),選手名簿!$A:$E,5,FALSE))=TRUE,"",VLOOKUP(CONCATENATE($V$39,"_",W55),選手名簿!$A:$E,5,FALSE)) | AD55: =IF(ISERROR(VLOOKUP(CONCATENATE($AD$39,"_",AC55),選手名簿!$A:$E,5,FALSE))=TRUE,"",VLOOKUP(CONCATENATE($AD$39,"_",AC55),選手名簿!$A:$E,5,FALSE))
A56: AR1: | B56: =IF(ISERROR(VLOOKUP(B55,審判員!$A:$C,2,FALSE))=TRUE,"",VLOOKUP(B55,審判員!$A:$C,2,FALSE)) | D56: =IF(ISERROR(VLOOKUP(B55,審判員!$A:$C,3,FALSE))=TRUE,"",VLOOKUP(B55,審判員!$A:$C,3,FALSE)) | F56: =IF(ISERROR(VLOOKUP(CONCATENATE($F$39,"_",G56),選手名簿!$A:$E,5,FALSE))=TRUE,"",VLOOKUP(CONCATENATE($F$39,"_",G56),選手名簿!$A:$E,5,FALSE)) | N56: =IF(ISERROR(VLOOKUP(CONCATENATE($N$39,"_",M56),選手名簿!$A:$E,5,FALSE))=TRUE,"",VLOOKUP(CONCATENATE($N$39,"_",M56),選手名簿!$A:$E,5,FALSE)) | Q56: AR1: | R56: =IF(ISERROR(VLOOKUP(R55,審判員!$A:$C,2,FALSE))=TRUE,"",VLOOKUP(R55,審判員!$A:$C,2,FALSE)) | T56: =IF(ISERROR(VLOOKUP(R55,審判員!$A:$C,3,FALSE))=TRUE,"",VLOOKUP(R55,審判員!$A:$C,3,FALSE)) | V56: =IF(ISERROR(VLOOKUP(CONCATENATE($V$39,"_",W56),選手名簿!$A:$E,5,FALSE))=TRUE,"",VLOOKUP(CONCATENATE($V$39,"_",W56),選手名簿!$A:$E,5,FALSE)) | AD56: =IF(ISERROR(VLOOKUP(CONCATENATE($AD$39,"_",AC56),選手名簿!$A:$E,5,FALSE))=TRUE,"",VLOOKUP(CONCATENATE($AD$39,"_",AC56),選手名簿!$A:$E,5,FALSE))
A57: 番号 | F57: =IF(ISERROR(VLOOKUP(CONCATENATE($F$39,"_",G57),選手名簿!$A:$E,5,FALSE))=TRUE,"",VLOOKUP(CONCATENATE($F$39,"_",G57),選手名簿!$A:$E,5,FALSE)) | N57: =IF(ISERROR(VLOOKUP(CONCATENATE($N$39,"_",M57),選手名簿!$A:$E,5,FALSE))=TRUE,"",VLOOKUP(CONCATENATE($N$39,"_",M57),選手名簿!$A:$E,5,FALSE)) | Q57: 番号 | V57: =IF(ISERROR(VLOOKUP(CONCATENATE($V$39,"_",W57),選手名簿!$A:$E,5,FALSE))=TRUE,"",VLOOKUP(CONCATENATE($V$39,"_",W57),選手名簿!$A:$E,5,FALSE)) | AD57: =IF(ISERROR(VLOOKUP(CONCATENATE($AD$39,"_",AC57),選手名簿!$A:$E,5,FALSE))=TRUE,"",VLOOKUP(CONCATENATE($AD$39,"_",AC57),選手名簿!$A:$E,5,FALSE))
A58: AR2: | B58: =IF(ISERROR(VLOOKUP(B57,審判員!$A:$C,2,FALSE))=TRUE,"",VLOOKUP(B57,審判員!$A:$C,2,FALSE)) | D58: =IF(ISERROR(VLOOKUP(B57,審判員!$A:$C,3,FALSE))=TRUE,"",VLOOKUP(B57,審判員!$A:$C,3,FALSE)) | F58: =IF(ISERROR(VLOOKUP(CONCATENATE($F$39,"_",G58),選手名簿!$A:$E,5,FALSE))=TRUE,"",VLOOKUP(CONCATENATE($F$39,"_",G58),選手名簿!$A:$E,5,FALSE)) | N58: =IF(ISERROR(VLOOKUP(CONCATENATE($N$39,"_",M58),選手名簿!$A:$E,5,FALSE))=TRUE,"",VLOOKUP(CONCATENATE($N$39,"_",M58),選手名簿!$A:$E,5,FALSE)) | Q58: AR2: | R58: =IF(ISERROR(VLOOKUP(R57,審判員!$A:$C,2,FALSE))=TRUE,"",VLOOKUP(R57,審判員!$A:$C,2,FALSE)) | T58: =IF(ISERROR(VLOOKUP(R57,審判員!$A:$C,3,FALSE))=TRUE,"",VLOOKUP(R57,審判員!$A:$C,3,FALSE)) | V58: =IF(ISERROR(VLOOKUP(CONCATENATE($V$39,"_",W58),選手名簿!$A:$E,5,FALSE))=TRUE,"",VLOOKUP(CONCATENATE($V$39,"_",W58),選手名簿!$A:$E,5,FALSE)) | AD58: =IF(ISERROR(VLOOKUP(CONCATENATE($AD$39,"_",AC58),選手名簿!$A:$E,5,FALSE))=TRUE,"",VLOOKUP(CONCATENATE($AD$39,"_",AC58),選手名簿!$A:$E,5,FALSE))
A59: 番号 | F59: =IF(ISERROR(VLOOKUP(CONCATENATE($F$39,"_",G59),選手名簿!$A:$E,5,FALSE))=TRUE,"",VLOOKUP(CONCATENATE($F$39,"_",G59),選手名簿!$A:$E,5,FALSE)) | N59: =IF(ISERROR(VLOOKUP(CONCATENATE($N$39,"_",M59),選手名簿!$A:$E,5,FALSE))=TRUE,"",VLOOKUP(CONCATENATE($N$39,"_",M59),選手名簿!$A:$E,5,FALSE)) | Q59: 番号 | V59: =IF(ISERROR(VLOOKUP(CONCATENATE($V$39,"_",W59),選手名簿!$A:$E,5,FALSE))=TRUE,"",VLOOKUP(CONCATENATE($V$39,"_",W59),選手名簿!$A:$E,5,FALSE)) | AD59: =IF(ISERROR(VLOOKUP(CONCATENATE($AD$39,"_",AC59),選手名簿!$A:$E,5,FALSE))=TRUE,"",VLOOKUP(CONCATENATE($AD$39,"_",AC59),選手名簿!$A:$E,5,FALSE))
A60: 4th: | B60: =IF(ISERROR(VLOOKUP(B59,審判員!$A:$C,2,FALSE))=TRUE,"",VLOOKUP(B59,審判員!$A:$C,2,FALSE)) | D60: =IF(ISERROR(VLOOKUP(B59,審判員!$A:$C,3,FALSE))=TRUE,"",VLOOKUP(B59,審判員!$A:$C,3,FALSE)) | F60: =IF(ISERROR(VLOOKUP(CONCATENATE($F$39,"_",G60),選手名簿!$A:$E,5,FALSE))=TRUE,"",VLOOKUP(CONCATENATE($F$39,"_",G60),選手名簿!$A:$E,5,FALSE)) | N60: =IF(ISERROR(VLOOKUP(CONCATENATE($N$39,"_",M60),選手名簿!$A:$E,5,FALSE))=TRUE,"",VLOOKUP(CONCATENATE($N$39,"_",M60),選手名簿!$A:$E,5,FALSE)) | Q60: 4th: | R60: =IF(ISERROR(VLOOKUP(R59,審判員!$A:$C,2,FALSE))=TRUE,"",VLOOKUP(R59,審判員!$A:$C,2,FALSE)) | T60: =IF(ISERROR(VLOOKUP(R59,審判員!$A:$C,3,FALSE))=TRUE,"",VLOOKUP(R59,審判員!$A:$C,3,FALSE)) | V60: =IF(ISERROR(VLOOKUP(CONCATENATE($V$39,"_",W60),選手名簿!$A:$E,5,FALSE))=TRUE,"",VLOOKUP(CONCATENATE($V$39,"_",W60),選手名簿!$A:$E,5,FALSE)) | AD60: =IF(ISERROR(VLOOKUP(CONCATENATE($AD$39,"_",AC60),選手名簿!$A:$E,5,FALSE))=TRUE,"",VLOOKUP(CONCATENATE($AD$39,"_",AC60),選手名簿!$A:$E,5,FALSE))
A68: MC | E68: =予選リーグ!B29 -> 0.59027778 | F68: =F7 -> 0 | G68: =IF(I68="","",SUM(I68:I69)) | H68: （ | J68: 前半 | L68: ） | M68: =IF(K68="","",SUM(K68:K69)) | N68: =F5 -> 0 | Q68: MC | U68: =予選リーグ!B31 -> 0.625 | V68: =V7 -> 0 | W68: =IF(Y68="","",SUM(Y68:Y69)) | X68: （ | Z68: 前半 | AB68: ） | AC68: =IF(AA68="","",SUM(AA68:AA69)) | AD68: =V5 -> 0
A69: Welfare Officer | J69: 後半 | Q69: Welfare Officer | Z69: 後半
A70: 記録 | J70: PK | Q70: 記録 | Z70: PK
A71: ＜Referee＞ | E71: 警告/退場 選択肢より | F71: 氏名 | G71: 番号 | H71: 分 | I71: 内容 選択肢より | K71: 内容 選択肢より | L71: 分 | M71: 番号 | N71: 氏名 | O71: 警告/退場 選択肢より | Q71: ＜Referee＞ | U71: 警告/退場 選択肢より | V71: 氏名 | W71: 番号 | X71: 分 | Y71: 内容 選択肢より | AA71: 内容 選択肢より | AB71: 分 | AC71: 番号 | AD71: 氏名 | AE71: 警告/退場 選択肢より
E72: 得点者 | F72: =IF(ISERROR(VLOOKUP(CONCATENATE($F$68,"_",G72),選手名簿!$A:$E,5,FALSE))=TRUE,"",VLOOKUP(CONCATENATE($F$68,"_",G72),選手名簿!$A:$E,5,FALSE)) | N72: =IF(ISERROR(VLOOKUP(CONCATENATE($N$68,"_",M72),選手名簿!$A:$E,5,FALSE))=TRUE,"",VLOOKUP(CONCATENATE($N$68,"_",M72),選手名簿!$A:$E,5,FALSE)) | U72: 得点者 | V72: =IF(ISERROR(VLOOKUP(CONCATENATE($V$68,"_",W72),選手名簿!$A:$E,5,FALSE))=TRUE,"",VLOOKUP(CONCATENATE($V$68,"_",W72),選手名簿!$A:$E,5,FALSE)) | AD72: =IF(ISERROR(VLOOKUP(CONCATENATE($AD$68,"_",AC72),選手名簿!$A:$E,5,FALSE))=TRUE,"",VLOOKUP(CONCATENATE($AD$68,"_",AC72),選手名簿!$A:$E,5,FALSE))
E73: 得点者 | F73: =IF(ISERROR(VLOOKUP(CONCATENATE($F$68,"_",G73),選手名簿!$A:$E,5,FALSE))=TRUE,"",VLOOKUP(CONCATENATE($F$68,"_",G73),選手名簿!$A:$E,5,FALSE)) | N73: =IF(ISERROR(VLOOKUP(CONCATENATE($N$68,"_",M73),選手名簿!$A:$E,5,FALSE))=TRUE,"",VLOOKUP(CONCATENATE($N$68,"_",M73),選手名簿!$A:$E,5,FALSE)) | U73: 得点者 | V73: =IF(ISERROR(VLOOKUP(CONCATENATE($V$68,"_",W73),選手名簿!$A:$E,5,FALSE))=TRUE,"",VLOOKUP(CONCATENATE($V$68,"_",W73),選手名簿!$A:$E,5,FALSE)) | AD73: =IF(ISERROR(VLOOKUP(CONCATENATE($AD$68,"_",AC73),選手名簿!$A:$E,5,FALSE))=TRUE,"",VLOOKUP(CONCATENATE($AD$68,"_",AC73),選手名簿!$A:$E,5,FALSE))
E74: 得点者 | F74: =IF(ISERROR(VLOOKUP(CONCATENATE($F$68,"_",G74),選手名簿!$A:$E,5,FALSE))=TRUE,"",VLOOKUP(CONCATENATE($F$68,"_",G74),選手名簿!$A:$E,5,FALSE)) | N74: =IF(ISERROR(VLOOKUP(CONCATENATE($N$68,"_",M74),選手名簿!$A:$E,5,FALSE))=TRUE,"",VLOOKUP(CONCATENATE($N$68,"_",M74),選手名簿!$A:$E,5,FALSE)) | U74: 得点者 | V74: =IF(ISERROR(VLOOKUP(CONCATENATE($V$68,"_",W74),選手名簿!$A:$E,5,FALSE))=TRUE,"",VLOOKUP(CONCATENATE($V$68,"_",W74),選手名簿!$A:$E,5,FALSE)) | AD74: =IF(ISERROR(VLOOKUP(CONCATENATE($AD$68,"_",AC74),選手名簿!$A:$E,5,FALSE))=TRUE,"",VLOOKUP(CONCATENATE($AD$68,"_",AC74),選手名簿!$A:$E,5,FALSE))
E75: 得点者 | F75: =IF(ISERROR(VLOOKUP(CONCATENATE($F$68,"_",G75),選手名簿!$A:$E,5,FALSE))=TRUE,"",VLOOKUP(CONCATENATE($F$68,"_",G75),選手名簿!$A:$E,5,FALSE)) | N75: =IF(ISERROR(VLOOKUP(CONCATENATE($N$68,"_",M75),選手名簿!$A:$E,5,FALSE))=TRUE,"",VLOOKUP(CONCATENATE($N$68,"_",M75),選手名簿!$A:$E,5,FALSE)) | U75: 得点者 | V75: =IF(ISERROR(VLOOKUP(CONCATENATE($V$68,"_",W75),選手名簿!$A:$E,5,FALSE))=TRUE,"",VLOOKUP(CONCATENATE($V$68,"_",W75),選手名簿!$A:$E,5,FALSE)) | AD75: =IF(ISERROR(VLOOKUP(CONCATENATE($AD$68,"_",AC75),選手名簿!$A:$E,5,FALSE))=TRUE,"",VLOOKUP(CONCATENATE($AD$68,"_",AC75),選手名簿!$A:$E,5,FALSE))
E76: 得点者 | F76: =IF(ISERROR(VLOOKUP(CONCATENATE($F$68,"_",G76),選手名簿!$A:$E,5,FALSE))=TRUE,"",VLOOKUP(CONCATENATE($F$68,"_",G76),選手名簿!$A:$E,5,FALSE)) | N76: =IF(ISERROR(VLOOKUP(CONCATENATE($N$68,"_",M76),選手名簿!$A:$E,5,FALSE))=TRUE,"",VLOOKUP(CONCATENATE($N$68,"_",M76),選手名簿!$A:$E,5,FALSE)) | U76: 得点者 | V76: =IF(ISERROR(VLOOKUP(CONCATENATE($V$68,"_",W76),選手名簿!$A:$E,5,FALSE))=TRUE,"",VLOOKUP(CONCATENATE($V$68,"_",W76),選手名簿!$A:$E,5,FALSE)) | AD76: =IF(ISERROR(VLOOKUP(CONCATENATE($AD$68,"_",AC76),選手名簿!$A:$E,5,FALSE))=TRUE,"",VLOOKUP(CONCATENATE($AD$68,"_",AC76),選手名簿!$A:$E,5,FALSE))
E77: 得点者 | F77: =IF(ISERROR(VLOOKUP(CONCATENATE($F$68,"_",G77),選手名簿!$A:$E,5,FALSE))=TRUE,"",VLOOKUP(CONCATENATE($F$68,"_",G77),選手名簿!$A:$E,5,FALSE)) | N77: =IF(ISERROR(VLOOKUP(CONCATENATE($N$68,"_",M77),選手名簿!$A:$E,5,FALSE))=TRUE,"",VLOOKUP(CONCATENATE($N$68,"_",M77),選手名簿!$A:$E,5,FALSE)) | U77: 得点者 | V77: =IF(ISERROR(VLOOKUP(CONCATENATE($V$68,"_",W77),選手名簿!$A:$E,5,FALSE))=TRUE,"",VLOOKUP(CONCATENATE($V$68,"_",W77),選手名簿!$A:$E,5,FALSE)) | AD77: =IF(ISERROR(VLOOKUP(CONCATENATE($AD$68,"_",AC77),選手名簿!$A:$E,5,FALSE))=TRUE,"",VLOOKUP(CONCATENATE($AD$68,"_",AC77),選手名簿!$A:$E,5,FALSE))
E78: 得点者 | F78: =IF(ISERROR(VLOOKUP(CONCATENATE($F$68,"_",G78),選手名簿!$A:$E,5,FALSE))=TRUE,"",VLOOKUP(CONCATENATE($F$68,"_",G78),選手名簿!$A:$E,5,FALSE)) | N78: =IF(ISERROR(VLOOKUP(CONCATENATE($N$68,"_",M78),選手名簿!$A:$E,5,FALSE))=TRUE,"",VLOOKUP(CONCATENATE($N$68,"_",M78),選手名簿!$A:$E,5,FALSE)) | U78: 得点者 | V78: =IF(ISERROR(VLOOKUP(CONCATENATE($V$68,"_",W78),選手名簿!$A:$E,5,FALSE))=TRUE,"",VLOOKUP(CONCATENATE($V$68,"_",W78),選手名簿!$A:$E,5,FALSE)) | AD78: =IF(ISERROR(VLOOKUP(CONCATENATE($AD$68,"_",AC78),選手名簿!$A:$E,5,FALSE))=TRUE,"",VLOOKUP(CONCATENATE($AD$68,"_",AC78),選手名簿!$A:$E,5,FALSE))
E79: 得点者 | F79: =IF(ISERROR(VLOOKUP(CONCATENATE($F$68,"_",G79),選手名簿!$A:$E,5,FALSE))=TRUE,"",VLOOKUP(CONCATENATE($F$68,"_",G79),選手名簿!$A:$E,5,FALSE)) | N79: =IF(ISERROR(VLOOKUP(CONCATENATE($N$68,"_",M79),選手名簿!$A:$E,5,FALSE))=TRUE,"",VLOOKUP(CONCATENATE($N$68,"_",M79),選手名簿!$A:$E,5,FALSE)) | U79: 得点者 | V79: =IF(ISERROR(VLOOKUP(CONCATENATE($V$68,"_",W79),選手名簿!$A:$E,5,FALSE))=TRUE,"",VLOOKUP(CONCATENATE($V$68,"_",W79),選手名簿!$A:$E,5,FALSE)) | AD79: =IF(ISERROR(VLOOKUP(CONCATENATE($AD$68,"_",AC79),選手名簿!$A:$E,5,FALSE))=TRUE,"",VLOOKUP(CONCATENATE($AD$68,"_",AC79),選手名簿!$A:$E,5,FALSE))
E80: 得点者 | F80: =IF(ISERROR(VLOOKUP(CONCATENATE($F$68,"_",G80),選手名簿!$A:$E,5,FALSE))=TRUE,"",VLOOKUP(CONCATENATE($F$68,"_",G80),選手名簿!$A:$E,5,FALSE)) | N80: =IF(ISERROR(VLOOKUP(CONCATENATE($N$68,"_",M80),選手名簿!$A:$E,5,FALSE))=TRUE,"",VLOOKUP(CONCATENATE($N$68,"_",M80),選手名簿!$A:$E,5,FALSE)) | U80: 得点者 | V80: =IF(ISERROR(VLOOKUP(CONCATENATE($V$68,"_",W80),選手名簿!$A:$E,5,FALSE))=TRUE,"",VLOOKUP(CONCATENATE($V$68,"_",W80),選手名簿!$A:$E,5,FALSE)) | AD80: =IF(ISERROR(VLOOKUP(CONCATENATE($AD$68,"_",AC80),選手名簿!$A:$E,5,FALSE))=TRUE,"",VLOOKUP(CONCATENATE($AD$68,"_",AC80),選手名簿!$A:$E,5,FALSE))
E81: 得点者 | F81: =IF(ISERROR(VLOOKUP(CONCATENATE($F$68,"_",G81),選手名簿!$A:$E,5,FALSE))=TRUE,"",VLOOKUP(CONCATENATE($F$68,"_",G81),選手名簿!$A:$E,5,FALSE)) | N81: =IF(ISERROR(VLOOKUP(CONCATENATE($N$68,"_",M81),選手名簿!$A:$E,5,FALSE))=TRUE,"",VLOOKUP(CONCATENATE($N$68,"_",M81),選手名簿!$A:$E,5,FALSE)) | U81: 得点者 | V81: =IF(ISERROR(VLOOKUP(CONCATENATE($V$68,"_",W81),選手名簿!$A:$E,5,FALSE))=TRUE,"",VLOOKUP(CONCATENATE($V$68,"_",W81),選手名簿!$A:$E,5,FALSE)) | AD81: =IF(ISERROR(VLOOKUP(CONCATENATE($AD$68,"_",AC81),選手名簿!$A:$E,5,FALSE))=TRUE,"",VLOOKUP(CONCATENATE($AD$68,"_",AC81),選手名簿!$A:$E,5,FALSE))
A82: 番号 | F82: =IF(ISERROR(VLOOKUP(CONCATENATE($F$68,"_",G82),選手名簿!$A:$E,5,FALSE))=TRUE,"",VLOOKUP(CONCATENATE($F$68,"_",G82),選手名簿!$A:$E,5,FALSE)) | N82: =IF(ISERROR(VLOOKUP(CONCATENATE($N$68,"_",M82),選手名簿!$A:$E,5,FALSE))=TRUE,"",VLOOKUP(CONCATENATE($N$68,"_",M82),選手名簿!$A:$E,5,FALSE)) | Q82: 番号 | V82: =IF(ISERROR(VLOOKUP(CONCATENATE($V$68,"_",W82),選手名簿!$A:$E,5,FALSE))=TRUE,"",VLOOKUP(CONCATENATE($V$68,"_",W82),選手名簿!$A:$E,5,FALSE)) | AD82: =IF(ISERROR(VLOOKUP(CONCATENATE($AD$68,"_",AC82),選手名簿!$A:$E,5,FALSE))=TRUE,"",VLOOKUP(CONCATENATE($AD$68,"_",AC82),選手名簿!$A:$E,5,FALSE))
A83: R | B83: =IF(ISERROR(VLOOKUP(B82,審判員!$A:$C,2,FALSE))=TRUE,"",VLOOKUP(B82,審判員!$A:$C,2,FALSE)) | D83: =IF(ISERROR(VLOOKUP(B82,審判員!$A:$C,3,FALSE))=TRUE,"",VLOOKUP(B82,審判員!$A:$C,3,FALSE)) | F83: =IF(ISERROR(VLOOKUP(CONCATENATE($F$68,"_",G83),選手名簿!$A:$E,5,FALSE))=TRUE,"",VLOOKUP(CONCATENATE($F$68,"_",G83),選手名簿!$A:$E,5,FALSE)) | N83: =IF(ISERROR(VLOOKUP(CONCATENATE($N$68,"_",M83),選手名簿!$A:$E,5,FALSE))=TRUE,"",VLOOKUP(CONCATENATE($N$68,"_",M83),選手名簿!$A:$E,5,FALSE)) | Q83: R | R83: =IF(ISERROR(VLOOKUP(R82,審判員!$A:$C,2,FALSE))=TRUE,"",VLOOKUP(R82,審判員!$A:$C,2,FALSE)) | T83: =IF(ISERROR(VLOOKUP(R82,審判員!$A:$C,3,FALSE))=TRUE,"",VLOOKUP(R82,審判員!$A:$C,3,FALSE)) | V83: =IF(ISERROR(VLOOKUP(CONCATENATE($V$68,"_",W83),選手名簿!$A:$E,5,FALSE))=TRUE,"",VLOOKUP(CONCATENATE($V$68,"_",W83),選手名簿!$A:$E,5,FALSE)) | AD83: =IF(ISERROR(VLOOKUP(CONCATENATE($AD$68,"_",AC83),選手名簿!$A:$E,5,FALSE))=TRUE,"",VLOOKUP(CONCATENATE($AD$68,"_",AC83),選手名簿!$A:$E,5,FALSE))
A84: 番号 | F84: =IF(ISERROR(VLOOKUP(CONCATENATE($F$68,"_",G84),選手名簿!$A:$E,5,FALSE))=TRUE,"",VLOOKUP(CONCATENATE($F$68,"_",G84),選手名簿!$A:$E,5,FALSE)) | N84: =IF(ISERROR(VLOOKUP(CONCATENATE($N$68,"_",M84),選手名簿!$A:$E,5,FALSE))=TRUE,"",VLOOKUP(CONCATENATE($N$68,"_",M84),選手名簿!$A:$E,5,FALSE)) | Q84: 番号 | V84: =IF(ISERROR(VLOOKUP(CONCATENATE($V$68,"_",W84),選手名簿!$A:$E,5,FALSE))=TRUE,"",VLOOKUP(CONCATENATE($V$68,"_",W84),選手名簿!$A:$E,5,FALSE)) | AD84: =IF(ISERROR(VLOOKUP(CONCATENATE($AD$68,"_",AC84),選手名簿!$A:$E,5,FALSE))=TRUE,"",VLOOKUP(CONCATENATE($AD$68,"_",AC84),選手名簿!$A:$E,5,FALSE))
A85: AR1: | B85: =IF(ISERROR(VLOOKUP(B84,審判員!$A:$C,2,FALSE))=TRUE,"",VLOOKUP(B84,審判員!$A:$C,2,FALSE)) | D85: =IF(ISERROR(VLOOKUP(B84,審判員!$A:$C,3,FALSE))=TRUE,"",VLOOKUP(B84,審判員!$A:$C,3,FALSE)) | F85: =IF(ISERROR(VLOOKUP(CONCATENATE($F$68,"_",G85),選手名簿!$A:$E,5,FALSE))=TRUE,"",VLOOKUP(CONCATENATE($F$68,"_",G85),選手名簿!$A:$E,5,FALSE)) | N85: =IF(ISERROR(VLOOKUP(CONCATENATE($N$68,"_",M85),選手名簿!$A:$E,5,FALSE))=TRUE,"",VLOOKUP(CONCATENATE($N$68,"_",M85),選手名簿!$A:$E,5,FALSE)) | Q85: AR1: | R85: =IF(ISERROR(VLOOKUP(R84,審判員!$A:$C,2,FALSE))=TRUE,"",VLOOKUP(R84,審判員!$A:$C,2,FALSE)) | T85: =IF(ISERROR(VLOOKUP(R84,審判員!$A:$C,3,FALSE))=TRUE,"",VLOOKUP(R84,審判員!$A:$C,3,FALSE)) | V85: =IF(ISERROR(VLOOKUP(CONCATENATE($V$68,"_",W85),選手名簿!$A:$E,5,FALSE))=TRUE,"",VLOOKUP(CONCATENATE($V$68,"_",W85),選手名簿!$A:$E,5,FALSE)) | AD85: =IF(ISERROR(VLOOKUP(CONCATENATE($AD$68,"_",AC85),選手名簿!$A:$E,5,FALSE))=TRUE,"",VLOOKUP(CONCATENATE($AD$68,"_",AC85),選手名簿!$A:$E,5,FALSE))
A86: 番号 | F86: =IF(ISERROR(VLOOKUP(CONCATENATE($F$68,"_",G86),選手名簿!$A:$E,5,FALSE))=TRUE,"",VLOOKUP(CONCATENATE($F$68,"_",G86),選手名簿!$A:$E,5,FALSE)) | N86: =IF(ISERROR(VLOOKUP(CONCATENATE($N$68,"_",M86),選手名簿!$A:$E,5,FALSE))=TRUE,"",VLOOKUP(CONCATENATE($N$68,"_",M86),選手名簿!$A:$E,5,FALSE)) | Q86: 番号 | V86: =IF(ISERROR(VLOOKUP(CONCATENATE($V$68,"_",W86),選手名簿!$A:$E,5,FALSE))=TRUE,"",VLOOKUP(CONCATENATE($V$68,"_",W86),選手名簿!$A:$E,5,FALSE)) | AD86: =IF(ISERROR(VLOOKUP(CONCATENATE($AD$68,"_",AC86),選手名簿!$A:$E,5,FALSE))=TRUE,"",VLOOKUP(CONCATENATE($AD$68,"_",AC86),選手名簿!$A:$E,5,FALSE))
A87: AR2: | B87: =IF(ISERROR(VLOOKUP(B86,審判員!$A:$C,2,FALSE))=TRUE,"",VLOOKUP(B86,審判員!$A:$C,2,FALSE)) | D87: =IF(ISERROR(VLOOKUP(B86,審判員!$A:$C,3,FALSE))=TRUE,"",VLOOKUP(B86,審判員!$A:$C,3,FALSE)) | F87: =IF(ISERROR(VLOOKUP(CONCATENATE($F$68,"_",G87),選手名簿!$A:$E,5,FALSE))=TRUE,"",VLOOKUP(CONCATENATE($F$68,"_",G87),選手名簿!$A:$E,5,FALSE)) | N87: =IF(ISERROR(VLOOKUP(CONCATENATE($N$68,"_",M87),選手名簿!$A:$E,5,FALSE))=TRUE,"",VLOOKUP(CONCATENATE($N$68,"_",M87),選手名簿!$A:$E,5,FALSE)) | Q87: AR2: | R87: =IF(ISERROR(VLOOKUP(R86,審判員!$A:$C,2,FALSE))=TRUE,"",VLOOKUP(R86,審判員!$A:$C,2,FALSE)) | T87: =IF(ISERROR(VLOOKUP(R86,審判員!$A:$C,3,FALSE))=TRUE,"",VLOOKUP(R86,審判員!$A:$C,3,FALSE)) | V87: =IF(ISERROR(VLOOKUP(CONCATENATE($V$68,"_",W87),選手名簿!$A:$E,5,FALSE))=TRUE,"",VLOOKUP(CONCATENATE($V$68,"_",W87),選手名簿!$A:$E,5,FALSE)) | AD87: =IF(ISERROR(VLOOKUP(CONCATENATE($AD$68,"_",AC87),選手名簿!$A:$E,5,FALSE))=TRUE,"",VLOOKUP(CONCATENATE($AD$68,"_",AC87),選手名簿!$A:$E,5,FALSE))
A88: 番号 | F88: =IF(ISERROR(VLOOKUP(CONCATENATE($F$68,"_",G88),選手名簿!$A:$E,5,FALSE))=TRUE,"",VLOOKUP(CONCATENATE($F$68,"_",G88),選手名簿!$A:$E,5,FALSE)) | N88: =IF(ISERROR(VLOOKUP(CONCATENATE($N$68,"_",M88),選手名簿!$A:$E,5,FALSE))=TRUE,"",VLOOKUP(CONCATENATE($N$68,"_",M88),選手名簿!$A:$E,5,FALSE)) | Q88: 番号 | V88: =IF(ISERROR(VLOOKUP(CONCATENATE($V$68,"_",W88),選手名簿!$A:$E,5,FALSE))=TRUE,"",VLOOKUP(CONCATENATE($V$68,"_",W88),選手名簿!$A:$E,5,FALSE)) | AD88: =IF(ISERROR(VLOOKUP(CONCATENATE($AD$68,"_",AC88),選手名簿!$A:$E,5,FALSE))=TRUE,"",VLOOKUP(CONCATENATE($AD$68,"_",AC88),選手名簿!$A:$E,5,FALSE))
A89: 4th: | B89: =IF(ISERROR(VLOOKUP(B88,審判員!$A:$C,2,FALSE))=TRUE,"",VLOOKUP(B88,審判員!$A:$C,2,FALSE)) | D89: =IF(ISERROR(VLOOKUP(B88,審判員!$A:$C,3,FALSE))=TRUE,"",VLOOKUP(B88,審判員!$A:$C,3,FALSE)) | F89: =IF(ISERROR(VLOOKUP(CONCATENATE($F$68,"_",G89),選手名簿!$A:$E,5,FALSE))=TRUE,"",VLOOKUP(CONCATENATE($F$68,"_",G89),選手名簿!$A:$E,5,FALSE)) | N89: =IF(ISERROR(VLOOKUP(CONCATENATE($N$68,"_",M89),選手名簿!$A:$E,5,FALSE))=TRUE,"",VLOOKUP(CONCATENATE($N$68,"_",M89),選手名簿!$A:$E,5,FALSE)) | Q89: 4th: | R89: =IF(ISERROR(VLOOKUP(R88,審判員!$A:$C,2,FALSE))=TRUE,"",VLOOKUP(R88,審判員!$A:$C,2,FALSE)) | T89: =IF(ISERROR(VLOOKUP(R88,審判員!$A:$C,3,FALSE))=TRUE,"",VLOOKUP(R88,審判員!$A:$C,3,FALSE)) | V89: =IF(ISERROR(VLOOKUP(CONCATENATE($V$68,"_",W89),選手名簿!$A:$E,5,FALSE))=TRUE,"",VLOOKUP(CONCATENATE($V$68,"_",W89),選手名簿!$A:$E,5,FALSE)) | AD89: =IF(ISERROR(VLOOKUP(CONCATENATE($AD$68,"_",AC89),選手名簿!$A:$E,5,FALSE))=TRUE,"",VLOOKUP(CONCATENATE($AD$68,"_",AC89),選手名簿!$A:$E,5,FALSE))

Sheet 予選リーグ公式記録(AコートB)
A1: =要項!C2 -> OFA 第 37 回 大分県U-11サッカー選手権大会 | K1: 予選リーグ結果 報告用紙 | Q1: =要項!C2 -> OFA 第 37 回 大分県U-11サッカー選手権大会 | AA1: 予選リーグ結果 報告用紙
A3: 会場 | B3: =予選リーグ!C14 -> レゾナック サッカー・ラグビー場 Aコート | G3: =予選リーグ!F15 -> 「B」コート | Q3: 会場 | R3: =予選リーグ!C14 -> レゾナック サッカー・ラグビー場 Aコート | W3: =予選リーグ!F15 -> 「B」コート
E5: B1 | F5: =VLOOKUP(E5,組合せ抽選用!$Q:$U,5,FALSE) -> 0 | M5: =VLOOKUP(E5,組合せ抽選用!$Q:$V,6,FALSE) -> 大分 | U5: D1 | V5: =VLOOKUP(U5,組合せ抽選用!$Q:$U,5,FALSE) -> 0 | AC5: =VLOOKUP(U5,組合せ抽選用!$Q:$V,6,FALSE) -> 大分
E6: B2 | F6: =VLOOKUP(E6,組合せ抽選用!$Q:$U,5,FALSE) -> 0 | M6: =VLOOKUP(E6,組合せ抽選用!$Q:$V,6,FALSE) -> 大分 | U6: D2 | V6: =VLOOKUP(U6,組合せ抽選用!$Q:$U,5,FALSE) -> 0 | AC6: =VLOOKUP(U6,組合せ抽選用!$Q:$V,6,FALSE) -> 大分
E7: B3 | F7: =VLOOKUP(E7,組合せ抽選用!$Q:$U,5,FALSE) -> 0 | M7: =VLOOKUP(E7,組合せ抽選用!$Q:$V,6,FALSE) -> 大分 | U7: D3 | V7: =VLOOKUP(U7,組合せ抽選用!$Q:$U,5,FALSE) -> 0 | AC7: =VLOOKUP(U7,組合せ抽選用!$Q:$V,6,FALSE) -> 中津
A10: MC | E10: =予選リーグ!B19 -> 0.41666667 | F10: =F5 -> 0 | G10: =IF(I10="","",SUM(I10:I11)) | H10: （ | J10: 前半 | L10: ） | M10: =IF(K10="","",SUM(K10:K11)) | N10: =F6 -> 0 | Q10: MC | U10: =予選リーグ!B21 -> 0.45138889 | V10: =V5 -> 0 | W10: =IF(Y10="","",SUM(Y10:Y11)) | X10: （ | Z10: 前半 | AB10: ） | AC10: =IF(AA10="","",SUM(AA10:AA11)) | AD10: =V6 -> 0
A11: Welfare Officer | J11: 後半 | Q11: Welfare Officer | Z11: 後半
A12: 記録 | J12: PK | Q12: 記録 | Z12: PK
A13: ＜Referee＞ | E13: 警告/退場 選択肢より | F13: 氏名 | G13: 番号 | H13: 分 | I13: 内容 選択肢より | K13: 内容 選択肢より | L13: 分 | M13: 番号 | N13: 氏名 | O13: 警告/退場 選択肢より | Q13: ＜Referee＞ | U13: 警告/退場 選択肢より | V13: 氏名 | W13: 番号 | X13: 分 | Y13: 内容 選択肢より | AA13: 内容 選択肢より | AB13: 分 | AC13: 番号 | AD13: 氏名 | AE13: 警告/退場 選択肢より
E14: 得点者 | F14: =IF(ISERROR(VLOOKUP(CONCATENATE($F$10,"_",G14),選手名簿!$A:$E,5,FALSE))=TRUE,"",VLOOKUP(CONCATENATE($F$10,"_",G14),選手名簿!$A:$E,5,FALSE)) | N14: =IF(ISERROR(VLOOKUP(CONCATENATE($N$10,"_",M14),選手名簿!$A:$E,5,FALSE))=TRUE,"",VLOOKUP(CONCATENATE($N$10,"_",M14),選手名簿!$A:$E,5,FALSE)) | U14: 得点者 | V14: =IF(ISERROR(VLOOKUP(CONCATENATE($V$10,"_",W14),選手名簿!$A:$E,5,FALSE))=TRUE,"",VLOOKUP(CONCATENATE($V$10,"_",W14),選手名簿!$A:$E,5,FALSE)) | AB14: 5 | AC14: 10 | AD14: =IF(ISERROR(VLOOKUP(CONCATENATE($AD$10,"_",AC14),選手名簿!$A:$E,5,FALSE))=TRUE,"",VLOOKUP(CONCATENATE($AD$10,"_",AC14),選手名簿!$A:$E,5,FALSE))
E15: 得点者 | F15: =IF(ISERROR(VLOOKUP(CONCATENATE($F$10,"_",G15),選手名簿!$A:$E,5,FALSE))=TRUE,"",VLOOKUP(CONCATENATE($F$10,"_",G15),選手名簿!$A:$E,5,FALSE)) | N15: =IF(ISERROR(VLOOKUP(CONCATENATE($N$10,"_",M15),選手名簿!$A:$E,5,FALSE))=TRUE,"",VLOOKUP(CONCATENATE($N$10,"_",M15),選手名簿!$A:$E,5,FALSE)) | U15: 得点者 | V15: =IF(ISERROR(VLOOKUP(CONCATENATE($V$10,"_",W15),選手名簿!$A:$E,5,FALSE))=TRUE,"",VLOOKUP(CONCATENATE($V$10,"_",W15),選手名簿!$A:$E,5,FALSE)) | AD15: =IF(ISERROR(VLOOKUP(CONCATENATE($AD$10,"_",AC15),選手名簿!$A:$E,5,FALSE))=TRUE,"",VLOOKUP(CONCATENATE($AD$10,"_",AC15),選手名簿!$A:$E,5,FALSE))
E16: 得点者 | F16: =IF(ISERROR(VLOOKUP(CONCATENATE($F$10,"_",G16),選手名簿!$A:$E,5,FALSE))=TRUE,"",VLOOKUP(CONCATENATE($F$10,"_",G16),選手名簿!$A:$E,5,FALSE)) | N16: =IF(ISERROR(VLOOKUP(CONCATENATE($N$10,"_",M16),選手名簿!$A:$E,5,FALSE))=TRUE,"",VLOOKUP(CONCATENATE($N$10,"_",M16),選手名簿!$A:$E,5,FALSE)) | U16: 得点者 | V16: =IF(ISERROR(VLOOKUP(CONCATENATE($V$10,"_",W16),選手名簿!$A:$E,5,FALSE))=TRUE,"",VLOOKUP(CONCATENATE($V$10,"_",W16),選手名簿!$A:$E,5,FALSE)) | AD16: =IF(ISERROR(VLOOKUP(CONCATENATE($AD$10,"_",AC16),選手名簿!$A:$E,5,FALSE))=TRUE,"",VLOOKUP(CONCATENATE($AD$10,"_",AC16),選手名簿!$A:$E,5,FALSE))
E17: 得点者 | F17: =IF(ISERROR(VLOOKUP(CONCATENATE($F$10,"_",G17),選手名簿!$A:$E,5,FALSE))=TRUE,"",VLOOKUP(CONCATENATE($F$10,"_",G17),選手名簿!$A:$E,5,FALSE)) | N17: =IF(ISERROR(VLOOKUP(CONCATENATE($N$10,"_",M17),選手名簿!$A:$E,5,FALSE))=TRUE,"",VLOOKUP(CONCATENATE($N$10,"_",M17),選手名簿!$A:$E,5,FALSE)) | U17: 得点者 | V17: =IF(ISERROR(VLOOKUP(CONCATENATE($V$10,"_",W17),選手名簿!$A:$E,5,FALSE))=TRUE,"",VLOOKUP(CONCATENATE($V$10,"_",W17),選手名簿!$A:$E,5,FALSE)) | AD17: =IF(ISERROR(VLOOKUP(CONCATENATE($AD$10,"_",AC17),選手名簿!$A:$E,5,FALSE))=TRUE,"",VLOOKUP(CONCATENATE($AD$10,"_",AC17),選手名簿!$A:$E,5,FALSE))
E18: 得点者 | F18: =IF(ISERROR(VLOOKUP(CONCATENATE($F$10,"_",G18),選手名簿!$A:$E,5,FALSE))=TRUE,"",VLOOKUP(CONCATENATE($F$10,"_",G18),選手名簿!$A:$E,5,FALSE)) | N18: =IF(ISERROR(VLOOKUP(CONCATENATE($N$10,"_",M18),選手名簿!$A:$E,5,FALSE))=TRUE,"",VLOOKUP(CONCATENATE($N$10,"_",M18),選手名簿!$A:$E,5,FALSE)) | U18: 得点者 | V18: =IF(ISERROR(VLOOKUP(CONCATENATE($V$10,"_",W18),選手名簿!$A:$E,5,FALSE))=TRUE,"",VLOOKUP(CONCATENATE($V$10,"_",W18),選手名簿!$A:$E,5,FALSE)) | AD18: =IF(ISERROR(VLOOKUP(CONCATENATE($AD$10,"_",AC18),選手名簿!$A:$E,5,FALSE))=TRUE,"",VLOOKUP(CONCATENATE($AD$10,"_",AC18),選手名簿!$A:$E,5,FALSE))
E19: 得点者 | F19: =IF(ISERROR(VLOOKUP(CONCATENATE($F$10,"_",G19),選手名簿!$A:$E,5,FALSE))=TRUE,"",VLOOKUP(CONCATENATE($F$10,"_",G19),選手名簿!$A:$E,5,FALSE)) | N19: =IF(ISERROR(VLOOKUP(CONCATENATE($N$10,"_",M19),選手名簿!$A:$E,5,FALSE))=TRUE,"",VLOOKUP(CONCATENATE($N$10,"_",M19),選手名簿!$A:$E,5,FALSE)) | U19: 得点者 | V19: =IF(ISERROR(VLOOKUP(CONCATENATE($V$10,"_",W19),選手名簿!$A:$E,5,FALSE))=TRUE,"",VLOOKUP(CONCATENATE($V$10,"_",W19),選手名簿!$A:$E,5,FALSE)) | AD19: =IF(ISERROR(VLOOKUP(CONCATENATE($AD$10,"_",AC19),選手名簿!$A:$E,5,FALSE))=TRUE,"",VLOOKUP(CONCATENATE($AD$10,"_",AC19),選手名簿!$A:$E,5,FALSE))
E20: 得点者 | F20: =IF(ISERROR(VLOOKUP(CONCATENATE($F$10,"_",G20),選手名簿!$A:$E,5,FALSE))=TRUE,"",VLOOKUP(CONCATENATE($F$10,"_",G20),選手名簿!$A:$E,5,FALSE)) | N20: =IF(ISERROR(VLOOKUP(CONCATENATE($N$10,"_",M20),選手名簿!$A:$E,5,FALSE))=TRUE,"",VLOOKUP(CONCATENATE($N$10,"_",M20),選手名簿!$A:$E,5,FALSE)) | U20: 得点者 | V20: =IF(ISERROR(VLOOKUP(CONCATENATE($V$10,"_",W20),選手名簿!$A:$E,5,FALSE))=TRUE,"",VLOOKUP(CONCATENATE($V$10,"_",W20),選手名簿!$A:$E,5,FALSE)) | AD20: =IF(ISERROR(VLOOKUP(CONCATENATE($AD$10,"_",AC20),選手名簿!$A:$E,5,FALSE))=TRUE,"",VLOOKUP(CONCATENATE($AD$10,"_",AC20),選手名簿!$A:$E,5,FALSE))
E21: 得点者 | F21: =IF(ISERROR(VLOOKUP(CONCATENATE($F$10,"_",G21),選手名簿!$A:$E,5,FALSE))=TRUE,"",VLOOKUP(CONCATENATE($F$10,"_",G21),選手名簿!$A:$E,5,FALSE)) | N21: =IF(ISERROR(VLOOKUP(CONCATENATE($N$10,"_",M21),選手名簿!$A:$E,5,FALSE))=TRUE,"",VLOOKUP(CONCATENATE($N$10,"_",M21),選手名簿!$A:$E,5,FALSE)) | U21: 得点者 | V21: =IF(ISERROR(VLOOKUP(CONCATENATE($V$10,"_",W21),選手名簿!$A:$E,5,FALSE))=TRUE,"",VLOOKUP(CONCATENATE($V$10,"_",W21),選手名簿!$A:$E,5,FALSE)) | AD21: =IF(ISERROR(VLOOKUP(CONCATENATE($AD$10,"_",AC21),選手名簿!$A:$E,5,FALSE))=TRUE,"",VLOOKUP(CONCATENATE($AD$10,"_",AC21),選手名簿!$A:$E,5,FALSE))
E22: 得点者 | F22: =IF(ISERROR(VLOOKUP(CONCATENATE($F$10,"_",G22),選手名簿!$A:$E,5,FALSE))=TRUE,"",VLOOKUP(CONCATENATE($F$10,"_",G22),選手名簿!$A:$E,5,FALSE)) | N22: =IF(ISERROR(VLOOKUP(CONCATENATE($N$10,"_",M22),選手名簿!$A:$E,5,FALSE))=TRUE,"",VLOOKUP(CONCATENATE($N$10,"_",M22),選手名簿!$A:$E,5,FALSE)) | U22: 得点者 | V22: =IF(ISERROR(VLOOKUP(CONCATENATE($V$10,"_",W22),選手名簿!$A:$E,5,FALSE))=TRUE,"",VLOOKUP(CONCATENATE($V$10,"_",W22),選手名簿!$A:$E,5,FALSE)) | AD22: =IF(ISERROR(VLOOKUP(CONCATENATE($AD$10,"_",AC22),選手名簿!$A:$E,5,FALSE))=TRUE,"",VLOOKUP(CONCATENATE($AD$10,"_",AC22),選手名簿!$A:$E,5,FALSE))
E23: 得点者 | F23: =IF(ISERROR(VLOOKUP(CONCATENATE($F$10,"_",G23),選手名簿!$A:$E,5,FALSE))=TRUE,"",VLOOKUP(CONCATENATE($F$10,"_",G23),選手名簿!$A:$E,5,FALSE)) | N23: =IF(ISERROR(VLOOKUP(CONCATENATE($N$10,"_",M23),選手名簿!$A:$E,5,FALSE))=TRUE,"",VLOOKUP(CONCATENATE($N$10,"_",M23),選手名簿!$A:$E,5,FALSE)) | U23: 得点者 | V23: =IF(ISERROR(VLOOKUP(CONCATENATE($V$10,"_",W23),選手名簿!$A:$E,5,FALSE))=TRUE,"",VLOOKUP(CONCATENATE($V$10,"_",W23),選手名簿!$A:$E,5,FALSE)) | AD23: =IF(ISERROR(VLOOKUP(CONCATENATE($AD$10,"_",AC23),選手名簿!$A:$E,5,FALSE))=TRUE,"",VLOOKUP(CONCATENATE($AD$10,"_",AC23),選手名簿!$A:$E,5,FALSE))
A24: 番号 | F24: =IF(ISERROR(VLOOKUP(CONCATENATE($F$10,"_",G24),選手名簿!$A:$E,5,FALSE))=TRUE,"",VLOOKUP(CONCATENATE($F$10,"_",G24),選手名簿!$A:$E,5,FALSE)) | N24: =IF(ISERROR(VLOOKUP(CONCATENATE($N$10,"_",M24),選手名簿!$A:$E,5,FALSE))=TRUE,"",VLOOKUP(CONCATENATE($N$10,"_",M24),選手名簿!$A:$E,5,FALSE)) | Q24: 番号 | V24: =IF(ISERROR(VLOOKUP(CONCATENATE($V$10,"_",W24),選手名簿!$A:$E,5,FALSE))=TRUE,"",VLOOKUP(CONCATENATE($V$10,"_",W24),選手名簿!$A:$E,5,FALSE)) | AD24: =IF(ISERROR(VLOOKUP(CONCATENATE($AD$10,"_",AC24),選手名簿!$A:$E,5,FALSE))=TRUE,"",VLOOKUP(CONCATENATE($AD$10,"_",AC24),選手名簿!$A:$E,5,FALSE))
A25: R | B25: =IF(ISERROR(VLOOKUP(B24,審判員!$A:$C,2,FALSE))=TRUE,"",VLOOKUP(B24,審判員!$A:$C,2,FALSE)) | D25: =IF(ISERROR(VLOOKUP(B24,審判員!$A:$C,3,FALSE))=TRUE,"",VLOOKUP(B24,審判員!$A:$C,3,FALSE)) | F25: =IF(ISERROR(VLOOKUP(CONCATENATE($F$10,"_",G25),選手名簿!$A:$E,5,FALSE))=TRUE,"",VLOOKUP(CONCATENATE($F$10,"_",G25),選手名簿!$A:$E,5,FALSE)) | N25: =IF(ISERROR(VLOOKUP(CONCATENATE($N$10,"_",M25),選手名簿!$A:$E,5,FALSE))=TRUE,"",VLOOKUP(CONCATENATE($N$10,"_",M25),選手名簿!$A:$E,5,FALSE)) | Q25: R | R25: =IF(ISERROR(VLOOKUP(R24,審判員!$A:$C,2,FALSE))=TRUE,"",VLOOKUP(R24,審判員!$A:$C,2,FALSE)) | T25: =IF(ISERROR(VLOOKUP(R24,審判員!$A:$C,3,FALSE))=TRUE,"",VLOOKUP(R24,審判員!$A:$C,3,FALSE)) | V25: =IF(ISERROR(VLOOKUP(CONCATENATE($V$10,"_",W25),選手名簿!$A:$E,5,FALSE))=TRUE,"",VLOOKUP(CONCATENATE($V$10,"_",W25),選手名簿!$A:$E,5,FALSE)) | AD25: =IF(ISERROR(VLOOKUP(CONCATENATE($AD$10,"_",AC25),選手名簿!$A:$E,5,FALSE))=TRUE,"",VLOOKUP(CONCATENATE($AD$10,"_",AC25),選手名簿!$A:$E,5,FALSE))
A26: 番号 | F26: =IF(ISERROR(VLOOKUP(CONCATENATE($F$10,"_",G26),選手名簿!$A:$E,5,FALSE))=TRUE,"",VLOOKUP(CONCATENATE($F$10,"_",G26),選手名簿!$A:$E,5,FALSE)) | N26: =IF(ISERROR(VLOOKUP(CONCATENATE($N$10,"_",M26),選手名簿!$A:$E,5,FALSE))=TRUE,"",VLOOKUP(CONCATENATE($N$10,"_",M26),選手名簿!$A:$E,5,FALSE)) | Q26: 番号 | V26: =IF(ISERROR(VLOOKUP(CONCATENATE($V$10,"_",W26),選手名簿!$A:$E,5,FALSE))=TRUE,"",VLOOKUP(CONCATENATE($V$10,"_",W26),選手名簿!$A:$E,5,FALSE)) | AD26: =IF(ISERROR(VLOOKUP(CONCATENATE($AD$10,"_",AC26),選手名簿!$A:$E,5,FALSE))=TRUE,"",VLOOKUP(CONCATENATE($AD$10,"_",AC26),選手名簿!$A:$E,5,FALSE))
A27: AR1: | B27: =IF(ISERROR(VLOOKUP(B26,審判員!$A:$C,2,FALSE))=TRUE,"",VLOOKUP(B26,審判員!$A:$C,2,FALSE)) | D27: =IF(ISERROR(VLOOKUP(B26,審判員!$A:$C,3,FALSE))=TRUE,"",VLOOKUP(B26,審判員!$A:$C,3,FALSE)) | F27: =IF(ISERROR(VLOOKUP(CONCATENATE($F$10,"_",G27),選手名簿!$A:$E,5,FALSE))=TRUE,"",VLOOKUP(CONCATENATE($F$10,"_",G27),選手名簿!$A:$E,5,FALSE)) | N27: =IF(ISERROR(VLOOKUP(CONCATENATE($N$10,"_",M27),選手名簿!$A:$E,5,FALSE))=TRUE,"",VLOOKUP(CONCATENATE($N$10,"_",M27),選手名簿!$A:$E,5,FALSE)) | Q27: AR1: | R27: =IF(ISERROR(VLOOKUP(R26,審判員!$A:$C,2,FALSE))=TRUE,"",VLOOKUP(R26,審判員!$A:$C,2,FALSE)) | T27: =IF(ISERROR(VLOOKUP(R26,審判員!$A:$C,3,FALSE))=TRUE,"",VLOOKUP(R26,審判員!$A:$C,3,FALSE)) | V27: =IF(ISERROR(VLOOKUP(CONCATENATE($V$10,"_",W27),選手名簿!$A:$E,5,FALSE))=TRUE,"",VLOOKUP(CONCATENATE($V$10,"_",W27),選手名簿!$A:$E,5,FALSE)) | AD27: =IF(ISERROR(VLOOKUP(CONCATENATE($AD$10,"_",AC27),選手名簿!$A:$E,5,FALSE))=TRUE,"",VLOOKUP(CONCATENATE($AD$10,"_",AC27),選手名簿!$A:$E,5,FALSE))
A28: 番号 | F28: =IF(ISERROR(VLOOKUP(CONCATENATE($F$10,"_",G28),選手名簿!$A:$E,5,FALSE))=TRUE,"",VLOOKUP(CONCATENATE($F$10,"_",G28),選手名簿!$A:$E,5,FALSE)) | N28: =IF(ISERROR(VLOOKUP(CONCATENATE($N$10,"_",M28),選手名簿!$A:$E,5,FALSE))=TRUE,"",VLOOKUP(CONCATENATE($N$10,"_",M28),選手名簿!$A:$E,5,FALSE)) | Q28: 番号 | V28: =IF(ISERROR(VLOOKUP(CONCATENATE($V$10,"_",W28),選手名簿!$A:$E,5,FALSE))=TRUE,"",VLOOKUP(CONCATENATE($V$10,"_",W28),選手名簿!$A:$E,5,FALSE)) | AD28: =IF(ISERROR(VLOOKUP(CONCATENATE($AD$10,"_",AC28),選手名簿!$A:$E,5,FALSE))=TRUE,"",VLOOKUP(CONCATENATE($AD$10,"_",AC28),選手名簿!$A:$E,5,FALSE))
A29: AR2: | B29: =IF(ISERROR(VLOOKUP(B28,審判員!$A:$C,2,FALSE))=TRUE,"",VLOOKUP(B28,審判員!$A:$C,2,FALSE)) | D29: =IF(ISERROR(VLOOKUP(B28,審判員!$A:$C,3,FALSE))=TRUE,"",VLOOKUP(B28,審判員!$A:$C,3,FALSE)) | F29: =IF(ISERROR(VLOOKUP(CONCATENATE($F$10,"_",G29),選手名簿!$A:$E,5,FALSE))=TRUE,"",VLOOKUP(CONCATENATE($F$10,"_",G29),選手名簿!$A:$E,5,FALSE)) | N29: =IF(ISERROR(VLOOKUP(CONCATENATE($N$10,"_",M29),選手名簿!$A:$E,5,FALSE))=TRUE,"",VLOOKUP(CONCATENATE($N$10,"_",M29),選手名簿!$A:$E,5,FALSE)) | Q29: AR2: | R29: =IF(ISERROR(VLOOKUP(R28,審判員!$A:$C,2,FALSE))=TRUE,"",VLOOKUP(R28,審判員!$A:$C,2,FALSE)) | T29: =IF(ISERROR(VLOOKUP(R28,審判員!$A:$C,3,FALSE))=TRUE,"",VLOOKUP(R28,審判員!$A:$C,3,FALSE)) | V29: =IF(ISERROR(VLOOKUP(CONCATENATE($V$10,"_",W29),選手名簿!$A:$E,5,FALSE))=TRUE,"",VLOOKUP(CONCATENATE($V$10,"_",W29),選手名簿!$A:$E,5,FALSE)) | AD29: =IF(ISERROR(VLOOKUP(CONCATENATE($AD$10,"_",AC29),選手名簿!$A:$E,5,FALSE))=TRUE,"",VLOOKUP(CONCATENATE($AD$10,"_",AC29),選手名簿!$A:$E,5,FALSE))
A30: 番号 | F30: =IF(ISERROR(VLOOKUP(CONCATENATE($F$10,"_",G30),選手名簿!$A:$E,5,FALSE))=TRUE,"",VLOOKUP(CONCATENATE($F$10,"_",G30),選手名簿!$A:$E,5,FALSE)) | N30: =IF(ISERROR(VLOOKUP(CONCATENATE($N$10,"_",M30),選手名簿!$A:$E,5,FALSE))=TRUE,"",VLOOKUP(CONCATENATE($N$10,"_",M30),選手名簿!$A:$E,5,FALSE)) | Q30: 番号 | V30: =IF(ISERROR(VLOOKUP(CONCATENATE($V$10,"_",W30),選手名簿!$A:$E,5,FALSE))=TRUE,"",VLOOKUP(CONCATENATE($V$10,"_",W30),選手名簿!$A:$E,5,FALSE)) | AD30: =IF(ISERROR(VLOOKUP(CONCATENATE($AD$10,"_",AC30),選手名簿!$A:$E,5,FALSE))=TRUE,"",VLOOKUP(CONCATENATE($AD$10,"_",AC30),選手名簿!$A:$E,5,FALSE))
A31: 4th: | B31: =IF(ISERROR(VLOOKUP(B30,審判員!$A:$C,2,FALSE))=TRUE,"",VLOOKUP(B30,審判員!$A:$C,2,FALSE)) | D31: =IF(ISERROR(VLOOKUP(B30,審判員!$A:$C,3,FALSE))=TRUE,"",VLOOKUP(B30,審判員!$A:$C,3,FALSE)) | F31: =IF(ISERROR(VLOOKUP(CONCATENATE($F$10,"_",G31),選手名簿!$A:$E,5,FALSE))=TRUE,"",VLOOKUP(CONCATENATE($F$10,"_",G31),選手名簿!$A:$E,5,FALSE)) | N31: =IF(ISERROR(VLOOKUP(CONCATENATE($N$10,"_",M31),選手名簿!$A:$E,5,FALSE))=TRUE,"",VLOOKUP(CONCATENATE($N$10,"_",M31),選手名簿!$A:$E,5,FALSE)) | Q31: 4th: | R31: =IF(ISERROR(VLOOKUP(R30,審判員!$A:$C,2,FALSE))=TRUE,"",VLOOKUP(R30,審判員!$A:$C,2,FALSE)) | T31: =IF(ISERROR(VLOOKUP(R30,審判員!$A:$C,3,FALSE))=TRUE,"",VLOOKUP(R30,審判員!$A:$C,3,FALSE)) | V31: =IF(ISERROR(VLOOKUP(CONCATENATE($V$10,"_",W31),選手名簿!$A:$E,5,FALSE))=TRUE,"",VLOOKUP(CONCATENATE($V$10,"_",W31),選手名簿!$A:$E,5,FALSE)) | AD31: =IF(ISERROR(VLOOKUP(CONCATENATE($AD$10,"_",AC31),選手名簿!$A:$E,5,FALSE))=TRUE,"",VLOOKUP(CONCATENATE($AD$10,"_",AC31),選手名簿!$A:$E,5,FALSE))
A39: MC | E39: =予選リーグ!B23 -> 0.48611111 | F39: =F6 -> 0 | G39: =IF(I39="","",SUM(I39:I40)) | H39: （ | J39: 前半 | L39: ） | M39: =IF(K39="","",SUM(K39:K40)) | N39: =F7 -> 0 | Q39: MC | U39: =予選リーグ!B27 -> 0.55555556 | V39: =V6 -> 0 | W39: =IF(Y39="","",SUM(Y39:Y40)) | X39: （ | Z39: 前半 | AB39: ） | AC39: =IF(AA39="","",SUM(AA39:AA40)) | AD39: =V7 -> 0
A40: Welfare Officer | J40: 後半 | Q40: Welfare Officer | Z40: 後半
A41: 記録 | J41: PK | Q41: 記録 | Z41: PK
A42: ＜Referee＞ | E42: 警告/退場 選択肢より | F42: 氏名 | G42: 番号 | H42: 分 | I42: 内容 選択肢より | K42: 内容 選択肢より | L42: 分 | M42: 番号 | N42: 氏名 | O42: 警告/退場 選択肢より | Q42: ＜Referee＞ | U42: 警告/退場 選択肢より | V42: 氏名 | W42: 番号 | X42: 分 | Y42: 内容 選択肢より | AA42: 内容 選択肢より | AB42: 分 | AC42: 番号 | AD42: 氏名 | AE42: 警告/退場 選択肢より
E43: 得点者 | F43: =IF(ISERROR(VLOOKUP(CONCATENATE($F$39,"_",G43),選手名簿!$A:$E,5,FALSE))=TRUE,"",VLOOKUP(CONCATENATE($F$39,"_",G43),選手名簿!$A:$E,5,FALSE)) | N43: =IF(ISERROR(VLOOKUP(CONCATENATE($N$39,"_",M43),選手名簿!$A:$E,5,FALSE))=TRUE,"",VLOOKUP(CONCATENATE($N$39,"_",M43),選手名簿!$A:$E,5,FALSE)) | U43: 得点者 | V43: =IF(ISERROR(VLOOKUP(CONCATENATE($V$39,"_",W43),選手名簿!$A:$E,5,FALSE))=TRUE,"",VLOOKUP(CONCATENATE($V$39,"_",W43),選手名簿!$A:$E,5,FALSE)) | AD43: =IF(ISERROR(VLOOKUP(CONCATENATE($AD$39,"_",AC43),選手名簿!$A:$E,5,FALSE))=TRUE,"",VLOOKUP(CONCATENATE($AD$39,"_",AC43),選手名簿!$A:$E,5,FALSE))
E44: 得点者 | F44: =IF(ISERROR(VLOOKUP(CONCATENATE($F$39,"_",G44),選手名簿!$A:$E,5,FALSE))=TRUE,"",VLOOKUP(CONCATENATE($F$39,"_",G44),選手名簿!$A:$E,5,FALSE)) | N44: =IF(ISERROR(VLOOKUP(CONCATENATE($N$39,"_",M44),選手名簿!$A:$E,5,FALSE))=TRUE,"",VLOOKUP(CONCATENATE($N$39,"_",M44),選手名簿!$A:$E,5,FALSE)) | U44: 得点者 | V44: =IF(ISERROR(VLOOKUP(CONCATENATE($V$39,"_",W44),選手名簿!$A:$E,5,FALSE))=TRUE,"",VLOOKUP(CONCATENATE($V$39,"_",W44),選手名簿!$A:$E,5,FALSE)) | AD44: =IF(ISERROR(VLOOKUP(CONCATENATE($AD$39,"_",AC44),選手名簿!$A:$E,5,FALSE))=TRUE,"",VLOOKUP(CONCATENATE($AD$39,"_",AC44),選手名簿!$A:$E,5,FALSE))
E45: 得点者 | F45: =IF(ISERROR(VLOOKUP(CONCATENATE($F$39,"_",G45),選手名簿!$A:$E,5,FALSE))=TRUE,"",VLOOKUP(CONCATENATE($F$39,"_",G45),選手名簿!$A:$E,5,FALSE)) | N45: =IF(ISERROR(VLOOKUP(CONCATENATE($N$39,"_",M45),選手名簿!$A:$E,5,FALSE))=TRUE,"",VLOOKUP(CONCATENATE($N$39,"_",M45),選手名簿!$A:$E,5,FALSE)) | U45: 得点者 | V45: =IF(ISERROR(VLOOKUP(CONCATENATE($V$39,"_",W45),選手名簿!$A:$E,5,FALSE))=TRUE,"",VLOOKUP(CONCATENATE($V$39,"_",W45),選手名簿!$A:$E,5,FALSE)) | AD45: =IF(ISERROR(VLOOKUP(CONCATENATE($AD$39,"_",AC45),選手名簿!$A:$E,5,FALSE))=TRUE,"",VLOOKUP(CONCATENATE($AD$39,"_",AC45),選手名簿!$A:$E,5,FALSE))
E46: 得点者 | F46: =IF(ISERROR(VLOOKUP(CONCATENATE($F$39,"_",G46),選手名簿!$A:$E,5,FALSE))=TRUE,"",VLOOKUP(CONCATENATE($F$39,"_",G46),選手名簿!$A:$E,5,FALSE)) | N46: =IF(ISERROR(VLOOKUP(CONCATENATE($N$39,"_",M46),選手名簿!$A:$E,5,FALSE))=TRUE,"",VLOOKUP(CONCATENATE($N$39,"_",M46),選手名簿!$A:$E,5,FALSE)) | U46: 得点者 | V46: =IF(ISERROR(VLOOKUP(CONCATENATE($V$39,"_",W46),選手名簿!$A:$E,5,FALSE))=TRUE,"",VLOOKUP(CONCATENATE($V$39,"_",W46),選手名簿!$A:$E,5,FALSE)) | AD46: =IF(ISERROR(VLOOKUP(CONCATENATE($AD$39,"_",AC46),選手名簿!$A:$E,5,FALSE))=TRUE,"",VLOOKUP(CONCATENATE($AD$39,"_",AC46),選手名簿!$A:$E,5,FALSE))
E47: 得点者 | F47: =IF(ISERROR(VLOOKUP(CONCATENATE($F$39,"_",G47),選手名簿!$A:$E,5,FALSE))=TRUE,"",VLOOKUP(CONCATENATE($F$39,"_",G47),選手名簿!$A:$E,5,FALSE)) | N47: =IF(ISERROR(VLOOKUP(CONCATENATE($N$39,"_",M47),選手名簿!$A:$E,5,FALSE))=TRUE,"",VLOOKUP(CONCATENATE($N$39,"_",M47),選手名簿!$A:$E,5,FALSE)) | U47: 得点者 | V47: =IF(ISERROR(VLOOKUP(CONCATENATE($V$39,"_",W47),選手名簿!$A:$E,5,FALSE))=TRUE,"",VLOOKUP(CONCATENATE($V$39,"_",W47),選手名簿!$A:$E,5,FALSE)) | AD47: =IF(ISERROR(VLOOKUP(CONCATENATE($AD$39,"_",AC47),選手名簿!$A:$E,5,FALSE))=TRUE,"",VLOOKUP(CONCATENATE($AD$39,"_",AC47),選手名簿!$A:$E,5,FALSE))
E48: 得点者 | F48: =IF(ISERROR(VLOOKUP(CONCATENATE($F$39,"_",G48),選手名簿!$A:$E,5,FALSE))=TRUE,"",VLOOKUP(CONCATENATE($F$39,"_",G48),選手名簿!$A:$E,5,FALSE)) | N48: =IF(ISERROR(VLOOKUP(CONCATENATE($N$39,"_",M48),選手名簿!$A:$E,5,FALSE))=TRUE,"",VLOOKUP(CONCATENATE($N$39,"_",M48),選手名簿!$A:$E,5,FALSE)) | U48: 得点者 | V48: =IF(ISERROR(VLOOKUP(CONCATENATE($V$39,"_",W48),選手名簿!$A:$E,5,FALSE))=TRUE,"",VLOOKUP(CONCATENATE($V$39,"_",W48),選手名簿!$A:$E,5,FALSE)) | AD48: =IF(ISERROR(VLOOKUP(CONCATENATE($AD$39,"_",AC48),選手名簿!$A:$E,5,FALSE))=TRUE,"",VLOOKUP(CONCATENATE($AD$39,"_",AC48),選手名簿!$A:$E,5,FALSE))
E49: 得点者 | F49: =IF(ISERROR(VLOOKUP(CONCATENATE($F$39,"_",G49),選手名簿!$A:$E,5,FALSE))=TRUE,"",VLOOKUP(CONCATENATE($F$39,"_",G49),選手名簿!$A:$E,5,FALSE)) | N49: =IF(ISERROR(VLOOKUP(CONCATENATE($N$39,"_",M49),選手名簿!$A:$E,5,FALSE))=TRUE,"",VLOOKUP(CONCATENATE($N$39,"_",M49),選手名簿!$A:$E,5,FALSE)) | U49: 得点者 | V49: =IF(ISERROR(VLOOKUP(CONCATENATE($V$39,"_",W49),選手名簿!$A:$E,5,FALSE))=TRUE,"",VLOOKUP(CONCATENATE($V$39,"_",W49),選手名簿!$A:$E,5,FALSE)) | AD49: =IF(ISERROR(VLOOKUP(CONCATENATE($AD$39,"_",AC49),選手名簿!$A:$E,5,FALSE))=TRUE,"",VLOOKUP(CONCATENATE($AD$39,"_",AC49),選手名簿!$A:$E,5,FALSE))
E50: 得点者 | F50: =IF(ISERROR(VLOOKUP(CONCATENATE($F$39,"_",G50),選手名簿!$A:$E,5,FALSE))=TRUE,"",VLOOKUP(CONCATENATE($F$39,"_",G50),選手名簿!$A:$E,5,FALSE)) | N50: =IF(ISERROR(VLOOKUP(CONCATENATE($N$39,"_",M50),選手名簿!$A:$E,5,FALSE))=TRUE,"",VLOOKUP(CONCATENATE($N$39,"_",M50),選手名簿!$A:$E,5,FALSE)) | U50: 得点者 | V50: =IF(ISERROR(VLOOKUP(CONCATENATE($V$39,"_",W50),選手名簿!$A:$E,5,FALSE))=TRUE,"",VLOOKUP(CONCATENATE($V$39,"_",W50),選手名簿!$A:$E,5,FALSE)) | AD50: =IF(ISERROR(VLOOKUP(CONCATENATE($AD$39,"_",AC50),選手名簿!$A:$E,5,FALSE))=TRUE,"",VLOOKUP(CONCATENATE($AD$39,"_",AC50),選手名簿!$A:$E,5,FALSE))
E51: 得点者 | F51: =IF(ISERROR(VLOOKUP(CONCATENATE($F$39,"_",G51),選手名簿!$A:$E,5,FALSE))=TRUE,"",VLOOKUP(CONCATENATE($F$39,"_",G51),選手名簿!$A:$E,5,FALSE)) | N51: =IF(ISERROR(VLOOKUP(CONCATENATE($N$39,"_",M51),選手名簿!$A:$E,5,FALSE))=TRUE,"",VLOOKUP(CONCATENATE($N$39,"_",M51),選手名簿!$A:$E,5,FALSE)) | U51: 得点者 | V51: =IF(ISERROR(VLOOKUP(CONCATENATE($V$39,"_",W51),選手名簿!$A:$E,5,FALSE))=TRUE,"",VLOOKUP(CONCATENATE($V$39,"_",W51),選手名簿!$A:$E,5,FALSE)) | AD51: =IF(ISERROR(VLOOKUP(CONCATENATE($AD$39,"_",AC51),選手名簿!$A:$E,5,FALSE))=TRUE,"",VLOOKUP(CONCATENATE($AD$39,"_",AC51),選手名簿!$A:$E,5,FALSE))
E52: 得点者 | F52: =IF(ISERROR(VLOOKUP(CONCATENATE($F$39,"_",G52),選手名簿!$A:$E,5,FALSE))=TRUE,"",VLOOKUP(CONCATENATE($F$39,"_",G52),選手名簿!$A:$E,5,FALSE)) | N52: =IF(ISERROR(VLOOKUP(CONCATENATE($N$39,"_",M52),選手名簿!$A:$E,5,FALSE))=TRUE,"",VLOOKUP(CONCATENATE($N$39,"_",M52),選手名簿!$A:$E,5,FALSE)) | U52: 得点者 | V52: =IF(ISERROR(VLOOKUP(CONCATENATE($V$39,"_",W52),選手名簿!$A:$E,5,FALSE))=TRUE,"",VLOOKUP(CONCATENATE($V$39,"_",W52),選手名簿!$A:$E,5,FALSE)) | AD52: =IF(ISERROR(VLOOKUP(CONCATENATE($AD$39,"_",AC52),選手名簿!$A:$E,5,FALSE))=TRUE,"",VLOOKUP(CONCATENATE($AD$39,"_",AC52),選手名簿!$A:$E,5,FALSE))
A53: 番号 | F53: =IF(ISERROR(VLOOKUP(CONCATENATE($F$39,"_",G53),選手名簿!$A:$E,5,FALSE))=TRUE,"",VLOOKUP(CONCATENATE($F$39,"_",G53),選手名簿!$A:$E,5,FALSE)) | N53: =IF(ISERROR(VLOOKUP(CONCATENATE($N$39,"_",M53),選手名簿!$A:$E,5,FALSE))=TRUE,"",VLOOKUP(CONCATENATE($N$39,"_",M53),選手名簿!$A:$E,5,FALSE)) | Q53: 番号 | V53: =IF(ISERROR(VLOOKUP(CONCATENATE($V$39,"_",W53),選手名簿!$A:$E,5,FALSE))=TRUE,"",VLOOKUP(CONCATENATE($V$39,"_",W53),選手名簿!$A:$E,5,FALSE)) | AD53: =IF(ISERROR(VLOOKUP(CONCATENATE($AD$39,"_",AC53),選手名簿!$A:$E,5,FALSE))=TRUE,"",VLOOKUP(CONCATENATE($AD$39,"_",AC53),選手名簿!$A:$E,5,FALSE))
A54: R | B54: =IF(ISERROR(VLOOKUP(B53,審判員!$A:$C,2,FALSE))=TRUE,"",VLOOKUP(B53,審判員!$A:$C,2,FALSE)) | D54: =IF(ISERROR(VLOOKUP(B53,審判員!$A:$C,3,FALSE))=TRUE,"",VLOOKUP(B53,審判員!$A:$C,3,FALSE)) | F54: =IF(ISERROR(VLOOKUP(CONCATENATE($F$39,"_",G54),選手名簿!$A:$E,5,FALSE))=TRUE,"",VLOOKUP(CONCATENATE($F$39,"_",G54),選手名簿!$A:$E,5,FALSE)) | N54: =IF(ISERROR(VLOOKUP(CONCATENATE($N$39,"_",M54),選手名簿!$A:$E,5,FALSE))=TRUE,"",VLOOKUP(CONCATENATE($N$39,"_",M54),選手名簿!$A:$E,5,FALSE)) | Q54: R | R54: =IF(ISERROR(VLOOKUP(R53,審判員!$A:$C,2,FALSE))=TRUE,"",VLOOKUP(R53,審判員!$A:$C,2,FALSE)) | T54: =IF(ISERROR(VLOOKUP(R53,審判員!$A:$C,3,FALSE))=TRUE,"",VLOOKUP(R53,審判員!$A:$C,3,FALSE)) | V54: =IF(ISERROR(VLOOKUP(CONCATENATE($V$39,"_",W54),選手名簿!$A:$E,5,FALSE))=TRUE,"",VLOOKUP(CONCATENATE($V$39,"_",W54),選手名簿!$A:$E,5,FALSE)) | AD54: =IF(ISERROR(VLOOKUP(CONCATENATE($AD$39,"_",AC54),選手名簿!$A:$E,5,FALSE))=TRUE,"",VLOOKUP(CONCATENATE($AD$39,"_",AC54),選手名簿!$A:$E,5,FALSE))
A55: 番号 | F55: =IF(ISERROR(VLOOKUP(CONCATENATE($F$39,"_",G55),選手名簿!$A:$E,5,FALSE))=TRUE,"",VLOOKUP(CONCATENATE($F$39,"_",G55),選手名簿!$A:$E,5,FALSE)) | N55: =IF(ISERROR(VLOOKUP(CONCATENATE($N$39,"_",M55),選手名簿!$A:$E,5,FALSE))=TRUE,"",VLOOKUP(CONCATENATE($N$39,"_",M55),選手名簿!$A:$E,5,FALSE)) | Q55: 番号 | V55: =IF(ISERROR(VLOOKUP(CONCATENATE($V$39,"_",W55),選手名簿!$A:$E,5,FALSE))=TRUE,"",VLOOKUP(CONCATENATE($V$39,"_",W55),選手名簿!$A:$E,5,FALSE)) | AD55: =IF(ISERROR(VLOOKUP(CONCATENATE($AD$39,"_",AC55),選手名簿!$A:$E,5,FALSE))=TRUE,"",VLOOKUP(CONCATENATE($AD$39,"_",AC55),選手名簿!$A:$E,5,FALSE))
A56: AR1: | B56: =IF(ISERROR(VLOOKUP(B55,審判員!$A:$C,2,FALSE))=TRUE,"",VLOOKUP(B55,審判員!$A:$C,2,FALSE)) | D56: =IF(ISERROR(VLOOKUP(B55,審判員!$A:$C,3,FALSE))=TRUE,"",VLOOKUP(B55,審判員!$A:$C,3,FALSE)) | F56: =IF(ISERROR(VLOOKUP(CONCATENATE($F$39,"_",G56),選手名簿!$A:$E,5,FALSE))=TRUE,"",VLOOKUP(CONCATENATE($F$39,"_",G56),選手名簿!$A:$E,5,FALSE)) | N56: =IF(ISERROR(VLOOKUP(CONCATENATE($N$39,"_",M56),選手名簿!$A:$E,5,FALSE))=TRUE,"",VLOOKUP(CONCATENATE($N$39,"_",M56),選手名簿!$A:$E,5,FALSE)) | Q56: AR1: | R56: =IF(ISERROR(VLOOKUP(R55,審判員!$A:$C,2,FALSE))=TRUE,"",VLOOKUP(R55,審判員!$A:$C,2,FALSE)) | T56: =IF(ISERROR(VLOOKUP(R55,審判員!$A:$C,3,FALSE))=TRUE,"",VLOOKUP(R55,審判員!$A:$C,3,FALSE)) | V56: =IF(ISERROR(VLOOKUP(CONCATENATE($V$39,"_",W56),選手名簿!$A:$E,5,FALSE))=TRUE,"",VLOOKUP(CONCATENATE($V$39,"_",W56),選手名簿!$A:$E,5,FALSE)) | AD56: =IF(ISERROR(VLOOKUP(CONCATENATE($AD$39,"_",AC56),選手名簿!$A:$E,5,FALSE))=TRUE,"",VLOOKUP(CONCATENATE($AD$39,"_",AC56),選手名簿!$A:$E,5,FALSE))
A57: 番号 | F57: =IF(ISERROR(VLOOKUP(CONCATENATE($F$39,"_",G57),選手名簿!$A:$E,5,FALSE))=TRUE,"",VLOOKUP(CONCATENATE($F$39,"_",G57),選手名簿!$A:$E,5,FALSE)) | N57: =IF(ISERROR(VLOOKUP(CONCATENATE($N$39,"_",M57),選手名簿!$A:$E,5,FALSE))=TRUE,"",VLOOKUP(CONCATENATE($N$39,"_",M57),選手名簿!$A:$E,5,FALSE)) | Q57: 番号 | V57: =IF(ISERROR(VLOOKUP(CONCATENATE($V$39,"_",W57),選手名簿!$A:$E,5,FALSE))=TRUE,"",VLOOKUP(CONCATENATE($V$39,"_",W57),選手名簿!$A:$E,5,FALSE)) | AD57: =IF(ISERROR(VLOOKUP(CONCATENATE($AD$39,"_",AC57),選手名簿!$A:$E,5,FALSE))=TRUE,"",VLOOKUP(CONCATENATE($AD$39,"_",AC57),選手名簿!$A:$E,5,FALSE))
A58: AR2: | B58: =IF(ISERROR(VLOOKUP(B57,審判員!$A:$C,2,FALSE))=TRUE,"",VLOOKUP(B57,審判員!$A:$C,2,FALSE)) | D58: =IF(ISERROR(VLOOKUP(B57,審判員!$A:$C,3,FALSE))=TRUE,"",VLOOKUP(B57,審判員!$A:$C,3,FALSE)) | F58: =IF(ISERROR(VLOOKUP(CONCATENATE($F$39,"_",G58),選手名簿!$A:$E,5,FALSE))=TRUE,"",VLOOKUP(CONCATENATE($F$39,"_",G58),選手名簿!$A:$E,5,FALSE)) | N58: =IF(ISERROR(VLOOKUP(CONCATENATE($N$39,"_",M58),選手名簿!$A:$E,5,FALSE))=TRUE,"",VLOOKUP(CONCATENATE($N$39,"_",M58),選手名簿!$A:$E,5,FALSE)) | Q58: AR2: | R58: =IF(ISERROR(VLOOKUP(R57,審判員!$A:$C,2,FALSE))=TRUE,"",VLOOKUP(R57,審判員!$A:$C,2,FALSE)) | T58: =IF(ISERROR(VLOOKUP(R57,審判員!$A:$C,3,FALSE))=TRUE,"",VLOOKUP(R57,審判員!$A:$C,3,FALSE)) | V58: =IF(ISERROR(VLOOKUP(CONCATENATE($V$39,"_",W58),選手名簿!$A:$E,5,FALSE))=TRUE,"",VLOOKUP(CONCATENATE($V$39,"_",W58),選手名簿!$A:$E,5,FALSE)) | AD58: =IF(ISERROR(VLOOKUP(CONCATENATE($AD$39,"_",AC58),選手名簿!$A:$E,5,FALSE))=TRUE,"",VLOOKUP(CONCATENATE($AD$39,"_",AC58),選手名簿!$A:$E,5,FALSE))
A59: 番号 | F59: =IF(ISERROR(VLOOKUP(CONCATENATE($F$39,"_",G59),選手名簿!$A:$E,5,FALSE))=TRUE,"",VLOOKUP(CONCATENATE($F$39,"_",G59),選手名簿!$A:$E,5,FALSE)) | N59: =IF(ISERROR(VLOOKUP(CONCATENATE($N$39,"_",M59),選手名簿!$A:$E,5,FALSE))=TRUE,"",VLOOKUP(CONCATENATE($N$39,"_",M59),選手名簿!$A:$E,5,FALSE)) | Q59: 番号 | V59: =IF(ISERROR(VLOOKUP(CONCATENATE($V$39,"_",W59),選手名簿!$A:$E,5,FALSE))=TRUE,"",VLOOKUP(CONCATENATE($V$39,"_",W59),選手名簿!$A:$E,5,FALSE)) | AD59: =IF(ISERROR(VLOOKUP(CONCATENATE($AD$39,"_",AC59),選手名簿!$A:$E,5,FALSE))=TRUE,"",VLOOKUP(CONCATENATE($AD$39,"_",AC59),選手名簿!$A:$E,5,FALSE))
A60: 4th: | B60: =IF(ISERROR(VLOOKUP(B59,審判員!$A:$C,2,FALSE))=TRUE,"",VLOOKUP(B59,審判員!$A:$C,2,FALSE)) | D60: =IF(ISERROR(VLOOKUP(B59,審判員!$A:$C,3,FALSE))=TRUE,"",VLOOKUP(B59,審判員!$A:$C,3,FALSE)) | F60: =IF(ISERROR(VLOOKUP(CONCATENATE($F$39,"_",G60),選手名簿!$A:$E,5,FALSE))=TRUE,"",VLOOKUP(CONCATENATE($F$39,"_",G60),選手名簿!$A:$E,5,FALSE)) | N60: =IF(ISERROR(VLOOKUP(CONCATENATE($N$39,"_",M60),選手名簿!$A:$E,5,FALSE))=TRUE,"",VLOOKUP(CONCATENATE($N$39,"_",M60),選手名簿!$A:$E,5,FALSE)) | Q60: 4th: | R60: =IF(ISERROR(VLOOKUP(R59,審判員!$A:$C,2,FALSE))=TRUE,"",VLOOKUP(R59,審判員!$A:$C,2,FALSE)) | T60: =IF(ISERROR(VLOOKUP(R59,審判員!$A:$C,3,FALSE))=TRUE,"",VLOOKUP(R59,審判員!$A:$C,3,FALSE)) | V60: =IF(ISERROR(VLOOKUP(CONCATENATE($V$39,"_",W60),選手名簿!$A:$E,5,FALSE))=TRUE,"",VLOOKUP(CONCATENATE($V$39,"_",W60),選手名簿!$A:$E,5,FALSE)) | AD60: =IF(ISERROR(VLOOKUP(CONCATENATE($AD$39,"_",AC60),選手名簿!$A:$E,5,FALSE))=TRUE,"",VLOOKUP(CONCATENATE($AD$39,"_",AC60),選手名簿!$A:$E,5,FALSE))
A68: MC | E68: =予選リーグ!B29 -> 0.59027778 | F68: =F7 -> 0 | G68: =IF(I68="","",SUM(I68:I69)) | H68: （ | J68: 前半 | L68: ） | M68: =IF(K68="","",SUM(K68:K69)) | N68: =F5 -> 0 | Q68: MC | U68: =予選リーグ!B31 -> 0.625 | V68: =V7 -> 0 | W68: =IF(Y68="","",SUM(Y68:Y69)) | X68: （ | Z68: 前半 | AB68: ） | AC68: =IF(AA68="","",SUM(AA68:AA69)) | AD68: =V5 -> 0
A69: Welfare Officer | J69: 後半 | Q69: Welfare Officer | Z69: 後半
A70: 記録 | J70: PK | Q70: 記録 | Z70: PK
A71: ＜Referee＞ | E71: 警告/退場 選択肢より | F71: 氏名 | G71: 番号 | H71: 分 | I71: 内容 選択肢より | K71: 内容 選択肢より | L71: 分 | M71: 番号 | N71: 氏名 | O71: 警告/退場 選択肢より | Q71: ＜Referee＞ | U71: 警告/退場 選択肢より | V71: 氏名 | W71: 番号 | X71: 分 | Y71: 内容 選択肢より | AA71: 内容 選択肢より | AB71: 分 | AC71: 番号 | AD71: 氏名 | AE71: 警告/退場 選択肢より
E72: 得点者 | F72: =IF(ISERROR(VLOOKUP(CONCATENATE($F$68,"_",G72),選手名簿!$A:$E,5,FALSE))=TRUE,"",VLOOKUP(CONCATENATE($F$68,"_",G72),選手名簿!$A:$E,5,FALSE)) | L72: 19 | M72: 9 | N72: =IF(ISERROR(VLOOKUP(CONCATENATE($N$68,"_",M72),選手名簿!$A:$E,5,FALSE))=TRUE,"",VLOOKUP(CONCATENATE($N$68,"_",M72),選手名簿!$A:$E,5,FALSE)) | U72: 得点者 | V72: =IF(ISERROR(VLOOKUP(CONCATENATE($V$68,"_",W72),選手名簿!$A:$E,5,FALSE))=TRUE,"",VLOOKUP(CONCATENATE($V$68,"_",W72),選手名簿!$A:$E,5,FALSE)) | AD72: =IF(ISERROR(VLOOKUP(CONCATENATE($AD$68,"_",AC72),選手名簿!$A:$E,5,FALSE))=TRUE,"",VLOOKUP(CONCATENATE($AD$68,"_",AC72),選手名簿!$A:$E,5,FALSE))
E73: 得点者 | F73: =IF(ISERROR(VLOOKUP(CONCATENATE($F$68,"_",G73),選手名簿!$A:$E,5,FALSE))=TRUE,"",VLOOKUP(CONCATENATE($F$68,"_",G73),選手名簿!$A:$E,5,FALSE)) | N73: =IF(ISERROR(VLOOKUP(CONCATENATE($N$68,"_",M73),選手名簿!$A:$E,5,FALSE))=TRUE,"",VLOOKUP(CONCATENATE($N$68,"_",M73),選手名簿!$A:$E,5,FALSE)) | U73: 得点者 | V73: =IF(ISERROR(VLOOKUP(CONCATENATE($V$68,"_",W73),選手名簿!$A:$E,5,FALSE))=TRUE,"",VLOOKUP(CONCATENATE($V$68,"_",W73),選手名簿!$A:$E,5,FALSE)) | AD73: =IF(ISERROR(VLOOKUP(CONCATENATE($AD$68,"_",AC73),選手名簿!$A:$E,5,FALSE))=TRUE,"",VLOOKUP(CONCATENATE($AD$68,"_",AC73),選手名簿!$A:$E,5,FALSE))
E74: 得点者 | F74: =IF(ISERROR(VLOOKUP(CONCATENATE($F$68,"_",G74),選手名簿!$A:$E,5,FALSE))=TRUE,"",VLOOKUP(CONCATENATE($F$68,"_",G74),選手名簿!$A:$E,5,FALSE)) | N74: =IF(ISERROR(VLOOKUP(CONCATENATE($N$68,"_",M74),選手名簿!$A:$E,5,FALSE))=TRUE,"",VLOOKUP(CONCATENATE($N$68,"_",M74),選手名簿!$A:$E,5,FALSE)) | U74: 得点者 | V74: =IF(ISERROR(VLOOKUP(CONCATENATE($V$68,"_",W74),選手名簿!$A:$E,5,FALSE))=TRUE,"",VLOOKUP(CONCATENATE($V$68,"_",W74),選手名簿!$A:$E,5,FALSE)) | AD74: =IF(ISERROR(VLOOKUP(CONCATENATE($AD$68,"_",AC74),選手名簿!$A:$E,5,FALSE))=TRUE,"",VLOOKUP(CONCATENATE($AD$68,"_",AC74),選手名簿!$A:$E,5,FALSE))
E75: 得点者 | F75: =IF(ISERROR(VLOOKUP(CONCATENATE($F$68,"_",G75),選手名簿!$A:$E,5,FALSE))=TRUE,"",VLOOKUP(CONCATENATE($F$68,"_",G75),選手名簿!$A:$E,5,FALSE)) | N75: =IF(ISERROR(VLOOKUP(CONCATENATE($N$68,"_",M75),選手名簿!$A:$E,5,FALSE))=TRUE,"",VLOOKUP(CONCATENATE($N$68,"_",M75),選手名簿!$A:$E,5,FALSE)) | U75: 得点者 | V75: =IF(ISERROR(VLOOKUP(CONCATENATE($V$68,"_",W75),選手名簿!$A:$E,5,FALSE))=TRUE,"",VLOOKUP(CONCATENATE($V$68,"_",W75),選手名簿!$A:$E,5,FALSE)) | AD75: =IF(ISERROR(VLOOKUP(CONCATENATE($AD$68,"_",AC75),選手名簿!$A:$E,5,FALSE))=TRUE,"",VLOOKUP(CONCATENATE($AD$68,"_",AC75),選手名簿!$A:$E,5,FALSE))
E76: 得点者 | F76: =IF(ISERROR(VLOOKUP(CONCATENATE($F$68,"_",G76),選手名簿!$A:$E,5,FALSE))=TRUE,"",VLOOKUP(CONCATENATE($F$68,"_",G76),選手名簿!$A:$E,5,FALSE)) | N76: =IF(ISERROR(VLOOKUP(CONCATENATE($N$68,"_",M76),選手名簿!$A:$E,5,FALSE))=TRUE,"",VLOOKUP(CONCATENATE($N$68,"_",M76),選手名簿!$A:$E,5,FALSE)) | U76: 得点者 | V76: =IF(ISERROR(VLOOKUP(CONCATENATE($V$68,"_",W76),選手名簿!$A:$E,5,FALSE))=TRUE,"",VLOOKUP(CONCATENATE($V$68,"_",W76),選手名簿!$A:$E,5,FALSE)) | AD76: =IF(ISERROR(VLOOKUP(CONCATENATE($AD$68,"_",AC76),選手名簿!$A:$E,5,FALSE))=TRUE,"",VLOOKUP(CONCATENATE($AD$68,"_",AC76),選手名簿!$A:$E,5,FALSE))
E77: 得点者 | F77: =IF(ISERROR(VLOOKUP(CONCATENATE($F$68,"_",G77),選手名簿!$A:$E,5,FALSE))=TRUE,"",VLOOKUP(CONCATENATE($F$68,"_",G77),選手名簿!$A:$E,5,FALSE)) | N77: =IF(ISERROR(VLOOKUP(CONCATENATE($N$68,"_",M77),選手名簿!$A:$E,5,FALSE))=TRUE,"",VLOOKUP(CONCATENATE($N$68,"_",M77),選手名簿!$A:$E,5,FALSE)) | U77: 得点者 | V77: =IF(ISERROR(VLOOKUP(CONCATENATE($V$68,"_",W77),選手名簿!$A:$E,5,FALSE))=TRUE,"",VLOOKUP(CONCATENATE($V$68,"_",W77),選手名簿!$A:$E,5,FALSE)) | AD77: =IF(ISERROR(VLOOKUP(CONCATENATE($AD$68,"_",AC77),選手名簿!$A:$E,5,FALSE))=TRUE,"",VLOOKUP(CONCATENATE($AD$68,"_",AC77),選手名簿!$A:$E,5,FALSE))
E78: 得点者 | F78: =IF(ISERROR(VLOOKUP(CONCATENATE($F$68,"_",G78),選手名簿!$A:$E,5,FALSE))=TRUE,"",VLOOKUP(CONCATENATE($F$68,"_",G78),選手名簿!$A:$E,5,FALSE)) | N78: =IF(ISERROR(VLOOKUP(CONCATENATE($N$68,"_",M78),選手名簿!$A:$E,5,FALSE))=TRUE,"",VLOOKUP(CONCATENATE($N$68,"_",M78),選手名簿!$A:$E,5,FALSE)) | U78: 得点者 | V78: =IF(ISERROR(VLOOKUP(CONCATENATE($V$68,"_",W78),選手名簿!$A:$E,5,FALSE))=TRUE,"",VLOOKUP(CONCATENATE($V$68,"_",W78),選手名簿!$A:$E,5,FALSE)) | AD78: =IF(ISERROR(VLOOKUP(CONCATENATE($AD$68,"_",AC78),選手名簿!$A:$E,5,FALSE))=TRUE,"",VLOOKUP(CONCATENATE($AD$68,"_",AC78),選手名簿!$A:$E,5,FALSE))
E79: 得点者 | F79: =IF(ISERROR(VLOOKUP(CONCATENATE($F$68,"_",G79),選手名簿!$A:$E,5,FALSE))=TRUE,"",VLOOKUP(CONCATENATE($F$68,"_",G79),選手名簿!$A:$E,5,FALSE)) | N79: =IF(ISERROR(VLOOKUP(CONCATENATE($N$68,"_",M79),選手名簿!$A:$E,5,FALSE))=TRUE,"",VLOOKUP(CONCATENATE($N$68,"_",M79),選手名簿!$A:$E,5,FALSE)) | U79: 得点者 | V79: =IF(ISERROR(VLOOKUP(CONCATENATE($V$68,"_",W79),選手名簿!$A:$E,5,FALSE))=TRUE,"",VLOOKUP(CONCATENATE($V$68,"_",W79),選手名簿!$A:$E,5,FALSE)) | AD79: =IF(ISERROR(VLOOKUP(CONCATENATE($AD$68,"_",AC79),選手名簿!$A:$E,5,FALSE))=TRUE,"",VLOOKUP(CONCATENATE($AD$68,"_",AC79),選手名簿!$A:$E,5,FALSE))
E80: 得点者 | F80: =IF(ISERROR(VLOOKUP(CONCATENATE($F$68,"_",G80),選手名簿!$A:$E,5,FALSE))=TRUE,"",VLOOKUP(CONCATENATE($F$68,"_",G80),選手名簿!$A:$E,5,FALSE)) | N80: =IF(ISERROR(VLOOKUP(CONCATENATE($N$68,"_",M80),選手名簿!$A:$E,5,FALSE))=TRUE,"",VLOOKUP(CONCATENATE($N$68,"_",M80),選手名簿!$A:$E,5,FALSE)) | U80: 得点者 | V80: =IF(ISERROR(VLOOKUP(CONCATENATE($V$68,"_",W80),選手名簿!$A:$E,5,FALSE))=TRUE,"",VLOOKUP(CONCATENATE($V$68,"_",W80),選手名簿!$A:$E,5,FALSE)) | AD80: =IF(ISERROR(VLOOKUP(CONCATENATE($AD$68,"_",AC80),選手名簿!$A:$E,5,FALSE))=TRUE,"",VLOOKUP(CONCATENATE($AD$68,"_",AC80),選手名簿!$A:$E,5,FALSE))
E81: 得点者 | F81: =IF(ISERROR(VLOOKUP(CONCATENATE($F$68,"_",G81),選手名簿!$A:$E,5,FALSE))=TRUE,"",VLOOKUP(CONCATENATE($F$68,"_",G81),選手名簿!$A:$E,5,FALSE)) | N81: =IF(ISERROR(VLOOKUP(CONCATENATE($N$68,"_",M81),選手名簿!$A:$E,5,FALSE))=TRUE,"",VLOOKUP(CONCATENATE($N$68,"_",M81),選手名簿!$A:$E,5,FALSE)) | U81: 得点者 | V81: =IF(ISERROR(VLOOKUP(CONCATENATE($V$68,"_",W81),選手名簿!$A:$E,5,FALSE))=TRUE,"",VLOOKUP(CONCATENATE($V$68,"_",W81),選手名簿!$A:$E,5,FALSE)) | AD81: =IF(ISERROR(VLOOKUP(CONCATENATE($AD$68,"_",AC81),選手名簿!$A:$E,5,FALSE))=TRUE,"",VLOOKUP(CONCATENATE($AD$68,"_",AC81),選手名簿!$A:$E,5,FALSE))
A82: 番号 | F82: =IF(ISERROR(VLOOKUP(CONCATENATE($F$68,"_",G82),選手名簿!$A:$E,5,FALSE))=TRUE,"",VLOOKUP(CONCATENATE($F$68,"_",G82),選手名簿!$A:$E,5,FALSE)) | N82: =IF(ISERROR(VLOOKUP(CONCATENATE($N$68,"_",M82),選手名簿!$A:$E,5,FALSE))=TRUE,"",VLOOKUP(CONCATENATE($N$68,"_",M82),選手名簿!$A:$E,5,FALSE)) | Q82: 番号 | V82: =IF(ISERROR(VLOOKUP(CONCATENATE($V$68,"_",W82),選手名簿!$A:$E,5,FALSE))=TRUE,"",VLOOKUP(CONCATENATE($V$68,"_",W82),選手名簿!$A:$E,5,FALSE)) | AD82: =IF(ISERROR(VLOOKUP(CONCATENATE($AD$68,"_",AC82),選手名簿!$A:$E,5,FALSE))=TRUE,"",VLOOKUP(CONCATENATE($AD$68,"_",AC82),選手名簿!$A:$E,5,FALSE))
A83: R | B83: =IF(ISERROR(VLOOKUP(B82,審判員!$A:$C,2,FALSE))=TRUE,"",VLOOKUP(B82,審判員!$A:$C,2,FALSE)) | D83: =IF(ISERROR(VLOOKUP(B82,審判員!$A:$C,3,FALSE))=TRUE,"",VLOOKUP(B82,審判員!$A:$C,3,FALSE)) | F83: =IF(ISERROR(VLOOKUP(CONCATENATE($F$68,"_",G83),選手名簿!$A:$E,5,FALSE))=TRUE,"",VLOOKUP(CONCATENATE($F$68,"_",G83),選手名簿!$A:$E,5,FALSE)) | N83: =IF(ISERROR(VLOOKUP(CONCATENATE($N$68,"_",M83),選手名簿!$A:$E,5,FALSE))=TRUE,"",VLOOKUP(CONCATENATE($N$68,"_",M83),選手名簿!$A:$E,5,FALSE)) | Q83: R | R83: =IF(ISERROR(VLOOKUP(R82,審判員!$A:$C,2,FALSE))=TRUE,"",VLOOKUP(R82,審判員!$A:$C,2,FALSE)) | T83: =IF(ISERROR(VLOOKUP(R82,審判員!$A:$C,3,FALSE))=TRUE,"",VLOOKUP(R82,審判員!$A:$C,3,FALSE)) | V83: =IF(ISERROR(VLOOKUP(CONCATENATE($V$68,"_",W83),選手名簿!$A:$E,5,FALSE))=TRUE,"",VLOOKUP(CONCATENATE($V$68,"_",W83),選手名簿!$A:$E,5,FALSE)) | AD83: =IF(ISERROR(VLOOKUP(CONCATENATE($AD$68,"_",AC83),選手名簿!$A:$E,5,FALSE))=TRUE,"",VLOOKUP(CONCATENATE($AD$68,"_",AC83),選手名簿!$A:$E,5,FALSE))
A84: 番号 | F84: =IF(ISERROR(VLOOKUP(CONCATENATE($F$68,"_",G84),選手名簿!$A:$E,5,FALSE))=TRUE,"",VLOOKUP(CONCATENATE($F$68,"_",G84),選手名簿!$A:$E,5,FALSE)) | N84: =IF(ISERROR(VLOOKUP(CONCATENATE($N$68,"_",M84),選手名簿!$A:$E,5,FALSE))=TRUE,"",VLOOKUP(CONCATENATE($N$68,"_",M84),選手名簿!$A:$E,5,FALSE)) | Q84: 番号 | V84: =IF(ISERROR(VLOOKUP(CONCATENATE($V$68,"_",W84),選手名簿!$A:$E,5,FALSE))=TRUE,"",VLOOKUP(CONCATENATE($V$68,"_",W84),選手名簿!$A:$E,5,FALSE)) | AD84: =IF(ISERROR(VLOOKUP(CONCATENATE($AD$68,"_",AC84),選手名簿!$A:$E,5,FALSE))=TRUE,"",VLOOKUP(CONCATENATE($AD$68,"_",AC84),選手名簿!$A:$E,5,FALSE))
A85: AR1: | B85: =IF(ISERROR(VLOOKUP(B84,審判員!$A:$C,2,FALSE))=TRUE,"",VLOOKUP(B84,審判員!$A:$C,2,FALSE)) | D85: =IF(ISERROR(VLOOKUP(B84,審判員!$A:$C,3,FALSE))=TRUE,"",VLOOKUP(B84,審判員!$A:$C,3,FALSE)) | F85: =IF(ISERROR(VLOOKUP(CONCATENATE($F$68,"_",G85),選手名簿!$A:$E,5,FALSE))=TRUE,"",VLOOKUP(CONCATENATE($F$68,"_",G85),選手名簿!$A:$E,5,FALSE)) | N85: =IF(ISERROR(VLOOKUP(CONCATENATE($N$68,"_",M85),選手名簿!$A:$E,5,FALSE))=TRUE,"",VLOOKUP(CONCATENATE($N$68,"_",M85),選手名簿!$A:$E,5,FALSE)) | Q85: AR1: | R85: =IF(ISERROR(VLOOKUP(R84,審判員!$A:$C,2,FALSE))=TRUE,"",VLOOKUP(R84,審判員!$A:$C,2,FALSE)) | T85: =IF(ISERROR(VLOOKUP(R84,審判員!$A:$C,3,FALSE))=TRUE,"",VLOOKUP(R84,審判員!$A:$C,3,FALSE)) | V85: =IF(ISERROR(VLOOKUP(CONCATENATE($V$68,"_",W85),選手名簿!$A:$E,5,FALSE))=TRUE,"",VLOOKUP(CONCATENATE($V$68,"_",W85),選手名簿!$A:$E,5,FALSE)) | AD85: =IF(ISERROR(VLOOKUP(CONCATENATE($AD$68,"_",AC85),選手名簿!$A:$E,5,FALSE))=TRUE,"",VLOOKUP(CONCATENATE($AD$68,"_",AC85),選手名簿!$A:$E,5,FALSE))
A86: 番号 | F86: =IF(ISERROR(VLOOKUP(CONCATENATE($F$68,"_",G86),選手名簿!$A:$E,5,FALSE))=TRUE,"",VLOOKUP(CONCATENATE($F$68,"_",G86),選手名簿!$A:$E,5,FALSE)) | N86: =IF(ISERROR(VLOOKUP(CONCATENATE($N$68,"_",M86),選手名簿!$A:$E,5,FALSE))=TRUE,"",VLOOKUP(CONCATENATE($N$68,"_",M86),選手名簿!$A:$E,5,FALSE)) | Q86: 番号 | V86: =IF(ISERROR(VLOOKUP(CONCATENATE($V$68,"_",W86),選手名簿!$A:$E,5,FALSE))=TRUE,"",VLOOKUP(CONCATENATE($V$68,"_",W86),選手名簿!$A:$E,5,FALSE)) | AD86: =IF(ISERROR(VLOOKUP(CONCATENATE($AD$68,"_",AC86),選手名簿!$A:$E,5,FALSE))=TRUE,"",VLOOKUP(CONCATENATE($AD$68,"_",AC86),選手名簿!$A:$E,5,FALSE))
A87: AR2: | B87: =IF(ISERROR(VLOOKUP(B86,審判員!$A:$C,2,FALSE))=TRUE,"",VLOOKUP(B86,審判員!$A:$C,2,FALSE)) | D87: =IF(ISERROR(VLOOKUP(B86,審判員!$A:$C,3,FALSE))=TRUE,"",VLOOKUP(B86,審判員!$A:$C,3,FALSE)) | F87: =IF(ISERROR(VLOOKUP(CONCATENATE($F$68,"_",G87),選手名簿!$A:$E,5,FALSE))=TRUE,"",VLOOKUP(CONCATENATE($F$68,"_",G87),選手名簿!$A:$E,5,FALSE)) | N87: =IF(ISERROR(VLOOKUP(CONCATENATE($N$68,"_",M87),選手名簿!$A:$E,5,FALSE))=TRUE,"",VLOOKUP(CONCATENATE($N$68,"_",M87),選手名簿!$A:$E,5,FALSE)) | Q87: AR2: | R87: =IF(ISERROR(VLOOKUP(R86,審判員!$A:$C,2,FALSE))=TRUE,"",VLOOKUP(R86,審判員!$A:$C,2,FALSE)) | T87: =IF(ISERROR(VLOOKUP(R86,審判員!$A:$C,3,FALSE))=TRUE,"",VLOOKUP(R86,審判員!$A:$C,3,FALSE)) | V87: =IF(ISERROR(VLOOKUP(CONCATENATE($V$68,"_",W87),選手名簿!$A:$E,5,FALSE))=TRUE,"",VLOOKUP(CONCATENATE($V$68,"_",W87),選手名簿!$A:$E,5,FALSE)) | AD87: =IF(ISERROR(VLOOKUP(CONCATENATE($AD$68,"_",AC87),選手名簿!$A:$E,5,FALSE))=TRUE,"",VLOOKUP(CONCATENATE($AD$68,"_",AC87),選手名簿!$A:$E,5,FALSE))
A88: 番号 | F88: =IF(ISERROR(VLOOKUP(CONCATENATE($F$68,"_",G88),選手名簿!$A:$E,5,FALSE))=TRUE,"",VLOOKUP(CONCATENATE($F$68,"_",G88),選手名簿!$A:$E,5,FALSE)) | N88: =IF(ISERROR(VLOOKUP(CONCATENATE($N$68,"_",M88),選手名簿!$A:$E,5,FALSE))=TRUE,"",VLOOKUP(CONCATENATE($N$68,"_",M88),選手名簿!$A:$E,5,FALSE)) | Q88: 番号 | V88: =IF(ISERROR(VLOOKUP(CONCATENATE($V$68,"_",W88),選手名簿!$A:$E,5,FALSE))=TRUE,"",VLOOKUP(CONCATENATE($V$68,"_",W88),選手名簿!$A:$E,5,FALSE)) | AD88: =IF(ISERROR(VLOOKUP(CONCATENATE($AD$68,"_",AC88),選手名簿!$A:$E,5,FALSE))=TRUE,"",VLOOKUP(CONCATENATE($AD$68,"_",AC88),選手名簿!$A:$E,5,FALSE))
A89: 4th: | B89: =IF(ISERROR(VLOOKUP(B88,審判員!$A:$C,2,FALSE))=TRUE,"",VLOOKUP(B88,審判員!$A:$C,2,FALSE)) | D89: =IF(ISERROR(VLOOKUP(B88,審判員!$A:$C,3,FALSE))=TRUE,"",VLOOKUP(B88,審判員!$A:$C,3,FALSE)) | F89: =IF(ISERROR(VLOOKUP(CONCATENATE($F$68,"_",G89),選手名簿!$A:$E,5,FALSE))=TRUE,"",VLOOKUP(CONCATENATE($F$68,"_",G89),選手名簿!$A:$E,5,FALSE)) | N89: =IF(ISERROR(VLOOKUP(CONCATENATE($N$68,"_",M89),選手名簿!$A:$E,5,FALSE))=TRUE,"",VLOOKUP(CONCATENATE($N$68,"_",M89),選手名簿!$A:$E,5,FALSE)) | Q89: 4th: | R89: =IF(ISERROR(VLOOKUP(R88,審判員!$A:$C,2,FALSE))=TRUE,"",VLOOKUP(R88,審判員!$A:$C,2,FALSE)) | T89: =IF(ISERROR(VLOOKUP(R88,審判員!$A:$C,3,FALSE))=TRUE,"",VLOOKUP(R88,審判員!$A:$C,3,FALSE)) | V89: =IF(ISERROR(VLOOKUP(CONCATENATE($V$68,"_",W89),選手名簿!$A:$E,5,FALSE))=TRUE,"",VLOOKUP(CONCATENATE($V$68,"_",W89),選手名簿!$A:$E,5,FALSE)) | AD89: =IF(ISERROR(VLOOKUP(CONCATENATE($AD$68,"_",AC89),選手名簿!$A:$E,5,FALSE))=TRUE,"",VLOOKUP(CONCATENATE($AD$68,"_",AC89),選手名簿!$A:$E,5,FALSE))

Sheet 予選リーグ公式記録(BコートA)
A1: =要項!C2 -> OFA 第 37 回 大分県U-11サッカー選手権大会 | K1: 予選リーグ結果 報告用紙 | Q1: =要項!C2 -> OFA 第 37 回 大分県U-11サッカー選手権大会 | AA1: 予選リーグ結果 報告用紙
A3: 会場 | B3: =予選リーグ!I14 -> レゾナック サッカー・ラグビー場 Bコート | G3: =予選リーグ!I15 -> 「A」コート | Q3: 会場 | R3: =予選リーグ!I14 -> レゾナック サッカー・ラグビー場 Bコート | W3: =予選リーグ!I15 -> 「A」コート
E5: E1 | F5: =VLOOKUP(E5,組合せ抽選用!$Q:$U,5,FALSE) -> 0 | M5: =VLOOKUP(E5,組合せ抽選用!$Q:$V,6,FALSE) -> 中津 | U5: G1 | V5: =VLOOKUP(U5,組合せ抽選用!$Q:$U,5,FALSE) -> 0 | AC5: =VLOOKUP(U5,組合せ抽選用!$Q:$V,6,FALSE) -> 別府
E6: E2 | F6: =VLOOKUP(E6,組合せ抽選用!$Q:$U,5,FALSE) -> 0 | M6: =VLOOKUP(E6,組合せ抽選用!$Q:$V,6,FALSE) -> 速杵国東 | U6: G2 | V6: =VLOOKUP(U6,組合せ抽選用!$Q:$U,5,FALSE) -> 0 | AC6: =VLOOKUP(U6,組合せ抽選用!$Q:$V,6,FALSE) -> 日田/玖珠
E7: E3 | F7: =VLOOKUP(E7,組合せ抽選用!$Q:$U,5,FALSE) -> 0 | M7: =VLOOKUP(E7,組合せ抽選用!$Q:$V,6,FALSE) -> 速杵国東 | U7: G3 | V7: =VLOOKUP(U7,組合せ抽選用!$Q:$U,5,FALSE) -> 0 | AC7: =VLOOKUP(U7,組合せ抽選用!$Q:$V,6,FALSE) -> 日田/玖珠
A10: MC | E10: =予選リーグ!B19 -> 0.41666667 | F10: =F5 -> 0 | G10: =IF(I10="","",SUM(I10:I11)) | H10: （ | J10: 前半 | L10: ） | M10: =IF(K10="","",SUM(K10:K11)) | N10: =F6 -> 0 | Q10: MC | U10: =予選リーグ!B21 -> 0.45138889 | V10: =V5 -> 0 | W10: =IF(Y10="","",SUM(Y10:Y11)) | X10: （ | Z10: 前半 | AB10: ） | AC10: =IF(AA10="","",SUM(AA10:AA11)) | AD10: =V6 -> 0
A11: Welfare Officer | J11: 後半 | Q11: Welfare Officer | Z11: 後半
A12: 記録 | J12: PK | Q12: 記録 | Z12: PK
A13: ＜Referee＞ | E13: 警告/退場 選択肢より | F13: 氏名 | G13: 番号 | H13: 分 | I13: 内容 選択肢より | K13: 内容 選択肢より | L13: 分 | M13: 番号 | N13: 氏名 | O13: 警告/退場 選択肢より | Q13: ＜Referee＞ | U13: 警告/退場 選択肢より | V13: 氏名 | W13: 番号 | X13: 分 | Y13: 内容 選択肢より | AA13: 内容 選択肢より | AB13: 分 | AC13: 番号 | AD13: 氏名 | AE13: 警告/退場 選択肢より
E14: 得点者 | F14: =IF(ISERROR(VLOOKUP(CONCATENATE($F$10,"_",G14),選手名簿!$A:$E,5,FALSE))=TRUE,"",VLOOKUP(CONCATENATE($F$10,"_",G14),選手名簿!$A:$E,5,FALSE)) | N14: =IF(ISERROR(VLOOKUP(CONCATENATE($N$10,"_",M14),選手名簿!$A:$E,5,FALSE))=TRUE,"",VLOOKUP(CONCATENATE($N$10,"_",M14),選手名簿!$A:$E,5,FALSE)) | U14: 得点者 | V14: =IF(ISERROR(VLOOKUP(CONCATENATE($V$10,"_",W14),選手名簿!$A:$E,5,FALSE))=TRUE,"",VLOOKUP(CONCATENATE($V$10,"_",W14),選手名簿!$A:$E,5,FALSE)) | AD14: =IF(ISERROR(VLOOKUP(CONCATENATE($AD$10,"_",AC14),選手名簿!$A:$E,5,FALSE))=TRUE,"",VLOOKUP(CONCATENATE($AD$10,"_",AC14),選手名簿!$A:$E,5,FALSE))
E15: 得点者 | F15: =IF(ISERROR(VLOOKUP(CONCATENATE($F$10,"_",G15),選手名簿!$A:$E,5,FALSE))=TRUE,"",VLOOKUP(CONCATENATE($F$10,"_",G15),選手名簿!$A:$E,5,FALSE)) | N15: =IF(ISERROR(VLOOKUP(CONCATENATE($N$10,"_",M15),選手名簿!$A:$E,5,FALSE))=TRUE,"",VLOOKUP(CONCATENATE($N$10,"_",M15),選手名簿!$A:$E,5,FALSE)) | U15: 得点者 | V15: =IF(ISERROR(VLOOKUP(CONCATENATE($V$10,"_",W15),選手名簿!$A:$E,5,FALSE))=TRUE,"",VLOOKUP(CONCATENATE($V$10,"_",W15),選手名簿!$A:$E,5,FALSE)) | AD15: =IF(ISERROR(VLOOKUP(CONCATENATE($AD$10,"_",AC15),選手名簿!$A:$E,5,FALSE))=TRUE,"",VLOOKUP(CONCATENATE($AD$10,"_",AC15),選手名簿!$A:$E,5,FALSE))
E16: 得点者 | F16: =IF(ISERROR(VLOOKUP(CONCATENATE($F$10,"_",G16),選手名簿!$A:$E,5,FALSE))=TRUE,"",VLOOKUP(CONCATENATE($F$10,"_",G16),選手名簿!$A:$E,5,FALSE)) | N16: =IF(ISERROR(VLOOKUP(CONCATENATE($N$10,"_",M16),選手名簿!$A:$E,5,FALSE))=TRUE,"",VLOOKUP(CONCATENATE($N$10,"_",M16),選手名簿!$A:$E,5,FALSE)) | U16: 得点者 | V16: =IF(ISERROR(VLOOKUP(CONCATENATE($V$10,"_",W16),選手名簿!$A:$E,5,FALSE))=TRUE,"",VLOOKUP(CONCATENATE($V$10,"_",W16),選手名簿!$A:$E,5,FALSE)) | AD16: =IF(ISERROR(VLOOKUP(CONCATENATE($AD$10,"_",AC16),選手名簿!$A:$E,5,FALSE))=TRUE,"",VLOOKUP(CONCATENATE($AD$10,"_",AC16),選手名簿!$A:$E,5,FALSE))
E17: 得点者 | F17: =IF(ISERROR(VLOOKUP(CONCATENATE($F$10,"_",G17),選手名簿!$A:$E,5,FALSE))=TRUE,"",VLOOKUP(CONCATENATE($F$10,"_",G17),選手名簿!$A:$E,5,FALSE)) | N17: =IF(ISERROR(VLOOKUP(CONCATENATE($N$10,"_",M17),選手名簿!$A:$E,5,FALSE))=TRUE,"",VLOOKUP(CONCATENATE($N$10,"_",M17),選手名簿!$A:$E,5,FALSE)) | U17: 得点者 | V17: =IF(ISERROR(VLOOKUP(CONCATENATE($V$10,"_",W17),選手名簿!$A:$E,5,FALSE))=TRUE,"",VLOOKUP(CONCATENATE($V$10,"_",W17),選手名簿!$A:$E,5,FALSE)) | AD17: =IF(ISERROR(VLOOKUP(CONCATENATE($AD$10,"_",AC17),選手名簿!$A:$E,5,FALSE))=TRUE,"",VLOOKUP(CONCATENATE($AD$10,"_",AC17),選手名簿!$A:$E,5,FALSE))
E18: 得点者 | F18: =IF(ISERROR(VLOOKUP(CONCATENATE($F$10,"_",G18),選手名簿!$A:$E,5,FALSE))=TRUE,"",VLOOKUP(CONCATENATE($F$10,"_",G18),選手名簿!$A:$E,5,FALSE)) | N18: =IF(ISERROR(VLOOKUP(CONCATENATE($N$10,"_",M18),選手名簿!$A:$E,5,FALSE))=TRUE,"",VLOOKUP(CONCATENATE($N$10,"_",M18),選手名簿!$A:$E,5,FALSE)) | U18: 得点者 | V18: =IF(ISERROR(VLOOKUP(CONCATENATE($V$10,"_",W18),選手名簿!$A:$E,5,FALSE))=TRUE,"",VLOOKUP(CONCATENATE($V$10,"_",W18),選手名簿!$A:$E,5,FALSE)) | AD18: =IF(ISERROR(VLOOKUP(CONCATENATE($AD$10,"_",AC18),選手名簿!$A:$E,5,FALSE))=TRUE,"",VLOOKUP(CONCATENATE($AD$10,"_",AC18),選手名簿!$A:$E,5,FALSE))
E19: 得点者 | F19: =IF(ISERROR(VLOOKUP(CONCATENATE($F$10,"_",G19),選手名簿!$A:$E,5,FALSE))=TRUE,"",VLOOKUP(CONCATENATE($F$10,"_",G19),選手名簿!$A:$E,5,FALSE)) | N19: =IF(ISERROR(VLOOKUP(CONCATENATE($N$10,"_",M19),選手名簿!$A:$E,5,FALSE))=TRUE,"",VLOOKUP(CONCATENATE($N$10,"_",M19),選手名簿!$A:$E,5,FALSE)) | U19: 得点者 | V19: =IF(ISERROR(VLOOKUP(CONCATENATE($V$10,"_",W19),選手名簿!$A:$E,5,FALSE))=TRUE,"",VLOOKUP(CONCATENATE($V$10,"_",W19),選手名簿!$A:$E,5,FALSE)) | AD19: =IF(ISERROR(VLOOKUP(CONCATENATE($AD$10,"_",AC19),選手名簿!$A:$E,5,FALSE))=TRUE,"",VLOOKUP(CONCATENATE($AD$10,"_",AC19),選手名簿!$A:$E,5,FALSE))
E20: 得点者 | F20: =IF(ISERROR(VLOOKUP(CONCATENATE($F$10,"_",G20),選手名簿!$A:$E,5,FALSE))=TRUE,"",VLOOKUP(CONCATENATE($F$10,"_",G20),選手名簿!$A:$E,5,FALSE)) | N20: =IF(ISERROR(VLOOKUP(CONCATENATE($N$10,"_",M20),選手名簿!$A:$E,5,FALSE))=TRUE,"",VLOOKUP(CONCATENATE($N$10,"_",M20),選手名簿!$A:$E,5,FALSE)) | U20: 得点者 | V20: =IF(ISERROR(VLOOKUP(CONCATENATE($V$10,"_",W20),選手名簿!$A:$E,5,FALSE))=TRUE,"",VLOOKUP(CONCATENATE($V$10,"_",W20),選手名簿!$A:$E,5,FALSE)) | AD20: =IF(ISERROR(VLOOKUP(CONCATENATE($AD$10,"_",AC20),選手名簿!$A:$E,5,FALSE))=TRUE,"",VLOOKUP(CONCATENATE($AD$10,"_",AC20),選手名簿!$A:$E,5,FALSE))
E21: 得点者 | F21: =IF(ISERROR(VLOOKUP(CONCATENATE($F$10,"_",G21),選手名簿!$A:$E,5,FALSE))=TRUE,"",VLOOKUP(CONCATENATE($F$10,"_",G21),選手名簿!$A:$E,5,FALSE)) | N21: =IF(ISERROR(VLOOKUP(CONCATENATE($N$10,"_",M21),選手名簿!$A:$E,5,FALSE))=TRUE,"",VLOOKUP(CONCATENATE($N$10,"_",M21),選手名簿!$A:$E,5,FALSE)) | U21: 得点者 | V21: =IF(ISERROR(VLOOKUP(CONCATENATE($V$10,"_",W21),選手名簿!$A:$E,5,FALSE))=TRUE,"",VLOOKUP(CONCATENATE($V$10,"_",W21),選手名簿!$A:$E,5,FALSE)) | AD21: =IF(ISERROR(VLOOKUP(CONCATENATE($AD$10,"_",AC21),選手名簿!$A:$E,5,FALSE))=TRUE,"",VLOOKUP(CONCATENATE($AD$10,"_",AC21),選手名簿!$A:$E,5,FALSE))
E22: 得点者 | F22: =IF(ISERROR(VLOOKUP(CONCATENATE($F$10,"_",G22),選手名簿!$A:$E,5,FALSE))=TRUE,"",VLOOKUP(CONCATENATE($F$10,"_",G22),選手名簿!$A:$E,5,FALSE)) | N22: =IF(ISERROR(VLOOKUP(CONCATENATE($N$10,"_",M22),選手名簿!$A:$E,5,FALSE))=TRUE,"",VLOOKUP(CONCATENATE($N$10,"_",M22),選手名簿!$A:$E,5,FALSE)) | U22: 得点者 | V22: =IF(ISERROR(VLOOKUP(CONCATENATE($V$10,"_",W22),選手名簿!$A:$E,5,FALSE))=TRUE,"",VLOOKUP(CONCATENATE($V$10,"_",W22),選手名簿!$A:$E,5,FALSE)) | AD22: =IF(ISERROR(VLOOKUP(CONCATENATE($AD$10,"_",AC22),選手名簿!$A:$E,5,FALSE))=TRUE,"",VLOOKUP(CONCATENATE($AD$10,"_",AC22),選手名簿!$A:$E,5,FALSE))
E23: 得点者 | F23: =IF(ISERROR(VLOOKUP(CONCATENATE($F$10,"_",G23),選手名簿!$A:$E,5,FALSE))=TRUE,"",VLOOKUP(CONCATENATE($F$10,"_",G23),選手名簿!$A:$E,5,FALSE)) | N23: =IF(ISERROR(VLOOKUP(CONCATENATE($N$10,"_",M23),選手名簿!$A:$E,5,FALSE))=TRUE,"",VLOOKUP(CONCATENATE($N$10,"_",M23),選手名簿!$A:$E,5,FALSE)) | U23: 得点者 | V23: =IF(ISERROR(VLOOKUP(CONCATENATE($V$10,"_",W23),選手名簿!$A:$E,5,FALSE))=TRUE,"",VLOOKUP(CONCATENATE($V$10,"_",W23),選手名簿!$A:$E,5,FALSE)) | AD23: =IF(ISERROR(VLOOKUP(CONCATENATE($AD$10,"_",AC23),選手名簿!$A:$E,5,FALSE))=TRUE,"",VLOOKUP(CONCATENATE($AD$10,"_",AC23),選手名簿!$A:$E,5,FALSE))
A24: 番号 | F24: =IF(ISERROR(VLOOKUP(CONCATENATE($F$10,"_",G24),選手名簿!$A:$E,5,FALSE))=TRUE,"",VLOOKUP(CONCATENATE($F$10,"_",G24),選手名簿!$A:$E,5,FALSE)) | N24: =IF(ISERROR(VLOOKUP(CONCATENATE($N$10,"_",M24),選手名簿!$A:$E,5,FALSE))=TRUE,"",VLOOKUP(CONCATENATE($N$10,"_",M24),選手名簿!$A:$E,5,FALSE)) | Q24: 番号 | V24: =IF(ISERROR(VLOOKUP(CONCATENATE($V$10,"_",W24),選手名簿!$A:$E,5,FALSE))=TRUE,"",VLOOKUP(CONCATENATE($V$10,"_",W24),選手名簿!$A:$E,5,FALSE)) | AD24: =IF(ISERROR(VLOOKUP(CONCATENATE($AD$10,"_",AC24),選手名簿!$A:$E,5,FALSE))=TRUE,"",VLOOKUP(CONCATENATE($AD$10,"_",AC24),選手名簿!$A:$E,5,FALSE))
A25: R | B25: =IF(ISERROR(VLOOKUP(B24,審判員!$A:$C,2,FALSE))=TRUE,"",VLOOKUP(B24,審判員!$A:$C,2,FALSE)) | D25: =IF(ISERROR(VLOOKUP(B24,審判員!$A:$C,3,FALSE))=TRUE,"",VLOOKUP(B24,審判員!$A:$C,3,FALSE)) | F25: =IF(ISERROR(VLOOKUP(CONCATENATE($F$10,"_",G25),選手名簿!$A:$E,5,FALSE))=TRUE,"",VLOOKUP(CONCATENATE($F$10,"_",G25),選手名簿!$A:$E,5,FALSE)) | N25: =IF(ISERROR(VLOOKUP(CONCATENATE($N$10,"_",M25),選手名簿!$A:$E,5,FALSE))=TRUE,"",VLOOKUP(CONCATENATE($N$10,"_",M25),選手名簿!$A:$E,5,FALSE)) | Q25: R | R25: =IF(ISERROR(VLOOKUP(R24,審判員!$A:$C,2,FALSE))=TRUE,"",VLOOKUP(R24,審判員!$A:$C,2,FALSE)) | T25: =IF(ISERROR(VLOOKUP(R24,審判員!$A:$C,3,FALSE))=TRUE,"",VLOOKUP(R24,審判員!$A:$C,3,FALSE)) | V25: =IF(ISERROR(VLOOKUP(CONCATENATE($V$10,"_",W25),選手名簿!$A:$E,5,FALSE))=TRUE,"",VLOOKUP(CONCATENATE($V$10,"_",W25),選手名簿!$A:$E,5,FALSE)) | AD25: =IF(ISERROR(VLOOKUP(CONCATENATE($AD$10,"_",AC25),選手名簿!$A:$E,5,FALSE))=TRUE,"",VLOOKUP(CONCATENATE($AD$10,"_",AC25),選手名簿!$A:$E,5,FALSE))
A26: 番号 | F26: =IF(ISERROR(VLOOKUP(CONCATENATE($F$10,"_",G26),選手名簿!$A:$E,5,FALSE))=TRUE,"",VLOOKUP(CONCATENATE($F$10,"_",G26),選手名簿!$A:$E,5,FALSE)) | N26: =IF(ISERROR(VLOOKUP(CONCATENATE($N$10,"_",M26),選手名簿!$A:$E,5,FALSE))=TRUE,"",VLOOKUP(CONCATENATE($N$10,"_",M26),選手名簿!$A:$E,5,FALSE)) | Q26: 番号 | V26: =IF(ISERROR(VLOOKUP(CONCATENATE($V$10,"_",W26),選手名簿!$A:$E,5,FALSE))=TRUE,"",VLOOKUP(CONCATENATE($V$10,"_",W26),選手名簿!$A:$E,5,FALSE)) | AD26: =IF(ISERROR(VLOOKUP(CONCATENATE($AD$10,"_",AC26),選手名簿!$A:$E,5,FALSE))=TRUE,"",VLOOKUP(CONCATENATE($AD$10,"_",AC26),選手名簿!$A:$E,5,FALSE))
A27: AR1: | B27: =IF(ISERROR(VLOOKUP(B26,審判員!$A:$C,2,FALSE))=TRUE,"",VLOOKUP(B26,審判員!$A:$C,2,FALSE)) | D27: =IF(ISERROR(VLOOKUP(B26,審判員!$A:$C,3,FALSE))=TRUE,"",VLOOKUP(B26,審判員!$A:$C,3,FALSE)) | F27: =IF(ISERROR(VLOOKUP(CONCATENATE($F$10,"_",G27),選手名簿!$A:$E,5,FALSE))=TRUE,"",VLOOKUP(CONCATENATE($F$10,"_",G27),選手名簿!$A:$E,5,FALSE)) | N27: =IF(ISERROR(VLOOKUP(CONCATENATE($N$10,"_",M27),選手名簿!$A:$E,5,FALSE))=TRUE,"",VLOOKUP(CONCATENATE($N$10,"_",M27),選手名簿!$A:$E,5,FALSE)) | Q27: AR1: | R27: =IF(ISERROR(VLOOKUP(R26,審判員!$A:$C,2,FALSE))=TRUE,"",VLOOKUP(R26,審判員!$A:$C,2,FALSE)) | T27: =IF(ISERROR(VLOOKUP(R26,審判員!$A:$C,3,FALSE))=TRUE,"",VLOOKUP(R26,審判員!$A:$C,3,FALSE)) | V27: =IF(ISERROR(VLOOKUP(CONCATENATE($V$10,"_",W27),選手名簿!$A:$E,5,FALSE))=TRUE,"",VLOOKUP(CONCATENATE($V$10,"_",W27),選手名簿!$A:$E,5,FALSE)) | AD27: =IF(ISERROR(VLOOKUP(CONCATENATE($AD$10,"_",AC27),選手名簿!$A:$E,5,FALSE))=TRUE,"",VLOOKUP(CONCATENATE($AD$10,"_",AC27),選手名簿!$A:$E,5,FALSE))
A28: 番号 | F28: =IF(ISERROR(VLOOKUP(CONCATENATE($F$10,"_",G28),選手名簿!$A:$E,5,FALSE))=TRUE,"",VLOOKUP(CONCATENATE($F$10,"_",G28),選手名簿!$A:$E,5,FALSE)) | N28: =IF(ISERROR(VLOOKUP(CONCATENATE($N$10,"_",M28),選手名簿!$A:$E,5,FALSE))=TRUE,"",VLOOKUP(CONCATENATE($N$10,"_",M28),選手名簿!$A:$E,5,FALSE)) | Q28: 番号 | V28: =IF(ISERROR(VLOOKUP(CONCATENATE($V$10,"_",W28),選手名簿!$A:$E,5,FALSE))=TRUE,"",VLOOKUP(CONCATENATE($V$10,"_",W28),選手名簿!$A:$E,5,FALSE)) | AD28: =IF(ISERROR(VLOOKUP(CONCATENATE($AD$10,"_",AC28),選手名簿!$A:$E,5,FALSE))=TRUE,"",VLOOKUP(CONCATENATE($AD$10,"_",AC28),選手名簿!$A:$E,5,FALSE))
A29: AR2: | B29: =IF(ISERROR(VLOOKUP(B28,審判員!$A:$C,2,FALSE))=TRUE,"",VLOOKUP(B28,審判員!$A:$C,2,FALSE)) | D29: =IF(ISERROR(VLOOKUP(B28,審判員!$A:$C,3,FALSE))=TRUE,"",VLOOKUP(B28,審判員!$A:$C,3,FALSE)) | F29: =IF(ISERROR(VLOOKUP(CONCATENATE($F$10,"_",G29),選手名簿!$A:$E,5,FALSE))=TRUE,"",VLOOKUP(CONCATENATE($F$10,"_",G29),選手名簿!$A:$E,5,FALSE)) | N29: =IF(ISERROR(VLOOKUP(CONCATENATE($N$10,"_",M29),選手名簿!$A:$E,5,FALSE))=TRUE,"",VLOOKUP(CONCATENATE($N$10,"_",M29),選手名簿!$A:$E,5,FALSE)) | Q29: AR2: | R29: =IF(ISERROR(VLOOKUP(R28,審判員!$A:$C,2,FALSE))=TRUE,"",VLOOKUP(R28,審判員!$A:$C,2,FALSE)) | T29: =IF(ISERROR(VLOOKUP(R28,審判員!$A:$C,3,FALSE))=TRUE,"",VLOOKUP(R28,審判員!$A:$C,3,FALSE)) | V29: =IF(ISERROR(VLOOKUP(CONCATENATE($V$10,"_",W29),選手名簿!$A:$E,5,FALSE))=TRUE,"",VLOOKUP(CONCATENATE($V$10,"_",W29),選手名簿!$A:$E,5,FALSE)) | AD29: =IF(ISERROR(VLOOKUP(CONCATENATE($AD$10,"_",AC29),選手名簿!$A:$E,5,FALSE))=TRUE,"",VLOOKUP(CONCATENATE($AD$10,"_",AC29),選手名簿!$A:$E,5,FALSE))
A30: 番号 | F30: =IF(ISERROR(VLOOKUP(CONCATENATE($F$10,"_",G30),選手名簿!$A:$E,5,FALSE))=TRUE,"",VLOOKUP(CONCATENATE($F$10,"_",G30),選手名簿!$A:$E,5,FALSE)) | N30: =IF(ISERROR(VLOOKUP(CONCATENATE($N$10,"_",M30),選手名簿!$A:$E,5,FALSE))=TRUE,"",VLOOKUP(CONCATENATE($N$10,"_",M30),選手名簿!$A:$E,5,FALSE)) | Q30: 番号 | V30: =IF(ISERROR(VLOOKUP(CONCATENATE($V$10,"_",W30),選手名簿!$A:$E,5,FALSE))=TRUE,"",VLOOKUP(CONCATENATE($V$10,"_",W30),選手名簿!$A:$E,5,FALSE)) | AD30: =IF(ISERROR(VLOOKUP(CONCATENATE($AD$10,"_",AC30),選手名簿!$A:$E,5,FALSE))=TRUE,"",VLOOKUP(CONCATENATE($AD$10,"_",AC30),選手名簿!$A:$E,5,FALSE))
A31: 4th: | B31: =IF(ISERROR(VLOOKUP(B30,審判員!$A:$C,2,FALSE))=TRUE,"",VLOOKUP(B30,審判員!$A:$C,2,FALSE)) | D31: =IF(ISERROR(VLOOKUP(B30,審判員!$A:$C,3,FALSE))=TRUE,"",VLOOKUP(B30,審判員!$A:$C,3,FALSE)) | F31: =IF(ISERROR(VLOOKUP(CONCATENATE($F$10,"_",G31),選手名簿!$A:$E,5,FALSE))=TRUE,"",VLOOKUP(CONCATENATE($F$10,"_",G31),選手名簿!$A:$E,5,FALSE)) | N31: =IF(ISERROR(VLOOKUP(CONCATENATE($N$10,"_",M31),選手名簿!$A:$E,5,FALSE))=TRUE,"",VLOOKUP(CONCATENATE($N$10,"_",M31),選手名簿!$A:$E,5,FALSE)) | Q31: 4th: | R31: =IF(ISERROR(VLOOKUP(R30,審判員!$A:$C,2,FALSE))=TRUE,"",VLOOKUP(R30,審判員!$A:$C,2,FALSE)) | T31: =IF(ISERROR(VLOOKUP(R30,審判員!$A:$C,3,FALSE))=TRUE,"",VLOOKUP(R30,審判員!$A:$C,3,FALSE)) | V31: =IF(ISERROR(VLOOKUP(CONCATENATE($V$10,"_",W31),選手名簿!$A:$E,5,FALSE))=TRUE,"",VLOOKUP(CONCATENATE($V$10,"_",W31),選手名簿!$A:$E,5,FALSE)) | AD31: =IF(ISERROR(VLOOKUP(CONCATENATE($AD$10,"_",AC31),選手名簿!$A:$E,5,FALSE))=TRUE,"",VLOOKUP(CONCATENATE($AD$10,"_",AC31),選手名簿!$A:$E,5,FALSE))
A39: MC | E39: =予選リーグ!B23 -> 0.48611111 | F39: =F6 -> 0 | G39: =IF(I39="","",SUM(I39:I40)) | H39: （ | J39: 前半 | L39: ） | M39: =IF(K39="","",SUM(K39:K40)) | N39: =F7 -> 0 | Q39: MC | U39: =予選リーグ!B27 -> 0.55555556 | V39: =V6 -> 0 | W39: =IF(Y39="","",SUM(Y39:Y40)) | X39: （ | Z39: 前半 | AB39: ） | AC39: =IF(AA39="","",SUM(AA39:AA40)) | AD39: =V7 -> 0
A40: Welfare Officer | J40: 後半 | Q40: Welfare Officer | Z40: 後半
A41: 記録 | J41: PK | Q41: 記録 | Z41: PK
A42: ＜Referee＞ | E42: 警告/退場 選択肢より | F42: 氏名 | G42: 番号 | H42: 分 | I42: 内容 選択肢より | K42: 内容 選択肢より | L42: 分 | M42: 番号 | N42: 氏名 | O42: 警告/退場 選択肢より | Q42: ＜Referee＞ | U42: 警告/退場 選択肢より | V42: 氏名 | W42: 番号 | X42: 分 | Y42: 内容 選択肢より | AA42: 内容 選択肢より | AB42: 分 | AC42: 番号 | AD42: 氏名 | AE42: 警告/退場 選択肢より
E43: 得点者 | F43: =IF(ISERROR(VLOOKUP(CONCATENATE($F$39,"_",G43),選手名簿!$A:$E,5,FALSE))=TRUE,"",VLOOKUP(CONCATENATE($F$39,"_",G43),選手名簿!$A:$E,5,FALSE)) | N43: =IF(ISERROR(VLOOKUP(CONCATENATE($N$39,"_",M43),選手名簿!$A:$E,5,FALSE))=TRUE,"",VLOOKUP(CONCATENATE($N$39,"_",M43),選手名簿!$A:$E,5,FALSE)) | U43: 得点者 | V43: =IF(ISERROR(VLOOKUP(CONCATENATE($V$39,"_",W43),選手名簿!$A:$E,5,FALSE))=TRUE,"",VLOOKUP(CONCATENATE($V$39,"_",W43),選手名簿!$A:$E,5,FALSE)) | AD43: =IF(ISERROR(VLOOKUP(CONCATENATE($AD$39,"_",AC43),選手名簿!$A:$E,5,FALSE))=TRUE,"",VLOOKUP(CONCATENATE($AD$39,"_",AC43),選手名簿!$A:$E,5,FALSE))
E44: 得点者 | F44: =IF(ISERROR(VLOOKUP(CONCATENATE($F$39,"_",G44),選手名簿!$A:$E,5,FALSE))=TRUE,"",VLOOKUP(CONCATENATE($F$39,"_",G44),選手名簿!$A:$E,5,FALSE)) | N44: =IF(ISERROR(VLOOKUP(CONCATENATE($N$39,"_",M44),選手名簿!$A:$E,5,FALSE))=TRUE,"",VLOOKUP(CONCATENATE($N$39,"_",M44),選手名簿!$A:$E,5,FALSE)) | U44: 得点者 | V44: =IF(ISERROR(VLOOKUP(CONCATENATE($V$39,"_",W44),選手名簿!$A:$E,5,FALSE))=TRUE,"",VLOOKUP(CONCATENATE($V$39,"_",W44),選手名簿!$A:$E,5,FALSE)) | AD44: =IF(ISERROR(VLOOKUP(CONCATENATE($AD$39,"_",AC44),選手名簿!$A:$E,5,FALSE))=TRUE,"",VLOOKUP(CONCATENATE($AD$39,"_",AC44),選手名簿!$A:$E,5,FALSE))
E45: 得点者 | F45: =IF(ISERROR(VLOOKUP(CONCATENATE($F$39,"_",G45),選手名簿!$A:$E,5,FALSE))=TRUE,"",VLOOKUP(CONCATENATE($F$39,"_",G45),選手名簿!$A:$E,5,FALSE)) | N45: =IF(ISERROR(VLOOKUP(CONCATENATE($N$39,"_",M45),選手名簿!$A:$E,5,FALSE))=TRUE,"",VLOOKUP(CONCATENATE($N$39,"_",M45),選手名簿!$A:$E,5,FALSE)) | U45: 得点者 | V45: =IF(ISERROR(VLOOKUP(CONCATENATE($V$39,"_",W45),選手名簿!$A:$E,5,FALSE))=TRUE,"",VLOOKUP(CONCATENATE($V$39,"_",W45),選手名簿!$A:$E,5,FALSE)) | AD45: =IF(ISERROR(VLOOKUP(CONCATENATE($AD$39,"_",AC45),選手名簿!$A:$E,5,FALSE))=TRUE,"",VLOOKUP(CONCATENATE($AD$39,"_",AC45),選手名簿!$A:$E,5,FALSE))
E46: 得点者 | F46: =IF(ISERROR(VLOOKUP(CONCATENATE($F$39,"_",G46),選手名簿!$A:$E,5,FALSE))=TRUE,"",VLOOKUP(CONCATENATE($F$39,"_",G46),選手名簿!$A:$E,5,FALSE)) | N46: =IF(ISERROR(VLOOKUP(CONCATENATE($N$39,"_",M46),選手名簿!$A:$E,5,FALSE))=TRUE,"",VLOOKUP(CONCATENATE($N$39,"_",M46),選手名簿!$A:$E,5,FALSE)) | U46: 得点者 | V46: =IF(ISERROR(VLOOKUP(CONCATENATE($V$39,"_",W46),選手名簿!$A:$E,5,FALSE))=TRUE,"",VLOOKUP(CONCATENATE($V$39,"_",W46),選手名簿!$A:$E,5,FALSE)) | AD46: =IF(ISERROR(VLOOKUP(CONCATENATE($AD$39,"_",AC46),選手名簿!$A:$E,5,FALSE))=TRUE,"",VLOOKUP(CONCATENATE($AD$39,"_",AC46),選手名簿!$A:$E,5,FALSE))
E47: 得点者 | F47: =IF(ISERROR(VLOOKUP(CONCATENATE($F$39,"_",G47),選手名簿!$A:$E,5,FALSE))=TRUE,"",VLOOKUP(CONCATENATE($F$39,"_",G47),選手名簿!$A:$E,5,FALSE)) | N47: =IF(ISERROR(VLOOKUP(CONCATENATE($N$39,"_",M47),選手名簿!$A:$E,5,FALSE))=TRUE,"",VLOOKUP(CONCATENATE($N$39,"_",M47),選手名簿!$A:$E,5,FALSE)) | U47: 得点者 | V47: =IF(ISERROR(VLOOKUP(CONCATENATE($V$39,"_",W47),選手名簿!$A:$E,5,FALSE))=TRUE,"",VLOOKUP(CONCATENATE($V$39,"_",W47),選手名簿!$A:$E,5,FALSE)) | AD47: =IF(ISERROR(VLOOKUP(CONCATENATE($AD$39,"_",AC47),選手名簿!$A:$E,5,FALSE))=TRUE,"",VLOOKUP(CONCATENATE($AD$39,"_",AC47),選手名簿!$A:$E,5,FALSE))
E48: 得点者 | F48: =IF(ISERROR(VLOOKUP(CONCATENATE($F$39,"_",G48),選手名簿!$A:$E,5,FALSE))=TRUE,"",VLOOKUP(CONCATENATE($F$39,"_",G48),選手名簿!$A:$E,5,FALSE)) | N48: =IF(ISERROR(VLOOKUP(CONCATENATE($N$39,"_",M48),選手名簿!$A:$E,5,FALSE))=TRUE,"",VLOOKUP(CONCATENATE($N$39,"_",M48),選手名簿!$A:$E,5,FALSE)) | U48: 得点者 | V48: =IF(ISERROR(VLOOKUP(CONCATENATE($V$39,"_",W48),選手名簿!$A:$E,5,FALSE))=TRUE,"",VLOOKUP(CONCATENATE($V$39,"_",W48),選手名簿!$A:$E,5,FALSE)) | AD48: =IF(ISERROR(VLOOKUP(CONCATENATE($AD$39,"_",AC48),選手名簿!$A:$E,5,FALSE))=TRUE,"",VLOOKUP(CONCATENATE($AD$39,"_",AC48),選手名簿!$A:$E,5,FALSE))
E49: 得点者 | F49: =IF(ISERROR(VLOOKUP(CONCATENATE($F$39,"_",G49),選手名簿!$A:$E,5,FALSE))=TRUE,"",VLOOKUP(CONCATENATE($F$39,"_",G49),選手名簿!$A:$E,5,FALSE)) | N49: =IF(ISERROR(VLOOKUP(CONCATENATE($N$39,"_",M49),選手名簿!$A:$E,5,FALSE))=TRUE,"",VLOOKUP(CONCATENATE($N$39,"_",M49),選手名簿!$A:$E,5,FALSE)) | U49: 得点者 | V49: =IF(ISERROR(VLOOKUP(CONCATENATE($V$39,"_",W49),選手名簿!$A:$E,5,FALSE))=TRUE,"",VLOOKUP(CONCATENATE($V$39,"_",W49),選手名簿!$A:$E,5,FALSE)) | AD49: =IF(ISERROR(VLOOKUP(CONCATENATE($AD$39,"_",AC49),選手名簿!$A:$E,5,FALSE))=TRUE,"",VLOOKUP(CONCATENATE($AD$39,"_",AC49),選手名簿!$A:$E,5,FALSE))
E50: 得点者 | F50: =IF(ISERROR(VLOOKUP(CONCATENATE($F$39,"_",G50),選手名簿!$A:$E,5,FALSE))=TRUE,"",VLOOKUP(CONCATENATE($F$39,"_",G50),選手名簿!$A:$E,5,FALSE)) | N50: =IF(ISERROR(VLOOKUP(CONCATENATE($N$39,"_",M50),選手名簿!$A:$E,5,FALSE))=TRUE,"",VLOOKUP(CONCATENATE($N$39,"_",M50),選手名簿!$A:$E,5,FALSE)) | U50: 得点者 | V50: =IF(ISERROR(VLOOKUP(CONCATENATE($V$39,"_",W50),選手名簿!$A:$E,5,FALSE))=TRUE,"",VLOOKUP(CONCATENATE($V$39,"_",W50),選手名簿!$A:$E,5,FALSE)) | AD50: =IF(ISERROR(VLOOKUP(CONCATENATE($AD$39,"_",AC50),選手名簿!$A:$E,5,FALSE))=TRUE,"",VLOOKUP(CONCATENATE($AD$39,"_",AC50),選手名簿!$A:$E,5,FALSE))
E51: 得点者 | F51: =IF(ISERROR(VLOOKUP(CONCATENATE($F$39,"_",G51),選手名簿!$A:$E,5,FALSE))=TRUE,"",VLOOKUP(CONCATENATE($F$39,"_",G51),選手名簿!$A:$E,5,FALSE)) | N51: =IF(ISERROR(VLOOKUP(CONCATENATE($N$39,"_",M51),選手名簿!$A:$E,5,FALSE))=TRUE,"",VLOOKUP(CONCATENATE($N$39,"_",M51),選手名簿!$A:$E,5,FALSE)) | U51: 得点者 | V51: =IF(ISERROR(VLOOKUP(CONCATENATE($V$39,"_",W51),選手名簿!$A:$E,5,FALSE))=TRUE,"",VLOOKUP(CONCATENATE($V$39,"_",W51),選手名簿!$A:$E,5,FALSE)) | AD51: =IF(ISERROR(VLOOKUP(CONCATENATE($AD$39,"_",AC51),選手名簿!$A:$E,5,FALSE))=TRUE,"",VLOOKUP(CONCATENATE($AD$39,"_",AC51),選手名簿!$A:$E,5,FALSE))
E52: 得点者 | F52: =IF(ISERROR(VLOOKUP(CONCATENATE($F$39,"_",G52),選手名簿!$A:$E,5,FALSE))=TRUE,"",VLOOKUP(CONCATENATE($F$39,"_",G52),選手名簿!$A:$E,5,FALSE)) | N52: =IF(ISERROR(VLOOKUP(CONCATENATE($N$39,"_",M52),選手名簿!$A:$E,5,FALSE))=TRUE,"",VLOOKUP(CONCATENATE($N$39,"_",M52),選手名簿!$A:$E,5,FALSE)) | U52: 得点者 | V52: =IF(ISERROR(VLOOKUP(CONCATENATE($V$39,"_",W52),選手名簿!$A:$E,5,FALSE))=TRUE,"",VLOOKUP(CONCATENATE($V$39,"_",W52),選手名簿!$A:$E,5,FALSE)) | AD52: =IF(ISERROR(VLOOKUP(CONCATENATE($AD$39,"_",AC52),選手名簿!$A:$E,5,FALSE))=TRUE,"",VLOOKUP(CONCATENATE($AD$39,"_",AC52),選手名簿!$A:$E,5,FALSE))
A53: 番号 | F53: =IF(ISERROR(VLOOKUP(CONCATENATE($F$39,"_",G53),選手名簿!$A:$E,5,FALSE))=TRUE,"",VLOOKUP(CONCATENATE($F$39,"_",G53),選手名簿!$A:$E,5,FALSE)) | N53: =IF(ISERROR(VLOOKUP(CONCATENATE($N$39,"_",M53),選手名簿!$A:$E,5,FALSE))=TRUE,"",VLOOKUP(CONCATENATE($N$39,"_",M53),選手名簿!$A:$E,5,FALSE)) | Q53: 番号 | V53: =IF(ISERROR(VLOOKUP(CONCATENATE($V$39,"_",W53),選手名簿!$A:$E,5,FALSE))=TRUE,"",VLOOKUP(CONCATENATE($V$39,"_",W53),選手名簿!$A:$E,5,FALSE)) | AD53: =IF(ISERROR(VLOOKUP(CONCATENATE($AD$39,"_",AC53),選手名簿!$A:$E,5,FALSE))=TRUE,"",VLOOKUP(CONCATENATE($AD$39,"_",AC53),選手名簿!$A:$E,5,FALSE))
A54: R | B54: =IF(ISERROR(VLOOKUP(B53,審判員!$A:$C,2,FALSE))=TRUE,"",VLOOKUP(B53,審判員!$A:$C,2,FALSE)) | D54: =IF(ISERROR(VLOOKUP(B53,審判員!$A:$C,3,FALSE))=TRUE,"",VLOOKUP(B53,審判員!$A:$C,3,FALSE)) | F54: =IF(ISERROR(VLOOKUP(CONCATENATE($F$39,"_",G54),選手名簿!$A:$E,5,FALSE))=TRUE,"",VLOOKUP(CONCATENATE($F$39,"_",G54),選手名簿!$A:$E,5,FALSE)) | N54: =IF(ISERROR(VLOOKUP(CONCATENATE($N$39,"_",M54),選手名簿!$A:$E,5,FALSE))=TRUE,"",VLOOKUP(CONCATENATE($N$39,"_",M54),選手名簿!$A:$E,5,FALSE)) | Q54: R | R54: =IF(ISERROR(VLOOKUP(R53,審判員!$A:$C,2,FALSE))=TRUE,"",VLOOKUP(R53,審判員!$A:$C,2,FALSE)) | T54: =IF(ISERROR(VLOOKUP(R53,審判員!$A:$C,3,FALSE))=TRUE,"",VLOOKUP(R53,審判員!$A:$C,3,FALSE)) | V54: =IF(ISERROR(VLOOKUP(CONCATENATE($V$39,"_",W54),選手名簿!$A:$E,5,FALSE))=TRUE,"",VLOOKUP(CONCATENATE($V$39,"_",W54),選手名簿!$A:$E,5,FALSE)) | AD54: =IF(ISERROR(VLOOKUP(CONCATENATE($AD$39,"_",AC54),選手名簿!$A:$E,5,FALSE))=TRUE,"",VLOOKUP(CONCATENATE($AD$39,"_",AC54),選手名簿!$A:$E,5,FALSE))
A55: 番号 | F55: =IF(ISERROR(VLOOKUP(CONCATENATE($F$39,"_",G55),選手名簿!$A:$E,5,FALSE))=TRUE,"",VLOOKUP(CONCATENATE($F$39,"_",G55),選手名簿!$A:$E,5,FALSE)) | N55: =IF(ISERROR(VLOOKUP(CONCATENATE($N$39,"_",M55),選手名簿!$A:$E,5,FALSE))=TRUE,"",VLOOKUP(CONCATENATE($N$39,"_",M55),選手名簿!$A:$E,5,FALSE)) | Q55: 番号 | V55: =IF(ISERROR(VLOOKUP(CONCATENATE($V$39,"_",W55),選手名簿!$A:$E,5,FALSE))=TRUE,"",VLOOKUP(CONCATENATE($V$39,"_",W55),選手名簿!$A:$E,5,FALSE)) | AD55: =IF(ISERROR(VLOOKUP(CONCATENATE($AD$39,"_",AC55),選手名簿!$A:$E,5,FALSE))=TRUE,"",VLOOKUP(CONCATENATE($AD$39,"_",AC55),選手名簿!$A:$E,5,FALSE))
A56: AR1: | B56: =IF(ISERROR(VLOOKUP(B55,審判員!$A:$C,2,FALSE))=TRUE,"",VLOOKUP(B55,審判員!$A:$C,2,FALSE)) | D56: =IF(ISERROR(VLOOKUP(B55,審判員!$A:$C,3,FALSE))=TRUE,"",VLOOKUP(B55,審判員!$A:$C,3,FALSE)) | F56: =IF(ISERROR(VLOOKUP(CONCATENATE($F$39,"_",G56),選手名簿!$A:$E,5,FALSE))=TRUE,"",VLOOKUP(CONCATENATE($F$39,"_",G56),選手名簿!$A:$E,5,FALSE)) | N56: =IF(ISERROR(VLOOKUP(CONCATENATE($N$39,"_",M56),選手名簿!$A:$E,5,FALSE))=TRUE,"",VLOOKUP(CONCATENATE($N$39,"_",M56),選手名簿!$A:$E,5,FALSE)) | Q56: AR1: | R56: =IF(ISERROR(VLOOKUP(R55,審判員!$A:$C,2,FALSE))=TRUE,"",VLOOKUP(R55,審判員!$A:$C,2,FALSE)) | T56: =IF(ISERROR(VLOOKUP(R55,審判員!$A:$C,3,FALSE))=TRUE,"",VLOOKUP(R55,審判員!$A:$C,3,FALSE)) | V56: =IF(ISERROR(VLOOKUP(CONCATENATE($V$39,"_",W56),選手名簿!$A:$E,5,FALSE))=TRUE,"",VLOOKUP(CONCATENATE($V$39,"_",W56),選手名簿!$A:$E,5,FALSE)) | AD56: =IF(ISERROR(VLOOKUP(CONCATENATE($AD$39,"_",AC56),選手名簿!$A:$E,5,FALSE))=TRUE,"",VLOOKUP(CONCATENATE($AD$39,"_",AC56),選手名簿!$A:$E,5,FALSE))
A57: 番号 | F57: =IF(ISERROR(VLOOKUP(CONCATENATE($F$39,"_",G57),選手名簿!$A:$E,5,FALSE))=TRUE,"",VLOOKUP(CONCATENATE($F$39,"_",G57),選手名簿!$A:$E,5,FALSE)) | N57: =IF(ISERROR(VLOOKUP(CONCATENATE($N$39,"_",M57),選手名簿!$A:$E,5,FALSE))=TRUE,"",VLOOKUP(CONCATENATE($N$39,"_",M57),選手名簿!$A:$E,5,FALSE)) | Q57: 番号 | V57: =IF(ISERROR(VLOOKUP(CONCATENATE($V$39,"_",W57),選手名簿!$A:$E,5,FALSE))=TRUE,"",VLOOKUP(CONCATENATE($V$39,"_",W57),選手名簿!$A:$E,5,FALSE)) | AD57: =IF(ISERROR(VLOOKUP(CONCATENATE($AD$39,"_",AC57),選手名簿!$A:$E,5,FALSE))=TRUE,"",VLOOKUP(CONCATENATE($AD$39,"_",AC57),選手名簿!$A:$E,5,FALSE))
A58: AR2: | B58: =IF(ISERROR(VLOOKUP(B57,審判員!$A:$C,2,FALSE))=TRUE,"",VLOOKUP(B57,審判員!$A:$C,2,FALSE)) | D58: =IF(ISERROR(VLOOKUP(B57,審判員!$A:$C,3,FALSE))=TRUE,"",VLOOKUP(B57,審判員!$A:$C,3,FALSE)) | F58: =IF(ISERROR(VLOOKUP(CONCATENATE($F$39,"_",G58),選手名簿!$A:$E,5,FALSE))=TRUE,"",VLOOKUP(CONCATENATE($F$39,"_",G58),選手名簿!$A:$E,5,FALSE)) | N58: =IF(ISERROR(VLOOKUP(CONCATENATE($N$39,"_",M58),選手名簿!$A:$E,5,FALSE))=TRUE,"",VLOOKUP(CONCATENATE($N$39,"_",M58),選手名簿!$A:$E,5,FALSE)) | Q58: AR2: | R58: =IF(ISERROR(VLOOKUP(R57,審判員!$A:$C,2,FALSE))=TRUE,"",VLOOKUP(R57,審判員!$A:$C,2,FALSE)) | T58: =IF(ISERROR(VLOOKUP(R57,審判員!$A:$C,3,FALSE))=TRUE,"",VLOOKUP(R57,審判員!$A:$C,3,FALSE)) | V58: =IF(ISERROR(VLOOKUP(CONCATENATE($V$39,"_",W58),選手名簿!$A:$E,5,FALSE))=TRUE,"",VLOOKUP(CONCATENATE($V$39,"_",W58),選手名簿!$A:$E,5,FALSE)) | AD58: =IF(ISERROR(VLOOKUP(CONCATENATE($AD$39,"_",AC58),選手名簿!$A:$E,5,FALSE))=TRUE,"",VLOOKUP(CONCATENATE($AD$39,"_",AC58),選手名簿!$A:$E,5,FALSE))
A59: 番号 | F59: =IF(ISERROR(VLOOKUP(CONCATENATE($F$39,"_",G59),選手名簿!$A:$E,5,FALSE))=TRUE,"",VLOOKUP(CONCATENATE($F$39,"_",G59),選手名簿!$A:$E,5,FALSE)) | N59: =IF(ISERROR(VLOOKUP(CONCATENATE($N$39,"_",M59),選手名簿!$A:$E,5,FALSE))=TRUE,"",VLOOKUP(CONCATENATE($N$39,"_",M59),選手名簿!$A:$E,5,FALSE)) | Q59: 番号 | V59: =IF(ISERROR(VLOOKUP(CONCATENATE($V$39,"_",W59),選手名簿!$A:$E,5,FALSE))=TRUE,"",VLOOKUP(CONCATENATE($V$39,"_",W59),選手名簿!$A:$E,5,FALSE)) | AD59: =IF(ISERROR(VLOOKUP(CONCATENATE($AD$39,"_",AC59),選手名簿!$A:$E,5,FALSE))=TRUE,"",VLOOKUP(CONCATENATE($AD$39,"_",AC59),選手名簿!$A:$E,5,FALSE))
A60: 4th: | B60: =IF(ISERROR(VLOOKUP(B59,審判員!$A:$C,2,FALSE))=TRUE,"",VLOOKUP(B59,審判員!$A:$C,2,FALSE)) | D60: =IF(ISERROR(VLOOKUP(B59,審判員!$A:$C,3,FALSE))=TRUE,"",VLOOKUP(B59,審判員!$A:$C,3,FALSE)) | F60: =IF(ISERROR(VLOOKUP(CONCATENATE($F$39,"_",G60),選手名簿!$A:$E,5,FALSE))=TRUE,"",VLOOKUP(CONCATENATE($F$39,"_",G60),選手名簿!$A:$E,5,FALSE)) | N60: =IF(ISERROR(VLOOKUP(CONCATENATE($N$39,"_",M60),選手名簿!$A:$E,5,FALSE))=TRUE,"",VLOOKUP(CONCATENATE($N$39,"_",M60),選手名簿!$A:$E,5,FALSE)) | Q60: 4th: | R60: =IF(ISERROR(VLOOKUP(R59,審判員!$A:$C,2,FALSE))=TRUE,"",VLOOKUP(R59,審判員!$A:$C,2,FALSE)) | T60: =IF(ISERROR(VLOOKUP(R59,審判員!$A:$C,3,FALSE))=TRUE,"",VLOOKUP(R59,審判員!$A:$C,3,FALSE)) | V60: =IF(ISERROR(VLOOKUP(CONCATENATE($V$39,"_",W60),選手名簿!$A:$E,5,FALSE))=TRUE,"",VLOOKUP(CONCATENATE($V$39,"_",W60),選手名簿!$A:$E,5,FALSE)) | AD60: =IF(ISERROR(VLOOKUP(CONCATENATE($AD$39,"_",AC60),選手名簿!$A:$E,5,FALSE))=TRUE,"",VLOOKUP(CONCATENATE($AD$39,"_",AC60),選手名簿!$A:$E,5,FALSE))
A68: MC | E68: =予選リーグ!B29 -> 0.59027778 | F68: =F7 -> 0 | G68: =IF(I68="","",SUM(I68:I69)) | H68: （ | J68: 前半 | L68: ） | M68: =IF(K68="","",SUM(K68:K69)) | N68: =F5 -> 0 | Q68: MC | U68: =予選リーグ!B31 -> 0.625 | V68: =V7 -> 0 | W68: =IF(Y68="","",SUM(Y68:Y69)) | X68: （ | Z68: 前半 | AB68: ） | AC68: =IF(AA68="","",SUM(AA68:AA69)) | AD68: =V5 -> 0
A69: Welfare Officer | J69: 後半 | Q69: Welfare Officer | Z69: 後半
A70: 記録 | J70: PK | Q70: 記録 | Z70: PK
A71: ＜Referee＞ | E71: 警告/退場 選択肢より | F71: 氏名 | G71: 番号 | H71: 分 | I71: 内容 選択肢より | K71: 内容 選択肢より | L71: 分 | M71: 番号 | N71: 氏名 | O71: 警告/退場 選択肢より | Q71: ＜Referee＞ | U71: 警告/退場 選択肢より | V71: 氏名 | W71: 番号 | X71: 分 | Y71: 内容 選択肢より | AA71: 内容 選択肢より | AB71: 分 | AC71: 番号 | AD71: 氏名 | AE71: 警告/退場 選択肢より
E72: 得点者 | F72: =IF(ISERROR(VLOOKUP(CONCATENATE($F$68,"_",G72),選手名簿!$A:$E,5,FALSE))=TRUE,"",VLOOKUP(CONCATENATE($F$68,"_",G72),選手名簿!$A:$E,5,FALSE)) | N72: =IF(ISERROR(VLOOKUP(CONCATENATE($N$68,"_",M72),選手名簿!$A:$E,5,FALSE))=TRUE,"",VLOOKUP(CONCATENATE($N$68,"_",M72),選手名簿!$A:$E,5,FALSE)) | U72: 得点者 | V72: =IF(ISERROR(VLOOKUP(CONCATENATE($V$68,"_",W72),選手名簿!$A:$E,5,FALSE))=TRUE,"",VLOOKUP(CONCATENATE($V$68,"_",W72),選手名簿!$A:$E,5,FALSE)) | AD72: =IF(ISERROR(VLOOKUP(CONCATENATE($AD$68,"_",AC72),選手名簿!$A:$E,5,FALSE))=TRUE,"",VLOOKUP(CONCATENATE($AD$68,"_",AC72),選手名簿!$A:$E,5,FALSE))
E73: 得点者 | F73: =IF(ISERROR(VLOOKUP(CONCATENATE($F$68,"_",G73),選手名簿!$A:$E,5,FALSE))=TRUE,"",VLOOKUP(CONCATENATE($F$68,"_",G73),選手名簿!$A:$E,5,FALSE)) | N73: =IF(ISERROR(VLOOKUP(CONCATENATE($N$68,"_",M73),選手名簿!$A:$E,5,FALSE))=TRUE,"",VLOOKUP(CONCATENATE($N$68,"_",M73),選手名簿!$A:$E,5,FALSE)) | U73: 得点者 | V73: =IF(ISERROR(VLOOKUP(CONCATENATE($V$68,"_",W73),選手名簿!$A:$E,5,FALSE))=TRUE,"",VLOOKUP(CONCATENATE($V$68,"_",W73),選手名簿!$A:$E,5,FALSE)) | AD73: =IF(ISERROR(VLOOKUP(CONCATENATE($AD$68,"_",AC73),選手名簿!$A:$E,5,FALSE))=TRUE,"",VLOOKUP(CONCATENATE($AD$68,"_",AC73),選手名簿!$A:$E,5,FALSE))
E74: 得点者 | F74: =IF(ISERROR(VLOOKUP(CONCATENATE($F$68,"_",G74),選手名簿!$A:$E,5,FALSE))=TRUE,"",VLOOKUP(CONCATENATE($F$68,"_",G74),選手名簿!$A:$E,5,FALSE)) | N74: =IF(ISERROR(VLOOKUP(CONCATENATE($N$68,"_",M74),選手名簿!$A:$E,5,FALSE))=TRUE,"",VLOOKUP(CONCATENATE($N$68,"_",M74),選手名簿!$A:$E,5,FALSE)) | U74: 得点者 | V74: =IF(ISERROR(VLOOKUP(CONCATENATE($V$68,"_",W74),選手名簿!$A:$E,5,FALSE))=TRUE,"",VLOOKUP(CONCATENATE($V$68,"_",W74),選手名簿!$A:$E,5,FALSE)) | AD74: =IF(ISERROR(VLOOKUP(CONCATENATE($AD$68,"_",AC74),選手名簿!$A:$E,5,FALSE))=TRUE,"",VLOOKUP(CONCATENATE($AD$68,"_",AC74),選手名簿!$A:$E,5,FALSE))
E75: 得点者 | F75: =IF(ISERROR(VLOOKUP(CONCATENATE($F$68,"_",G75),選手名簿!$A:$E,5,FALSE))=TRUE,"",VLOOKUP(CONCATENATE($F$68,"_",G75),選手名簿!$A:$E,5,FALSE)) | N75: =IF(ISERROR(VLOOKUP(CONCATENATE($N$68,"_",M75),選手名簿!$A:$E,5,FALSE))=TRUE,"",VLOOKUP(CONCATENATE($N$68,"_",M75),選手名簿!$A:$E,5,FALSE)) | U75: 得点者 | V75: =IF(ISERROR(VLOOKUP(CONCATENATE($V$68,"_",W75),選手名簿!$A:$E,5,FALSE))=TRUE,"",VLOOKUP(CONCATENATE($V$68,"_",W75),選手名簿!$A:$E,5,FALSE)) | AD75: =IF(ISERROR(VLOOKUP(CONCATENATE($AD$68,"_",AC75),選手名簿!$A:$E,5,FALSE))=TRUE,"",VLOOKUP(CONCATENATE($AD$68,"_",AC75),選手名簿!$A:$E,5,FALSE))
E76: 得点者 | F76: =IF(ISERROR(VLOOKUP(CONCATENATE($F$68,"_",G76),選手名簿!$A:$E,5,FALSE))=TRUE,"",VLOOKUP(CONCATENATE($F$68,"_",G76),選手名簿!$A:$E,5,FALSE)) | N76: =IF(ISERROR(VLOOKUP(CONCATENATE($N$68,"_",M76),選手名簿!$A:$E,5,FALSE))=TRUE,"",VLOOKUP(CONCATENATE($N$68,"_",M76),選手名簿!$A:$E,5,FALSE)) | U76: 得点者 | V76: =IF(ISERROR(VLOOKUP(CONCATENATE($V$68,"_",W76),選手名簿!$A:$E,5,FALSE))=TRUE,"",VLOOKUP(CONCATENATE($V$68,"_",W76),選手名簿!$A:$E,5,FALSE)) | AD76: =IF(ISERROR(VLOOKUP(CONCATENATE($AD$68,"_",AC76),選手名簿!$A:$E,5,FALSE))=TRUE,"",VLOOKUP(CONCATENATE($AD$68,"_",AC76),選手名簿!$A:$E,5,FALSE))
E77: 得点者 | F77: =IF(ISERROR(VLOOKUP(CONCATENATE($F$68,"_",G77),選手名簿!$A:$E,5,FALSE))=TRUE,"",VLOOKUP(CONCATENATE($F$68,"_",G77),選手名簿!$A:$E,5,FALSE)) | N77: =IF(ISERROR(VLOOKUP(CONCATENATE($N$68,"_",M77),選手名簿!$A:$E,5,FALSE))=TRUE,"",VLOOKUP(CONCATENATE($N$68,"_",M77),選手名簿!$A:$E,5,FALSE)) | U77: 得点者 | V77: =IF(ISERROR(VLOOKUP(CONCATENATE($V$68,"_",W77),選手名簿!$A:$E,5,FALSE))=TRUE,"",VLOOKUP(CONCATENATE($V$68,"_",W77),選手名簿!$A:$E,5,FALSE)) | AD77: =IF(ISERROR(VLOOKUP(CONCATENATE($AD$68,"_",AC77),選手名簿!$A:$E,5,FALSE))=TRUE,"",VLOOKUP(CONCATENATE($AD$68,"_",AC77),選手名簿!$A:$E,5,FALSE))
E78: 得点者 | F78: =IF(ISERROR(VLOOKUP(CONCATENATE($F$68,"_",G78),選手名簿!$A:$E,5,FALSE))=TRUE,"",VLOOKUP(CONCATENATE($F$68,"_",G78),選手名簿!$A:$E,5,FALSE)) | N78: =IF(ISERROR(VLOOKUP(CONCATENATE($N$68,"_",M78),選手名簿!$A:$E,5,FALSE))=TRUE,"",VLOOKUP(CONCATENATE($N$68,"_",M78),選手名簿!$A:$E,5,FALSE)) | U78: 得点者 | V78: =IF(ISERROR(VLOOKUP(CONCATENATE($V$68,"_",W78),選手名簿!$A:$E,5,FALSE))=TRUE,"",VLOOKUP(CONCATENATE($V$68,"_",W78),選手名簿!$A:$E,5,FALSE)) | AD78: =IF(ISERROR(VLOOKUP(CONCATENATE($AD$68,"_",AC78),選手名簿!$A:$E,5,FALSE))=TRUE,"",VLOOKUP(CONCATENATE($AD$68,"_",AC78),選手名簿!$A:$E,5,FALSE))
E79: 得点者 | F79: =IF(ISERROR(VLOOKUP(CONCATENATE($F$68,"_",G79),選手名簿!$A:$E,5,FALSE))=TRUE,"",VLOOKUP(CONCATENATE($F$68,"_",G79),選手名簿!$A:$E,5,FALSE)) | N79: =IF(ISERROR(VLOOKUP(CONCATENATE($N$68,"_",M79),選手名簿!$A:$E,5,FALSE))=TRUE,"",VLOOKUP(CONCATENATE($N$68,"_",M79),選手名簿!$A:$E,5,FALSE)) | U79: 得点者 | V79: =IF(ISERROR(VLOOKUP(CONCATENATE($V$68,"_",W79),選手名簿!$A:$E,5,FALSE))=TRUE,"",VLOOKUP(CONCATENATE($V$68,"_",W79),選手名簿!$A:$E,5,FALSE)) | AD79: =IF(ISERROR(VLOOKUP(CONCATENATE($AD$68,"_",AC79),選手名簿!$A:$E,5,FALSE))=TRUE,"",VLOOKUP(CONCATENATE($AD$68,"_",AC79),選手名簿!$A:$E,5,FALSE))
E80: 得点者 | F80: =IF(ISERROR(VLOOKUP(CONCATENATE($F$68,"_",G80),選手名簿!$A:$E,5,FALSE))=TRUE,"",VLOOKUP(CONCATENATE($F$68,"_",G80),選手名簿!$A:$E,5,FALSE)) | N80: =IF(ISERROR(VLOOKUP(CONCATENATE($N$68,"_",M80),選手名簿!$A:$E,5,FALSE))=TRUE,"",VLOOKUP(CONCATENATE($N$68,"_",M80),選手名簿!$A:$E,5,FALSE)) | U80: 得点者 | V80: =IF(ISERROR(VLOOKUP(CONCATENATE($V$68,"_",W80),選手名簿!$A:$E,5,FALSE))=TRUE,"",VLOOKUP(CONCATENATE($V$68,"_",W80),選手名簿!$A:$E,5,FALSE)) | AD80: =IF(ISERROR(VLOOKUP(CONCATENATE($AD$68,"_",AC80),選手名簿!$A:$E,5,FALSE))=TRUE,"",VLOOKUP(CONCATENATE($AD$68,"_",AC80),選手名簿!$A:$E,5,FALSE))
E81: 得点者 | F81: =IF(ISERROR(VLOOKUP(CONCATENATE($F$68,"_",G81),選手名簿!$A:$E,5,FALSE))=TRUE,"",VLOOKUP(CONCATENATE($F$68,"_",G81),選手名簿!$A:$E,5,FALSE)) | N81: =IF(ISERROR(VLOOKUP(CONCATENATE($N$68,"_",M81),選手名簿!$A:$E,5,FALSE))=TRUE,"",VLOOKUP(CONCATENATE($N$68,"_",M81),選手名簿!$A:$E,5,FALSE)) | U81: 得点者 | V81: =IF(ISERROR(VLOOKUP(CONCATENATE($V$68,"_",W81),選手名簿!$A:$E,5,FALSE))=TRUE,"",VLOOKUP(CONCATENATE($V$68,"_",W81),選手名簿!$A:$E,5,FALSE)) | AD81: =IF(ISERROR(VLOOKUP(CONCATENATE($AD$68,"_",AC81),選手名簿!$A:$E,5,FALSE))=TRUE,"",VLOOKUP(CONCATENATE($AD$68,"_",AC81),選手名簿!$A:$E,5,FALSE))
A82: 番号 | F82: =IF(ISERROR(VLOOKUP(CONCATENATE($F$68,"_",G82),選手名簿!$A:$E,5,FALSE))=TRUE,"",VLOOKUP(CONCATENATE($F$68,"_",G82),選手名簿!$A:$E,5,FALSE)) | N82: =IF(ISERROR(VLOOKUP(CONCATENATE($N$68,"_",M82),選手名簿!$A:$E,5,FALSE))=TRUE,"",VLOOKUP(CONCATENATE($N$68,"_",M82),選手名簿!$A:$E,5,FALSE)) | Q82: 番号 | V82: =IF(ISERROR(VLOOKUP(CONCATENATE($V$68,"_",W82),選手名簿!$A:$E,5,FALSE))=TRUE,"",VLOOKUP(CONCATENATE($V$68,"_",W82),選手名簿!$A:$E,5,FALSE)) | AD82: =IF(ISERROR(VLOOKUP(CONCATENATE($AD$68,"_",AC82),選手名簿!$A:$E,5,FALSE))=TRUE,"",VLOOKUP(CONCATENATE($AD$68,"_",AC82),選手名簿!$A:$E,5,FALSE))
A83: R | B83: =IF(ISERROR(VLOOKUP(B82,審判員!$A:$C,2,FALSE))=TRUE,"",VLOOKUP(B82,審判員!$A:$C,2,FALSE)) | D83: =IF(ISERROR(VLOOKUP(B82,審判員!$A:$C,3,FALSE))=TRUE,"",VLOOKUP(B82,審判員!$A:$C,3,FALSE)) | F83: =IF(ISERROR(VLOOKUP(CONCATENATE($F$68,"_",G83),選手名簿!$A:$E,5,FALSE))=TRUE,"",VLOOKUP(CONCATENATE($F$68,"_",G83),選手名簿!$A:$E,5,FALSE)) | N83: =IF(ISERROR(VLOOKUP(CONCATENATE($N$68,"_",M83),選手名簿!$A:$E,5,FALSE))=TRUE,"",VLOOKUP(CONCATENATE($N$68,"_",M83),選手名簿!$A:$E,5,FALSE)) | Q83: R | R83: =IF(ISERROR(VLOOKUP(R82,審判員!$A:$C,2,FALSE))=TRUE,"",VLOOKUP(R82,審判員!$A:$C,2,FALSE)) | T83: =IF(ISERROR(VLOOKUP(R82,審判員!$A:$C,3,FALSE))=TRUE,"",VLOOKUP(R82,審判員!$A:$C,3,FALSE)) | V83: =IF(ISERROR(VLOOKUP(CONCATENATE($V$68,"_",W83),選手名簿!$A:$E,5,FALSE))=TRUE,"",VLOOKUP(CONCATENATE($V$68,"_",W83),選手名簿!$A:$E,5,FALSE)) | AD83: =IF(ISERROR(VLOOKUP(CONCATENATE($AD$68,"_",AC83),選手名簿!$A:$E,5,FALSE))=TRUE,"",VLOOKUP(CONCATENATE($AD$68,"_",AC83),選手名簿!$A:$E,5,FALSE))
A84: 番号 | F84: =IF(ISERROR(VLOOKUP(CONCATENATE($F$68,"_",G84),選手名簿!$A:$E,5,FALSE))=TRUE,"",VLOOKUP(CONCATENATE($F$68,"_",G84),選手名簿!$A:$E,5,FALSE)) | N84: =IF(ISERROR(VLOOKUP(CONCATENATE($N$68,"_",M84),選手名簿!$A:$E,5,FALSE))=TRUE,"",VLOOKUP(CONCATENATE($N$68,"_",M84),選手名簿!$A:$E,5,FALSE)) | Q84: 番号 | V84: =IF(ISERROR(VLOOKUP(CONCATENATE($V$68,"_",W84),選手名簿!$A:$E,5,FALSE))=TRUE,"",VLOOKUP(CONCATENATE($V$68,"_",W84),選手名簿!$A:$E,5,FALSE)) | AD84: =IF(ISERROR(VLOOKUP(CONCATENATE($AD$68,"_",AC84),選手名簿!$A:$E,5,FALSE))=TRUE,"",VLOOKUP(CONCATENATE($AD$68,"_",AC84),選手名簿!$A:$E,5,FALSE))
A85: AR1: | B85: =IF(ISERROR(VLOOKUP(B84,審判員!$A:$C,2,FALSE))=TRUE,"",VLOOKUP(B84,審判員!$A:$C,2,FALSE)) | D85: =IF(ISERROR(VLOOKUP(B84,審判員!$A:$C,3,FALSE))=TRUE,"",VLOOKUP(B84,審判員!$A:$C,3,FALSE)) | F85: =IF(ISERROR(VLOOKUP(CONCATENATE($F$68,"_",G85),選手名簿!$A:$E,5,FALSE))=TRUE,"",VLOOKUP(CONCATENATE($F$68,"_",G85),選手名簿!$A:$E,5,FALSE)) | N85: =IF(ISERROR(VLOOKUP(CONCATENATE($N$68,"_",M85),選手名簿!$A:$E,5,FALSE))=TRUE,"",VLOOKUP(CONCATENATE($N$68,"_",M85),選手名簿!$A:$E,5,FALSE)) | Q85: AR1: | R85: =IF(ISERROR(VLOOKUP(R84,審判員!$A:$C,2,FALSE))=TRUE,"",VLOOKUP(R84,審判員!$A:$C,2,FALSE)) | T85: =IF(ISERROR(VLOOKUP(R84,審判員!$A:$C,3,FALSE))=TRUE,"",VLOOKUP(R84,審判員!$A:$C,3,FALSE)) | V85: =IF(ISERROR(VLOOKUP(CONCATENATE($V$68,"_",W85),選手名簿!$A:$E,5,FALSE))=TRUE,"",VLOOKUP(CONCATENATE($V$68,"_",W85),選手名簿!$A:$E,5,FALSE)) | AD85: =IF(ISERROR(VLOOKUP(CONCATENATE($AD$68,"_",AC85),選手名簿!$A:$E,5,FALSE))=TRUE,"",VLOOKUP(CONCATENATE($AD$68,"_",AC85),選手名簿!$A:$E,5,FALSE))
A86: 番号 | F86: =IF(ISERROR(VLOOKUP(CONCATENATE($F$68,"_",G86),選手名簿!$A:$E,5,FALSE))=TRUE,"",VLOOKUP(CONCATENATE($F$68,"_",G86),選手名簿!$A:$E,5,FALSE)) | N86: =IF(ISERROR(VLOOKUP(CONCATENATE($N$68,"_",M86),選手名簿!$A:$E,5,FALSE))=TRUE,"",VLOOKUP(CONCATENATE($N$68,"_",M86),選手名簿!$A:$E,5,FALSE)) | Q86: 番号 | V86: =IF(ISERROR(VLOOKUP(CONCATENATE($V$68,"_",W86),選手名簿!$A:$E,5,FALSE))=TRUE,"",VLOOKUP(CONCATENATE($V$68,"_",W86),選手名簿!$A:$E,5,FALSE)) | AD86: =IF(ISERROR(VLOOKUP(CONCATENATE($AD$68,"_",AC86),選手名簿!$A:$E,5,FALSE))=TRUE,"",VLOOKUP(CONCATENATE($AD$68,"_",AC86),選手名簿!$A:$E,5,FALSE))
A87: AR2: | B87: =IF(ISERROR(VLOOKUP(B86,審判員!$A:$C,2,FALSE))=TRUE,"",VLOOKUP(B86,審判員!$A:$C,2,FALSE)) | D87: =IF(ISERROR(VLOOKUP(B86,審判員!$A:$C,3,FALSE))=TRUE,"",VLOOKUP(B86,審判員!$A:$C,3,FALSE)) | F87: =IF(ISERROR(VLOOKUP(CONCATENATE($F$68,"_",G87),選手名簿!$A:$E,5,FALSE))=TRUE,"",VLOOKUP(CONCATENATE($F$68,"_",G87),選手名簿!$A:$E,5,FALSE)) | N87: =IF(ISERROR(VLOOKUP(CONCATENATE($N$68,"_",M87),選手名簿!$A:$E,5,FALSE))=TRUE,"",VLOOKUP(CONCATENATE($N$68,"_",M87),選手名簿!$A:$E,5,FALSE)) | Q87: AR2: | R87: =IF(ISERROR(VLOOKUP(R86,審判員!$A:$C,2,FALSE))=TRUE,"",VLOOKUP(R86,審判員!$A:$C,2,FALSE)) | T87: =IF(ISERROR(VLOOKUP(R86,審判員!$A:$C,3,FALSE))=TRUE,"",VLOOKUP(R86,審判員!$A:$C,3,FALSE)) | V87: =IF(ISERROR(VLOOKUP(CONCATENATE($V$68,"_",W87),選手名簿!$A:$E,5,FALSE))=TRUE,"",VLOOKUP(CONCATENATE($V$68,"_",W87),選手名簿!$A:$E,5,FALSE)) | AD87: =IF(ISERROR(VLOOKUP(CONCATENATE($AD$68,"_",AC87),選手名簿!$A:$E,5,FALSE))=TRUE,"",VLOOKUP(CONCATENATE($AD$68,"_",AC87),選手名簿!$A:$E,5,FALSE))
A88: 番号 | F88: =IF(ISERROR(VLOOKUP(CONCATENATE($F$68,"_",G88),選手名簿!$A:$E,5,FALSE))=TRUE,"",VLOOKUP(CONCATENATE($F$68,"_",G88),選手名簿!$A:$E,5,FALSE)) | N88: =IF(ISERROR(VLOOKUP(CONCATENATE($N$68,"_",M88),選手名簿!$A:$E,5,FALSE))=TRUE,"",VLOOKUP(CONCATENATE($N$68,"_",M88),選手名簿!$A:$E,5,FALSE)) | Q88: 番号 | V88: =IF(ISERROR(VLOOKUP(CONCATENATE($V$68,"_",W88),選手名簿!$A:$E,5,FALSE))=TRUE,"",VLOOKUP(CONCATENATE($V$68,"_",W88),選手名簿!$A:$E,5,FALSE)) | AD88: =IF(ISERROR(VLOOKUP(CONCATENATE($AD$68,"_",AC88),選手名簿!$A:$E,5,FALSE))=TRUE,"",VLOOKUP(CONCATENATE($AD$68,"_",AC88),選手名簿!$A:$E,5,FALSE))
A89: 4th: | B89: =IF(ISERROR(VLOOKUP(B88,審判員!$A:$C,2,FALSE))=TRUE,"",VLOOKUP(B88,審判員!$A:$C,2,FALSE)) | D89: =IF(ISERROR(VLOOKUP(B88,審判員!$A:$C,3,FALSE))=TRUE,"",VLOOKUP(B88,審判員!$A:$C,3,FALSE)) | F89: =IF(ISERROR(VLOOKUP(CONCATENATE($F$68,"_",G89),選手名簿!$A:$E,5,FALSE))=TRUE,"",VLOOKUP(CONCATENATE($F$68,"_",G89),選手名簿!$A:$E,5,FALSE)) | N89: =IF(ISERROR(VLOOKUP(CONCATENATE($N$68,"_",M89),選手名簿!$A:$E,5,FALSE))=TRUE,"",VLOOKUP(CONCATENATE($N$68,"_",M89),選手名簿!$A:$E,5,FALSE)) | Q89: 4th: | R89: =IF(ISERROR(VLOOKUP(R88,審判員!$A:$C,2,FALSE))=TRUE,"",VLOOKUP(R88,審判員!$A:$C,2,FALSE)) | T89: =IF(ISERROR(VLOOKUP(R88,審判員!$A:$C,3,FALSE))=TRUE,"",VLOOKUP(R88,審判員!$A:$C,3,FALSE)) | V89: =IF(ISERROR(VLOOKUP(CONCATENATE($V$68,"_",W89),選手名簿!$A:$E,5,FALSE))=TRUE,"",VLOOKUP(CONCATENATE($V$68,"_",W89),選手名簿!$A:$E,5,FALSE)) | AD89: =IF(ISERROR(VLOOKUP(CONCATENATE($AD$68,"_",AC89),選手名簿!$A:$E,5,FALSE))=TRUE,"",VLOOKUP(CONCATENATE($AD$68,"_",AC89),選手名簿!$A:$E,5,FALSE))

Sheet 予選リーグ公式記録(BコートB)
A1: =要項!C2 -> OFA 第 37 回 大分県U-11サッカー選手権大会 | K1: 予選リーグ結果 報告用紙 | Q1: =要項!C2 -> OFA 第 37 回 大分県U-11サッカー選手権大会 | AA1: 予選リーグ結果 報告用紙
A3: 会場 | B3: =予選リーグ!I14 -> レゾナック サッカー・ラグビー場 Bコート | G3: =予選リーグ!L15 -> 「B」コート | Q3: 会場 | R3: =予選リーグ!I14 -> レゾナック サッカー・ラグビー場 Bコート | W3: =予選リーグ!L15 -> 「B」コート
E5: F1 | F5: =VLOOKUP(E5,組合せ抽選用!$Q:$U,5,FALSE) -> 0 | M5: =VLOOKUP(E5,組合せ抽選用!$Q:$V,6,FALSE) -> 宇佐高田 | U5: H1 | V5: =VLOOKUP(U5,組合せ抽選用!$Q:$U,5,FALSE) -> 0 | AC5: =VLOOKUP(U5,組合せ抽選用!$Q:$V,6,FALSE) -> 佐伯
E6: F2 | F6: =VLOOKUP(E6,組合せ抽選用!$Q:$U,5,FALSE) -> 0 | M6: =VLOOKUP(E6,組合せ抽選用!$Q:$V,6,FALSE) -> 宇佐高田 | U6: H2 | V6: =VLOOKUP(U6,組合せ抽選用!$Q:$U,5,FALSE) -> 0 | AC6: =VLOOKUP(U6,組合せ抽選用!$Q:$V,6,FALSE) -> 豊肥
E7: F3 | F7: =VLOOKUP(E7,組合せ抽選用!$Q:$U,5,FALSE) -> 0 | M7: =VLOOKUP(E7,組合せ抽選用!$Q:$V,6,FALSE) -> 別府 | U7: H3 | V7: =VLOOKUP(U7,組合せ抽選用!$Q:$U,5,FALSE) -> 0 | AC7: =VLOOKUP(U7,組合せ抽選用!$Q:$V,6,FALSE) -> 臼杵/津久見
A10: MC | E10: =予選リーグ!B19 -> 0.41666667 | F10: =F5 -> 0 | G10: =IF(I10="","",SUM(I10:I11)) | H10: （ | J10: 前半 | L10: ） | M10: =IF(K10="","",SUM(K10:K11)) | N10: =F6 -> 0 | Q10: MC | U10: =予選リーグ!B21 -> 0.45138889 | V10: =V5 -> 0 | W10: =IF(Y10="","",SUM(Y10:Y11)) | X10: （ | Z10: 前半 | AB10: ） | AC10: =IF(AA10="","",SUM(AA10:AA11)) | AD10: =V6 -> 0
A11: Welfare Officer | J11: 後半 | Q11: Welfare Officer | Z11: 後半
A12: 記録 | J12: PK | Q12: 記録 | Z12: PK
A13: ＜Referee＞ | E13: 警告/退場 選択肢より | F13: 氏名 | G13: 番号 | H13: 分 | I13: 内容 選択肢より | K13: 内容 選択肢より | L13: 分 | M13: 番号 | N13: 氏名 | O13: 警告/退場 選択肢より | Q13: ＜Referee＞ | U13: 警告/退場 選択肢より | V13: 氏名 | W13: 番号 | X13: 分 | Y13: 内容 選択肢より | AA13: 内容 選択肢より | AB13: 分 | AC13: 番号 | AD13: 氏名 | AE13: 警告/退場 選択肢より
E14: 得点者 | F14: =IF(ISERROR(VLOOKUP(CONCATENATE($F$10,"_",G14),選手名簿!$A:$E,5,FALSE))=TRUE,"",VLOOKUP(CONCATENATE($F$10,"_",G14),選手名簿!$A:$E,5,FALSE)) | N14: =IF(ISERROR(VLOOKUP(CONCATENATE($N$10,"_",M14),選手名簿!$A:$E,5,FALSE))=TRUE,"",VLOOKUP(CONCATENATE($N$10,"_",M14),選手名簿!$A:$E,5,FALSE)) | U14: 得点者 | V14: =IF(ISERROR(VLOOKUP(CONCATENATE($V$10,"_",W14),選手名簿!$A:$E,5,FALSE))=TRUE,"",VLOOKUP(CONCATENATE($V$10,"_",W14),選手名簿!$A:$E,5,FALSE)) | AD14: =IF(ISERROR(VLOOKUP(CONCATENATE($AD$10,"_",AC14),選手名簿!$A:$E,5,FALSE))=TRUE,"",VLOOKUP(CONCATENATE($AD$10,"_",AC14),選手名簿!$A:$E,5,FALSE))
E15: 得点者 | F15: =IF(ISERROR(VLOOKUP(CONCATENATE($F$10,"_",G15),選手名簿!$A:$E,5,FALSE))=TRUE,"",VLOOKUP(CONCATENATE($F$10,"_",G15),選手名簿!$A:$E,5,FALSE)) | N15: =IF(ISERROR(VLOOKUP(CONCATENATE($N$10,"_",M15),選手名簿!$A:$E,5,FALSE))=TRUE,"",VLOOKUP(CONCATENATE($N$10,"_",M15),選手名簿!$A:$E,5,FALSE)) | U15: 得点者 | V15: =IF(ISERROR(VLOOKUP(CONCATENATE($V$10,"_",W15),選手名簿!$A:$E,5,FALSE))=TRUE,"",VLOOKUP(CONCATENATE($V$10,"_",W15),選手名簿!$A:$E,5,FALSE)) | AD15: =IF(ISERROR(VLOOKUP(CONCATENATE($AD$10,"_",AC15),選手名簿!$A:$E,5,FALSE))=TRUE,"",VLOOKUP(CONCATENATE($AD$10,"_",AC15),選手名簿!$A:$E,5,FALSE))
E16: 得点者 | F16: =IF(ISERROR(VLOOKUP(CONCATENATE($F$10,"_",G16),選手名簿!$A:$E,5,FALSE))=TRUE,"",VLOOKUP(CONCATENATE($F$10,"_",G16),選手名簿!$A:$E,5,FALSE)) | N16: =IF(ISERROR(VLOOKUP(CONCATENATE($N$10,"_",M16),選手名簿!$A:$E,5,FALSE))=TRUE,"",VLOOKUP(CONCATENATE($N$10,"_",M16),選手名簿!$A:$E,5,FALSE)) | U16: 得点者 | V16: =IF(ISERROR(VLOOKUP(CONCATENATE($V$10,"_",W16),選手名簿!$A:$E,5,FALSE))=TRUE,"",VLOOKUP(CONCATENATE($V$10,"_",W16),選手名簿!$A:$E,5,FALSE)) | AD16: =IF(ISERROR(VLOOKUP(CONCATENATE($AD$10,"_",AC16),選手名簿!$A:$E,5,FALSE))=TRUE,"",VLOOKUP(CONCATENATE($AD$10,"_",AC16),選手名簿!$A:$E,5,FALSE))
E17: 得点者 | F17: =IF(ISERROR(VLOOKUP(CONCATENATE($F$10,"_",G17),選手名簿!$A:$E,5,FALSE))=TRUE,"",VLOOKUP(CONCATENATE($F$10,"_",G17),選手名簿!$A:$E,5,FALSE)) | N17: =IF(ISERROR(VLOOKUP(CONCATENATE($N$10,"_",M17),選手名簿!$A:$E,5,FALSE))=TRUE,"",VLOOKUP(CONCATENATE($N$10,"_",M17),選手名簿!$A:$E,5,FALSE)) | U17: 得点者 | V17: =IF(ISERROR(VLOOKUP(CONCATENATE($V$10,"_",W17),選手名簿!$A:$E,5,FALSE))=TRUE,"",VLOOKUP(CONCATENATE($V$10,"_",W17),選手名簿!$A:$E,5,FALSE)) | AD17: =IF(ISERROR(VLOOKUP(CONCATENATE($AD$10,"_",AC17),選手名簿!$A:$E,5,FALSE))=TRUE,"",VLOOKUP(CONCATENATE($AD$10,"_",AC17),選手名簿!$A:$E,5,FALSE))
E18: 得点者 | F18: =IF(ISERROR(VLOOKUP(CONCATENATE($F$10,"_",G18),選手名簿!$A:$E,5,FALSE))=TRUE,"",VLOOKUP(CONCATENATE($F$10,"_",G18),選手名簿!$A:$E,5,FALSE)) | N18: =IF(ISERROR(VLOOKUP(CONCATENATE($N$10,"_",M18),選手名簿!$A:$E,5,FALSE))=TRUE,"",VLOOKUP(CONCATENATE($N$10,"_",M18),選手名簿!$A:$E,5,FALSE)) | U18: 得点者 | V18: =IF(ISERROR(VLOOKUP(CONCATENATE($V$10,"_",W18),選手名簿!$A:$E,5,FALSE))=TRUE,"",VLOOKUP(CONCATENATE($V$10,"_",W18),選手名簿!$A:$E,5,FALSE)) | AD18: =IF(ISERROR(VLOOKUP(CONCATENATE($AD$10,"_",AC18),選手名簿!$A:$E,5,FALSE))=TRUE,"",VLOOKUP(CONCATENATE($AD$10,"_",AC18),選手名簿!$A:$E,5,FALSE))
E19: 得点者 | F19: =IF(ISERROR(VLOOKUP(CONCATENATE($F$10,"_",G19),選手名簿!$A:$E,5,FALSE))=TRUE,"",VLOOKUP(CONCATENATE($F$10,"_",G19),選手名簿!$A:$E,5,FALSE)) | N19: =IF(ISERROR(VLOOKUP(CONCATENATE($N$10,"_",M19),選手名簿!$A:$E,5,FALSE))=TRUE,"",VLOOKUP(CONCATENATE($N$10,"_",M19),選手名簿!$A:$E,5,FALSE)) | U19: 得点者 | V19: =IF(ISERROR(VLOOKUP(CONCATENATE($V$10,"_",W19),選手名簿!$A:$E,5,FALSE))=TRUE,"",VLOOKUP(CONCATENATE($V$10,"_",W19),選手名簿!$A:$E,5,FALSE)) | AD19: =IF(ISERROR(VLOOKUP(CONCATENATE($AD$10,"_",AC19),選手名簿!$A:$E,5,FALSE))=TRUE,"",VLOOKUP(CONCATENATE($AD$10,"_",AC19),選手名簿!$A:$E,5,FALSE))
E20: 得点者 | F20: =IF(ISERROR(VLOOKUP(CONCATENATE($F$10,"_",G20),選手名簿!$A:$E,5,FALSE))=TRUE,"",VLOOKUP(CONCATENATE($F$10,"_",G20),選手名簿!$A:$E,5,FALSE)) | N20: =IF(ISERROR(VLOOKUP(CONCATENATE($N$10,"_",M20),選手名簿!$A:$E,5,FALSE))=TRUE,"",VLOOKUP(CONCATENATE($N$10,"_",M20),選手名簿!$A:$E,5,FALSE)) | U20: 得点者 | V20: =IF(ISERROR(VLOOKUP(CONCATENATE($V$10,"_",W20),選手名簿!$A:$E,5,FALSE))=TRUE,"",VLOOKUP(CONCATENATE($V$10,"_",W20),選手名簿!$A:$E,5,FALSE)) | AD20: =IF(ISERROR(VLOOKUP(CONCATENATE($AD$10,"_",AC20),選手名簿!$A:$E,5,FALSE))=TRUE,"",VLOOKUP(CONCATENATE($AD$10,"_",AC20),選手名簿!$A:$E,5,FALSE))
E21: 得点者 | F21: =IF(ISERROR(VLOOKUP(CONCATENATE($F$10,"_",G21),選手名簿!$A:$E,5,FALSE))=TRUE,"",VLOOKUP(CONCATENATE($F$10,"_",G21),選手名簿!$A:$E,5,FALSE)) | N21: =IF(ISERROR(VLOOKUP(CONCATENATE($N$10,"_",M21),選手名簿!$A:$E,5,FALSE))=TRUE,"",VLOOKUP(CONCATENATE($N$10,"_",M21),選手名簿!$A:$E,5,FALSE)) | U21: 得点者 | V21: =IF(ISERROR(VLOOKUP(CONCATENATE($V$10,"_",W21),選手名簿!$A:$E,5,FALSE))=TRUE,"",VLOOKUP(CONCATENATE($V$10,"_",W21),選手名簿!$A:$E,5,FALSE)) | AD21: =IF(ISERROR(VLOOKUP(CONCATENATE($AD$10,"_",AC21),選手名簿!$A:$E,5,FALSE))=TRUE,"",VLOOKUP(CONCATENATE($AD$10,"_",AC21),選手名簿!$A:$E,5,FALSE))
E22: 得点者 | F22: =IF(ISERROR(VLOOKUP(CONCATENATE($F$10,"_",G22),選手名簿!$A:$E,5,FALSE))=TRUE,"",VLOOKUP(CONCATENATE($F$10,"_",G22),選手名簿!$A:$E,5,FALSE)) | N22: =IF(ISERROR(VLOOKUP(CONCATENATE($N$10,"_",M22),選手名簿!$A:$E,5,FALSE))=TRUE,"",VLOOKUP(CONCATENATE($N$10,"_",M22),選手名簿!$A:$E,5,FALSE)) | U22: 得点者 | V22: =IF(ISERROR(VLOOKUP(CONCATENATE($V$10,"_",W22),選手名簿!$A:$E,5,FALSE))=TRUE,"",VLOOKUP(CONCATENATE($V$10,"_",W22),選手名簿!$A:$E,5,FALSE)) | AD22: =IF(ISERROR(VLOOKUP(CONCATENATE($AD$10,"_",AC22),選手名簿!$A:$E,5,FALSE))=TRUE,"",VLOOKUP(CONCATENATE($AD$10,"_",AC22),選手名簿!$A:$E,5,FALSE))
E23: 得点者 | F23: =IF(ISERROR(VLOOKUP(CONCATENATE($F$10,"_",G23),選手名簿!$A:$E,5,FALSE))=TRUE,"",VLOOKUP(CONCATENATE($F$10,"_",G23),選手名簿!$A:$E,5,FALSE)) | N23: =IF(ISERROR(VLOOKUP(CONCATENATE($N$10,"_",M23),選手名簿!$A:$E,5,FALSE))=TRUE,"",VLOOKUP(CONCATENATE($N$10,"_",M23),選手名簿!$A:$E,5,FALSE)) | U23: 得点者 | V23: =IF(ISERROR(VLOOKUP(CONCATENATE($V$10,"_",W23),選手名簿!$A:$E,5,FALSE))=TRUE,"",VLOOKUP(CONCATENATE($V$10,"_",W23),選手名簿!$A:$E,5,FALSE)) | AD23: =IF(ISERROR(VLOOKUP(CONCATENATE($AD$10,"_",AC23),選手名簿!$A:$E,5,FALSE))=TRUE,"",VLOOKUP(CONCATENATE($AD$10,"_",AC23),選手名簿!$A:$E,5,FALSE))
A24: 番号 | F24: =IF(ISERROR(VLOOKUP(CONCATENATE($F$10,"_",G24),選手名簿!$A:$E,5,FALSE))=TRUE,"",VLOOKUP(CONCATENATE($F$10,"_",G24),選手名簿!$A:$E,5,FALSE)) | N24: =IF(ISERROR(VLOOKUP(CONCATENATE($N$10,"_",M24),選手名簿!$A:$E,5,FALSE))=TRUE,"",VLOOKUP(CONCATENATE($N$10,"_",M24),選手名簿!$A:$E,5,FALSE)) | Q24: 番号 | V24: =IF(ISERROR(VLOOKUP(CONCATENATE($V$10,"_",W24),選手名簿!$A:$E,5,FALSE))=TRUE,"",VLOOKUP(CONCATENATE($V$10,"_",W24),選手名簿!$A:$E,5,FALSE)) | AD24: =IF(ISERROR(VLOOKUP(CONCATENATE($AD$10,"_",AC24),選手名簿!$A:$E,5,FALSE))=TRUE,"",VLOOKUP(CONCATENATE($AD$10,"_",AC24),選手名簿!$A:$E,5,FALSE))
A25: R | B25: =IF(ISERROR(VLOOKUP(B24,審判員!$A:$C,2,FALSE))=TRUE,"",VLOOKUP(B24,審判員!$A:$C,2,FALSE)) | D25: =IF(ISERROR(VLOOKUP(B24,審判員!$A:$C,3,FALSE))=TRUE,"",VLOOKUP(B24,審判員!$A:$C,3,FALSE)) | F25: =IF(ISERROR(VLOOKUP(CONCATENATE($F$10,"_",G25),選手名簿!$A:$E,5,FALSE))=TRUE,"",VLOOKUP(CONCATENATE($F$10,"_",G25),選手名簿!$A:$E,5,FALSE)) | N25: =IF(ISERROR(VLOOKUP(CONCATENATE($N$10,"_",M25),選手名簿!$A:$E,5,FALSE))=TRUE,"",VLOOKUP(CONCATENATE($N$10,"_",M25),選手名簿!$A:$E,5,FALSE)) | Q25: R | R25: =IF(ISERROR(VLOOKUP(R24,審判員!$A:$C,2,FALSE))=TRUE,"",VLOOKUP(R24,審判員!$A:$C,2,FALSE)) | T25: =IF(ISERROR(VLOOKUP(R24,審判員!$A:$C,3,FALSE))=TRUE,"",VLOOKUP(R24,審判員!$A:$C,3,FALSE)) | V25: =IF(ISERROR(VLOOKUP(CONCATENATE($V$10,"_",W25),選手名簿!$A:$E,5,FALSE))=TRUE,"",VLOOKUP(CONCATENATE($V$10,"_",W25),選手名簿!$A:$E,5,FALSE)) | AD25: =IF(ISERROR(VLOOKUP(CONCATENATE($AD$10,"_",AC25),選手名簿!$A:$E,5,FALSE))=TRUE,"",VLOOKUP(CONCATENATE($AD$10,"_",AC25),選手名簿!$A:$E,5,FALSE))
A26: 番号 | F26: =IF(ISERROR(VLOOKUP(CONCATENATE($F$10,"_",G26),選手名簿!$A:$E,5,FALSE))=TRUE,"",VLOOKUP(CONCATENATE($F$10,"_",G26),選手名簿!$A:$E,5,FALSE)) | N26: =IF(ISERROR(VLOOKUP(CONCATENATE($N$10,"_",M26),選手名簿!$A:$E,5,FALSE))=TRUE,"",VLOOKUP(CONCATENATE($N$10,"_",M26),選手名簿!$A:$E,5,FALSE)) | Q26: 番号 | V26: =IF(ISERROR(VLOOKUP(CONCATENATE($V$10,"_",W26),選手名簿!$A:$E,5,FALSE))=TRUE,"",VLOOKUP(CONCATENATE($V$10,"_",W26),選手名簿!$A:$E,5,FALSE)) | AD26: =IF(ISERROR(VLOOKUP(CONCATENATE($AD$10,"_",AC26),選手名簿!$A:$E,5,FALSE))=TRUE,"",VLOOKUP(CONCATENATE($AD$10,"_",AC26),選手名簿!$A:$E,5,FALSE))
A27: AR1: | B27: =IF(ISERROR(VLOOKUP(B26,審判員!$A:$C,2,FALSE))=TRUE,"",VLOOKUP(B26,審判員!$A:$C,2,FALSE)) | D27: =IF(ISERROR(VLOOKUP(B26,審判員!$A:$C,3,FALSE))=TRUE,"",VLOOKUP(B26,審判員!$A:$C,3,FALSE)) | F27: =IF(ISERROR(VLOOKUP(CONCATENATE($F$10,"_",G27),選手名簿!$A:$E,5,FALSE))=TRUE,"",VLOOKUP(CONCATENATE($F$10,"_",G27),選手名簿!$A:$E,5,FALSE)) | N27: =IF(ISERROR(VLOOKUP(CONCATENATE($N$10,"_",M27),選手名簿!$A:$E,5,FALSE))=TRUE,"",VLOOKUP(CONCATENATE($N$10,"_",M27),選手名簿!$A:$E,5,FALSE)) | Q27: AR1: | R27: =IF(ISERROR(VLOOKUP(R26,審判員!$A:$C,2,FALSE))=TRUE,"",VLOOKUP(R26,審判員!$A:$C,2,FALSE)) | T27: =IF(ISERROR(VLOOKUP(R26,審判員!$A:$C,3,FALSE))=TRUE,"",VLOOKUP(R26,審判員!$A:$C,3,FALSE)) | V27: =IF(ISERROR(VLOOKUP(CONCATENATE($V$10,"_",W27),選手名簿!$A:$E,5,FALSE))=TRUE,"",VLOOKUP(CONCATENATE($V$10,"_",W27),選手名簿!$A:$E,5,FALSE)) | AD27: =IF(ISERROR(VLOOKUP(CONCATENATE($AD$10,"_",AC27),選手名簿!$A:$E,5,FALSE))=TRUE,"",VLOOKUP(CONCATENATE($AD$10,"_",AC27),選手名簿!$A:$E,5,FALSE))
A28: 番号 | F28: =IF(ISERROR(VLOOKUP(CONCATENATE($F$10,"_",G28),選手名簿!$A:$E,5,FALSE))=TRUE,"",VLOOKUP(CONCATENATE($F$10,"_",G28),選手名簿!$A:$E,5,FALSE)) | N28: =IF(ISERROR(VLOOKUP(CONCATENATE($N$10,"_",M28),選手名簿!$A:$E,5,FALSE))=TRUE,"",VLOOKUP(CONCATENATE($N$10,"_",M28),選手名簿!$A:$E,5,FALSE)) | Q28: 番号 | V28: =IF(ISERROR(VLOOKUP(CONCATENATE($V$10,"_",W28),選手名簿!$A:$E,5,FALSE))=TRUE,"",VLOOKUP(CONCATENATE($V$10,"_",W28),選手名簿!$A:$E,5,FALSE)) | AD28: =IF(ISERROR(VLOOKUP(CONCATENATE($AD$10,"_",AC28),選手名簿!$A:$E,5,FALSE))=TRUE,"",VLOOKUP(CONCATENATE($AD$10,"_",AC28),選手名簿!$A:$E,5,FALSE))
A29: AR2: | B29: =IF(ISERROR(VLOOKUP(B28,審判員!$A:$C,2,FALSE))=TRUE,"",VLOOKUP(B28,審判員!$A:$C,2,FALSE)) | D29: =IF(ISERROR(VLOOKUP(B28,審判員!$A:$C,3,FALSE))=TRUE,"",VLOOKUP(B28,審判員!$A:$C,3,FALSE)) | F29: =IF(ISERROR(VLOOKUP(CONCATENATE($F$10,"_",G29),選手名簿!$A:$E,5,FALSE))=TRUE,"",VLOOKUP(CONCATENATE($F$10,"_",G29),選手名簿!$A:$E,5,FALSE)) | N29: =IF(ISERROR(VLOOKUP(CONCATENATE($N$10,"_",M29),選手名簿!$A:$E,5,FALSE))=TRUE,"",VLOOKUP(CONCATENATE($N$10,"_",M29),選手名簿!$A:$E,5,FALSE)) | Q29: AR2: | R29: =IF(ISERROR(VLOOKUP(R28,審判員!$A:$C,2,FALSE))=TRUE,"",VLOOKUP(R28,審判員!$A:$C,2,FALSE)) | T29: =IF(ISERROR(VLOOKUP(R28,審判員!$A:$C,3,FALSE))=TRUE,"",VLOOKUP(R28,審判員!$A:$C,3,FALSE)) | V29: =IF(ISERROR(VLOOKUP(CONCATENATE($V$10,"_",W29),選手名簿!$A:$E,5,FALSE))=TRUE,"",VLOOKUP(CONCATENATE($V$10,"_",W29),選手名簿!$A:$E,5,FALSE)) | AD29: =IF(ISERROR(VLOOKUP(CONCATENATE($AD$10,"_",AC29),選手名簿!$A:$E,5,FALSE))=TRUE,"",VLOOKUP(CONCATENATE($AD$10,"_",AC29),選手名簿!$A:$E,5,FALSE))
A30: 番号 | F30: =IF(ISERROR(VLOOKUP(CONCATENATE($F$10,"_",G30),選手名簿!$A:$E,5,FALSE))=TRUE,"",VLOOKUP(CONCATENATE($F$10,"_",G30),選手名簿!$A:$E,5,FALSE)) | N30: =IF(ISERROR(VLOOKUP(CONCATENATE($N$10,"_",M30),選手名簿!$A:$E,5,FALSE))=TRUE,"",VLOOKUP(CONCATENATE($N$10,"_",M30),選手名簿!$A:$E,5,FALSE)) | Q30: 番号 | V30: =IF(ISERROR(VLOOKUP(CONCATENATE($V$10,"_",W30),選手名簿!$A:$E,5,FALSE))=TRUE,"",VLOOKUP(CONCATENATE($V$10,"_",W30),選手名簿!$A:$E,5,FALSE)) | AD30: =IF(ISERROR(VLOOKUP(CONCATENATE($AD$10,"_",AC30),選手名簿!$A:$E,5,FALSE))=TRUE,"",VLOOKUP(CONCATENATE($AD$10,"_",AC30),選手名簿!$A:$E,5,FALSE))
A31: 4th: | B31: =IF(ISERROR(VLOOKUP(B30,審判員!$A:$C,2,FALSE))=TRUE,"",VLOOKUP(B30,審判員!$A:$C,2,FALSE)) | D31: =IF(ISERROR(VLOOKUP(B30,審判員!$A:$C,3,FALSE))=TRUE,"",VLOOKUP(B30,審判員!$A:$C,3,FALSE)) | F31: =IF(ISERROR(VLOOKUP(CONCATENATE($F$10,"_",G31),選手名簿!$A:$E,5,FALSE))=TRUE,"",VLOOKUP(CONCATENATE($F$10,"_",G31),選手名簿!$A:$E,5,FALSE)) | N31: =IF(ISERROR(VLOOKUP(CONCATENATE($N$10,"_",M31),選手名簿!$A:$E,5,FALSE))=TRUE,"",VLOOKUP(CONCATENATE($N$10,"_",M31),選手名簿!$A:$E,5,FALSE)) | Q31: 4th: | R31: =IF(ISERROR(VLOOKUP(R30,審判員!$A:$C,2,FALSE))=TRUE,"",VLOOKUP(R30,審判員!$A:$C,2,FALSE)) | T31: =IF(ISERROR(VLOOKUP(R30,審判員!$A:$C,3,FALSE))=TRUE,"",VLOOKUP(R30,審判員!$A:$C,3,FALSE)) | V31: =IF(ISERROR(VLOOKUP(CONCATENATE($V$10,"_",W31),選手名簿!$A:$E,5,FALSE))=TRUE,"",VLOOKUP(CONCATENATE($V$10,"_",W31),選手名簿!$A:$E,5,FALSE)) | AD31: =IF(ISERROR(VLOOKUP(CONCATENATE($AD$10,"_",AC31),選手名簿!$A:$E,5,FALSE))=TRUE,"",VLOOKUP(CONCATENATE($AD$10,"_",AC31),選手名簿!$A:$E,5,FALSE))
A39: MC | E39: =予選リーグ!B23 -> 0.48611111 | F39: =F6 -> 0 | G39: =IF(I39="","",SUM(I39:I40)) | H39: （ | J39: 前半 | L39: ） | M39: =IF(K39="","",SUM(K39:K40)) | N39: =F7 -> 0 | Q39: MC | U39: =予選リーグ!B27 -> 0.55555556 | V39: =V6 -> 0 | W39: =IF(Y39="","",SUM(Y39:Y40)) | X39: （ | Z39: 前半 | AB39: ） | AC39: =IF(AA39="","",SUM(AA39:AA40)) | AD39: =V7 -> 0
A40: Welfare Officer | J40: 後半 | Q40: Welfare Officer | Z40: 後半
A41: 記録 | J41: PK | Q41: 記録 | Z41: PK
A42: ＜Referee＞ | E42: 警告/退場 選択肢より | F42: 氏名 | G42: 番号 | H42: 分 | I42: 内容 選択肢より | K42: 内容 選択肢より | L42: 分 | M42: 番号 | N42: 氏名 | O42: 警告/退場 選択肢より | Q42: ＜Referee＞ | U42: 警告/退場 選択肢より | V42: 氏名 | W42: 番号 | X42: 分 | Y42: 内容 選択肢より | AA42: 内容 選択肢より | AB42: 分 | AC42: 番号 | AD42: 氏名 | AE42: 警告/退場 選択肢より
E43: 得点者 | F43: =IF(ISERROR(VLOOKUP(CONCATENATE($F$39,"_",G43),選手名簿!$A:$E,5,FALSE))=TRUE,"",VLOOKUP(CONCATENATE($F$39,"_",G43),選手名簿!$A:$E,5,FALSE)) | N43: =IF(ISERROR(VLOOKUP(CONCATENATE($N$39,"_",M43),選手名簿!$A:$E,5,FALSE))=TRUE,"",VLOOKUP(CONCATENATE($N$39,"_",M43),選手名簿!$A:$E,5,FALSE)) | U43: 得点者 | V43: =IF(ISERROR(VLOOKUP(CONCATENATE($V$39,"_",W43),選手名簿!$A:$E,5,FALSE))=TRUE,"",VLOOKUP(CONCATENATE($V$39,"_",W43),選手名簿!$A:$E,5,FALSE)) | AD43: =IF(ISERROR(VLOOKUP(CONCATENATE($AD$39,"_",AC43),選手名簿!$A:$E,5,FALSE))=TRUE,"",VLOOKUP(CONCATENATE($AD$39,"_",AC43),選手名簿!$A:$E,5,FALSE))
E44: 得点者 | F44: =IF(ISERROR(VLOOKUP(CONCATENATE($F$39,"_",G44),選手名簿!$A:$E,5,FALSE))=TRUE,"",VLOOKUP(CONCATENATE($F$39,"_",G44),選手名簿!$A:$E,5,FALSE)) | N44: =IF(ISERROR(VLOOKUP(CONCATENATE($N$39,"_",M44),選手名簿!$A:$E,5,FALSE))=TRUE,"",VLOOKUP(CONCATENATE($N$39,"_",M44),選手名簿!$A:$E,5,FALSE)) | U44: 得点者 | V44: =IF(ISERROR(VLOOKUP(CONCATENATE($V$39,"_",W44),選手名簿!$A:$E,5,FALSE))=TRUE,"",VLOOKUP(CONCATENATE($V$39,"_",W44),選手名簿!$A:$E,5,FALSE)) | AD44: =IF(ISERROR(VLOOKUP(CONCATENATE($AD$39,"_",AC44),選手名簿!$A:$E,5,FALSE))=TRUE,"",VLOOKUP(CONCATENATE($AD$39,"_",AC44),選手名簿!$A:$E,5,FALSE))
E45: 得点者 | F45: =IF(ISERROR(VLOOKUP(CONCATENATE($F$39,"_",G45),選手名簿!$A:$E,5,FALSE))=TRUE,"",VLOOKUP(CONCATENATE($F$39,"_",G45),選手名簿!$A:$E,5,FALSE)) | N45: =IF(ISERROR(VLOOKUP(CONCATENATE($N$39,"_",M45),選手名簿!$A:$E,5,FALSE))=TRUE,"",VLOOKUP(CONCATENATE($N$39,"_",M45),選手名簿!$A:$E,5,FALSE)) | U45: 得点者 | V45: =IF(ISERROR(VLOOKUP(CONCATENATE($V$39,"_",W45),選手名簿!$A:$E,5,FALSE))=TRUE,"",VLOOKUP(CONCATENATE($V$39,"_",W45),選手名簿!$A:$E,5,FALSE)) | AD45: =IF(ISERROR(VLOOKUP(CONCATENATE($AD$39,"_",AC45),選手名簿!$A:$E,5,FALSE))=TRUE,"",VLOOKUP(CONCATENATE($AD$39,"_",AC45),選手名簿!$A:$E,5,FALSE))
E46: 得点者 | F46: =IF(ISERROR(VLOOKUP(CONCATENATE($F$39,"_",G46),選手名簿!$A:$E,5,FALSE))=TRUE,"",VLOOKUP(CONCATENATE($F$39,"_",G46),選手名簿!$A:$E,5,FALSE)) | N46: =IF(ISERROR(VLOOKUP(CONCATENATE($N$39,"_",M46),選手名簿!$A:$E,5,FALSE))=TRUE,"",VLOOKUP(CONCATENATE($N$39,"_",M46),選手名簿!$A:$E,5,FALSE)) | U46: 得点者 | V46: =IF(ISERROR(VLOOKUP(CONCATENATE($V$39,"_",W46),選手名簿!$A:$E,5,FALSE))=TRUE,"",VLOOKUP(CONCATENATE($V$39,"_",W46),選手名簿!$A:$E,5,FALSE)) | AD46: =IF(ISERROR(VLOOKUP(CONCATENATE($AD$39,"_",AC46),選手名簿!$A:$E,5,FALSE))=TRUE,"",VLOOKUP(CONCATENATE($AD$39,"_",AC46),選手名簿!$A:$E,5,FALSE))
E47: 得点者 | F47: =IF(ISERROR(VLOOKUP(CONCATENATE($F$39,"_",G47),選手名簿!$A:$E,5,FALSE))=TRUE,"",VLOOKUP(CONCATENATE($F$39,"_",G47),選手名簿!$A:$E,5,FALSE)) | N47: =IF(ISERROR(VLOOKUP(CONCATENATE($N$39,"_",M47),選手名簿!$A:$E,5,FALSE))=TRUE,"",VLOOKUP(CONCATENATE($N$39,"_",M47),選手名簿!$A:$E,5,FALSE)) | U47: 得点者 | V47: =IF(ISERROR(VLOOKUP(CONCATENATE($V$39,"_",W47),選手名簿!$A:$E,5,FALSE))=TRUE,"",VLOOKUP(CONCATENATE($V$39,"_",W47),選手名簿!$A:$E,5,FALSE)) | AD47: =IF(ISERROR(VLOOKUP(CONCATENATE($AD$39,"_",AC47),選手名簿!$A:$E,5,FALSE))=TRUE,"",VLOOKUP(CONCATENATE($AD$39,"_",AC47),選手名簿!$A:$E,5,FALSE))
E48: 得点者 | F48: =IF(ISERROR(VLOOKUP(CONCATENATE($F$39,"_",G48),選手名簿!$A:$E,5,FALSE))=TRUE,"",VLOOKUP(CONCATENATE($F$39,"_",G48),選手名簿!$A:$E,5,FALSE)) | N48: =IF(ISERROR(VLOOKUP(CONCATENATE($N$39,"_",M48),選手名簿!$A:$E,5,FALSE))=TRUE,"",VLOOKUP(CONCATENATE($N$39,"_",M48),選手名簿!$A:$E,5,FALSE)) | U48: 得点者 | V48: =IF(ISERROR(VLOOKUP(CONCATENATE($V$39,"_",W48),選手名簿!$A:$E,5,FALSE))=TRUE,"",VLOOKUP(CONCATENATE($V$39,"_",W48),選手名簿!$A:$E,5,FALSE)) | AD48: =IF(ISERROR(VLOOKUP(CONCATENATE($AD$39,"_",AC48),選手名簿!$A:$E,5,FALSE))=TRUE,"",VLOOKUP(CONCATENATE($AD$39,"_",AC48),選手名簿!$A:$E,5,FALSE))
E49: 得点者 | F49: =IF(ISERROR(VLOOKUP(CONCATENATE($F$39,"_",G49),選手名簿!$A:$E,5,FALSE))=TRUE,"",VLOOKUP(CONCATENATE($F$39,"_",G49),選手名簿!$A:$E,5,FALSE)) | N49: =IF(ISERROR(VLOOKUP(CONCATENATE($N$39,"_",M49),選手名簿!$A:$E,5,FALSE))=TRUE,"",VLOOKUP(CONCATENATE($N$39,"_",M49),選手名簿!$A:$E,5,FALSE)) | U49: 得点者 | V49: =IF(ISERROR(VLOOKUP(CONCATENATE($V$39,"_",W49),選手名簿!$A:$E,5,FALSE))=TRUE,"",VLOOKUP(CONCATENATE($V$39,"_",W49),選手名簿!$A:$E,5,FALSE)) | AD49: =IF(ISERROR(VLOOKUP(CONCATENATE($AD$39,"_",AC49),選手名簿!$A:$E,5,FALSE))=TRUE,"",VLOOKUP(CONCATENATE($AD$39,"_",AC49),選手名簿!$A:$E,5,FALSE))
E50: 得点者 | F50: =IF(ISERROR(VLOOKUP(CONCATENATE($F$39,"_",G50),選手名簿!$A:$E,5,FALSE))=TRUE,"",VLOOKUP(CONCATENATE($F$39,"_",G50),選手名簿!$A:$E,5,FALSE)) | N50: =IF(ISERROR(VLOOKUP(CONCATENATE($N$39,"_",M50),選手名簿!$A:$E,5,FALSE))=TRUE,"",VLOOKUP(CONCATENATE($N$39,"_",M50),選手名簿!$A:$E,5,FALSE)) | U50: 得点者 | V50: =IF(ISERROR(VLOOKUP(CONCATENATE($V$39,"_",W50),選手名簿!$A:$E,5,FALSE))=TRUE,"",VLOOKUP(CONCATENATE($V$39,"_",W50),選手名簿!$A:$E,5,FALSE)) | AD50: =IF(ISERROR(VLOOKUP(CONCATENATE($AD$39,"_",AC50),選手名簿!$A:$E,5,FALSE))=TRUE,"",VLOOKUP(CONCATENATE($AD$39,"_",AC50),選手名簿!$A:$E,5,FALSE))
E51: 得点者 | F51: =IF(ISERROR(VLOOKUP(CONCATENATE($F$39,"_",G51),選手名簿!$A:$E,5,FALSE))=TRUE,"",VLOOKUP(CONCATENATE($F$39,"_",G51),選手名簿!$A:$E,5,FALSE)) | N51: =IF(ISERROR(VLOOKUP(CONCATENATE($N$39,"_",M51),選手名簿!$A:$E,5,FALSE))=TRUE,"",VLOOKUP(CONCATENATE($N$39,"_",M51),選手名簿!$A:$E,5,FALSE)) | U51: 得点者 | V51: =IF(ISERROR(VLOOKUP(CONCATENATE($V$39,"_",W51),選手名簿!$A:$E,5,FALSE))=TRUE,"",VLOOKUP(CONCATENATE($V$39,"_",W51),選手名簿!$A:$E,5,FALSE)) | AD51: =IF(ISERROR(VLOOKUP(CONCATENATE($AD$39,"_",AC51),選手名簿!$A:$E,5,FALSE))=TRUE,"",VLOOKUP(CONCATENATE($AD$39,"_",AC51),選手名簿!$A:$E,5,FALSE))
E52: 得点者 | F52: =IF(ISERROR(VLOOKUP(CONCATENATE($F$39,"_",G52),選手名簿!$A:$E,5,FALSE))=TRUE,"",VLOOKUP(CONCATENATE($F$39,"_",G52),選手名簿!$A:$E,5,FALSE)) | N52: =IF(ISERROR(VLOOKUP(CONCATENATE($N$39,"_",M52),選手名簿!$A:$E,5,FALSE))=TRUE,"",VLOOKUP(CONCATENATE($N$39,"_",M52),選手名簿!$A:$E,5,FALSE)) | U52: 得点者 | V52: =IF(ISERROR(VLOOKUP(CONCATENATE($V$39,"_",W52),選手名簿!$A:$E,5,FALSE))=TRUE,"",VLOOKUP(CONCATENATE($V$39,"_",W52),選手名簿!$A:$E,5,FALSE)) | AD52: =IF(ISERROR(VLOOKUP(CONCATENATE($AD$39,"_",AC52),選手名簿!$A:$E,5,FALSE))=TRUE,"",VLOOKUP(CONCATENATE($AD$39,"_",AC52),選手名簿!$A:$E,5,FALSE))
A53: 番号 | F53: =IF(ISERROR(VLOOKUP(CONCATENATE($F$39,"_",G53),選手名簿!$A:$E,5,FALSE))=TRUE,"",VLOOKUP(CONCATENATE($F$39,"_",G53),選手名簿!$A:$E,5,FALSE)) | N53: =IF(ISERROR(VLOOKUP(CONCATENATE($N$39,"_",M53),選手名簿!$A:$E,5,FALSE))=TRUE,"",VLOOKUP(CONCATENATE($N$39,"_",M53),選手名簿!$A:$E,5,FALSE)) | Q53: 番号 | V53: =IF(ISERROR(VLOOKUP(CONCATENATE($V$39,"_",W53),選手名簿!$A:$E,5,FALSE))=TRUE,"",VLOOKUP(CONCATENATE($V$39,"_",W53),選手名簿!$A:$E,5,FALSE)) | AD53: =IF(ISERROR(VLOOKUP(CONCATENATE($AD$39,"_",AC53),選手名簿!$A:$E,5,FALSE))=TRUE,"",VLOOKUP(CONCATENATE($AD$39,"_",AC53),選手名簿!$A:$E,5,FALSE))
A54: R | B54: =IF(ISERROR(VLOOKUP(B53,審判員!$A:$C,2,FALSE))=TRUE,"",VLOOKUP(B53,審判員!$A:$C,2,FALSE)) | D54: =IF(ISERROR(VLOOKUP(B53,審判員!$A:$C,3,FALSE))=TRUE,"",VLOOKUP(B53,審判員!$A:$C,3,FALSE)) | F54: =IF(ISERROR(VLOOKUP(CONCATENATE($F$39,"_",G54),選手名簿!$A:$E,5,FALSE))=TRUE,"",VLOOKUP(CONCATENATE($F$39,"_",G54),選手名簿!$A:$E,5,FALSE)) | N54: =IF(ISERROR(VLOOKUP(CONCATENATE($N$39,"_",M54),選手名簿!$A:$E,5,FALSE))=TRUE,"",VLOOKUP(CONCATENATE($N$39,"_",M54),選手名簿!$A:$E,5,FALSE)) | Q54: R | R54: =IF(ISERROR(VLOOKUP(R53,審判員!$A:$C,2,FALSE))=TRUE,"",VLOOKUP(R53,審判員!$A:$C,2,FALSE)) | T54: =IF(ISERROR(VLOOKUP(R53,審判員!$A:$C,3,FALSE))=TRUE,"",VLOOKUP(R53,審判員!$A:$C,3,FALSE)) | V54: =IF(ISERROR(VLOOKUP(CONCATENATE($V$39,"_",W54),選手名簿!$A:$E,5,FALSE))=TRUE,"",VLOOKUP(CONCATENATE($V$39,"_",W54),選手名簿!$A:$E,5,FALSE)) | AD54: =IF(ISERROR(VLOOKUP(CONCATENATE($AD$39,"_",AC54),選手名簿!$A:$E,5,FALSE))=TRUE,"",VLOOKUP(CONCATENATE($AD$39,"_",AC54),選手名簿!$A:$E,5,FALSE))
A55: 番号 | F55: =IF(ISERROR(VLOOKUP(CONCATENATE($F$39,"_",G55),選手名簿!$A:$E,5,FALSE))=TRUE,"",VLOOKUP(CONCATENATE($F$39,"_",G55),選手名簿!$A:$E,5,FALSE)) | N55: =IF(ISERROR(VLOOKUP(CONCATENATE($N$39,"_",M55),選手名簿!$A:$E,5,FALSE))=TRUE,"",VLOOKUP(CONCATENATE($N$39,"_",M55),選手名簿!$A:$E,5,FALSE)) | Q55: 番号 | V55: =IF(ISERROR(VLOOKUP(CONCATENATE($V$39,"_",W55),選手名簿!$A:$E,5,FALSE))=TRUE,"",VLOOKUP(CONCATENATE($V$39,"_",W55),選手名簿!$A:$E,5,FALSE)) | AD55: =IF(ISERROR(VLOOKUP(CONCATENATE($AD$39,"_",AC55),選手名簿!$A:$E,5,FALSE))=TRUE,"",VLOOKUP(CONCATENATE($AD$39,"_",AC55),選手名簿!$A:$E,5,FALSE))
A56: AR1: | B56: =IF(ISERROR(VLOOKUP(B55,審判員!$A:$C,2,FALSE))=TRUE,"",VLOOKUP(B55,審判員!$A:$C,2,FALSE)) | D56: =IF(ISERROR(VLOOKUP(B55,審判員!$A:$C,3,FALSE))=TRUE,"",VLOOKUP(B55,審判員!$A:$C,3,FALSE)) | F56: =IF(ISERROR(VLOOKUP(CONCATENATE($F$39,"_",G56),選手名簿!$A:$E,5,FALSE))=TRUE,"",VLOOKUP(CONCATENATE($F$39,"_",G56),選手名簿!$A:$E,5,FALSE)) | N56: =IF(ISERROR(VLOOKUP(CONCATENATE($N$39,"_",M56),選手名簿!$A:$E,5,FALSE))=TRUE,"",VLOOKUP(CONCATENATE($N$39,"_",M56),選手名簿!$A:$E,5,FALSE)) | Q56: AR1: | R56: =IF(ISERROR(VLOOKUP(R55,審判員!$A:$C,2,FALSE))=TRUE,"",VLOOKUP(R55,審判員!$A:$C,2,FALSE)) | T56: =IF(ISERROR(VLOOKUP(R55,審判員!$A:$C,3,FALSE))=TRUE,"",VLOOKUP(R55,審判員!$A:$C,3,FALSE)) | V56: =IF(ISERROR(VLOOKUP(CONCATENATE($V$39,"_",W56),選手名簿!$A:$E,5,FALSE))=TRUE,"",VLOOKUP(CONCATENATE($V$39,"_",W56),選手名簿!$A:$E,5,FALSE)) | AD56: =IF(ISERROR(VLOOKUP(CONCATENATE($AD$39,"_",AC56),選手名簿!$A:$E,5,FALSE))=TRUE,"",VLOOKUP(CONCATENATE($AD$39,"_",AC56),選手名簿!$A:$E,5,FALSE))
A57: 番号 | F57: =IF(ISERROR(VLOOKUP(CONCATENATE($F$39,"_",G57),選手名簿!$A:$E,5,FALSE))=TRUE,"",VLOOKUP(CONCATENATE($F$39,"_",G57),選手名簿!$A:$E,5,FALSE)) | N57: =IF(ISERROR(VLOOKUP(CONCATENATE($N$39,"_",M57),選手名簿!$A:$E,5,FALSE))=TRUE,"",VLOOKUP(CONCATENATE($N$39,"_",M57),選手名簿!$A:$E,5,FALSE)) | Q57: 番号 | V57: =IF(ISERROR(VLOOKUP(CONCATENATE($V$39,"_",W57),選手名簿!$A:$E,5,FALSE))=TRUE,"",VLOOKUP(CONCATENATE($V$39,"_",W57),選手名簿!$A:$E,5,FALSE)) | AD57: =IF(ISERROR(VLOOKUP(CONCATENATE($AD$39,"_",AC57),選手名簿!$A:$E,5,FALSE))=TRUE,"",VLOOKUP(CONCATENATE($AD$39,"_",AC57),選手名簿!$A:$E,5,FALSE))
A58: AR2: | B58: =IF(ISERROR(VLOOKUP(B57,審判員!$A:$C,2,FALSE))=TRUE,"",VLOOKUP(B57,審判員!$A:$C,2,FALSE)) | D58: =IF(ISERROR(VLOOKUP(B57,審判員!$A:$C,3,FALSE))=TRUE,"",VLOOKUP(B57,審判員!$A:$C,3,FALSE)) | F58: =IF(ISERROR(VLOOKUP(CONCATENATE($F$39,"_",G58),選手名簿!$A:$E,5,FALSE))=TRUE,"",VLOOKUP(CONCATENATE($F$39,"_",G58),選手名簿!$A:$E,5,FALSE)) | N58: =IF(ISERROR(VLOOKUP(CONCATENATE($N$39,"_",M58),選手名簿!$A:$E,5,FALSE))=TRUE,"",VLOOKUP(CONCATENATE($N$39,"_",M58),選手名簿!$A:$E,5,FALSE)) | Q58: AR2: | R58: =IF(ISERROR(VLOOKUP(R57,審判員!$A:$C,2,FALSE))=TRUE,"",VLOOKUP(R57,審判員!$A:$C,2,FALSE)) | T58: =IF(ISERROR(VLOOKUP(R57,審判員!$A:$C,3,FALSE))=TRUE,"",VLOOKUP(R57,審判員!$A:$C,3,FALSE)) | V58: =IF(ISERROR(VLOOKUP(CONCATENATE($V$39,"_",W58),選手名簿!$A:$E,5,FALSE))=TRUE,"",VLOOKUP(CONCATENATE($V$39,"_",W58),選手名簿!$A:$E,5,FALSE)) | AD58: =IF(ISERROR(VLOOKUP(CONCATENATE($AD$39,"_",AC58),選手名簿!$A:$E,5,FALSE))=TRUE,"",VLOOKUP(CONCATENATE($AD$39,"_",AC58),選手名簿!$A:$E,5,FALSE))
A59: 番号 | F59: =IF(ISERROR(VLOOKUP(CONCATENATE($F$39,"_",G59),選手名簿!$A:$E,5,FALSE))=TRUE,"",VLOOKUP(CONCATENATE($F$39,"_",G59),選手名簿!$A:$E,5,FALSE)) | N59: =IF(ISERROR(VLOOKUP(CONCATENATE($N$39,"_",M59),選手名簿!$A:$E,5,FALSE))=TRUE,"",VLOOKUP(CONCATENATE($N$39,"_",M59),選手名簿!$A:$E,5,FALSE)) | Q59: 番号 | V59: =IF(ISERROR(VLOOKUP(CONCATENATE($V$39,"_",W59),選手名簿!$A:$E,5,FALSE))=TRUE,"",VLOOKUP(CONCATENATE($V$39,"_",W59),選手名簿!$A:$E,5,FALSE)) | AD59: =IF(ISERROR(VLOOKUP(CONCATENATE($AD$39,"_",AC59),選手名簿!$A:$E,5,FALSE))=TRUE,"",VLOOKUP(CONCATENATE($AD$39,"_",AC59),選手名簿!$A:$E,5,FALSE))
A60: 4th: | B60: =IF(ISERROR(VLOOKUP(B59,審判員!$A:$C,2,FALSE))=TRUE,"",VLOOKUP(B59,審判員!$A:$C,2,FALSE)) | D60: =IF(ISERROR(VLOOKUP(B59,審判員!$A:$C,3,FALSE))=TRUE,"",VLOOKUP(B59,審判員!$A:$C,3,FALSE)) | F60: =IF(ISERROR(VLOOKUP(CONCATENATE($F$39,"_",G60),選手名簿!$A:$E,5,FALSE))=TRUE,"",VLOOKUP(CONCATENATE($F$39,"_",G60),選手名簿!$A:$E,5,FALSE)) | N60: =IF(ISERROR(VLOOKUP(CONCATENATE($N$39,"_",M60),選手名簿!$A:$E,5,FALSE))=TRUE,"",VLOOKUP(CONCATENATE($N$39,"_",M60),選手名簿!$A:$E,5,FALSE)) | Q60: 4th: | R60: =IF(ISERROR(VLOOKUP(R59,審判員!$A:$C,2,FALSE))=TRUE,"",VLOOKUP(R59,審判員!$A:$C,2,FALSE)) | T60: =IF(ISERROR(VLOOKUP(R59,審判員!$A:$C,3,FALSE))=TRUE,"",VLOOKUP(R59,審判員!$A:$C,3,FALSE)) | V60: =IF(ISERROR(VLOOKUP(CONCATENATE($V$39,"_",W60),選手名簿!$A:$E,5,FALSE))=TRUE,"",VLOOKUP(CONCATENATE($V$39,"_",W60),選手名簿!$A:$E,5,FALSE)) | AD60: =IF(ISERROR(VLOOKUP(CONCATENATE($AD$39,"_",AC60),選手名簿!$A:$E,5,FALSE))=TRUE,"",VLOOKUP(CONCATENATE($AD$39,"_",AC60),選手名簿!$A:$E,5,FALSE))
A68: MC | E68: =予選リーグ!B29 -> 0.59027778 | F68: =F7 -> 0 | G68: =IF(I68="","",SUM(I68:I69)) | H68: （ | J68: 前半 | L68: ） | M68: =IF(K68="","",SUM(K68:K69)) | N68: =F5 -> 0 | Q68: MC | U68: =予選リーグ!B31 -> 0.625 | V68: =V7 -> 0 | W68: =IF(Y68="","",SUM(Y68:Y69)) | X68: （ | Z68: 前半 | AB68: ） | AC68: =IF(AA68="","",SUM(AA68:AA69)) | AD68: =V5 -> 0
A69: Welfare Officer | J69: 後半 | Q69: Welfare Officer | Z69: 後半
A70: 記録 | J70: PK | Q70: 記録 | Z70: PK
A71: ＜Referee＞ | E71: 警告/退場 選択肢より | F71: 氏名 | G71: 番号 | H71: 分 | I71: 内容 選択肢より | K71: 内容 選択肢より | L71: 分 | M71: 番号 | N71: 氏名 | O71: 警告/退場 選択肢より | Q71: ＜Referee＞ | U71: 警告/退場 選択肢より | V71: 氏名 | W71: 番号 | X71: 分 | Y71: 内容 選択肢より | AA71: 内容 選択肢より | AB71: 分 | AC71: 番号 | AD71: 氏名 | AE71: 警告/退場 選択肢より
E72: 得点者 | F72: =IF(ISERROR(VLOOKUP(CONCATENATE($F$68,"_",G72),選手名簿!$A:$E,5,FALSE))=TRUE,"",VLOOKUP(CONCATENATE($F$68,"_",G72),選手名簿!$A:$E,5,FALSE)) | N72: =IF(ISERROR(VLOOKUP(CONCATENATE($N$68,"_",M72),選手名簿!$A:$E,5,FALSE))=TRUE,"",VLOOKUP(CONCATENATE($N$68,"_",M72),選手名簿!$A:$E,5,FALSE)) | U72: 得点者 | V72: =IF(ISERROR(VLOOKUP(CONCATENATE($V$68,"_",W72),選手名簿!$A:$E,5,FALSE))=TRUE,"",VLOOKUP(CONCATENATE($V$68,"_",W72),選手名簿!$A:$E,5,FALSE)) | AD72: =IF(ISERROR(VLOOKUP(CONCATENATE($AD$68,"_",AC72),選手名簿!$A:$E,5,FALSE))=TRUE,"",VLOOKUP(CONCATENATE($AD$68,"_",AC72),選手名簿!$A:$E,5,FALSE))
E73: 得点者 | F73: =IF(ISERROR(VLOOKUP(CONCATENATE($F$68,"_",G73),選手名簿!$A:$E,5,FALSE))=TRUE,"",VLOOKUP(CONCATENATE($F$68,"_",G73),選手名簿!$A:$E,5,FALSE)) | N73: =IF(ISERROR(VLOOKUP(CONCATENATE($N$68,"_",M73),選手名簿!$A:$E,5,FALSE))=TRUE,"",VLOOKUP(CONCATENATE($N$68,"_",M73),選手名簿!$A:$E,5,FALSE)) | U73: 得点者 | V73: =IF(ISERROR(VLOOKUP(CONCATENATE($V$68,"_",W73),選手名簿!$A:$E,5,FALSE))=TRUE,"",VLOOKUP(CONCATENATE($V$68,"_",W73),選手名簿!$A:$E,5,FALSE)) | AD73: =IF(ISERROR(VLOOKUP(CONCATENATE($AD$68,"_",AC73),選手名簿!$A:$E,5,FALSE))=TRUE,"",VLOOKUP(CONCATENATE($AD$68,"_",AC73),選手名簿!$A:$E,5,FALSE))
E74: 得点者 | F74: =IF(ISERROR(VLOOKUP(CONCATENATE($F$68,"_",G74),選手名簿!$A:$E,5,FALSE))=TRUE,"",VLOOKUP(CONCATENATE($F$68,"_",G74),選手名簿!$A:$E,5,FALSE)) | N74: =IF(ISERROR(VLOOKUP(CONCATENATE($N$68,"_",M74),選手名簿!$A:$E,5,FALSE))=TRUE,"",VLOOKUP(CONCATENATE($N$68,"_",M74),選手名簿!$A:$E,5,FALSE)) | U74: 得点者 | V74: =IF(ISERROR(VLOOKUP(CONCATENATE($V$68,"_",W74),選手名簿!$A:$E,5,FALSE))=TRUE,"",VLOOKUP(CONCATENATE($V$68,"_",W74),選手名簿!$A:$E,5,FALSE)) | AD74: =IF(ISERROR(VLOOKUP(CONCATENATE($AD$68,"_",AC74),選手名簿!$A:$E,5,FALSE))=TRUE,"",VLOOKUP(CONCATENATE($AD$68,"_",AC74),選手名簿!$A:$E,5,FALSE))
E75: 得点者 | F75: =IF(ISERROR(VLOOKUP(CONCATENATE($F$68,"_",G75),選手名簿!$A:$E,5,FALSE))=TRUE,"",VLOOKUP(CONCATENATE($F$68,"_",G75),選手名簿!$A:$E,5,FALSE)) | N75: =IF(ISERROR(VLOOKUP(CONCATENATE($N$68,"_",M75),選手名簿!$A:$E,5,FALSE))=TRUE,"",VLOOKUP(CONCATENATE($N$68,"_",M75),選手名簿!$A:$E,5,FALSE)) | U75: 得点者 | V75: =IF(ISERROR(VLOOKUP(CONCATENATE($V$68,"_",W75),選手名簿!$A:$E,5,FALSE))=TRUE,"",VLOOKUP(CONCATENATE($V$68,"_",W75),選手名簿!$A:$E,5,FALSE)) | AD75: =IF(ISERROR(VLOOKUP(CONCATENATE($AD$68,"_",AC75),選手名簿!$A:$E,5,FALSE))=TRUE,"",VLOOKUP(CONCATENATE($AD$68,"_",AC75),選手名簿!$A:$E,5,FALSE))
E76: 得点者 | F76: =IF(ISERROR(VLOOKUP(CONCATENATE($F$68,"_",G76),選手名簿!$A:$E,5,FALSE))=TRUE,"",VLOOKUP(CONCATENATE($F$68,"_",G76),選手名簿!$A:$E,5,FALSE)) | N76: =IF(ISERROR(VLOOKUP(CONCATENATE($N$68,"_",M76),選手名簿!$A:$E,5,FALSE))=TRUE,"",VLOOKUP(CONCATENATE($N$68,"_",M76),選手名簿!$A:$E,5,FALSE)) | U76: 得点者 | V76: =IF(ISERROR(VLOOKUP(CONCATENATE($V$68,"_",W76),選手名簿!$A:$E,5,FALSE))=TRUE,"",VLOOKUP(CONCATENATE($V$68,"_",W76),選手名簿!$A:$E,5,FALSE)) | AD76: =IF(ISERROR(VLOOKUP(CONCATENATE($AD$68,"_",AC76),選手名簿!$A:$E,5,FALSE))=TRUE,"",VLOOKUP(CONCATENATE($AD$68,"_",AC76),選手名簿!$A:$E,5,FALSE))
E77: 得点者 | F77: =IF(ISERROR(VLOOKUP(CONCATENATE($F$68,"_",G77),選手名簿!$A:$E,5,FALSE))=TRUE,"",VLOOKUP(CONCATENATE($F$68,"_",G77),選手名簿!$A:$E,5,FALSE)) | N77: =IF(ISERROR(VLOOKUP(CONCATENATE($N$68,"_",M77),選手名簿!$A:$E,5,FALSE))=TRUE,"",VLOOKUP(CONCATENATE($N$68,"_",M77),選手名簿!$A:$E,5,FALSE)) | U77: 得点者 | V77: =IF(ISERROR(VLOOKUP(CONCATENATE($V$68,"_",W77),選手名簿!$A:$E,5,FALSE))=TRUE,"",VLOOKUP(CONCATENATE($V$68,"_",W77),選手名簿!$A:$E,5,FALSE)) | AD77: =IF(ISERROR(VLOOKUP(CONCATENATE($AD$68,"_",AC77),選手名簿!$A:$E,5,FALSE))=TRUE,"",VLOOKUP(CONCATENATE($AD$68,"_",AC77),選手名簿!$A:$E,5,FALSE))
E78: 得点者 | F78: =IF(ISERROR(VLOOKUP(CONCATENATE($F$68,"_",G78),選手名簿!$A:$E,5,FALSE))=TRUE,"",VLOOKUP(CONCATENATE($F$68,"_",G78),選手名簿!$A:$E,5,FALSE)) | N78: =IF(ISERROR(VLOOKUP(CONCATENATE($N$68,"_",M78),選手名簿!$A:$E,5,FALSE))=TRUE,"",VLOOKUP(CONCATENATE($N$68,"_",M78),選手名簿!$A:$E,5,FALSE)) | U78: 得点者 | V78: =IF(ISERROR(VLOOKUP(CONCATENATE($V$68,"_",W78),選手名簿!$A:$E,5,FALSE))=TRUE,"",VLOOKUP(CONCATENATE($V$68,"_",W78),選手名簿!$A:$E,5,FALSE)) | AD78: =IF(ISERROR(VLOOKUP(CONCATENATE($AD$68,"_",AC78),選手名簿!$A:$E,5,FALSE))=TRUE,"",VLOOKUP(CONCATENATE($AD$68,"_",AC78),選手名簿!$A:$E,5,FALSE))
E79: 得点者 | F79: =IF(ISERROR(VLOOKUP(CONCATENATE($F$68,"_",G79),選手名簿!$A:$E,5,FALSE))=TRUE,"",VLOOKUP(CONCATENATE($F$68,"_",G79),選手名簿!$A:$E,5,FALSE)) | N79: =IF(ISERROR(VLOOKUP(CONCATENATE($N$68,"_",M79),選手名簿!$A:$E,5,FALSE))=TRUE,"",VLOOKUP(CONCATENATE($N$68,"_",M79),選手名簿!$A:$E,5,FALSE)) | U79: 得点者 | V79: =IF(ISERROR(VLOOKUP(CONCATENATE($V$68,"_",W79),選手名簿!$A:$E,5,FALSE))=TRUE,"",VLOOKUP(CONCATENATE($V$68,"_",W79),選手名簿!$A:$E,5,FALSE)) | AD79: =IF(ISERROR(VLOOKUP(CONCATENATE($AD$68,"_",AC79),選手名簿!$A:$E,5,FALSE))=TRUE,"",VLOOKUP(CONCATENATE($AD$68,"_",AC79),選手名簿!$A:$E,5,FALSE))
E80: 得点者 | F80: =IF(ISERROR(VLOOKUP(CONCATENATE($F$68,"_",G80),選手名簿!$A:$E,5,FALSE))=TRUE,"",VLOOKUP(CONCATENATE($F$68,"_",G80),選手名簿!$A:$E,5,FALSE)) | N80: =IF(ISERROR(VLOOKUP(CONCATENATE($N$68,"_",M80),選手名簿!$A:$E,5,FALSE))=TRUE,"",VLOOKUP(CONCATENATE($N$68,"_",M80),選手名簿!$A:$E,5,FALSE)) | U80: 得点者 | V80: =IF(ISERROR(VLOOKUP(CONCATENATE($V$68,"_",W80),選手名簿!$A:$E,5,FALSE))=TRUE,"",VLOOKUP(CONCATENATE($V$68,"_",W80),選手名簿!$A:$E,5,FALSE)) | AD80: =IF(ISERROR(VLOOKUP(CONCATENATE($AD$68,"_",AC80),選手名簿!$A:$E,5,FALSE))=TRUE,"",VLOOKUP(CONCATENATE($AD$68,"_",AC80),選手名簿!$A:$E,5,FALSE))
E81: 得点者 | F81: =IF(ISERROR(VLOOKUP(CONCATENATE($F$68,"_",G81),選手名簿!$A:$E,5,FALSE))=TRUE,"",VLOOKUP(CONCATENATE($F$68,"_",G81),選手名簿!$A:$E,5,FALSE)) | N81: =IF(ISERROR(VLOOKUP(CONCATENATE($N$68,"_",M81),選手名簿!$A:$E,5,FALSE))=TRUE,"",VLOOKUP(CONCATENATE($N$68,"_",M81),選手名簿!$A:$E,5,FALSE)) | U81: 得点者 | V81: =IF(ISERROR(VLOOKUP(CONCATENATE($V$68,"_",W81),選手名簿!$A:$E,5,FALSE))=TRUE,"",VLOOKUP(CONCATENATE($V$68,"_",W81),選手名簿!$A:$E,5,FALSE)) | AD81: =IF(ISERROR(VLOOKUP(CONCATENATE($AD$68,"_",AC81),選手名簿!$A:$E,5,FALSE))=TRUE,"",VLOOKUP(CONCATENATE($AD$68,"_",AC81),選手名簿!$A:$E,5,FALSE))
A82: 番号 | E82: 警告 | F82: =IF(ISERROR(VLOOKUP(CONCATENATE($F$68,"_",G82),選手名簿!$A:$E,5,FALSE))=TRUE,"",VLOOKUP(CONCATENATE($F$68,"_",G82),選手名簿!$A:$E,5,FALSE)) | G82: 8 | H82: 10 | I82: 反スポ | N82: =IF(ISERROR(VLOOKUP(CONCATENATE($N$68,"_",M82),選手名簿!$A:$E,5,FALSE))=TRUE,"",VLOOKUP(CONCATENATE($N$68,"_",M82),選手名簿!$A:$E,5,FALSE)) | Q82: 番号 | V82: =IF(ISERROR(VLOOKUP(CONCATENATE($V$68,"_",W82),選手名簿!$A:$E,5,FALSE))=TRUE,"",VLOOKUP(CONCATENATE($V$68,"_",W82),選手名簿!$A:$E,5,FALSE)) | AD82: =IF(ISERROR(VLOOKUP(CONCATENATE($AD$68,"_",AC82),選手名簿!$A:$E,5,FALSE))=TRUE,"",VLOOKUP(CONCATENATE($AD$68,"_",AC82),選手名簿!$A:$E,5,FALSE))
A83: R | B83: =IF(ISERROR(VLOOKUP(B82,審判員!$A:$C,2,FALSE))=TRUE,"",VLOOKUP(B82,審判員!$A:$C,2,FALSE)) | D83: =IF(ISERROR(VLOOKUP(B82,審判員!$A:$C,3,FALSE))=TRUE,"",VLOOKUP(B82,審判員!$A:$C,3,FALSE)) | F83: =IF(ISERROR(VLOOKUP(CONCATENATE($F$68,"_",G83),選手名簿!$A:$E,5,FALSE))=TRUE,"",VLOOKUP(CONCATENATE($F$68,"_",G83),選手名簿!$A:$E,5,FALSE)) | N83: =IF(ISERROR(VLOOKUP(CONCATENATE($N$68,"_",M83),選手名簿!$A:$E,5,FALSE))=TRUE,"",VLOOKUP(CONCATENATE($N$68,"_",M83),選手名簿!$A:$E,5,FALSE)) | Q83: R | R83: =IF(ISERROR(VLOOKUP(R82,審判員!$A:$C,2,FALSE))=TRUE,"",VLOOKUP(R82,審判員!$A:$C,2,FALSE)) | T83: =IF(ISERROR(VLOOKUP(R82,審判員!$A:$C,3,FALSE))=TRUE,"",VLOOKUP(R82,審判員!$A:$C,3,FALSE)) | V83: =IF(ISERROR(VLOOKUP(CONCATENATE($V$68,"_",W83),選手名簿!$A:$E,5,FALSE))=TRUE,"",VLOOKUP(CONCATENATE($V$68,"_",W83),選手名簿!$A:$E,5,FALSE)) | AD83: =IF(ISERROR(VLOOKUP(CONCATENATE($AD$68,"_",AC83),選手名簿!$A:$E,5,FALSE))=TRUE,"",VLOOKUP(CONCATENATE($AD$68,"_",AC83),選手名簿!$A:$E,5,FALSE))
A84: 番号 | F84: =IF(ISERROR(VLOOKUP(CONCATENATE($F$68,"_",G84),選手名簿!$A:$E,5,FALSE))=TRUE,"",VLOOKUP(CONCATENATE($F$68,"_",G84),選手名簿!$A:$E,5,FALSE)) | N84: =IF(ISERROR(VLOOKUP(CONCATENATE($N$68,"_",M84),選手名簿!$A:$E,5,FALSE))=TRUE,"",VLOOKUP(CONCATENATE($N$68,"_",M84),選手名簿!$A:$E,5,FALSE)) | Q84: 番号 | V84: =IF(ISERROR(VLOOKUP(CONCATENATE($V$68,"_",W84),選手名簿!$A:$E,5,FALSE))=TRUE,"",VLOOKUP(CONCATENATE($V$68,"_",W84),選手名簿!$A:$E,5,FALSE)) | AD84: =IF(ISERROR(VLOOKUP(CONCATENATE($AD$68,"_",AC84),選手名簿!$A:$E,5,FALSE))=TRUE,"",VLOOKUP(CONCATENATE($AD$68,"_",AC84),選手名簿!$A:$E,5,FALSE))
A85: AR1: | B85: =IF(ISERROR(VLOOKUP(B84,審判員!$A:$C,2,FALSE))=TRUE,"",VLOOKUP(B84,審判員!$A:$C,2,FALSE)) | D85: =IF(ISERROR(VLOOKUP(B84,審判員!$A:$C,3,FALSE))=TRUE,"",VLOOKUP(B84,審判員!$A:$C,3,FALSE)) | F85: =IF(ISERROR(VLOOKUP(CONCATENATE($F$68,"_",G85),選手名簿!$A:$E,5,FALSE))=TRUE,"",VLOOKUP(CONCATENATE($F$68,"_",G85),選手名簿!$A:$E,5,FALSE)) | N85: =IF(ISERROR(VLOOKUP(CONCATENATE($N$68,"_",M85),選手名簿!$A:$E,5,FALSE))=TRUE,"",VLOOKUP(CONCATENATE($N$68,"_",M85),選手名簿!$A:$E,5,FALSE)) | Q85: AR1: | R85: =IF(ISERROR(VLOOKUP(R84,審判員!$A:$C,2,FALSE))=TRUE,"",VLOOKUP(R84,審判員!$A:$C,2,FALSE)) | T85: =IF(ISERROR(VLOOKUP(R84,審判員!$A:$C,3,FALSE))=TRUE,"",VLOOKUP(R84,審判員!$A:$C,3,FALSE)) | V85: =IF(ISERROR(VLOOKUP(CONCATENATE($V$68,"_",W85),選手名簿!$A:$E,5,FALSE))=TRUE,"",VLOOKUP(CONCATENATE($V$68,"_",W85),選手名簿!$A:$E,5,FALSE)) | AD85: =IF(ISERROR(VLOOKUP(CONCATENATE($AD$68,"_",AC85),選手名簿!$A:$E,5,FALSE))=TRUE,"",VLOOKUP(CONCATENATE($AD$68,"_",AC85),選手名簿!$A:$E,5,FALSE))
A86: 番号 | F86: =IF(ISERROR(VLOOKUP(CONCATENATE($F$68,"_",G86),選手名簿!$A:$E,5,FALSE))=TRUE,"",VLOOKUP(CONCATENATE($F$68,"_",G86),選手名簿!$A:$E,5,FALSE)) | N86: =IF(ISERROR(VLOOKUP(CONCATENATE($N$68,"_",M86),選手名簿!$A:$E,5,FALSE))=TRUE,"",VLOOKUP(CONCATENATE($N$68,"_",M86),選手名簿!$A:$E,5,FALSE)) | Q86: 番号 | V86: =IF(ISERROR(VLOOKUP(CONCATENATE($V$68,"_",W86),選手名簿!$A:$E,5,FALSE))=TRUE,"",VLOOKUP(CONCATENATE($V$68,"_",W86),選手名簿!$A:$E,5,FALSE)) | AD86: =IF(ISERROR(VLOOKUP(CONCATENATE($AD$68,"_",AC86),選手名簿!$A:$E,5,FALSE))=TRUE,"",VLOOKUP(CONCATENATE($AD$68,"_",AC86),選手名簿!$A:$E,5,FALSE))
