{"text_format":"1","workbook":"xlsx","n_sheets":24,"sheets":["抽選会資料","参加者名簿記入用紙","参加者名簿記入用紙 (例)","MCM資料","抽選方法","組み合わせ","全日程スケジュール","累積警告・退場","決勝【Match No,51】","準決勝②【Match No,50】","準決勝①【Match No,49】","2021年度優秀選手","２次リーグ組み合わせ・結果","１次リーグ組み合わせ・結果","２次リーグ（佐伯）","２次リーグ（大分）","１次リーグ（速杵国東）","１次リーグ（日田・玖珠）","１次リーグ（別府）","１次リーグ（豊肥）","１次リーグ（津久見・臼杵）","１次リーグ（中津）","選手名簿","審判員"],"not_rendered":{"charts":0,"images":2,"macros":1,"external_links":0,"defined_names":21,"comments":0,"pivot_tables":0},"unopened":[],"bounds":{"document_bytes":16777216,"sheet_cells":100000,"rows_first":2000,"rows_last":500,"rows_between":2000,"halvings":0,"cell_chars":16384,"cell_head_chars":4096},"cells_cut":0,"cells_raw":0,"read":"whole","date_system":"1900"}

{"sheet":"抽選会資料","index":0,"n_rows":60,"n_cols":13,"rows_kept":60,"cut":false,"hidden":false,"merged":[[56,2,56,7],[58,2,58,7],[59,2,59,7],[51,8,51,12],[52,8,52,12],[53,8,53,12],[54,8,54,12],[55,8,55,12],[56,8,56,12],[58,8,58,12],[59,8,59,12],[51,2,51,7],[52,2,52,7],[53,2,53,7],[54,2,54,7],[55,2,55,7],[60,2,60,7],[60,8,60,12],[0,10,0,11],[9,6,9,7],[0,1,0,9],[23,8,24,8],[10,1,26,1],[14,8,16,8],[10,8,13,8],[25,8,26,8],[17,8,19,8],[20,8,22,8],[57,2,57,7],[57,8,57,12],[50,2,50,7],[50,8,50,12]]}
[null,"OFA 第 53 回大分県U-12サッカー大会　兼　KYFA 九州U-12サッカー大会大分県大会",null,null,null,null,null,null,null,null,"抽選会"]
[]
["１．日時　　2022年1月16日(日) 午後6時00分（18:00）～"]
[]
["２．場所　　大分市　昭和電工ドーム大分　地下会議室 406"]
[]
["３．参加チーム",null,36,"チーム"]
[]
[null,"Aブロック(フリー)",null,null,null,null,null,null,"Bブロック(奇数)"]
["抽選順","地区","チーム名","申込","参加料","抽選会","抽選順",null,"地区","チーム名","申込","参加料","抽選会"]
[20,"大分","ＫＩＮＧＳ　ＦＯＯＴＢＡＬＬＣＬＵＢ　Ｕ－１２","○","○","○",null,3,"中津","ＦＣ中津ジュニア","○","○","○"]
[21,null,"判田サッカースポーツ少年団","○","○","○",null,4,null,"はやぶさフットボールクラブ","○","○","○"]
[22,null,"豊府サッカースポーツ少年団","○","○","○",null,15,null,"鶴居ＳＳＳ","○","○","○"]
[23,null,"Ｍ．Ｓ．Ｓ","○","○","○",null,16,null,"ＦＣ　ＪＵＮＩＯＲＳ","○","○","○"]
[24,null,"カティオーラフットボールクラブＵ－１２","○","○","○",null,5,"速杵国東","ＯＫＹ山香サッカークラブ","○","○","○"]
[25,null,"カティオーラフットボールクラブＵ－１２　松岡","○","○","○",null,6,null,"八坂少年サッカークラブ","○","○","○"]
[26,null,"宗方サッカークラブ","○","○","○",null,17,null,"スマイス日出","○","○","○"]
[27,null,"明治北ＳＳＣ","○","○","○",null,7,"日田・玖珠","ＦＣアリアーレ","○","○","○"]
[28,null,"大道サッカースポーツ少年団","○","○","○",null,8,null,"太陽スポーツクラブ大分西","○","○","○"]
[29,null,"北郡坂ノ市サッカースポーツ少年団","○","○","○",null,18,null,"玖珠サッカースポーツ少年団","○","○","○"]
[30,null,"リノスフットボールクラブ　Ｕ－１２","○","○","○",null,9,"別府","スマイス・セレソン","○","○","○"]
[31,null,"西の台ＪＦＣ","○","○","○",null,10,null,"別府フットボールクラブ．ミネルバＵ－１２","○","○","○"]
[32,null,"大分トリニータＵ－１２","○","○","○",null,19,null,"スマイス・セレソンＢ","○","○","○"]
[33,null,"明野東サッカースポーツ少年団","○","○","○",null,13,"宇佐高田","四日市南ＳＳＣ","○","○","○"]
[34,null,"ドリームキッズフットボールクラブ","○","○","○",null,14,null,"ＦＣ　ＵＮＩＴＥ","○","○","○"]
[35,null,"スマイス　セレソン　スポーツクラブ","○","○","○",null,1,"佐伯","鶴岡Ｓ―ｐｌａｙ・ＭＩＮＡＭＩ","○","○","○"]
[36,null,"ブルーウイングフットボールクラブ","○","○","○",null,2,null,"鶴見少年サッカークラブ","○","○","○"]
[null,null,null,null,null,null,null,11,"豊肥","ＦＣ大野","○","○","○"]
[null,null,null,null,null,null,null,12,"臼杵・津久見","千怒サッカースポーツ少年団","○","○","○"]
[]
[]
["４．会議次第"]
["　　①ジュニア委員長あいさつ"]
["　　②要項の確認、質問、諸注意"]
["　　③審判部より"]
["　　　・1次リーグ/2次リーグは、帯同審判員（大分県協会所属の3級以上）を帯同する事。"]
["　　　　（各チームにて責任を持って準備しておく事。）"]
["　　④抽選"]
[]
["５．その他"]
["　　①大会期間中は、常に選手証及び、指導者資格証、審判資格証を携帯し、必要に応じて提示すること。"]
["　　　指導者資格証、審判資格証を有していない、ベンチ入り予定の指導者については、顔写真の確認出来る証明書(免許証等)を携帯しておく事。"]
["　　②領収証は、｢振込みの際の領収証」にかえさせていただきます。"]
["　　③「駐車証」を」車内に表示すること。"]
["　　④各会場にて、各パートの第1試合開始70分前に、各パートのマッチコーディネーションミーティング(MCM)を、3チーム同時に行います。"]
["       チーム代表者は必ずユニホームを持参(FP/GKの正副全て現物を。写真等不可。)にて参加願います。"]
["　　⑤コロナウイルス感染防止のため、必要事項を記入した参加者名簿を大会当日に大会本部まで提出すること。"]
[]
[]
["６．試合会場"]
[null,null,"会場",null,null,null,null,null,"住所"]
["1次ﾘｰｸﾞ","速杵国東","フットボールセンター大分きつき(杵築市営サッカー場)",null,null,null,null,null,"杵築市山香町大字野原700-5"]
["1次ﾘｰｸﾞ","別府","実相寺サッカー競技場(人工芝)",null,null,null,null,null,"別府市大字鶴見3705番地"]
["1次ﾘｰｸﾞ","津久見・臼杵","吉四六ランド陸上競技場",null,null,null,null,null,"臼杵市野津町大字原326番地"]
["1次ﾘｰｸﾞ","日田・玖珠","玖珠町総合運動公園",null,null,null,null,null,"玖珠町大字山田90番地"]
["1次ﾘｰｸﾞ","豊肥","サン・スポーツランドみえ",null,null,null,null,null,"豊後大野市三重町百枝1086番地"]
["1次ﾘｰｸﾞ","中津","永添運動公園人工芝多目的グラウンド",null,null,null,null,null,"中津市大字永添2065番地の1"]
["2次ﾘｰｸﾞ","佐伯","佐伯市総合運動公園多目的グラウンド(人工芝)",null,null,null,null,null,"佐伯市大字長谷2614番地"]
["2次ﾘｰｸﾞ","大分","大在東グラウンド",null,null,null,null,null,"大分市大在浜2丁目"]
["準決勝・決勝","県協会人工芝","大分県サッカー協会人工芝グラウンド",null,null,null,null,null,"大分市大字松岡6841番地"]

{"sheet":"参加者名簿記入用紙","index":1,"n_rows":49,"n_cols":45,"rows_kept":49,"cut":false,"hidden":false,"merged":[[3,1,3,5],[3,6,3,15],[3,16,3,18],[3,19,3,20],[3,22,3,24],[3,26,3,28],[0,1,0,28],[1,1,1,5],[1,6,1,15],[1,16,1,18],[1,27,1,28],[2,1,2,5],[2,6,2,15],[2,16,2,18],[2,19,2,28],[7,2,7,12],[7,13,7,14],[7,15,7,16],[7,17,7,18],[7,19,7,20],[7,21,7,24],[5,1,6,12],[5,13,5,14],[5,15,5,20],[5,21,5,28],[6,13,6,14],[6,15,6,16],[6,17,6,18],[6,19,6,20],[6,21,6,25],[6,26,6,28],[9,2,9,12],[9,13,9,14],[9,15,9,16],[9,17,9,18],[9,19,9,20],[9,21,9,24],[8,2,8,12],[8,13,8,14],[8,15,8,16],[8,17,8,18],[8,19,8,20],[8,21,8,24],[11,2,11,12],[11,13,11,14],[11,15,11,16],[11,17,11,18],[11,19,11,20],[11,21,11,24],[10,2,10,12],[10,13,10,14],[10,15,10,16],[10,17,10,18],[10,19,10,20],[10,21,10,24],[13,2,13,12],[13,13,13,14],[13,15,13,16],[13,17,13,18],[13,19,13,20],[13,21,13,24],[12,2,12,12],[12,13,12,14],[12,15,12,16],[12,17,12,18],[12,19,12,20],[12,21,12,24],[15,2,15,12],[15,13,15,14],[15,15,15,16],[15,17,15,18],[15,19,15,20],[15,21,15,24],[14,2,14,12],[14,13,14,14],[14,15,14,16],[14,17,14,18],[14,19,14,20],[14,21,14,24],[17,2,17,12],[17,13,17,14],[17,15,17,16],[17,17,17,18],[17,19,17,20],[17,21,17,24],[16,2,16,12],[16,13,16,14],[16,15,16,16],[16,17,16,18],[16,19,16,20],[16,21,16,24],[19,2,19,12],[19,13,19,14],[19,15,19,16],[19,17,19,18],[19,19,19,20],[19,21,19,24],[18,2,18,12],[18,13,18,14],[18,15,18,16],[18,17,18,18],[18,19,18,20],[18,21,18,24],[21,2,21,12],[21,13,21,14],[21,15,21,16],[21,17,21,18],[21,19,21,20],[21,21,21,24],[20,2,20,12],[20,13,20,14],[20,15,20,16],[20,17,20,18],[20,19,20,20],[20,21,20,24],[23,2,23,12],[23,13,23,14],[23,15,23,16],[23,17,23,18],[23,19,23,20],[23,21,23,24],[22,2,22,12],[22,13,22,14],[22,15,22,16],[22,17,22,18],[22,19,22,20],[22,21,22,24],[25,2,25,12],[25,13,25,14],[25,15,25,16],[25,17,25,18],[25,19,25,20],[25,21,25,24],[24,2,24,12],[24,13,24,14],[24,15,24,16],[24,17,24,18],[24,19,24,20],[24,21,24,24],[27,2,27,12],[27,13,27,14],[27,15,27,16],[27,17,27,18],[27,19,27,20],[27,21,27,24],[26,2,26,12],[26,13,26,14],[26,15,26,16],[26,17,26,18],[26,19,26,20],[26,21,26,24],[29,2,29,12],[29,13,29,14],[29,15,29,16],[29,17,29,18],[29,19,29,20],[29,21,29,24],[28,2,28,12],[28,13,28,14],[28,15,28,16],[28,17,28,18],[28,19,28,20],[28,21,28,24],[31,2,31,12],[31,13,31,14],[31,15,31,16],[31,17,31,18],[31,19,31,20],[31,21,31,24],[30,2,30,12],[30,13,30,14],[30,15,30,16],[30,17,30,18],[30,19,30,20],[30,21,30,24],[33,2,33,12],[33,13,33,14],[33,15,33,16],[33,17,33,18],[33,19,33,20],[33,21,33,24],[32,2,32,12],[32,13,32,14],[32,15,32,16],[32,17,32,18],[32,19,32,20],[32,21,32,24],[35,2,35,12],[35,13,35,14],[35,15,35,16],[35,17,35,18],[35,19,35,20],[35,21,35,24],[34,2,34,12],[34,13,34,14],[34,15,34,16],[34,17,34,18],[34,19,34,20],[34,21,34,24],[37,2,37,12],[37,13,37,14],[37,15,37,16],[37,17,37,18],[37,19,37,20],[37,21,37,24],[36,2,36,12],[36,13,36,14],[36,15,36,16],[36,17,36,18],[36,19,36,20],[36,21,36,24],[39,2,39,12],[39,13,39,14],[39,15,39,16],[39,17,39,18],[39,19,39,20],[39,21,39,24],[38,2,38,12],[38,13,38,14],[38,15,38,16],[38,17,38,18],[38,19,38,20],[38,21,38,24],[41,2,41,12],[41,13,41,14],[41,15,41,16],[41,17,41,18],[41,19,41,20],[41,21,41,24],[40,2,40,12],[40,13,40,14],[40,15,40,16],[40,17,40,18],[40,19,40,20],[40,21,40,24],[43,2,43,12],[43,13,43,14],[43,15,43,16],[43,17,43,18],[43,19,43,20],[43,21,43,24],[42,2,42,12],[42,13,42,14],[42,15,42,16],[42,17,42,18],[42,19,42,20],[42,21,42,24],[45,2,45,12],[45,13,45,14],[45,15,45,16],[45,17,45,18],[45,19,45,20],[45,21,45,24],[44,2,44,12],[44,13,44,14],[44,15,44,16],[44,17,44,18],[44,19,44,20],[44,21,44,24],[47,1,47,3],[47,4,47,28],[48,1,48,28],[46,2,46,12],[46,13,46,14],[46,15,46,16],[46,17,46,18],[46,19,46,20],[46,21,46,24]]}
[null,"各種大会参加者名簿（※新型コロナウイルス感染予防対策のため、必ず本部へ提出願います。）",null,null,null,null,null,null,null,null,null,null,null,null,null,null,null,null,null,null,null,null,null,null,null,null,null,null,null,null,null,null,null,null,null,null,null,null,"チーム名＿漢字","大会","年","月","日","曜","会場"]
[null,"チーム名",null,null,null,null,null,null,null,null,null,null,null,null,null,null,"期日",null,null,"R",4,"年",null,"月",null,"日",null,"曜日",null,null,null,null,null,null,null,null,null,null,null,"OFA 第 53 回大分県U-12サッカー大会\n　兼　KYFA 九州U-12サッカー大会大分県大会",1,1,1,"月","ﾌｯﾄﾎﾞｰﾙｾﾝﾀｰ大分きつき(杵築市営ｻｯｶｰ場)"]
[null,"大会名",null,null,null,null,"OFA 第 53 回大分県U-12サッカー大会\n　兼　KYFA 九州U-12サッカー大会大分県大会",null,null,null,null,null,null,null,null,null,"会場",null,null,null,null,null,null,null,null,null,null,null,null,null,null,null,null,null,null,null,null,null,null,null,2,2,2,"火","実相寺ｻｯｶｰ競技場(人工芝)"]
[null,"感染対策責任者",null,null,null,null,null,null,null,null,null,null,null,null,null,null,"電話番号",null,null,null,null,"-",null,null,null,"-",null,null,null,null,null,null,null,null,null,null,null,null,null,null,3,3,3,"水","吉四六ﾗﾝﾄﾞ陸上競技場"]
[null,null,null,null,null,null,null,null,null,null,null,null,null,null,null,null,null,null,null,null,null,null,null,null,null,null,null,null,null,null,null,null,null,null,null,null,null,null,null,null,4,4,4,"木","玖珠町総合運動公園"]
[null,"氏　　名",null,null,null,null,null,null,null,null,null,null,null,"学年",null,"参加者種別　※○印チェック",null,null,null,null,null,"当日の健康状態確認　※○印チェック",null,null,null,null,null,null,null,null,null,null,null,null,null,null,null,null,null,null,5,5,5,"金","ｻﾝ・ｽﾎﾟｰﾂﾗﾝﾄﾞみえ"]
[null,null,null,null,null,null,null,null,null,null,null,null,null,"(選手のみ)",null,"指導者",null,"選手",null,"保護者",null,"検温結果",null,null,null,null,"体調",null,null,null,null,null,null,null,null,null,null,null,null,null,6,6,6,"土","永添運動公園人工芝多目的ｸﾞﾗｳﾝﾄﾞ"]
[null,1,null,null,null,null,null,null,null,null,null,null,null,null,null,null,null,null,null,null,null,null,null,null,null,"℃","良好","／","不良",null,null,null,null,null,null,null,null,null,null,null,7,7,7,"日","佐伯市総合運動公園多目的ｸﾞﾗｳﾝﾄﾞ(人工芝)"]
[null,2,null,null,null,null,null,null,null,null,null,null,null,null,null,null,null,null,null,null,null,null,null,null,null,"℃","良好","／","不良",null,null,null,null,null,null,null,null,null,null,null,8,8,8,null,"大在東グラウンド"]
[null,3,null,null,null,null,null,null,null,null,null,null,null,null,null,null,null,null,null,null,null,null,null,null,null,"℃","良好","／","不良",null,null,null,null,null,null,null,null,null,null,null,9,9,9,null,"豊後企画大分駄原球技場"]
[null,4,null,null,null,null,null,null,null,null,null,null,null,null,null,null,null,null,null,null,null,null,null,null,null,"℃","良好","／","不良",null,null,null,null,null,null,null,null,null,null,null,10,10,10]
[null,5,null,null,null,null,null,null,null,null,null,null,null,null,null,null,null,null,null,null,null,null,null,null,null,"℃","良好","／","不良",null,null,null,null,null,null,null,null,null,null,null,11,11,11]
[null,6,null,null,null,null,null,null,null,null,null,null,null,null,null,null,null,null,null,null,null,null,null,null,null,"℃","良好","／","不良",null,null,null,null,null,null,null,null,null,null,null,12,12,12]
[null,7,null,null,null,null,null,null,null,null,null,null,null,null,null,null,null,null,null,null,null,null,null,null,null,"℃","良好","／","不良",null,null,null,null,null,null,null,null,null,null,null,13,null,13]
[null,8,null,null,null,null,null,null,null,null,null,null,null,null,null,null,null,null,null,null,null,null,null,null,null,"℃","良好","／","不良",null,null,null,null,null,null,null,null,null,null,null,14,null,14]
[null,9,null,null,null,null,null,null,null,null,null,null,null,null,null,null,null,null,null,null,null,null,null,null,null,"℃","良好","／","不良",null,null,null,null,null,null,null,null,null,null,null,15,null,15]
[null,10,null,null,null,null,null,null,null,null,null,null,null,null,null,null,null,null,null,null,null,null,null,null,null,"℃","良好","／","不良",null,null,null,null,null,null,null,null,null,null,null,null,null,16]
[null,11,null,null,null,null,null,null,null,null,null,null,null,null,null,null,null,null,null,null,null,null,null,null,null,"℃","良好","／","不良",null,null,null,null,null,null,null,null,null,null,null,null,null,17]
[null,12,null,null,null,null,null,null,null,null,null,null,null,null,null,null,null,null,null,null,null,null,null,null,null,"℃","良好","／","不良",null,null,null,null,null,null,null,null,null,null,null,null,null,18]
[null,13,null,null,null,null,null,null,null,null,null,null,null,null,null,null,null,null,null,null,null,null,null,null,null,"℃","良好","／","不良",null,null,null,null,null,null,null,null,null,null,null,null,null,19]
[null,14,null,null,null,null,null,null,null,null,null,null,null,null,null,null,null,null,null,null,null,null,null,null,null,"℃","良好","／","不良",null,null,null,null,null,null,null,null,null,null,null,null,null,20]
[null,15,null,null,null,null,null,null,null,null,null,null,null,null,null,null,null,null,null,null,null,null,null,null,null,"℃","良好","／","不良",null,null,null,null,null,null,null,null,null,null,null,null,null,21]
[null,16,null,null,null,null,null,null,null,null,null,null,null,null,null,null,null,null,null,null,null,null,null,null,null,"℃","良好","／","不良",null,null,null,null,null,null,null,null,null,null,null,null,null,22]
[null,17,null,null,null,null,null,null,null,null,null,null,null,null,null,null,null,null,null,null,null,null,null,null,null,"℃","良好","／","不良",null,null,null,null,null,null,null,null,null,null,null,null,null,23]
[null,18,null,null,null,null,null,null,null,null,null,null,null,null,null,null,null,null,null,null,null,null,null,null,null,"℃","良好","／","不良",null,null,null,null,null,null,null,null,null,null,null,null,null,24]
[null,19,null,null,null,null,null,null,null,null,null,null,null,null,null,null,null,null,null,null,null,null,null,null,null,"℃","良好","／","不良",null,null,null,null,null,null,null,null,null,null,null,null,null,25]
[null,20,null,null,null,null,null,null,null,null,null,null,null,null,null,null,null,null,null,null,null,null,null,null,null,"℃","良好","／","不良",null,null,null,null,null,null,null,null,null,null,null,null,null,26]
[null,21,null,null,null,null,null,null,null,null,null,null,null,null,null,null,null,null,null,null,null,null,null,null,null,"℃","良好","／","不良",null,null,null,null,null,null,null,null,null,null,null,null,null,27]
[null,22,null,null,null,null,null,null,null,null,null,null,null,null,null,null,null,null,null,null,null,null,null,null,null,"℃","良好","／","不良",null,null,null,null,null,null,null,null,null,null,null,null,null,28]
[null,23,null,null,null,null,null,null,null,null,null,null,null,null,null,null,null,null,null,null,null,null,null,null,null,"℃","良好","／","不良",null,null,null,null,null,null,null,null,null,null,null,null,null,29]
[null,24,null,null,null,null,null,null,null,null,null,null,null,null,null,null,null,null,null,null,null,null,null,null,null,"℃","良好","／","不良",null,null,null,null,null,null,null,null,null,null,null,null,null,30]
[null,25,null,null,null,null,null,null,null,null,null,null,null,null,null,null,null,null,null,null,null,null,null,null,null,"℃","良好","／","不良",null,null,null,null,null,null,null,null,null,null,null,null,null,31]
[null,26,null,null,null,null,null,null,null,null,null,null,null,null,null,null,null,null,null,null,null,null,null,null,null,"℃","良好","／","不良"]
[null,27,null,null,null,null,null,null,null,null,null,null,null,null,null,null,null,null,null,null,null,null,null,null,null,"℃","良好","／","不良"]
[null,28,null,null,null,null,null,null,null,null,null,null,null,null,null,null,null,null,null,null,null,null,null,null,null,"℃","良好","／","不良"]
[null,29,null,null,null,null,null,null,null,null,null,null,null,null,null,null,null,null,null,null,null,null,null,null,null,"℃","良好","／","不良"]
[null,30,null,null,null,null,null,null,null,null,null,null,null,null,null,null,null,null,null,null,null,null,null,null,null,"℃","良好","／","不良"]
[null,31,null,null,null,null,null,null,null,null,null,null,null,null,null,null,null,null,null,null,null,null,null,null,null,"℃","良好","／","不良"]
[null,32,null,null,null,null,null,null,null,null,null,null,null,null,null,null,null,null,null,null,null,null,null,null,null,"℃","良好","／","不良"]
[null,33,null,null,null,null,null,null,null,null,null,null,null,null,null,null,null,null,null,null,null,null,null,null,null,"℃","良好","／","不良"]
[null,34,null,null,null,null,null,null,null,null,null,null,null,null,null,null,null,null,null,null,null,null,null,null,null,"℃","良好","／","不良"]
[null,35,null,null,null,null,null,null,null,null,null,null,null,null,null,null,null,null,null,null,null,null,null,null,null,"℃","良好","／","不良"]
[null,36,null,null,null,null,null,null,null,null,null,null,null,null,null,null,null,null,null,null,null,null,null,null,null,"℃","良好","／","不良"]
[null,37,null,null,null,null,null,null,null,null,null,null,null,null,null,null,null,null,null,null,null,null,null,null,null,"℃","良好","／","不良"]
[null,38,null,null,null,null,null,null,null,null,null,null,null,null,null,null,null,null,null,null,null,null,null,null,null,"℃","良好","／","不良"]
[null,39,null,null,null,null,null,null,null,null,null,null,null,null,null,null,null,null,null,null,null,null,null,null,null,"℃","良好","／","不良"]
[null,40,null,null,null,null,null,null,null,null,null,null,null,null,null,null,null,null,null,null,null,null,null,null,null,"℃","良好","／","不良"]
[null,"特記事項"]
[null,"一般社団法人大分県サッカー協会ジュニア委員会"]

{"sheet":"参加者名簿記入用紙 (例)","index":2,"n_rows":59,"n_cols":45,"rows_kept":59,"cut":false,"hidden":false,"merged":[[3,1,3,5],[3,6,3,15],[3,16,3,18],[3,19,3,20],[3,22,3,24],[3,26,3,28],[0,1,0,28],[1,1,1,5],[1,6,1,15],[1,16,1,18],[1,27,1,28],[2,1,2,5],[2,6,2,15],[2,16,2,18],[2,19,2,28],[7,2,7,12],[7,13,7,14],[7,15,7,16],[7,17,7,18],[7,19,7,20],[7,21,7,24],[5,1,6,12],[5,13,5,14],[5,15,5,20],[5,21,5,28],[6,13,6,14],[6,15,6,16],[6,17,6,18],[6,19,6,20],[6,21,6,25],[6,26,6,28],[9,2,9,12],[9,13,9,14],[9,15,9,16],[9,17,9,18],[9,19,9,20],[9,21,9,24],[8,2,8,12],[8,13,8,14],[8,15,8,16],[8,17,8,18],[8,19,8,20],[8,21,8,24],[11,2,11,12],[11,13,11,14],[11,15,11,16],[11,17,11,18],[11,19,11,20],[11,21,11,24],[10,2,10,12],[10,13,10,14],[10,15,10,16],[10,17,10,18],[10,19,10,20],[10,21,10,24],[13,2,13,12],[13,13,13,14],[13,15,13,16],[13,17,13,18],[13,19,13,20],[13,21,13,24],[12,2,12,12],[12,13,12,14],[12,15,12,16],[12,17,12,18],[12,19,12,20],[12,21,12,24],[15,2,15,12],[15,13,15,14],[15,15,15,16],[15,17,15,18],[15,19,15,20],[15,21,15,24],[14,2,14,12],[14,13,14,14],[14,15,14,16],[14,17,14,18],[14,19,14,20],[14,21,14,24],[17,2,17,12],[17,13,17,14],[17,15,17,16],[17,17,17,18],[17,19,17,20],[17,21,17,24],[16,2,16,12],[16,13,16,14],[16,15,16,16],[16,17,16,18],[16,19,16,20],[16,21,16,24],[19,2,19,12],[19,13,19,14],[19,15,19,16],[19,17,19,18],[19,19,19,20],[19,21,19,24],[18,2,18,12],[18,13,18,14],[18,15,18,16],[18,17,18,18],[18,19,18,20],[18,21,18,24],[21,2,21,12],[21,13,21,14],[21,15,21,16],[21,17,21,18],[21,19,21,20],[21,21,21,24],[20,2,20,12],[20,13,20,14],[20,15,20,16],[20,17,20,18],[20,19,20,20],[20,21,20,24],[23,2,23,12],[23,13,23,14],[23,15,23,16],[23,17,23,18],[23,19,23,20],[23,21,23,24],[22,2,22,12],[22,13,22,14],[22,15,22,16],[22,17,22,18],[22,19,22,20],[22,21,22,24],[25,2,25,12],[25,13,25,14],[25,15,25,16],[25,17,25,18],[25,19,25,20],[25,21,25,24],[24,2,24,12],[24,13,24,14],[24,15,24,16],[24,17,24,18],[24,19,24,20],[24,21,24,24],[27,2,27,12],[27,13,27,14],[27,15,27,16],[27,17,27,18],[27,19,27,20],[27,21,27,24],[26,2,26,12],[26,13,26,14],[26,15,26,16],[26,17,26,18],[26,19,26,20],[26,21,26,24],[29,2,29,12],[29,13,29,14],[29,15,29,16],[29,17,29,18],[29,19,29,20],[29,21,29,24],[28,2,28,12],[28,13,28,14],[28,15,28,16],[28,17,28,18],[28,19,28,20],[28,21,28,24],[31,2,31,12],[31,13,31,14],[31,15,31,16],[31,17,31,18],[31,19,31,20],[31,21,31,24],[30,2,30,12],[30,13,30,14],[30,15,30,16],[30,17,30,18],[30,19,30,20],[30,21,30,24],[33,2,33,12],[33,13,33,14],[33,15,33,16],[33,17,33,18],[33,19,33,20],[33,21,33,24],[32,2,32,12],[32,13,32,14],[32,15,32,16],[32,17,32,18],[32,19,32,20],[32,21,32,24],[35,2,35,12],[35,13,35,14],[35,15,35,16],[35,17,35,18],[35,19,35,20],[35,21,35,24],[34,2,34,12],[34,13,34,14],[34,15,34,16],[34,17,34,18],[34,19,34,20],[34,21,34,24],[37,2,37,12],[37,13,37,14],[37,15,37,16],[37,17,37,18],[37,19,37,20],[37,21,37,24],[36,2,36,12],[36,13,36,14],[36,15,36,16],[36,17,36,18],[36,19,36,20],[36,21,36,24],[39,2,39,12],[39,13,39,14],[39,15,39,16],[39,17,39,18],[39,19,39,20],[39,21,39,24],[38,2,38,12],[38,13,38,14],[38,15,38,16],[38,17,38,18],[38,19,38,20],[38,21,38,24],[41,2,41,12],[41,13,41,14],[41,15,41,16],[41,17,41,18],[41,19,41,20],[41,21,41,24],[40,2,40,12],[40,13,40,14],[40,15,40,16],[40,17,40,18],[40,19,40,20],[40,21,40,24],[43,2,43,12],[43,13,43,14],[43,15,43,16],[43,17,43,18],[43,19,43,20],[43,21,43,24],[42,2,42,12],[42,13,42,14],[42,15,42,16],[42,17,42,18],[42,19,42,20],[42,21,42,24],[45,2,45,12],[45,13,45,14],[45,15,45,16],[45,17,45,18],[45,19,45,20],[45,21,45,24],[44,2,44,12],[44,13,44,14],[44,15,44,16],[44,17,44,18],[44,19,44,20],[44,21,44,24],[47,1,47,3],[47,4,47,28],[48,1,48,28],[46,2,46,12],[46,13,46,14],[46,15,46,16],[46,17,46,18],[46,19,46,20],[46,21,46,24]]}
[null,"各種大会参加者名簿（※新型コロナウイルス感染予防対策のため、必ず本部へ提出願います。）",null,null,null,null,null,null,null,null,null,null,null,null,null,null,null,null,null,null,null,null,null,null,null,null,null,null,null,null,null,null,null,null,null,null,null,null,"チーム名＿漢字","大会","年","月","日","曜","会場"]
[null,"チーム名",null,null,null,null,"大分JFC",null,null,null,null,null,null,null,null,null,"期日",null,null,"R",4,"年",1,"月",30,"日","日","曜日",null,null,null,null,null,null,null,null,null,null,"明野北フットボールクラブ","OFA U10/11リーグ",1,1,1,"月","大在東グラウンド"]
[null,"大会名",null,null,null,null,"OFA 第 xx 回大分県U-12サッカー大会\n　兼　KYFA 九州U-12サッカー大会大分県大会",null,null,null,null,null,null,null,null,null,"会場",null,null,"大分SP",null,null,null,null,null,null,null,null,null,null,null,null,null,null,null,null,null,null,"明野西ＪＦＣ","OFA U12リーグ",2,2,2,"火","西部グラウンド"]
[null,"感染対策責任者",null,null,null,null,"大分一郎",null,null,null,null,null,null,null,null,null,"電話番号",null,null,"090",null,"-","0123",null,null,"-","0123",null,null,null,null,null,null,null,null,null,null,null,"明野東サッカースポーツ少年団","キッズリーグ",3,3,3,"水","七瀬川グラウンド"]
[null,null,null,null,null,null,null,null,null,null,null,null,null,null,null,null,null,null,null,null,null,null,null,null,null,null,null,null,null,null,null,null,null,null,null,null,null,null,"アトレチコエラン横瀬","ラビットカップ地区大会",4,4,4,"木","南大分SP"]
[null,"氏　　名",null,null,null,null,null,null,null,null,null,null,null,"学年",null,"参加者種別　※○印チェック",null,null,null,null,null,"当日の健康状態確認　※○印チェック",null,null,null,null,null,null,null,null,null,null,null,null,null,null,null,null,"ａｎｉｍｏｓｅｌｅｃｔ　ｆｏｏｔｂａｌｌ　ｃｌｕｂ　Ｕ－１２","ラビットカップ県大会",5,5,5,"金","上原グラウンド"]
[null,null,null,null,null,null,null,null,null,null,null,null,null,"(選手のみ)",null,"指導者",null,"選手",null,"保護者",null,"検温結果",null,null,null,null,"体調",null,null,null,null,null,null,null,null,null,null,null,"ヴィンクラッソ大分ＦＣジュニア","バーモントカップ",6,6,6,"土","日岡グラウンド"]
[null,1,"大分一郎",null,null,null,null,null,null,null,null,null,null,null,null,"○",null,null,null,null,null,36.5,null,null,null,"℃","良好","／","不良",null,null,null,null,null,null,null,null,null,"ヴェルスパ大分　Ｕ－１２","OFA U-11サッカー選手権地区大会",7,7,7,"日","駄原球技場"]
[null,2,"福岡二郎",null,null,null,null,null,null,null,null,null,null,5,null,null,null,"○",null,null,null,36.200000000000003,null,null,null,"℃","良好","／","不良",null,null,null,null,null,null,null,null,null,"荏隈サッカースポーツ少年団","OFA U-11サッカー選手権県大会",8,8,8,null,"野津原天空広場グラウンド"]
[null,3,"宮崎三男",null,null,null,null,null,null,null,null,null,null,6,null,null,null,"○",null,null,null,36.5,null,null,null,"℃","良好","／","不良",null,null,null,null,null,null,null,null,null,"MSS","全日本 U-12サッカー選手権地区大会",9,9,9,null,"大分SP"]
[null,4,"長崎四男",null,null,null,null,null,null,null,null,null,null,6,null,null,null,null,null,null,null,null,null,null,null,"℃","良好","／","不良",null,null,null,null,null,null,null,null,null,"ＦＣ　ＲＥＧＡＴＥ","全日本 U-12サッカー選手権県大会",10,10,10,null,"〔　　　　　　　　　　　　　　〕小学校グラウンド"]
[null,5,"福岡五子",null,null,null,null,null,null,null,null,null,null,null,null,null,null,null,null,"○",null,36.200000000000003,null,null,null,"℃","良好","／","不良",null,null,null,null,null,null,null,null,null,"大分トリニータＵ－１２","忠文堂杯",11,11,11,null,"鶴崎河川敷"]
[null,6,null,null,null,null,null,null,null,null,null,null,null,null,null,null,null,null,null,null,null,null,null,null,null,"℃","良好","／","不良",null,null,null,null,null,null,null,null,null,"大分トリニータタートルズ","九州ジュニア地区大会",12,12,12,null,"その他〔　　　　　　　　　　　　　　　　　　　　　　　　〕"]
[null,7,null,null,null,null,null,null,null,null,null,null,null,null,null,null,null,null,null,null,null,null,null,null,null,"℃","良好","／","不良",null,null,null,null,null,null,null,null,null,"大在サッカースポーツ少年団","OFA 第 xx 回大分県U-12サッカー大会\n　兼　KYFA 九州U-12サッカー大会大分県大会",13,null,13]
[null,8,null,null,null,null,null,null,null,null,null,null,null,null,null,null,null,null,null,null,null,null,null,null,null,"℃","良好","／","不良",null,null,null,null,null,null,null,null,null,"大道サッカースポーツ少年団","だいしんカップ",14,null,14]
[null,9,null,null,null,null,null,null,null,null,null,null,null,null,null,null,null,null,null,null,null,null,null,null,null,"℃","良好","／","不良",null,null,null,null,null,null,null,null,null,"鴛野サッカースポーツ少年団","トレセン大会〔　　　　　　　　　　　　　　　　　　　　　〕",15,null,15]
[null,10,null,null,null,null,null,null,null,null,null,null,null,null,null,null,null,null,null,null,null,null,null,null,null,"℃","良好","／","不良",null,null,null,null,null,null,null,null,null,"賀来ジュニアサッカークラブ","U9スポ少リーグ",null,null,16]
[null,11,null,null,null,null,null,null,null,null,null,null,null,null,null,null,null,null,null,null,null,null,null,null,null,"℃","良好","／","不良",null,null,null,null,null,null,null,null,null,"春日ＳＳＳ","U10スポ少リーグ",null,null,17]
[null,12,null,null,null,null,null,null,null,null,null,null,null,null,null,null,null,null,null,null,null,null,null,null,null,"℃","良好","／","不良",null,null,null,null,null,null,null,null,null,"カティオーラフットボールクラブＵ－１２","U11スポ少リーグ",null,null,18]
[null,13,null,null,null,null,null,null,null,null,null,null,null,null,null,null,null,null,null,null,null,null,null,null,null,"℃","良好","／","不良",null,null,null,null,null,null,null,null,null,"カティオーラフットボールクラブ（高城）","スポ少新人戦",null,null,19]
[null,14,null,null,null,null,null,null,null,null,null,null,null,null,null,null,null,null,null,null,null,null,null,null,null,"℃","良好","／","不良",null,null,null,null,null,null,null,null,null,"カティオーラフットボールクラブ（松岡）","その他〔　　　　　　　　　　　　　　　　　　　　　　　　〕",null,null,20]
[null,15,null,null,null,null,null,null,null,null,null,null,null,null,null,null,null,null,null,null,null,null,null,null,null,"℃","良好","／","不良",null,null,null,null,null,null,null,null,null,"カティオーラフットボールクラブ（大在）",null,null,null,21]
[null,16,null,null,null,null,null,null,null,null,null,null,null,null,null,null,null,null,null,null,null,null,null,null,null,"℃","良好","／","不良",null,null,null,null,null,null,null,null,null,"金池長浜サッカースポーツ少年団",null,null,null,22]
[null,17,null,null,null,null,null,null,null,null,null,null,null,null,null,null,null,null,null,null,null,null,null,null,null,"℃","良好","／","不良",null,null,null,null,null,null,null,null,null,"ＫＩＮＧＳ　ＦＯＯＴＢＡＬＬＣＬＵＢ　Ｕ－１２",null,null,null,23]
[null,18,null,null,null,null,null,null,null,null,null,null,null,null,null,null,null,null,null,null,null,null,null,null,null,"℃","良好","／","不良",null,null,null,null,null,null,null,null,null,"敷戸サッカースポーツ少年団",null,null,null,24]
[null,19,null,null,null,null,null,null,null,null,null,null,null,null,null,null,null,null,null,null,null,null,null,null,null,"℃","良好","／","不良",null,null,null,null,null,null,null,null,null,"城東サッカースポーツ少年団",null,null,null,25]
[null,20,null,null,null,null,null,null,null,null,null,null,null,null,null,null,null,null,null,null,null,null,null,null,null,"℃","良好","／","不良",null,null,null,null,null,null,null,null,null,"城南サッカースポーツ少年団",null,null,null,26]
[null,21,null,null,null,null,null,null,null,null,null,null,null,null,null,null,null,null,null,null,null,null,null,null,null,"℃","良好","／","不良",null,null,null,null,null,null,null,null,null,"スマイス　セレソン　スポーツクラブ",null,null,null,27]
[null,22,null,null,null,null,null,null,null,null,null,null,null,null,null,null,null,null,null,null,null,null,null,null,null,"℃","良好","／","不良",null,null,null,null,null,null,null,null,null,"碩田サッカースポーツ少年団",null,null,null,28]
[null,23,null,null,null,null,null,null,null,null,null,null,null,null,null,null,null,null,null,null,null,null,null,null,null,"℃","良好","／","不良",null,null,null,null,null,null,null,null,null,"寒田少年サッカークラブ",null,null,null,29]
[null,24,null,null,null,null,null,null,null,null,null,null,null,null,null,null,null,null,null,null,null,null,null,null,null,"℃","良好","／","不良",null,null,null,null,null,null,null,null,null,"滝尾下郡サッカースポーツ少年団",null,null,null,30]
[null,25,null,null,null,null,null,null,null,null,null,null,null,null,null,null,null,null,null,null,null,null,null,null,null,"℃","良好","／","不良",null,null,null,null,null,null,null,null,null,"田尻サッカースポーツ少年団",null,null,null,31]
[null,26,null,null,null,null,null,null,null,null,null,null,null,null,null,null,null,null,null,null,null,null,null,null,null,"℃","良好","／","不良",null,null,null,null,null,null,null,null,null,"鶴崎ＳＳＳ"]
[null,27,null,null,null,null,null,null,null,null,null,null,null,null,null,null,null,null,null,null,null,null,null,null,null,"℃","良好","／","不良",null,null,null,null,null,null,null,null,null,"東陽フットボールクラブ"]
[null,28,null,null,null,null,null,null,null,null,null,null,null,null,null,null,null,null,null,null,null,null,null,null,null,"℃","良好","／","不良",null,null,null,null,null,null,null,null,null,"ドリームキッズフットボールクラブ"]
[null,29,null,null,null,null,null,null,null,null,null,null,null,null,null,null,null,null,null,null,null,null,null,null,null,"℃","良好","／","不良",null,null,null,null,null,null,null,null,null,"西の台ＪＦＣ"]
[null,30,null,null,null,null,null,null,null,null,null,null,null,null,null,null,null,null,null,null,null,null,null,null,null,"℃","良好","／","不良",null,null,null,null,null,null,null,null,null,"挾間ＪＦＣ"]
[null,31,null,null,null,null,null,null,null,null,null,null,null,null,null,null,null,null,null,null,null,null,null,null,null,"℃","良好","／","不良",null,null,null,null,null,null,null,null,null,"判田サッカースポーツ少年団"]
[null,32,null,null,null,null,null,null,null,null,null,null,null,null,null,null,null,null,null,null,null,null,null,null,null,"℃","良好","／","不良",null,null,null,null,null,null,null,null,null,"日岡サッカースポーツ少年団"]
[null,33,null,null,null,null,null,null,null,null,null,null,null,null,null,null,null,null,null,null,null,null,null,null,null,"℃","良好","／","不良",null,null,null,null,null,null,null,null,null,"東大分サッカースポーツ少年団"]
[null,34,null,null,null,null,null,null,null,null,null,null,null,null,null,null,null,null,null,null,null,null,null,null,null,"℃","良好","／","不良",null,null,null,null,null,null,null,null,null,"東稙田サッカースポーツ少年団"]
[null,35,null,null,null,null,null,null,null,null,null,null,null,null,null,null,null,null,null,null,null,null,null,null,null,"℃","良好","／","不良",null,null,null,null,null,null,null,null,null,"ブルーウイングフットボールクラブ"]
[null,36,null,null,null,null,null,null,null,null,null,null,null,null,null,null,null,null,null,null,null,null,null,null,null,"℃","良好","／","不良",null,null,null,null,null,null,null,null,null,"戸次吉野ＳＳＳ"]
[null,37,null,null,null,null,null,null,null,null,null,null,null,null,null,null,null,null,null,null,null,null,null,null,null,"℃","良好","／","不良",null,null,null,null,null,null,null,null,null,"別保ＳＦＣ"]
[null,38,null,null,null,null,null,null,null,null,null,null,null,null,null,null,null,null,null,null,null,null,null,null,null,"℃","良好","／","不良",null,null,null,null,null,null,null,null,null,"豊府サッカースポーツ少年団"]
[null,39,null,null,null,null,null,null,null,null,null,null,null,null,null,null,null,null,null,null,null,null,null,null,null,"℃","良好","／","不良",null,null,null,null,null,null,null,null,null,"北郡坂ノ市サッカースポーツ少年団"]
[null,40,null,null,null,null,null,null,null,null,null,null,null,null,null,null,null,null,null,null,null,null,null,null,null,"℃","良好","／","不良",null,null,null,null,null,null,null,null,null,"三佐サッカースポーツ少年団"]
[null,"特記事項",null,null,null,null,null,null,null,null,null,null,null,null,null,null,null,null,null,null,null,null,null,null,null,null,null,null,null,null,null,null,null,null,null,null,null,null,"南大分サッカー少年団"]
[null,"一般社団法人大分県サッカー協会ジュニア委員会",null,null,null,null,null,null,null,null,null,null,null,null,null,null,null,null,null,null,null,null,null,null,null,null,null,null,null,null,null,null,null,null,null,null,null,null,"宗方サッカークラブ"]
[null,null,null,null,null,null,null,null,null,null,null,null,null,null,null,null,null,null,null,null,null,null,null,null,null,null,null,null,null,null,null,null,null,null,null,null,null,null,"明治北ＳＳＣ"]
[null,null,null,null,null,null,null,null,null,null,null,null,null,null,null,null,null,null,null,null,null,null,null,null,null,null,null,null,null,null,null,null,null,null,null,null,null,null,"明治サッカースポーツ少年団"]
[null,null,null,null,null,null,null,null,null,null,null,null,null,null,null,null,null,null,null,null,null,null,null,null,null,null,null,null,null,null,null,null,null,null,null,null,null,null,"桃園サッカースポーツ少年団"]
[null,null,null,null,null,null,null,null,null,null,null,null,null,null,null,null,null,null,null,null,null,null,null,null,null,null,null,null,null,null,null,null,null,null,null,null,null,null,"森岡サッカースポーツ少年団"]
[null,null,null,null,null,null,null,null,null,null,null,null,null,null,null,null,null,null,null,null,null,null,null,null,null,null,null,null,null,null,null,null,null,null,null,null,null,null,"八幡サッカースポーツ少年団"]
[null,null,null,null,null,null,null,null,null,null,null,null,null,null,null,null,null,null,null,null,null,null,null,null,null,null,null,null,null,null,null,null,null,null,null,null,null,null,"由布川サッカースポーツ少年団"]
[null,null,null,null,null,null,null,null,null,null,null,null,null,null,null,null,null,null,null,null,null,null,null,null,null,null,null,null,null,null,null,null,null,null,null,null,null,null,"横瀬西ＦＣ．ＲｏｓａＣｌａｒｏ"]
[null,null,null,null,null,null,null,null,null,null,null,null,null,null,null,null,null,null,null,null,null,null,null,null,null,null,null,null,null,null,null,null,null,null,null,null,null,null,"リノスフットボールクラブ　Ｕ－１２"]
[null,null,null,null,null,null,null,null,null,null,null,null,null,null,null,null,null,null,null,null,null,null,null,null,null,null,null,null,null,null,null,null,null,null,null,null,null,null,"稙田ＦＣサッカースポーツ少年団"]
[null,null,null,null,null,null,null,null,null,null,null,null,null,null,null,null,null,null,null,null,null,null,null,null,null,null,null,null,null,null,null,null,null,null,null,null,null,null,"その他〔　　　　　　　　　　　　　　　　　　　　　　　　〕"]

{"sheet":"MCM資料","index":3,"n_rows":109,"n_cols":32,"rows_kept":109,"cut":false,"hidden":false,"merged":[[103,4,103,12],[103,14,103,19],[103,21,103,29],[104,14,104,19],[106,2,107,33],[78,3,79,35],[90,2,91,35],[92,2,93,35],[100,1,100,2],[101,1,101,2],[80,3,81,35],[82,3,83,35],[84,1,84,2],[88,1,88,2],[89,1,89,2],[70,3,72,35],[73,1,73,2],[74,3,74,35],[75,3,76,35],[77,3,77,33],[68,3,69,35],[50,3,52,35],[53,1,53,2],[54,2,55,35],[56,2,56,35],[57,1,57,2],[60,6,60,34],[61,10,61,15],[62,6,62,33],[65,10,65,11],[66,6,66,33],[67,1,67,2],[36,3,41,35],[42,1,42,2],[43,3,43,34],[47,1,47,2],[48,3,49,35],[24,2,24,9],[13,48,14,50],[13,51,14,56],[13,57,14,59],[35,1,35,2],[25,2,25,33],[26,1,26,2],[28,1,28,2],[30,1,30,2],[31,3,32,35],[33,3,33,35],[20,1,20,2],[21,18,21,24],[22,1,22,2],[22,13,22,35],[23,2,23,9],[15,1,15,33],[19,1,19,2],[19,3,19,31],[11,57,12,59],[11,60,12,65],[13,9,14,11],[13,12,14,17],[13,18,14,20],[13,21,14,26],[13,27,14,29],[13,30,14,35],[13,39,14,41],[13,42,14,47],[11,27,12,29],[11,30,12,35],[11,48,12,50],[10,0,10,3],[10,4,10,8],[10,9,10,11],[10,12,10,20],[13,60,14,65],[11,51,12,56],[11,0,14,3],[11,4,14,8],[11,9,12,11],[11,12,12,17],[11,18,12,20],[11,21,12,26],[11,39,12,41],[11,42,12,47],[7,37,7,45],[8,37,8,45],[10,21,10,23],[10,24,10,32],[9,4,9,7],[0,0,0,28],[1,0,3,25],[4,0,4,34],[5,4,5,30],[7,1,7,9],[7,11,7,13],[7,14,7,15],[7,16,7,17],[7,18,7,26],[7,28,7,30],[7,31,7,32]]}
["　マッチコーディネーションミーティング"]
["　　OFA 第 53回大分県少年サッカー大会　兼\nKYFA 九州U-12サッカー大会大分県大会"]
[]
[]
["　　各会場にて、試合開始70分前にマッチコーディネーションミーティング(MCM)を行います。"]
[null,null,null,null,"１次リーグ　／　２次リーグ　　統一資料"]
[]
[null,"組み合わせ左側チーム",null,null,null,null,null,null,null,null,"（",null,null,null,"市）",null,"ｖｓ",null,"組み合わせ右側チーム",null,null,null,null,null,null,null,null,"（",null,null,null,"市）"]
[]
[null,null,null,null,"＜日程＞",null,null,null,null,"＜会場＞"]
["２次リーグ",null,null,null,"2/６（日）",null,null,null,null,"大分",null,null,{"$f":"抽選会資料!C59","v":"大在東グラウンド"},null,null,null,null,null,null,null,null,"佐伯",null,null,{"$f":"抽選会資料!C58","v":"佐伯市総合運動公園多目的グラウンド(人工芝)"}]
["１次リーグ",null,null,null,"1/30（日）",null,null,null,null,"臼杵・津久見",null,null,{"$f":"抽選会資料!C54","v":"吉四六ランド陸上競技場"},null,null,null,null,null,"日田・玖珠",null,null,{"$f":"抽選会資料!C55","v":"玖珠町総合運動公園"},null,null,null,null,null,"豊肥",null,null,{"$f":"抽選会資料!C56","v":"サン・スポーツランドみえ"}]
[]
[null,null,null,null,null,null,null,null,null,"別府",null,null,{"$f":"抽選会資料!C53","v":"実相寺サッカー競技場(人工芝)"},null,null,null,null,null,"中津",null,null,{"$f":"抽選会資料!C57","v":"永添運動公園人工芝多目的グラウンド"},null,null,null,null,null,"速杵国東",null,null,{"$f":"抽選会資料!C52","v":"フットボールセンター大分きつき(杵築市営サッカー場)"}]
[]
[null,"Kickoff　①10：00/②11：00/③12：00/④13：00/⑤14：00/⑥15：00"]
[]
[]
[1," 挨拶および出席者の確認",null,null,null,null,null,null,null,null,null,null,"主管協会（　一般社団法人　大分県サッカー協会　）"]
[null,null,null,"マッチコミッショナー、対戦チームの両監督、主審"]
[null,null,null,"1次、2次リーグで副審は、担当試合の10分前までに主審と打合せを必ず行うこと。"]
[2,"競技関連事項"]
[null,"（1）",null,"累積警告選手等の確認",null,null,null,null,null,null,null,null,null,"（本大会実施要項　9）試合方法　⑧に該当する選手）"]
[null,null,"組み合わせ左側チーム",null,null,null,null,null,null,null,"："]
[null,null,"組み合わせ右側チーム",null,null,null,null,null,null,null,"："]
[null,null,"（大会期間中、２回（累計）の警告または、退場を宣告された選手等は次回戦に出場できないものとする。）"]
[null,"（2）",null,"ユニフォームの色の決定"]
[]
[null,"（3）",null,"試合登録メンバー（選手および役員）の確認"]
[]
[null,"（４）",null,"試合時間"]
[null,null,"○","試合時間は 40分（20分ハーフ）とし、ハーフタイムのインターバル（前半終了から後半開始まで）は原則として10分とする。"]
[]
[null,null,"○","飲水タイムをとる場合は、「その他の理由」により空費された時間として追加する。"]
[null,null,"○","アディッショナルタイムの標記:",null,null,null,null,null,null,null,null,null,null,"行う（口頭もしくは、表示用ボード）"]
[null,"（5）",null,"次回戦進出チームの決定方法"]
[null,null,"○","次回戦進出チームの決定方法は、1次リーグ・2次リーグにおいては、Ⅰ:勝点（勝3点　分け1点　負0点）　Ⅱ:当該チームの戦績　Ⅲ:PK戦の順で順位を決定する。1次リーグ・2次リーグにおいて、3チーム共に同率時のPK戦を行う場合は、2連勝したチームが次回戦進出とする。\n（次回戦進出チームを決定するPK方式においてフィールドプレーヤーをゴールキーパーとする場合、その選手と同番号のゴールキーパーユニフォーム又は、サブユニフォームのシャツを着用させる。）"]
[]
[]
[]
[]
[]
[null,"（6）",null,"競技者の数"]
[null,null,"○","試合開始時の人数は、8対8（内１人はゴールキーパー）とし、６人未満となった場合０－５の負けとする。"]
[null,null,"○","競技中、怪我人が出た場合は、交代要員から補充すること。"]
[null,null,"○","退場者が出た場合は、交代要員から補充し、退場者のベンチ戻入は認めない。"]
[null,null,"○","競技者の数がアンバランスになるのは、該当チームに交代要員がいなくなった時に限る。"]
[null,"（7）",null,"選手の交代"]
[null,null,"○","競技開始前に登録した最大10名の交代要員の中から、自由な交代が認められ、交代して退いた競技者は交代要員となり、再び出場することができる。（交代の回数は制限されない。）"]
[]
[null,null,"○","交代は、ボールがインプレー中、アウトオブプレー中にかかわらず行うことができ、チームの指導者、もしくは選手は「第4審」に交代選手の番号を口頭で報告し、用具チェックを受けた後、交代ゾーンから行う。ただし、交代で退く競技者が負傷している場合は、主審の承認を得た上でどこからフィールドを離れてもよい。また、ゴールキーパーが交代する場合はアウトプレー時に主審を通じ行う。"]
[]
[]
[null,"（8）",null,"チームベンチへの人数"]
[null,null,"ベンチに入るスタッフは、大会申込のスタッフ情報に申請した者の中から1名以上、３名以内とする。（内１名はJFA公認指導者ライセンスを有すること）また、交代要員となる選手は、10名を最大とする。"]
[]
[null,null,"※大会登録書（メンバー表）に記載された選手及び監督・役員以外のベンチ入りは認めない。"]
[null,"（9）",null,"ウォーミングアップ",null,null,null,null,null,null,null,"※　会場責任者の指示に従うこと！"]
[null,null,"***試合前***"]
[null,null,"○","場所："]
[null,null,"○","時間："]
[null,null,"○","ボール使用の可否：",null,null,null,null,null,null,"可"]
[null,null,"○","着衣：",null,null,"アップする選手は、前試合の両チームのユニおよび審判のユニと明確に異なる色の着衣（ビブス等）を身につけること。"]
[null,null,"***試合中***"]
[null,null,"○","場所：",null,null,"ベンチ横または後ろ"]
[null,null,"○","ボール使用の可否：",null,null,null,null,null,null,"否"]
[null,null,"○","着衣：",null,null,"交代要員の選手は、両チームのユニおよび審判のユニと明確に異なる色の着衣（ビブス等）を身につけること。"]
[null,"（10）",null,"コーチング"]
[null,null,"○","戦術的指示を与える際は、その都度ただ1名の役員(監督に限定されない)のみが、テクニカルエリア(ベンチの両端から１メ－トルとタッチラインから1メ－トル)内で行うこと。"]
[]
[null,null,"○","選手への厳しい叱責や体罰等があったと認められ，主審から一度注意を受けた後に再度同様な行為があった場合は，主審の判断により退席処分とし，それ以降はベンチからのコーチングを不可とする。それ以降の試合については，規律・フェアプレー委員会において協議し，処分することもある。\n"]
[]
[]
[null,"（11）",null,"選手のけがの治療"]
[null,null,"○","レフェリ－が認める特別な場合でないかぎり、フィ－ルド内での医療処置は一切認められない。"]
[null,null,"○","ケガをした選手が運び出されたり、主審の許可によりフィ－ルドを出ることが認められる場合、医療担当者は医療処置をフィ－ルドの外で行う。"]
[]
[null,null,"○","主審の指示を受けた場合にのみ、2名以内のチ－ム役員と担架がフィ－ルドに入ることができる。"]
[null,null,"○","ゴ－ルキ－パ－がケガをした場合は試合を中断し、フィ－ルド内で手当てを受けることが許される。手当てが終わってから試合は再開される。"]
[]
[null,null,"○","負傷により出血した選手は、出血が止まったことを審判が確認し、主審の合図を受けてからフィールドに復帰することができる。"]
[]
[null,null,"○","負傷した選手が交代ゾーン以外からピッチを離れ、交替する場合は交替ゾーンから交替する選手は入場する。負傷した選手が治療をおえ、再度交替し入場する場合も交替ゾーンから行う。"]
[]
[null,"（12）",null,"選手の品行"]
[null,null,"○","フェアプレー",null,null,null,null,null,null,null,"○","サッカーのイメージアップ"]
[null,null,"○","ソックスを引き上げる",null,null,null,null,null,null,null,null,null,"○","シャツをショーツの中に入れる"]
[null,null,"○","試合開始前および終了後のセレモニー"]
[null,"（13）",null,"試合球",null,null,null,"「4号検定球　各チーム持ち寄り」"]
[null,"（14）",null,"選手の用具　　",null,null,null,null,"大会実施要項　11)その他　⑤ユニフォームについて"]
[null,"・","シャツについては、胸番号/背番号必須で一致していることとし、色彩は、審判員が通常着用する黒色と明確に判別し得るものでなければならない。"]
[]
[null,"・","ユニフォームのデザイン、ロゴ等が異なっていても、本競技会主催者が認める場合、主たる色が同系色であれば着用することができる。"]
[]
[null,"・","ゴールキーパーのユニフォームについて、ショーツ、ソックスはフィールドプレーヤーと同色系でも良いものとする。"]
[null,"・","ソックスにテープまたはその他の材質のものを貼り付ける、または外部に着用する場合、ソックスと同色でなくても良い。 "]
[null,"・","アンダーシャツの色は問わない。ただし原則としてチーム内で同色のものを着用する。"]
[null,"・","アンダーショーツおよびタイツの色は問わない。ただし原則としてチーム内で同色のものを着用する。"]
[null,"・","すねあてを必ず着用。"]
[null,"・","ゴ－ルキ－パ－は、フィ－ルドの状態、天候によってはトラックスーツを着用しても良い。"]
[null,"（15）",null,"選手集合",null,null,null,"用具及びメンバーチェック　　キックオフ10分前"]
[null,"（16）",null,"キックオフ前のセレモニー",null,null,null,null,null,null,null,null,null,"キックオフ5分前"]
[null,null,"○","以下のように整列し、本部側に礼をした後、プレーの開始方法を確認する。（握手は行わない）"]
[null,null,null,"《",{"$f":"+C24","v":"組み合わせ左側チーム"},null,null,null,null,null,null,null,null,"》","＜審判団＞",null,null,null,null,null,"《",{"$f":"+C25","v":"組み合わせ右側チーム"},null,null,null,null,null,null,null,null,"》"]
[null,null,null,null,null,null,null,null,null,null,null,null,null,null,"本部"]
[3,"その他"]
[null,null,"①大会期間中は、常に選手証及び、指導者資格証、審判資格証を携帯し、必要に応じて提示すること。\n　また、指導者資格証、審判資格証を有していない、ベンチ入り予定の指導者については、顔写真の確認が出来る\n　証明書(運転免許証等)を携帯し、必要に応じて提示すること。 "]
[]
[null,null,"②本大会実施要項　11）その他　⑦の事項を、役員・保護者に周知徹底し、大会運営に協力すること。"]

{"sheet":"抽選方法","index":4,"n_rows":12,"n_cols":10,"rows_kept":12,"cut":false,"hidden":true,"merged":[]}
["No,",null,null,null,null,null,null,null,null,"抽選順"]
[1,"2次リーグ開催の","佐伯①","佐伯②",null,"を　＊3の",null,null,"で、2ブロックで分ける","1,2"]
[2,"各地区地元開催の","①","②",null,"を　＊1の",null,null,"で、2ブロックで分ける","3～10"]
[3,null,"豊肥①",null,null,"を　＊1の",null,null,"で、2ブロックで分ける",11]
[4,null,"臼杵・津久見①",null,null,"を　＊1の",null,null,"で、豊肥と反対パートに入れる",12]
[5,"余りの枠の",null,null,null,null,null,null,"を、豊肥会場/臼杵・津久見会場に設定する"]
[6,"地元開催無しの","宇佐高田①","宇佐高田②",null,"を　＊1の",null,null,null,"13,14"]
[7,null,"中津③","中津④",null,"を　＊3の",null,null,"で、4ブロックで分ける","15,16"]
[8,null,"速杵国東③",null,null,"を　＊3の",null,null,"で、4ブロックで分ける",17]
[9,null,"日田・玖珠③",null,null,"を　＊3の",null,null,"で、4ブロックで分ける",18]
[10,null,"別府③",null,null,"を　＊3の",null,null,"で、4ブロックで分ける",19]
[11,null,"大分",null,null,"を　フリー抽選",null,null,null,"20～36"]

{"sheet":"組み合わせ","index":5,"n_rows":111,"n_cols":188,"rows_kept":111,"cut":false,"hidden":false,"merged":[[110,61,111,72],[108,49,109,60],[110,49,111,60],[94,61,95,72],[96,61,97,72],[98,61,99,72],[100,61,101,72],[102,61,103,72],[104,61,105,72],[106,61,107,72],[108,61,109,72],[7,3,7,10],[7,11,7,13],[9,49,10,58],[106,37,107,48],[108,37,109,48],[110,37,111,48],[94,49,95,60],[96,49,97,60],[98,49,99,60],[100,49,101,60],[102,49,103,60],[104,49,105,60],[106,49,107,60],[94,37,95,48],[96,37,97,48],[98,37,99,48],[100,37,101,48],[102,37,103,48],[104,37,105,48],[88,37,89,48],[86,1,87,12],[86,37,87,48],[78,17,85,20],[48,53,77,56],[39,7,40,10],[39,11,40,30],[33,7,34,18],[33,19,34,30],[33,33,34,34],[39,43,40,46],[35,43,36,46],[35,47,36,66],[37,7,38,10],[37,43,38,46],[78,101,85,104],[78,105,85,108],[86,97,87,108],[47,81,47,84],[78,129,85,132],[78,137,85,140],[78,109,85,112],[78,113,85,116],[86,85,87,96],[78,117,85,120],[78,121,85,124],[78,125,85,128],[78,93,85,96],[48,93,77,96],[47,85,47,88],[48,117,77,120],[48,113,77,116],[15,145,16,161],[88,109,89,120],[88,121,89,132],[88,133,89,144],[78,141,85,144],[86,121,87,132],[86,133,87,144],[47,117,47,120],[33,79,34,90],[86,73,87,84],[78,89,85,92],[88,97,89,108],[35,83,36,102],[48,101,77,104],[78,97,85,100],[78,133,85,136],[48,133,77,136],[86,109,87,120],[37,119,38,138],[33,91,34,102],[33,115,34,126],[33,127,34,138],[39,119,40,138],[37,115,38,118],[4,3,4,15],[5,65,5,67],[6,119,6,121],[5,11,5,13],[5,57,5,64],[6,111,6,118],[6,65,6,67],[4,16,4,18],[6,11,6,13],[6,57,6,64],[5,3,5,10],[6,3,6,10],[5,14,5,56],[6,14,6,56],[5,68,5,110],[6,68,6,110],[88,73,89,84],[47,89,47,92],[88,13,89,24],[78,49,85,52],[78,13,85,16],[78,73,85,76],[78,77,85,80],[78,53,85,56],[48,29,77,32],[48,89,77,92],[48,17,77,20],[48,33,77,36],[48,37,77,40],[48,41,77,44],[48,85,77,88],[48,81,77,84],[48,77,77,80],[48,49,77,52],[78,21,85,24],[78,37,85,40],[78,41,85,44],[78,29,85,32],[78,33,85,36],[47,21,47,24],[88,61,89,72],[88,85,89,96],[47,17,47,20],[47,49,47,52],[47,13,47,16],[47,77,47,80],[86,13,87,24],[47,25,47,28],[47,57,47,60],[47,61,47,64],[47,69,47,72],[78,65,85,68],[78,69,85,72],[78,25,85,28],[47,29,47,32],[47,33,47,36],[78,61,85,64],[78,85,85,88],[47,73,47,76],[78,81,85,84],[78,57,85,60],[78,45,85,48],[86,49,87,60],[86,61,87,72],[48,13,77,16],[48,1,77,4],[48,9,77,12],[48,5,77,8],[48,25,77,28],[88,0,89,0],[86,0,87,0],[78,9,85,12],[78,1,85,4],[44,0,85,0],[78,5,85,8],[47,9,47,12],[88,1,89,12],[48,21,77,24],[88,25,89,36],[47,1,47,4],[47,5,47,8],[86,25,87,36],[88,49,89,60],[47,37,47,40],[47,41,47,44],[47,45,47,48],[48,45,77,48],[23,145,24,182],[26,119,28,140],[17,95,19,122],[32,115,32,138],[35,115,36,118],[26,83,28,104],[35,119,36,138],[23,103,24,114],[18,69,19,70],[33,105,34,106],[18,71,19,74],[18,75,19,76],[32,79,32,102],[20,69,21,70],[20,71,21,74],[29,129,30,140],[27,107,28,110],[29,57,30,68],[31,105,32,106],[29,0,43,0],[26,113,28,118],[26,5,28,10],[26,11,28,32],[26,41,28,46],[26,47,28,68],[25,33,26,40],[9,0,28,0],[31,33,32,34],[29,21,30,32],[35,39,36,40],[35,7,36,10],[35,11,36,30],[33,35,34,38],[23,31,24,42],[33,55,34,66],[9,59,10,96],[33,39,34,40],[32,43,32,66],[29,33,30,34],[32,7,32,30],[37,11,38,30],[35,35,36,38],[31,35,32,38],[29,35,30,38],[29,93,30,104],[7,57,7,64],[7,14,7,56],[7,68,7,110],[31,107,32,110],[47,113,47,116],[37,79,38,82],[35,105,36,106],[47,65,47,68],[37,83,38,102],[35,79,36,82],[35,33,36,34],[33,43,34,54],[37,47,38,66],[47,53,47,56],[2,0,2,182],[17,23,19,50],[17,145,18,182],[16,69,17,76],[20,75,21,76],[21,145,22,161],[9,145,10,161],[25,105,26,112],[22,69,23,70],[22,71,23,74],[22,75,23,76],[26,77,28,82],[27,111,28,112],[27,35,28,38],[27,33,28,34],[20,39,21,50],[20,111,21,122],[11,145,12,182],[14,67,15,78],[7,111,7,118],[7,119,7,121],[7,65,7,67],[6,122,6,164],[7,122,7,164],[47,141,47,144],[27,39,28,40],[27,105,28,106],[29,39,30,40],[47,121,47,124],[48,137,77,140],[47,125,47,128],[47,129,47,132],[48,121,77,124],[47,133,47,136],[48,125,77,128],[29,111,30,112],[33,107,34,110],[33,111,34,112],[47,109,47,112],[31,111,32,112],[29,107,30,110],[35,111,36,112],[29,105,30,106],[31,39,32,40],[47,137,47,140],[92,49,93,60],[92,61,93,72],[48,73,77,76],[48,69,77,72],[48,65,77,68],[48,57,77,60],[0,163,0,182],[0,0,0,162],[4,19,4,64],[47,93,47,96],[39,115,40,118],[48,105,77,108],[48,97,77,100],[39,79,40,82],[39,83,40,102],[48,61,77,64],[48,109,77,112],[35,107,36,110],[47,105,47,108],[47,101,47,104],[47,97,47,100],[39,47,40,66],[48,141,77,144],[48,129,77,132]]}
[{"$f":"抽選会資料!B1","v":"OFA 第 53 回大分県U-12サッカー大会　兼　KYFA 九州U-12サッカー大会大分県大会"},null,null,null,null,null,null,null,null,null,null,null,null,null,null,null,null,null,null,null,null,null,null,null,null,null,null,null,null,null,null,null,null,null,null,null,null,null,null,null,null,null,null,null,null,null,null,null,null,null,null,null,null,null,null,null,null,null,null,null,null,null,null,null,null,null,null,null,null,null,null,null,null,null,null,null,null,null,null,null,null,null,null,null,null,null,null,null,null,null,null,null,null,null,null,null,null,null,null,null,null,null,null,null,null,null,null,null,null,null,null,null,null,null,null,null,null,null,null,null,null,null,null,null,null,null,null,null,null,null,null,null,null,null,null,null,null,null,null,null,null,null,null,null,null,null,null,null,null,null,null,null,null,null,null,null,null,null,null,null,null,null,null,"組み合わせ"]
[]
["期日：2022（令和4）年1月30日（日）・2月6日（日）・12日（土）　→　23日（水）"]
["《会場》"]
["決勝・準決勝",null,null,{"$f":"抽選会資料!B60","v":"県協会人工芝"},null,null,null,null,null,null,null,null,null,null,null,null,"→",null,null,{"$f":"VLOOKUP(D5,抽選会資料!$B$52:$F$60,2,FALSE)","v":"大分県サッカー協会人工芝グラウンド"}]
["2次リーグ",null,null,{"$f":"抽選会資料!B58","v":"佐伯"},null,null,null,null,null,null,null,"→",null,null,{"$f":"VLOOKUP(D6,抽選会資料!$B$52:$F$60,2,FALSE)","v":"佐伯市総合運動公園多目的グラウンド(人工芝)"},null,null,null,null,null,null,null,null,null,null,null,null,null,null,null,null,null,null,null,null,null,null,null,null,null,null,null,null,null,null,null,null,null,null,null,null,null,null,null,null,null,null,{"$f":"抽選会資料!B59","v":"大分"},null,null,null,null,null,null,null,"→",null,null,{"$f":"VLOOKUP(BF6,抽選会資料!$B$52:$F$60,2,FALSE)","v":"大在東グラウンド"}]
["1次リーグ",null,null,{"$f":"抽選会資料!B52","v":"速杵国東"},null,null,null,null,null,null,null,"→",null,null,{"$f":"VLOOKUP(D7,抽選会資料!$B$52:$F$60,2,FALSE)","v":"フットボールセンター大分きつき(杵築市営サッカー場)"},null,null,null,null,null,null,null,null,null,null,null,null,null,null,null,null,null,null,null,null,null,null,null,null,null,null,null,null,null,null,null,null,null,null,null,null,null,null,null,null,null,null,{"$f":"抽選会資料!B53","v":"別府"},null,null,null,null,null,null,null,"→",null,null,{"$f":"VLOOKUP(BF7,抽選会資料!$B$52:$F$60,2,FALSE)","v":"実相寺サッカー競技場(人工芝)"},null,null,null,null,null,null,null,null,null,null,null,null,null,null,null,null,null,null,null,null,null,null,null,null,null,null,null,null,null,null,null,null,null,null,null,null,null,null,null,null,null,null,{"$f":"抽選会資料!B54","v":"津久見・臼杵"},null,null,null,null,null,null,null,"→",null,null,{"$f":"VLOOKUP(DH7,抽選会資料!$B$52:$F$60,2,FALSE)","v":"吉四六ランド陸上競技場"}]
[null,null,null,{"$f":"抽選会資料!B55","v":"日田・玖珠"},null,null,null,null,null,null,null,"→",null,null,{"$f":"VLOOKUP(D8,抽選会資料!$B$52:$F$60,2,FALSE)","v":"玖珠町総合運動公園"},null,null,null,null,null,null,null,null,null,null,null,null,null,null,null,null,null,null,null,null,null,null,null,null,null,null,null,null,null,null,null,null,null,null,null,null,null,null,null,null,null,null,{"$f":"抽選会資料!B56","v":"豊肥"},null,null,null,null,null,null,null,"→",null,null,{"$f":"VLOOKUP(BF8,抽選会資料!$B$52:$F$60,2,FALSE)","v":"サン・スポーツランドみえ"},null,null,null,null,null,null,null,null,null,null,null,null,null,null,null,null,null,null,null,null,null,null,null,null,null,null,null,null,null,null,null,null,null,null,null,null,null,null,null,null,null,null,{"$f":"抽選会資料!B57","v":"中津"},null,null,null,null,null,null,null,"→",null,null,{"$f":"VLOOKUP(DH8,抽選会資料!$B$52:$F$60,2,FALSE)","v":"永添運動公園人工芝多目的グラウンド"}]
[]
["2/12（土）\n↓\n延期\n2/23（水）\n\n決勝\n\n準決勝\n\n大会3日目",null,null,null,null,null,null,null,null,null,null,null,null,null,null,null,null,null,null,null,null,null,null,null,null,null,null,null,null,null,null,null,null,null,null,null,null,null,null,null,null,null,null,null,null,null,null,null,null,"＜優勝＞",null,null,null,null,null,null,null,null,null,"大分トリニータＵ－１２",null,null,null,null,null,null,null,null,null,null,null,null,null,null,null,null,null,null,null,null,null,null,null,null,null,null,null,null,null,null,null,null,null,null,null,null,null,null,null,null,null,null,null,null,null,null,null,null,null,null,null,null,null,null,null,null,null,null,null,null,null,null,null,null,null,null,null,null,null,null,null,null,null,null,null,null,null,null,null,null,null,null,null,null,null,"＜準優勝＞"]
[]
[null,null,null,null,null,null,null,null,null,null,null,null,null,null,null,null,null,null,null,null,null,null,null,null,null,null,null,null,null,null,null,null,null,null,null,null,null,null,null,null,null,null,null,null,null,null,null,null,null,null,null,null,null,null,null,null,null,null,null,null,null,null,null,null,null,null,null,null,null,null,null,null,null,null,null,null,null,null,null,null,null,null,null,null,null,null,null,null,null,null,null,null,null,null,null,null,null,null,null,null,null,null,null,null,null,null,null,null,null,null,null,null,null,null,null,null,null,null,null,null,null,null,null,null,null,null,null,null,null,null,null,null,null,null,null,null,null,null,null,null,null,null,null,null,null,"カティオーラフットボールクラブＵ－１２"]
[]
[]
[null,null,null,null,null,null,null,null,null,null,null,null,null,null,null,null,null,null,null,null,null,null,null,null,null,null,null,null,null,null,null,null,null,null,null,null,null,null,null,null,null,null,null,null,null,null,null,null,null,null,null,null,null,null,null,null,null,null,null,null,null,null,null,null,null,null,null,{"$f":"D5","v":"県協会人工芝"}]
[null,null,null,null,null,null,null,null,null,null,null,null,null,null,null,null,null,null,null,null,null,null,null,null,null,null,null,null,null,null,null,null,null,null,null,null,null,null,null,null,null,null,null,null,null,null,null,null,null,null,null,null,null,null,null,null,null,null,null,null,null,null,null,null,null,null,null,null,null,null,null,null,null,null,null,null,null,null,null,null,null,null,null,null,null,null,null,null,null,null,null,null,null,null,null,null,null,null,null,null,null,null,null,null,null,null,null,null,null,null,null,null,null,null,null,null,null,null,null,null,null,null,null,null,null,null,null,null,null,null,null,null,null,null,null,null,null,null,null,null,null,null,null,null,null,"＜３位＞"]
[null,null,null,null,null,null,null,null,null,null,null,null,null,null,null,null,null,null,null,null,null,null,null,null,null,null,null,null,null,null,null,null,null,null,null,null,null,null,null,null,null,null,null,null,null,null,null,null,null,null,null,null,null,null,null,null,null,null,null,null,null,null,null,null,null,null,null,null,null,"12:00～"]
[null,null,null,null,null,null,null,null,null,null,null,null,null,null,null,null,null,null,null,null,null,null,null,"カティオーラフットボールクラブＵ－１２",null,null,null,null,null,null,null,null,null,null,null,null,null,null,null,null,null,null,null,null,null,null,null,null,null,null,null,null,null,null,null,null,null,null,null,null,null,null,null,null,null,null,null,null,null,null,null,null,null,null,null,null,null,null,null,null,null,null,null,null,null,null,null,null,null,null,null,null,null,null,null,"大分トリニータＵ－１２",null,null,null,null,null,null,null,null,null,null,null,null,null,null,null,null,null,null,null,null,null,null,null,null,null,null,null,null,null,null,null,null,null,null,null,null,null,null,null,null,null,null,null,null,null,null,null,null,null,"スマイス　セレソン　スポーツクラブ"]
[null,null,null,null,null,null,null,null,null,null,null,null,null,null,null,null,null,null,null,null,null,null,null,null,null,null,null,null,null,null,null,null,null,null,null,null,null,null,null,null,null,null,null,null,null,null,null,null,null,null,null,null,null,null,null,null,null,null,null,null,null,null,null,null,null,null,null,null,null,0,null,"前半",null,null,null,2]
[]
[null,null,null,null,null,null,null,null,null,null,null,null,null,null,null,null,null,null,null,null,null,null,null,null,null,null,null,null,null,null,null,null,null,null,null,null,null,null,null,"（　　大分　　市）",null,null,null,null,null,null,null,null,null,null,null,null,null,null,null,null,null,null,null,null,null,null,null,null,null,null,null,null,null,1,null,"後半",null,null,null,1,null,null,null,null,null,null,null,null,null,null,null,null,null,null,null,null,null,null,null,null,null,null,null,null,null,null,null,null,null,null,null,null,null,null,null,"（　　大分　　市）"]
[null,null,null,null,null,null,null,null,null,null,null,null,null,null,null,null,null,null,null,null,null,null,null,null,null,null,null,null,null,null,null,null,null,null,null,null,null,null,null,null,null,null,null,null,null,null,null,null,null,null,null,null,null,null,null,null,null,null,null,null,null,null,null,null,null,null,null,null,null,null,null,null,null,null,null,null,null,null,null,null,null,null,null,null,null,null,null,null,null,null,null,null,null,null,null,null,null,null,null,null,null,null,null,null,null,null,null,null,null,null,null,null,null,null,null,null,null,null,null,null,null,null,null,null,null,null,null,null,null,null,null,null,null,null,null,null,null,null,null,null,null,null,null,null,null,"＜３位＞"]
[null,null,null,null,null,null,null,null,null,null,null,null,null,null,null,null,null,null,null,null,null,null,null,null,null,null,null,null,null,null,null,null,null,null,null,null,null,null,null,null,null,null,null,null,null,null,null,null,null,null,null,null,null,null,null,null,null,null,null,null,null,null,null,null,null,null,null,null,null,null,null,"PK"]
[null,null,null,null,null,null,null,null,null,null,null,null,null,null,null,null,null,null,null,null,null,null,null,null,null,null,null,null,null,null,null,{"$f":"D5","v":"県協会人工芝"},null,null,null,null,null,null,null,null,null,null,null,null,null,null,null,null,null,null,null,null,null,null,null,null,null,null,null,null,null,null,null,null,null,null,null,null,null,null,null,null,null,null,null,null,null,null,null,null,null,null,null,null,null,null,null,null,null,null,null,null,null,null,null,null,null,null,null,null,null,null,null,{"$f":"D5","v":"県協会人工芝"},null,null,null,null,null,null,null,null,null,null,null,null,null,null,null,null,null,null,null,null,null,null,null,null,null,null,null,null,null,null,null,null,null,null,null,null,null,null,null,null,null,"ＦＣアリアーレ"]
[]
[null,null,null,null,null,null,null,null,null,null,null,null,null,null,null,null,null,null,null,null,null,null,null,null,null,null,null,null,null,null,null,null,null,"9:30～",null,null,null,null,null,null,null,null,null,null,null,null,null,null,null,null,null,null,null,null,null,null,null,null,null,null,null,null,null,null,null,null,null,null,null,null,null,null,null,null,null,null,null,null,null,null,null,null,null,null,null,null,null,null,null,null,null,null,null,null,null,null,null,null,null,null,null,null,null,null,null,"9:30～"]
[null,null,null,null,null,"Aパート\n1位",null,null,null,null,null,"ＦＣアリアーレ",null,null,null,null,null,null,null,null,null,null,null,null,null,null,null,null,null,null,null,null,null,null,null,null,null,null,null,null,null,"Bパート\n1位",null,null,null,null,null,"カティオーラフットボールクラブＵ－１２",null,null,null,null,null,null,null,null,null,null,null,null,null,null,null,null,null,null,null,null,null,null,null,null,null,null,null,null,null,"Cパート\n1位",null,null,null,null,null,"大分トリニータＵ－１２",null,null,null,null,null,null,null,null,null,null,null,null,null,null,null,null,null,null,null,null,null,null,null,null,null,null,null,null,null,"Dパート\n1位",null,null,null,null,null,"スマイス　セレソン　スポーツクラブ"]
[null,null,null,null,null,null,null,null,null,null,null,null,null,null,null,null,null,null,null,null,null,null,null,null,null,null,null,null,null,null,null,null,null,0,null,"前半",null,null,null,0,null,null,null,null,null,null,null,null,null,null,null,null,null,null,null,null,null,null,null,null,null,null,null,null,null,null,null,null,null,null,null,null,null,null,null,null,null,null,null,null,null,null,null,null,null,null,null,null,null,null,null,null,null,null,null,null,null,null,null,null,null,null,null,null,null,4,null,"前半",null,null,null,0]
[]
["2/6（日）\n\n2次リーグ\n\n大会2日目",null,null,null,null,null,null,null,null,null,null,null,null,null,null,null,null,null,null,null,null,"（　　日田　　市）",null,null,null,null,null,null,null,null,null,null,null,1,null,"後半",null,null,null,1,null,null,null,null,null,null,null,null,null,null,null,null,null,null,null,null,null,"（　　大分　　市）",null,null,null,null,null,null,null,null,null,null,null,null,null,null,null,null,null,null,null,null,null,null,null,null,null,null,null,null,null,null,null,null,null,null,null,"（　　大分　　市）",null,null,null,null,null,null,null,null,null,null,null,5,null,"後半",null,null,null,0,null,null,null,null,null,null,null,null,null,null,null,null,null,null,null,null,null,"（　　大分　　市）"]
[]
[null,null,null,null,null,null,null,null,null,null,null,null,null,null,null,null,null,null,null,null,null,null,null,null,null,null,null,null,null,null,null,null,null,0,null,"延前",null,null,null,0]
[null,null,null,null,null,null,null,"2次リーグ　Aパート",null,null,null,null,null,null,null,null,null,null,null,null,null,null,null,null,null,null,null,null,null,null,null,null,null,null,null,null,null,null,null,null,null,null,null,"2次リーグ　Bパート",null,null,null,null,null,null,null,null,null,null,null,null,null,null,null,null,null,null,null,null,null,null,null,null,null,null,null,null,null,null,null,null,null,null,null,"2次リーグ　Cパート",null,null,null,null,null,null,null,null,null,null,null,null,null,null,null,null,null,null,null,null,null,null,null,null,null,null,null,null,null,null,null,null,null,null,null,"2次リーグ　Dパート"]
[null,null,null,null,null,null,null,"会場：",null,null,null,null,null,null,null,null,null,null,null,{"$f":"D6","v":"佐伯"},null,null,null,null,null,null,null,null,null,null,null,null,null,1,null,"延後",null,null,null,1,null,null,null,"会場：",null,null,null,null,null,null,null,null,null,null,null,{"$f":"BF6","v":"大分"},null,null,null,null,null,null,null,null,null,null,null,null,null,null,null,null,null,null,null,null,null,null,null,"会場：",null,null,null,null,null,null,null,null,null,null,null,{"$f":"D6","v":"佐伯"},null,null,null,null,null,null,null,null,null,null,null,null,null,null,null,null,null,null,null,null,null,null,null,"会場：",null,null,null,null,null,null,null,null,null,null,null,{"$f":"BF6","v":"大分"}]
[]
[null,null,null,null,null,null,null,"A",null,null,null,"ブルーウイングフットボールクラブ",null,null,null,null,null,null,null,null,null,null,null,null,null,null,null,null,null,null,null,null,null,0,null,"PK",null,null,null,2,null,null,null,"D",null,null,null,"明治北ＳＳＣ",null,null,null,null,null,null,null,null,null,null,null,null,null,null,null,null,null,null,null,null,null,null,null,null,null,null,null,null,null,null,null,"G",null,null,null,"大分トリニータＵ－１２",null,null,null,null,null,null,null,null,null,null,null,null,null,null,null,null,null,null,null,null,null,null,null,null,null,null,null,null,null,null,null,"J",null,null,null,"鶴居ＳＳＳ"]
[]
[null,null,null,null,null,null,null,"B",null,null,null,"ＦＣアリアーレ",null,null,null,null,null,null,null,null,null,null,null,null,null,null,null,null,null,null,null,null,null,null,null,null,null,null,null,null,null,null,null,"E",null,null,null,"カティオーラフットボールクラブＵ－１２",null,null,null,null,null,null,null,null,null,null,null,null,null,null,null,null,null,null,null,null,null,null,null,null,null,null,null,null,null,null,null,"H",null,null,null,"はやぶさフットボールクラブ",null,null,null,null,null,null,null,null,null,null,null,null,null,null,null,null,null,null,null,null,null,null,null,null,null,null,null,null,null,null,null,"K",null,null,null,"スマイス　セレソン　スポーツクラブ"]
[]
[null,null,null,null,null,null,null,"C",null,null,null,"ＦＣ大野",null,null,null,null,null,null,null,null,null,null,null,null,null,null,null,null,null,null,null,null,null,null,null,null,null,null,null,null,null,null,null,"F",null,null,null,"豊府サッカースポーツ少年団",null,null,null,null,null,null,null,null,null,null,null,null,null,null,null,null,null,null,null,null,null,null,null,null,null,null,null,null,null,null,null,"I",null,null,null,"ドリームキッズフットボールクラブ",null,null,null,null,null,null,null,null,null,null,null,null,null,null,null,null,null,null,null,null,null,null,null,null,null,null,null,null,null,null,null,"L",null,null,null,"ＫＩＮＧＳ　ＦＯＯＴＢＡＬＬＣＬＵＢ　Ｕ－１２"]
[]
[]
[]
[]
["1/30（日）\n\n1次リーグ\n\n大会1日目"]
[]
[]
[null,"A1",null,null,null,"A2",null,null,null,"A3",null,null,null,"B1",null,null,null,"B2",null,null,null,"B3",null,null,null,"C1",null,null,null,"C2",null,null,null,"C3",null,null,null,"D1",null,null,null,"D2",null,null,null,"D3",null,null,null,"E1",null,null,null,"E2",null,null,null,"E3",null,null,null,"F1",null,null,null,"F2",null,null,null,"F3",null,null,null,"G1",null,null,null,"G2",null,null,null,"G3",null,null,null,"H1",null,null,null,"H2",null,null,null,"H3",null,null,null,"I1",null,null,null,"I2",null,null,null,"I3",null,null,null,"J1",null,null,null,"J2",null,null,null,"J3",null,null,null,"K1",null,null,null,"K2",null,null,null,"K3",null,null,null,"L1",null,null,null,"L2",null,null,null,"L3",null,null,null,null,null,null,null,null,null,null,null,null,null,null,null,null,null,null,null,null,null,null,null,null,null,null,null,null,null,null,null,null,null,null,null,null,null,null,null,null,null,null,null,"抽選番号入力","チーム名入力（偶数）","地区入力"]
[null,{"$f":"IF(ISERROR(VLOOKUP(B48,$GD:$GF,2,FALSE))=TRUE,\"\",VLOOKUP(B48,$GD:$GF,2,FALSE))","v":"八坂少年サッカークラブ"},null,null,null,{"$f":"IF(ISERROR(VLOOKUP(F48,$GD:$GF,2,FALSE))=TRUE,\"\",VLOOKUP(F48,$GD:$GF,2,FALSE))","v":"ブルーウイングフットボールクラブ"},null,null,null,{"$f":"IF(ISERROR(VLOOKUP(J48,$GD:$GF,2,FALSE))=TRUE,\"\",VLOOKUP(J48,$GD:$GF,2,FALSE))","v":"鶴岡Ｓ―ｐｌａｙ・ＭＩＮＡＭＩ"},null,null,null,{"$f":"IF(ISERROR(VLOOKUP(N48,$GD:$GF,2,FALSE))=TRUE,\"\",VLOOKUP(N48,$GD:$GF,2,FALSE))","v":"ＦＣアリアーレ"},null,null,null,{"$f":"IF(ISERROR(VLOOKUP(R48,$GD:$GF,2,FALSE))=TRUE,\"\",VLOOKUP(R48,$GD:$GF,2,FALSE))","v":"大道サッカースポーツ少年団"},null,null,null,{"$f":"IF(ISERROR(VLOOKUP(V48,$GD:$GF,2,FALSE))=TRUE,\"\",VLOOKUP(V48,$GD:$GF,2,FALSE))","v":"スマイス・セレソンＢ"},null,null,null,{"$f":"IF(ISERROR(VLOOKUP(Z48,$GD:$GF,2,FALSE))=TRUE,\"\",VLOOKUP(Z48,$GD:$GF,2,FALSE))","v":"ＦＣ大野"},null,null,null,{"$f":"IF(ISERROR(VLOOKUP(AD48,$GD:$GF,2,FALSE))=TRUE,\"\",VLOOKUP(AD48,$GD:$GF,2,FALSE))","v":"Ｍ．Ｓ．Ｓ"},null,null,null,{"$f":"IF(ISERROR(VLOOKUP(AH48,$GD:$GF,2,FALSE))=TRUE,\"\",VLOOKUP(AH48,$GD:$GF,2,FALSE))","v":"ＦＣ　ＪＵＮＩＯＲＳ"},null,null,null,{"$f":"IF(ISERROR(VLOOKUP(AL48,$GD:$GF,2,FALSE))=TRUE,\"\",VLOOKUP(AL48,$GD:$GF,2,FALSE))","v":"ＦＣ中津ジュニア"},null,null,null,{"$f":"IF(ISERROR(VLOOKUP(AP48,$GD:$GF,2,FALSE))=TRUE,\"\",VLOOKUP(AP48,$GD:$GF,2,FALSE))","v":"明治北ＳＳＣ"},null,null,null,{"$f":"IF(ISERROR(VLOOKUP(AT48,$GD:$GF,2,FALSE))=TRUE,\"\",VLOOKUP(AT48,$GD:$GF,2,FALSE))","v":"スマイス日出"},null,null,null,{"$f":"IF(ISERROR(VLOOKUP(AX48,$GD:$GF,2,FALSE))=TRUE,\"\",VLOOKUP(AX48,$GD:$GF,2,FALSE))","v":"別府フットボールクラブ．ミネルバＵ－１２"},null,null,null,{"$f":"IF(ISERROR(VLOOKUP(BB48,$GD:$GF,2,FALSE))=TRUE,\"\",VLOOKUP(BB48,$GD:$GF,2,FALSE))","v":"カティオーラフットボールクラブＵ－１２"},null,null,null,{"$f":"IF(ISERROR(VLOOKUP(BF48,$GD:$GF,2,FALSE))=TRUE,\"\",VLOOKUP(BF48,$GD:$GF,2,FALSE))","v":"カティオーラフットボールクラブＵ－１２　松岡"},null,null,null,{"$f":"IF(ISERROR(VLOOKUP(BJ48,$GD:$GF,2,FALSE))=TRUE,\"\",VLOOKUP(BJ48,$GD:$GF,2,FALSE))","v":"ＦＣ　ＵＮＩＴＥ"},null,null,null,{"$f":"IF(ISERROR(VLOOKUP(BN48,$GD:$GF,2,FALSE))=TRUE,\"\",VLOOKUP(BN48,$GD:$GF,2,FALSE))","v":"明野東サッカースポーツ少年団"},null,null,null,{"$f":"IF(ISERROR(VLOOKUP(BR48,$GD:$GF,2,FALSE))=TRUE,\"\",VLOOKUP(BR48,$GD:$GF,2,FALSE))","v":"豊府サッカースポーツ少年団"},null,null,null,{"$f":"IF(ISERROR(VLOOKUP(BV48,$GD:$GF,2,FALSE))=TRUE,\"\",VLOOKUP(BV48,$GD:$GF,2,FALSE))","v":"四日市南ＳＳＣ"},null,null,null,{"$f":"IF(ISERROR(VLOOKUP(BZ48,$GD:$GF,2,FALSE))=TRUE,\"\",VLOOKUP(BZ48,$GD:$GF,2,FALSE))","v":"大分トリニータＵ－１２"},null,null,null,{"$f":"IF(ISERROR(VLOOKUP(CD48,$GD:$GF,2,FALSE))=TRUE,\"\",VLOOKUP(CD48,$GD:$GF,2,FALSE))","v":"鶴見少年サッカークラブ"},null,null,null,{"$f":"IF(ISERROR(VLOOKUP(CH48,$GD:$GF,2,FALSE))=TRUE,\"\",VLOOKUP(CH48,$GD:$GF,2,FALSE))","v":"はやぶさフットボールクラブ"},null,null,null,{"$f":"IF(ISERROR(VLOOKUP(CL48,$GD:$GF,2,FALSE))=TRUE,\"\",VLOOKUP(CL48,$GD:$GF,2,FALSE))","v":"リノスフットボールクラブ　Ｕ－１２"},null,null,null,{"$f":"IF(ISERROR(VLOOKUP(CP48,$GD:$GF,2,FALSE))=TRUE,\"\",VLOOKUP(CP48,$GD:$GF,2,FALSE))","v":"北郡坂ノ市サッカースポーツ少年団"},null,null,null,{"$f":"IF(ISERROR(VLOOKUP(CT48,$GD:$GF,2,FALSE))=TRUE,\"\",VLOOKUP(CT48,$GD:$GF,2,FALSE))","v":"ＯＫＹ山香サッカークラブ"},null,null,null,{"$f":"IF(ISERROR(VLOOKUP(CX48,$GD:$GF,2,FALSE))=TRUE,\"\",VLOOKUP(CX48,$GD:$GF,2,FALSE))","v":"ドリームキッズフットボールクラブ"},null,null,null,{"$f":"IF(ISERROR(VLOOKUP(DB48,$GD:$GF,2,FALSE))=TRUE,\"\",VLOOKUP(DB48,$GD:$GF,2,FALSE))","v":"玖珠サッカースポーツ少年団"},null,null,null,{"$f":"IF(ISERROR(VLOOKUP(DF48,$GD:$GF,2,FALSE))=TRUE,\"\",VLOOKUP(DF48,$GD:$GF,2,FALSE))","v":"千怒サッカースポーツ少年団"},null,null,null,{"$f":"IF(ISERROR(VLOOKUP(DJ48,$GD:$GF,2,FALSE))=TRUE,\"\",VLOOKUP(DJ48,$GD:$GF,2,FALSE))","v":"宗方サッカークラブ"},null,null,null,{"$f":"IF(ISERROR(VLOOKUP(DN48,$GD:$GF,2,FALSE))=TRUE,\"\",VLOOKUP(DN48,$GD:$GF,2,FALSE))","v":"鶴居ＳＳＳ"},null,null,null,{"$f":"IF(ISERROR(VLOOKUP(DR48,$GD:$GF,2,FALSE))=TRUE,\"\",VLOOKUP(DR48,$GD:$GF,2,FALSE))","v":"太陽スポーツクラブ大分西"},null,null,null,{"$f":"IF(ISERROR(VLOOKUP(DV48,$GD:$GF,2,FALSE))=TRUE,\"\",VLOOKUP(DV48,$GD:$GF,2,FALSE))","v":"スマイス　セレソン　スポーツクラブ"},null,null,null,{"$f":"IF(ISERROR(VLOOKUP(DZ48,$GD:$GF,2,FALSE))=TRUE,\"\",VLOOKUP(DZ48,$GD:$GF,2,FALSE))","v":"判田サッカースポーツ少年団"},null,null,null,{"$f":"IF(ISERROR(VLOOKUP(ED48,$GD:$GF,2,FALSE))=TRUE,\"\",VLOOKUP(ED48,$GD:$GF,2,FALSE))","v":"スマイス・セレソン"},null,null,null,{"$f":"IF(ISERROR(VLOOKUP(EH48,$GD:$GF,2,FALSE))=TRUE,\"\",VLOOKUP(EH48,$GD:$GF,2,FALSE))","v":"ＫＩＮＧＳ　ＦＯＯＴＢＡＬＬＣＬＵＢ　Ｕ－１２"},null,null,null,{"$f":"IF(ISERROR(VLOOKUP(EL48,$GD:$GF,2,FALSE))=TRUE,\"\",VLOOKUP(EL48,$GD:$GF,2,FALSE))","v":"西の台ＪＦＣ"},null,null,null,null,null,null,null,null,null,null,null,null,null,null,null,null,null,null,null,null,null,null,null,null,null,null,null,null,null,null,null,null,null,null,null,null,null,null,null,null,null,null,20,"L2",{"$f":"抽選会資料!C11","v":"ＫＩＮＧＳ　ＦＯＯＴＢＡＬＬＣＬＵＢ　Ｕ－１２"},"大分"]
[null,null,null,null,null,null,null,null,null,null,null,null,null,null,null,null,null,null,null,null,null,null,null,null,null,null,null,null,null,null,null,null,null,null,null,null,null,null,null,null,null,null,null,null,null,null,null,null,null,null,null,null,null,null,null,null,null,null,null,null,null,null,null,null,null,null,null,null,null,null,null,null,null,null,null,null,null,null,null,null,null,null,null,null,null,null,null,null,null,null,null,null,null,null,null,null,null,null,null,null,null,null,null,null,null,null,null,null,null,null,null,null,null,null,null,null,null,null,null,null,null,null,null,null,null,null,null,null,null,null,null,null,null,null,null,null,null,null,null,null,null,null,null,null,null,null,null,null,null,null,null,null,null,null,null,null,null,null,null,null,null,null,null,null,null,null,null,null,null,null,null,null,null,null,null,null,null,null,null,null,null,null,null,null,21,"K3",{"$f":"抽選会資料!C12","v":"判田サッカースポーツ少年団"},"大分"]
[null,null,null,null,null,null,null,null,null,null,null,null,null,null,null,null,null,null,null,null,null,null,null,null,null,null,null,null,null,null,null,null,null,null,null,null,null,null,null,null,null,null,null,null,null,null,null,null,null,null,null,null,null,null,null,null,null,null,null,null,null,null,null,null,null,null,null,null,null,null,null,null,null,null,null,null,null,null,null,null,null,null,null,null,null,null,null,null,null,null,null,null,null,null,null,null,null,null,null,null,null,null,null,null,null,null,null,null,null,null,null,null,null,null,null,null,null,null,null,null,null,null,null,null,null,null,null,null,null,null,null,null,null,null,null,null,null,null,null,null,null,null,null,null,null,null,null,null,null,null,null,null,null,null,null,null,null,null,null,null,null,null,null,null,null,null,null,null,null,null,null,null,null,null,null,null,null,null,null,null,null,null,null,null,22,"F3",{"$f":"抽選会資料!C13","v":"豊府サッカースポーツ少年団"},"大分"]
[null,null,null,null,null,null,null,null,null,null,null,null,null,null,null,null,null,null,null,null,null,null,null,null,null,null,null,null,null,null,null,null,null,null,null,null,null,null,null,null,null,null,null,null,null,null,null,null,null,null,null,null,null,null,null,null,null,null,null,null,null,null,null,null,null,null,null,null,null,null,null,null,null,null,null,null,null,null,null,null,null,null,null,null,null,null,null,null,null,null,null,null,null,null,null,null,null,null,null,null,null,null,null,null,null,null,null,null,null,null,null,null,null,null,null,null,null,null,null,null,null,null,null,null,null,null,null,null,null,null,null,null,null,null,null,null,null,null,null,null,null,null,null,null,null,null,null,null,null,null,null,null,null,null,null,null,null,null,null,null,null,null,null,null,null,null,null,null,null,null,null,null,null,null,null,null,null,null,null,null,null,null,null,null,23,"C2",{"$f":"抽選会資料!C14","v":"Ｍ．Ｓ．Ｓ"},"大分"]
[null,null,null,null,null,null,null,null,null,null,null,null,null,null,null,null,null,null,null,null,null,null,null,null,null,null,null,null,null,null,null,null,null,null,null,null,null,null,null,null,null,null,null,null,null,null,null,null,null,null,null,null,null,null,null,null,null,null,null,null,null,null,null,null,null,null,null,null,null,null,null,null,null,null,null,null,null,null,null,null,null,null,null,null,null,null,null,null,null,null,null,null,null,null,null,null,null,null,null,null,null,null,null,null,null,null,null,null,null,null,null,null,null,null,null,null,null,null,null,null,null,null,null,null,null,null,null,null,null,null,null,null,null,null,null,null,null,null,null,null,null,null,null,null,null,null,null,null,null,null,null,null,null,null,null,null,null,null,null,null,null,null,null,null,null,null,null,null,null,null,null,null,null,null,null,null,null,null,null,null,null,null,null,null,24,"E2",{"$f":"抽選会資料!C15","v":"カティオーラフットボールクラブＵ－１２"},"大分"]
[null,null,null,null,null,null,null,null,null,null,null,null,null,null,null,null,null,null,null,null,null,null,null,null,null,null,null,null,null,null,null,null,null,null,null,null,null,null,null,null,null,null,null,null,null,null,null,null,null,null,null,null,null,null,null,null,null,null,null,null,null,null,null,null,null,null,null,null,null,null,null,null,null,null,null,null,null,null,null,null,null,null,null,null,null,null,null,null,null,null,null,null,null,null,null,null,null,null,null,null,null,null,null,null,null,null,null,null,null,null,null,null,null,null,null,null,null,null,null,null,null,null,null,null,null,null,null,null,null,null,null,null,null,null,null,null,null,null,null,null,null,null,null,null,null,null,null,null,null,null,null,null,null,null,null,null,null,null,null,null,null,null,null,null,null,null,null,null,null,null,null,null,null,null,null,null,null,null,null,null,null,null,null,null,25,"E3",{"$f":"抽選会資料!C16","v":"カティオーラフットボールクラブＵ－１２　松岡"},"大分"]
[null,null,null,null,null,null,null,null,null,null,null,null,null,null,null,null,null,null,null,null,null,null,null,null,null,null,null,null,null,null,null,null,null,null,null,null,null,null,null,null,null,null,null,null,null,null,null,null,null,null,null,null,null,null,null,null,null,null,null,null,null,null,null,null,null,null,null,null,null,null,null,null,null,null,null,null,null,null,null,null,null,null,null,null,null,null,null,null,null,null,null,null,null,null,null,null,null,null,null,null,null,null,null,null,null,null,null,null,null,null,null,null,null,null,null,null,null,null,null,null,null,null,null,null,null,null,null,null,null,null,null,null,null,null,null,null,null,null,null,null,null,null,null,null,null,null,null,null,null,null,null,null,null,null,null,null,null,null,null,null,null,null,null,null,null,null,null,null,null,null,null,null,null,null,null,null,null,null,null,null,null,null,null,null,26,"J2",{"$f":"抽選会資料!C17","v":"宗方サッカークラブ"},"大分"]
[null,null,null,null,null,null,null,null,null,null,null,null,null,null,null,null,null,null,null,null,null,null,null,null,null,null,null,null,null,null,null,null,null,null,null,null,null,null,null,null,null,null,null,null,null,null,null,null,null,null,null,null,null,null,null,null,null,null,null,null,null,null,null,null,null,null,null,null,null,null,null,null,null,null,null,null,null,null,null,null,null,null,null,null,null,null,null,null,null,null,null,null,null,null,null,null,null,null,null,null,null,null,null,null,null,null,null,null,null,null,null,null,null,null,null,null,null,null,null,null,null,null,null,null,null,null,null,null,null,null,null,null,null,null,null,null,null,null,null,null,null,null,null,null,null,null,null,null,null,null,null,null,null,null,null,null,null,null,null,null,null,null,null,null,null,null,null,null,null,null,null,null,null,null,null,null,null,null,null,null,null,null,null,null,27,"D2",{"$f":"抽選会資料!C18","v":"明治北ＳＳＣ"},"大分"]
[null,null,null,null,null,null,null,null,null,null,null,null,null,null,null,null,null,null,null,null,null,null,null,null,null,null,null,null,null,null,null,null,null,null,null,null,null,null,null,null,null,null,null,null,null,null,null,null,null,null,null,null,null,null,null,null,null,null,null,null,null,null,null,null,null,null,null,null,null,null,null,null,null,null,null,null,null,null,null,null,null,null,null,null,null,null,null,null,null,null,null,null,null,null,null,null,null,null,null,null,null,null,null,null,null,null,null,null,null,null,null,null,null,null,null,null,null,null,null,null,null,null,null,null,null,null,null,null,null,null,null,null,null,null,null,null,null,null,null,null,null,null,null,null,null,null,null,null,null,null,null,null,null,null,null,null,null,null,null,null,null,null,null,null,null,null,null,null,null,null,null,null,null,null,null,null,null,null,null,null,null,null,null,null,28,"B2",{"$f":"抽選会資料!C19","v":"大道サッカースポーツ少年団"},"大分"]
[null,null,null,null,null,null,null,null,null,null,null,null,null,null,null,null,null,null,null,null,null,null,null,null,null,null,null,null,null,null,null,null,null,null,null,null,null,null,null,null,null,null,null,null,null,null,null,null,null,null,null,null,null,null,null,null,null,null,null,null,null,null,null,null,null,null,null,null,null,null,null,null,null,null,null,null,null,null,null,null,null,null,null,null,null,null,null,null,null,null,null,null,null,null,null,null,null,null,null,null,null,null,null,null,null,null,null,null,null,null,null,null,null,null,null,null,null,null,null,null,null,null,null,null,null,null,null,null,null,null,null,null,null,null,null,null,null,null,null,null,null,null,null,null,null,null,null,null,null,null,null,null,null,null,null,null,null,null,null,null,null,null,null,null,null,null,null,null,null,null,null,null,null,null,null,null,null,null,null,null,null,null,null,null,29,"H3",{"$f":"抽選会資料!C20","v":"北郡坂ノ市サッカースポーツ少年団"},"大分"]
[null,null,null,null,null,null,null,null,null,null,null,null,null,null,null,null,null,null,null,null,null,null,null,null,null,null,null,null,null,null,null,null,null,null,null,null,null,null,null,null,null,null,null,null,null,null,null,null,null,null,null,null,null,null,null,null,null,null,null,null,null,null,null,null,null,null,null,null,null,null,null,null,null,null,null,null,null,null,null,null,null,null,null,null,null,null,null,null,null,null,null,null,null,null,null,null,null,null,null,null,null,null,null,null,null,null,null,null,null,null,null,null,null,null,null,null,null,null,null,null,null,null,null,null,null,null,null,null,null,null,null,null,null,null,null,null,null,null,null,null,null,null,null,null,null,null,null,null,null,null,null,null,null,null,null,null,null,null,null,null,null,null,null,null,null,null,null,null,null,null,null,null,null,null,null,null,null,null,null,null,null,null,null,null,30,"H2",{"$f":"抽選会資料!C21","v":"リノスフットボールクラブ　Ｕ－１２"},"大分"]
[null,null,null,null,null,null,null,null,null,null,null,null,null,null,null,null,null,null,null,null,null,null,null,null,null,null,null,null,null,null,null,null,null,null,null,null,null,null,null,null,null,null,null,null,null,null,null,null,null,null,null,null,null,null,null,null,null,null,null,null,null,null,null,null,null,null,null,null,null,null,null,null,null,null,null,null,null,null,null,null,null,null,null,null,null,null,null,null,null,null,null,null,null,null,null,null,null,null,null,null,null,null,null,null,null,null,null,null,null,null,null,null,null,null,null,null,null,null,null,null,null,null,null,null,null,null,null,null,null,null,null,null,null,null,null,null,null,null,null,null,null,null,null,null,null,null,null,null,null,null,null,null,null,null,null,null,null,null,null,null,null,null,null,null,null,null,null,null,null,null,null,null,null,null,null,null,null,null,null,null,null,null,null,null,31,"L3",{"$f":"抽選会資料!C22","v":"西の台ＪＦＣ"},"大分"]
[null,null,null,null,null,null,null,null,null,null,null,null,null,null,null,null,null,null,null,null,null,null,null,null,null,null,null,null,null,null,null,null,null,null,null,null,null,null,null,null,null,null,null,null,null,null,null,null,null,null,null,null,null,null,null,null,null,null,null,null,null,null,null,null,null,null,null,null,null,null,null,null,null,null,null,null,null,null,null,null,null,null,null,null,null,null,null,null,null,null,null,null,null,null,null,null,null,null,null,null,null,null,null,null,null,null,null,null,null,null,null,null,null,null,null,null,null,null,null,null,null,null,null,null,null,null,null,null,null,null,null,null,null,null,null,null,null,null,null,null,null,null,null,null,null,null,null,null,null,null,null,null,null,null,null,null,null,null,null,null,null,null,null,null,null,null,null,null,null,null,null,null,null,null,null,null,null,null,null,null,null,null,null,null,32,"G2",{"$f":"抽選会資料!C23","v":"大分トリニータＵ－１２"},"大分"]
[null,null,null,null,null,null,null,null,null,null,null,null,null,null,null,null,null,null,null,null,null,null,null,null,null,null,null,null,null,null,null,null,null,null,null,null,null,null,null,null,null,null,null,null,null,null,null,null,null,null,null,null,null,null,null,null,null,null,null,null,null,null,null,null,null,null,null,null,null,null,null,null,null,null,null,null,null,null,null,null,null,null,null,null,null,null,null,null,null,null,null,null,null,null,null,null,null,null,null,null,null,null,null,null,null,null,null,null,null,null,null,null,null,null,null,null,null,null,null,null,null,null,null,null,null,null,null,null,null,null,null,null,null,null,null,null,null,null,null,null,null,null,null,null,null,null,null,null,null,null,null,null,null,null,null,null,null,null,null,null,null,null,null,null,null,null,null,null,null,null,null,null,null,null,null,null,null,null,null,null,null,null,null,null,33,"F2",{"$f":"抽選会資料!C24","v":"明野東サッカースポーツ少年団"},"大分"]
[null,null,null,null,null,null,null,null,null,null,null,null,null,null,null,null,null,null,null,null,null,null,null,null,null,null,null,null,null,null,null,null,null,null,null,null,null,null,null,null,null,null,null,null,null,null,null,null,null,null,null,null,null,null,null,null,null,null,null,null,null,null,null,null,null,null,null,null,null,null,null,null,null,null,null,null,null,null,null,null,null,null,null,null,null,null,null,null,null,null,null,null,null,null,null,null,null,null,null,null,null,null,null,null,null,null,null,null,null,null,null,null,null,null,null,null,null,null,null,null,null,null,null,null,null,null,null,null,null,null,null,null,null,null,null,null,null,null,null,null,null,null,null,null,null,null,null,null,null,null,null,null,null,null,null,null,null,null,null,null,null,null,null,null,null,null,null,null,null,null,null,null,null,null,null,null,null,null,null,null,null,null,null,null,34,"I2",{"$f":"抽選会資料!C25","v":"ドリームキッズフットボールクラブ"},"大分"]
[null,null,null,null,null,null,null,null,null,null,null,null,null,null,null,null,null,null,null,null,null,null,null,null,null,null,null,null,null,null,null,null,null,null,null,null,null,null,null,null,null,null,null,null,null,null,null,null,null,null,null,null,null,null,null,null,null,null,null,null,null,null,null,null,null,null,null,null,null,null,null,null,null,null,null,null,null,null,null,null,null,null,null,null,null,null,null,null,null,null,null,null,null,null,null,null,null,null,null,null,null,null,null,null,null,null,null,null,null,null,null,null,null,null,null,null,null,null,null,null,null,null,null,null,null,null,null,null,null,null,null,null,null,null,null,null,null,null,null,null,null,null,null,null,null,null,null,null,null,null,null,null,null,null,null,null,null,null,null,null,null,null,null,null,null,null,null,null,null,null,null,null,null,null,null,null,null,null,null,null,null,null,null,null,35,"K2",{"$f":"抽選会資料!C26","v":"スマイス　セレソン　スポーツクラブ"},"大分"]
[null,null,null,null,null,null,null,null,null,null,null,null,null,null,null,null,null,null,null,null,null,null,null,null,null,null,null,null,null,null,null,null,null,null,null,null,null,null,null,null,null,null,null,null,null,null,null,null,null,null,null,null,null,null,null,null,null,null,null,null,null,null,null,null,null,null,null,null,null,null,null,null,null,null,null,null,null,null,null,null,null,null,null,null,null,null,null,null,null,null,null,null,null,null,null,null,null,null,null,null,null,null,null,null,null,null,null,null,null,null,null,null,null,null,null,null,null,null,null,null,null,null,null,null,null,null,null,null,null,null,null,null,null,null,null,null,null,null,null,null,null,null,null,null,null,null,null,null,null,null,null,null,null,null,null,null,null,null,null,null,null,null,null,null,null,null,null,null,null,null,null,null,null,null,null,null,null,null,null,null,null,null,null,null,36,"A2",{"$f":"抽選会資料!C27","v":"ブルーウイングフットボールクラブ"},"大分"]
[]
[]
[]
[null,null,null,null,null,null,null,null,null,null,null,null,null,null,null,null,null,null,null,null,null,null,null,null,null,null,null,null,null,null,null,null,null,null,null,null,null,null,null,null,null,null,null,null,null,null,null,null,null,null,null,null,null,null,null,null,null,null,null,null,null,null,null,null,null,null,null,null,null,null,null,null,null,null,null,null,null,null,null,null,null,null,null,null,null,null,null,null,null,null,null,null,null,null,null,null,null,null,null,null,null,null,null,null,null,null,null,null,null,null,null,null,null,null,null,null,null,null,null,null,null,null,null,null,null,null,null,null,null,null,null,null,null,null,null,null,null,null,null,null,null,null,null,null,null,null,null,null,null,null,null,null,null,null,null,null,null,null,null,null,null,null,null,null,null,null,null,null,null,null,null,null,null,null,null,null,null,null,null,null,null,null,null,null,null,"抽選番号入力","チーム名入力（奇数）","地区入力"]
[null,null,null,null,null,null,null,null,null,null,null,null,null,null,null,null,null,null,null,null,null,null,null,null,null,null,null,null,null,null,null,null,null,null,null,null,null,null,null,null,null,null,null,null,null,null,null,null,null,null,null,null,null,null,null,null,null,null,null,null,null,null,null,null,null,null,null,null,null,null,null,null,null,null,null,null,null,null,null,null,null,null,null,null,null,null,null,null,null,null,null,null,null,null,null,null,null,null,null,null,null,null,null,null,null,null,null,null,null,null,null,null,null,null,null,null,null,null,null,null,null,null,null,null,null,null,null,null,null,null,null,null,null,null,null,null,null,null,null,null,null,null,null,null,null,null,null,null,null,null,null,null,null,null,null,null,null,null,null,null,null,null,null,null,null,null,null,null,null,null,null,null,null,null,null,null,null,null,null,null,null,null,null,null,3,"D1",{"$f":"抽選会資料!J11","v":"ＦＣ中津ジュニア"},"中津"]
[null,null,null,null,null,null,null,null,null,null,null,null,null,null,null,null,null,null,null,null,null,null,null,null,null,null,null,null,null,null,null,null,null,null,null,null,null,null,null,null,null,null,null,null,null,null,null,null,null,null,null,null,null,null,null,null,null,null,null,null,null,null,null,null,null,null,null,null,null,null,null,null,null,null,null,null,null,null,null,null,null,null,null,null,null,null,null,null,null,null,null,null,null,null,null,null,null,null,null,null,null,null,null,null,null,null,null,null,null,null,null,null,null,null,null,null,null,null,null,null,null,null,null,null,null,null,null,null,null,null,null,null,null,null,null,null,null,null,null,null,null,null,null,null,null,null,null,null,null,null,null,null,null,null,null,null,null,null,null,null,null,null,null,null,null,null,null,null,null,null,null,null,null,null,null,null,null,null,null,null,null,null,null,null,4,"H1",{"$f":"抽選会資料!J12","v":"はやぶさフットボールクラブ"},"中津"]
[null,null,null,null,null,null,null,null,null,null,null,null,null,null,null,null,null,null,null,null,null,null,null,null,null,null,null,null,null,null,null,null,null,null,null,null,null,null,null,null,null,null,null,null,null,null,null,null,null,null,null,null,null,null,null,null,null,null,null,null,null,null,null,null,null,null,null,null,null,null,null,null,null,null,null,null,null,null,null,null,null,null,null,null,null,null,null,null,null,null,null,null,null,null,null,null,null,null,null,null,null,null,null,null,null,null,null,null,null,null,null,null,null,null,null,null,null,null,null,null,null,null,null,null,null,null,null,null,null,null,null,null,null,null,null,null,null,null,null,null,null,null,null,null,null,null,null,null,null,null,null,null,null,null,null,null,null,null,null,null,null,null,null,null,null,null,null,null,null,null,null,null,null,null,null,null,null,null,null,null,null,null,null,null,15,"J3",{"$f":"抽選会資料!J13","v":"鶴居ＳＳＳ"},"中津"]
[null,null,null,null,null,null,null,null,null,null,null,null,null,null,null,null,null,null,null,null,null,null,null,null,null,null,null,null,null,null,null,null,null,null,null,null,null,null,null,null,null,null,null,null,null,null,null,null,null,null,null,null,null,null,null,null,null,null,null,null,null,null,null,null,null,null,null,null,null,null,null,null,null,null,null,null,null,null,null,null,null,null,null,null,null,null,null,null,null,null,null,null,null,null,null,null,null,null,null,null,null,null,null,null,null,null,null,null,null,null,null,null,null,null,null,null,null,null,null,null,null,null,null,null,null,null,null,null,null,null,null,null,null,null,null,null,null,null,null,null,null,null,null,null,null,null,null,null,null,null,null,null,null,null,null,null,null,null,null,null,null,null,null,null,null,null,null,null,null,null,null,null,null,null,null,null,null,null,null,null,null,null,null,null,16,"C3",{"$f":"抽選会資料!J14","v":"ＦＣ　ＪＵＮＩＯＲＳ"},"中津"]
[null,null,null,null,null,null,null,null,null,null,null,null,null,null,null,null,null,null,null,null,null,null,null,null,null,null,null,null,null,null,null,null,null,null,null,null,null,null,null,null,null,null,null,null,null,null,null,null,null,null,null,null,null,null,null,null,null,null,null,null,null,null,null,null,null,null,null,null,null,null,null,null,null,null,null,null,null,null,null,null,null,null,null,null,null,null,null,null,null,null,null,null,null,null,null,null,null,null,null,null,null,null,null,null,null,null,null,null,null,null,null,null,null,null,null,null,null,null,null,null,null,null,null,null,null,null,null,null,null,null,null,null,null,null,null,null,null,null,null,null,null,null,null,null,null,null,null,null,null,null,null,null,null,null,null,null,null,null,null,null,null,null,null,null,null,null,null,null,null,null,null,null,null,null,null,null,null,null,null,null,null,null,null,null,5,"I1",{"$f":"抽選会資料!J15","v":"ＯＫＹ山香サッカークラブ"},"速杵国東"]
[null,null,null,null,null,null,null,null,null,null,null,null,null,null,null,null,null,null,null,null,null,null,null,null,null,null,null,null,null,null,null,null,null,null,null,null,null,null,null,null,null,null,null,null,null,null,null,null,null,null,null,null,null,null,null,null,null,null,null,null,null,null,null,null,null,null,null,null,null,null,null,null,null,null,null,null,null,null,null,null,null,null,null,null,null,null,null,null,null,null,null,null,null,null,null,null,null,null,null,null,null,null,null,null,null,null,null,null,null,null,null,null,null,null,null,null,null,null,null,null,null,null,null,null,null,null,null,null,null,null,null,null,null,null,null,null,null,null,null,null,null,null,null,null,null,null,null,null,null,null,null,null,null,null,null,null,null,null,null,null,null,null,null,null,null,null,null,null,null,null,null,null,null,null,null,null,null,null,null,null,null,null,null,null,6,"A1",{"$f":"抽選会資料!J16","v":"八坂少年サッカークラブ"},"速杵国東"]
[null,null,null,null,null,null,null,null,null,null,null,null,null,null,null,null,null,null,null,null,null,null,null,null,null,null,null,null,null,null,null,null,null,null,null,null,null,null,null,null,null,null,null,null,null,null,null,null,null,null,null,null,null,null,null,null,null,null,null,null,null,null,null,null,null,null,null,null,null,null,null,null,null,null,null,null,null,null,null,null,null,null,null,null,null,null,null,null,null,null,null,null,null,null,null,null,null,null,null,null,null,null,null,null,null,null,null,null,null,null,null,null,null,null,null,null,null,null,null,null,null,null,null,null,null,null,null,null,null,null,null,null,null,null,null,null,null,null,null,null,null,null,null,null,null,null,null,null,null,null,null,null,null,null,null,null,null,null,null,null,null,null,null,null,null,null,null,null,null,null,null,null,null,null,null,null,null,null,null,null,null,null,null,null,17,"D3",{"$f":"抽選会資料!J17","v":"スマイス日出"},"速杵国東"]
[null,null,null,null,null,null,null,null,null,null,null,null,null,null,null,null,null,null,null,null,null,null,null,null,null,null,null,null,null,null,null,null,null,null,null,null,null,null,null,null,null,null,null,null,null,null,null,null,null,null,null,null,null,null,null,null,null,null,null,null,null,null,null,null,null,null,null,null,null,null,null,null,null,null,null,null,null,null,null,null,null,null,null,null,null,null,null,null,null,null,null,null,null,null,null,null,null,null,null,null,null,null,null,null,null,null,null,null,null,null,null,null,null,null,null,null,null,null,null,null,null,null,null,null,null,null,null,null,null,null,null,null,null,null,null,null,null,null,null,null,null,null,null,null,null,null,null,null,null,null,null,null,null,null,null,null,null,null,null,null,null,null,null,null,null,null,null,null,null,null,null,null,null,null,null,null,null,null,null,null,null,null,null,null,7,"B1",{"$f":"抽選会資料!J18","v":"ＦＣアリアーレ"},"日田・玖珠"]
[null,null,null,null,null,null,null,null,null,null,null,null,null,null,null,null,null,null,null,null,null,null,null,null,null,null,null,null,null,null,null,null,null,null,null,null,null,null,null,null,null,null,null,null,null,null,null,null,null,null,null,null,null,null,null,null,null,null,null,null,null,null,null,null,null,null,null,null,null,null,null,null,null,null,null,null,null,null,null,null,null,null,null,null,null,null,null,null,null,null,null,null,null,null,null,null,null,null,null,null,null,null,null,null,null,null,null,null,null,null,null,null,null,null,null,null,null,null,null,null,null,null,null,null,null,null,null,null,null,null,null,null,null,null,null,null,null,null,null,null,null,null,null,null,null,null,null,null,null,null,null,null,null,null,null,null,null,null,null,null,null,null,null,null,null,null,null,null,null,null,null,null,null,null,null,null,null,null,null,null,null,null,null,null,8,"K1",{"$f":"抽選会資料!J19","v":"太陽スポーツクラブ大分西"},"日田・玖珠"]
[null,{"$f":"IF(ISERROR(VLOOKUP(B48,$GD:$GF,3,FALSE))=TRUE,\"\",VLOOKUP(B48,$GD:$GF,3,FALSE))","v":"速杵国東"},null,null,null,{"$f":"IF(ISERROR(VLOOKUP(F48,$GD:$GF,3,FALSE))=TRUE,\"\",VLOOKUP(F48,$GD:$GF,3,FALSE))","v":"大分"},null,null,null,{"$f":"IF(ISERROR(VLOOKUP(J48,$GD:$GF,3,FALSE))=TRUE,\"\",VLOOKUP(J48,$GD:$GF,3,FALSE))","v":"佐伯"},null,null,null,{"$f":"IF(ISERROR(VLOOKUP(N48,$GD:$GF,3,FALSE))=TRUE,\"\",VLOOKUP(N48,$GD:$GF,3,FALSE))","v":"日田・玖珠"},null,null,null,{"$f":"IF(ISERROR(VLOOKUP(R48,$GD:$GF,3,FALSE))=TRUE,\"\",VLOOKUP(R48,$GD:$GF,3,FALSE))","v":"大分"},null,null,null,{"$f":"IF(ISERROR(VLOOKUP(V48,$GD:$GF,3,FALSE))=TRUE,\"\",VLOOKUP(V48,$GD:$GF,3,FALSE))","v":"別府"},null,null,null,{"$f":"IF(ISERROR(VLOOKUP(Z48,$GD:$GF,3,FALSE))=TRUE,\"\",VLOOKUP(Z48,$GD:$GF,3,FALSE))","v":"豊肥"},null,null,null,{"$f":"IF(ISERROR(VLOOKUP(AD48,$GD:$GF,3,FALSE))=TRUE,\"\",VLOOKUP(AD48,$GD:$GF,3,FALSE))","v":"大分"},null,null,null,{"$f":"IF(ISERROR(VLOOKUP(AH48,$GD:$GF,3,FALSE))=TRUE,\"\",VLOOKUP(AH48,$GD:$GF,3,FALSE))","v":"中津"},null,null,null,{"$f":"IF(ISERROR(VLOOKUP(AL48,$GD:$GF,3,FALSE))=TRUE,\"\",VLOOKUP(AL48,$GD:$GF,3,FALSE))","v":"中津"},null,null,null,{"$f":"IF(ISERROR(VLOOKUP(AP48,$GD:$GF,3,FALSE))=TRUE,\"\",VLOOKUP(AP48,$GD:$GF,3,FALSE))","v":"大分"},null,null,null,{"$f":"IF(ISERROR(VLOOKUP(AT48,$GD:$GF,3,FALSE))=TRUE,\"\",VLOOKUP(AT48,$GD:$GF,3,FALSE))","v":"速杵国東"},null,null,null,{"$f":"IF(ISERROR(VLOOKUP(AX48,$GD:$GF,3,FALSE))=TRUE,\"\",VLOOKUP(AX48,$GD:$GF,3,FALSE))","v":"別府"},null,null,null,{"$f":"IF(ISERROR(VLOOKUP(BB48,$GD:$GF,3,FALSE))=TRUE,\"\",VLOOKUP(BB48,$GD:$GF,3,FALSE))","v":"大分"},null,null,null,{"$f":"IF(ISERROR(VLOOKUP(BF48,$GD:$GF,3,FALSE))=TRUE,\"\",VLOOKUP(BF48,$GD:$GF,3,FALSE))","v":"大分"},null,null,null,{"$f":"IF(ISERROR(VLOOKUP(BJ48,$GD:$GF,3,FALSE))=TRUE,\"\",VLOOKUP(BJ48,$GD:$GF,3,FALSE))","v":"宇佐高田"},null,null,null,{"$f":"IF(ISERROR(VLOOKUP(BN48,$GD:$GF,3,FALSE))=TRUE,\"\",VLOOKUP(BN48,$GD:$GF,3,FALSE))","v":"大分"},null,null,null,{"$f":"IF(ISERROR(VLOOKUP(BR48,$GD:$GF,3,FALSE))=TRUE,\"\",VLOOKUP(BR48,$GD:$GF,3,FALSE))","v":"大分"},null,null,null,{"$f":"IF(ISERROR(VLOOKUP(BV48,$GD:$GF,3,FALSE))=TRUE,\"\",VLOOKUP(BV48,$GD:$GF,3,FALSE))","v":"宇佐高田"},null,null,null,{"$f":"IF(ISERROR(VLOOKUP(BZ48,$GD:$GF,3,FALSE))=TRUE,\"\",VLOOKUP(BZ48,$GD:$GF,3,FALSE))","v":"大分"},null,null,null,{"$f":"IF(ISERROR(VLOOKUP(CD48,$GD:$GF,3,FALSE))=TRUE,\"\",VLOOKUP(CD48,$GD:$GF,3,FALSE))","v":"佐伯"},null,null,null,{"$f":"IF(ISERROR(VLOOKUP(CH48,$GD:$GF,3,FALSE))=TRUE,\"\",VLOOKUP(CH48,$GD:$GF,3,FALSE))","v":"中津"},null,null,null,{"$f":"IF(ISERROR(VLOOKUP(CL48,$GD:$GF,3,FALSE))=TRUE,\"\",VLOOKUP(CL48,$GD:$GF,3,FALSE))","v":"大分"},null,null,null,{"$f":"IF(ISERROR(VLOOKUP(CP48,$GD:$GF,3,FALSE))=TRUE,\"\",VLOOKUP(CP48,$GD:$GF,3,FALSE))","v":"大分"},null,null,null,{"$f":"IF(ISERROR(VLOOKUP(CT48,$GD:$GF,3,FALSE))=TRUE,\"\",VLOOKUP(CT48,$GD:$GF,3,FALSE))","v":"速杵国東"},null,null,null,{"$f":"IF(ISERROR(VLOOKUP(CX48,$GD:$GF,3,FALSE))=TRUE,\"\",VLOOKUP(CX48,$GD:$GF,3,FALSE))","v":"大分"},null,null,null,{"$f":"IF(ISERROR(VLOOKUP(DB48,$GD:$GF,3,FALSE))=TRUE,\"\",VLOOKUP(DB48,$GD:$GF,3,FALSE))","v":"日田・玖珠"},null,null,null,{"$f":"IF(ISERROR(VLOOKUP(DF48,$GD:$GF,3,FALSE))=TRUE,\"\",VLOOKUP(DF48,$GD:$GF,3,FALSE))","v":"臼杵・津久見"},null,null,null,{"$f":"IF(ISERROR(VLOOKUP(DJ48,$GD:$GF,3,FALSE))=TRUE,\"\",VLOOKUP(DJ48,$GD:$GF,3,FALSE))","v":"大分"},null,null,null,{"$f":"IF(ISERROR(VLOOKUP(DN48,$GD:$GF,3,FALSE))=TRUE,\"\",VLOOKUP(DN48,$GD:$GF,3,FALSE))","v":"中津"},null,null,null,{"$f":"IF(ISERROR(VLOOKUP(DR48,$GD:$GF,3,FALSE))=TRUE,\"\",VLOOKUP(DR48,$GD:$GF,3,FALSE))","v":"日田・玖珠"},null,null,null,{"$f":"IF(ISERROR(VLOOKUP(DV48,$GD:$GF,3,FALSE))=TRUE,\"\",VLOOKUP(DV48,$GD:$GF,3,FALSE))","v":"大分"},null,null,null,{"$f":"IF(ISERROR(VLOOKUP(DZ48,$GD:$GF,3,FALSE))=TRUE,\"\",VLOOKUP(DZ48,$GD:$GF,3,FALSE))","v":"大分"},null,null,null,{"$f":"IF(ISERROR(VLOOKUP(ED48,$GD:$GF,3,FALSE))=TRUE,\"\",VLOOKUP(ED48,$GD:$GF,3,FALSE))","v":"別府"},null,null,null,{"$f":"IF(ISERROR(VLOOKUP(EH48,$GD:$GF,3,FALSE))=TRUE,\"\",VLOOKUP(EH48,$GD:$GF,3,FALSE))","v":"大分"},null,null,null,{"$f":"IF(ISERROR(VLOOKUP(EL48,$GD:$GF,3,FALSE))=TRUE,\"\",VLOOKUP(EL48,$GD:$GF,3,FALSE))","v":"大分"},null,null,null,null,null,null,null,null,null,null,null,null,null,null,null,null,null,null,null,null,null,null,null,null,null,null,null,null,null,null,null,null,null,null,null,null,null,null,null,null,null,null,18,"I3",{"$f":"抽選会資料!J20","v":"玖珠サッカースポーツ少年団"},"日田・玖珠"]
[null,null,null,null,null,null,null,null,null,null,null,null,null,null,null,null,null,null,null,null,null,null,null,null,null,null,null,null,null,null,null,null,null,null,null,null,null,null,null,null,null,null,null,null,null,null,null,null,null,null,null,null,null,null,null,null,null,null,null,null,null,null,null,null,null,null,null,null,null,null,null,null,null,null,null,null,null,null,null,null,null,null,null,null,null,null,null,null,null,null,null,null,null,null,null,null,null,null,null,null,null,null,null,null,null,null,null,null,null,null,null,null,null,null,null,null,null,null,null,null,null,null,null,null,null,null,null,null,null,null,null,null,null,null,null,null,null,null,null,null,null,null,null,null,null,null,null,null,null,null,null,null,null,null,null,null,null,null,null,null,null,null,null,null,null,null,null,null,null,null,null,null,null,null,null,null,null,null,null,null,null,null,null,null,9,"L1",{"$f":"抽選会資料!J21","v":"スマイス・セレソン"},"別府"]
[null,null,null,null,null,null,null,null,null,null,null,null,null,null,null,null,null,null,null,null,null,null,null,null,null,null,null,null,null,null,null,null,null,null,null,null,null,null,null,null,null,null,null,null,null,null,null,null,null,null,null,null,null,null,null,null,null,null,null,null,null,null,null,null,null,null,null,null,null,null,null,null,null,null,null,null,null,null,null,null,null,null,null,null,null,null,null,null,null,null,null,null,null,null,null,null,null,null,null,null,null,null,null,null,null,null,null,null,null,null,null,null,null,null,null,null,null,null,null,null,null,null,null,null,null,null,null,null,null,null,null,null,null,null,null,null,null,null,null,null,null,null,null,null,null,null,null,null,null,null,null,null,null,null,null,null,null,null,null,null,null,null,null,null,null,null,null,null,null,null,null,null,null,null,null,null,null,null,null,null,null,null,null,null,10,"E1",{"$f":"抽選会資料!J22","v":"別府フットボールクラブ．ミネルバＵ－１２"},"別府"]
[null,null,null,null,null,null,null,null,null,null,null,null,null,null,null,null,null,null,null,null,null,null,null,null,null,null,null,null,null,null,null,null,null,null,null,null,null,null,null,null,null,null,null,null,null,null,null,null,null,null,null,null,null,null,null,null,null,null,null,null,null,null,null,null,null,null,null,null,null,null,null,null,null,null,null,null,null,null,null,null,null,null,null,null,null,null,null,null,null,null,null,null,null,null,null,null,null,null,null,null,null,null,null,null,null,null,null,null,null,null,null,null,null,null,null,null,null,null,null,null,null,null,null,null,null,null,null,null,null,null,null,null,null,null,null,null,null,null,null,null,null,null,null,null,null,null,null,null,null,null,null,null,null,null,null,null,null,null,null,null,null,null,null,null,null,null,null,null,null,null,null,null,null,null,null,null,null,null,null,null,null,null,null,null,19,"B3",{"$f":"抽選会資料!J23","v":"スマイス・セレソンＢ"},"別府"]
[null,null,null,null,null,null,null,null,null,null,null,null,null,null,null,null,null,null,null,null,null,null,null,null,null,null,null,null,null,null,null,null,null,null,null,null,null,null,null,null,null,null,null,null,null,null,null,null,null,null,null,null,null,null,null,null,null,null,null,null,null,null,null,null,null,null,null,null,null,null,null,null,null,null,null,null,null,null,null,null,null,null,null,null,null,null,null,null,null,null,null,null,null,null,null,null,null,null,null,null,null,null,null,null,null,null,null,null,null,null,null,null,null,null,null,null,null,null,null,null,null,null,null,null,null,null,null,null,null,null,null,null,null,null,null,null,null,null,null,null,null,null,null,null,null,null,null,null,null,null,null,null,null,null,null,null,null,null,null,null,null,null,null,null,null,null,null,null,null,null,null,null,null,null,null,null,null,null,null,null,null,null,null,null,13,"G1",{"$f":"抽選会資料!J24","v":"四日市南ＳＳＣ"},"宇佐高田"]
[null,null,null,null,null,null,null,null,null,null,null,null,null,null,null,null,null,null,null,null,null,null,null,null,null,null,null,null,null,null,null,null,null,null,null,null,null,null,null,null,null,null,null,null,null,null,null,null,null,null,null,null,null,null,null,null,null,null,null,null,null,null,null,null,null,null,null,null,null,null,null,null,null,null,null,null,null,null,null,null,null,null,null,null,null,null,null,null,null,null,null,null,null,null,null,null,null,null,null,null,null,null,null,null,null,null,null,null,null,null,null,null,null,null,null,null,null,null,null,null,null,null,null,null,null,null,null,null,null,null,null,null,null,null,null,null,null,null,null,null,null,null,null,null,null,null,null,null,null,null,null,null,null,null,null,null,null,null,null,null,null,null,null,null,null,null,null,null,null,null,null,null,null,null,null,null,null,null,null,null,null,null,null,null,14,"F1",{"$f":"抽選会資料!J25","v":"ＦＣ　ＵＮＩＴＥ"},"宇佐高田"]
[null,null,null,null,null,null,null,null,null,null,null,null,null,null,null,null,null,null,null,null,null,null,null,null,null,null,null,null,null,null,null,null,null,null,null,null,null,null,null,null,null,null,null,null,null,null,null,null,null,null,null,null,null,null,null,null,null,null,null,null,null,null,null,null,null,null,null,null,null,null,null,null,null,null,null,null,null,null,null,null,null,null,null,null,null,null,null,null,null,null,null,null,null,null,null,null,null,null,null,null,null,null,null,null,null,null,null,null,null,null,null,null,null,null,null,null,null,null,null,null,null,null,null,null,null,null,null,null,null,null,null,null,null,null,null,null,null,null,null,null,null,null,null,null,null,null,null,null,null,null,null,null,null,null,null,null,null,null,null,null,null,null,null,null,null,null,null,null,null,null,null,null,null,null,null,null,null,null,null,null,null,null,null,null,1,"A3",{"$f":"抽選会資料!J26","v":"鶴岡Ｓ―ｐｌａｙ・ＭＩＮＡＭＩ"},"佐伯"]
[null,null,null,null,null,null,null,null,null,null,null,null,null,null,null,null,null,null,null,null,null,null,null,null,null,null,null,null,null,null,null,null,null,null,null,null,null,null,null,null,null,null,null,null,null,null,null,null,null,null,null,null,null,null,null,null,null,null,null,null,null,null,null,null,null,null,null,null,null,null,null,null,null,null,null,null,null,null,null,null,null,null,null,null,null,null,null,null,null,null,null,null,null,null,null,null,null,null,null,null,null,null,null,null,null,null,null,null,null,null,null,null,null,null,null,null,null,null,null,null,null,null,null,null,null,null,null,null,null,null,null,null,null,null,null,null,null,null,null,null,null,null,null,null,null,null,null,null,null,null,null,null,null,null,null,null,null,null,null,null,null,null,null,null,null,null,null,null,null,null,null,null,null,null,null,null,null,null,null,null,null,null,null,null,2,"G3",{"$f":"抽選会資料!J27","v":"鶴見少年サッカークラブ"},"佐伯"]
["会場",{"$f":"IF(B79=\"\",\"\",B79)","v":"速杵国東"},null,null,null,null,null,null,null,null,null,null,null,{"$f":"IF(N79=\"\",\"\",N79)","v":"日田・玖珠"},null,null,null,null,null,null,null,null,null,null,null,{"$f":"IF(Z79=\"\",\"\",Z79)","v":"豊肥"},null,null,null,null,null,null,null,null,null,null,null,{"$f":"IF(AL79=\"\",\"\",AL79)","v":"中津"},null,null,null,null,null,null,null,null,null,null,null,{"$f":"IF(AX79=\"\",\"\",AX79)","v":"別府"},null,null,null,null,null,null,null,null,null,null,null,{"$f":"IF(BJ79=\"\",\"\",BJ79)","v":"宇佐高田"},null,null,null,null,null,null,null,null,null,null,null,{"$f":"IF(BV79=\"\",\"\",BV79)","v":"宇佐高田"},null,null,null,null,null,null,null,null,null,null,null,{"$f":"IF(CH79=\"\",\"\",CH79)","v":"中津"},null,null,null,null,null,null,null,null,null,null,null,{"$f":"IF(CT79=\"\",\"\",CT79)","v":"速杵国東"},null,null,null,null,null,null,null,null,null,null,null,{"$f":"IF(DF79=\"\",\"\",DF79)","v":"臼杵・津久見"},null,null,null,null,null,null,null,null,null,null,null,{"$f":"IF(DR79=\"\",\"\",DR79)","v":"日田・玖珠"},null,null,null,null,null,null,null,null,null,null,null,{"$f":"IF(ED79=\"\",\"\",ED79)","v":"別府"},null,null,null,null,null,null,null,null,null,null,null,null,null,null,null,null,null,null,null,null,null,null,null,null,null,null,null,null,null,null,null,null,null,null,null,null,null,null,null,null,null,null,null,null,null,null,null,null,null,null,11,"C1",{"$f":"抽選会資料!J28","v":"ＦＣ大野"},"豊肥"]
[null,null,null,null,null,null,null,null,null,null,null,null,null,null,null,null,null,null,null,null,null,null,null,null,null,null,null,null,null,null,null,null,null,null,null,null,null,null,null,null,null,null,null,null,null,null,null,null,null,null,null,null,null,null,null,null,null,null,null,null,null,null,null,null,null,null,null,null,null,null,null,null,null,null,null,null,null,null,null,null,null,null,null,null,null,null,null,null,null,null,null,null,null,null,null,null,null,null,null,null,null,null,null,null,null,null,null,null,null,null,null,null,null,null,null,null,null,null,null,null,null,null,null,null,null,null,null,null,null,null,null,null,null,null,null,null,null,null,null,null,null,null,null,null,null,null,null,null,null,null,null,null,null,null,null,null,null,null,null,null,null,null,null,null,null,null,null,null,null,null,null,null,null,null,null,null,null,null,null,null,null,null,null,null,12,"J1",{"$f":"抽選会資料!J29","v":"千怒サッカースポーツ少年団"},"臼杵・津久見"]
["パート","A",null,null,null,null,null,null,null,null,null,null,null,"B",null,null,null,null,null,null,null,null,null,null,null,"C",null,null,null,null,null,null,null,null,null,null,null,"D",null,null,null,null,null,null,null,null,null,null,null,"E",null,null,null,null,null,null,null,null,null,null,null,"F",null,null,null,null,null,null,null,null,null,null,null,"G",null,null,null,null,null,null,null,null,null,null,null,"H",null,null,null,null,null,null,null,null,null,null,null,"I",null,null,null,null,null,null,null,null,null,null,null,"J",null,null,null,null,null,null,null,null,null,null,null,"K",null,null,null,null,null,null,null,null,null,null,null,"L"]
[]
[]
[]
[null,null,null,null,null,null,null,null,null,null,null,null,null,null,null,null,null,null,null,null,null,null,null,null,null,null,null,null,null,null,null,null,null,null,null,null,null,null,null,null,null,null,null,null,null,null,null,null,null,"パート",null,null,null,null,null,null,null,null,null,null,null,"パート"]
[]
[null,null,null,null,null,null,null,null,null,null,null,null,null,null,null,null,null,null,null,null,null,null,null,null,null,null,null,null,null,null,null,null,null,null,null,null,null,"中津",null,null,null,null,null,null,null,null,null,null,null,"D",null,null,null,null,null,null,null,null,null,null,null,"H"]
[]
[null,null,null,null,null,null,null,null,null,null,null,null,null,null,null,null,null,null,null,null,null,null,null,null,null,null,null,null,null,null,null,null,null,null,null,null,null,"速杵国東",null,null,null,null,null,null,null,null,null,null,null,"A",null,null,null,null,null,null,null,null,null,null,null,"I"]
[]
[null,null,null,null,null,null,null,null,null,null,null,null,null,null,null,null,null,null,null,null,null,null,null,null,null,null,null,null,null,null,null,null,null,null,null,null,null,"日田・玖珠",null,null,null,null,null,null,null,null,null,null,null,"B",null,null,null,null,null,null,null,null,null,null,null,"K"]
[]
[null,null,null,null,null,null,null,null,null,null,null,null,null,null,null,null,null,null,null,null,null,null,null,null,null,null,null,null,null,null,null,null,null,null,null,null,null,"別府",null,null,null,null,null,null,null,null,null,null,null,"E",null,null,null,null,null,null,null,null,null,null,null,"L"]
[]
[null,null,null,null,null,null,null,null,null,null,null,null,null,null,null,null,null,null,null,null,null,null,null,null,null,null,null,null,null,null,null,null,null,null,null,null,null,"佐伯"]
[]
[null,null,null,null,null,null,null,null,null,null,null,null,null,null,null,null,null,null,null,null,null,null,null,null,null,null,null,null,null,null,null,null,null,null,null,null,null,"宇佐高田"]
[]
[null,null,null,null,null,null,null,null,null,null,null,null,null,null,null,null,null,null,null,null,null,null,null,null,null,null,null,null,null,null,null,null,null,null,null,null,null,"豊肥",null,null,null,null,null,null,null,null,null,null,null,"C",null,null,null,null,null,null,null,null,null,null,null,"G"]
[]
[null,null,null,null,null,null,null,null,null,null,null,null,null,null,null,null,null,null,null,null,null,null,null,null,null,null,null,null,null,null,null,null,null,null,null,null,null,"津久見・臼杵",null,null,null,null,null,null,null,null,null,null,null,"J",null,null,null,null,null,null,null,null,null,null,null,"F"]
[]
[null,null,null,null,null,null,null,null,null,null,null,null,null,null,null,null,null,null,null,null,null,null,null,null,null,null,null,null,null,null,null,null,null,null,null,null,null,"大分"]

{"sheet":"全日程スケジュール","index":6,"n_rows":79,"n_cols":18,"rows_kept":79,"cut":false,"hidden":false,"merged":[[32,0,33,0],[22,0,23,0],[39,10,39,12],[34,3,34,17],[21,13,21,15],[21,16,21,17],[21,6,21,7],[21,8,21,10],[21,11,21,12],[21,3,21,5],[39,5,39,7],[24,2,25,2],[28,2,29,2],[30,0,31,0],[30,1,31,1],[30,2,31,2],[28,0,29,0],[24,0,25,0],[28,1,29,1],[0,0,0,9],[51,0,52,0],[51,1,52,1],[51,2,52,2],[49,2,50,2],[45,1,46,1],[41,2,42,2],[45,2,46,2],[4,5,4,7],[8,0,9,0],[10,0,11,0],[24,1,25,1],[49,0,50,0],[45,0,46,0],[47,0,48,0],[49,1,50,1],[47,1,48,1],[43,0,44,0],[40,3,40,5],[40,6,40,7],[40,8,40,10],[12,0,13,0],[14,0,15,0],[0,10,0,12],[4,10,4,12],[10,2,11,2],[5,11,5,12],[6,1,7,1],[6,2,7,2],[20,5,20,7],[16,1,17,1],[16,2,17,2],[18,3,18,17],[5,16,5,17],[8,1,9,1],[8,2,9,2],[10,1,11,1],[4,15,4,17],[5,3,5,5],[5,13,5,15],[5,6,5,7],[5,8,5,10],[20,15,20,17],[12,1,13,1],[12,2,13,2],[14,1,15,1],[14,2,15,2],[20,10,20,12],[74,3,74,12],[69,3,69,12],[59,3,59,12],[72,6,73,7],[71,6,71,7],[70,3,70,10],[32,1,33,1],[32,2,33,2],[22,1,23,1],[22,2,23,2],[26,1,27,1],[26,2,27,2],[62,6,62,7],[47,2,48,2],[43,1,44,1],[43,2,44,2],[61,2,64,2],[61,1,64,1],[40,11,40,12],[6,0,7,0],[41,0,42,0],[41,1,42,1],[70,1,73,1],[70,2,73,2],[63,6,64,7],[66,6,66,7],[67,6,68,7],[65,2,68,2],[60,3,60,12],[61,3,61,10],[65,3,65,10],[63,3,64,5],[67,3,68,5],[72,3,73,5],[72,8,73,10],[63,8,64,10],[67,8,68,10],[65,1,68,1],[53,3,53,12],[26,0,27,0],[69,0,73,0],[60,0,68,0],[16,0,17,0]]}
[{"$f":"抽選会資料!B1","v":"OFA 第 53 回大分県U-12サッカー大会　兼　KYFA 九州U-12サッカー大会大分県大会"},null,null,null,null,null,null,null,null,null,"全日程スケジュール"]
[]
[null,"（１）期日","1月30日（日）1次リーグ"]
[null,"（２）日程","各会場にて、各パートの第1試合開始70分前に、各パートのマッチコーディネーションミーティング(MCM)を、3チーム同時に行います。"]
[null,null,null,"会場：",{"$f":"組み合わせ!D7","v":"速杵国東"},{"$f":"VLOOKUP(E5,抽選会資料!$B$52:$F$60,2,FALSE)","v":"フットボールセンター大分きつき(杵築市営サッカー場)"},null,null,"会場：",{"$f":"組み合わせ!BF7","v":"別府"},{"$f":"VLOOKUP(J5,抽選会資料!$B$52:$F$60,2,FALSE)","v":"実相寺サッカー競技場(人工芝)"},null,null,"会場：",{"$f":"組み合わせ!DH7","v":"津久見・臼杵"},{"$f":"VLOOKUP(O5,抽選会資料!$B$52:$F$60,2,FALSE)","v":"吉四六ランド陸上競技場"}]
[null,"８：３０～","会場設営","設営担当者or対応協会",null,null,"審判員",null,"設営担当者or対応協会",null,null,"審判員",null,"設営担当者or対応協会",null,null,"審判員"]
["①","１０：００～","１次リーグ",null,null,null,"R：本部","A1：②帯同",null,null,null,"R：本部","A1：②帯同",null,null,null,"R：本部","A1：②帯同"]
[null,null,null,{"$f":"'１次リーグ（速杵国東）'!$B$12","v":"八坂少年サッカークラブ"},"vs",{"$f":"'１次リーグ（速杵国東）'!$J$12","v":"ブルーウイングフットボールクラブ"},"4th：本部","A2：②帯同",{"$f":"'１次リーグ（別府）'!$B$12","v":"別府フットボールクラブ．ミネルバＵ－１２"},"vs",{"$f":"'１次リーグ（別府）'!$J$12","v":"カティオーラフットボールクラブＵ－１２"},"4th：本部","A2：②帯同",{"$f":"'１次リーグ（津久見・臼杵）'!$B$12","v":"千怒サッカースポーツ少年団"},"vs",{"$f":"'１次リーグ（津久見・臼杵）'!$J$12","v":"宗方サッカークラブ"},"4th：本部","A2：②帯同"]
["②","１１：００～","〃",null,null,null,"R：本部","A1：①帯同",null,null,null,"R：本部","A1：①帯同",null,null,null,"R：本部","A1：①帯同"]
[null,null,null,{"$f":"'１次リーグ（速杵国東）'!$N$12","v":"ＯＫＹ山香サッカークラブ"},"vs",{"$f":"'１次リーグ（速杵国東）'!$V$12","v":"ドリームキッズフットボールクラブ"},"4th：本部","A2：①帯同",{"$f":"'１次リーグ（別府）'!$N$12","v":"スマイス・セレソン"},"vs",{"$f":"'１次リーグ（別府）'!$V$12","v":"ＫＩＮＧＳ　ＦＯＯＴＢＡＬＬＣＬＵＢ　Ｕ－１２"},"4th：本部","A2：①帯同",{"$f":"'１次リーグ（津久見・臼杵）'!$N$12","v":"ＦＣ　ＵＮＩＴＥ"},"vs",{"$f":"'１次リーグ（津久見・臼杵）'!$V$12","v":"明野東サッカースポーツ少年団"},"4th：本部","A2：①帯同"]
["③","１２：００～","〃",null,null,null,"R：本部","A1：④帯同",null,null,null,"R：本部","A1：④帯同",null,null,null,"R：本部","A1：④帯同"]
[null,null,null,{"$f":"'１次リーグ（速杵国東）'!$B$30","v":"ブルーウイングフットボールクラブ"},"vs",{"$f":"'１次リーグ（速杵国東）'!$J$30","v":"鶴岡Ｓ―ｐｌａｙ・ＭＩＮＡＭＩ"},"4th：本部","A2：④帯同",{"$f":"'１次リーグ（別府）'!$B$30","v":"カティオーラフットボールクラブＵ－１２"},"vs",{"$f":"'１次リーグ（別府）'!$J$30","v":"カティオーラフットボールクラブＵ－１２　松岡"},"4th：本部","A2：④帯同",{"$f":"'１次リーグ（津久見・臼杵）'!$B$30","v":"宗方サッカークラブ"},"vs",{"$f":"'１次リーグ（津久見・臼杵）'!$J$30","v":"鶴居ＳＳＳ"},"4th：本部","A2：④帯同"]
["④","１３：００～","〃",null,null,null,"R：本部","A1：③帯同",null,null,null,"R：本部","A1：③帯同",null,null,null,"R：本部","A1：③帯同"]
[null,null,null,{"$f":"'１次リーグ（速杵国東）'!$N$30","v":"ドリームキッズフットボールクラブ"},"vs",{"$f":"'１次リーグ（速杵国東）'!$V$30","v":"玖珠サッカースポーツ少年団"},"4th：本部","A2：③帯同",{"$f":"'１次リーグ（別府）'!$N$30","v":"ＫＩＮＧＳ　ＦＯＯＴＢＡＬＬＣＬＵＢ　Ｕ－１２"},"vs",{"$f":"'１次リーグ（別府）'!$V$30","v":"西の台ＪＦＣ"},"4th：本部","A2：③帯同",{"$f":"'１次リーグ（津久見・臼杵）'!$N$48","v":"明野東サッカースポーツ少年団"},"vs",{"$f":"'１次リーグ（津久見・臼杵）'!$V$48","v":"豊府サッカースポーツ少年団"},"4th：本部","A2：③帯同"]
["⑤","１４：００～","〃",null,null,null,"R：本部","A1：⑥帯同",null,null,null,"R：本部","A1：⑥帯同",null,null,null,"R：本部","A1：⑥帯同"]
[null,null,null,{"$f":"'１次リーグ（速杵国東）'!$B$48","v":"鶴岡Ｓ―ｐｌａｙ・ＭＩＮＡＭＩ"},"vs",{"$f":"'１次リーグ（速杵国東）'!$J$48","v":"八坂少年サッカークラブ"},"4th：本部","A2：⑥帯同",{"$f":"'１次リーグ（別府）'!$B$48","v":"カティオーラフットボールクラブＵ－１２　松岡"},"vs",{"$f":"'１次リーグ（別府）'!$J$48","v":"別府フットボールクラブ．ミネルバＵ－１２"},"4th：本部","A2：⑥帯同",{"$f":"'１次リーグ（津久見・臼杵）'!$B$48","v":"鶴居ＳＳＳ"},"vs",{"$f":"'１次リーグ（津久見・臼杵）'!$J$48","v":"千怒サッカースポーツ少年団"},"4th：本部","A2：⑥帯同"]
["⑥","１５：００～","〃",null,null,null,"R：本部","A1：⑤帯同",null,null,null,"R：本部","A1：⑤帯同",null,null,null,"R：本部","A1：⑤帯同"]
[null,null,null,{"$f":"'１次リーグ（速杵国東）'!$N$48","v":"玖珠サッカースポーツ少年団"},"vs",{"$f":"'１次リーグ（速杵国東）'!$V$48","v":"ＯＫＹ山香サッカークラブ"},"4th：本部","A2：⑤帯同",{"$f":"'１次リーグ（別府）'!$N$48","v":"西の台ＪＦＣ"},"vs",{"$f":"'１次リーグ（別府）'!$V$48","v":"スマイス・セレソン"},"4th：本部","A2：⑤帯同",{"$f":"'１次リーグ（津久見・臼杵）'!$N$30","v":"豊府サッカースポーツ少年団"},"vs",{"$f":"'１次リーグ（津久見・臼杵）'!$V$30","v":"ＦＣ　ＵＮＩＴＥ"},"4th：本部","A2：⑤帯同"]
[null,null,"片付け","⑥で試合をしたチームでフラッグ・本部・ゴール等を片付けます。"]
[]
[null,null,null,"会場：",{"$f":"組み合わせ!D8","v":"日田・玖珠"},{"$f":"VLOOKUP(E21,抽選会資料!$B$52:$F$60,2,FALSE)","v":"玖珠町総合運動公園"},null,null,"会場：",{"$f":"組み合わせ!BF8","v":"豊肥"},{"$f":"VLOOKUP(J21,抽選会資料!$B$52:$F$60,2,FALSE)","v":"サン・スポーツランドみえ"},null,null,"会場：",{"$f":"組み合わせ!DH8","v":"中津"},{"$f":"VLOOKUP(O21,抽選会資料!$B$52:$F$60,2,FALSE)","v":"永添運動公園人工芝多目的グラウンド"}]
[null,"８：３０～","会場設営","設営担当者or対応協会",null,null,"審判員",null,"設営担当者or対応協会",null,null,"審判員",null,"設営担当者or対応協会",null,null,"審判員"]
["①","１０：００～","１次リーグ",null,null,null,"R：本部","A1：②帯同",null,null,null,"R：本部","A1：②帯同",null,null,null,"R：本部","A1：②帯同"]
[null,null,null,{"$f":"'１次リーグ（日田・玖珠）'!$B$12","v":"ＦＣアリアーレ"},"vs",{"$f":"'１次リーグ（日田・玖珠）'!$J$12","v":"大道サッカースポーツ少年団"},"4th：本部","A2：②帯同",{"$f":"'１次リーグ（豊肥）'!$B$12","v":"ＦＣ大野"},"vs",{"$f":"'１次リーグ（豊肥）'!$J$12","v":"Ｍ．Ｓ．Ｓ"},"4th：本部","A2：②帯同",{"$f":"'１次リーグ（中津）'!$B$12","v":"ＦＣ中津ジュニア"},"vs",{"$f":"'１次リーグ（中津）'!$J$12","v":"明治北ＳＳＣ"},"4th：本部","A2：②帯同"]
["②","１１：００～","〃",null,null,null,"R：本部","A1：①帯同",null,null,null,"R：本部","A1：①帯同",null,null,null,"R：本部","A1：①帯同"]
[null,null,null,{"$f":"'１次リーグ（日田・玖珠）'!$N$12","v":"太陽スポーツクラブ大分西"},"vs",{"$f":"'１次リーグ（日田・玖珠）'!$V$12","v":"スマイス　セレソン　スポーツクラブ"},"4th：本部","A2：①帯同",{"$f":"'１次リーグ（豊肥）'!$N$12","v":"四日市南ＳＳＣ"},"vs",{"$f":"'１次リーグ（豊肥）'!$V$12","v":"大分トリニータＵ－１２"},"4th：本部","A2：①帯同",{"$f":"'１次リーグ（中津）'!$N$12","v":"はやぶさフットボールクラブ"},"vs",{"$f":"'１次リーグ（中津）'!$V$12","v":"リノスフットボールクラブ　Ｕ－１２"},"4th：本部","A2：①帯同"]
["③","１２：００～","〃",null,null,null,"R：本部","A1：④帯同",null,null,null,"R：本部","A1：④帯同",null,null,null,"R：本部","A1：④帯同"]
[null,null,null,{"$f":"'１次リーグ（日田・玖珠）'!$B$30","v":"大道サッカースポーツ少年団"},"vs",{"$f":"'１次リーグ（日田・玖珠）'!$J$30","v":"スマイス・セレソンＢ"},"4th：本部","A2：④帯同",{"$f":"'１次リーグ（豊肥）'!$B$30","v":"Ｍ．Ｓ．Ｓ"},"vs",{"$f":"'１次リーグ（豊肥）'!$J$30","v":"ＦＣ　ＪＵＮＩＯＲＳ"},"4th：本部","A2：④帯同",{"$f":"'１次リーグ（中津）'!$B$30","v":"明治北ＳＳＣ"},"vs",{"$f":"'１次リーグ（中津）'!$J$30","v":"スマイス日出"},"4th：本部","A2：④帯同"]
["④","１３：００～","〃",null,null,null,"R：本部","A1：③帯同",null,null,null,"R：本部","A1：③帯同",null,null,null,"R：本部","A1：③帯同"]
[null,null,null,{"$f":"'１次リーグ（日田・玖珠）'!$N$30","v":"スマイス　セレソン　スポーツクラブ"},"vs",{"$f":"'１次リーグ（日田・玖珠）'!$V$30","v":"判田サッカースポーツ少年団"},"4th：本部","A2：③帯同",{"$f":"'１次リーグ（豊肥）'!$N$30","v":"大分トリニータＵ－１２"},"vs",{"$f":"'１次リーグ（豊肥）'!$V$30","v":"鶴見少年サッカークラブ"},"4th：本部","A2：③帯同",{"$f":"'１次リーグ（中津）'!$N$48","v":"リノスフットボールクラブ　Ｕ－１２"},"vs",{"$f":"'１次リーグ（中津）'!$V$48","v":"北郡坂ノ市サッカースポーツ少年団"},"4th：本部","A2：③帯同"]
["⑤","１４：００～","〃",null,null,null,"R：本部","A1：⑥帯同",null,null,null,"R：本部","A1：⑥帯同",null,null,null,"R：本部","A1：⑥帯同"]
[null,null,null,{"$f":"'１次リーグ（日田・玖珠）'!$B$48","v":"スマイス・セレソンＢ"},"vs",{"$f":"'１次リーグ（日田・玖珠）'!$J$48","v":"ＦＣアリアーレ"},"4th：本部","A2：⑥帯同",{"$f":"'１次リーグ（豊肥）'!$B$48","v":"ＦＣ　ＪＵＮＩＯＲＳ"},"vs",{"$f":"'１次リーグ（豊肥）'!$J$48","v":"ＦＣ大野"},"4th：本部","A2：⑥帯同",{"$f":"'１次リーグ（中津）'!$B$48","v":"スマイス日出"},"vs",{"$f":"'１次リーグ（中津）'!$J$48","v":"ＦＣ中津ジュニア"},"4th：本部","A2：⑥帯同"]
["⑥","１５：００～","〃",null,null,null,"R：本部","A1：⑤帯同",null,null,null,"R：本部","A1：⑤帯同",null,null,null,"R：本部","A1：⑤帯同"]
[null,null,null,{"$f":"'１次リーグ（日田・玖珠）'!$N$48","v":"判田サッカースポーツ少年団"},"vs",{"$f":"'１次リーグ（日田・玖珠）'!$V$48","v":"太陽スポーツクラブ大分西"},"4th：本部","A2：⑤帯同",{"$f":"'１次リーグ（豊肥）'!$N$48","v":"鶴見少年サッカークラブ"},"vs",{"$f":"'１次リーグ（豊肥）'!$V$48","v":"四日市南ＳＳＣ"},"4th：本部","A2：⑤帯同",{"$f":"'１次リーグ（中津）'!$N$30","v":"北郡坂ノ市サッカースポーツ少年団"},"vs",{"$f":"'１次リーグ（中津）'!$V$30","v":"はやぶさフットボールクラブ"},"4th：本部","A2：⑤帯同"]
[null,null,"片付け","⑥で試合をしたチームでフラッグ・本部・ゴール等を片付けます。"]
[]
[]
[null,"（１）期日","2月6日（日）2次リーグ"]
[null,"（２）日程","各会場にて、各パートの第1試合開始70分前に、各パートのマッチコーディネーションミーティング(MCM)を、3チーム同時に行います。"]
[null,null,null,"会場：",{"$f":"組み合わせ!D6","v":"佐伯"},{"$f":"VLOOKUP(E40,抽選会資料!$B$52:$F$60,2,FALSE)","v":"佐伯市総合運動公園多目的グラウンド(人工芝)"},null,null,"会場：",{"$f":"組み合わせ!BF6","v":"大分"},{"$f":"VLOOKUP(J40,抽選会資料!$B$52:$F$60,2,FALSE)","v":"大在東グラウンド"}]
[null,"８：３０～","会場設営","設営担当者or対応協会",null,null,"審判員",null,"設営担当者or対応協会",null,null,"審判員"]
["①","１０：００～","２次リーグ",null,null,null,"R：本部","A1：②帯同",null,null,null,"R：本部","A1：②帯同"]
[null,null,null,{"$f":"'２次リーグ（佐伯）'!$B$12","v":"ブルーウイングフットボールクラブ"},"vs",{"$f":"'２次リーグ（佐伯）'!$J$12","v":"ＦＣアリアーレ"},"4th：本部","A2：②帯同",{"$f":"'２次リーグ（大分）'!$B$12","v":"明治北ＳＳＣ"},"vs",{"$f":"'２次リーグ（大分）'!$J$12","v":"カティオーラフットボールクラブＵ－１２"},"4th：本部","A2：②帯同"]
["②","１１：００～","〃",null,null,null,"R：本部","A1：①帯同",null,null,null,"R：本部","A1：①帯同"]
[null,null,null,{"$f":"'２次リーグ（佐伯）'!$N$12","v":"大分トリニータＵ－１２"},"vs",{"$f":"'２次リーグ（佐伯）'!$V$12","v":"はやぶさフットボールクラブ"},"4th：本部","A2：①帯同",{"$f":"'２次リーグ（大分）'!$N$12","v":"鶴居ＳＳＳ"},"vs",{"$f":"'２次リーグ（大分）'!$V$12","v":"スマイス　セレソン　スポーツクラブ"},"4th：本部","A2：①帯同"]
["③","１２：００～","〃",null,null,null,"R：本部","A1：④帯同",null,null,null,"R：本部","A1：④帯同"]
[null,null,null,{"$f":"'２次リーグ（佐伯）'!$B$30","v":"ＦＣアリアーレ"},"vs",{"$f":"'２次リーグ（佐伯）'!$J$30","v":"ＦＣ大野"},"4th：本部","A2：④帯同",{"$f":"'２次リーグ（大分）'!$B$30","v":"カティオーラフットボールクラブＵ－１２"},"vs",{"$f":"'２次リーグ（大分）'!$J$30","v":"豊府サッカースポーツ少年団"},"4th：本部","A2：④帯同"]
["④","１３：００～","〃",null,null,null,"R：本部","A1：③帯同",null,null,null,"R：本部","A1：③帯同"]
[null,null,null,{"$f":"'２次リーグ（佐伯）'!$N$30","v":"はやぶさフットボールクラブ"},"vs",{"$f":"'２次リーグ（佐伯）'!$V$30","v":"ドリームキッズフットボールクラブ"},"4th：本部","A2：③帯同",{"$f":"'２次リーグ（大分）'!$N$30","v":"スマイス　セレソン　スポーツクラブ"},"vs",{"$f":"'２次リーグ（大分）'!$V$30","v":"ＫＩＮＧＳ　ＦＯＯＴＢＡＬＬＣＬＵＢ　Ｕ－１２"},"4th：本部","A2：③帯同"]
["⑤","１４：００～","〃",null,null,null,"R：本部","A1：⑥帯同",null,null,null,"R：本部","A1：⑥帯同"]
[null,null,null,{"$f":"'２次リーグ（佐伯）'!$B$48","v":"ＦＣ大野"},"vs",{"$f":"'２次リーグ（佐伯）'!$J$48","v":"ブルーウイングフットボールクラブ"},"4th：本部","A2：⑥帯同",{"$f":"'２次リーグ（大分）'!$B$48","v":"豊府サッカースポーツ少年団"},"vs",{"$f":"'２次リーグ（大分）'!$J$48","v":"明治北ＳＳＣ"},"4th：本部","A2：⑥帯同"]
["⑥","１５：００～","〃",null,null,null,"R：本部","A1：⑤帯同",null,null,null,"R：本部","A1：⑤帯同"]
[null,null,null,{"$f":"'２次リーグ（佐伯）'!$N$48","v":"ドリームキッズフットボールクラブ"},"vs",{"$f":"'２次リーグ（佐伯）'!$V$48","v":"大分トリニータＵ－１２"},"4th：本部","A2：⑤帯同",{"$f":"'２次リーグ（大分）'!$N$48","v":"ＫＩＮＧＳ　ＦＯＯＴＢＡＬＬＣＬＵＢ　Ｕ－１２"},"vs",{"$f":"'２次リーグ（大分）'!$V$48","v":"鶴居ＳＳＳ"},"4th：本部","A2：⑤帯同"]
[null,null,"片付け","⑥で試合をしたチームでフラッグ・本部・ゴール等を片付けます。"]
[]
[]
[null,"（１）期日","2月12日（土）→延期 2月23日（水）　準決勝(代表決定戦) / 決勝(順位決定戦)"]
[null,"（２）日程"]
[null,null,null,"会場：",{"$f":"組み合わせ!D5","v":"県協会人工芝"},{"$f":"VLOOKUP(E59,抽選会資料!$B$52:$F$60,2,FALSE)","v":"大分県サッカー協会人工芝グラウンド"}]
[null,"８：００～","会場設営","大会役員でしますが、ゴール移動など加勢をチーム関係者にもお願いします。"]
["①","８：２０～","MCM","準決勝①【Match No,49】/ 準決勝②【Match No,50】マッチコーディネーションミーティング"]
[null,"９：３０～","準決勝\n①","【Match No,49】",null,null,null,null,null,null,null,"主審","審判委員会"]
[null,null,null,null,{"$f":"組み合わせ!V30","v":"（　　日田　　市）"},null,{"$f":"組み合わせ!D5","v":"県協会人工芝"},null,null,{"$f":"組み合わせ!BF30","v":"（　　大分　　市）"},null,"副審","審判委員会"]
[null,null,null,{"$f":"組み合わせ!$L$27","v":"ＦＣアリアーレ"},null,null,"vs",null,{"$f":"組み合わせ!$AV$27","v":"カティオーラフットボールクラブＵ－１２"},null,null,"副審","審判委員会"]
[null,null,null,null,null,null,null,null,null,null,null,"4審","審判委員会"]
[null,"９：３０～","準決勝\n②","【Match No,50】",null,null,null,null,null,null,null,"主審","審判委員会"]
[null,null,null,null,{"$f":"組み合わせ!CP30","v":"（　　大分　　市）"},null,{"$f":"組み合わせ!D5","v":"県協会人工芝"},null,null,{"$f":"組み合わせ!DZ30","v":"（　　大分　　市）"},null,"副審","審判委員会"]
[null,null,null,{"$f":"組み合わせ!CF27","v":"大分トリニータＵ－１２"},null,null,"vs",null,{"$f":"組み合わせ!DP27","v":"スマイス　セレソン　スポーツクラブ"},null,null,"副審","審判委員会"]
[null,null,null,null,null,null,null,null,null,null,null,"4審","審判委員会"]
["②","１０：５０～","MCM","決勝【Match No,51】マッチコーディネーションミーティング"]
[null,"１２：００～","決勝","【Match No,51】",null,null,null,null,null,null,null,"主審","審判委員会"]
[null,null,null,null,{"$f":"組み合わせ!AN21","v":"（　　大分　　市）"},null,{"$f":"組み合わせ!BP15","v":"県協会人工芝"},null,null,{"$f":"組み合わせ!DH21","v":"（　　大分　　市）"},null,"副審","審判委員会"]
[null,null,null,{"$f":"組み合わせ!X18","v":"カティオーラフットボールクラブＵ－１２"},null,null,"vs",null,{"$f":"組み合わせ!CR18","v":"大分トリニータＵ－１２"},null,null,"副審","審判委員会"]
[null,null,null,null,null,null,null,null,null,null,null,"4審","審判委員会"]
[null,"１３：００～","表彰","優勝・準優勝・３位チーム・優秀選手の表彰をします。"]
[]
[]
["《問い合わせ》委員長　安東　携帯　０９０－８６６８−０６９７"]
["※指導者以外の問い合わせは、ご遠慮願います。"]

{"sheet":"累積警告・退場","index":7,"n_rows":40,"n_cols":38,"rows_kept":40,"cut":false,"hidden":false,"merged":[[17,1,18,1],[23,1,39,1],[4,1,7,1],[8,1,10,1],[11,1,13,1],[14,1,16,1],[19,1,20,1]]}
["×",null,{"$f":"抽選会資料!B1","v":"OFA 第 53 回大分県U-12サッカー大会　兼　KYFA 九州U-12サッカー大会大分県大会"},null,null,null,null,null,"累積警告・退場",null,null,null,null,null,null,null,null,null,null,null,null,null,null,null,null,null,null,null,null,null,null,null,null,"警告/退場",null,"＜警告選択肢＞"]
[null,null,null,null,null,null,null,null,null,null,null,null,null,null,null,null,null,null,null,null,null,null,null,null,null,null,null,null,null,null,null,null,null,"警告",null,"反スポ",null,"反スポ"]
[null,null,null,"地区大会",null,null,null,"1次ﾘｰｸﾞ①",null,null,null,"1次ﾘｰｸﾞ②",null,null,null,"2次ﾘｰｸﾞ①",null,null,null,"2次ﾘｰｸﾞ②",null,null,null,"準決勝",null,null,null,"決勝",null,null,null,null,null,"退場",null,"ラフ",null,"ラフ"]
["敗戦","地区","チーム名","背番号","氏名","警告/退場","内容","背番号","氏名","警告/退場","内容","背番号","氏名","警告/退場","内容","背番号","氏名","警告/退場","内容","背番号","氏名","警告/退場","内容","背番号","氏名","警告/退場","内容","背番号","氏名","警告/退場","内容",null,null,"警告(累積2枚目次節出場停止）",null,"異議",null,"異議"]
["×","中津",{"$f":"抽選会資料!J11","v":"ＦＣ中津ジュニア"},5,{"$f":"IF(D5=\"\",\"\",VLOOKUP(CONCATENATE(C5,\"_\",D5),選手名簿!$A:$H,5,FALSE))","v":"加々見　凪"},"警告","反スポ",null,{"$f":"IF(H5=\"\",\"\",VLOOKUP(CONCATENATE(C5,\"_\",H5),選手名簿!$A:$H,5,FALSE))","v":""},null,null,null,{"$f":"IF(L5=\"\",\"\",VLOOKUP(CONCATENATE(C5,\"_\",L5),選手名簿!$A:$H,5,FALSE))","v":""},null,null,null,{"$f":"IF(P5=\"\",\"\",VLOOKUP(CONCATENATE(C5,\"_\",P5),選手名簿!$A:$H,5,FALSE))","v":""},null,null,null,{"$f":"IF(T5=\"\",\"\",VLOOKUP(CONCATENATE(C5,\"_\",T5),選手名簿!$A:$H,5,FALSE))","v":""},null,null,null,{"$f":"IF(X5=\"\",\"\",VLOOKUP(CONCATENATE(C5,\"_\",X5),選手名簿!$A:$H,5,FALSE))","v":""},null,null,null,{"$f":"IF(AB5=\"\",\"\",VLOOKUP(CONCATENATE(C5,\"_\",AB5),選手名簿!$A:$H,5,FALSE))","v":""},null,null,null,null,null,null,"繰り返し",null,"繰り返し"]
["×",null,{"$f":"抽選会資料!J12","v":"はやぶさフットボールクラブ"},null,{"$f":"IF(D6=\"\",\"\",VLOOKUP(CONCATENATE(C6,\"_\",D6),選手名簿!$A:$H,5,FALSE))","v":""},null,null,null,{"$f":"IF(H6=\"\",\"\",VLOOKUP(CONCATENATE(C6,\"_\",H6),選手名簿!$A:$H,5,FALSE))","v":""},null,null,null,{"$f":"IF(L6=\"\",\"\",VLOOKUP(CONCATENATE(C6,\"_\",L6),選手名簿!$A:$H,5,FALSE))","v":""},null,null,null,{"$f":"IF(P6=\"\",\"\",VLOOKUP(CONCATENATE(C6,\"_\",P6),選手名簿!$A:$H,5,FALSE))","v":""},null,null,null,{"$f":"IF(T6=\"\",\"\",VLOOKUP(CONCATENATE(C6,\"_\",T6),選手名簿!$A:$H,5,FALSE))","v":""},null,null,null,{"$f":"IF(X6=\"\",\"\",VLOOKUP(CONCATENATE(C6,\"_\",X6),選手名簿!$A:$H,5,FALSE))","v":""},null,null,null,{"$f":"IF(AB6=\"\",\"\",VLOOKUP(CONCATENATE(C6,\"_\",AB6),選手名簿!$A:$H,5,FALSE))","v":""},null,null,null,null,null,null,"遅延",null,"遅延"]
["×",null,{"$f":"抽選会資料!J13","v":"鶴居ＳＳＳ"},null,{"$f":"IF(D7=\"\",\"\",VLOOKUP(CONCATENATE(C7,\"_\",D7),選手名簿!$A:$H,5,FALSE))","v":""},null,null,null,{"$f":"IF(H7=\"\",\"\",VLOOKUP(CONCATENATE(C7,\"_\",H7),選手名簿!$A:$H,5,FALSE))","v":""},null,null,null,{"$f":"IF(L7=\"\",\"\",VLOOKUP(CONCATENATE(C7,\"_\",L7),選手名簿!$A:$H,5,FALSE))","v":""},null,null,null,{"$f":"IF(P7=\"\",\"\",VLOOKUP(CONCATENATE(C7,\"_\",P7),選手名簿!$A:$H,5,FALSE))","v":""},null,null,null,{"$f":"IF(T7=\"\",\"\",VLOOKUP(CONCATENATE(C7,\"_\",T7),選手名簿!$A:$H,5,FALSE))","v":""},null,null,null,{"$f":"IF(X7=\"\",\"\",VLOOKUP(CONCATENATE(C7,\"_\",X7),選手名簿!$A:$H,5,FALSE))","v":""},null,null,null,{"$f":"IF(AB7=\"\",\"\",VLOOKUP(CONCATENATE(C7,\"_\",AB7),選手名簿!$A:$H,5,FALSE))","v":""},null,null,null,null,null,null,"距離",null,"距離"]
["×",null,{"$f":"抽選会資料!J14","v":"ＦＣ　ＪＵＮＩＯＲＳ"},null,{"$f":"IF(D8=\"\",\"\",VLOOKUP(CONCATENATE(C8,\"_\",D8),選手名簿!$A:$H,5,FALSE))","v":""},null,null,null,{"$f":"IF(H8=\"\",\"\",VLOOKUP(CONCATENATE(C8,\"_\",H8),選手名簿!$A:$H,5,FALSE))","v":""},null,null,17,{"$f":"IF(L8=\"\",\"\",VLOOKUP(CONCATENATE(C8,\"_\",L8),選手名簿!$A:$H,5,FALSE))","v":"尾造　刻土"},"警告","反スポ",null,{"$f":"IF(P8=\"\",\"\",VLOOKUP(CONCATENATE(C8,\"_\",P8),選手名簿!$A:$H,5,FALSE))","v":""},null,null,null,{"$f":"IF(T8=\"\",\"\",VLOOKUP(CONCATENATE(C8,\"_\",T8),選手名簿!$A:$H,5,FALSE))","v":""},null,null,null,{"$f":"IF(X8=\"\",\"\",VLOOKUP(CONCATENATE(C8,\"_\",X8),選手名簿!$A:$H,5,FALSE))","v":""},null,null,null,{"$f":"IF(AB8=\"\",\"\",VLOOKUP(CONCATENATE(C8,\"_\",AB8),選手名簿!$A:$H,5,FALSE))","v":""},null,null,null,null,null,null,"無断入",null,"無断入"]
["×","速杵国東",{"$f":"抽選会資料!J15","v":"ＯＫＹ山香サッカークラブ"},null,{"$f":"IF(D9=\"\",\"\",VLOOKUP(CONCATENATE(C9,\"_\",D9),選手名簿!$A:$H,5,FALSE))","v":""},null,null,null,{"$f":"IF(H9=\"\",\"\",VLOOKUP(CONCATENATE(C9,\"_\",H9),選手名簿!$A:$H,5,FALSE))","v":""},null,null,null,{"$f":"IF(L9=\"\",\"\",VLOOKUP(CONCATENATE(C9,\"_\",L9),選手名簿!$A:$H,5,FALSE))","v":""},null,null,null,{"$f":"IF(P9=\"\",\"\",VLOOKUP(CONCATENATE(C9,\"_\",P9),選手名簿!$A:$H,5,FALSE))","v":""},null,null,null,{"$f":"IF(T9=\"\",\"\",VLOOKUP(CONCATENATE(C9,\"_\",T9),選手名簿!$A:$H,5,FALSE))","v":""},null,null,null,{"$f":"IF(X9=\"\",\"\",VLOOKUP(CONCATENATE(C9,\"_\",X9),選手名簿!$A:$H,5,FALSE))","v":""},null,null,null,{"$f":"IF(AB9=\"\",\"\",VLOOKUP(CONCATENATE(C9,\"_\",AB9),選手名簿!$A:$H,5,FALSE))","v":""},null,null,null,null,null,null,"無断去",null,"無断去"]
["×",null,{"$f":"抽選会資料!J16","v":"八坂少年サッカークラブ"},null,{"$f":"IF(D10=\"\",\"\",VLOOKUP(CONCATENATE(C10,\"_\",D10),選手名簿!$A:$H,5,FALSE))","v":""},null,null,null,{"$f":"IF(H10=\"\",\"\",VLOOKUP(CONCATENATE(C10,\"_\",H10),選手名簿!$A:$H,5,FALSE))","v":""},null,null,null,{"$f":"IF(L10=\"\",\"\",VLOOKUP(CONCATENATE(C10,\"_\",L10),選手名簿!$A:$H,5,FALSE))","v":""},null,null,null,{"$f":"IF(P10=\"\",\"\",VLOOKUP(CONCATENATE(C10,\"_\",P10),選手名簿!$A:$H,5,FALSE))","v":""},null,null,null,{"$f":"IF(T10=\"\",\"\",VLOOKUP(CONCATENATE(C10,\"_\",T10),選手名簿!$A:$H,5,FALSE))","v":""},null,null,null,{"$f":"IF(X10=\"\",\"\",VLOOKUP(CONCATENATE(C10,\"_\",X10),選手名簿!$A:$H,5,FALSE))","v":""},null,null,null,{"$f":"IF(AB10=\"\",\"\",VLOOKUP(CONCATENATE(C10,\"_\",AB10),選手名簿!$A:$H,5,FALSE))","v":""},null,null,null,null,null,null,"＜退場選択肢＞"]
["×",null,{"$f":"抽選会資料!J17","v":"スマイス日出"},null,{"$f":"IF(D11=\"\",\"\",VLOOKUP(CONCATENATE(C11,\"_\",D11),選手名簿!$A:$H,5,FALSE))","v":""},null,null,null,{"$f":"IF(H11=\"\",\"\",VLOOKUP(CONCATENATE(C11,\"_\",H11),選手名簿!$A:$H,5,FALSE))","v":""},null,null,null,{"$f":"IF(L11=\"\",\"\",VLOOKUP(CONCATENATE(C11,\"_\",L11),選手名簿!$A:$H,5,FALSE))","v":""},null,null,null,{"$f":"IF(P11=\"\",\"\",VLOOKUP(CONCATENATE(C11,\"_\",P11),選手名簿!$A:$H,5,FALSE))","v":""},null,null,null,{"$f":"IF(T11=\"\",\"\",VLOOKUP(CONCATENATE(C11,\"_\",T11),選手名簿!$A:$H,5,FALSE))","v":""},null,null,null,{"$f":"IF(X11=\"\",\"\",VLOOKUP(CONCATENATE(C11,\"_\",X11),選手名簿!$A:$H,5,FALSE))","v":""},null,null,null,{"$f":"IF(AB11=\"\",\"\",VLOOKUP(CONCATENATE(C11,\"_\",AB11),選手名簿!$A:$H,5,FALSE))","v":""},null,null,null,null,null,null,"不正"]
["×","日田・玖珠",{"$f":"抽選会資料!J18","v":"ＦＣアリアーレ"},null,{"$f":"IF(D12=\"\",\"\",VLOOKUP(CONCATENATE(C12,\"_\",D12),選手名簿!$A:$H,5,FALSE))","v":""},null,null,null,{"$f":"IF(H12=\"\",\"\",VLOOKUP(CONCATENATE(C12,\"_\",H12),選手名簿!$A:$H,5,FALSE))","v":""},null,null,null,{"$f":"IF(L12=\"\",\"\",VLOOKUP(CONCATENATE(C12,\"_\",L12),選手名簿!$A:$H,5,FALSE))","v":""},null,null,null,{"$f":"IF(P12=\"\",\"\",VLOOKUP(CONCATENATE(C12,\"_\",P12),選手名簿!$A:$H,5,FALSE))","v":""},null,null,null,{"$f":"IF(T12=\"\",\"\",VLOOKUP(CONCATENATE(C12,\"_\",T12),選手名簿!$A:$H,5,FALSE))","v":""},null,null,null,{"$f":"IF(X12=\"\",\"\",VLOOKUP(CONCATENATE(C12,\"_\",X12),選手名簿!$A:$H,5,FALSE))","v":""},null,null,null,{"$f":"IF(AB12=\"\",\"\",VLOOKUP(CONCATENATE(C12,\"_\",AB12),選手名簿!$A:$H,5,FALSE))","v":""},null,null,null,null,null,null,"乱暴"]
["×",null,{"$f":"抽選会資料!J19","v":"太陽スポーツクラブ大分西"},17,{"$f":"IF(D13=\"\",\"\",VLOOKUP(CONCATENATE(C13,\"_\",D13),選手名簿!$A:$H,5,FALSE))","v":"金子　将大"},"警告","反スポ",1,{"$f":"IF(H13=\"\",\"\",VLOOKUP(CONCATENATE(C13,\"_\",H13),選手名簿!$A:$H,5,FALSE))","v":"中島　光稀"},"退場","阻止(手)",null,{"$f":"IF(L13=\"\",\"\",VLOOKUP(CONCATENATE(C13,\"_\",L13),選手名簿!$A:$H,5,FALSE))","v":""},null,null,null,{"$f":"IF(P13=\"\",\"\",VLOOKUP(CONCATENATE(C13,\"_\",P13),選手名簿!$A:$H,5,FALSE))","v":""},null,null,null,{"$f":"IF(T13=\"\",\"\",VLOOKUP(CONCATENATE(C13,\"_\",T13),選手名簿!$A:$H,5,FALSE))","v":""},null,null,null,{"$f":"IF(X13=\"\",\"\",VLOOKUP(CONCATENATE(C13,\"_\",X13),選手名簿!$A:$H,5,FALSE))","v":""},null,null,null,{"$f":"IF(AB13=\"\",\"\",VLOOKUP(CONCATENATE(C13,\"_\",AB13),選手名簿!$A:$H,5,FALSE))","v":""},null,null,null,null,null,null,"つば"]
["×",null,{"$f":"抽選会資料!J20","v":"玖珠サッカースポーツ少年団"},null,{"$f":"IF(D14=\"\",\"\",VLOOKUP(CONCATENATE(C14,\"_\",D14),選手名簿!$A:$H,5,FALSE))","v":""},null,null,null,{"$f":"IF(H14=\"\",\"\",VLOOKUP(CONCATENATE(C14,\"_\",H14),選手名簿!$A:$H,5,FALSE))","v":""},null,null,null,{"$f":"IF(L14=\"\",\"\",VLOOKUP(CONCATENATE(C14,\"_\",L14),選手名簿!$A:$H,5,FALSE))","v":""},null,null,null,{"$f":"IF(P14=\"\",\"\",VLOOKUP(CONCATENATE(C14,\"_\",P14),選手名簿!$A:$H,5,FALSE))","v":""},null,null,null,{"$f":"IF(T14=\"\",\"\",VLOOKUP(CONCATENATE(C14,\"_\",T14),選手名簿!$A:$H,5,FALSE))","v":""},null,null,null,{"$f":"IF(X14=\"\",\"\",VLOOKUP(CONCATENATE(C14,\"_\",X14),選手名簿!$A:$H,5,FALSE))","v":""},null,null,null,{"$f":"IF(AB14=\"\",\"\",VLOOKUP(CONCATENATE(C14,\"_\",AB14),選手名簿!$A:$H,5,FALSE))","v":""},null,null,null,null,null,null,"阻止(手)"]
["×","別府",{"$f":"抽選会資料!J21","v":"スマイス・セレソン"},null,{"$f":"IF(D15=\"\",\"\",VLOOKUP(CONCATENATE(C15,\"_\",D15),選手名簿!$A:$H,5,FALSE))","v":""},null,null,null,{"$f":"IF(H15=\"\",\"\",VLOOKUP(CONCATENATE(C15,\"_\",H15),選手名簿!$A:$H,5,FALSE))","v":""},null,null,null,{"$f":"IF(L15=\"\",\"\",VLOOKUP(CONCATENATE(C15,\"_\",L15),選手名簿!$A:$H,5,FALSE))","v":""},null,null,null,{"$f":"IF(P15=\"\",\"\",VLOOKUP(CONCATENATE(C15,\"_\",P15),選手名簿!$A:$H,5,FALSE))","v":""},null,null,null,{"$f":"IF(T15=\"\",\"\",VLOOKUP(CONCATENATE(C15,\"_\",T15),選手名簿!$A:$H,5,FALSE))","v":""},null,null,null,{"$f":"IF(X15=\"\",\"\",VLOOKUP(CONCATENATE(C15,\"_\",X15),選手名簿!$A:$H,5,FALSE))","v":""},null,null,null,{"$f":"IF(AB15=\"\",\"\",VLOOKUP(CONCATENATE(C15,\"_\",AB15),選手名簿!$A:$H,5,FALSE))","v":""},null,null,null,null,null,null,"阻止(他)"]
["×",null,{"$f":"抽選会資料!J22","v":"別府フットボールクラブ．ミネルバＵ－１２"},null,{"$f":"IF(D16=\"\",\"\",VLOOKUP(CONCATENATE(C16,\"_\",D16),選手名簿!$A:$H,5,FALSE))","v":""},null,null,null,{"$f":"IF(H16=\"\",\"\",VLOOKUP(CONCATENATE(C16,\"_\",H16),選手名簿!$A:$H,5,FALSE))","v":""},null,null,null,{"$f":"IF(L16=\"\",\"\",VLOOKUP(CONCATENATE(C16,\"_\",L16),選手名簿!$A:$H,5,FALSE))","v":""},null,null,null,{"$f":"IF(P16=\"\",\"\",VLOOKUP(CONCATENATE(C16,\"_\",P16),選手名簿!$A:$H,5,FALSE))","v":""},null,null,null,{"$f":"IF(T16=\"\",\"\",VLOOKUP(CONCATENATE(C16,\"_\",T16),選手名簿!$A:$H,5,FALSE))","v":""},null,null,null,{"$f":"IF(X16=\"\",\"\",VLOOKUP(CONCATENATE(C16,\"_\",X16),選手名簿!$A:$H,5,FALSE))","v":""},null,null,null,{"$f":"IF(AB16=\"\",\"\",VLOOKUP(CONCATENATE(C16,\"_\",AB16),選手名簿!$A:$H,5,FALSE))","v":""},null,null,null,null,null,null,"暴言"]
["×",null,{"$f":"抽選会資料!J23","v":"スマイス・セレソンＢ"},null,{"$f":"IF(D17=\"\",\"\",VLOOKUP(CONCATENATE(C17,\"_\",D17),選手名簿!$A:$H,5,FALSE))","v":""},null,null,null,{"$f":"IF(H17=\"\",\"\",VLOOKUP(CONCATENATE(C17,\"_\",H17),選手名簿!$A:$H,5,FALSE))","v":""},null,null,8,{"$f":"IF(L17=\"\",\"\",VLOOKUP(CONCATENATE(C17,\"_\",L17),選手名簿!$A:$H,5,FALSE))","v":"吉良　一真"},"警告","ラフ",null,{"$f":"IF(P17=\"\",\"\",VLOOKUP(CONCATENATE(C17,\"_\",P17),選手名簿!$A:$H,5,FALSE))","v":""},null,null,null,{"$f":"IF(T17=\"\",\"\",VLOOKUP(CONCATENATE(C17,\"_\",T17),選手名簿!$A:$H,5,FALSE))","v":""},null,null,null,{"$f":"IF(X17=\"\",\"\",VLOOKUP(CONCATENATE(C17,\"_\",X17),選手名簿!$A:$H,5,FALSE))","v":""},null,null,null,{"$f":"IF(AB17=\"\",\"\",VLOOKUP(CONCATENATE(C17,\"_\",AB17),選手名簿!$A:$H,5,FALSE))","v":""},null,null,null,null,null,null,"警告2"]
["×","宇佐高田",{"$f":"抽選会資料!J24","v":"四日市南ＳＳＣ"},null,{"$f":"IF(D18=\"\",\"\",VLOOKUP(CONCATENATE(C18,\"_\",D18),選手名簿!$A:$H,5,FALSE))","v":""},null,null,null,{"$f":"IF(H18=\"\",\"\",VLOOKUP(CONCATENATE(C18,\"_\",H18),選手名簿!$A:$H,5,FALSE))","v":""},null,null,1,{"$f":"IF(L18=\"\",\"\",VLOOKUP(CONCATENATE(C18,\"_\",L18),選手名簿!$A:$H,5,FALSE))","v":"千々松　夏生"},"警告","反スポ",null,{"$f":"IF(P18=\"\",\"\",VLOOKUP(CONCATENATE(C18,\"_\",P18),選手名簿!$A:$H,5,FALSE))","v":""},null,null,null,{"$f":"IF(T18=\"\",\"\",VLOOKUP(CONCATENATE(C18,\"_\",T18),選手名簿!$A:$H,5,FALSE))","v":""},null,null,null,{"$f":"IF(X18=\"\",\"\",VLOOKUP(CONCATENATE(C18,\"_\",X18),選手名簿!$A:$H,5,FALSE))","v":""},null,null,null,{"$f":"IF(AB18=\"\",\"\",VLOOKUP(CONCATENATE(C18,\"_\",AB18),選手名簿!$A:$H,5,FALSE))","v":""}]
["×",null,{"$f":"抽選会資料!J25","v":"ＦＣ　ＵＮＩＴＥ"},null,{"$f":"IF(D19=\"\",\"\",VLOOKUP(CONCATENATE(C19,\"_\",D19),選手名簿!$A:$H,5,FALSE))","v":""},null,null,null,{"$f":"IF(H19=\"\",\"\",VLOOKUP(CONCATENATE(C19,\"_\",H19),選手名簿!$A:$H,5,FALSE))","v":""},null,null,null,{"$f":"IF(L19=\"\",\"\",VLOOKUP(CONCATENATE(C19,\"_\",L19),選手名簿!$A:$H,5,FALSE))","v":""},null,null,null,{"$f":"IF(P19=\"\",\"\",VLOOKUP(CONCATENATE(C19,\"_\",P19),選手名簿!$A:$H,5,FALSE))","v":""},null,null,null,{"$f":"IF(T19=\"\",\"\",VLOOKUP(CONCATENATE(C19,\"_\",T19),選手名簿!$A:$H,5,FALSE))","v":""},null,null,null,{"$f":"IF(X19=\"\",\"\",VLOOKUP(CONCATENATE(C19,\"_\",X19),選手名簿!$A:$H,5,FALSE))","v":""},null,null,null,{"$f":"IF(AB19=\"\",\"\",VLOOKUP(CONCATENATE(C19,\"_\",AB19),選手名簿!$A:$H,5,FALSE))","v":""}]
["×","佐伯",{"$f":"抽選会資料!J26","v":"鶴岡Ｓ―ｐｌａｙ・ＭＩＮＡＭＩ"},null,{"$f":"IF(D20=\"\",\"\",VLOOKUP(CONCATENATE(C20,\"_\",D20),選手名簿!$A:$H,5,FALSE))","v":""},null,null,null,{"$f":"IF(H20=\"\",\"\",VLOOKUP(CONCATENATE(C20,\"_\",H20),選手名簿!$A:$H,5,FALSE))","v":""},null,null,null,{"$f":"IF(L20=\"\",\"\",VLOOKUP(CONCATENATE(C20,\"_\",L20),選手名簿!$A:$H,5,FALSE))","v":""},null,null,null,{"$f":"IF(P20=\"\",\"\",VLOOKUP(CONCATENATE(C20,\"_\",P20),選手名簿!$A:$H,5,FALSE))","v":""},null,null,null,{"$f":"IF(T20=\"\",\"\",VLOOKUP(CONCATENATE(C20,\"_\",T20),選手名簿!$A:$H,5,FALSE))","v":""},null,null,null,{"$f":"IF(X20=\"\",\"\",VLOOKUP(CONCATENATE(C20,\"_\",X20),選手名簿!$A:$H,5,FALSE))","v":""},null,null,null,{"$f":"IF(AB20=\"\",\"\",VLOOKUP(CONCATENATE(C20,\"_\",AB20),選手名簿!$A:$H,5,FALSE))","v":""}]
["×",null,{"$f":"抽選会資料!J27","v":"鶴見少年サッカークラブ"},null,{"$f":"IF(D21=\"\",\"\",VLOOKUP(CONCATENATE(C21,\"_\",D21),選手名簿!$A:$H,5,FALSE))","v":""},null,null,null,{"$f":"IF(H21=\"\",\"\",VLOOKUP(CONCATENATE(C21,\"_\",H21),選手名簿!$A:$H,5,FALSE))","v":""},null,null,null,{"$f":"IF(L21=\"\",\"\",VLOOKUP(CONCATENATE(C21,\"_\",L21),選手名簿!$A:$H,5,FALSE))","v":""},null,null,null,{"$f":"IF(P21=\"\",\"\",VLOOKUP(CONCATENATE(C21,\"_\",P21),選手名簿!$A:$H,5,FALSE))","v":""},null,null,null,{"$f":"IF(T21=\"\",\"\",VLOOKUP(CONCATENATE(C21,\"_\",T21),選手名簿!$A:$H,5,FALSE))","v":""},null,null,null,{"$f":"IF(X21=\"\",\"\",VLOOKUP(CONCATENATE(C21,\"_\",X21),選手名簿!$A:$H,5,FALSE))","v":""},null,null,null,{"$f":"IF(AB21=\"\",\"\",VLOOKUP(CONCATENATE(C21,\"_\",AB21),選手名簿!$A:$H,5,FALSE))","v":""}]
["×","豊肥",{"$f":"抽選会資料!J28","v":"ＦＣ大野"},null,{"$f":"IF(D22=\"\",\"\",VLOOKUP(CONCATENATE(C22,\"_\",D22),選手名簿!$A:$H,5,FALSE))","v":""},null,null,null,{"$f":"IF(H22=\"\",\"\",VLOOKUP(CONCATENATE(C22,\"_\",H22),選手名簿!$A:$H,5,FALSE))","v":""},null,null,null,{"$f":"IF(L22=\"\",\"\",VLOOKUP(CONCATENATE(C22,\"_\",L22),選手名簿!$A:$H,5,FALSE))","v":""},null,null,null,{"$f":"IF(P22=\"\",\"\",VLOOKUP(CONCATENATE(C22,\"_\",P22),選手名簿!$A:$H,5,FALSE))","v":""},null,null,null,{"$f":"IF(T22=\"\",\"\",VLOOKUP(CONCATENATE(C22,\"_\",T22),選手名簿!$A:$H,5,FALSE))","v":""},null,null,null,{"$f":"IF(X22=\"\",\"\",VLOOKUP(CONCATENATE(C22,\"_\",X22),選手名簿!$A:$H,5,FALSE))","v":""},null,null,null,{"$f":"IF(AB22=\"\",\"\",VLOOKUP(CONCATENATE(C22,\"_\",AB22),選手名簿!$A:$H,5,FALSE))","v":""}]
["×","臼杵・津久見",{"$f":"抽選会資料!J29","v":"千怒サッカースポーツ少年団"},null,{"$f":"IF(D23=\"\",\"\",VLOOKUP(CONCATENATE(C23,\"_\",D23),選手名簿!$A:$H,5,FALSE))","v":""},null,null,null,{"$f":"IF(H23=\"\",\"\",VLOOKUP(CONCATENATE(C23,\"_\",H23),選手名簿!$A:$H,5,FALSE))","v":""},null,null,null,{"$f":"IF(L23=\"\",\"\",VLOOKUP(CONCATENATE(C23,\"_\",L23),選手名簿!$A:$H,5,FALSE))","v":""},null,null,null,{"$f":"IF(P23=\"\",\"\",VLOOKUP(CONCATENATE(C23,\"_\",P23),選手名簿!$A:$H,5,FALSE))","v":""},null,null,null,{"$f":"IF(T23=\"\",\"\",VLOOKUP(CONCATENATE(C23,\"_\",T23),選手名簿!$A:$H,5,FALSE))","v":""},null,null,null,{"$f":"IF(X23=\"\",\"\",VLOOKUP(CONCATENATE(C23,\"_\",X23),選手名簿!$A:$H,5,FALSE))","v":""},null,null,null,{"$f":"IF(AB23=\"\",\"\",VLOOKUP(CONCATENATE(C23,\"_\",AB23),選手名簿!$A:$H,5,FALSE))","v":""}]
["×","大分",{"$f":"抽選会資料!C11","v":"ＫＩＮＧＳ　ＦＯＯＴＢＡＬＬＣＬＵＢ　Ｕ－１２"},null,{"$f":"IF(D24=\"\",\"\",VLOOKUP(CONCATENATE(C24,\"_\",D24),選手名簿!$A:$H,5,FALSE))","v":""},null,null,null,{"$f":"IF(H24=\"\",\"\",VLOOKUP(CONCATENATE(C24,\"_\",H24),選手名簿!$A:$H,5,FALSE))","v":""},null,null,null,{"$f":"IF(L24=\"\",\"\",VLOOKUP(CONCATENATE(C24,\"_\",L24),選手名簿!$A:$H,5,FALSE))","v":""},null,null,null,{"$f":"IF(P24=\"\",\"\",VLOOKUP(CONCATENATE(C24,\"_\",P24),選手名簿!$A:$H,5,FALSE))","v":""},null,null,null,{"$f":"IF(T24=\"\",\"\",VLOOKUP(CONCATENATE(C24,\"_\",T24),選手名簿!$A:$H,5,FALSE))","v":""},null,null,null,{"$f":"IF(X24=\"\",\"\",VLOOKUP(CONCATENATE(C24,\"_\",X24),選手名簿!$A:$H,5,FALSE))","v":""},null,null,null,{"$f":"IF(AB24=\"\",\"\",VLOOKUP(CONCATENATE(C24,\"_\",AB24),選手名簿!$A:$H,5,FALSE))","v":""}]
["×",null,{"$f":"抽選会資料!C12","v":"判田サッカースポーツ少年団"},null,{"$f":"IF(D25=\"\",\"\",VLOOKUP(CONCATENATE(C25,\"_\",D25),選手名簿!$A:$H,5,FALSE))","v":""},null,null,null,{"$f":"IF(H25=\"\",\"\",VLOOKUP(CONCATENATE(C25,\"_\",H25),選手名簿!$A:$H,5,FALSE))","v":""},null,null,null,{"$f":"IF(L25=\"\",\"\",VLOOKUP(CONCATENATE(C25,\"_\",L25),選手名簿!$A:$H,5,FALSE))","v":""},null,null,null,{"$f":"IF(P25=\"\",\"\",VLOOKUP(CONCATENATE(C25,\"_\",P25),選手名簿!$A:$H,5,FALSE))","v":""},null,null,null,{"$f":"IF(T25=\"\",\"\",VLOOKUP(CONCATENATE(C25,\"_\",T25),選手名簿!$A:$H,5,FALSE))","v":""},null,null,null,{"$f":"IF(X25=\"\",\"\",VLOOKUP(CONCATENATE(C25,\"_\",X25),選手名簿!$A:$H,5,FALSE))","v":""},null,null,null,{"$f":"IF(AB25=\"\",\"\",VLOOKUP(CONCATENATE(C25,\"_\",AB25),選手名簿!$A:$H,5,FALSE))","v":""}]
["×",null,{"$f":"抽選会資料!C13","v":"豊府サッカースポーツ少年団"},null,{"$f":"IF(D26=\"\",\"\",VLOOKUP(CONCATENATE(C26,\"_\",D26),選手名簿!$A:$H,5,FALSE))","v":""},null,null,null,{"$f":"IF(H26=\"\",\"\",VLOOKUP(CONCATENATE(C26,\"_\",H26),選手名簿!$A:$H,5,FALSE))","v":""},null,null,null,{"$f":"IF(L26=\"\",\"\",VLOOKUP(CONCATENATE(C26,\"_\",L26),選手名簿!$A:$H,5,FALSE))","v":""},null,null,null,{"$f":"IF(P26=\"\",\"\",VLOOKUP(CONCATENATE(C26,\"_\",P26),選手名簿!$A:$H,5,FALSE))","v":""},null,null,null,{"$f":"IF(T26=\"\",\"\",VLOOKUP(CONCATENATE(C26,\"_\",T26),選手名簿!$A:$H,5,FALSE))","v":""},null,null,null,{"$f":"IF(X26=\"\",\"\",VLOOKUP(CONCATENATE(C26,\"_\",X26),選手名簿!$A:$H,5,FALSE))","v":""},null,null,null,{"$f":"IF(AB26=\"\",\"\",VLOOKUP(CONCATENATE(C26,\"_\",AB26),選手名簿!$A:$H,5,FALSE))","v":""}]
["×",null,{"$f":"抽選会資料!C14","v":"Ｍ．Ｓ．Ｓ"},null,{"$f":"IF(D27=\"\",\"\",VLOOKUP(CONCATENATE(C27,\"_\",D27),選手名簿!$A:$H,5,FALSE))","v":""},null,null,null,{"$f":"IF(H27=\"\",\"\",VLOOKUP(CONCATENATE(C27,\"_\",H27),選手名簿!$A:$H,5,FALSE))","v":""},null,null,null,{"$f":"IF(L27=\"\",\"\",VLOOKUP(CONCATENATE(C27,\"_\",L27),選手名簿!$A:$H,5,FALSE))","v":""},null,null,null,{"$f":"IF(P27=\"\",\"\",VLOOKUP(CONCATENATE(C27,\"_\",P27),選手名簿!$A:$H,5,FALSE))","v":""},null,null,null,{"$f":"IF(T27=\"\",\"\",VLOOKUP(CONCATENATE(C27,\"_\",T27),選手名簿!$A:$H,5,FALSE))","v":""},null,null,null,{"$f":"IF(X27=\"\",\"\",VLOOKUP(CONCATENATE(C27,\"_\",X27),選手名簿!$A:$H,5,FALSE))","v":""},null,null,null,{"$f":"IF(AB27=\"\",\"\",VLOOKUP(CONCATENATE(C27,\"_\",AB27),選手名簿!$A:$H,5,FALSE))","v":""}]
["×",null,{"$f":"抽選会資料!C15","v":"カティオーラフットボールクラブＵ－１２"},null,{"$f":"IF(D28=\"\",\"\",VLOOKUP(CONCATENATE(C28,\"_\",D28),選手名簿!$A:$H,5,FALSE))","v":""},null,null,null,{"$f":"IF(H28=\"\",\"\",VLOOKUP(CONCATENATE(C28,\"_\",H28),選手名簿!$A:$H,5,FALSE))","v":""},null,null,null,{"$f":"IF(L28=\"\",\"\",VLOOKUP(CONCATENATE(C28,\"_\",L28),選手名簿!$A:$H,5,FALSE))","v":""},null,null,null,{"$f":"IF(P28=\"\",\"\",VLOOKUP(CONCATENATE(C28,\"_\",P28),選手名簿!$A:$H,5,FALSE))","v":""},null,null,null,{"$f":"IF(T28=\"\",\"\",VLOOKUP(CONCATENATE(C28,\"_\",T28),選手名簿!$A:$H,5,FALSE))","v":""},null,null,null,{"$f":"IF(X28=\"\",\"\",VLOOKUP(CONCATENATE(C28,\"_\",X28),選手名簿!$A:$H,5,FALSE))","v":""},null,null,null,{"$f":"IF(AB28=\"\",\"\",VLOOKUP(CONCATENATE(C28,\"_\",AB28),選手名簿!$A:$H,5,FALSE))","v":""}]
["×",null,{"$f":"抽選会資料!C16","v":"カティオーラフットボールクラブＵ－１２　松岡"},null,{"$f":"IF(D29=\"\",\"\",VLOOKUP(CONCATENATE(C29,\"_\",D29),選手名簿!$A:$H,5,FALSE))","v":""},null,null,null,{"$f":"IF(H29=\"\",\"\",VLOOKUP(CONCATENATE(C29,\"_\",H29),選手名簿!$A:$H,5,FALSE))","v":""},null,null,null,{"$f":"IF(L29=\"\",\"\",VLOOKUP(CONCATENATE(C29,\"_\",L29),選手名簿!$A:$H,5,FALSE))","v":""},null,null,null,{"$f":"IF(P29=\"\",\"\",VLOOKUP(CONCATENATE(C29,\"_\",P29),選手名簿!$A:$H,5,FALSE))","v":""},null,null,null,{"$f":"IF(T29=\"\",\"\",VLOOKUP(CONCATENATE(C29,\"_\",T29),選手名簿!$A:$H,5,FALSE))","v":""},null,null,null,{"$f":"IF(X29=\"\",\"\",VLOOKUP(CONCATENATE(C29,\"_\",X29),選手名簿!$A:$H,5,FALSE))","v":""},null,null,null,{"$f":"IF(AB29=\"\",\"\",VLOOKUP(CONCATENATE(C29,\"_\",AB29),選手名簿!$A:$H,5,FALSE))","v":""}]
["×",null,{"$f":"抽選会資料!C17","v":"宗方サッカークラブ"},null,{"$f":"IF(D30=\"\",\"\",VLOOKUP(CONCATENATE(C30,\"_\",D30),選手名簿!$A:$H,5,FALSE))","v":""},null,null,null,{"$f":"IF(H30=\"\",\"\",VLOOKUP(CONCATENATE(C30,\"_\",H30),選手名簿!$A:$H,5,FALSE))","v":""},null,null,null,{"$f":"IF(L30=\"\",\"\",VLOOKUP(CONCATENATE(C30,\"_\",L30),選手名簿!$A:$H,5,FALSE))","v":""},null,null,null,{"$f":"IF(P30=\"\",\"\",VLOOKUP(CONCATENATE(C30,\"_\",P30),選手名簿!$A:$H,5,FALSE))","v":""},null,null,null,{"$f":"IF(T30=\"\",\"\",VLOOKUP(CONCATENATE(C30,\"_\",T30),選手名簿!$A:$H,5,FALSE))","v":""},null,null,null,{"$f":"IF(X30=\"\",\"\",VLOOKUP(CONCATENATE(C30,\"_\",X30),選手名簿!$A:$H,5,FALSE))","v":""},null,null,null,{"$f":"IF(AB30=\"\",\"\",VLOOKUP(CONCATENATE(C30,\"_\",AB30),選手名簿!$A:$H,5,FALSE))","v":""}]
["×",null,{"$f":"抽選会資料!C18","v":"明治北ＳＳＣ"},null,{"$f":"IF(D31=\"\",\"\",VLOOKUP(CONCATENATE(C31,\"_\",D31),選手名簿!$A:$H,5,FALSE))","v":""},null,null,null,{"$f":"IF(H31=\"\",\"\",VLOOKUP(CONCATENATE(C31,\"_\",H31),選手名簿!$A:$H,5,FALSE))","v":""},null,null,null,{"$f":"IF(L31=\"\",\"\",VLOOKUP(CONCATENATE(C31,\"_\",L31),選手名簿!$A:$H,5,FALSE))","v":""},null,null,null,{"$f":"IF(P31=\"\",\"\",VLOOKUP(CONCATENATE(C31,\"_\",P31),選手名簿!$A:$H,5,FALSE))","v":""},null,null,null,{"$f":"IF(T31=\"\",\"\",VLOOKUP(CONCATENATE(C31,\"_\",T31),選手名簿!$A:$H,5,FALSE))","v":""},null,null,null,{"$f":"IF(X31=\"\",\"\",VLOOKUP(CONCATENATE(C31,\"_\",X31),選手名簿!$A:$H,5,FALSE))","v":""},null,null,null,{"$f":"IF(AB31=\"\",\"\",VLOOKUP(CONCATENATE(C31,\"_\",AB31),選手名簿!$A:$H,5,FALSE))","v":""}]
["×",null,{"$f":"抽選会資料!C19","v":"大道サッカースポーツ少年団"},null,{"$f":"IF(D32=\"\",\"\",VLOOKUP(CONCATENATE(C32,\"_\",D32),選手名簿!$A:$H,5,FALSE))","v":""},null,null,null,{"$f":"IF(H32=\"\",\"\",VLOOKUP(CONCATENATE(C32,\"_\",H32),選手名簿!$A:$H,5,FALSE))","v":""},null,null,null,{"$f":"IF(L32=\"\",\"\",VLOOKUP(CONCATENATE(C32,\"_\",L32),選手名簿!$A:$H,5,FALSE))","v":""},null,null,null,{"$f":"IF(P32=\"\",\"\",VLOOKUP(CONCATENATE(C32,\"_\",P32),選手名簿!$A:$H,5,FALSE))","v":""},null,null,null,{"$f":"IF(T32=\"\",\"\",VLOOKUP(CONCATENATE(C32,\"_\",T32),選手名簿!$A:$H,5,FALSE))","v":""},null,null,null,{"$f":"IF(X32=\"\",\"\",VLOOKUP(CONCATENATE(C32,\"_\",X32),選手名簿!$A:$H,5,FALSE))","v":""},null,null,null,{"$f":"IF(AB32=\"\",\"\",VLOOKUP(CONCATENATE(C32,\"_\",AB32),選手名簿!$A:$H,5,FALSE))","v":""}]
["×",null,{"$f":"抽選会資料!C20","v":"北郡坂ノ市サッカースポーツ少年団"},11,{"$f":"IF(D33=\"\",\"\",VLOOKUP(CONCATENATE(C33,\"_\",D33),選手名簿!$A:$H,5,FALSE))","v":"梶原　晟瑠紫"},"警告","ラフ",null,{"$f":"IF(H33=\"\",\"\",VLOOKUP(CONCATENATE(C33,\"_\",H33),選手名簿!$A:$H,5,FALSE))","v":""},null,null,null,{"$f":"IF(L33=\"\",\"\",VLOOKUP(CONCATENATE(C33,\"_\",L33),選手名簿!$A:$H,5,FALSE))","v":""},null,null,null,{"$f":"IF(P33=\"\",\"\",VLOOKUP(CONCATENATE(C33,\"_\",P33),選手名簿!$A:$H,5,FALSE))","v":""},null,null,null,{"$f":"IF(T33=\"\",\"\",VLOOKUP(CONCATENATE(C33,\"_\",T33),選手名簿!$A:$H,5,FALSE))","v":""},null,null,null,{"$f":"IF(X33=\"\",\"\",VLOOKUP(CONCATENATE(C33,\"_\",X33),選手名簿!$A:$H,5,FALSE))","v":""},null,null,null,{"$f":"IF(AB33=\"\",\"\",VLOOKUP(CONCATENATE(C33,\"_\",AB33),選手名簿!$A:$H,5,FALSE))","v":""}]
["×",null,{"$f":"抽選会資料!C21","v":"リノスフットボールクラブ　Ｕ－１２"},null,{"$f":"IF(D34=\"\",\"\",VLOOKUP(CONCATENATE(C34,\"_\",D34),選手名簿!$A:$H,5,FALSE))","v":""},null,null,null,{"$f":"IF(H34=\"\",\"\",VLOOKUP(CONCATENATE(C34,\"_\",H34),選手名簿!$A:$H,5,FALSE))","v":""},null,null,null,{"$f":"IF(L34=\"\",\"\",VLOOKUP(CONCATENATE(C34,\"_\",L34),選手名簿!$A:$H,5,FALSE))","v":""},null,null,null,{"$f":"IF(P34=\"\",\"\",VLOOKUP(CONCATENATE(C34,\"_\",P34),選手名簿!$A:$H,5,FALSE))","v":""},null,null,null,{"$f":"IF(T34=\"\",\"\",VLOOKUP(CONCATENATE(C34,\"_\",T34),選手名簿!$A:$H,5,FALSE))","v":""},null,null,null,{"$f":"IF(X34=\"\",\"\",VLOOKUP(CONCATENATE(C34,\"_\",X34),選手名簿!$A:$H,5,FALSE))","v":""},null,null,null,{"$f":"IF(AB34=\"\",\"\",VLOOKUP(CONCATENATE(C34,\"_\",AB34),選手名簿!$A:$H,5,FALSE))","v":""}]
["×",null,{"$f":"抽選会資料!C22","v":"西の台ＪＦＣ"},null,{"$f":"IF(D35=\"\",\"\",VLOOKUP(CONCATENATE(C35,\"_\",D35),選手名簿!$A:$H,5,FALSE))","v":""},null,null,null,{"$f":"IF(H35=\"\",\"\",VLOOKUP(CONCATENATE(C35,\"_\",H35),選手名簿!$A:$H,5,FALSE))","v":""},null,null,null,{"$f":"IF(L35=\"\",\"\",VLOOKUP(CONCATENATE(C35,\"_\",L35),選手名簿!$A:$H,5,FALSE))","v":""},null,null,null,{"$f":"IF(P35=\"\",\"\",VLOOKUP(CONCATENATE(C35,\"_\",P35),選手名簿!$A:$H,5,FALSE))","v":""},null,null,null,{"$f":"IF(T35=\"\",\"\",VLOOKUP(CONCATENATE(C35,\"_\",T35),選手名簿!$A:$H,5,FALSE))","v":""},null,null,null,{"$f":"IF(X35=\"\",\"\",VLOOKUP(CONCATENATE(C35,\"_\",X35),選手名簿!$A:$H,5,FALSE))","v":""},null,null,null,{"$f":"IF(AB35=\"\",\"\",VLOOKUP(CONCATENATE(C35,\"_\",AB35),選手名簿!$A:$H,5,FALSE))","v":""}]
[null,null,{"$f":"抽選会資料!C23","v":"大分トリニータＵ－１２"},null,{"$f":"IF(D36=\"\",\"\",VLOOKUP(CONCATENATE(C36,\"_\",D36),選手名簿!$A:$H,5,FALSE))","v":""},null,null,null,{"$f":"IF(H36=\"\",\"\",VLOOKUP(CONCATENATE(C36,\"_\",H36),選手名簿!$A:$H,5,FALSE))","v":""},null,null,null,{"$f":"IF(L36=\"\",\"\",VLOOKUP(CONCATENATE(C36,\"_\",L36),選手名簿!$A:$H,5,FALSE))","v":""},null,null,null,{"$f":"IF(P36=\"\",\"\",VLOOKUP(CONCATENATE(C36,\"_\",P36),選手名簿!$A:$H,5,FALSE))","v":""},null,null,null,{"$f":"IF(T36=\"\",\"\",VLOOKUP(CONCATENATE(C36,\"_\",T36),選手名簿!$A:$H,5,FALSE))","v":""},null,null,null,{"$f":"IF(X36=\"\",\"\",VLOOKUP(CONCATENATE(C36,\"_\",X36),選手名簿!$A:$H,5,FALSE))","v":""},null,null,2,{"$f":"IF(AB36=\"\",\"\",VLOOKUP(CONCATENATE(C36,\"_\",AB36),選手名簿!$A:$H,5,FALSE))","v":"増永　大生獅"},"警告","反スポ"]
["×",null,{"$f":"抽選会資料!C24","v":"明野東サッカースポーツ少年団"},null,{"$f":"IF(D37=\"\",\"\",VLOOKUP(CONCATENATE(C37,\"_\",D37),選手名簿!$A:$H,5,FALSE))","v":""},null,null,null,{"$f":"IF(H37=\"\",\"\",VLOOKUP(CONCATENATE(C37,\"_\",H37),選手名簿!$A:$H,5,FALSE))","v":""},null,null,null,{"$f":"IF(L37=\"\",\"\",VLOOKUP(CONCATENATE(C37,\"_\",L37),選手名簿!$A:$H,5,FALSE))","v":""},null,null,null,{"$f":"IF(P37=\"\",\"\",VLOOKUP(CONCATENATE(C37,\"_\",P37),選手名簿!$A:$H,5,FALSE))","v":""},null,null,null,{"$f":"IF(T37=\"\",\"\",VLOOKUP(CONCATENATE(C37,\"_\",T37),選手名簿!$A:$H,5,FALSE))","v":""},null,null,null,{"$f":"IF(X37=\"\",\"\",VLOOKUP(CONCATENATE(C37,\"_\",X37),選手名簿!$A:$H,5,FALSE))","v":""},null,null,null,{"$f":"IF(AB37=\"\",\"\",VLOOKUP(CONCATENATE(C37,\"_\",AB37),選手名簿!$A:$H,5,FALSE))","v":""}]
["×",null,{"$f":"抽選会資料!C25","v":"ドリームキッズフットボールクラブ"},null,{"$f":"IF(D38=\"\",\"\",VLOOKUP(CONCATENATE(C38,\"_\",D38),選手名簿!$A:$H,5,FALSE))","v":""},null,null,null,{"$f":"IF(H38=\"\",\"\",VLOOKUP(CONCATENATE(C38,\"_\",H38),選手名簿!$A:$H,5,FALSE))","v":""},null,null,null,{"$f":"IF(L38=\"\",\"\",VLOOKUP(CONCATENATE(C38,\"_\",L38),選手名簿!$A:$H,5,FALSE))","v":""},null,null,null,{"$f":"IF(P38=\"\",\"\",VLOOKUP(CONCATENATE(C38,\"_\",P38),選手名簿!$A:$H,5,FALSE))","v":""},null,null,null,{"$f":"IF(T38=\"\",\"\",VLOOKUP(CONCATENATE(C38,\"_\",T38),選手名簿!$A:$H,5,FALSE))","v":""},null,null,null,{"$f":"IF(X38=\"\",\"\",VLOOKUP(CONCATENATE(C38,\"_\",X38),選手名簿!$A:$H,5,FALSE))","v":""},null,null,null,{"$f":"IF(AB38=\"\",\"\",VLOOKUP(CONCATENATE(C38,\"_\",AB38),選手名簿!$A:$H,5,FALSE))","v":""}]
["×",null,{"$f":"抽選会資料!C26","v":"スマイス　セレソン　スポーツクラブ"},null,{"$f":"IF(D39=\"\",\"\",VLOOKUP(CONCATENATE(C39,\"_\",D39),選手名簿!$A:$H,5,FALSE))","v":""},null,null,null,{"$f":"IF(H39=\"\",\"\",VLOOKUP(CONCATENATE(C39,\"_\",H39),選手名簿!$A:$H,5,FALSE))","v":""},null,null,null,{"$f":"IF(L39=\"\",\"\",VLOOKUP(CONCATENATE(C39,\"_\",L39),選手名簿!$A:$H,5,FALSE))","v":""},null,null,null,{"$f":"IF(P39=\"\",\"\",VLOOKUP(CONCATENATE(C39,\"_\",P39),選手名簿!$A:$H,5,FALSE))","v":""},null,null,3,{"$f":"IF(T39=\"\",\"\",VLOOKUP(CONCATENATE(C39,\"_\",T39),選手名簿!$A:$H,5,FALSE))","v":"福島　愛司"},"警告","ラフ",null,{"$f":"IF(X39=\"\",\"\",VLOOKUP(CONCATENATE(C39,\"_\",X39),選手名簿!$A:$H,5,FALSE))","v":""},null,null,null,{"$f":"IF(AB39=\"\",\"\",VLOOKUP(CONCATENATE(C39,\"_\",AB39),選手名簿!$A:$H,5,FALSE))","v":""}]
["×",null,{"$f":"抽選会資料!C27","v":"ブルーウイングフットボールクラブ"},null,{"$f":"IF(D40=\"\",\"\",VLOOKUP(CONCATENATE(C40,\"_\",D40),選手名簿!$A:$H,5,FALSE))","v":""},null,null,null,{"$f":"IF(H40=\"\",\"\",VLOOKUP(CONCATENATE(C40,\"_\",H40),選手名簿!$A:$H,5,FALSE))","v":""},null,null,null,{"$f":"IF(L40=\"\",\"\",VLOOKUP(CONCATENATE(C40,\"_\",L40),選手名簿!$A:$H,5,FALSE))","v":""},null,null,null,{"$f":"IF(P40=\"\",\"\",VLOOKUP(CONCATENATE(C40,\"_\",P40),選手名簿!$A:$H,5,FALSE))","v":""},null,null,null,{"$f":"IF(T40=\"\",\"\",VLOOKUP(CONCATENATE(C40,\"_\",T40),選手名簿!$A:$H,5,FALSE))","v":""},null,null,null,{"$f":"IF(X40=\"\",\"\",VLOOKUP(CONCATENATE(C40,\"_\",X40),選手名簿!$A:$H,5,FALSE))","v":""},null,null,null,{"$f":"IF(AB40=\"\",\"\",VLOOKUP(CONCATENATE(C40,\"_\",AB40),選手名簿!$A:$H,5,FALSE))","v":""}]

{"sheet":"決勝【Match No,51】","index":8,"n_rows":73,"n_cols":36,"rows_kept":73,"cut":false,"hidden":false,"merged":[[71,8,71,14],[71,15,71,21],[71,22,71,28],[71,29,71,35],[72,8,74,14],[72,15,74,21],[72,22,74,28],[72,29,74,35],[58,29,58,30],[59,0,59,35],[60,0,60,35],[62,0,62,3],[62,5,62,9],[62,12,62,16],[62,18,62,33],[58,3,58,5],[58,7,58,8],[58,11,58,13],[58,16,58,17],[58,20,58,21],[58,24,58,26],[55,3,55,4],[55,21,55,22],[56,3,56,4],[56,21,56,22],[57,3,57,4],[57,21,57,22],[52,3,52,4],[52,21,52,22],[53,3,53,4],[53,21,53,22],[54,3,54,4],[54,21,54,22],[50,27,50,28],[51,0,51,2],[51,3,51,4],[51,5,51,17],[51,18,51,20],[51,21,51,22],[51,23,51,35],[49,27,49,28],[50,7,50,8],[50,9,50,10],[50,11,50,12],[50,13,50,14],[50,15,50,16],[50,19,50,20],[50,21,50,22],[50,23,50,24],[50,25,50,26],[48,27,48,28],[49,7,49,8],[49,9,49,10],[49,11,49,12],[49,13,49,14],[49,15,49,16],[49,19,49,20],[49,21,49,22],[49,23,49,24],[49,25,49,26],[48,7,48,8],[48,9,48,10],[48,11,48,12],[48,13,48,14],[48,15,48,16],[48,19,48,20],[48,21,48,22],[48,23,48,24],[48,25,48,26],[46,27,46,28],[47,7,47,8],[47,9,47,10],[47,11,47,12],[47,13,47,14],[47,15,47,16],[47,19,47,20],[47,21,47,22],[47,23,47,24],[47,25,47,26],[47,27,47,28],[46,7,46,8],[46,9,46,10],[46,11,46,12],[46,13,46,14],[46,15,46,16],[46,19,46,20],[46,21,46,22],[46,23,46,24],[46,25,46,26],[44,4,44,8],[44,12,44,16],[44,22,44,26],[44,30,44,34],[45,0,45,6],[45,7,45,8],[45,9,45,10],[45,11,45,12],[45,13,45,14],[45,15,45,16],[45,29,45,35],[45,17,45,18],[45,19,45,20],[45,21,45,22],[45,23,45,24],[45,25,45,26],[45,27,45,28],[42,4,42,8],[42,12,42,16],[42,22,42,26],[42,30,42,34],[43,4,43,8],[43,12,43,16],[43,22,43,26],[43,30,43,34],[40,4,40,8],[40,12,40,16],[40,22,40,26],[40,30,40,34],[41,4,41,8],[41,12,41,16],[41,22,41,26],[41,30,41,34],[38,4,38,8],[38,12,38,16],[38,22,38,26],[38,30,38,34],[39,4,39,8],[39,12,39,16],[39,22,39,26],[39,30,39,34],[35,27,36,27],[35,28,36,34],[36,17,36,18],[37,4,37,8],[37,12,37,16],[37,22,37,26],[37,30,37,34],[33,11,33,15],[33,20,33,24],[34,11,34,15],[34,17,34,18],[34,20,34,24],[35,2,36,8],[35,9,36,9],[35,10,36,16],[35,17,35,18],[35,20,36,26],[30,11,30,15],[30,20,30,24],[31,11,31,15],[31,20,31,24],[32,11,32,15],[32,20,32,24],[27,11,27,15],[27,20,27,24],[28,11,28,15],[28,20,28,24],[29,11,29,15],[29,20,29,24],[23,16,23,19],[24,11,24,15],[24,20,24,24],[25,11,25,15],[25,20,25,24],[26,11,26,15],[26,20,26,24],[20,11,20,15],[20,20,20,24],[21,11,21,15],[21,20,21,24],[22,11,22,15],[22,20,22,24],[17,11,17,15],[17,20,17,24],[18,11,18,15],[18,20,18,24],[19,11,19,15],[19,20,19,24],[14,32,14,33],[14,34,14,35],[15,11,15,15],[15,20,15,24],[16,11,16,15],[16,20,16,24],[13,32,13,33],[13,34,13,35],[14,0,14,1],[14,2,14,3],[14,4,14,5],[14,6,14,7],[14,8,14,9],[14,26,14,27],[14,28,14,29],[14,30,14,31],[13,0,13,1],[13,2,13,3],[13,4,13,5],[13,6,13,7],[13,8,13,9],[13,17,13,18],[13,26,13,27],[13,28,13,29],[13,30,13,31],[11,17,11,18],[12,2,12,9],[7,32,7,35],[8,1,8,10],[8,11,8,14],[8,17,8,18],[8,22,8,31],[8,32,8,35],[7,0,7,2],[7,11,7,14],[7,15,11,15],[7,17,7,18],[7,20,11,20],[7,21,7,23],[9,12,9,14],[9,17,9,18],[9,21,9,23],[10,11,10,12],[12,26,12,33],[5,26,5,30],[5,31,5,35],[6,0,6,1],[6,11,6,12],[6,13,6,14],[6,18,6,19],[6,26,6,30],[10,13,10,14],[10,17,10,18],[10,21,10,22],[10,23,10,24],[4,0,4,1],[4,2,6,8],[4,11,4,12],[4,18,4,19],[5,0,5,1],[5,11,5,12],[5,13,5,14],[5,18,5,19],[5,21,5,25],[1,28,2,29],[1,31,1,35],[2,0,2,1],[2,14,2,15],[2,16,2,17],[2,18,2,26],[2,31,2,35],[0,0,0,5],[0,6,0,9],[0,10,0,11],[1,0,1,1],[1,2,3,13],[1,15,1,16],[3,0,3,1],[3,14,3,15],[3,16,3,17],[3,18,3,26],[3,28,3,29],[3,31,3,35]]}
["公式記録",null,null,null,null,null,"Match No：",null,null,null,51]
["大",null,"OFA 第 53 回大分県少年サッカー大会\n　兼　KYFA 九州U-12サッカー大会大分県大会",null,null,null,null,null,null,null,null,null,null,null,"第",3,null,"日",null,null,null,null,null,null,null,null,null,"競技","40分",null,"記"]
["会",null,null,null,null,null,null,null,null,null,null,null,null,null,"1回戦",null,"2回戦",null,"2022年　2月23日（水）",null,null,null,null,null,null,null,null,"時間",null,null,"録","松下　省吾"]
["名",null,null,null,null,null,null,null,null,null,null,null,null,null,"準決勝",null,"決勝",null,"試合開始　12時00分～",null,null,null,null,null,null,null,null,"延長",null,null,"者","安東　信二"]
["会",null,"大分県サッカー協会\n人工芝グラウンド",null,null,null,null,null,null,"天","晴","風",null,"強","弱","無","芝","状","良好",null,"審","主審",null,null,null,null,"副審",null,null,null,null,"第4の審判員"]
[null,null,null,null,null,null,null,null,null,null,"曇","気温",null,10.7,null,"℃",null,null,"不良",null,null,"黒田　大貴",null,null,null,null,"足立　卓也",null,null,null,null,"清家　大介"]
["場",null,null,null,null,null,null,null,null,"候","雨","湿度",null,32.200000000000003,null,"％","土","態","泥沼",null,"判",null,null,null,null,null,"小石川　悟"]
["【チーム名】",null,null,null,null,null,null,null,null,null,null,null,null,null,null,{"$f":"IF(Q8=\"\",\"\",SUM(Q8:Q11))","v":1},0,"前半",null,2,{"$f":"IF(T8=\"\",\"\",SUM(T8:T11))","v":3},"【チーム名】"]
[null,{"$f":"組み合わせ!X18","v":"カティオーラフットボールクラブＵ－１２"},null,null,null,null,null,null,null,null,null,{"$f":"+組み合わせ!AN21","v":"（　　大分　　市）"},null,null,null,null,1,"後半",null,1,null,null,{"$f":"組み合わせ!CR18","v":"大分トリニータＵ－１２"},null,null,null,null,null,null,null,null,null,{"$f":"+組み合わせ!DH21","v":"（　　大分　　市）"}]
[null,null,null,null,null,null,null,null,null,null,null,null,"kick off",null,null,null,null,"延前",null,null,null,"kick off"]
[null,null,null,null,null,null,null,null,null,null,null,"背番号",null,"PK",null,null,null,"延後",null,null,null,"PK",null,"背番号"]
[null,null,null,null,null,null,null,null,null,null,null,"○","×","先","後",null,null,"ＰＫ戦",null,null,null,"先","後","○","×"]
[null,null,"シュート（得点者は○印）",null,null,null,null,null,null,null,"学",null,null,null,null,null,"背",null,null,"背",null,null,null,null,null,"学","シュート（得点者は○印）"]
["合",null,"延",null,"延",null,"後",null,"前",null,null,null,"選","手","名",null,"番","位置",null,"番",null,"選","手","名",null,null,"前",null,"後",null,"延",null,"延",null,"合"]
["計",null,"後",null,"前",null,"半",null,"半",null,"年",null,null,null,null,null,"号",null,null,"号",null,null,null,null,null,"年","半",null,"半",null,"前",null,"後",null,"計"]
[null,{"$f":"SUM(D16,F16,H16,J16)","v":0},null,null,null,null,null,null,null,null,{"$f":"IF(Q16=\"\",\"\",VLOOKUP(CONCATENATE($B$9,\"_\",Q16),選手名簿!$A:$H,7,FALSE))","v":6},{"$f":"IF(Q16=\"\",\"\",VLOOKUP(CONCATENATE($B$9,\"_\",Q16),選手名簿!$A:$H,5,FALSE))","v":"秋吉　逞"},null,null,null,null,1,{"$f":"IF(Q16=\"\",\"\",VLOOKUP(CONCATENATE($B$9,\"_\",Q16),選手名簿!$A:$H,4,FALSE))","v":"GK"},{"$f":"IF(T16=\"\",\"\",VLOOKUP(CONCATENATE($W$9,\"_\",T16),選手名簿!$A:$H,4,FALSE))","v":"GK"},1,{"$f":"IF(T16=\"\",\"\",VLOOKUP(CONCATENATE($W$9,\"_\",T16),選手名簿!$A:$H,5,FALSE))","v":"佐藤　志巌"},null,null,null,null,{"$f":"IF(T16=\"\",\"\",VLOOKUP(CONCATENATE($W$9,\"_\",T16),選手名簿!$A:$H,7,FALSE))","v":6},null,null,null,null,null,null,null,null,null,{"$f":"SUM(AB16,AD16,AF16,AH16)","v":0}]
[null,0,null,null,null,null,null,null,null,null,{"$f":"IF(Q17=\"\",\"\",VLOOKUP(CONCATENATE($B$9,\"_\",Q17),選手名簿!$A:$H,7,FALSE))","v":6},{"$f":"IF(Q17=\"\",\"\",VLOOKUP(CONCATENATE($B$9,\"_\",Q17),選手名簿!$A:$H,5,FALSE))","v":"田尻　真生"},null,null,null,null,3,{"$f":"IF(Q17=\"\",\"\",VLOOKUP(CONCATENATE($B$9,\"_\",Q17),選手名簿!$A:$H,4,FALSE))","v":"DF"},{"$f":"IF(T17=\"\",\"\",VLOOKUP(CONCATENATE($W$9,\"_\",T17),選手名簿!$A:$H,4,FALSE))","v":"DF"},3,{"$f":"IF(T17=\"\",\"\",VLOOKUP(CONCATENATE($W$9,\"_\",T17),選手名簿!$A:$H,5,FALSE))","v":"野崎　隆太"},null,null,null,null,{"$f":"IF(T17=\"\",\"\",VLOOKUP(CONCATENATE($W$9,\"_\",T17),選手名簿!$A:$H,7,FALSE))","v":6},null,1,null,1,null,null,null,null,null,2]
[null,0,null,null,null,null,null,null,null,null,{"$f":"IF(Q18=\"\",\"\",VLOOKUP(CONCATENATE($B$9,\"_\",Q18),選手名簿!$A:$H,7,FALSE))","v":6},{"$f":"IF(Q18=\"\",\"\",VLOOKUP(CONCATENATE($B$9,\"_\",Q18),選手名簿!$A:$H,5,FALSE))","v":"尼崎　琉太"},null,null,null,null,5,{"$f":"IF(Q18=\"\",\"\",VLOOKUP(CONCATENATE($B$9,\"_\",Q18),選手名簿!$A:$H,4,FALSE))","v":"DF"},{"$f":"IF(T18=\"\",\"\",VLOOKUP(CONCATENATE($W$9,\"_\",T18),選手名簿!$A:$H,4,FALSE))","v":"MF"},2,{"$f":"IF(T18=\"\",\"\",VLOOKUP(CONCATENATE($W$9,\"_\",T18),選手名簿!$A:$H,5,FALSE))","v":"増永　大生獅"},null,null,null,null,{"$f":"IF(T18=\"\",\"\",VLOOKUP(CONCATENATE($W$9,\"_\",T18),選手名簿!$A:$H,7,FALSE))","v":6},"①",5,null,1,null,null,null,null,null,6]
[null,2,null,null,null,null,"①",2,null,null,{"$f":"IF(Q19=\"\",\"\",VLOOKUP(CONCATENATE($B$9,\"_\",Q19),選手名簿!$A:$H,7,FALSE))","v":6},{"$f":"IF(Q19=\"\",\"\",VLOOKUP(CONCATENATE($B$9,\"_\",Q19),選手名簿!$A:$H,5,FALSE))","v":"石井　瑛登"},null,null,null,null,8,{"$f":"IF(Q19=\"\",\"\",VLOOKUP(CONCATENATE($B$9,\"_\",Q19),選手名簿!$A:$H,4,FALSE))","v":"DF"},{"$f":"IF(T19=\"\",\"\",VLOOKUP(CONCATENATE($W$9,\"_\",T19),選手名簿!$A:$H,4,FALSE))","v":"MF"},6,{"$f":"IF(T19=\"\",\"\",VLOOKUP(CONCATENATE($W$9,\"_\",T19),選手名簿!$A:$H,5,FALSE))","v":"宮坂　奏音"},null,null,null,null,{"$f":"IF(T19=\"\",\"\",VLOOKUP(CONCATENATE($W$9,\"_\",T19),選手名簿!$A:$H,7,FALSE))","v":6},null,null,null,null,null,null,null,null,null,0]
[null,1,null,null,null,null,null,1,null,null,{"$f":"IF(Q20=\"\",\"\",VLOOKUP(CONCATENATE($B$9,\"_\",Q20),選手名簿!$A:$H,7,FALSE))","v":6},{"$f":"IF(Q20=\"\",\"\",VLOOKUP(CONCATENATE($B$9,\"_\",Q20),選手名簿!$A:$H,5,FALSE))","v":"矢野　圭悟"},null,null,null,null,10,{"$f":"IF(Q20=\"\",\"\",VLOOKUP(CONCATENATE($B$9,\"_\",Q20),選手名簿!$A:$H,4,FALSE))","v":"MF"},{"$f":"IF(T20=\"\",\"\",VLOOKUP(CONCATENATE($W$9,\"_\",T20),選手名簿!$A:$H,4,FALSE))","v":"MF"},8,{"$f":"IF(T20=\"\",\"\",VLOOKUP(CONCATENATE($W$9,\"_\",T20),選手名簿!$A:$H,5,FALSE))","v":"髙橋　佑樹"},null,null,null,null,{"$f":"IF(T20=\"\",\"\",VLOOKUP(CONCATENATE($W$9,\"_\",T20),選手名簿!$A:$H,7,FALSE))","v":6},null,null,null,null,null,null,null,null,null,0]
[null,0,null,null,null,null,null,null,null,null,{"$f":"IF(Q21=\"\",\"\",VLOOKUP(CONCATENATE($B$9,\"_\",Q21),選手名簿!$A:$H,7,FALSE))","v":6},{"$f":"IF(Q21=\"\",\"\",VLOOKUP(CONCATENATE($B$9,\"_\",Q21),選手名簿!$A:$H,5,FALSE))","v":"實方　来夏"},null,null,null,null,11,{"$f":"IF(Q21=\"\",\"\",VLOOKUP(CONCATENATE($B$9,\"_\",Q21),選手名簿!$A:$H,4,FALSE))","v":"MF"},{"$f":"IF(T21=\"\",\"\",VLOOKUP(CONCATENATE($W$9,\"_\",T21),選手名簿!$A:$H,4,FALSE))","v":"MF"},9,{"$f":"IF(T21=\"\",\"\",VLOOKUP(CONCATENATE($W$9,\"_\",T21),選手名簿!$A:$H,5,FALSE))","v":"染矢　涼志"},null,null,null,null,{"$f":"IF(T21=\"\",\"\",VLOOKUP(CONCATENATE($W$9,\"_\",T21),選手名簿!$A:$H,7,FALSE))","v":6},null,null,null,null,null,null,null,null,null,0]
[null,1,null,null,null,null,null,1,null,null,{"$f":"IF(Q22=\"\",\"\",VLOOKUP(CONCATENATE($B$9,\"_\",Q22),選手名簿!$A:$H,7,FALSE))","v":6},{"$f":"IF(Q22=\"\",\"\",VLOOKUP(CONCATENATE($B$9,\"_\",Q22),選手名簿!$A:$H,5,FALSE))","v":"二宮　秀太"},null,null,null,null,7,{"$f":"IF(Q22=\"\",\"\",VLOOKUP(CONCATENATE($B$9,\"_\",Q22),選手名簿!$A:$H,4,FALSE))","v":"FW"},{"$f":"IF(T22=\"\",\"\",VLOOKUP(CONCATENATE($W$9,\"_\",T22),選手名簿!$A:$H,4,FALSE))","v":"FW"},10,{"$f":"IF(T22=\"\",\"\",VLOOKUP(CONCATENATE($W$9,\"_\",T22),選手名簿!$A:$H,5,FALSE))","v":"波多野　瑛太"},null,null,null,null,{"$f":"IF(T22=\"\",\"\",VLOOKUP(CONCATENATE($W$9,\"_\",T22),選手名簿!$A:$H,7,FALSE))","v":6},null,1,null,null,null,null,null,null,null,1]
[null,1,null,null,null,null,null,1,null,null,{"$f":"IF(Q23=\"\",\"\",VLOOKUP(CONCATENATE($B$9,\"_\",Q23),選手名簿!$A:$H,7,FALSE))","v":5},{"$f":"IF(Q23=\"\",\"\",VLOOKUP(CONCATENATE($B$9,\"_\",Q23),選手名簿!$A:$H,5,FALSE))","v":"芝　虎之介"},null,null,null,null,15,{"$f":"IF(Q23=\"\",\"\",VLOOKUP(CONCATENATE($B$9,\"_\",Q23),選手名簿!$A:$H,4,FALSE))","v":"FW"},{"$f":"IF(T23=\"\",\"\",VLOOKUP(CONCATENATE($W$9,\"_\",T23),選手名簿!$A:$H,4,FALSE))","v":"FW"},12,{"$f":"IF(T23=\"\",\"\",VLOOKUP(CONCATENATE($W$9,\"_\",T23),選手名簿!$A:$H,5,FALSE))","v":"佐藤　煌将"},null,null,null,null,{"$f":"IF(T23=\"\",\"\",VLOOKUP(CONCATENATE($W$9,\"_\",T23),選手名簿!$A:$H,7,FALSE))","v":6},"①",1,null,null,null,null,null,null,null,1]
[null,null,null,null,null,null,null,null,null,null,null,null,null,null,null,null,"交替要員"]
[null,{"$f":"SUM(D25,F25,H25,J25)","v":0},null,null,null,null,null,null,null,null,{"$f":"IF(Q25=\"\",\"\",VLOOKUP(CONCATENATE($B$9,\"_\",Q25),選手名簿!$A:$H,7,FALSE))","v":6},{"$f":"IF(Q25=\"\",\"\",VLOOKUP(CONCATENATE($B$9,\"_\",Q25),選手名簿!$A:$H,5,FALSE))","v":"廣門　胡太朗"},null,null,null,null,2,{"$f":"IF(Q25=\"\",\"\",VLOOKUP(CONCATENATE($B$9,\"_\",Q25),選手名簿!$A:$H,4,FALSE))","v":"DF"},{"$f":"IF(T25=\"\",\"\",VLOOKUP(CONCATENATE($W$9,\"_\",T25),選手名簿!$A:$H,4,FALSE))","v":"DF"},4,{"$f":"IF(T25=\"\",\"\",VLOOKUP(CONCATENATE($W$9,\"_\",T25),選手名簿!$A:$H,5,FALSE))","v":"尾本　泰雅"},null,null,null,null,{"$f":"IF(T25=\"\",\"\",VLOOKUP(CONCATENATE($W$9,\"_\",T25),選手名簿!$A:$H,7,FALSE))","v":6},null,null,null,null,null,null,null,null,null,{"$f":"SUM(AB25,AD25,AF25,AH25)","v":0}]
[null,0,null,null,null,null,null,null,null,null,{"$f":"IF(Q26=\"\",\"\",VLOOKUP(CONCATENATE($B$9,\"_\",Q26),選手名簿!$A:$H,7,FALSE))","v":6},{"$f":"IF(Q26=\"\",\"\",VLOOKUP(CONCATENATE($B$9,\"_\",Q26),選手名簿!$A:$H,5,FALSE))","v":"田中　翔"},null,null,null,null,4,{"$f":"IF(Q26=\"\",\"\",VLOOKUP(CONCATENATE($B$9,\"_\",Q26),選手名簿!$A:$H,4,FALSE))","v":"MF"},{"$f":"IF(T26=\"\",\"\",VLOOKUP(CONCATENATE($W$9,\"_\",T26),選手名簿!$A:$H,4,FALSE))","v":"MF"},5,{"$f":"IF(T26=\"\",\"\",VLOOKUP(CONCATENATE($W$9,\"_\",T26),選手名簿!$A:$H,5,FALSE))","v":"後藤　悠"},null,null,null,null,{"$f":"IF(T26=\"\",\"\",VLOOKUP(CONCATENATE($W$9,\"_\",T26),選手名簿!$A:$H,7,FALSE))","v":6},null,null,"①",1,null,null,null,null,null,1]
[null,0,null,null,null,null,null,null,null,null,{"$f":"IF(Q27=\"\",\"\",VLOOKUP(CONCATENATE($B$9,\"_\",Q27),選手名簿!$A:$H,7,FALSE))","v":6},{"$f":"IF(Q27=\"\",\"\",VLOOKUP(CONCATENATE($B$9,\"_\",Q27),選手名簿!$A:$H,5,FALSE))","v":"上田　蒼真"},null,null,null,null,6,{"$f":"IF(Q27=\"\",\"\",VLOOKUP(CONCATENATE($B$9,\"_\",Q27),選手名簿!$A:$H,4,FALSE))","v":"DF"},{"$f":"IF(T27=\"\",\"\",VLOOKUP(CONCATENATE($W$9,\"_\",T27),選手名簿!$A:$H,4,FALSE))","v":"MF"},7,{"$f":"IF(T27=\"\",\"\",VLOOKUP(CONCATENATE($W$9,\"_\",T27),選手名簿!$A:$H,5,FALSE))","v":"増田　壮我"},null,null,null,null,{"$f":"IF(T27=\"\",\"\",VLOOKUP(CONCATENATE($W$9,\"_\",T27),選手名簿!$A:$H,7,FALSE))","v":6},null,null,null,null,null,null,null,null,null,0]
[null,0,null,null,null,null,null,null,null,null,{"$f":"IF(Q28=\"\",\"\",VLOOKUP(CONCATENATE($B$9,\"_\",Q28),選手名簿!$A:$H,7,FALSE))","v":6},{"$f":"IF(Q28=\"\",\"\",VLOOKUP(CONCATENATE($B$9,\"_\",Q28),選手名簿!$A:$H,5,FALSE))","v":"川﨑　音生"},null,null,null,null,9,{"$f":"IF(Q28=\"\",\"\",VLOOKUP(CONCATENATE($B$9,\"_\",Q28),選手名簿!$A:$H,4,FALSE))","v":"MF"},{"$f":"IF(T28=\"\",\"\",VLOOKUP(CONCATENATE($W$9,\"_\",T28),選手名簿!$A:$H,4,FALSE))","v":"FW"},11,{"$f":"IF(T28=\"\",\"\",VLOOKUP(CONCATENATE($W$9,\"_\",T28),選手名簿!$A:$H,5,FALSE))","v":"池谷　碧"},null,null,null,null,{"$f":"IF(T28=\"\",\"\",VLOOKUP(CONCATENATE($W$9,\"_\",T28),選手名簿!$A:$H,7,FALSE))","v":5},null,null,null,null,null,null,null,null,null,0]
[null,0,null,null,null,null,null,null,null,null,{"$f":"IF(Q29=\"\",\"\",VLOOKUP(CONCATENATE($B$9,\"_\",Q29),選手名簿!$A:$H,7,FALSE))","v":6},{"$f":"IF(Q29=\"\",\"\",VLOOKUP(CONCATENATE($B$9,\"_\",Q29),選手名簿!$A:$H,5,FALSE))","v":"川野　佑斗"},null,null,null,null,12,{"$f":"IF(Q29=\"\",\"\",VLOOKUP(CONCATENATE($B$9,\"_\",Q29),選手名簿!$A:$H,4,FALSE))","v":"GK"},{"$f":"IF(T29=\"\",\"\",VLOOKUP(CONCATENATE($W$9,\"_\",T29),選手名簿!$A:$H,4,FALSE))","v":"DF"},13,{"$f":"IF(T29=\"\",\"\",VLOOKUP(CONCATENATE($W$9,\"_\",T29),選手名簿!$A:$H,5,FALSE))","v":"原園　英虎"},null,null,null,null,{"$f":"IF(T29=\"\",\"\",VLOOKUP(CONCATENATE($W$9,\"_\",T29),選手名簿!$A:$H,7,FALSE))","v":5},null,null,null,null,null,null,null,null,null,0]
[null,0,null,null,null,null,null,null,null,null,{"$f":"IF(Q30=\"\",\"\",VLOOKUP(CONCATENATE($B$9,\"_\",Q30),選手名簿!$A:$H,7,FALSE))","v":6},{"$f":"IF(Q30=\"\",\"\",VLOOKUP(CONCATENATE($B$9,\"_\",Q30),選手名簿!$A:$H,5,FALSE))","v":"檜垣　寛大"},null,null,null,null,13,{"$f":"IF(Q30=\"\",\"\",VLOOKUP(CONCATENATE($B$9,\"_\",Q30),選手名簿!$A:$H,4,FALSE))","v":"FW"},{"$f":"IF(T30=\"\",\"\",VLOOKUP(CONCATENATE($W$9,\"_\",T30),選手名簿!$A:$H,4,FALSE))","v":"DF"},14,{"$f":"IF(T30=\"\",\"\",VLOOKUP(CONCATENATE($W$9,\"_\",T30),選手名簿!$A:$H,5,FALSE))","v":"野田　佑月"},null,null,null,null,{"$f":"IF(T30=\"\",\"\",VLOOKUP(CONCATENATE($W$9,\"_\",T30),選手名簿!$A:$H,7,FALSE))","v":5},null,null,null,null,null,null,null,null,null,0]
[null,0,null,null,null,null,null,null,null,null,{"$f":"IF(Q31=\"\",\"\",VLOOKUP(CONCATENATE($B$9,\"_\",Q31),選手名簿!$A:$H,7,FALSE))","v":5},{"$f":"IF(Q31=\"\",\"\",VLOOKUP(CONCATENATE($B$9,\"_\",Q31),選手名簿!$A:$H,5,FALSE))","v":"阿南　徠已"},null,null,null,null,14,{"$f":"IF(Q31=\"\",\"\",VLOOKUP(CONCATENATE($B$9,\"_\",Q31),選手名簿!$A:$H,4,FALSE))","v":"FW"},{"$f":"IF(T31=\"\",\"\",VLOOKUP(CONCATENATE($W$9,\"_\",T31),選手名簿!$A:$H,4,FALSE))","v":"MF"},15,{"$f":"IF(T31=\"\",\"\",VLOOKUP(CONCATENATE($W$9,\"_\",T31),選手名簿!$A:$H,5,FALSE))","v":"上本　翔海"},null,null,null,null,{"$f":"IF(T31=\"\",\"\",VLOOKUP(CONCATENATE($W$9,\"_\",T31),選手名簿!$A:$H,7,FALSE))","v":5},null,null,null,null,null,null,null,null,null,0]
[null,0,null,null,null,null,null,null,null,null,{"$f":"IF(Q32=\"\",\"\",VLOOKUP(CONCATENATE($B$9,\"_\",Q32),選手名簿!$A:$H,7,FALSE))","v":5},{"$f":"IF(Q32=\"\",\"\",VLOOKUP(CONCATENATE($B$9,\"_\",Q32),選手名簿!$A:$H,5,FALSE))","v":"隅　悠來"},null,null,null,null,16,{"$f":"IF(Q32=\"\",\"\",VLOOKUP(CONCATENATE($B$9,\"_\",Q32),選手名簿!$A:$H,4,FALSE))","v":"MF"},{"$f":"IF(T32=\"\",\"\",VLOOKUP(CONCATENATE($W$9,\"_\",T32),選手名簿!$A:$H,4,FALSE))","v":"GK"},16,{"$f":"IF(T32=\"\",\"\",VLOOKUP(CONCATENATE($W$9,\"_\",T32),選手名簿!$A:$H,5,FALSE))","v":"小澤　卓実"},null,null,null,null,{"$f":"IF(T32=\"\",\"\",VLOOKUP(CONCATENATE($W$9,\"_\",T32),選手名簿!$A:$H,7,FALSE))","v":6},null,null,null,null,null,null,null,null,null,0]
[null,0,null,null,null,null,null,null,null,null,{"$f":"IF(Q33=\"\",\"\",VLOOKUP(CONCATENATE($B$9,\"_\",Q33),選手名簿!$A:$H,7,FALSE))","v":""},{"$f":"IF(Q33=\"\",\"\",VLOOKUP(CONCATENATE($B$9,\"_\",Q33),選手名簿!$A:$H,5,FALSE))","v":""},null,null,null,null,null,{"$f":"IF(Q33=\"\",\"\",VLOOKUP(CONCATENATE($B$9,\"_\",Q33),選手名簿!$A:$H,4,FALSE))","v":""},{"$f":"IF(T33=\"\",\"\",VLOOKUP(CONCATENATE($W$9,\"_\",T33),選手名簿!$A:$H,4,FALSE))","v":"MF"},17,{"$f":"IF(T33=\"\",\"\",VLOOKUP(CONCATENATE($W$9,\"_\",T33),選手名簿!$A:$H,5,FALSE))","v":"伊勢　虎斗"},null,null,null,null,{"$f":"IF(T33=\"\",\"\",VLOOKUP(CONCATENATE($W$9,\"_\",T33),選手名簿!$A:$H,7,FALSE))","v":5},null,null,null,null,null,null,null,null,null,0]
[null,0,null,null,null,null,null,null,null,null,{"$f":"IF(Q34=\"\",\"\",VLOOKUP(CONCATENATE($B$9,\"_\",Q34),選手名簿!$A:$H,7,FALSE))","v":""},{"$f":"IF(Q34=\"\",\"\",VLOOKUP(CONCATENATE($B$9,\"_\",Q34),選手名簿!$A:$H,5,FALSE))","v":""},null,null,null,null,null,{"$f":"IF(Q34=\"\",\"\",VLOOKUP(CONCATENATE($B$9,\"_\",Q34),選手名簿!$A:$H,4,FALSE))","v":""},{"$f":"IF(T34=\"\",\"\",VLOOKUP(CONCATENATE($W$9,\"_\",T34),選手名簿!$A:$H,4,FALSE))","v":"DF"},18,{"$f":"IF(T34=\"\",\"\",VLOOKUP(CONCATENATE($W$9,\"_\",T34),選手名簿!$A:$H,5,FALSE))","v":"小泉　咲空"},null,null,null,null,{"$f":"IF(T34=\"\",\"\",VLOOKUP(CONCATENATE($W$9,\"_\",T34),選手名簿!$A:$H,7,FALSE))","v":5},null,null,null,null,null,null,null,null,null,0]
[null,null,null,{"$f":"SUM(D16:D23,D25:D34)","v":0},null,{"$f":"SUM(F16:F23,F25:F34)","v":0},null,{"$f":"SUM(H16:H23,H25:H34)","v":5},null,{"$f":"SUM(J16:J23,J25:J34)","v":0},"小計",{"$f":"SUM(D35,F35,H35,J35)","v":5},null,null,null,null,"合計","シュート数",null,"合計",{"$f":"SUM(AB35,AD35,AF35,AH35)","v":11},null,null,null,null,"小計",null,{"$f":"SUM(AB16:AB23,AB25:AB34)","v":8},null,{"$f":"SUM(AD16:AD23,AD25:AD34)","v":3},null,{"$f":"SUM(AF16:AF23,AF25:AF34)","v":0},null,{"$f":"SUM(AH16:AH23,AH25:AH34)","v":0}]
[null,null,"OUT",null,null,null,null,null,null,"→","IN",null,null,null,null,null,null,"交代",null,null,"OUT",null,null,null,null,null,null,"→","IN"]
[null,null,null,null,null,null,null,null,null,null,null,null,null,null,null,null,null,"選手"]
[26,"分",15,"番",{"$f":"IF(C38=\"\",\"\",VLOOKUP(CONCATENATE($B$9,\"_\",C38),選手名簿!$A:$H,5,FALSE))","v":"芝　虎之介"},null,null,null,null,"→",2,"番",{"$f":"IF(K38=\"\",\"\",VLOOKUP(CONCATENATE($B$9,\"_\",K38),選手名簿!$A:$H,5,FALSE))","v":"廣門　胡太朗"},null,null,null,null,null,30,"分",10,"番",{"$f":"IF(U38=\"\",\"\",VLOOKUP(CONCATENATE($W$9,\"_\",U38),選手名簿!$A:$H,5,FALSE))","v":"波多野　瑛太"},null,null,null,null,"→",5,"番",{"$f":"IF(AC38=\"\",\"\",VLOOKUP(CONCATENATE($W$9,\"_\",AC38),選手名簿!$A:$H,5,FALSE))","v":"後藤　悠"}]
[null,"分",null,"番",{"$f":"IF(C39=\"\",\"\",VLOOKUP(CONCATENATE($B$9,\"_\",C39),選手名簿!$A:$H,5,FALSE))","v":""},null,null,null,null,"→",null,"番",{"$f":"IF(K39=\"\",\"\",VLOOKUP(CONCATENATE($B$9,\"_\",K39),選手名簿!$A:$H,5,FALSE))","v":""},null,null,null,null,null,34,"分",9,"番",{"$f":"IF(U39=\"\",\"\",VLOOKUP(CONCATENATE($W$9,\"_\",U39),選手名簿!$A:$H,5,FALSE))","v":"染矢　涼志"},null,null,null,null,"→",4,"番",{"$f":"IF(AC39=\"\",\"\",VLOOKUP(CONCATENATE($W$9,\"_\",AC39),選手名簿!$A:$H,5,FALSE))","v":"尾本　泰雅"}]
[null,"分",null,"番",{"$f":"IF(C40=\"\",\"\",VLOOKUP(CONCATENATE($B$9,\"_\",C40),選手名簿!$A:$H,5,FALSE))","v":""},null,null,null,null,"→",null,"番",{"$f":"IF(K40=\"\",\"\",VLOOKUP(CONCATENATE($B$9,\"_\",K40),選手名簿!$A:$H,5,FALSE))","v":""},null,null,null,null,null,37,"分",1,"番",{"$f":"IF(U40=\"\",\"\",VLOOKUP(CONCATENATE($W$9,\"_\",U40),選手名簿!$A:$H,5,FALSE))","v":"佐藤　志巌"},null,null,null,null,"→",16,"番",{"$f":"IF(AC40=\"\",\"\",VLOOKUP(CONCATENATE($W$9,\"_\",AC40),選手名簿!$A:$H,5,FALSE))","v":"小澤　卓実"}]
[null,"分",null,"番",{"$f":"IF(C41=\"\",\"\",VLOOKUP(CONCATENATE($B$9,\"_\",C41),選手名簿!$A:$H,5,FALSE))","v":""},null,null,null,null,"→",null,"番",{"$f":"IF(K41=\"\",\"\",VLOOKUP(CONCATENATE($B$9,\"_\",K41),選手名簿!$A:$H,5,FALSE))","v":""},null,null,null,null,null,37,"分",6,"番",{"$f":"IF(U41=\"\",\"\",VLOOKUP(CONCATENATE($W$9,\"_\",U41),選手名簿!$A:$H,5,FALSE))","v":"宮坂　奏音"},null,null,null,null,"→",7,"番",{"$f":"IF(AC41=\"\",\"\",VLOOKUP(CONCATENATE($W$9,\"_\",AC41),選手名簿!$A:$H,5,FALSE))","v":"増田　壮我"}]
[null,"分",null,"番",{"$f":"IF(C42=\"\",\"\",VLOOKUP(CONCATENATE($B$9,\"_\",C42),選手名簿!$A:$H,5,FALSE))","v":""},null,null,null,null,"→",null,"番",{"$f":"IF(K42=\"\",\"\",VLOOKUP(CONCATENATE($B$9,\"_\",K42),選手名簿!$A:$H,5,FALSE))","v":""},null,null,null,null,null,null,"分",null,"番",{"$f":"IF(U42=\"\",\"\",VLOOKUP(CONCATENATE($W$9,\"_\",U42),選手名簿!$A:$H,5,FALSE))","v":""},null,null,null,null,"→",null,"番",{"$f":"IF(AC42=\"\",\"\",VLOOKUP(CONCATENATE($W$9,\"_\",AC42),選手名簿!$A:$H,5,FALSE))","v":""}]
[null,"分",null,"番",{"$f":"IF(C43=\"\",\"\",VLOOKUP(CONCATENATE($B$9,\"_\",C43),選手名簿!$A:$H,5,FALSE))","v":""},null,null,null,null,"→",null,"番",{"$f":"IF(K43=\"\",\"\",VLOOKUP(CONCATENATE($B$9,\"_\",K43),選手名簿!$A:$H,5,FALSE))","v":""},null,null,null,null,null,null,"分",null,"番",{"$f":"IF(U43=\"\",\"\",VLOOKUP(CONCATENATE($W$9,\"_\",U43),選手名簿!$A:$H,5,FALSE))","v":""},null,null,null,null,"→",null,"番",{"$f":"IF(AC43=\"\",\"\",VLOOKUP(CONCATENATE($W$9,\"_\",AC43),選手名簿!$A:$H,5,FALSE))","v":""}]
[null,"分",null,"番",{"$f":"IF(C44=\"\",\"\",VLOOKUP(CONCATENATE($B$9,\"_\",C44),選手名簿!$A:$H,5,FALSE))","v":""},null,null,null,null,"→",null,"番",{"$f":"IF(K44=\"\",\"\",VLOOKUP(CONCATENATE($B$9,\"_\",K44),選手名簿!$A:$H,5,FALSE))","v":""},null,null,null,null,null,null,"分",null,"番",{"$f":"IF(U44=\"\",\"\",VLOOKUP(CONCATENATE($W$9,\"_\",U44),選手名簿!$A:$H,5,FALSE))","v":""},null,null,null,null,"→",null,"番",{"$f":"IF(AC44=\"\",\"\",VLOOKUP(CONCATENATE($W$9,\"_\",AC44),選手名簿!$A:$H,5,FALSE))","v":""}]
[null,"分",null,"番",{"$f":"IF(C45=\"\",\"\",VLOOKUP(CONCATENATE($B$9,\"_\",C45),選手名簿!$A:$H,5,FALSE))","v":""},null,null,null,null,"→",null,"番",{"$f":"IF(K45=\"\",\"\",VLOOKUP(CONCATENATE($B$9,\"_\",K45),選手名簿!$A:$H,5,FALSE))","v":""},null,null,null,null,null,null,"分",null,"番",{"$f":"IF(U45=\"\",\"\",VLOOKUP(CONCATENATE($W$9,\"_\",U45),選手名簿!$A:$H,5,FALSE))","v":""},null,null,null,null,"→",null,"番",{"$f":"IF(AC45=\"\",\"\",VLOOKUP(CONCATENATE($W$9,\"_\",AC45),選手名簿!$A:$H,5,FALSE))","v":""}]
["警告（Ｃ）・退場（Ｓ）など",null,null,null,null,null,null,"合計",null,"延後",null,"延前",null,"後半",null,"前半",null,"チーム\n合計",null,"前半",null,"後半",null,"延前",null,"延後",null,"合計",null,"警告（Ｃ）・退場（Ｓ）など"]
[null,null,null,null,null,null,null,{"$f":"SUM(J47:Q47)","v":7},null,null,null,null,null,3,null,4,null,"Ｇ","Ｋ",1,null,3,null,null,null,null,null,{"$f":"SUM(T47:AA47)","v":4},null,"30分　2番　増永大生獅"]
[null,null,null,null,null,null,null,{"$f":"SUM(J48:Q48)","v":2},null,null,null,null,null,2,null,0,null,"Ｃ","Ｋ",2,null,2,null,null,null,null,null,{"$f":"SUM(T48:AA48)","v":4},null,"反スポ（C１)"]
[null,null,null,null,null,null,null,{"$f":"SUM(J49:Q49)","v":5},null,null,null,null,null,3,null,2,null,"直接","ＦＫ",1,null,0,null,null,null,null,null,{"$f":"SUM(T49:AA49)","v":1}]
[null,null,null,null,null,null,null,{"$f":"SUM(J50:Q50)","v":9},null,null,null,null,null,4,null,5,null,"間接","ＦＫ",1,null,0,null,null,null,null,null,{"$f":"SUM(T50:AA50)","v":1}]
[null,null,null,null,null,null,null,{"$f":"SUM(J51:Q51)","v":1},null,null,null,null,null,1,null,0,null,"Ｐ","Ｋ",0,null,0,null,null,null,null,null,{"$f":"SUM(T51:AA51)","v":0}]
["時間",null,null,"得点者",null,"得　　点　　経　　過",null,null,null,null,null,null,null,null,null,null,null,null,"時間",null,null,"得点者",null,"得　　点　　経　　過"]
[null,30,"分",8,null,"PK",null,null,null,null,null,null,null,null,null,null,null,null,null,2,"分",2,null,12,null,"∩",null,2,"S"]
[null,null,"分",null,null,null,null,null,null,null,null,null,null,null,null,null,null,null,null,8,"分",12,null,8,null,"→",null,12,"S"]
[null,null,"分",null,null,null,null,null,null,null,null,null,null,null,null,null,null,null,null,36,"分",5,null,12,null,"→",null,5,"S"]
[null,null,"分",null,null,null,null,null,null,null,null,null,null,null,null,null,null,null,null,null,"分"]
[null,null,"分",null,null,null,null,null,null,null,null,null,null,null,null,null,null,null,null,null,"分"]
[null,null,"分",null,null,null,null,null,null,null,null,null,null,null,null,null,null,null,null,null,"分"]
[" ",null,null,"《略号例》",null,null,null,"ドリブル",null,"～",null,"ゴロのパス",null,null,"→",null,"浮き球",null,"∩",null,"混戦",null,"×",null,"ヘディング",null,null,"H",null,"シュート",null,"S"]
["[警告理由]C1：反スポーツ的行為，C2：ラフプレー，C3：異議，C4：繰り返し違反，C5：遅延行為，C6：距離不足，C7：無許可入，C8：無許可去"]
["[退場理由]S1：著しく不正なプレー，S2：乱暴な行為，S3：つば吐き，S4：得点機会阻止(ハンド)，S5：得点機会阻止(他)，S6：侮辱的発言，CS：警告2回による退場"]
[]
["戦評者氏名",null,null,null,"（",null,null,null,null,null,"）",null,"勤務先または所属",null,null,null,null,"（",null,null,null,null,null,null,null,null,null,null,null,null,null,null,null,null,"　）"]
[]
[]
[]
[]
[]
[]
[]
[]
[null,null,null,null,null,null,null,null,"M   C",null,null,null,null,null,null,"ウェルフェアオフィサー",null,null,null,null,null,null,"会　場　長",null,null,null,null,null,null,"主　　審"]
[null,null,null,null,null,null,null,null,"仲野　昭博",null,null,null,null,null,null,"中原　圭介",null,null,null,null,null,null,"安東　幹雄",null,null,null,null,null,null,"黒田　大貴"]

{"sheet":"準決勝②【Match No,50】","index":9,"n_rows":76,"n_cols":36,"rows_kept":76,"cut":false,"hidden":false,"merged":[[74,8,74,14],[74,15,74,21],[74,22,74,28],[74,29,74,35],[75,8,77,14],[75,15,77,21],[75,22,77,28],[75,29,77,35],[61,29,61,30],[62,0,62,35],[63,0,63,35],[65,0,65,3],[65,5,65,9],[65,12,65,16],[65,18,65,33],[61,3,61,5],[61,7,61,8],[61,11,61,13],[61,16,61,17],[61,20,61,21],[61,24,61,26],[58,3,58,4],[58,21,58,22],[59,3,59,4],[59,21,59,22],[60,3,60,4],[60,21,60,22],[55,3,55,4],[55,21,55,22],[56,3,56,4],[56,21,56,22],[57,3,57,4],[57,21,57,22],[52,3,52,4],[52,21,52,22],[53,3,53,4],[53,21,53,22],[54,3,54,4],[54,21,54,22],[50,27,50,28],[51,0,51,2],[51,3,51,4],[51,5,51,17],[51,18,51,20],[51,21,51,22],[51,23,51,35],[50,7,50,8],[50,9,50,10],[50,11,50,12],[50,13,50,14],[50,15,50,16],[50,19,50,20],[50,21,50,22],[50,23,50,24],[50,25,50,26],[48,27,48,28],[49,7,49,8],[49,9,49,10],[49,11,49,12],[49,13,49,14],[49,15,49,16],[49,19,49,20],[49,21,49,22],[49,23,49,24],[49,25,49,26],[49,27,49,28],[48,7,48,8],[48,9,48,10],[48,11,48,12],[48,13,48,14],[48,15,48,16],[48,19,48,20],[48,21,48,22],[48,23,48,24],[48,25,48,26],[46,27,46,28],[47,7,47,8],[47,9,47,10],[47,11,47,12],[47,13,47,14],[47,15,47,16],[47,19,47,20],[47,21,47,22],[47,23,47,24],[47,25,47,26],[47,27,47,28],[46,7,46,8],[46,9,46,10],[46,11,46,12],[46,13,46,14],[46,15,46,16],[46,19,46,20],[46,21,46,22],[46,23,46,24],[46,25,46,26],[44,4,44,8],[44,12,44,16],[44,22,44,26],[44,30,44,34],[45,0,45,6],[45,7,45,8],[45,9,45,10],[45,11,45,12],[45,13,45,14],[45,15,45,16],[45,29,45,35],[45,17,45,18],[45,19,45,20],[45,21,45,22],[45,23,45,24],[45,25,45,26],[45,27,45,28],[42,4,42,8],[42,12,42,16],[42,22,42,26],[42,30,42,34],[43,4,43,8],[43,12,43,16],[43,22,43,26],[43,30,43,34],[40,4,40,8],[40,12,40,16],[40,22,40,26],[40,30,40,34],[41,4,41,8],[41,12,41,16],[41,22,41,26],[41,30,41,34],[38,4,38,8],[38,12,38,16],[38,22,38,26],[38,30,38,34],[39,4,39,8],[39,12,39,16],[39,22,39,26],[39,30,39,34],[35,28,36,34],[36,17,36,18],[37,4,37,8],[37,12,37,16],[37,22,37,26],[37,30,37,34],[35,2,36,8],[35,9,36,9],[35,10,36,16],[35,17,35,18],[35,20,36,26],[35,27,36,27],[32,11,32,15],[32,20,32,24],[33,11,33,15],[33,20,33,24],[34,11,34,15],[34,17,34,18],[34,20,34,24],[29,11,29,15],[29,20,29,24],[30,11,30,15],[30,20,30,24],[31,11,31,15],[31,20,31,24],[26,11,26,15],[26,20,26,24],[27,11,27,15],[27,20,27,24],[28,11,28,15],[28,20,28,24],[22,11,22,15],[22,20,22,24],[23,16,23,19],[24,11,24,15],[24,20,24,24],[25,11,25,15],[25,20,25,24],[20,11,20,15],[20,20,20,24],[21,11,21,15],[21,20,21,24],[16,11,16,15],[16,20,16,24],[17,11,17,15],[17,20,17,24],[18,11,18,15],[18,20,18,24],[14,34,14,35],[15,11,15,15],[15,20,15,24],[13,28,13,29],[13,30,13,31],[13,32,13,33],[13,34,13,35],[19,11,19,15],[19,20,19,24],[14,26,14,27],[11,17,11,18],[12,2,12,9],[12,26,12,33],[13,0,13,1],[13,2,13,3],[13,4,13,5],[13,6,13,7],[13,8,13,9],[13,17,13,18],[13,26,13,27],[14,28,14,29],[14,30,14,31],[14,32,14,33],[7,21,7,23],[9,9,9,11],[9,12,9,14],[9,17,9,18],[9,21,9,23],[14,0,14,1],[14,2,14,3],[14,4,14,5],[14,6,14,7],[14,8,14,9],[5,26,5,30],[5,31,5,35],[6,0,6,1],[6,11,6,12],[6,13,6,14],[6,18,6,19],[6,26,6,30],[9,24,9,26],[10,11,10,12],[10,13,10,14],[10,17,10,18],[10,21,10,22],[10,23,10,24],[7,32,7,35],[8,1,8,10],[8,11,8,14],[8,17,8,18],[8,22,8,31],[8,32,8,35],[7,0,7,2],[7,11,7,14],[7,15,11,15],[7,17,7,18],[7,20,11,20],[4,0,4,1],[4,2,6,8],[4,11,4,12],[4,18,4,19],[5,0,5,1],[5,11,5,12],[5,13,5,14],[5,18,5,19],[5,21,5,25],[1,28,2,29],[1,31,1,35],[2,0,2,1],[2,14,2,15],[2,16,2,17],[2,18,2,26],[2,31,2,35],[0,0,0,5],[0,6,0,9],[0,10,0,11],[1,0,1,1],[1,2,3,13],[1,15,1,16],[3,0,3,1],[3,14,3,15],[3,16,3,17],[3,18,3,26],[3,28,3,29],[3,31,3,35]]}
["公式記録",null,null,null,null,null,"Match No：",null,null,null,50]
["大",null,"OFA 第 53 回大分県少年サッカー大会\n　兼　KYFA 九州U-12サッカー大会大分県大会",null,null,null,null,null,null,null,null,null,null,null,"第",3,null,"日",null,null,null,null,null,null,null,null,null,"競技","40分",null,"記"]
["会",null,null,null,null,null,null,null,null,null,null,null,null,null,"1回戦",null,"2回戦",null,"2022年　2月23日（水）",null,null,null,null,null,null,null,null,"時間",null,null,"録","中原　圭介"]
["名",null,null,null,null,null,null,null,null,null,null,null,null,null,"準決勝",null,"決勝",null,"試合開始　9時30分～",null,null,null,null,null,null,null,null,"延長","10分",null,"者","磯村　信一"]
["会",null,"大分県サッカー協会\n人工芝グラウンド",null,null,null,null,null,null,"天","晴","風",null,"強","弱","無","芝","状","良好",null,"審","主審",null,null,null,null,"副審",null,null,null,null,"第4の審判員"]
[null,null,null,null,null,null,null,null,null,null,"曇","気温",null,9.9,null,"℃",null,null,"不良",null,null,"黒田　大貴",null,null,null,null,"寺次　良生",null,null,null,null,"足立　卓也"]
["場",null,null,null,null,null,null,null,null,"候","雨","湿度",null,39.700000000000003,null,"％","土","態","泥沼",null,"判",null,null,null,null,null,"酒井　駿"]
["【チーム名】",null,null,null,null,null,null,null,null,null,null,null,null,null,null,{"$f":"IF(Q8=\"\",\"\",SUM(Q8:Q11))","v":9},4,"前半",null,0,{"$f":"IF(T8=\"\",\"\",SUM(T8:T11))","v":0},"【チーム名】"]
[null,{"$f":"組み合わせ!CF27","v":"大分トリニータＵ－１２"},null,null,null,null,null,null,null,null,null,{"$f":"組み合わせ!CP30","v":"（　　大分　　市）"},null,null,null,null,5,"後半",null,0,null,null,{"$f":"組み合わせ!DP27","v":"スマイス　セレソン　スポーツクラブ"},null,null,null,null,null,null,null,null,null,{"$f":"組み合わせ!DZ30","v":"（　　大分　　市）"}]
[null,null,null,null,null,null,null,null,null,"延長戦kick off",null,null,"kick off",null,null,null,null,"延前",null,null,null,"kick off",null,null,"延長戦kick off"]
[null,null,null,null,null,null,null,null,null,null,null,"背番号",null,"PK",null,null,null,"延後",null,null,null,"PK",null,"背番号"]
[null,null,null,null,null,null,null,null,null,null,null,"○","×","先","後",null,null,"ＰＫ戦",null,null,null,"先","後","○","×"]
[null,null,"シュート（得点者は○印）",null,null,null,null,null,null,null,"学",null,null,null,null,null,"背",null,null,"背",null,null,null,null,null,"学","シュート（得点者は○印）"]
["合",null,"延",null,"延",null,"後",null,"前",null,null,null,"選","手","名",null,"番","位置",null,"番",null,"選","手","名",null,null,"前",null,"後",null,"延",null,"延",null,"合"]
["計",null,"後",null,"前",null,"半",null,"半",null,"年",null,null,null,null,null,"号",null,null,"号",null,null,null,null,null,"年","半",null,"半",null,"前",null,"後",null,"計"]
[null,{"$f":"SUM(D16,F16,H16,J16)","v":0},null,null,null,null,null,null,null,null,{"$f":"IF(Q16=\"\",\"\",VLOOKUP(CONCATENATE($B$9,\"_\",Q16),選手名簿!$A:$H,7,FALSE))","v":6},{"$f":"IF(Q16=\"\",\"\",VLOOKUP(CONCATENATE($B$9,\"_\",Q16),選手名簿!$A:$H,5,FALSE))","v":"佐藤　志巌"},null,null,null,null,1,{"$f":"IF(Q16=\"\",\"\",VLOOKUP(CONCATENATE($B$9,\"_\",Q16),選手名簿!$A:$H,4,FALSE))","v":"GK"},{"$f":"IF(T16=\"\",\"\",VLOOKUP(CONCATENATE($W$9,\"_\",T16),選手名簿!$A:$H,4,FALSE))","v":"GK"},1,{"$f":"IF(T16=\"\",\"\",VLOOKUP(CONCATENATE($W$9,\"_\",T16),選手名簿!$A:$H,5,FALSE))","v":"西川　理希"},null,null,null,null,{"$f":"IF(T16=\"\",\"\",VLOOKUP(CONCATENATE($W$9,\"_\",T16),選手名簿!$A:$H,7,FALSE))","v":6},null,null,null,null,null,null,null,null,null,{"$f":"SUM(AB16,AD16,AF16,AH16)","v":0}]
[null,2,null,null,null,null,null,1,"①",1,{"$f":"IF(Q17=\"\",\"\",VLOOKUP(CONCATENATE($B$9,\"_\",Q17),選手名簿!$A:$H,7,FALSE))","v":6},{"$f":"IF(Q17=\"\",\"\",VLOOKUP(CONCATENATE($B$9,\"_\",Q17),選手名簿!$A:$H,5,FALSE))","v":"野崎　隆太"},null,null,null,null,3,{"$f":"IF(Q17=\"\",\"\",VLOOKUP(CONCATENATE($B$9,\"_\",Q17),選手名簿!$A:$H,4,FALSE))","v":"DF"},{"$f":"IF(T17=\"\",\"\",VLOOKUP(CONCATENATE($W$9,\"_\",T17),選手名簿!$A:$H,4,FALSE))","v":"DF"},2,{"$f":"IF(T17=\"\",\"\",VLOOKUP(CONCATENATE($W$9,\"_\",T17),選手名簿!$A:$H,5,FALSE))","v":"大石　楓太"},null,null,null,null,{"$f":"IF(T17=\"\",\"\",VLOOKUP(CONCATENATE($W$9,\"_\",T17),選手名簿!$A:$H,7,FALSE))","v":5},null,null,null,null,null,null,null,null,null,0]
[null,7,null,null,null,null,"③",3,"①",4,{"$f":"IF(Q18=\"\",\"\",VLOOKUP(CONCATENATE($B$9,\"_\",Q18),選手名簿!$A:$H,7,FALSE))","v":6},{"$f":"IF(Q18=\"\",\"\",VLOOKUP(CONCATENATE($B$9,\"_\",Q18),選手名簿!$A:$H,5,FALSE))","v":"増永　大生獅"},null,null,null,null,2,{"$f":"IF(Q18=\"\",\"\",VLOOKUP(CONCATENATE($B$9,\"_\",Q18),選手名簿!$A:$H,4,FALSE))","v":"MF"},{"$f":"IF(T18=\"\",\"\",VLOOKUP(CONCATENATE($W$9,\"_\",T18),選手名簿!$A:$H,4,FALSE))","v":"DF"},3,{"$f":"IF(T18=\"\",\"\",VLOOKUP(CONCATENATE($W$9,\"_\",T18),選手名簿!$A:$H,5,FALSE))","v":"福島　愛司"},null,null,null,null,{"$f":"IF(T18=\"\",\"\",VLOOKUP(CONCATENATE($W$9,\"_\",T18),選手名簿!$A:$H,7,FALSE))","v":6},null,null,null,null,null,null,null,null,null,0]
[null,2,null,null,null,null,null,null,"①",2,{"$f":"IF(Q19=\"\",\"\",VLOOKUP(CONCATENATE($B$9,\"_\",Q19),選手名簿!$A:$H,7,FALSE))","v":6},{"$f":"IF(Q19=\"\",\"\",VLOOKUP(CONCATENATE($B$9,\"_\",Q19),選手名簿!$A:$H,5,FALSE))","v":"宮坂　奏音"},null,null,null,null,6,{"$f":"IF(Q19=\"\",\"\",VLOOKUP(CONCATENATE($B$9,\"_\",Q19),選手名簿!$A:$H,4,FALSE))","v":"MF"},{"$f":"IF(T19=\"\",\"\",VLOOKUP(CONCATENATE($W$9,\"_\",T19),選手名簿!$A:$H,4,FALSE))","v":"DF"},4,{"$f":"IF(T19=\"\",\"\",VLOOKUP(CONCATENATE($W$9,\"_\",T19),選手名簿!$A:$H,5,FALSE))","v":"清原　裕翔"},null,null,null,null,{"$f":"IF(T19=\"\",\"\",VLOOKUP(CONCATENATE($W$9,\"_\",T19),選手名簿!$A:$H,7,FALSE))","v":6},null,null,null,null,null,null,null,null,null,0]
[null,1,null,null,null,null,null,null,null,1,{"$f":"IF(Q20=\"\",\"\",VLOOKUP(CONCATENATE($B$9,\"_\",Q20),選手名簿!$A:$H,7,FALSE))","v":6},{"$f":"IF(Q20=\"\",\"\",VLOOKUP(CONCATENATE($B$9,\"_\",Q20),選手名簿!$A:$H,5,FALSE))","v":"髙橋　佑樹"},null,null,null,null,8,{"$f":"IF(Q20=\"\",\"\",VLOOKUP(CONCATENATE($B$9,\"_\",Q20),選手名簿!$A:$H,4,FALSE))","v":"MF"},{"$f":"IF(T20=\"\",\"\",VLOOKUP(CONCATENATE($W$9,\"_\",T20),選手名簿!$A:$H,4,FALSE))","v":"DF"},5,{"$f":"IF(T20=\"\",\"\",VLOOKUP(CONCATENATE($W$9,\"_\",T20),選手名簿!$A:$H,5,FALSE))","v":"長野　泰人"},null,null,null,null,{"$f":"IF(T20=\"\",\"\",VLOOKUP(CONCATENATE($W$9,\"_\",T20),選手名簿!$A:$H,7,FALSE))","v":6},null,null,null,1,null,null,null,null,null,1]
[null,2,null,null,null,null,"①",1,null,1,{"$f":"IF(Q21=\"\",\"\",VLOOKUP(CONCATENATE($B$9,\"_\",Q21),選手名簿!$A:$H,7,FALSE))","v":6},{"$f":"IF(Q21=\"\",\"\",VLOOKUP(CONCATENATE($B$9,\"_\",Q21),選手名簿!$A:$H,5,FALSE))","v":"染矢　涼志"},null,null,null,null,9,{"$f":"IF(Q21=\"\",\"\",VLOOKUP(CONCATENATE($B$9,\"_\",Q21),選手名簿!$A:$H,4,FALSE))","v":"MF"},{"$f":"IF(T21=\"\",\"\",VLOOKUP(CONCATENATE($W$9,\"_\",T21),選手名簿!$A:$H,4,FALSE))","v":"MF"},8,{"$f":"IF(T21=\"\",\"\",VLOOKUP(CONCATENATE($W$9,\"_\",T21),選手名簿!$A:$H,5,FALSE))","v":"武田　有冴"},null,null,null,null,{"$f":"IF(T21=\"\",\"\",VLOOKUP(CONCATENATE($W$9,\"_\",T21),選手名簿!$A:$H,7,FALSE))","v":6},null,null,null,1,null,null,null,null,null,1]
[null,0,null,null,null,null,null,null,null,null,{"$f":"IF(Q22=\"\",\"\",VLOOKUP(CONCATENATE($B$9,\"_\",Q22),選手名簿!$A:$H,7,FALSE))","v":6},{"$f":"IF(Q22=\"\",\"\",VLOOKUP(CONCATENATE($B$9,\"_\",Q22),選手名簿!$A:$H,5,FALSE))","v":"波多野　瑛太"},null,null,null,null,10,{"$f":"IF(Q22=\"\",\"\",VLOOKUP(CONCATENATE($B$9,\"_\",Q22),選手名簿!$A:$H,4,FALSE))","v":"FW"},{"$f":"IF(T22=\"\",\"\",VLOOKUP(CONCATENATE($W$9,\"_\",T22),選手名簿!$A:$H,4,FALSE))","v":"MF"},10,{"$f":"IF(T22=\"\",\"\",VLOOKUP(CONCATENATE($W$9,\"_\",T22),選手名簿!$A:$H,5,FALSE))","v":"小林　風翔"},null,null,null,null,{"$f":"IF(T22=\"\",\"\",VLOOKUP(CONCATENATE($W$9,\"_\",T22),選手名簿!$A:$H,7,FALSE))","v":6},null,null,null,null,null,null,null,null,null,0]
[null,1,null,null,null,null,null,null,"①",1,{"$f":"IF(Q23=\"\",\"\",VLOOKUP(CONCATENATE($B$9,\"_\",Q23),選手名簿!$A:$H,7,FALSE))","v":6},{"$f":"IF(Q23=\"\",\"\",VLOOKUP(CONCATENATE($B$9,\"_\",Q23),選手名簿!$A:$H,5,FALSE))","v":"佐藤　煌将"},null,null,null,null,12,{"$f":"IF(Q23=\"\",\"\",VLOOKUP(CONCATENATE($B$9,\"_\",Q23),選手名簿!$A:$H,4,FALSE))","v":"FW"},{"$f":"IF(T23=\"\",\"\",VLOOKUP(CONCATENATE($W$9,\"_\",T23),選手名簿!$A:$H,4,FALSE))","v":"FW"},9,{"$f":"IF(T23=\"\",\"\",VLOOKUP(CONCATENATE($W$9,\"_\",T23),選手名簿!$A:$H,5,FALSE))","v":"三ヶ尻　圭吾"},null,null,null,null,{"$f":"IF(T23=\"\",\"\",VLOOKUP(CONCATENATE($W$9,\"_\",T23),選手名簿!$A:$H,7,FALSE))","v":6},null,1,null,null,null,null,null,null,null,1]
[null,null,null,null,null,null,null,null,null,null,null,null,null,null,null,null,"交替要員"]
[null,{"$f":"SUM(D25,F25,H25,J25)","v":0},null,null,null,null,null,null,null,null,{"$f":"IF(Q25=\"\",\"\",VLOOKUP(CONCATENATE($B$9,\"_\",Q25),選手名簿!$A:$H,7,FALSE))","v":6},{"$f":"IF(Q25=\"\",\"\",VLOOKUP(CONCATENATE($B$9,\"_\",Q25),選手名簿!$A:$H,5,FALSE))","v":"尾本　泰雅"},null,null,null,null,4,{"$f":"IF(Q25=\"\",\"\",VLOOKUP(CONCATENATE($B$9,\"_\",Q25),選手名簿!$A:$H,4,FALSE))","v":"DF"},{"$f":"IF(T25=\"\",\"\",VLOOKUP(CONCATENATE($W$9,\"_\",T25),選手名簿!$A:$H,4,FALSE))","v":"DF"},6,{"$f":"IF(T25=\"\",\"\",VLOOKUP(CONCATENATE($W$9,\"_\",T25),選手名簿!$A:$H,5,FALSE))","v":"藤田　晃己"},null,null,null,null,{"$f":"IF(T25=\"\",\"\",VLOOKUP(CONCATENATE($W$9,\"_\",T25),選手名簿!$A:$H,7,FALSE))","v":6},null,null,null,null,null,null,null,null,null,{"$f":"SUM(AB25,AD25,AF25,AH25)","v":0}]
[null,0,null,null,null,null,null,null,null,null,{"$f":"IF(Q26=\"\",\"\",VLOOKUP(CONCATENATE($B$9,\"_\",Q26),選手名簿!$A:$H,7,FALSE))","v":6},{"$f":"IF(Q26=\"\",\"\",VLOOKUP(CONCATENATE($B$9,\"_\",Q26),選手名簿!$A:$H,5,FALSE))","v":"後藤　悠"},null,null,null,null,5,{"$f":"IF(Q26=\"\",\"\",VLOOKUP(CONCATENATE($B$9,\"_\",Q26),選手名簿!$A:$H,4,FALSE))","v":"MF"},{"$f":"IF(T26=\"\",\"\",VLOOKUP(CONCATENATE($W$9,\"_\",T26),選手名簿!$A:$H,4,FALSE))","v":"MF"},7,{"$f":"IF(T26=\"\",\"\",VLOOKUP(CONCATENATE($W$9,\"_\",T26),選手名簿!$A:$H,5,FALSE))","v":"後藤　友星"},null,null,null,null,{"$f":"IF(T26=\"\",\"\",VLOOKUP(CONCATENATE($W$9,\"_\",T26),選手名簿!$A:$H,7,FALSE))","v":6},null,null,null,null,null,null,null,null,null,0]
[null,0,null,null,null,null,null,null,null,null,{"$f":"IF(Q27=\"\",\"\",VLOOKUP(CONCATENATE($B$9,\"_\",Q27),選手名簿!$A:$H,7,FALSE))","v":6},{"$f":"IF(Q27=\"\",\"\",VLOOKUP(CONCATENATE($B$9,\"_\",Q27),選手名簿!$A:$H,5,FALSE))","v":"増田　壮我"},null,null,null,null,7,{"$f":"IF(Q27=\"\",\"\",VLOOKUP(CONCATENATE($B$9,\"_\",Q27),選手名簿!$A:$H,4,FALSE))","v":"MF"},{"$f":"IF(T27=\"\",\"\",VLOOKUP(CONCATENATE($W$9,\"_\",T27),選手名簿!$A:$H,4,FALSE))","v":"FW"},11,{"$f":"IF(T27=\"\",\"\",VLOOKUP(CONCATENATE($W$9,\"_\",T27),選手名簿!$A:$H,5,FALSE))","v":"古屋　昌洋"},null,null,null,null,{"$f":"IF(T27=\"\",\"\",VLOOKUP(CONCATENATE($W$9,\"_\",T27),選手名簿!$A:$H,7,FALSE))","v":6},null,null,null,null,null,null,null,null,null,0]
[null,1,null,null,null,null,"①",1,null,null,{"$f":"IF(Q28=\"\",\"\",VLOOKUP(CONCATENATE($B$9,\"_\",Q28),選手名簿!$A:$H,7,FALSE))","v":5},{"$f":"IF(Q28=\"\",\"\",VLOOKUP(CONCATENATE($B$9,\"_\",Q28),選手名簿!$A:$H,5,FALSE))","v":"池谷　碧"},null,null,null,null,11,{"$f":"IF(Q28=\"\",\"\",VLOOKUP(CONCATENATE($B$9,\"_\",Q28),選手名簿!$A:$H,4,FALSE))","v":"FW"},{"$f":"IF(T28=\"\",\"\",VLOOKUP(CONCATENATE($W$9,\"_\",T28),選手名簿!$A:$H,4,FALSE))","v":"DF"},12,{"$f":"IF(T28=\"\",\"\",VLOOKUP(CONCATENATE($W$9,\"_\",T28),選手名簿!$A:$H,5,FALSE))","v":"佐藤　大樹"},null,null,null,null,{"$f":"IF(T28=\"\",\"\",VLOOKUP(CONCATENATE($W$9,\"_\",T28),選手名簿!$A:$H,7,FALSE))","v":6},null,null,null,null,null,null,null,null,null,0]
[null,0,null,null,null,null,null,null,null,null,{"$f":"IF(Q29=\"\",\"\",VLOOKUP(CONCATENATE($B$9,\"_\",Q29),選手名簿!$A:$H,7,FALSE))","v":5},{"$f":"IF(Q29=\"\",\"\",VLOOKUP(CONCATENATE($B$9,\"_\",Q29),選手名簿!$A:$H,5,FALSE))","v":"原園　英虎"},null,null,null,null,13,{"$f":"IF(Q29=\"\",\"\",VLOOKUP(CONCATENATE($B$9,\"_\",Q29),選手名簿!$A:$H,4,FALSE))","v":"DF"},{"$f":"IF(T29=\"\",\"\",VLOOKUP(CONCATENATE($W$9,\"_\",T29),選手名簿!$A:$H,4,FALSE))","v":"MF"},13,{"$f":"IF(T29=\"\",\"\",VLOOKUP(CONCATENATE($W$9,\"_\",T29),選手名簿!$A:$H,5,FALSE))","v":"簀戸　一颯"},null,null,null,null,{"$f":"IF(T29=\"\",\"\",VLOOKUP(CONCATENATE($W$9,\"_\",T29),選手名簿!$A:$H,7,FALSE))","v":6},null,null,null,null,null,null,null,null,null,0]
[null,0,null,null,null,null,null,null,null,null,{"$f":"IF(Q30=\"\",\"\",VLOOKUP(CONCATENATE($B$9,\"_\",Q30),選手名簿!$A:$H,7,FALSE))","v":5},{"$f":"IF(Q30=\"\",\"\",VLOOKUP(CONCATENATE($B$9,\"_\",Q30),選手名簿!$A:$H,5,FALSE))","v":"野田　佑月"},null,null,null,null,14,{"$f":"IF(Q30=\"\",\"\",VLOOKUP(CONCATENATE($B$9,\"_\",Q30),選手名簿!$A:$H,4,FALSE))","v":"DF"},{"$f":"IF(T30=\"\",\"\",VLOOKUP(CONCATENATE($W$9,\"_\",T30),選手名簿!$A:$H,4,FALSE))","v":"MF"},14,{"$f":"IF(T30=\"\",\"\",VLOOKUP(CONCATENATE($W$9,\"_\",T30),選手名簿!$A:$H,5,FALSE))","v":"河野　凌大"},null,null,null,null,{"$f":"IF(T30=\"\",\"\",VLOOKUP(CONCATENATE($W$9,\"_\",T30),選手名簿!$A:$H,7,FALSE))","v":6},null,null,null,null,null,null,null,null,null,0]
[null,0,null,null,null,null,null,null,null,null,{"$f":"IF(Q31=\"\",\"\",VLOOKUP(CONCATENATE($B$9,\"_\",Q31),選手名簿!$A:$H,7,FALSE))","v":5},{"$f":"IF(Q31=\"\",\"\",VLOOKUP(CONCATENATE($B$9,\"_\",Q31),選手名簿!$A:$H,5,FALSE))","v":"上本　翔海"},null,null,null,null,15,{"$f":"IF(Q31=\"\",\"\",VLOOKUP(CONCATENATE($B$9,\"_\",Q31),選手名簿!$A:$H,4,FALSE))","v":"MF"},{"$f":"IF(T31=\"\",\"\",VLOOKUP(CONCATENATE($W$9,\"_\",T31),選手名簿!$A:$H,4,FALSE))","v":"FW"},15,{"$f":"IF(T31=\"\",\"\",VLOOKUP(CONCATENATE($W$9,\"_\",T31),選手名簿!$A:$H,5,FALSE))","v":"米村　洸音"},null,null,null,null,{"$f":"IF(T31=\"\",\"\",VLOOKUP(CONCATENATE($W$9,\"_\",T31),選手名簿!$A:$H,7,FALSE))","v":6},null,null,null,null,null,null,null,null,null,0]
[null,0,null,null,null,null,null,null,null,null,{"$f":"IF(Q32=\"\",\"\",VLOOKUP(CONCATENATE($B$9,\"_\",Q32),選手名簿!$A:$H,7,FALSE))","v":6},{"$f":"IF(Q32=\"\",\"\",VLOOKUP(CONCATENATE($B$9,\"_\",Q32),選手名簿!$A:$H,5,FALSE))","v":"小澤　卓実"},null,null,null,null,16,{"$f":"IF(Q32=\"\",\"\",VLOOKUP(CONCATENATE($B$9,\"_\",Q32),選手名簿!$A:$H,4,FALSE))","v":"GK"},{"$f":"IF(T32=\"\",\"\",VLOOKUP(CONCATENATE($W$9,\"_\",T32),選手名簿!$A:$H,4,FALSE))","v":"GK"},16,{"$f":"IF(T32=\"\",\"\",VLOOKUP(CONCATENATE($W$9,\"_\",T32),選手名簿!$A:$H,5,FALSE))","v":"青松　蒼空"},null,null,null,null,{"$f":"IF(T32=\"\",\"\",VLOOKUP(CONCATENATE($W$9,\"_\",T32),選手名簿!$A:$H,7,FALSE))","v":5},null,null,null,null,null,null,null,null,null,0]
[null,0,null,null,null,null,null,null,null,null,{"$f":"IF(Q33=\"\",\"\",VLOOKUP(CONCATENATE($B$9,\"_\",Q33),選手名簿!$A:$H,7,FALSE))","v":5},{"$f":"IF(Q33=\"\",\"\",VLOOKUP(CONCATENATE($B$9,\"_\",Q33),選手名簿!$A:$H,5,FALSE))","v":"伊勢　虎斗"},null,null,null,null,17,{"$f":"IF(Q33=\"\",\"\",VLOOKUP(CONCATENATE($B$9,\"_\",Q33),選手名簿!$A:$H,4,FALSE))","v":"MF"},{"$f":"IF(T33=\"\",\"\",VLOOKUP(CONCATENATE($W$9,\"_\",T33),選手名簿!$A:$H,4,FALSE))","v":"FW"},17,{"$f":"IF(T33=\"\",\"\",VLOOKUP(CONCATENATE($W$9,\"_\",T33),選手名簿!$A:$H,5,FALSE))","v":"嶋村　堪太"},null,null,null,null,{"$f":"IF(T33=\"\",\"\",VLOOKUP(CONCATENATE($W$9,\"_\",T33),選手名簿!$A:$H,7,FALSE))","v":5},null,null,null,null,null,null,null,null,null,0]
[null,0,null,null,null,null,null,null,null,null,{"$f":"IF(Q34=\"\",\"\",VLOOKUP(CONCATENATE($B$9,\"_\",Q34),選手名簿!$A:$H,7,FALSE))","v":5},{"$f":"IF(Q34=\"\",\"\",VLOOKUP(CONCATENATE($B$9,\"_\",Q34),選手名簿!$A:$H,5,FALSE))","v":"小泉　咲空"},null,null,null,null,18,{"$f":"IF(Q34=\"\",\"\",VLOOKUP(CONCATENATE($B$9,\"_\",Q34),選手名簿!$A:$H,4,FALSE))","v":"DF"},{"$f":"IF(T34=\"\",\"\",VLOOKUP(CONCATENATE($W$9,\"_\",T34),選手名簿!$A:$H,4,FALSE))","v":""},null,{"$f":"IF(T34=\"\",\"\",VLOOKUP(CONCATENATE($W$9,\"_\",T34),選手名簿!$A:$H,5,FALSE))","v":""},null,null,null,null,{"$f":"IF(T34=\"\",\"\",VLOOKUP(CONCATENATE($W$9,\"_\",T34),選手名簿!$A:$H,7,FALSE))","v":""},null,null,null,null,null,null,null,null,null,0]
[null,null,null,{"$f":"SUM(D16:D23,D25:D34)","v":0},null,{"$f":"SUM(F16:F23,F25:F34)","v":0},null,{"$f":"SUM(H16:H23,H25:H34)","v":6},null,{"$f":"SUM(J16:J23,J25:J34)","v":10},"小計",{"$f":"SUM(D35,F35,H35,J35)","v":16},null,null,null,null,"合計","シュート数",null,"合計",{"$f":"SUM(AB35,AD35,AF35,AH35)","v":3},null,null,null,null,"小計",null,{"$f":"SUM(AB16:AB23,AB25:AB34)","v":1},null,{"$f":"SUM(AD16:AD23,AD25:AD34)","v":2},null,{"$f":"SUM(AF16:AF23,AF25:AF34)","v":0},null,{"$f":"SUM(AH16:AH23,AH25:AH34)","v":0}]
[null,null,"OUT",null,null,null,null,null,null,"→","IN",null,null,null,null,null,null,"交代",null,null,"OUT",null,null,null,null,null,null,"→","IN"]
[null,null,null,null,null,null,null,null,null,null,null,null,null,null,null,null,null,"選手"]
[20,"分",6,"番",{"$f":"IF(C38=\"\",\"\",VLOOKUP(CONCATENATE($B$9,\"_\",C38),選手名簿!$A:$H,5,FALSE))","v":"宮坂　奏音"},null,null,null,null,"→",7,"番",{"$f":"IF(K38=\"\",\"\",VLOOKUP(CONCATENATE($B$9,\"_\",K38),選手名簿!$A:$H,5,FALSE))","v":"増田　壮我"},null,null,null,null,null,23,"分",4,"番",{"$f":"IF(U38=\"\",\"\",VLOOKUP(CONCATENATE($W$9,\"_\",U38),選手名簿!$A:$H,5,FALSE))","v":"清原　裕翔"},null,null,null,null,"→",6,"番",{"$f":"IF(AC38=\"\",\"\",VLOOKUP(CONCATENATE($W$9,\"_\",AC38),選手名簿!$A:$H,5,FALSE))","v":"藤田　晃己"}]
[20,"分",3,"番",{"$f":"IF(C39=\"\",\"\",VLOOKUP(CONCATENATE($B$9,\"_\",C39),選手名簿!$A:$H,5,FALSE))","v":"野崎　隆太"},null,null,null,null,"→",4,"番",{"$f":"IF(K39=\"\",\"\",VLOOKUP(CONCATENATE($B$9,\"_\",K39),選手名簿!$A:$H,5,FALSE))","v":"尾本　泰雅"},null,null,null,null,null,25,"分",9,"番",{"$f":"IF(U39=\"\",\"\",VLOOKUP(CONCATENATE($W$9,\"_\",U39),選手名簿!$A:$H,5,FALSE))","v":"三ヶ尻　圭吾"},null,null,null,null,"→",7,"番",{"$f":"IF(AC39=\"\",\"\",VLOOKUP(CONCATENATE($W$9,\"_\",AC39),選手名簿!$A:$H,5,FALSE))","v":"後藤　友星"}]
[20,"分",1,"番",{"$f":"IF(C40=\"\",\"\",VLOOKUP(CONCATENATE($B$9,\"_\",C40),選手名簿!$A:$H,5,FALSE))","v":"佐藤　志巌"},null,null,null,null,"→",16,"番",{"$f":"IF(K40=\"\",\"\",VLOOKUP(CONCATENATE($B$9,\"_\",K40),選手名簿!$A:$H,5,FALSE))","v":"小澤　卓実"},null,null,null,null,null,32,"分",7,"番",{"$f":"IF(U40=\"\",\"\",VLOOKUP(CONCATENATE($W$9,\"_\",U40),選手名簿!$A:$H,5,FALSE))","v":"後藤　友星"},null,null,null,null,"→",11,"番",{"$f":"IF(AC40=\"\",\"\",VLOOKUP(CONCATENATE($W$9,\"_\",AC40),選手名簿!$A:$H,5,FALSE))","v":"古屋　昌洋"}]
[20,"分",10,"番",{"$f":"IF(C41=\"\",\"\",VLOOKUP(CONCATENATE($B$9,\"_\",C41),選手名簿!$A:$H,5,FALSE))","v":"波多野　瑛太"},null,null,null,null,"→",5,"番",{"$f":"IF(K41=\"\",\"\",VLOOKUP(CONCATENATE($B$9,\"_\",K41),選手名簿!$A:$H,5,FALSE))","v":"後藤　悠"},null,null,null,null,null,34,"分",2,"番",{"$f":"IF(U41=\"\",\"\",VLOOKUP(CONCATENATE($W$9,\"_\",U41),選手名簿!$A:$H,5,FALSE))","v":"大石　楓太"},null,null,null,null,"→",12,"番",{"$f":"IF(AC41=\"\",\"\",VLOOKUP(CONCATENATE($W$9,\"_\",AC41),選手名簿!$A:$H,5,FALSE))","v":"佐藤　大樹"}]
[29,"分",8,"番",{"$f":"IF(C42=\"\",\"\",VLOOKUP(CONCATENATE($B$9,\"_\",C42),選手名簿!$A:$H,5,FALSE))","v":"髙橋　佑樹"},null,null,null,null,"→",14,"番",{"$f":"IF(K42=\"\",\"\",VLOOKUP(CONCATENATE($B$9,\"_\",K42),選手名簿!$A:$H,5,FALSE))","v":"野田　佑月"},null,null,null,null,null,36,"分",5,"番",{"$f":"IF(U42=\"\",\"\",VLOOKUP(CONCATENATE($W$9,\"_\",U42),選手名簿!$A:$H,5,FALSE))","v":"長野　泰人"},null,null,null,null,"→",13,"番",{"$f":"IF(AC42=\"\",\"\",VLOOKUP(CONCATENATE($W$9,\"_\",AC42),選手名簿!$A:$H,5,FALSE))","v":"簀戸　一颯"}]
[30,"分",12,"番",{"$f":"IF(C43=\"\",\"\",VLOOKUP(CONCATENATE($B$9,\"_\",C43),選手名簿!$A:$H,5,FALSE))","v":"佐藤　煌将"},null,null,null,null,"→",11,"番",{"$f":"IF(K43=\"\",\"\",VLOOKUP(CONCATENATE($B$9,\"_\",K43),選手名簿!$A:$H,5,FALSE))","v":"池谷　碧"},null,null,null,null,null,36,"分",4,"番",{"$f":"IF(U43=\"\",\"\",VLOOKUP(CONCATENATE($W$9,\"_\",U43),選手名簿!$A:$H,5,FALSE))","v":"清原　裕翔"},null,null,null,null,"→",14,"番",{"$f":"IF(AC43=\"\",\"\",VLOOKUP(CONCATENATE($W$9,\"_\",AC43),選手名簿!$A:$H,5,FALSE))","v":"河野　凌大"}]
[30,"分",9,"番",{"$f":"IF(C44=\"\",\"\",VLOOKUP(CONCATENATE($B$9,\"_\",C44),選手名簿!$A:$H,5,FALSE))","v":"染矢　涼志"},null,null,null,null,"→",13,"番",{"$f":"IF(K44=\"\",\"\",VLOOKUP(CONCATENATE($B$9,\"_\",K44),選手名簿!$A:$H,5,FALSE))","v":"原園　英虎"},null,null,null,null,null,36,"分",11,"番",{"$f":"IF(U44=\"\",\"\",VLOOKUP(CONCATENATE($W$9,\"_\",U44),選手名簿!$A:$H,5,FALSE))","v":"古屋　昌洋"},null,null,null,null,"→",15,"番",{"$f":"IF(AC44=\"\",\"\",VLOOKUP(CONCATENATE($W$9,\"_\",AC44),選手名簿!$A:$H,5,FALSE))","v":"米村　洸音"}]
[null,"分",null,"番",{"$f":"IF(C45=\"\",\"\",VLOOKUP(CONCATENATE($B$9,\"_\",C45),選手名簿!$A:$H,5,FALSE))","v":""},null,null,null,null,"→",null,"番",{"$f":"IF(K45=\"\",\"\",VLOOKUP(CONCATENATE($B$9,\"_\",K45),選手名簿!$A:$H,5,FALSE))","v":""},null,null,null,null,null,36,"分",1,"番",{"$f":"IF(U45=\"\",\"\",VLOOKUP(CONCATENATE($W$9,\"_\",U45),選手名簿!$A:$H,5,FALSE))","v":"西川　理希"},null,null,null,null,"→",16,"番",{"$f":"IF(AC45=\"\",\"\",VLOOKUP(CONCATENATE($W$9,\"_\",AC45),選手名簿!$A:$H,5,FALSE))","v":"青松　蒼空"}]
["警告（Ｃ）・退場（Ｓ）など",null,null,null,null,null,null,"合計",null,"延後",null,"延前",null,"後半",null,"前半",null,"チーム\n合計",null,"前半",null,"後半",null,"延前",null,"延後",null,"合計",null,"警告（Ｃ）・退場（Ｓ）など"]
[null,null,null,null,null,null,null,{"$f":"SUM(J47:Q47)","v":9},null,null,null,null,null,6,null,3,null,"Ｇ","Ｋ",6,null,3,null,null,null,null,null,{"$f":"SUM(T47:AA47)","v":9}]
[null,null,null,null,null,null,null,{"$f":"SUM(J48:Q48)","v":2},null,null,null,null,null,0,null,2,null,"Ｃ","Ｋ",0,null,2,null,null,null,null,null,{"$f":"SUM(T48:AA48)","v":2}]
[null,null,null,null,null,null,null,{"$f":"SUM(J49:Q49)","v":3},null,null,null,null,null,2,null,1,null,"直接","ＦＫ",1,null,1,null,null,null,null,null,{"$f":"SUM(T49:AA49)","v":2}]
[null,null,null,null,null,null,null,{"$f":"SUM(J50:Q50)","v":1},null,null,null,null,null,0,null,1,null,"間接","ＦＫ",0,null,0,null,null,null,null,null,{"$f":"SUM(T50:AA50)","v":0}]
[null,null,null,null,null,null,null,{"$f":"SUM(J51:Q51)","v":0},null,null,null,null,null,0,null,0,null,"Ｐ","Ｋ",0,null,0,null,null,null,null,null,{"$f":"SUM(T51:AA51)","v":0}]
["時間",null,null,"得点者",null,"得　　点　　経　　過",null,null,null,null,null,null,null,null,null,null,null,null,"時間",null,null,"得点者",null,"得　　点　　経　　過"]
[null,4,"分",6,null,null,8,"→",6,"S",null,null,null,null,null,null,null,null,null,null,"分"]
[null,5,"分",2,null,null,9,"→",2,"～","S",null,null,null,null,null,null,null,null,null,"分"]
[null,13,"分",12,null,null,8,"∩",12,"HS",null,null,null,null,null,null,null,null,null,null,"分"]
[null,20,"分",3,null,null,8,"∩",3,"HS",null,null,null,null,null,null,null,null,null,null,"分"]
[null,25,"分",9,null,null,12,"→",9,"～","S",null,null,null,null,null,null,null,null,null,"分"]
[null,27,"分",2,null,null,2,"～","S",null,null,null,null,null,null,null,null,null,null,null,"分"]
[null,34,"分",2,null,null,4,"→",2,"～","S",null,null,null,null,null,null,null,null,null,"分"]
[null,35,"分",2,null,null,2,"～","S",null,null,null,null,null,null,null,null,null,null,null,"分"]
[null,40,"分",11,null,null,2,"→",11,"～","S",null,null,null,null,null,null,null,null,null,"分"]
[" ",null,null,"《略号例》",null,null,null,"ドリブル",null,"～",null,"ゴロのパス",null,null,"→",null,"浮き球",null,"∩",null,"混戦",null,"×",null,"ヘディング",null,null,"H",null,"シュート",null,"S"]
["[警告理由]C1：反スポーツ的行為，C2：ラフプレー，C3：異議，C4：繰り返し違反，C5：遅延行為，C6：距離不足，C7：無許可入，C8：無許可去"]
["[退場理由]S1：著しく不正なプレー，S2：乱暴な行為，S3：つば吐き，S4：得点機会阻止(ハンド)，S5：得点機会阻止(他)，S6：侮辱的発言，CS：警告2回による退場"]
[]
["戦評者氏名",null,null,null,"（",null,null,null,null,null,"）",null,"勤務先または所属",null,null,null,null,"（",null,null,null,null,null,null,null,null,null,null,null,null,null,null,null,null,"　）"]
[]
[]
[]
[]
[]
[]
[]
[]
[null,null,null,null,null,null,null,null,"M   C",null,null,null,null,null,null,"ウェルフェアオフィサー",null,null,null,null,null,null,"会　場　長",null,null,null,null,null,null,"主　　審"]
[null,null,null,null,null,null,null,null,"諌本　秀樹",null,null,null,null,null,null,"佐々木　秀樹",null,null,null,null,null,null,"安東　幹雄",null,null,null,null,null,null,"黒田　大貴"]

{"sheet":"準決勝①【Match No,49】","index":10,"n_rows":73,"n_cols":36,"rows_kept":73,"cut":false,"hidden":false,"merged":[[71,8,71,14],[71,15,71,21],[71,22,71,28],[71,29,71,35],[72,8,74,14],[72,15,74,21],[72,22,74,28],[72,29,74,35],[58,24,58,26],[58,29,58,30],[59,0,59,35],[60,0,60,35],[62,0,62,3],[62,5,62,9],[62,12,62,16],[62,18,62,33],[57,3,57,4],[57,21,57,22],[58,3,58,5],[58,7,58,8],[58,11,58,13],[58,16,58,17],[58,20,58,21],[54,3,54,4],[54,21,54,22],[55,3,55,4],[55,21,55,22],[56,3,56,4],[56,21,56,22],[52,3,52,4],[52,21,52,22],[53,3,53,4],[53,9,53,10],[53,21,53,22],[53,27,53,28],[50,27,50,28],[51,0,51,2],[51,3,51,4],[51,5,51,17],[51,18,51,20],[51,21,51,22],[51,23,51,35],[50,7,50,8],[50,9,50,10],[50,11,50,12],[50,13,50,14],[50,15,50,16],[50,19,50,20],[50,21,50,22],[50,23,50,24],[50,25,50,26],[48,27,48,28],[49,7,49,8],[49,9,49,10],[49,11,49,12],[49,13,49,14],[49,15,49,16],[49,19,49,20],[49,21,49,22],[49,23,49,24],[49,25,49,26],[49,27,49,28],[48,7,48,8],[48,9,48,10],[48,11,48,12],[48,13,48,14],[48,15,48,16],[48,19,48,20],[48,21,48,22],[48,23,48,24],[48,25,48,26],[46,27,46,28],[47,7,47,8],[47,9,47,10],[47,11,47,12],[47,13,47,14],[47,15,47,16],[47,19,47,20],[47,21,47,22],[47,23,47,24],[47,25,47,26],[47,27,47,28],[46,7,46,8],[46,9,46,10],[46,11,46,12],[46,13,46,14],[46,15,46,16],[46,19,46,20],[46,21,46,22],[46,23,46,24],[46,25,46,26],[44,4,44,8],[44,12,44,16],[44,22,44,26],[44,30,44,34],[45,0,45,6],[45,7,45,8],[45,9,45,10],[45,11,45,12],[45,13,45,14],[45,15,45,16],[45,29,45,35],[45,17,45,18],[45,19,45,20],[45,21,45,22],[45,23,45,24],[45,25,45,26],[45,27,45,28],[42,4,42,8],[42,12,42,16],[42,22,42,26],[42,30,42,34],[43,4,43,8],[43,12,43,16],[43,22,43,26],[43,30,43,34],[40,4,40,8],[40,12,40,16],[40,22,40,26],[40,30,40,34],[41,4,41,8],[41,12,41,16],[41,22,41,26],[41,30,41,34],[38,4,38,8],[38,12,38,16],[38,22,38,26],[38,30,38,34],[39,4,39,8],[39,12,39,16],[39,22,39,26],[39,30,39,34],[35,28,36,34],[36,17,36,18],[37,4,37,8],[37,12,37,16],[37,22,37,26],[37,30,37,34],[35,2,36,8],[35,9,36,9],[35,10,36,16],[35,17,35,18],[35,20,36,26],[35,27,36,27],[32,11,32,15],[32,20,32,24],[33,11,33,15],[33,20,33,24],[34,11,34,15],[34,17,34,18],[34,20,34,24],[29,11,29,15],[29,20,29,24],[30,11,30,15],[30,20,30,24],[31,11,31,15],[31,20,31,24],[26,11,26,15],[26,20,26,24],[27,11,27,15],[27,20,27,24],[28,11,28,15],[28,20,28,24],[22,11,22,15],[22,20,22,24],[23,16,23,19],[24,11,24,15],[24,20,24,24],[25,11,25,15],[25,20,25,24],[20,11,20,15],[20,20,20,24],[21,11,21,15],[21,20,21,24],[16,11,16,15],[16,20,16,24],[17,11,17,15],[17,20,17,24],[18,11,18,15],[18,20,18,24],[14,34,14,35],[15,11,15,15],[15,20,15,24],[13,28,13,29],[13,30,13,31],[13,32,13,33],[13,34,13,35],[19,11,19,15],[19,20,19,24],[14,26,14,27],[11,17,11,18],[12,2,12,9],[12,26,12,33],[13,0,13,1],[13,2,13,3],[13,4,13,5],[13,6,13,7],[13,8,13,9],[13,17,13,18],[13,26,13,27],[14,28,14,29],[14,30,14,31],[14,32,14,33],[7,21,7,23],[9,9,9,11],[9,12,9,14],[9,17,9,18],[9,21,9,23],[14,0,14,1],[14,2,14,3],[14,4,14,5],[14,6,14,7],[14,8,14,9],[5,26,5,30],[5,31,5,35],[6,0,6,1],[6,11,6,12],[6,13,6,14],[6,18,6,19],[6,26,6,30],[9,24,9,26],[10,11,10,12],[10,13,10,14],[10,17,10,18],[10,21,10,22],[10,23,10,24],[7,32,7,35],[8,1,8,10],[8,11,8,14],[8,17,8,18],[8,22,8,31],[8,32,8,35],[7,0,7,2],[7,11,7,14],[7,15,11,15],[7,17,7,18],[7,20,11,20],[4,0,4,1],[4,2,6,8],[4,11,4,12],[4,18,4,19],[5,0,5,1],[5,11,5,12],[5,13,5,14],[5,18,5,19],[5,21,5,25],[1,28,2,29],[1,31,1,35],[2,0,2,1],[2,14,2,15],[2,16,2,17],[2,18,2,26],[2,31,2,35],[0,0,0,5],[0,6,0,9],[0,10,0,11],[1,0,1,1],[1,2,3,13],[1,15,1,16],[3,0,3,1],[3,14,3,15],[3,16,3,17],[3,18,3,26],[3,28,3,29],[3,31,3,35]]}
["公式記録",null,null,null,null,null,"Match No：",null,null,null,49]
["大",null,"OFA 第 53 回大分県少年サッカー大会\n　兼　KYFA 九州U-12サッカー大会大分県大会",null,null,null,null,null,null,null,null,null,null,null,"第",3,null,"日",null,null,null,null,null,null,null,null,null,"競技","40分",null,"記"]
["会",null,null,null,null,null,null,null,null,null,null,null,null,null,"1回戦",null,"2回戦",null,"2022年　2月23日（水）",null,null,null,null,null,null,null,null,"時間",null,null,"録","羽田野　亘"]
["名",null,null,null,null,null,null,null,null,null,null,null,null,null,"準決勝",null,"決勝",null,"試合開始　9時30分～",null,null,null,null,null,null,null,null,"延長","10分",null,"者","仲野　昭博"]
["会",null,"大分県サッカー協会\n人工芝グラウンド",null,null,null,null,null,null,"天","晴","風",null,"強","弱","無","芝","状","良好",null,"審","主審",null,null,null,null,"副審",null,null,null,null,"第4の審判員"]
[null,null,null,null,null,null,null,null,null,null,"曇","気温",null,9.9,null,"℃",null,null,"不良",null,null,"大塚　浩二",null,null,null,null,"田尻　貴志",null,null,null,null,"小石川　悟"]
["場",null,null,null,null,null,null,null,null,"候","雨","湿度",null,39.700000000000003,null,"％","土","態","泥沼",null,"判",null,null,null,null,null,"清家　大介"]
["【チーム名】",null,null,null,null,null,null,null,null,null,null,null,null,null,null,{"$f":"IF(Q8=\"\",\"\",SUM(Q8:Q11))","v":2},0,"前半",null,0,{"$f":"IF(T8=\"\",\"\",SUM(T8:T11))","v":2},"【チーム名】"]
[null,{"$f":"組み合わせ!L27","v":"ＦＣアリアーレ"},null,null,null,null,null,null,null,null,null,{"$f":"組み合わせ!V30","v":"（　　日田　　市）"},null,null,null,null,1,"後半",null,1,null,null,{"$f":"組み合わせ!AV27","v":"カティオーラフットボールクラブＵ－１２"},null,null,null,null,null,null,null,null,null,{"$f":"組み合わせ!BF30","v":"（　　大分　　市）"}]
[null,null,null,null,null,null,null,null,null,"延長戦kick off",null,null,"kick off",null,null,null,0,"延前",null,0,null,"kick off",null,null,"延長戦kick off"]
[null,null,null,null,null,null,null,null,null,10,11,"背番号",null,"PK",null,null,1,"延後",null,1,null,"PK",null,"背番号",null,10,3]
[null,null,null,null,null,null,null,null,null,"×","×","○","×","先","後",null,0,"ＰＫ戦",null,2,null,"先","後","○","×","○","○"]
[null,null,"シュート（得点者は○印）",null,null,null,null,null,null,null,"学",null,null,null,null,null,"背",null,null,"背",null,null,null,null,null,"学","シュート（得点者は○印）"]
["合",null,"延",null,"延",null,"後",null,"前",null,null,null,"選","手","名",null,"番","位置",null,"番",null,"選","手","名",null,null,"前",null,"後",null,"延",null,"延",null,"合"]
["計",null,"後",null,"前",null,"半",null,"半",null,"年",null,null,null,null,null,"号",null,null,"号",null,null,null,null,null,"年","半",null,"半",null,"前",null,"後",null,"計"]
[null,{"$f":"SUM(D16,F16,H16,J16)","v":0},null,null,null,null,null,null,null,null,{"$f":"IF(Q16=\"\",\"\",VLOOKUP(CONCATENATE($B$9,\"_\",Q16),選手名簿!$A:$H,7,FALSE))","v":6},{"$f":"IF(Q16=\"\",\"\",VLOOKUP(CONCATENATE($B$9,\"_\",Q16),選手名簿!$A:$H,5,FALSE))","v":"進藤　秀太"},null,null,null,null,1,{"$f":"IF(Q16=\"\",\"\",VLOOKUP(CONCATENATE($B$9,\"_\",Q16),選手名簿!$A:$H,4,FALSE))","v":"GK"},{"$f":"IF(T16=\"\",\"\",VLOOKUP(CONCATENATE($W$9,\"_\",T16),選手名簿!$A:$H,4,FALSE))","v":"GK"},1,{"$f":"IF(T16=\"\",\"\",VLOOKUP(CONCATENATE($W$9,\"_\",T16),選手名簿!$A:$H,5,FALSE))","v":"秋吉　逞"},null,null,null,null,{"$f":"IF(T16=\"\",\"\",VLOOKUP(CONCATENATE($W$9,\"_\",T16),選手名簿!$A:$H,7,FALSE))","v":6},null,null,null,null,null,null,null,null,null,{"$f":"SUM(AB16,AD16,AF16,AH16)","v":0}]
[null,0,null,null,null,null,null,null,null,null,{"$f":"IF(Q17=\"\",\"\",VLOOKUP(CONCATENATE($B$9,\"_\",Q17),選手名簿!$A:$H,7,FALSE))","v":6},{"$f":"IF(Q17=\"\",\"\",VLOOKUP(CONCATENATE($B$9,\"_\",Q17),選手名簿!$A:$H,5,FALSE))","v":"佐藤　奏介"},null,null,null,null,3,{"$f":"IF(Q17=\"\",\"\",VLOOKUP(CONCATENATE($B$9,\"_\",Q17),選手名簿!$A:$H,4,FALSE))","v":"DF"},{"$f":"IF(T17=\"\",\"\",VLOOKUP(CONCATENATE($W$9,\"_\",T17),選手名簿!$A:$H,4,FALSE))","v":"DF"},3,{"$f":"IF(T17=\"\",\"\",VLOOKUP(CONCATENATE($W$9,\"_\",T17),選手名簿!$A:$H,5,FALSE))","v":"田尻　真生"},null,null,null,null,{"$f":"IF(T17=\"\",\"\",VLOOKUP(CONCATENATE($W$9,\"_\",T17),選手名簿!$A:$H,7,FALSE))","v":6},null,1,null,null,null,null,null,1,null,2]
[null,0,null,null,null,null,null,null,null,null,{"$f":"IF(Q18=\"\",\"\",VLOOKUP(CONCATENATE($B$9,\"_\",Q18),選手名簿!$A:$H,7,FALSE))","v":6},{"$f":"IF(Q18=\"\",\"\",VLOOKUP(CONCATENATE($B$9,\"_\",Q18),選手名簿!$A:$H,5,FALSE))","v":"相良　琥希翔"},null,null,null,null,5,{"$f":"IF(Q18=\"\",\"\",VLOOKUP(CONCATENATE($B$9,\"_\",Q18),選手名簿!$A:$H,4,FALSE))","v":"DF"},{"$f":"IF(T18=\"\",\"\",VLOOKUP(CONCATENATE($W$9,\"_\",T18),選手名簿!$A:$H,4,FALSE))","v":"DF"},5,{"$f":"IF(T18=\"\",\"\",VLOOKUP(CONCATENATE($W$9,\"_\",T18),選手名簿!$A:$H,5,FALSE))","v":"尼崎　琉太"},null,null,null,null,{"$f":"IF(T18=\"\",\"\",VLOOKUP(CONCATENATE($W$9,\"_\",T18),選手名簿!$A:$H,7,FALSE))","v":6},null,null,null,2,null,null,null,null,null,2]
[null,2,null,null,null,null,null,null,null,2,{"$f":"IF(Q19=\"\",\"\",VLOOKUP(CONCATENATE($B$9,\"_\",Q19),選手名簿!$A:$H,7,FALSE))","v":6},{"$f":"IF(Q19=\"\",\"\",VLOOKUP(CONCATENATE($B$9,\"_\",Q19),選手名簿!$A:$H,5,FALSE))","v":"武内　璃緒斗"},null,null,null,null,7,{"$f":"IF(Q19=\"\",\"\",VLOOKUP(CONCATENATE($B$9,\"_\",Q19),選手名簿!$A:$H,4,FALSE))","v":"DF"},{"$f":"IF(T19=\"\",\"\",VLOOKUP(CONCATENATE($W$9,\"_\",T19),選手名簿!$A:$H,4,FALSE))","v":"DF"},8,{"$f":"IF(T19=\"\",\"\",VLOOKUP(CONCATENATE($W$9,\"_\",T19),選手名簿!$A:$H,5,FALSE))","v":"石井　瑛登"},null,null,null,null,{"$f":"IF(T19=\"\",\"\",VLOOKUP(CONCATENATE($W$9,\"_\",T19),選手名簿!$A:$H,7,FALSE))","v":6},null,null,null,null,null,null,null,null,null,0]
[null,1,null,null,null,1,null,null,null,null,{"$f":"IF(Q20=\"\",\"\",VLOOKUP(CONCATENATE($B$9,\"_\",Q20),選手名簿!$A:$H,7,FALSE))","v":6},{"$f":"IF(Q20=\"\",\"\",VLOOKUP(CONCATENATE($B$9,\"_\",Q20),選手名簿!$A:$H,5,FALSE))","v":"佐藤　有隼"},null,null,null,null,6,{"$f":"IF(Q20=\"\",\"\",VLOOKUP(CONCATENATE($B$9,\"_\",Q20),選手名簿!$A:$H,4,FALSE))","v":"MF"},{"$f":"IF(T20=\"\",\"\",VLOOKUP(CONCATENATE($W$9,\"_\",T20),選手名簿!$A:$H,4,FALSE))","v":"MF"},10,{"$f":"IF(T20=\"\",\"\",VLOOKUP(CONCATENATE($W$9,\"_\",T20),選手名簿!$A:$H,5,FALSE))","v":"矢野　圭悟"},null,null,null,null,{"$f":"IF(T20=\"\",\"\",VLOOKUP(CONCATENATE($W$9,\"_\",T20),選手名簿!$A:$H,7,FALSE))","v":6},null,2,"①",2,null,null,null,1,null,5]
[null,0,null,null,null,null,null,null,null,null,{"$f":"IF(Q21=\"\",\"\",VLOOKUP(CONCATENATE($B$9,\"_\",Q21),選手名簿!$A:$H,7,FALSE))","v":6},{"$f":"IF(Q21=\"\",\"\",VLOOKUP(CONCATENATE($B$9,\"_\",Q21),選手名簿!$A:$H,5,FALSE))","v":"藤高　温希"},null,null,null,null,11,{"$f":"IF(Q21=\"\",\"\",VLOOKUP(CONCATENATE($B$9,\"_\",Q21),選手名簿!$A:$H,4,FALSE))","v":"MF"},{"$f":"IF(T21=\"\",\"\",VLOOKUP(CONCATENATE($W$9,\"_\",T21),選手名簿!$A:$H,4,FALSE))","v":"MF"},11,{"$f":"IF(T21=\"\",\"\",VLOOKUP(CONCATENATE($W$9,\"_\",T21),選手名簿!$A:$H,5,FALSE))","v":"實方　来夏"},null,null,null,null,{"$f":"IF(T21=\"\",\"\",VLOOKUP(CONCATENATE($W$9,\"_\",T21),選手名簿!$A:$H,7,FALSE))","v":6},null,1,null,null,null,null,null,null,null,1]
[null,0,null,null,null,null,null,null,null,null,{"$f":"IF(Q22=\"\",\"\",VLOOKUP(CONCATENATE($B$9,\"_\",Q22),選手名簿!$A:$H,7,FALSE))","v":6},{"$f":"IF(Q22=\"\",\"\",VLOOKUP(CONCATENATE($B$9,\"_\",Q22),選手名簿!$A:$H,5,FALSE))","v":"高瀬　晴葉"},null,null,null,null,9,{"$f":"IF(Q22=\"\",\"\",VLOOKUP(CONCATENATE($B$9,\"_\",Q22),選手名簿!$A:$H,4,FALSE))","v":"FW"},{"$f":"IF(T22=\"\",\"\",VLOOKUP(CONCATENATE($W$9,\"_\",T22),選手名簿!$A:$H,4,FALSE))","v":"FW"},7,{"$f":"IF(T22=\"\",\"\",VLOOKUP(CONCATENATE($W$9,\"_\",T22),選手名簿!$A:$H,5,FALSE))","v":"二宮　秀太"},null,null,null,null,{"$f":"IF(T22=\"\",\"\",VLOOKUP(CONCATENATE($W$9,\"_\",T22),選手名簿!$A:$H,7,FALSE))","v":6},null,1,null,null,null,null,null,null,null,1]
[null,2,"①",1,null,null,"①",1,null,null,{"$f":"IF(Q23=\"\",\"\",VLOOKUP(CONCATENATE($B$9,\"_\",Q23),選手名簿!$A:$H,7,FALSE))","v":6},{"$f":"IF(Q23=\"\",\"\",VLOOKUP(CONCATENATE($B$9,\"_\",Q23),選手名簿!$A:$H,5,FALSE))","v":"右近　陽翔"},null,null,null,null,10,{"$f":"IF(Q23=\"\",\"\",VLOOKUP(CONCATENATE($B$9,\"_\",Q23),選手名簿!$A:$H,4,FALSE))","v":"FW"},{"$f":"IF(T23=\"\",\"\",VLOOKUP(CONCATENATE($W$9,\"_\",T23),選手名簿!$A:$H,4,FALSE))","v":"FW"},15,{"$f":"IF(T23=\"\",\"\",VLOOKUP(CONCATENATE($W$9,\"_\",T23),選手名簿!$A:$H,5,FALSE))","v":"芝　虎之介"},null,null,null,null,{"$f":"IF(T23=\"\",\"\",VLOOKUP(CONCATENATE($W$9,\"_\",T23),選手名簿!$A:$H,7,FALSE))","v":5},null,null,null,null,null,null,null,null,null,0]
[null,null,null,null,null,null,null,null,null,null,null,null,null,null,null,null,"交替要員"]
[null,{"$f":"SUM(D25,F25,H25,J25)","v":0},null,null,null,null,null,null,null,null,{"$f":"IF(Q25=\"\",\"\",VLOOKUP(CONCATENATE($B$9,\"_\",Q25),選手名簿!$A:$H,7,FALSE))","v":5},{"$f":"IF(Q25=\"\",\"\",VLOOKUP(CONCATENATE($B$9,\"_\",Q25),選手名簿!$A:$H,5,FALSE))","v":"河津　瞬"},null,null,null,null,2,{"$f":"IF(Q25=\"\",\"\",VLOOKUP(CONCATENATE($B$9,\"_\",Q25),選手名簿!$A:$H,4,FALSE))","v":"DF"},{"$f":"IF(T25=\"\",\"\",VLOOKUP(CONCATENATE($W$9,\"_\",T25),選手名簿!$A:$H,4,FALSE))","v":"DF"},2,{"$f":"IF(T25=\"\",\"\",VLOOKUP(CONCATENATE($W$9,\"_\",T25),選手名簿!$A:$H,5,FALSE))","v":"廣門　胡太朗"},null,null,null,null,{"$f":"IF(T25=\"\",\"\",VLOOKUP(CONCATENATE($W$9,\"_\",T25),選手名簿!$A:$H,7,FALSE))","v":6},null,null,null,null,null,null,null,null,null,{"$f":"SUM(AB25,AD25,AF25,AH25)","v":0}]
[null,0,null,null,null,null,null,null,null,null,{"$f":"IF(Q26=\"\",\"\",VLOOKUP(CONCATENATE($B$9,\"_\",Q26),選手名簿!$A:$H,7,FALSE))","v":6},{"$f":"IF(Q26=\"\",\"\",VLOOKUP(CONCATENATE($B$9,\"_\",Q26),選手名簿!$A:$H,5,FALSE))","v":"池田　月明都"},null,null,null,null,4,{"$f":"IF(Q26=\"\",\"\",VLOOKUP(CONCATENATE($B$9,\"_\",Q26),選手名簿!$A:$H,4,FALSE))","v":"MF"},{"$f":"IF(T26=\"\",\"\",VLOOKUP(CONCATENATE($W$9,\"_\",T26),選手名簿!$A:$H,4,FALSE))","v":"MF"},4,{"$f":"IF(T26=\"\",\"\",VLOOKUP(CONCATENATE($W$9,\"_\",T26),選手名簿!$A:$H,5,FALSE))","v":"田中　翔"},null,null,null,null,{"$f":"IF(T26=\"\",\"\",VLOOKUP(CONCATENATE($W$9,\"_\",T26),選手名簿!$A:$H,7,FALSE))","v":6},null,null,null,null,null,null,null,null,null,0]
[null,0,null,null,null,null,null,null,null,null,{"$f":"IF(Q27=\"\",\"\",VLOOKUP(CONCATENATE($B$9,\"_\",Q27),選手名簿!$A:$H,7,FALSE))","v":5},{"$f":"IF(Q27=\"\",\"\",VLOOKUP(CONCATENATE($B$9,\"_\",Q27),選手名簿!$A:$H,5,FALSE))","v":"明里　心夢"},null,null,null,null,8,{"$f":"IF(Q27=\"\",\"\",VLOOKUP(CONCATENATE($B$9,\"_\",Q27),選手名簿!$A:$H,4,FALSE))","v":"MF"},{"$f":"IF(T27=\"\",\"\",VLOOKUP(CONCATENATE($W$9,\"_\",T27),選手名簿!$A:$H,4,FALSE))","v":"DF"},6,{"$f":"IF(T27=\"\",\"\",VLOOKUP(CONCATENATE($W$9,\"_\",T27),選手名簿!$A:$H,5,FALSE))","v":"上田　蒼真"},null,null,null,null,{"$f":"IF(T27=\"\",\"\",VLOOKUP(CONCATENATE($W$9,\"_\",T27),選手名簿!$A:$H,7,FALSE))","v":6},null,null,null,null,null,null,null,null,null,0]
[null,0,null,null,null,null,null,null,null,null,{"$f":"IF(Q28=\"\",\"\",VLOOKUP(CONCATENATE($B$9,\"_\",Q28),選手名簿!$A:$H,7,FALSE))","v":4},{"$f":"IF(Q28=\"\",\"\",VLOOKUP(CONCATENATE($B$9,\"_\",Q28),選手名簿!$A:$H,5,FALSE))","v":"松岡　蓮音"},null,null,null,null,12,{"$f":"IF(Q28=\"\",\"\",VLOOKUP(CONCATENATE($B$9,\"_\",Q28),選手名簿!$A:$H,4,FALSE))","v":"FW"},{"$f":"IF(T28=\"\",\"\",VLOOKUP(CONCATENATE($W$9,\"_\",T28),選手名簿!$A:$H,4,FALSE))","v":"MF"},9,{"$f":"IF(T28=\"\",\"\",VLOOKUP(CONCATENATE($W$9,\"_\",T28),選手名簿!$A:$H,5,FALSE))","v":"川﨑　音生"},null,null,null,null,{"$f":"IF(T28=\"\",\"\",VLOOKUP(CONCATENATE($W$9,\"_\",T28),選手名簿!$A:$H,7,FALSE))","v":6},null,null,null,null,null,null,null,null,null,0]
[null,0,null,null,null,null,null,null,null,null,{"$f":"IF(Q29=\"\",\"\",VLOOKUP(CONCATENATE($B$9,\"_\",Q29),選手名簿!$A:$H,7,FALSE))","v":6},{"$f":"IF(Q29=\"\",\"\",VLOOKUP(CONCATENATE($B$9,\"_\",Q29),選手名簿!$A:$H,5,FALSE))","v":"坂本　悠俄"},null,null,null,null,13,{"$f":"IF(Q29=\"\",\"\",VLOOKUP(CONCATENATE($B$9,\"_\",Q29),選手名簿!$A:$H,4,FALSE))","v":"MF"},{"$f":"IF(T29=\"\",\"\",VLOOKUP(CONCATENATE($W$9,\"_\",T29),選手名簿!$A:$H,4,FALSE))","v":"GK"},12,{"$f":"IF(T29=\"\",\"\",VLOOKUP(CONCATENATE($W$9,\"_\",T29),選手名簿!$A:$H,5,FALSE))","v":"川野　佑斗"},null,null,null,null,{"$f":"IF(T29=\"\",\"\",VLOOKUP(CONCATENATE($W$9,\"_\",T29),選手名簿!$A:$H,7,FALSE))","v":6},null,null,null,null,null,null,null,null,null,0]
[null,0,null,null,null,null,null,null,null,null,{"$f":"IF(Q30=\"\",\"\",VLOOKUP(CONCATENATE($B$9,\"_\",Q30),選手名簿!$A:$H,7,FALSE))","v":4},{"$f":"IF(Q30=\"\",\"\",VLOOKUP(CONCATENATE($B$9,\"_\",Q30),選手名簿!$A:$H,5,FALSE))","v":"古賀　丈太郎"},null,null,null,null,14,{"$f":"IF(Q30=\"\",\"\",VLOOKUP(CONCATENATE($B$9,\"_\",Q30),選手名簿!$A:$H,4,FALSE))","v":"MF"},{"$f":"IF(T30=\"\",\"\",VLOOKUP(CONCATENATE($W$9,\"_\",T30),選手名簿!$A:$H,4,FALSE))","v":"FW"},13,{"$f":"IF(T30=\"\",\"\",VLOOKUP(CONCATENATE($W$9,\"_\",T30),選手名簿!$A:$H,5,FALSE))","v":"檜垣　寛大"},null,null,null,null,{"$f":"IF(T30=\"\",\"\",VLOOKUP(CONCATENATE($W$9,\"_\",T30),選手名簿!$A:$H,7,FALSE))","v":6},null,null,null,null,null,null,null,null,null,0]
[null,0,null,null,null,null,null,null,null,null,{"$f":"IF(Q31=\"\",\"\",VLOOKUP(CONCATENATE($B$9,\"_\",Q31),選手名簿!$A:$H,7,FALSE))","v":4},{"$f":"IF(Q31=\"\",\"\",VLOOKUP(CONCATENATE($B$9,\"_\",Q31),選手名簿!$A:$H,5,FALSE))","v":"串尾　遼馬"},null,null,null,null,15,{"$f":"IF(Q31=\"\",\"\",VLOOKUP(CONCATENATE($B$9,\"_\",Q31),選手名簿!$A:$H,4,FALSE))","v":"MF"},{"$f":"IF(T31=\"\",\"\",VLOOKUP(CONCATENATE($W$9,\"_\",T31),選手名簿!$A:$H,4,FALSE))","v":"FW"},14,{"$f":"IF(T31=\"\",\"\",VLOOKUP(CONCATENATE($W$9,\"_\",T31),選手名簿!$A:$H,5,FALSE))","v":"阿南　徠已"},null,null,null,null,{"$f":"IF(T31=\"\",\"\",VLOOKUP(CONCATENATE($W$9,\"_\",T31),選手名簿!$A:$H,7,FALSE))","v":5},null,null,null,null,null,null,null,null,null,0]
[null,0,null,null,null,null,null,null,null,null,{"$f":"IF(Q32=\"\",\"\",VLOOKUP(CONCATENATE($B$9,\"_\",Q32),選手名簿!$A:$H,7,FALSE))","v":6},{"$f":"IF(Q32=\"\",\"\",VLOOKUP(CONCATENATE($B$9,\"_\",Q32),選手名簿!$A:$H,5,FALSE))","v":"其田　和士"},null,null,null,null,16,{"$f":"IF(Q32=\"\",\"\",VLOOKUP(CONCATENATE($B$9,\"_\",Q32),選手名簿!$A:$H,4,FALSE))","v":"GK"},{"$f":"IF(T32=\"\",\"\",VLOOKUP(CONCATENATE($W$9,\"_\",T32),選手名簿!$A:$H,4,FALSE))","v":"MF"},16,{"$f":"IF(T32=\"\",\"\",VLOOKUP(CONCATENATE($W$9,\"_\",T32),選手名簿!$A:$H,5,FALSE))","v":"隅　悠來"},null,null,null,null,{"$f":"IF(T32=\"\",\"\",VLOOKUP(CONCATENATE($W$9,\"_\",T32),選手名簿!$A:$H,7,FALSE))","v":5},null,null,null,null,null,null,null,null,null,0]
[null,0,null,null,null,null,null,null,null,null,{"$f":"IF(Q33=\"\",\"\",VLOOKUP(CONCATENATE($B$9,\"_\",Q33),選手名簿!$A:$H,7,FALSE))","v":""},{"$f":"IF(Q33=\"\",\"\",VLOOKUP(CONCATENATE($B$9,\"_\",Q33),選手名簿!$A:$H,5,FALSE))","v":""},null,null,null,null,null,{"$f":"IF(Q33=\"\",\"\",VLOOKUP(CONCATENATE($B$9,\"_\",Q33),選手名簿!$A:$H,4,FALSE))","v":""},{"$f":"IF(T33=\"\",\"\",VLOOKUP(CONCATENATE($W$9,\"_\",T33),選手名簿!$A:$H,4,FALSE))","v":""},null,{"$f":"IF(T33=\"\",\"\",VLOOKUP(CONCATENATE($W$9,\"_\",T33),選手名簿!$A:$H,5,FALSE))","v":""},null,null,null,null,{"$f":"IF(T33=\"\",\"\",VLOOKUP(CONCATENATE($W$9,\"_\",T33),選手名簿!$A:$H,7,FALSE))","v":""},null,null,null,null,null,null,null,null,null,0]
[null,0,null,null,null,null,null,null,null,null,{"$f":"IF(Q34=\"\",\"\",VLOOKUP(CONCATENATE($B$9,\"_\",Q34),選手名簿!$A:$H,7,FALSE))","v":""},{"$f":"IF(Q34=\"\",\"\",VLOOKUP(CONCATENATE($B$9,\"_\",Q34),選手名簿!$A:$H,5,FALSE))","v":""},null,null,null,null,null,{"$f":"IF(Q34=\"\",\"\",VLOOKUP(CONCATENATE($B$9,\"_\",Q34),選手名簿!$A:$H,4,FALSE))","v":""},{"$f":"IF(T34=\"\",\"\",VLOOKUP(CONCATENATE($W$9,\"_\",T34),選手名簿!$A:$H,4,FALSE))","v":""},null,{"$f":"IF(T34=\"\",\"\",VLOOKUP(CONCATENATE($W$9,\"_\",T34),選手名簿!$A:$H,5,FALSE))","v":""},null,null,null,null,{"$f":"IF(T34=\"\",\"\",VLOOKUP(CONCATENATE($W$9,\"_\",T34),選手名簿!$A:$H,7,FALSE))","v":""},null,null,null,null,null,null,null,null,null,0]
[null,null,null,{"$f":"SUM(D16:D23,D25:D34)","v":1},null,{"$f":"SUM(F16:F23,F25:F34)","v":1},null,{"$f":"SUM(H16:H23,H25:H34)","v":1},null,{"$f":"SUM(J16:J23,J25:J34)","v":2},"小計",{"$f":"SUM(D35,F35,H35,J35)","v":5},null,null,null,null,"合計","シュート数",null,"合計",{"$f":"SUM(AB35,AD35,AF35,AH35)","v":11},null,null,null,null,"小計",null,{"$f":"SUM(AB16:AB23,AB25:AB34)","v":5},null,{"$f":"SUM(AD16:AD23,AD25:AD34)","v":4},null,{"$f":"SUM(AF16:AF23,AF25:AF34)","v":0},null,{"$f":"SUM(AH16:AH23,AH25:AH34)","v":2}]
[null,null,"OUT",null,null,null,null,null,null,"→","IN",null,null,null,null,null,null,"交代",null,null,"OUT",null,null,null,null,null,null,"→","IN"]
[null,null,null,null,null,null,null,null,null,null,null,null,null,null,null,null,null,"選手"]
[null,"分",null,"番",{"$f":"IF(C38=\"\",\"\",VLOOKUP(CONCATENATE($B$9,\"_\",C38),選手名簿!$A:$H,5,FALSE))","v":""},null,null,null,null,"→",null,"番",{"$f":"IF(K38=\"\",\"\",VLOOKUP(CONCATENATE($B$9,\"_\",K38),選手名簿!$A:$H,5,FALSE))","v":""},null,null,null,null,null,null,"分",null,"番",{"$f":"IF(U38=\"\",\"\",VLOOKUP(CONCATENATE($W$9,\"_\",U38),選手名簿!$A:$H,5,FALSE))","v":""},null,null,null,null,"→",null,"番",{"$f":"IF(AC38=\"\",\"\",VLOOKUP(CONCATENATE($W$9,\"_\",AC38),選手名簿!$A:$H,5,FALSE))","v":""}]
[null,"分",null,"番",{"$f":"IF(C39=\"\",\"\",VLOOKUP(CONCATENATE($B$9,\"_\",C39),選手名簿!$A:$H,5,FALSE))","v":""},null,null,null,null,"→",null,"番",{"$f":"IF(K39=\"\",\"\",VLOOKUP(CONCATENATE($B$9,\"_\",K39),選手名簿!$A:$H,5,FALSE))","v":""},null,null,null,null,null,null,"分",null,"番",{"$f":"IF(U39=\"\",\"\",VLOOKUP(CONCATENATE($W$9,\"_\",U39),選手名簿!$A:$H,5,FALSE))","v":""},null,null,null,null,"→",null,"番",{"$f":"IF(AC39=\"\",\"\",VLOOKUP(CONCATENATE($W$9,\"_\",AC39),選手名簿!$A:$H,5,FALSE))","v":""}]
[null,"分",null,"番",{"$f":"IF(C40=\"\",\"\",VLOOKUP(CONCATENATE($B$9,\"_\",C40),選手名簿!$A:$H,5,FALSE))","v":""},null,null,null,null,"→",null,"番",{"$f":"IF(K40=\"\",\"\",VLOOKUP(CONCATENATE($B$9,\"_\",K40),選手名簿!$A:$H,5,FALSE))","v":""},null,null,null,null,null,null,"分",null,"番",{"$f":"IF(U40=\"\",\"\",VLOOKUP(CONCATENATE($W$9,\"_\",U40),選手名簿!$A:$H,5,FALSE))","v":""},null,null,null,null,"→",null,"番",{"$f":"IF(AC40=\"\",\"\",VLOOKUP(CONCATENATE($W$9,\"_\",AC40),選手名簿!$A:$H,5,FALSE))","v":""}]
[null,"分",null,"番",{"$f":"IF(C41=\"\",\"\",VLOOKUP(CONCATENATE($B$9,\"_\",C41),選手名簿!$A:$H,5,FALSE))","v":""},null,null,null,null,"→",null,"番",{"$f":"IF(K41=\"\",\"\",VLOOKUP(CONCATENATE($B$9,\"_\",K41),選手名簿!$A:$H,5,FALSE))","v":""},null,null,null,null,null,null,"分",null,"番",{"$f":"IF(U41=\"\",\"\",VLOOKUP(CONCATENATE($W$9,\"_\",U41),選手名簿!$A:$H,5,FALSE))","v":""},null,null,null,null,"→",null,"番",{"$f":"IF(AC41=\"\",\"\",VLOOKUP(CONCATENATE($W$9,\"_\",AC41),選手名簿!$A:$H,5,FALSE))","v":""}]
[null,"分",null,"番",{"$f":"IF(C42=\"\",\"\",VLOOKUP(CONCATENATE($B$9,\"_\",C42),選手名簿!$A:$H,5,FALSE))","v":""},null,null,null,null,"→",null,"番",{"$f":"IF(K42=\"\",\"\",VLOOKUP(CONCATENATE($B$9,\"_\",K42),選手名簿!$A:$H,5,FALSE))","v":""},null,null,null,null,null,null,"分",null,"番",{"$f":"IF(U42=\"\",\"\",VLOOKUP(CONCATENATE($W$9,\"_\",U42),選手名簿!$A:$H,5,FALSE))","v":""},null,null,null,null,"→",null,"番",{"$f":"IF(AC42=\"\",\"\",VLOOKUP(CONCATENATE($W$9,\"_\",AC42),選手名簿!$A:$H,5,FALSE))","v":""}]
[null,"分",null,"番",{"$f":"IF(C43=\"\",\"\",VLOOKUP(CONCATENATE($B$9,\"_\",C43),選手名簿!$A:$H,5,FALSE))","v":""},null,null,null,null,"→",null,"番",{"$f":"IF(K43=\"\",\"\",VLOOKUP(CONCATENATE($B$9,\"_\",K43),選手名簿!$A:$H,5,FALSE))","v":""},null,null,null,null,null,null,"分",null,"番",{"$f":"IF(U43=\"\",\"\",VLOOKUP(CONCATENATE($W$9,\"_\",U43),選手名簿!$A:$H,5,FALSE))","v":""},null,null,null,null,"→",null,"番",{"$f":"IF(AC43=\"\",\"\",VLOOKUP(CONCATENATE($W$9,\"_\",AC43),選手名簿!$A:$H,5,FALSE))","v":""}]
[null,"分",null,"番",{"$f":"IF(C44=\"\",\"\",VLOOKUP(CONCATENATE($B$9,\"_\",C44),選手名簿!$A:$H,5,FALSE))","v":""},null,null,null,null,"→",null,"番",{"$f":"IF(K44=\"\",\"\",VLOOKUP(CONCATENATE($B$9,\"_\",K44),選手名簿!$A:$H,5,FALSE))","v":""},null,null,null,null,null,null,"分",null,"番",{"$f":"IF(U44=\"\",\"\",VLOOKUP(CONCATENATE($W$9,\"_\",U44),選手名簿!$A:$H,5,FALSE))","v":""},null,null,null,null,"→",null,"番",{"$f":"IF(AC44=\"\",\"\",VLOOKUP(CONCATENATE($W$9,\"_\",AC44),選手名簿!$A:$H,5,FALSE))","v":""}]
[null,"分",null,"番",{"$f":"IF(C45=\"\",\"\",VLOOKUP(CONCATENATE($B$9,\"_\",C45),選手名簿!$A:$H,5,FALSE))","v":""},null,null,null,null,"→",null,"番",{"$f":"IF(K45=\"\",\"\",VLOOKUP(CONCATENATE($B$9,\"_\",K45),選手名簿!$A:$H,5,FALSE))","v":""},null,null,null,null,null,null,"分",null,"番",{"$f":"IF(U45=\"\",\"\",VLOOKUP(CONCATENATE($W$9,\"_\",U45),選手名簿!$A:$H,5,FALSE))","v":""},null,null,null,null,"→",null,"番",{"$f":"IF(AC45=\"\",\"\",VLOOKUP(CONCATENATE($W$9,\"_\",AC45),選手名簿!$A:$H,5,FALSE))","v":""}]
["警告（Ｃ）・退場（Ｓ）など",null,null,null,null,null,null,"合計",null,"延後",null,"延前",null,"後半",null,"前半",null,"チーム\n合計",null,"前半",null,"後半",null,"延前",null,"延後",null,"合計",null,"警告（Ｃ）・退場（Ｓ）など"]
[null,null,null,null,null,null,null,{"$f":"SUM(J47:Q47)","v":16},null,9,null,1,null,2,null,4,null,"Ｇ","Ｋ",4,null,0,null,0,null,1,null,{"$f":"SUM(T47:AA47)","v":5}]
[null,null,null,null,null,null,null,{"$f":"SUM(J48:Q48)","v":2},null,1,null,0,null,1,null,0,null,"Ｃ","Ｋ",4,null,4,null,2,null,0,null,{"$f":"SUM(T48:AA48)","v":10}]
[null,null,null,null,null,null,null,{"$f":"SUM(J49:Q49)","v":4},null,0,null,0,null,2,null,2,null,"直接","ＦＫ",1,null,1,null,0,null,0,null,{"$f":"SUM(T49:AA49)","v":2}]
[null,null,null,null,null,null,null,{"$f":"SUM(J50:Q50)","v":1},null,0,null,0,null,0,null,1,null,"間接","ＦＫ",0,null,0,null,0,null,1,null,{"$f":"SUM(T50:AA50)","v":1}]
[null,null,null,null,null,null,null,{"$f":"SUM(J51:Q51)","v":0},null,0,null,0,null,0,null,0,null,"Ｐ","Ｋ",0,null,0,null,0,null,0,null,{"$f":"SUM(T51:AA51)","v":0}]
["時間",null,null,"得点者",null,"得　　点　　経　　過",null,null,null,null,null,null,null,null,null,null,null,null,"時間",null,null,"得点者",null,"得　　点　　経　　過"]
[null,27,"分",10,null,11,null,"∩",null,10,"HS",null,null,null,null,null,null,null,null,23,"分",10,null,8,null,"∩",null,10,"HS"]
[null,49,"分",10,null,11,"∩","S",null,"GKクリア",null,null,10,"HS",null,null,null,null,null,44,"分","OG",null,11,null,"∩",null,"OG"]
[null,null,"分",null,null,null,null,null,null,null,null,null,null,null,null,null,null,null,null,null,"分"]
[null,null,"分",null,null,null,null,null,null,null,null,null,null,null,null,null,null,null,null,null,"分"]
[null,null,"分",null,null,null,null,null,null,null,null,null,null,null,null,null,null,null,null,null,"分"]
[null,null,"分",null,null,null,null,null,null,null,null,null,null,null,null,null,null,null,null,null,"分"]
[" ",null,null,"《略号例》",null,null,null,"ドリブル",null,"～",null,"ゴロのパス",null,null,"→",null,"浮き球",null,"∩",null,"混戦",null,"×",null,"ヘディング",null,null,"H",null,"シュート",null,"S"]
["[警告理由]C1：反スポーツ的行為，C2：ラフプレー，C3：異議，C4：繰り返し違反，C5：遅延行為，C6：距離不足，C7：無許可入，C8：無許可去"]
["[退場理由]S1：著しく不正なプレー，S2：乱暴な行為，S3：つば吐き，S4：得点機会阻止(ハンド)，S5：得点機会阻止(他)，S6：侮辱的発言，CS：警告2回による退場"]
[]
["戦評者氏名",null,null,null,"（",null,null,null,null,null,"）",null,"勤務先または所属",null,null,null,null,"（",null,null,null,null,null,null,null,null,null,null,null,null,null,null,null,null,"　）"]
[]
[]
[]
[]
[]
[]
[]
[]
[null,null,null,null,null,null,null,null,"M   C",null,null,null,null,null,null,"ウェルフェアオフィサー",null,null,null,null,null,null,"会　場　長",null,null,null,null,null,null,"主　　審"]
[null,null,null,null,null,null,null,null,"中野　観司郎",null,null,null,null,null,null,"榊　謙治",null,null,null,null,null,null,"安東　幹雄",null,null,null,null,null,null,"大塚　浩二"]

{"sheet":"2021年度優秀選手","index":11,"n_rows":26,"n_cols":13,"rows_kept":26,"cut":false,"hidden":false,"merged":[]}
["（一社）大分県サッカー協会　ジュニア委員会"]
["2021年度　優秀選手名簿",null,null,null,null,null,null,"女子"]
[]
["№","地区","選手氏名","ふりがな","所属チーム","表彰式\n参加",null,"№","地区","選手氏名","ふりがな","所属チーム","表彰式\n参加"]
[1,"大分","大久保　桧埜","おおくぼ　ひの","ドリームキッズフットボールクラブ",null,null,1,"大分","有田　遍","ありた　あまね","金池長浜サッカースポーツ少年団"]
[2,"大分","佐藤　嘉人","さとう　ひろと","ドリームキッズフットボールクラブ",null,null,2,"大分","大下　紗也奈","おおした　さやな","宗方サッカークラブ"]
[3,"大分","増永　大生獅","ますなが　たいし","大分トリニータＵ－１２",null,null,3,"大分","今畠　かえで","いまはた　かえで","大道サッカースポーツ少年団"]
[4,"大分","佐藤　煌将","さとう　ときまさ","大分トリニータＵ－１２",null,null,4,"中津","中島　瑞歩","なかしま　みずほ","Ｓｈｙｎｔ　ＦＣ"]
[5,"大分","増田　壮我","ますだ　そうが","大分トリニータＵ－１２",null,null,5,"日田・玖珠","梅木　彩羽","うめき　さわ","玖珠サッカースポーツ少年団"]
[6,"大分","小野　大和","おの　やまと","判田サッカースポーツ少年団",null,null,6,"速杵国東","福田　ここな","ふくだ　ここな","国東ＦＣ"]
[7,"大分","矢野　圭悟","やの　けいご","カティオーラフットボールクラブＵ－１２",null,null,7,"別府","切封　心花","きりふ　ここか","緑丘サッカースポーツ少年団"]
[8,"大分","安部　太智","あべ　たいち","豊府サッカースポーツ少年団",null,null,8,"宇佐高田","権藤　心玖","ごんどう　みく","四日市南ＳＳＣ"]
[9,"大分","福田　虎志郎","ふくだ　こじろう","豊府サッカースポーツ少年団",null,null,9,"豊肥","南部　寧々杷","なんぶ　ねねは","ＦＣ大野"]
[10,"大分","山田　笙太郎","やまだ　そうたろう","宗方サッカークラブ",null,null,10,"臼杵・津久見","橘　実知","たちばな　みち","市浜レッドソックス"]
[11,"中津","小幡　愛翔","おばた　あいと","ＦＣ中津ジュニア",null,null,11,"佐伯","田中　愛乃音","たなか　あのん","弥生少年サッカークラブ"]
[12,"中津","永松　銀河","ながまつ　ぎんが","鶴居ＳＳＳ"]
[13,"日田・玖珠","坂本　空禅","さかもと　くうぜん","太陽スポーツクラブ大分西"]
[14,"日田・玖珠","安部　良祐","あべ　りょうすけ","玖珠サッカースポーツ少年団"]
[15,"速杵国東","岩尾　淳矢","いわお　じゅんや","ＯＫＹ山香サッカークラブ"]
[16,"速杵国東","山本　将太郎","やまもと　しょうたろう","ＯＫＹ山香サッカークラブ"]
[17,"別府","西野　凌太朗","にしの　りょうたろう","スマイス・セレソン"]
[18,"別府","中園　釉丸","なかぞの　ゆうまる","スマイス・セレソン"]
[19,"宇佐高田","水田　暖人","みずた　はると","豊後高田ＦＣ　Ｂｏｒｄｅｒ　Ｊｒ"]
[20,"豊肥","小野　涼成","おの　りょうせい","ＦＣ大野"]
[21,"臼杵・津久見","有永　夏基","ありなが　なつき","千怒サッカースポーツ少年団"]
[22,"佐伯","河野　瑛亮","かわの　えいすけ","鶴岡Ｓ―ｐｌａｙ・ＭＩＮＡＭＩ"]

{"sheet":"２次リーグ組み合わせ・結果","index":12,"n_rows":59,"n_cols":53,"rows_kept":59,"cut":false,"hidden":false,"merged":[[17,33,17,35],[17,37,17,39],[16,40,16,42],[17,40,17,42],[16,33,16,35],[16,37,16,39],[57,51,58,51],[57,52,58,53],[57,44,58,44],[57,45,58,45],[57,46,58,46],[57,47,58,47],[57,48,58,49],[57,50,58,50],[55,51,56,51],[55,52,56,53],[55,44,56,44],[55,45,56,45],[55,46,56,46],[55,47,56,47],[55,48,56,49],[55,50,56,50],[52,50,52,51],[52,52,52,53],[57,29,57,30],[57,40,58,40],[57,41,58,41],[57,42,58,42],[57,43,58,43],[58,29,58,30],[53,28,54,28],[53,29,53,30],[53,40,54,40],[53,41,54,41],[53,42,54,42],[53,43,54,43],[54,29,54,30],[55,28,56,28],[55,29,55,30],[55,40,56,40],[55,41,56,41],[55,42,56,42],[55,43,56,43],[56,29,56,30],[57,23,58,23],[57,24,58,25],[55,23,56,23],[55,24,56,25],[53,23,54,23],[53,24,54,25],[52,22,52,23],[52,24,52,25],[57,28,58,28],[53,51,54,51],[53,52,54,53],[53,44,54,44],[53,45,54,45],[53,46,54,46],[53,47,54,47],[53,48,54,49],[53,50,54,50],[57,16,58,16],[57,17,58,17],[57,18,58,18],[57,19,58,19],[57,20,58,21],[57,22,58,22],[55,18,56,18],[55,19,56,19],[55,20,56,21],[55,22,56,22],[53,16,54,16],[53,17,54,17],[53,18,54,18],[53,19,54,19],[53,20,54,21],[53,22,54,22],[57,0,58,0],[57,1,57,2],[57,12,58,12],[57,13,58,13],[57,14,58,14],[57,15,58,15],[58,1,58,2],[55,16,56,16],[55,17,56,17],[55,0,56,0],[55,1,55,2],[55,12,56,12],[55,13,56,13],[55,14,56,14],[55,15,56,15],[56,1,56,2],[53,0,54,0],[53,1,53,2],[53,12,54,12],[53,13,54,13],[53,14,54,14],[53,15,54,15],[54,1,54,2],[52,0,52,2],[52,3,52,5],[52,6,52,8],[52,9,52,11],[49,23,50,23],[52,18,52,19],[52,20,52,21],[49,51,50,51],[49,52,50,53],[49,44,50,44],[49,45,50,45],[49,46,50,46],[49,47,50,47],[49,48,50,49],[49,50,50,50],[49,28,50,28],[49,29,49,30],[49,40,50,40],[49,41,50,41],[49,42,50,42],[49,43,50,43],[50,29,50,30],[52,28,52,30],[52,31,52,33],[52,34,52,36],[52,37,52,39],[52,46,52,47],[52,48,52,49],[47,52,48,53],[47,44,48,44],[47,45,48,45],[47,46,48,46],[47,47,48,47],[47,48,48,49],[47,50,48,50],[47,28,48,28],[47,29,47,30],[47,40,48,40],[47,41,48,41],[47,42,48,42],[47,43,48,43],[48,29,48,30],[45,50,46,50],[45,28,46,28],[45,29,45,30],[45,40,46,40],[45,41,46,41],[45,42,46,42],[45,43,46,43],[46,29,46,30],[47,51,48,51],[49,0,50,0],[49,1,49,2],[49,12,50,12],[49,13,50,13],[49,14,50,14],[50,1,50,2],[44,50,44,51],[44,52,44,53],[44,28,44,30],[44,31,44,33],[44,34,44,36],[44,37,44,39],[44,46,44,47],[44,48,44,49],[49,24,50,25],[44,24,44,25],[45,51,46,51],[45,52,46,53],[45,44,46,44],[45,45,46,45],[45,46,46,46],[45,47,46,47],[45,48,46,49],[47,0,48,0],[47,1,47,2],[47,12,48,12],[47,13,48,13],[47,14,48,14],[49,18,50,18],[49,19,50,19],[49,20,50,21],[49,22,50,22],[48,1,48,2],[47,15,48,15],[49,15,50,15],[49,16,50,16],[49,17,50,17],[47,23,48,23],[47,24,48,25],[47,16,48,16],[47,17,48,17],[47,18,48,18],[47,19,48,19],[47,20,48,21],[47,22,48,22],[45,22,46,22],[45,23,46,23],[45,24,46,25],[45,16,46,16],[45,17,46,17],[45,18,46,18],[45,19,46,19],[45,20,46,21],[44,0,44,2],[44,3,44,5],[44,6,44,8],[44,9,44,11],[44,18,44,19],[44,20,44,21],[44,22,44,23],[46,1,46,2],[23,3,23,4],[23,5,23,7],[23,9,23,11],[23,12,23,14],[45,0,46,0],[45,1,45,2],[45,12,46,12],[45,13,46,13],[45,14,46,14],[45,15,46,15],[23,31,23,32],[23,33,23,35],[22,28,23,28],[22,29,23,30],[22,33,22,35],[23,37,23,39],[22,40,22,42],[23,40,23,42],[22,0,23,0],[22,1,23,2],[22,3,22,4],[22,5,22,7],[22,9,22,11],[22,12,22,14],[22,31,22,32],[22,37,22,39],[21,12,21,14],[21,31,21,32],[21,33,21,35],[21,37,21,39],[20,28,21,28],[21,40,21,42],[20,29,21,30],[20,12,20,14],[20,31,20,32],[20,33,20,35],[20,37,20,39],[20,40,20,42],[20,0,21,0],[20,1,21,2],[20,3,20,4],[20,5,20,7],[20,9,20,11],[19,3,19,4],[19,5,19,7],[19,9,19,11],[18,0,19,0],[18,1,19,2],[18,3,18,4],[18,5,18,7],[18,9,18,11],[21,3,21,4],[21,5,21,7],[21,9,21,11],[19,12,19,14],[19,31,19,32],[18,33,18,35],[18,37,18,39],[18,40,18,42],[19,33,19,35],[19,37,19,39],[19,40,19,42],[18,28,19,28],[18,29,19,30],[18,12,18,14],[18,31,18,32],[17,3,17,4],[17,5,17,7],[17,9,17,11],[17,12,17,14],[17,31,17,32],[16,0,17,0],[16,1,17,2],[16,3,16,4],[16,5,16,7],[16,9,16,11],[16,12,16,14],[16,31,16,32],[16,28,17,28],[16,29,17,30],[15,12,15,14],[15,31,15,32],[15,33,15,35],[15,37,15,39],[15,40,15,42],[14,29,15,30],[14,12,14,14],[14,31,14,32],[14,33,14,35],[14,37,14,39],[14,40,14,42],[14,28,15,28],[14,0,15,0],[14,1,15,2],[14,3,14,4],[14,5,14,7],[14,9,14,11],[13,3,13,4],[13,5,13,7],[13,9,13,11],[12,0,13,0],[12,1,13,2],[12,3,12,4],[12,5,12,7],[12,9,12,11],[15,3,15,4],[15,5,15,7],[15,9,15,11],[13,12,13,14],[13,31,13,32],[12,33,12,35],[12,37,12,39],[12,40,12,42],[13,33,13,35],[13,37,13,39],[13,40,13,42],[12,28,13,28],[12,29,13,30],[12,12,12,14],[12,31,12,32],[11,0,11,2],[11,12,11,14],[11,40,11,42],[10,0,10,2],[10,28,10,30],[7,3,7,8],[7,9,7,14],[7,31,7,36],[7,37,7,42],[5,28,7,30],[11,28,11,30],[6,3,6,8],[6,9,6,14],[6,31,6,36],[6,37,6,42],[5,0,7,2],[5,3,5,8],[5,9,5,14],[5,31,5,36],[5,37,5,42],[4,0,4,2],[4,3,4,8],[4,9,4,14],[4,31,4,36],[4,37,4,42],[4,28,4,30],[0,0,0,26],[2,0,2,2],[2,3,2,14],[2,31,2,42],[3,0,3,2],[3,3,3,8],[3,9,3,14],[3,31,3,36],[3,37,3,42],[3,28,3,30],[0,28,0,54],[2,28,2,30]]}
["＜２次リーグ組み合わせ・結果＞"]
[]
["会場",null,null,{"$f":"'２次リーグ（佐伯）'!B4","v":"佐伯"},null,null,null,null,null,null,null,null,null,null,null,null,null,null,null,null,null,null,null,null,null,null,null,null,"会場",null,null,{"$f":"'２次リーグ（大分）'!B4","v":"大分"}]
["グループ",null,null,{"$f":"'２次リーグ（佐伯）'!B6","v":"2次リーグ　Aパート"},null,null,null,null,null,{"$f":"'２次リーグ（佐伯）'!N6","v":"2次リーグ　Cパート"},null,null,null,null,null,null,null,null,null,null,null,null,null,null,null,null,null,null,"グループ",null,null,{"$f":"'２次リーグ（大分）'!B6","v":"2次リーグ　Bパート"},null,null,null,null,null,{"$f":"'２次リーグ（大分）'!N6","v":"2次リーグ　Dパート"}]
["MCM",null,null,"08:50:00",null,null,null,null,null,"09:50:00",null,null,null,null,null,null,null,null,null,null,null,null,null,null,null,null,null,null,"MCM",null,null,"08:50:00",null,null,null,null,null,"09:50:00"]
["チーム",null,null,{"$f":"'２次リーグ（佐伯）'!C7","v":"ブルーウイングフットボールクラブ"},null,null,null,null,null,{"$f":"'２次リーグ（佐伯）'!O7","v":"大分トリニータＵ－１２"},null,null,null,null,null,null,null,null,null,null,null,null,null,null,null,null,null,null,"チーム",null,null,{"$f":"'２次リーグ（大分）'!C7","v":"明治北ＳＳＣ"},null,null,null,null,null,{"$f":"'２次リーグ（大分）'!O7","v":"鶴居ＳＳＳ"}]
[null,null,null,{"$f":"'２次リーグ（佐伯）'!C8","v":"ＦＣアリアーレ"},null,null,null,null,null,{"$f":"'２次リーグ（佐伯）'!O8","v":"はやぶさフットボールクラブ"},null,null,null,null,null,null,null,null,null,null,null,null,null,null,null,null,null,null,null,null,null,{"$f":"'２次リーグ（大分）'!C8","v":"カティオーラフットボールクラブＵ－１２"},null,null,null,null,null,{"$f":"'２次リーグ（大分）'!O8","v":"スマイス　セレソン　スポーツクラブ"}]
[null,null,null,{"$f":"'２次リーグ（佐伯）'!C9","v":"ＦＣ大野"},null,null,null,null,null,{"$f":"'２次リーグ（佐伯）'!O9","v":"ドリームキッズフットボールクラブ"},null,null,null,null,null,null,null,null,null,null,null,null,null,null,null,null,null,null,null,null,null,{"$f":"'２次リーグ（大分）'!C9","v":"豊府サッカースポーツ少年団"},null,null,null,null,null,{"$f":"'２次リーグ（大分）'!O9","v":"ＫＩＮＧＳ　ＦＯＯＴＢＡＬＬＣＬＵＢ　Ｕ－１２"}]
[]
[]
["【組合せ・時間割】",null,null,null,null,null,null,null,null,null,null,null,null,null,null,null,null,null,null,null,null,null,null,null,null,null,null,null,"【組合せ・時間割】"]
["試合時間",null,null,null,null,null,null,null,"対戦相手",null,null,null,"副審",null,null,null,null,null,null,null,null,null,null,null,null,null,null,null,"試合時間",null,null,null,null,null,null,null,"対戦相手",null,null,null,"副審"]
["①","10:00:00",null,"チーム名",null,{"$f":"D6","v":"ブルーウイングフットボールクラブ"},null,null,"-",{"$f":"D7","v":"ＦＣアリアーレ"},null,null,{"$f":"J6","v":"大分トリニータＵ－１２"},null,null,null,null,null,null,null,null,null,null,null,null,null,null,null,"①","10:00:00",null,"チーム名",null,{"$f":"AF6","v":"明治北ＳＳＣ"},null,null,"-",{"$f":"AF7","v":"カティオーラフットボールクラブＵ－１２"},null,null,{"$f":"AL6","v":"鶴居ＳＳＳ"}]
[null,null,null,"得失点",null,3,null,null,"-",3,null,null,{"$f":"J7","v":"はやぶさフットボールクラブ"},null,null,null,null,null,null,null,null,null,null,null,null,null,null,null,null,null,null,"得失点",null,0,null,null,"-",4,null,null,{"$f":"AL7","v":"スマイス　セレソン　スポーツクラブ"}]
["②","11:00:00",null,"チーム名",null,{"$f":"J6","v":"大分トリニータＵ－１２"},null,null,"-",{"$f":"J7","v":"はやぶさフットボールクラブ"},null,null,{"$f":"D6","v":"ブルーウイングフットボールクラブ"},null,null,null,null,null,null,null,null,null,null,null,null,null,null,null,"②","11:00:00",null,"チーム名",null,{"$f":"AL6","v":"鶴居ＳＳＳ"},null,null,"-",{"$f":"AL7","v":"スマイス　セレソン　スポーツクラブ"},null,null,{"$f":"AF6","v":"明治北ＳＳＣ"}]
[null,null,null,"得失点",null,8,null,null,"-",0,null,null,{"$f":"D7","v":"ＦＣアリアーレ"},null,null,null,null,null,null,null,null,null,null,null,null,null,null,null,null,null,null,"得失点",null,0,null,null,"-",2,null,null,{"$f":"AF7","v":"カティオーラフットボールクラブＵ－１２"}]
["③","12:00:00",null,"チーム名",null,{"$f":"D7","v":"ＦＣアリアーレ"},null,null,"-",{"$f":"D8","v":"ＦＣ大野"},null,null,{"$f":"J7","v":"はやぶさフットボールクラブ"},null,null,null,null,null,null,null,null,null,null,null,null,null,null,null,"③","12:00:00",null,"チーム名",null,{"$f":"AF7","v":"カティオーラフットボールクラブＵ－１２"},null,null,"-",{"$f":"AF8","v":"豊府サッカースポーツ少年団"},null,null,{"$f":"AL7","v":"スマイス　セレソン　スポーツクラブ"}]
[null,null,null,"得失点",null,3,null,null,"-",1,null,null,{"$f":"J8","v":"ドリームキッズフットボールクラブ"},null,null,null,null,null,null,null,null,null,null,null,null,null,null,null,null,null,null,"得失点",null,3,null,null,"-",0,null,null,{"$f":"AL8","v":"ＫＩＮＧＳ　ＦＯＯＴＢＡＬＬＣＬＵＢ　Ｕ－１２"}]
["④","13:00:00",null,"チーム名",null,{"$f":"J7","v":"はやぶさフットボールクラブ"},null,null,"-",{"$f":"J8","v":"ドリームキッズフットボールクラブ"},null,null,{"$f":"D7","v":"ＦＣアリアーレ"},null,null,null,null,null,null,null,null,null,null,null,null,null,null,null,"④","13:00:00",null,"チーム名",null,{"$f":"AL7","v":"スマイス　セレソン　スポーツクラブ"},null,null,"-",{"$f":"AL8","v":"ＫＩＮＧＳ　ＦＯＯＴＢＡＬＬＣＬＵＢ　Ｕ－１２"},null,null,{"$f":"AF7","v":"カティオーラフットボールクラブＵ－１２"}]
[null,null,null,"得失点",null,0,null,null,"-",10,null,null,{"$f":"D8","v":"ＦＣ大野"},null,null,null,null,null,null,null,null,null,null,null,null,null,null,null,null,null,null,"得失点",null,1,null,null,"-",1,null,null,{"$f":"AF8","v":"豊府サッカースポーツ少年団"}]
["⑤","14:00:00",null,"チーム名",null,{"$f":"D8","v":"ＦＣ大野"},null,null,"-",{"$f":"D6","v":"ブルーウイングフットボールクラブ"},null,null,{"$f":"J8","v":"ドリームキッズフットボールクラブ"},null,null,null,null,null,null,null,null,null,null,null,null,null,null,null,"⑤","14:00:00",null,"チーム名",null,{"$f":"AF8","v":"豊府サッカースポーツ少年団"},null,null,"-",{"$f":"AF6","v":"明治北ＳＳＣ"},null,null,{"$f":"AL8","v":"ＫＩＮＧＳ　ＦＯＯＴＢＡＬＬＣＬＵＢ　Ｕ－１２"}]
[null,null,null,"得失点",null,2,null,null,"-",5,null,null,{"$f":"J6","v":"大分トリニータＵ－１２"},null,null,null,null,null,null,null,null,null,null,null,null,null,null,null,null,null,null,"得失点",null,1,null,null,"-",5,null,null,{"$f":"AL6","v":"鶴居ＳＳＳ"}]
["⑥","15:00:00",null,"チーム名",null,{"$f":"J8","v":"ドリームキッズフットボールクラブ"},null,null,"-",{"$f":"J6","v":"大分トリニータＵ－１２"},null,null,{"$f":"D8","v":"ＦＣ大野"},null,null,null,null,null,null,null,null,null,null,null,null,null,null,null,"⑥","15:00:00",null,"チーム名",null,{"$f":"AL8","v":"ＫＩＮＧＳ　ＦＯＯＴＢＡＬＬＣＬＵＢ　Ｕ－１２"},null,null,"-",{"$f":"AL6","v":"鶴居ＳＳＳ"},null,null,{"$f":"AF8","v":"豊府サッカースポーツ少年団"}]
[null,null,null,"得失点",null,1,null,null,"-",4,null,null,{"$f":"D6","v":"ブルーウイングフットボールクラブ"},null,null,null,null,null,null,null,null,null,null,null,null,null,null,null,null,null,null,"得失点",null,1,null,null,"-",2,null,null,{"$f":"AF6","v":"明治北ＳＳＣ"}]
[]
[]
[]
[]
[]
[]
[]
[]
[]
[]
[]
[]
[]
[]
[]
[]
[]
[]
[null,null,null,null,null,"勝点表","勝",3,null,"引分",1,null,"負",0,null,null,null,null,null,null,null,null,null,null,null,null,null,null,null,null,null,null,null,"勝点表","勝",3,null,"引分",1,null,"負",0]
[null,null,null,null,null,null,null,null,null,null,null,null,null,null,null,null,null,null,null,null,null,null,null,null,null,"※大会規定による"]
[{"$f":"D4","v":"2次リーグ　Aパート"},null,null,{"$f":"A46","v":"ブルーウイングフットボールクラブ"},null,null,{"$f":"A48","v":"ＦＣアリアーレ"},null,null,{"$f":"A50","v":"ＦＣ大野"},null,null,"勝","引\n分","敗","得\n点","失\n点","勝\n点","勝点\n順位",null,"得失\n点差",null,"得失\n順位",null,"ﾄｰﾀﾙ\n順位",null,null,null,{"$f":"AF4","v":"2次リーグ　Bパート"},null,null,{"$f":"AC46","v":"明治北ＳＳＣ"},null,null,{"$f":"AC48","v":"カティオーラフットボールクラブＵ－１２"},null,null,{"$f":"AC50","v":"豊府サッカースポーツ少年団"},null,null,"勝","引\n分","敗","得\n点","失\n点","勝\n点","勝点\n順位",null,"得失\n点差",null,"得失\n順位",null,"ﾄｰﾀﾙ\n順位"]
[{"$f":"D6","v":"ブルーウイングフットボールクラブ"},"星取表",null,null,null,null,null,{"$f":"IF(G47=\"\",\"\",IF(G47>I47,\"○\",IF(G47<I47,\"●\",IF(G47=I47,\"△\"))))","v":"△"},null,null,{"$f":"IF(J47=\"\",\"\",IF(J47>L47,\"○\",IF(J47<L47,\"●\",IF(J47=L47,\"△\"))))","v":"○"},null,{"$f":"COUNTIF(D46:L46,\"○\")","v":1},{"$f":"COUNTIF(D46:L46,\"△\")+COUNTIF(D46:L46,\"▲\")","v":1},{"$f":"COUNTIF(D46:L46,\"●\")","v":0},{"$f":"SUM(D47,G47,J47)","v":8},{"$f":"SUM(F47,I47,L47)","v":5},{"$f":"(M46*3)+(N46*1)","v":4},{"$f":"RANK(R46,R$46:R$51)","v":1},"位",{"$f":"P46-Q46","v":3},null,{"$f":"RANK(U46,U$46:U$51)","v":1},"位","2※",null,null,null,{"$f":"AF6","v":"明治北ＳＳＣ"},"星取表",null,null,null,null,null,{"$f":"IF(AI47=\"\",\"\",IF(AI47>AK47,\"○\",IF(AI47<AK47,\"●\",IF(AI47=AK47,\"△\"))))","v":"●"},null,null,{"$f":"IF(AL47=\"\",\"\",IF(AL47>AN47,\"○\",IF(AL47<AN47,\"●\",IF(AL47=AN47,\"△\"))))","v":"○"},null,{"$f":"COUNTIF(AF46:AN46,\"○\")","v":1},{"$f":"COUNTIF(AF46:AN46,\"△\")+COUNTIF(AF46:AN46,\"▲\")","v":0},{"$f":"COUNTIF(AF46:AN46,\"●\")","v":1},{"$f":"SUM(AF47,AI47,AL47)","v":5},{"$f":"SUM(AH47,AK47,AN47)","v":5},{"$f":"(AO46*3)+(AP46*1)","v":3},{"$f":"RANK(AT46,$AT$46:$AT$51)","v":2},"位",{"$f":"AR46-AS46","v":0},null,{"$f":"RANK(AW46,$AW$46:$AX$51)","v":2},"位",2]
[null,"得失点",null,null,null,null,{"$f":"F14","v":3},"-",{"$f":"J14","v":3},{"$f":"J22","v":5},"-",{"$f":"F22","v":2},null,null,null,null,null,null,null,null,null,null,null,null,null,null,null,null,null,"得失点",null,null,null,null,{"$f":"AH14","v":0},"-",{"$f":"AL14","v":4},{"$f":"AL22","v":5},"-",{"$f":"AH22","v":1}]
[{"$f":"D7","v":"ＦＣアリアーレ"},"星取表",null,null,{"$f":"IF(D49=\"\",\"\",IF(D49>F49,\"○\",IF(D49<F49,\"●\",IF(D49=F49,\"△\"))))","v":"△"},null,null,null,null,null,{"$f":"IF(J49=\"\",\"\",IF(J49>L49,\"○\",IF(J49<L49,\"●\",IF(J49=L49,\"△\"))))","v":"○"},null,{"$f":"COUNTIF(D48:L48,\"○\")","v":1},{"$f":"COUNTIF(D48:L48,\"△\")+COUNTIF(D48:L48,\"▲\")","v":1},{"$f":"COUNTIF(D48:L48,\"●\")","v":0},{"$f":"SUM(D49,G49,J49)","v":6},{"$f":"SUM(F49,I49,L49)","v":4},{"$f":"(M48*3)+(N48*1)","v":4},{"$f":"RANK(R48,R$46:R$51)","v":1},"位",{"$f":"P48-Q48","v":2},null,{"$f":"RANK(U48,U$46:U$51)","v":2},"位","1※",null,null,null,{"$f":"AF7","v":"カティオーラフットボールクラブＵ－１２"},"星取表",null,null,{"$f":"IF(AF49=\"\",\"\",IF(AF49>AH49,\"○\",IF(AF49<AH49,\"●\",IF(AF49=AH49,\"△\"))))","v":"○"},null,null,null,null,null,{"$f":"IF(AL49=\"\",\"\",IF(AL49>AN49,\"○\",IF(AL49<AN49,\"●\",IF(AL49=AN49,\"△\"))))","v":"○"},null,{"$f":"COUNTIF(AF48:AN48,\"○\")","v":2},{"$f":"COUNTIF(AF48:AN48,\"△\")+COUNTIF(AF48:AN48,\"▲\")","v":0},{"$f":"COUNTIF(AF48:AN48,\"●\")","v":0},{"$f":"SUM(AF49,AI49,AL49)","v":7},{"$f":"SUM(AH49,AK49,AN49)","v":0},{"$f":"(AO48*3)+(AP48*1)","v":6},{"$f":"RANK(AT48,$AT$46:$AT$51)","v":1},"位",{"$f":"AR48-AS48","v":7},null,{"$f":"RANK(AW48,$AW$46:$AX$51)","v":1},"位",1]
[null,"得失点",null,{"$f":"I47","v":3},"-",{"$f":"G47","v":3},null,null,null,{"$f":"F18","v":3},"-",{"$f":"J18","v":1},null,null,null,null,null,null,null,null,null,null,null,null,null,null,null,null,null,"得失点",null,{"$f":"AK47","v":4},"-",{"$f":"AI47","v":0},null,null,null,{"$f":"AH18","v":3},"-",{"$f":"AL18","v":0}]
[{"$f":"D8","v":"ＦＣ大野"},"星取表",null,null,{"$f":"IF(D51=\"\",\"\",IF(D51>F51,\"○\",IF(D51<F51,\"●\",IF(D51=F51,\"△\"))))","v":"●"},null,null,{"$f":"IF(G51=\"\",\"\",IF(G51>I51,\"○\",IF(G51<I51,\"●\",IF(G51=I51,\"△\"))))","v":"●"},null,null,null,null,{"$f":"COUNTIF(D50:L50,\"○\")","v":0},{"$f":"COUNTIF(D50:L50,\"△\")+COUNTIF(D50:L50,\"▲\")","v":0},{"$f":"COUNTIF(D50:L50,\"●\")","v":2},{"$f":"SUM(D51,G51,J51)","v":3},{"$f":"SUM(F51,I51,L51)","v":8},{"$f":"(M50*3)+(N50*1)","v":0},{"$f":"RANK(R50,R$46:R$51)","v":3},"位",{"$f":"P50-Q50","v":-5},null,{"$f":"RANK(U50,U$46:U$51)","v":3},"位",3,null,null,null,{"$f":"AF8","v":"豊府サッカースポーツ少年団"},"星取表",null,null,{"$f":"IF(AF51=\"\",\"\",IF(AF51>AH51,\"○\",IF(AF51<AH51,\"●\",IF(AF51=AH51,\"△\"))))","v":"●"},null,null,{"$f":"IF(AI51=\"\",\"\",IF(AI51>AK51,\"○\",IF(AI51<AK51,\"●\",IF(AI51=AK51,\"△\"))))","v":"●"},null,null,null,null,{"$f":"COUNTIF(AF50:AN50,\"○\")","v":0},{"$f":"COUNTIF(AF50:AN50,\"△\")+COUNTIF(AF50:AN50,\"▲\")","v":0},{"$f":"COUNTIF(AF50:AN50,\"●\")","v":2},{"$f":"SUM(AF51,AI51,AL51)","v":1},{"$f":"SUM(AH51,AK51,AN51)","v":8},{"$f":"(AO50*3)+(AP50*1)","v":0},{"$f":"RANK(AT50,$AT$46:$AT$51)","v":3},"位",{"$f":"AR50-AS50","v":-7},null,{"$f":"RANK(AW50,$AW$46:$AX$51)","v":3},"位",3]
[null,"得失点",null,{"$f":"L47","v":2},"-",{"$f":"J47","v":5},{"$f":"L49","v":1},"-",{"$f":"J49","v":3},null,null,null,null,null,null,null,null,null,null,null,null,null,null,null,null,null,null,null,null,"得失点",null,{"$f":"AN47","v":1},"-",{"$f":"AL47","v":5},{"$f":"AN49","v":0},"-",{"$f":"AL49","v":3}]
[]
[{"$f":"J4","v":"2次リーグ　Cパート"},null,null,{"$f":"A54","v":"大分トリニータＵ－１２"},null,null,{"$f":"A56","v":"はやぶさフットボールクラブ"},null,null,{"$f":"A58","v":"ドリームキッズフットボールクラブ"},null,null,"勝","引\n分","敗","得\n点","失\n点","勝\n点","勝点\n順位",null,"得失\n点差",null,"得失\n順位",null,"ﾄｰﾀﾙ\n順位",null,null,null,{"$f":"AL4","v":"2次リーグ　Dパート"},null,null,{"$f":"AC54","v":"鶴居ＳＳＳ"},null,null,{"$f":"AC56","v":"スマイス　セレソン　スポーツクラブ"},null,null,{"$f":"AC58","v":"ＫＩＮＧＳ　ＦＯＯＴＢＡＬＬＣＬＵＢ　Ｕ－１２"},null,null,"勝","引\n分","敗","得\n点","失\n点","勝\n点","勝点\n順位",null,"得失\n点差",null,"得失\n順位",null,"ﾄｰﾀﾙ\n順位"]
[{"$f":"J6","v":"大分トリニータＵ－１２"},"星取表",null,null,null,null,null,{"$f":"IF(G55=\"\",\"\",IF(G55>I55,\"○\",IF(G55<I55,\"●\",IF(G55=I55,\"△\"))))","v":"○"},null,null,{"$f":"IF(J55=\"\",\"\",IF(J55>L55,\"○\",IF(J55<L55,\"●\",IF(J55=L55,\"△\"))))","v":"○"},null,{"$f":"COUNTIF(D54:L54,\"○\")","v":2},{"$f":"COUNTIF(D54:L54,\"△\")+COUNTIF(D54:L54,\"▲\")","v":0},{"$f":"COUNTIF(D54:L54,\"●\")","v":0},{"$f":"SUM(D55,G55,J55)","v":12},{"$f":"SUM(F55,I55,L55)","v":1},{"$f":"(M54*3)+(N54*1)","v":6},{"$f":"RANK(R54,$R$54:$R$59)","v":1},"位",{"$f":"P54-Q54","v":11},null,{"$f":"RANK(U54,$U$54:$V$59)","v":1},"位",1,null,null,null,{"$f":"AL6","v":"鶴居ＳＳＳ"},"星取表",null,null,null,null,null,{"$f":"IF(AI55=\"\",\"\",IF(AI55>AK55,\"○\",IF(AI55<AK55,\"●\",IF(AI55=AK55,\"△\"))))","v":"●"},null,null,{"$f":"IF(AL55=\"\",\"\",IF(AL55>AN55,\"○\",IF(AL55<AN55,\"●\",IF(AL55=AN55,\"△\"))))","v":"○"},null,{"$f":"COUNTIF(AF54:AN54,\"○\")","v":1},{"$f":"COUNTIF(AF54:AN54,\"△\")+COUNTIF(AF54:AN54,\"▲\")","v":0},{"$f":"COUNTIF(AF54:AN54,\"●\")","v":1},{"$f":"SUM(AF55,AI55,AL55)","v":2},{"$f":"SUM(AH55,AK55,AN55)","v":3},{"$f":"(AO54*3)+(AP54*1)","v":3},{"$f":"RANK(AT54,$AT$54:$AT$59)","v":2},"位",{"$f":"AR54-AS54","v":-1},null,{"$f":"RANK(AW54,$AW$54:$AX$59)","v":2},"位",2]
[null,"得失点",null,null,null,null,{"$f":"F16","v":8},"-",{"$f":"J16","v":0},{"$f":"J24","v":4},"-",{"$f":"F24","v":1},null,null,null,null,null,null,null,null,null,null,null,null,null,null,null,null,null,"得失点",null,null,null,null,{"$f":"AH16","v":0},"-",{"$f":"AL16","v":2},{"$f":"AL24","v":2},"-",{"$f":"AH24","v":1}]
[{"$f":"J7","v":"はやぶさフットボールクラブ"},"星取表",null,null,{"$f":"IF(D57=\"\",\"\",IF(D57>F57,\"○\",IF(D57<F57,\"●\",IF(D57=F57,\"△\"))))","v":"●"},null,null,null,null,null,{"$f":"IF(J57=\"\",\"\",IF(J57>L57,\"○\",IF(J57<L57,\"●\",IF(J57=L57,\"△\"))))","v":"●"},null,{"$f":"COUNTIF(D56:L56,\"○\")","v":0},{"$f":"COUNTIF(D56:L56,\"△\")+COUNTIF(D56:L56,\"▲\")","v":0},{"$f":"COUNTIF(D56:L56,\"●\")","v":2},{"$f":"SUM(D57,G57,J57)","v":0},{"$f":"SUM(F57,I57,L57)","v":18},{"$f":"(M56*3)+(N56*1)","v":0},{"$f":"RANK(R56,$R$54:$R$59)","v":3},"位",{"$f":"P56-Q56","v":-18},null,{"$f":"RANK(U56,$U$54:$V$59)","v":3},"位",3,null,null,null,{"$f":"AL7","v":"スマイス　セレソン　スポーツクラブ"},"星取表",null,null,{"$f":"IF(AF57=\"\",\"\",IF(AF57>AH57,\"○\",IF(AF57<AH57,\"●\",IF(AF57=AH57,\"△\"))))","v":"○"},null,null,null,null,null,{"$f":"IF(AL57=\"\",\"\",IF(AL57>AN57,\"○\",IF(AL57<AN57,\"●\",IF(AL57=AN57,\"△\"))))","v":"△"},null,{"$f":"COUNTIF(AF56:AN56,\"○\")","v":1},{"$f":"COUNTIF(AF56:AN56,\"△\")+COUNTIF(AF56:AN56,\"▲\")","v":1},{"$f":"COUNTIF(AF56:AN56,\"●\")","v":0},{"$f":"SUM(AF57,AI57,AL57)","v":3},{"$f":"SUM(AH57,AK57,AN57)","v":1},{"$f":"(AO56*3)+(AP56*1)","v":4},{"$f":"RANK(AT56,$AT$54:$AT$59)","v":1},"位",{"$f":"AR56-AS56","v":2},null,{"$f":"RANK(AW56,$AW$54:$AX$59)","v":1},"位",1]
[null,"得失点",null,{"$f":"I55","v":0},"-",{"$f":"G55","v":8},null,null,null,{"$f":"F20","v":0},"-",{"$f":"J20","v":10},null,null,null,null,null,null,null,null,null,null,null,null,null,null,null,null,null,"得失点",null,{"$f":"AK55","v":2},"-",{"$f":"AI55","v":0},null,null,null,{"$f":"AH20","v":1},"-",{"$f":"AL20","v":1}]
[{"$f":"J8","v":"ドリームキッズフットボールクラブ"},"星取表",null,null,{"$f":"IF(D59=\"\",\"\",IF(D59>F59,\"○\",IF(D59<F59,\"●\",IF(D59=F59,\"△\"))))","v":"●"},null,null,{"$f":"IF(G59=\"\",\"\",IF(G59>I59,\"○\",IF(G59<I59,\"●\",IF(G59=I59,\"△\"))))","v":"○"},null,null,null,null,{"$f":"COUNTIF(D58:L58,\"○\")","v":1},{"$f":"COUNTIF(D58:L58,\"△\")+COUNTIF(D58:L58,\"▲\")","v":0},{"$f":"COUNTIF(D58:L58,\"●\")","v":1},{"$f":"SUM(D59,G59,J59)","v":11},{"$f":"SUM(F59,I59,L59)","v":4},{"$f":"(M58*3)+(N58*1)","v":3},{"$f":"RANK(R58,$R$54:$R$59)","v":2},"位",{"$f":"P58-Q58","v":7},null,{"$f":"RANK(U58,$U$54:$V$59)","v":2},"位",2,null,null,null,{"$f":"AL8","v":"ＫＩＮＧＳ　ＦＯＯＴＢＡＬＬＣＬＵＢ　Ｕ－１２"},"星取表",null,null,{"$f":"IF(AF59=\"\",\"\",IF(AF59>AH59,\"○\",IF(AF59<AH59,\"●\",IF(AF59=AH59,\"△\"))))","v":"●"},null,null,{"$f":"IF(AI59=\"\",\"\",IF(AI59>AK59,\"○\",IF(AI59<AK59,\"●\",IF(AI59=AK59,\"△\"))))","v":"△"},null,null,null,null,{"$f":"COUNTIF(AF58:AN58,\"○\")","v":0},{"$f":"COUNTIF(AF58:AN58,\"△\")+COUNTIF(AF58:AN58,\"▲\")","v":1},{"$f":"COUNTIF(AF58:AN58,\"●\")","v":1},{"$f":"SUM(AF59,AI59,AL59)","v":2},{"$f":"SUM(AH59,AK59,AN59)","v":3},{"$f":"(AO58*3)+(AP58*1)","v":1},{"$f":"RANK(AT58,$AT$54:$AT$59)","v":3},"位",{"$f":"AR58-AS58","v":-1},null,{"$f":"RANK(AW58,$AW$54:$AX$59)","v":2},"位",3]
[null,"得失点",null,{"$f":"L55","v":1},"-",{"$f":"J55","v":4},{"$f":"L57","v":10},"-",{"$f":"J57","v":0},null,null,null,null,null,null,null,null,null,null,null,null,null,null,null,null,null,null,null,null,"得失点",null,{"$f":"AN55","v":1},"-",{"$f":"AL55","v":2},{"$f":"AN57","v":1},"-",{"$f":"AL57","v":1}]

{"sheet":"１次リーグ組み合わせ・結果","index":13,"n_rows":75,"n_cols":81,"rows_kept":75,"cut":false,"hidden":false,"merged":[[4,59,4,64],[3,31,3,36],[3,37,3,42],[3,43,3,48],[3,49,3,54],[10,56,10,58],[4,56,4,58],[20,29,21,30],[20,28,21,28],[16,29,17,30],[16,28,17,28],[12,29,13,30],[12,28,13,28],[10,28,10,30],[4,28,4,30],[18,57,19,58],[18,56,19,56],[14,57,15,58],[14,56,15,56],[20,56,21,56],[20,57,21,58],[16,56,17,56],[16,57,17,58],[11,56,11,58],[13,31,13,32],[13,33,13,35],[13,37,13,39],[13,40,13,42],[13,43,13,44],[13,45,13,47],[13,49,13,51],[12,40,12,42],[48,57,48,58],[45,57,45,58],[45,56,46,56],[46,57,46,58],[47,56,48,56],[47,57,47,58],[50,57,50,58],[49,57,49,58],[49,56,50,56],[56,57,56,58],[55,57,55,58],[55,56,56,56],[54,57,54,58],[52,56,52,58],[66,57,66,58],[65,57,65,58],[65,56,66,56],[64,57,64,58],[62,57,62,58],[61,57,61,58],[61,56,62,56],[60,56,60,58],[53,56,54,56],[53,57,53,58],[63,56,64,56],[63,57,63,58],[71,57,71,58],[71,56,72,56],[70,57,70,58],[69,57,69,58],[69,56,70,56],[57,57,57,58],[57,56,58,56],[72,57,72,58],[58,57,58,58],[68,56,68,58],[73,78,74,78],[73,79,74,79],[73,80,74,81],[74,57,74,58],[2,3,2,14],[2,15,2,26],[2,31,2,42],[2,43,2,54],[2,59,2,70],[2,71,2,82],[73,71,74,71],[73,72,74,72],[73,73,74,73],[73,74,74,74],[73,75,74,75],[73,76,74,77],[73,56,74,56],[73,57,73,58],[73,68,74,68],[73,69,74,69],[73,70,74,70],[71,74,72,74],[71,68,72,68],[71,69,72,69],[71,70,72,70],[71,71,72,71],[71,78,72,78],[71,79,72,79],[71,80,72,81],[69,80,70,81],[69,78,70,78],[69,79,70,79],[71,72,72,72],[71,73,72,73],[69,73,70,73],[69,74,70,74],[69,75,70,75],[69,76,70,77],[71,75,72,75],[71,76,72,77],[68,80,68,81],[69,68,70,68],[69,69,70,69],[69,70,70,70],[69,71,70,71],[69,72,70,72],[68,74,68,75],[57,74,58,74],[57,75,58,75],[57,73,58,73],[68,76,68,77],[68,78,68,79],[57,68,58,68],[57,69,58,69],[57,70,58,70],[57,71,58,71],[57,72,58,72],[61,79,62,79],[61,80,62,81],[68,59,68,61],[68,62,68,64],[68,65,68,67],[55,79,56,79],[57,76,58,77],[57,78,58,78],[57,79,58,79],[65,73,66,73],[65,74,66,74],[65,75,66,75],[57,80,58,81],[55,80,56,81],[53,74,54,74],[55,73,56,73],[55,74,56,74],[55,75,56,75],[55,76,56,77],[55,78,56,78],[53,75,54,75],[53,76,54,77],[53,79,54,79],[53,80,54,81],[55,68,56,68],[55,69,56,69],[55,70,56,70],[55,71,56,71],[55,72,56,72],[53,72,54,72],[53,73,54,73],[53,78,54,78],[53,68,54,68],[53,69,54,69],[53,70,54,70],[53,71,54,71],[52,62,52,64],[52,65,52,67],[52,74,52,75],[52,76,52,77],[52,78,52,79],[52,80,52,81],[65,76,66,77],[65,78,66,78],[65,79,66,79],[63,79,64,79],[63,80,64,81],[65,80,66,81],[65,68,66,68],[65,69,66,69],[65,70,66,70],[65,71,66,71],[65,72,66,72],[63,72,64,72],[63,71,64,71],[63,73,64,73],[63,74,64,74],[63,75,64,75],[63,76,64,77],[63,78,64,78],[63,68,64,68],[63,69,64,69],[63,70,64,70],[61,75,62,75],[61,76,62,77],[61,78,62,78],[4,65,4,70],[4,71,4,76],[4,77,4,82],[60,80,60,81],[61,68,62,68],[61,69,62,69],[61,70,62,70],[61,71,62,71],[61,72,62,72],[61,73,62,73],[61,74,62,74],[49,80,50,81],[60,59,60,61],[60,62,60,64],[60,65,60,67],[60,74,60,75],[60,76,60,77],[60,78,60,79],[49,72,50,72],[49,73,50,73],[52,59,52,61],[49,74,50,74],[49,75,50,75],[49,76,50,77],[49,78,50,78],[47,78,48,78],[47,79,48,79],[47,76,48,77],[49,79,50,79],[47,80,48,81],[49,68,50,68],[49,69,50,69],[49,70,50,70],[49,71,50,71],[47,71,48,71],[47,72,48,72],[47,73,48,73],[47,74,48,74],[47,75,48,75],[47,68,48,68],[47,69,48,69],[47,70,48,70],[45,74,46,74],[45,75,46,75],[45,76,46,77],[45,73,46,73],[45,78,46,78],[45,79,46,79],[45,80,46,81],[45,68,46,68],[45,69,46,69],[45,70,46,70],[45,71,46,71],[45,72,46,72],[44,56,44,58],[44,59,44,61],[44,62,44,64],[44,65,44,67],[44,74,44,75],[44,76,44,77],[22,57,23,58],[22,56,23,56],[23,59,23,60],[19,61,19,63],[19,65,19,67],[19,68,19,70],[23,71,23,72],[19,73,19,75],[21,77,21,79],[21,80,21,82],[22,59,22,60],[23,61,23,63],[23,65,23,67],[23,68,23,70],[23,73,23,75],[23,77,23,79],[23,80,23,82],[20,80,20,82],[21,59,21,60],[21,61,21,63],[21,65,21,67],[21,68,21,70],[21,71,21,72],[21,73,21,75],[20,59,20,60],[20,61,20,63],[20,65,20,67],[20,68,20,70],[22,77,22,79],[22,80,22,82],[19,59,19,60],[19,71,19,72],[44,78,44,79],[44,80,44,81],[17,77,17,79],[17,80,17,82],[18,59,18,60],[22,61,22,63],[22,65,22,67],[22,68,22,70],[18,71,18,72],[22,73,22,75],[22,71,22,72],[20,71,20,72],[20,73,20,75],[20,77,20,79],[19,77,19,79],[19,80,19,82],[16,71,16,72],[16,73,16,75],[16,77,16,79],[16,80,16,82],[17,59,17,60],[17,61,17,63],[17,65,17,67],[17,68,17,70],[17,71,17,72],[17,73,17,75],[16,59,16,60],[16,61,16,63],[16,65,16,67],[16,68,16,70],[18,61,18,63],[18,65,18,67],[18,68,18,70],[18,73,18,75],[18,77,18,79],[18,80,18,82],[14,80,14,82],[15,59,15,60],[15,61,15,63],[15,65,15,67],[15,68,15,70],[15,71,15,72],[15,73,15,75],[15,77,15,79],[15,80,15,82],[14,59,14,60],[14,61,14,63],[14,65,14,67],[14,68,14,70],[14,71,14,72],[14,73,14,75],[14,77,14,79],[12,73,12,75],[12,77,12,79],[12,80,12,82],[13,59,13,60],[13,61,13,63],[13,65,13,67],[13,68,13,70],[13,71,13,72],[13,73,13,75],[13,77,13,79],[11,68,11,70],[11,80,11,82],[12,56,13,56],[12,57,13,58],[12,59,12,60],[12,61,12,63],[12,65,12,67],[12,68,12,70],[12,71,12,72],[7,65,7,70],[7,71,7,76],[7,77,7,82],[5,56,7,58],[5,59,5,64],[5,65,5,70],[5,71,5,76],[5,77,5,82],[6,59,6,64],[13,80,13,82],[0,56,0,82],[2,56,2,58],[3,56,3,58],[3,59,3,64],[3,65,3,70],[3,71,3,76],[3,15,3,20],[3,21,3,26],[6,65,6,70],[6,71,6,76],[6,77,6,82],[7,59,7,64],[3,28,3,30],[4,31,4,36],[4,37,4,42],[4,43,4,48],[5,21,5,26],[5,28,7,30],[3,77,3,82],[0,0,0,26],[0,28,0,54],[2,0,2,2],[2,28,2,30],[3,0,3,2],[3,3,3,8],[3,9,3,14],[5,31,5,36],[5,37,5,42],[5,43,5,48],[5,49,5,54],[6,3,6,8],[6,9,6,14],[6,15,6,20],[6,21,6,26],[6,31,6,36],[6,37,6,42],[6,43,6,48],[6,49,6,54],[7,3,7,8],[7,9,7,14],[7,15,7,20],[7,21,7,26],[7,31,7,36],[7,37,7,42],[7,43,7,48],[7,49,7,54],[10,0,10,2],[4,0,4,2],[4,3,4,8],[4,9,4,14],[4,15,4,20],[4,21,4,26],[5,0,7,2],[5,3,5,8],[5,9,5,14],[5,15,5,20],[4,49,4,54],[11,0,11,2],[11,12,11,14],[11,24,11,26],[11,28,11,30],[11,40,11,42],[11,52,11,54],[12,0,13,0],[12,1,13,2],[12,3,12,4],[12,5,12,7],[12,9,12,11],[12,12,12,14],[13,3,13,4],[13,5,13,7],[13,9,13,11],[13,12,13,14],[12,15,12,16],[12,17,12,19],[12,21,12,23],[12,24,12,26],[12,31,12,32],[12,33,12,35],[12,37,12,39],[12,43,12,44],[12,45,12,47],[12,49,12,51],[12,52,12,54],[13,15,13,16],[13,17,13,19],[13,21,13,23],[13,24,13,26],[13,52,13,54],[14,0,15,0],[14,1,15,2],[14,3,14,4],[14,5,14,7],[14,9,14,11],[14,12,14,14],[15,3,15,4],[15,5,15,7],[15,9,15,11],[15,12,15,14],[14,15,14,16],[14,17,14,19],[14,21,14,23],[14,24,14,26],[14,28,15,28],[14,29,15,30],[15,15,15,16],[15,17,15,19],[14,31,14,32],[14,33,14,35],[15,21,15,23],[15,24,15,26],[15,31,15,32],[15,33,15,35],[14,37,14,39],[14,40,14,42],[14,43,14,44],[14,45,14,47],[14,49,14,51],[14,52,14,54],[15,37,15,39],[15,40,15,42],[15,43,15,44],[15,45,15,47],[15,49,15,51],[15,52,15,54],[16,0,17,0],[16,1,17,2],[16,3,16,4],[16,5,16,7],[16,9,16,11],[16,12,16,14],[17,3,17,4],[17,5,17,7],[17,9,17,11],[17,12,17,14],[16,15,16,16],[16,17,16,19],[16,21,16,23],[16,24,16,26],[16,31,16,32],[16,33,16,35],[16,37,16,39],[16,40,16,42],[16,43,16,44],[16,45,16,47],[16,49,16,51],[16,52,16,54],[17,15,17,16],[17,17,17,19],[17,21,17,23],[17,24,17,26],[17,31,17,32],[17,33,17,35],[17,37,17,39],[17,40,17,42],[17,43,17,44],[17,45,17,47],[17,49,17,51],[17,52,17,54],[18,0,19,0],[18,1,19,2],[18,3,18,4],[18,5,18,7],[18,9,18,11],[18,12,18,14],[19,3,19,4],[19,5,19,7],[19,9,19,11],[19,12,19,14],[18,15,18,16],[18,17,18,19],[18,21,18,23],[18,24,18,26],[18,28,19,28],[18,29,19,30],[19,15,19,16],[19,17,19,19],[18,31,18,32],[18,33,18,35],[19,21,19,23],[19,24,19,26],[19,31,19,32],[19,33,19,35],[18,37,18,39],[18,40,18,42],[18,43,18,44],[18,45,18,47],[18,49,18,51],[18,52,18,54],[19,37,19,39],[19,40,19,42],[19,43,19,44],[19,45,19,47],[19,49,19,51],[19,52,19,54],[20,0,21,0],[20,1,21,2],[20,3,20,4],[20,5,20,7],[20,9,20,11],[20,12,20,14],[21,3,21,4],[21,5,21,7],[21,9,21,11],[21,12,21,14],[20,15,20,16],[20,17,20,19],[20,21,20,23],[20,24,20,26],[20,31,20,32],[20,33,20,35],[20,37,20,39],[20,40,20,42],[20,43,20,44],[20,45,20,47],[20,49,20,51],[20,52,20,54],[21,15,21,16],[21,17,21,19],[21,21,21,23],[21,24,21,26],[21,31,21,32],[21,33,21,35],[21,37,21,39],[21,40,21,42],[21,43,21,44],[21,45,21,47],[21,49,21,51],[21,52,21,54],[22,0,23,0],[22,1,23,2],[22,3,22,4],[22,5,22,7],[22,9,22,11],[22,12,22,14],[23,3,23,4],[23,5,23,7],[23,9,23,11],[23,12,23,14],[22,15,22,16],[22,17,22,19],[22,21,22,23],[22,24,22,26],[22,28,23,28],[22,29,23,30],[23,15,23,16],[23,17,23,19],[22,31,22,32],[22,33,22,35],[23,21,23,23],[23,24,23,26],[23,31,23,32],[23,33,23,35],[22,37,22,39],[22,40,22,42],[22,43,22,44],[22,45,22,47],[22,49,22,51],[22,52,22,54],[23,37,23,39],[23,40,23,42],[23,43,23,44],[23,45,23,47],[23,49,23,51],[23,52,23,54],[44,0,44,2],[44,3,44,5],[44,6,44,8],[44,9,44,11],[44,18,44,19],[44,20,44,21],[44,22,44,23],[44,24,44,25],[44,28,44,30],[44,31,44,33],[44,34,44,36],[44,37,44,39],[44,46,44,47],[44,48,44,49],[44,50,44,51],[44,52,44,53],[45,0,46,0],[45,1,45,2],[45,12,46,12],[45,13,46,13],[45,14,46,14],[45,15,46,15],[45,16,46,16],[45,17,46,17],[45,18,46,18],[45,19,46,19],[45,20,46,21],[45,22,46,22],[45,46,46,46],[45,47,46,47],[45,23,46,23],[45,24,46,25],[45,28,46,28],[45,29,45,30],[45,40,46,40],[45,41,46,41],[45,48,46,49],[45,50,46,50],[45,51,46,51],[45,52,46,53],[46,1,46,2],[46,29,46,30],[45,42,46,42],[45,43,46,43],[45,44,46,44],[45,45,46,45],[47,0,48,0],[47,1,47,2],[47,12,48,12],[47,13,48,13],[47,14,48,14],[47,15,48,15],[47,16,48,16],[47,17,48,17],[47,18,48,18],[47,19,48,19],[47,20,48,21],[47,22,48,22],[47,46,48,46],[47,47,48,47],[47,23,48,23],[47,24,48,25],[47,28,48,28],[47,29,47,30],[47,40,48,40],[47,41,48,41],[47,48,48,49],[47,50,48,50],[47,51,48,51],[47,52,48,53],[48,1,48,2],[48,29,48,30],[47,42,48,42],[47,43,48,43],[47,44,48,44],[47,45,48,45],[49,0,50,0],[49,1,49,2],[49,12,50,12],[49,13,50,13],[49,14,50,14],[49,15,50,15],[49,16,50,16],[49,17,50,17],[49,18,50,18],[49,19,50,19],[49,20,50,21],[49,22,50,22],[49,46,50,46],[49,47,50,47],[49,23,50,23],[49,24,50,25],[49,28,50,28],[49,29,49,30],[49,40,50,40],[49,41,50,41],[49,48,50,49],[49,50,50,50],[49,51,50,51],[49,52,50,53],[50,1,50,2],[50,29,50,30],[49,42,50,42],[49,43,50,43],[49,44,50,44],[49,45,50,45],[60,0,60,2],[60,3,60,5],[60,6,60,8],[60,9,60,11],[60,18,60,19],[60,20,60,21],[60,22,60,23],[60,24,60,25],[60,28,60,30],[60,31,60,33],[60,34,60,36],[60,37,60,39],[60,46,60,47],[60,48,60,49],[60,50,60,51],[60,52,60,53],[52,46,52,47],[52,48,52,49],[52,50,52,51],[52,52,52,53],[53,46,54,46],[53,47,54,47],[63,46,64,46],[63,47,64,47],[63,23,64,23],[63,24,64,25],[63,28,64,28],[63,29,63,30],[63,40,64,40],[63,41,64,41],[63,48,64,49],[63,50,64,50],[61,0,62,0],[61,1,61,2],[61,12,62,12],[61,13,62,13],[61,14,62,14],[61,15,62,15],[61,16,62,16],[61,17,62,17],[61,18,62,18],[61,19,62,19],[61,20,62,21],[61,22,62,22],[61,46,62,46],[61,47,62,47],[61,23,62,23],[61,24,62,25],[61,28,62,28],[61,29,61,30],[61,40,62,40],[61,41,62,41],[64,1,64,2],[64,29,64,30],[65,46,66,46],[65,47,66,47],[65,23,66,23],[65,24,66,25],[65,28,66,28],[65,29,65,30],[65,40,66,40],[65,41,66,41],[65,48,66,49],[65,50,66,50],[65,51,66,51],[65,52,66,53],[61,48,62,49],[61,50,62,50],[61,51,62,51],[61,52,62,53],[62,1,62,2],[62,29,62,30],[61,42,62,42],[61,43,62,43],[61,44,62,44],[61,45,62,45],[63,1,63,2],[63,12,64,12],[63,13,64,13],[63,14,64,14],[63,15,64,15],[63,16,64,16],[63,17,64,17],[63,18,64,18],[63,19,64,19],[63,20,64,21],[63,42,64,42],[63,43,64,43],[63,44,64,44],[63,45,64,45],[65,0,66,0],[65,1,65,2],[65,12,66,12],[65,13,66,13],[65,14,66,14],[65,15,66,15],[65,16,66,16],[65,17,66,17],[65,18,66,18],[65,19,66,19],[65,20,66,21],[65,22,66,22],[63,0,64,0],[63,22,64,22],[52,0,52,2],[52,3,52,5],[52,6,52,8],[52,9,52,11],[52,18,52,19],[52,20,52,21],[52,22,52,23],[52,24,52,25],[52,28,52,30],[52,31,52,33],[52,34,52,36],[52,37,52,39],[53,0,54,0],[53,1,53,2],[53,12,54,12],[53,13,54,13],[53,14,54,14],[53,15,54,15],[53,16,54,16],[53,17,54,17],[53,18,54,18],[53,19,54,19],[53,20,54,21],[53,22,54,22],[53,23,54,23],[53,24,54,25],[53,28,54,28],[53,29,53,30],[53,40,54,40],[53,41,54,41],[53,48,54,49],[53,50,54,50],[53,51,54,51],[53,52,54,53],[54,1,54,2],[54,29,54,30],[53,42,54,42],[53,43,54,43],[53,44,54,44],[53,45,54,45],[55,0,56,0],[55,1,55,2],[55,12,56,12],[55,13,56,13],[55,14,56,14],[55,15,56,15],[55,16,56,16],[55,17,56,17],[55,18,56,18],[55,19,56,19],[55,20,56,21],[55,22,56,22],[55,46,56,46],[55,47,56,47],[55,23,56,23],[55,24,56,25],[55,28,56,28],[55,29,55,30],[55,40,56,40],[55,41,56,41],[55,48,56,49],[55,50,56,50],[55,51,56,51],[55,52,56,53],[56,1,56,2],[56,29,56,30],[55,42,56,42],[55,43,56,43],[55,44,56,44],[55,45,56,45],[57,0,58,0],[57,1,57,2],[57,12,58,12],[57,13,58,13],[57,14,58,14],[57,15,58,15],[57,16,58,16],[57,17,58,17],[57,18,58,18],[57,19,58,19],[57,20,58,21],[57,22,58,22],[57,46,58,46],[57,47,58,47],[57,23,58,23],[57,24,58,25],[57,28,58,28],[57,29,57,30],[57,40,58,40],[57,41,58,41],[57,48,58,49],[57,50,58,50],[57,51,58,51],[57,52,58,53],[58,1,58,2],[58,29,58,30],[57,42,58,42],[57,43,58,43],[57,44,58,44],[57,45,58,45],[68,0,68,2],[68,3,68,5],[68,6,68,8],[68,9,68,11],[68,18,68,19],[68,20,68,21],[68,22,68,23],[68,24,68,25],[68,28,68,30],[68,31,68,33],[68,34,68,36],[68,37,68,39],[68,46,68,47],[68,48,68,49],[68,50,68,51],[68,52,68,53],[66,1,66,2],[66,29,66,30],[65,42,66,42],[65,43,66,43],[65,44,66,44],[65,45,66,45],[63,51,64,51],[63,52,64,53],[71,28,72,28],[71,29,71,30],[71,40,72,40],[71,41,72,41],[71,48,72,49],[71,50,72,50],[69,0,70,0],[69,1,69,2],[69,12,70,12],[69,13,70,13],[69,14,70,14],[69,15,70,15],[69,16,70,16],[69,17,70,17],[69,18,70,18],[69,19,70,19],[69,20,70,21],[69,22,70,22],[69,46,70,46],[69,47,70,47],[69,23,70,23],[69,24,70,25],[69,28,70,28],[69,29,69,30],[69,40,70,40],[69,41,70,41],[73,40,74,40],[73,41,74,41],[73,48,74,49],[73,50,74,50],[73,51,74,51],[73,52,74,53],[69,48,70,49],[69,50,70,50],[69,51,70,51],[69,52,70,53],[70,1,70,2]],"merged_total":1053,"flags":["merged_cut"]}
["＜１次リーグ組み合わせ・結果＞",null,null,null,null,null,null,null,null,null,null,null,null,null,null,null,null,null,null,null,null,null,null,null,null,null,null,null,"＜１次リーグ組み合わせ・結果＞",null,null,null,null,null,null,null,null,null,null,null,null,null,null,null,null,null,null,null,null,null,null,null,null,null,null,null,"＜１次リーグ組み合わせ・結果＞"]
[]
["会場",null,null,{"$f":"'１次リーグ（速杵国東）'!B4","v":"速杵国東"},null,null,null,null,null,null,null,null,null,null,null,{"$f":"'１次リーグ（日田・玖珠）'!B4","v":"日田・玖珠"},null,null,null,null,null,null,null,null,null,null,null,null,"会場",null,null,{"$f":"'１次リーグ（別府）'!B4","v":"別府"},null,null,null,null,null,null,null,null,null,null,null,{"$f":"'１次リーグ（豊肥）'!B4","v":"豊肥"},null,null,null,null,null,null,null,null,null,null,null,null,"会場",null,null,{"$f":"'１次リーグ（津久見・臼杵）'!B4","v":"津久見・臼杵"},null,null,null,null,null,null,null,null,null,null,null,{"$f":"'１次リーグ（中津）'!B4","v":"中津"}]
["グループ",null,null,{"$f":"'１次リーグ（速杵国東）'!B6","v":"A"},null,null,null,null,null,{"$f":"'１次リーグ（速杵国東）'!N6","v":"I"},null,null,null,null,null,{"$f":"'１次リーグ（日田・玖珠）'!B6","v":"B"},null,null,null,null,null,{"$f":"'１次リーグ（日田・玖珠）'!N6","v":"K"},null,null,null,null,null,null,"グループ",null,null,{"$f":"'１次リーグ（別府）'!B6","v":"E"},null,null,null,null,null,{"$f":"'１次リーグ（別府）'!N6","v":"L"},null,null,null,null,null,{"$f":"'１次リーグ（豊肥）'!B6","v":"C"},null,null,null,null,null,{"$f":"'１次リーグ（豊肥）'!N6","v":"G"},null,null,null,null,null,null,"グループ",null,null,{"$f":"'１次リーグ（津久見・臼杵）'!B6","v":"J"},null,null,null,null,null,{"$f":"'１次リーグ（津久見・臼杵）'!N6","v":"F"},null,null,null,null,null,{"$f":"'１次リーグ（中津）'!B6","v":"D"},null,null,null,null,null,{"$f":"'１次リーグ（中津）'!N6","v":"H"}]
["MCM",null,null,"08:50:00",null,null,null,null,null,"09:50:00",null,null,null,null,null,"08:50:00",null,null,null,null,null,"09:50:00",null,null,null,null,null,null,"MCM",null,null,"08:50:00",null,null,null,null,null,"09:50:00",null,null,null,null,null,"08:50:00",null,null,null,null,null,"09:50:00",null,null,null,null,null,null,"MCM",null,null,"08:50:00",null,null,null,null,null,"09:50:00",null,null,null,null,null,"08:50:00",null,null,null,null,null,"09:50:00"]
["チーム",null,null,{"$f":"'１次リーグ（速杵国東）'!C7","v":"八坂少年サッカークラブ"},null,null,null,null,null,{"$f":"'１次リーグ（速杵国東）'!O7","v":"ＯＫＹ山香サッカークラブ"},null,null,null,null,null,{"$f":"'１次リーグ（日田・玖珠）'!C7","v":"ＦＣアリアーレ"},null,null,null,null,null,{"$f":"'１次リーグ（日田・玖珠）'!O7","v":"太陽スポーツクラブ大分西"},null,null,null,null,null,null,"チーム",null,null,{"$f":"'１次リーグ（別府）'!C7","v":"別府フットボールクラブ．ミネルバＵ－１２"},null,null,null,null,null,{"$f":"'１次リーグ（別府）'!O7","v":"スマイス・セレソン"},null,null,null,null,null,{"$f":"'１次リーグ（豊肥）'!C7","v":"ＦＣ大野"},null,null,null,null,null,{"$f":"'１次リーグ（豊肥）'!O7","v":"四日市南ＳＳＣ"},null,null,null,null,null,null,"チーム",null,null,{"$f":"'１次リーグ（津久見・臼杵）'!C7","v":"千怒サッカースポーツ少年団"},null,null,null,null,null,{"$f":"'１次リーグ（津久見・臼杵）'!O7","v":"ＦＣ　ＵＮＩＴＥ"},null,null,null,null,null,{"$f":"'１次リーグ（中津）'!C7","v":"ＦＣ中津ジュニア"},null,null,null,null,null,{"$f":"'１次リーグ（中津）'!O7","v":"はやぶさフットボールクラブ"}]
[null,null,null,{"$f":"'１次リーグ（速杵国東）'!C8","v":"ブルーウイングフットボールクラブ"},null,null,null,null,null,{"$f":"'１次リーグ（速杵国東）'!O8","v":"ドリームキッズフットボールクラブ"},null,null,null,null,null,{"$f":"'１次リーグ（日田・玖珠）'!C8","v":"大道サッカースポーツ少年団"},null,null,null,null,null,{"$f":"'１次リーグ（日田・玖珠）'!O8","v":"スマイス　セレソン　スポーツクラブ"},null,null,null,null,null,null,null,null,null,{"$f":"'１次リーグ（別府）'!C8","v":"カティオーラフットボールクラブＵ－１２"},null,null,null,null,null,{"$f":"'１次リーグ（別府）'!O8","v":"ＫＩＮＧＳ　ＦＯＯＴＢＡＬＬＣＬＵＢ　Ｕ－１２"},null,null,null,null,null,{"$f":"'１次リーグ（豊肥）'!C8","v":"Ｍ．Ｓ．Ｓ"},null,null,null,null,null,{"$f":"'１次リーグ（豊肥）'!O8","v":"大分トリニータＵ－１２"},null,null,null,null,null,null,null,null,null,{"$f":"'１次リーグ（津久見・臼杵）'!C8","v":"宗方サッカークラブ"},null,null,null,null,null,{"$f":"'１次リーグ（津久見・臼杵）'!O8","v":"明野東サッカースポーツ少年団"},null,null,null,null,null,{"$f":"'１次リーグ（中津）'!C8","v":"明治北ＳＳＣ"},null,null,null,null,null,{"$f":"'１次リーグ（中津）'!O8","v":"リノスフットボールクラブ　Ｕ－１２"}]
[null,null,null,{"$f":"'１次リーグ（速杵国東）'!C9","v":"鶴岡Ｓ―ｐｌａｙ・ＭＩＮＡＭＩ"},null,null,null,null,null,{"$f":"'１次リーグ（速杵国東）'!O9","v":"玖珠サッカースポーツ少年団"},null,null,null,null,null,{"$f":"'１次リーグ（日田・玖珠）'!C9","v":"スマイス・セレソンＢ"},null,null,null,null,null,{"$f":"'１次リーグ（日田・玖珠）'!O9","v":"判田サッカースポーツ少年団"},null,null,null,null,null,null,null,null,null,{"$f":"'１次リーグ（別府）'!C9","v":"カティオーラフットボールクラブＵ－１２　松岡"},null,null,null,null,null,{"$f":"'１次リーグ（別府）'!O9","v":"西の台ＪＦＣ"},null,null,null,null,null,{"$f":"'１次リーグ（豊肥）'!C9","v":"ＦＣ　ＪＵＮＩＯＲＳ"},null,null,null,null,null,{"$f":"'１次リーグ（豊肥）'!O9","v":"鶴見少年サッカークラブ"},null,null,null,null,null,null,null,null,null,{"$f":"'１次リーグ（津久見・臼杵）'!C9","v":"鶴居ＳＳＳ"},null,null,null,null,null,{"$f":"'１次リーグ（津久見・臼杵）'!O9","v":"豊府サッカースポーツ少年団"},null,null,null,null,null,{"$f":"'１次リーグ（中津）'!C9","v":"スマイス日出"},null,null,null,null,null,{"$f":"'１次リーグ（中津）'!O9","v":"北郡坂ノ市サッカースポーツ少年団"}]
[]
[]
["【組合せ・時間割】",null,null,null,null,null,null,null,null,null,null,null,null,null,null,null,null,null,null,null,null,null,null,null,null,null,null,null,"【組合せ・時間割】",null,null,null,null,null,null,null,null,null,null,null,null,null,null,null,null,null,null,null,null,null,null,null,null,null,null,null,"【組合せ・時間割】"]
["試合時間",null,null,null,null,null,null,null,"対戦相手",null,null,null,"副審",null,null,null,null,null,null,null,"対戦相手",null,null,null,"副審",null,null,null,"試合時間",null,null,null,null,null,null,null,"対戦相手",null,null,null,"副審",null,null,null,null,null,null,null,"対戦相手",null,null,null,"副審",null,null,null,"試合時間",null,null,null,null,null,null,null,"対戦相手",null,null,null,"副審",null,null,null,null,null,null,null,"対戦相手",null,null,null,"副審"]
["①","10:00:00",null,"チーム名",null,{"$f":"D6","v":"八坂少年サッカークラブ"},null,null,"-",{"$f":"D7","v":"ブルーウイングフットボールクラブ"},null,null,{"$f":"J6","v":"ＯＫＹ山香サッカークラブ"},null,null,"チーム名",null,{"$f":"P6","v":"ＦＣアリアーレ"},null,null,"-",{"$f":"P7","v":"大道サッカースポーツ少年団"},null,null,{"$f":"V6","v":"太陽スポーツクラブ大分西"},null,null,null,"①","10:00:00",null,"チーム名",null,{"$f":"AF6","v":"別府フットボールクラブ．ミネルバＵ－１２"},null,null,"-",{"$f":"AF7","v":"カティオーラフットボールクラブＵ－１２"},null,null,{"$f":"AL6","v":"スマイス・セレソン"},null,null,"チーム名",null,{"$f":"AR6","v":"ＦＣ大野"},null,null,"-",{"$f":"AR7","v":"Ｍ．Ｓ．Ｓ"},null,null,{"$f":"AX6","v":"四日市南ＳＳＣ"},null,null,null,"①","10:00:00",null,"チーム名",null,{"$f":"BH6","v":"千怒サッカースポーツ少年団"},null,null,"-",{"$f":"BH7","v":"宗方サッカークラブ"},null,null,"本部",null,null,"チーム名",null,{"$f":"BT6","v":"ＦＣ中津ジュニア"},null,null,"-",{"$f":"BT7","v":"明治北ＳＳＣ"},null,null,{"$f":"BZ6","v":"はやぶさフットボールクラブ"}]
[null,null,null,"得失点",null,0,null,null,"-",11,null,null,{"$f":"J7","v":"ドリームキッズフットボールクラブ"},null,null,"得失点",null,6,null,null,"-",0,null,null,{"$f":"V7","v":"スマイス　セレソン　スポーツクラブ"},null,null,null,null,null,null,"得失点",null,0,null,null,"-",1,null,null,{"$f":"AL7","v":"ＫＩＮＧＳ　ＦＯＯＴＢＡＬＬＣＬＵＢ　Ｕ－１２"},null,null,"得失点",null,2,null,null,"-",1,null,null,{"$f":"AX7","v":"大分トリニータＵ－１２"},null,null,null,null,null,null,"得失点",null,0,null,null,"-",6,null,null,"本部",null,null,"得失点",null,1,null,null,"-",2,null,null,"本部"]
["②","11:00:00",null,"チーム名",null,{"$f":"J6","v":"ＯＫＹ山香サッカークラブ"},null,null,"-",{"$f":"J7","v":"ドリームキッズフットボールクラブ"},null,null,{"$f":"D6","v":"八坂少年サッカークラブ"},null,null,"チーム名",null,{"$f":"V6","v":"太陽スポーツクラブ大分西"},null,null,"-",{"$f":"V7","v":"スマイス　セレソン　スポーツクラブ"},null,null,{"$f":"P6","v":"ＦＣアリアーレ"},null,null,null,"②","11:00:00",null,"チーム名",null,{"$f":"AL6","v":"スマイス・セレソン"},null,null,"-",{"$f":"AL7","v":"ＫＩＮＧＳ　ＦＯＯＴＢＡＬＬＣＬＵＢ　Ｕ－１２"},null,null,{"$f":"AF6","v":"別府フットボールクラブ．ミネルバＵ－１２"},null,null,"チーム名",null,{"$f":"AX6","v":"四日市南ＳＳＣ"},null,null,"-",{"$f":"AX7","v":"大分トリニータＵ－１２"},null,null,{"$f":"AR6","v":"ＦＣ大野"},null,null,null,"②","11:00:00",null,"チーム名",null,{"$f":"BN6","v":"ＦＣ　ＵＮＩＴＥ"},null,null,"-",{"$f":"BN7","v":"明野東サッカースポーツ少年団"},null,null,{"$f":"BH6","v":"千怒サッカースポーツ少年団"},null,null,"チーム名",null,{"$f":"BZ6","v":"はやぶさフットボールクラブ"},null,null,"-",{"$f":"BZ7","v":"リノスフットボールクラブ　Ｕ－１２"},null,null,{"$f":"BT6","v":"ＦＣ中津ジュニア"}]
[null,null,null,"得失点",null,0,null,null,"-",3,null,null,{"$f":"D7","v":"ブルーウイングフットボールクラブ"},null,null,"得失点",null,1,null,null,"-",1,null,null,{"$f":"P7","v":"大道サッカースポーツ少年団"},null,null,null,null,null,null,"得失点",null,0,null,null,"-",1,null,null,{"$f":"AF7","v":"カティオーラフットボールクラブＵ－１２"},null,null,"得失点",null,1,null,null,"-",7,null,null,{"$f":"AR7","v":"Ｍ．Ｓ．Ｓ"},null,null,null,null,null,null,"得失点",null,null,null,null,"-",null,null,null,{"$f":"BH7","v":"宗方サッカークラブ"},null,null,"得失点",null,null,null,null,"-",null,null,null,{"$f":"BT7","v":"明治北ＳＳＣ"}]
["③","12:00:00",null,"チーム名",null,{"$f":"D7","v":"ブルーウイングフットボールクラブ"},null,null,"-",{"$f":"D8","v":"鶴岡Ｓ―ｐｌａｙ・ＭＩＮＡＭＩ"},null,null,{"$f":"J7","v":"ドリームキッズフットボールクラブ"},null,null,"チーム名",null,{"$f":"P7","v":"大道サッカースポーツ少年団"},null,null,"-",{"$f":"P8","v":"スマイス・セレソンＢ"},null,null,{"$f":"V7","v":"スマイス　セレソン　スポーツクラブ"},null,null,null,"③","12:00:00",null,"チーム名",null,{"$f":"AF7","v":"カティオーラフットボールクラブＵ－１２"},null,null,"-",{"$f":"AF8","v":"カティオーラフットボールクラブＵ－１２　松岡"},null,null,{"$f":"AL7","v":"ＫＩＮＧＳ　ＦＯＯＴＢＡＬＬＣＬＵＢ　Ｕ－１２"},null,null,"チーム名",null,{"$f":"AR7","v":"Ｍ．Ｓ．Ｓ"},null,null,"-",{"$f":"AR8","v":"ＦＣ　ＪＵＮＩＯＲＳ"},null,null,{"$f":"AX7","v":"大分トリニータＵ－１２"},null,null,null,"③","12:00:00",null,"チーム名",null,{"$f":"BH7","v":"宗方サッカークラブ"},null,null,"-",{"$f":"BH8","v":"鶴居ＳＳＳ"},null,null,"本部",null,null,"チーム名",null,{"$f":"BT7","v":"明治北ＳＳＣ"},null,null,"-",{"$f":"BT8","v":"スマイス日出"},null,null,"本部"]
[null,null,null,"得失点",null,4,null,null,"-",0,null,null,{"$f":"J8","v":"玖珠サッカースポーツ少年団"},null,null,"得失点",null,0,null,null,"-",4,null,null,{"$f":"V8","v":"判田サッカースポーツ少年団"},null,null,null,null,null,null,"得失点",null,6,null,null,"-",1,null,null,{"$f":"AL8","v":"西の台ＪＦＣ"},null,null,"得失点",null,0,null,null,"-",1,null,null,{"$f":"AX8","v":"鶴見少年サッカークラブ"},null,null,null,null,null,null,"得失点",null,1,null,null,"-",4,null,null,"本部",null,null,"得失点",null,6,null,null,"-",1,null,null,{"$f":"BZ8","v":"北郡坂ノ市サッカースポーツ少年団"}]
["④","13:00:00",null,"チーム名",null,{"$f":"J7","v":"ドリームキッズフットボールクラブ"},null,null,"-",{"$f":"J8","v":"玖珠サッカースポーツ少年団"},null,null,{"$f":"D7","v":"ブルーウイングフットボールクラブ"},null,null,"チーム名",null,{"$f":"V7","v":"スマイス　セレソン　スポーツクラブ"},null,null,"-",{"$f":"V8","v":"判田サッカースポーツ少年団"},null,null,{"$f":"P7","v":"大道サッカースポーツ少年団"},null,null,null,"④","13:00:00",null,"チーム名",null,{"$f":"AL7","v":"ＫＩＮＧＳ　ＦＯＯＴＢＡＬＬＣＬＵＢ　Ｕ－１２"},null,null,"-",{"$f":"AL8","v":"西の台ＪＦＣ"},null,null,{"$f":"AF7","v":"カティオーラフットボールクラブＵ－１２"},null,null,"チーム名",null,{"$f":"AX7","v":"大分トリニータＵ－１２"},null,null,"-",{"$f":"AX8","v":"鶴見少年サッカークラブ"},null,null,{"$f":"AR7","v":"Ｍ．Ｓ．Ｓ"},null,null,null,"④","13:00:00",null,"チーム名",null,{"$f":"BN8","v":"豊府サッカースポーツ少年団"},null,null,"-",{"$f":"BN6","v":"ＦＣ　ＵＮＩＴＥ"},null,null,{"$f":"BH8","v":"鶴居ＳＳＳ"},null,null,"チーム名",null,{"$f":"BZ8","v":"北郡坂ノ市サッカースポーツ少年団"},null,null,"-",{"$f":"BZ6","v":"はやぶさフットボールクラブ"},null,null,{"$f":"BT8","v":"スマイス日出"}]
[null,null,null,"得失点",null,4,null,null,"-",0,null,null,{"$f":"D8","v":"鶴岡Ｓ―ｐｌａｙ・ＭＩＮＡＭＩ"},null,null,"得失点",null,4,null,null,"-",1,null,null,{"$f":"P8","v":"スマイス・セレソンＢ"},null,null,null,null,null,null,"得失点",null,1,null,null,"-",1,null,null,{"$f":"AF8","v":"カティオーラフットボールクラブＵ－１２　松岡"},null,null,"得失点",null,7,null,null,"-",1,null,null,{"$f":"AR8","v":"ＦＣ　ＪＵＮＩＯＲＳ"},null,null,null,null,null,null,"得失点",null,4,null,null,"-",1,null,null,{"$f":"BH7","v":"宗方サッカークラブ"},null,null,"得失点",null,0,null,null,"-",1,null,null,{"$f":"BT6","v":"ＦＣ中津ジュニア"}]
["⑤","14:00:00",null,"チーム名",null,{"$f":"D8","v":"鶴岡Ｓ―ｐｌａｙ・ＭＩＮＡＭＩ"},null,null,"-",{"$f":"D6","v":"八坂少年サッカークラブ"},null,null,{"$f":"J8","v":"玖珠サッカースポーツ少年団"},null,null,"チーム名",null,{"$f":"P8","v":"スマイス・セレソンＢ"},null,null,"-",{"$f":"P6","v":"ＦＣアリアーレ"},null,null,{"$f":"V8","v":"判田サッカースポーツ少年団"},null,null,null,"⑤","14:00:00",null,"チーム名",null,{"$f":"AF8","v":"カティオーラフットボールクラブＵ－１２　松岡"},null,null,"-",{"$f":"AF6","v":"別府フットボールクラブ．ミネルバＵ－１２"},null,null,{"$f":"AL8","v":"西の台ＪＦＣ"},null,null,"チーム名",null,{"$f":"AR8","v":"ＦＣ　ＪＵＮＩＯＲＳ"},null,null,"-",{"$f":"AR6","v":"ＦＣ大野"},null,null,{"$f":"AX8","v":"鶴見少年サッカークラブ"},null,null,null,"⑤","14:00:00",null,"チーム名",null,{"$f":"BH8","v":"鶴居ＳＳＳ"},null,null,"-",{"$f":"BH6","v":"千怒サッカースポーツ少年団"},null,null,{"$f":"BN8","v":"豊府サッカースポーツ少年団"},null,null,"チーム名",null,{"$f":"BT8","v":"スマイス日出"},null,null,"-",{"$f":"BT6","v":"ＦＣ中津ジュニア"},null,null,{"$f":"BZ8","v":"北郡坂ノ市サッカースポーツ少年団"}]
[null,null,null,"得失点",null,6,null,null,"-",0,null,null,{"$f":"J6","v":"ＯＫＹ山香サッカークラブ"},null,null,"得失点",null,0,null,null,"-",2,null,null,{"$f":"V6","v":"太陽スポーツクラブ大分西"},null,null,null,null,null,null,"得失点",null,null,null,null,"-",null,null,null,{"$f":"AL6","v":"スマイス・セレソン"},null,null,"得失点",null,0,null,null,"-",1,null,null,{"$f":"AX6","v":"四日市南ＳＳＣ"},null,null,null,null,null,null,"得失点",null,12,null,null,"-",0,null,null,{"$f":"BN6","v":"ＦＣ　ＵＮＩＴＥ"},null,null,"得失点",null,0,null,null,"-",12,null,null,{"$f":"BZ6","v":"はやぶさフットボールクラブ"}]
["⑥","15:00:00",null,"チーム名",null,{"$f":"J8","v":"玖珠サッカースポーツ少年団"},null,null,"-",{"$f":"J6","v":"ＯＫＹ山香サッカークラブ"},null,null,{"$f":"D8","v":"鶴岡Ｓ―ｐｌａｙ・ＭＩＮＡＭＩ"},null,null,"チーム名",null,{"$f":"V8","v":"判田サッカースポーツ少年団"},null,null,"-",{"$f":"V6","v":"太陽スポーツクラブ大分西"},null,null,{"$f":"P8","v":"スマイス・セレソンＢ"},null,null,null,"⑥","15:00:00",null,"チーム名",null,{"$f":"AL8","v":"西の台ＪＦＣ"},null,null,"-",{"$f":"AL6","v":"スマイス・セレソン"},null,null,{"$f":"AF8","v":"カティオーラフットボールクラブＵ－１２　松岡"},null,null,"チーム名",null,{"$f":"AX8","v":"鶴見少年サッカークラブ"},null,null,"-",{"$f":"AX6","v":"四日市南ＳＳＣ"},null,null,{"$f":"AR8","v":"ＦＣ　ＪＵＮＩＯＲＳ"},null,null,null,"⑥","15:00:00",null,"チーム名",null,{"$f":"BN7","v":"明野東サッカースポーツ少年団"},null,null,"-",{"$f":"BN8","v":"豊府サッカースポーツ少年団"},null,null,{"$f":"BH7","v":"宗方サッカークラブ"},null,null,"チーム名",null,{"$f":"BZ7","v":"リノスフットボールクラブ　Ｕ－１２"},null,null,"-",{"$f":"BZ8","v":"北郡坂ノ市サッカースポーツ少年団"},null,null,{"$f":"BT7","v":"明治北ＳＳＣ"}]
[null,null,null,"得失点",null,2,null,null,"-",3,null,null,{"$f":"D6","v":"八坂少年サッカークラブ"},null,null,"得失点",null,2,null,null,"-",1,null,null,{"$f":"P6","v":"ＦＣアリアーレ"},null,null,null,null,null,null,"得失点",null,1,null,null,"-",3,null,null,{"$f":"AF6","v":"別府フットボールクラブ．ミネルバＵ－１２"},null,null,"得失点",null,0,null,null,"-",1,null,null,{"$f":"AR6","v":"ＦＣ大野"},null,null,null,null,null,null,"得失点",null,null,null,null,"-",null,null,null,{"$f":"BH8","v":"鶴居ＳＳＳ"},null,null,"得失点",null,null,null,null,"-",null,null,null,{"$f":"BT8","v":"スマイス日出"}]
[]
[]
[]
[]
[]
[]
[]
[]
[]
[]
[]
[]
[]
[]
[]
[]
[]
[]
[null,null,null,null,null,"勝点表","勝",3,null,"引分",1,null,"負",0,null,null,null,null,null,null,null,null,null,null,null,null,null,null,null,null,null,null,null,"勝点表","勝",3,null,"引分",1,null,"負",0,null,null,null,null,null,null,null,null,null,null,null,null,null,null,null,null,null,null,null,"勝点表","勝",3,null,"引分",1,null,"負",0]
[null,null,null,null,null,null,null,null,null,null,null,null,null,null,null,null,null,null,null,null,null,null,null,null,null,null,null,null,null,null,null,null,null,null,null,null,null,null,null,null,null,null,null,null,null,null,null,null,null,null,null,null,null,"※大会規定による"]
[{"$f":"D4","v":"A"},null,null,{"$f":"A46","v":"八坂少年サッカークラブ"},null,null,{"$f":"A48","v":"ブルーウイングフットボールクラブ"},null,null,{"$f":"A50","v":"鶴岡Ｓ―ｐｌａｙ・ＭＩＮＡＭＩ"},null,null,"勝","引\n分","敗","得\n点","失\n点","勝\n点","勝点\n順位",null,"得失\n点差",null,"得失\n順位",null,"ﾄｰﾀﾙ\n順位",null,null,null,{"$f":"AF4","v":"E"},null,null,{"$f":"AC46","v":"別府フットボールクラブ．ミネルバＵ－１２"},null,null,{"$f":"AC48","v":"カティオーラフットボールクラブＵ－１２"},null,null,{"$f":"AC50","v":"カティオーラフットボールクラブＵ－１２　松岡"},null,null,"勝","引\n分","敗","得\n点","失\n点","勝\n点","勝点\n順位",null,"得失\n点差",null,"得失\n順位",null,"ﾄｰﾀﾙ\n順位",null,null,null,{"$f":"BH4","v":"J"},null,null,{"$f":"BE46","v":"千怒サッカースポーツ少年団"},null,null,{"$f":"BE48","v":"宗方サッカークラブ"},null,null,{"$f":"BE50","v":"鶴居ＳＳＳ"},null,null,"勝","引\n分","敗","得\n点","失\n点","勝\n点","勝点\n順位",null,"得失\n点差",null,"得失\n順位",null,"ﾄｰﾀﾙ\n順位"]
[{"$f":"D6","v":"八坂少年サッカークラブ"},"星取表",null,null,null,null,null,{"$f":"IF(G47=\"\",\"\",IF(G47>I47,\"○\",IF(G47<I47,\"●\",IF(G47=I47,\"△\"))))","v":"●"},null,null,{"$f":"IF(J47=\"\",\"\",IF(J47>L47,\"○\",IF(J47<L47,\"●\",IF(J47=L47,\"△\"))))","v":"●"},null,{"$f":"COUNTIF(D46:L46,\"○\")","v":0},{"$f":"COUNTIF(D46:L46,\"△\")+COUNTIF(D46:L46,\"▲\")","v":0},{"$f":"COUNTIF(D46:L46,\"●\")","v":2},{"$f":"SUM(D47,G47,J47)","v":0},{"$f":"SUM(F47,I47,L47)","v":17},{"$f":"(M46*3)+(N46*1)","v":0},{"$f":"RANK(R46,R$46:R$51)","v":3},"位",{"$f":"P46-Q46","v":-17},null,{"$f":"RANK(U46,U$46:U$51)","v":3},"位",3,null,null,null,{"$f":"AF6","v":"別府フットボールクラブ．ミネルバＵ－１２"},"星取表",null,null,null,null,null,{"$f":"IF(AI47=\"\",\"\",IF(AI47>AK47,\"○\",IF(AI47<AK47,\"●\",IF(AI47=AK47,\"△\"))))","v":"●"},null,null,{"$f":"IF(AL47=\"\",\"\",IF(AL47>AN47,\"○\",IF(AL47<AN47,\"●\",IF(AL47=AN47,\"△\"))))","v":"△"},null,{"$f":"COUNTIF(AF46:AN46,\"○\")","v":0},{"$f":"COUNTIF(AF46:AN46,\"△\")+COUNTIF(AF46:AN46,\"▲\")","v":1},{"$f":"COUNTIF(AF46:AN46,\"●\")","v":1},{"$f":"SUM(AF47,AI47,AL47)","v":0},{"$f":"SUM(AH47,AK47,AN47)","v":1},{"$f":"(AO46*3)+(AP46*1)","v":1},{"$f":"RANK(AT46,AT$46:AT$51)","v":2},"位",{"$f":"AR46-AS46","v":-1},null,{"$f":"RANK(AW46,AW$46:AW$51)","v":2},"位","2※",null,null,null,{"$f":"BH6","v":"千怒サッカースポーツ少年団"},"星取表",null,null,null,null,null,{"$f":"IF(BK47=\"\",\"\",IF(BK47>BM47,\"○\",IF(BK47<BM47,\"●\",IF(BK47=BM47,\"△\"))))","v":"●"},null,null,{"$f":"IF(BN47=\"\",\"\",IF(BN47>BP47,\"○\",IF(BN47<BP47,\"●\",IF(BN47=BP47,\"△\"))))","v":"●"},null,{"$f":"COUNTIF(BH46:BP46,\"○\")","v":0},{"$f":"COUNTIF(BH46:BP46,\"△\")+COUNTIF(BH46:BP46,\"▲\")","v":0},{"$f":"COUNTIF(BH46:BP46,\"●\")","v":2},{"$f":"SUM(BH47,BK47,BN47)","v":0},{"$f":"SUM(BJ47,BM47,BP47)","v":18},{"$f":"(BQ46*3)+(BR46*1)","v":0},{"$f":"RANK(BV46,BV$46:BV$51)","v":3},"位",{"$f":"BT46-BU46","v":-18},null,{"$f":"RANK(BY46,BY$46:BY$51)","v":3},"位",3]
[null,"得失点",null,null,null,null,{"$f":"F14","v":0},"-",{"$f":"J14","v":11},{"$f":"J22","v":0},"-",{"$f":"F22","v":6},null,null,null,null,null,null,null,null,null,null,null,null,null,null,null,null,null,"得失点",null,null,null,null,{"$f":"AH14","v":0},"-",{"$f":"AL14","v":1},{"$f":"AL22","v":0},"-",{"$f":"AH22","v":0},null,null,null,null,null,null,null,null,null,null,null,null,null,null,null,null,null,"得失点",null,null,null,null,{"$f":"BJ14","v":0},"-",{"$f":"BN14","v":6},{"$f":"BN22","v":0},"-",{"$f":"BJ22","v":12}]
[{"$f":"D7","v":"ブルーウイングフットボールクラブ"},"星取表",null,null,{"$f":"IF(D49=\"\",\"\",IF(D49>F49,\"○\",IF(D49<F49,\"●\",IF(D49=F49,\"△\"))))","v":"○"},null,null,null,null,null,{"$f":"IF(J49=\"\",\"\",IF(J49>L49,\"○\",IF(J49<L49,\"●\",IF(J49=L49,\"△\"))))","v":"○"},null,{"$f":"COUNTIF(D48:L48,\"○\")","v":2},{"$f":"COUNTIF(D48:L48,\"△\")+COUNTIF(D48:L48,\"▲\")","v":0},{"$f":"COUNTIF(D48:L48,\"●\")","v":0},{"$f":"SUM(D49,G49,J49)","v":15},{"$f":"SUM(F49,I49,L49)","v":0},{"$f":"(M48*3)+(N48*1)","v":6},{"$f":"RANK(R48,R$46:R$51)","v":1},"位",{"$f":"P48-Q48","v":15},null,{"$f":"RANK(U48,U$46:U$51)","v":1},"位",1,null,null,null,{"$f":"AF7","v":"カティオーラフットボールクラブＵ－１２"},"星取表",null,null,{"$f":"IF(AF49=\"\",\"\",IF(AF49>AH49,\"○\",IF(AF49<AH49,\"●\",IF(AF49=AH49,\"△\"))))","v":"○"},null,null,null,null,null,{"$f":"IF(AL49=\"\",\"\",IF(AL49>AN49,\"○\",IF(AL49<AN49,\"●\",IF(AL49=AN49,\"△\"))))","v":"○"},null,{"$f":"COUNTIF(AF48:AN48,\"○\")","v":2},{"$f":"COUNTIF(AF48:AN48,\"△\")+COUNTIF(AF48:AN48,\"▲\")","v":0},{"$f":"COUNTIF(AF48:AN48,\"●\")","v":0},{"$f":"SUM(AF49,AI49,AL49)","v":7},{"$f":"SUM(AH49,AK49,AN49)","v":1},{"$f":"(AO48*3)+(AP48*1)","v":6},{"$f":"RANK(AT48,AT$46:AT$51)","v":1},"位",{"$f":"AR48-AS48","v":6},null,{"$f":"RANK(AW48,AW$46:AW$51)","v":1},"位",1,null,null,null,{"$f":"BH7","v":"宗方サッカークラブ"},"星取表",null,null,{"$f":"IF(BH49=\"\",\"\",IF(BH49>BJ49,\"○\",IF(BH49<BJ49,\"●\",IF(BH49=BJ49,\"△\"))))","v":"○"},null,null,null,null,null,{"$f":"IF(BN49=\"\",\"\",IF(BN49>BP49,\"○\",IF(BN49<BP49,\"●\",IF(BN49=BP49,\"△\"))))","v":"●"},null,{"$f":"COUNTIF(BH48:BP48,\"○\")","v":1},{"$f":"COUNTIF(BH48:BP48,\"△\")+COUNTIF(BH48:BP48,\"▲\")","v":0},{"$f":"COUNTIF(BH48:BP48,\"●\")","v":1},{"$f":"SUM(BH49,BK49,BN49)","v":7},{"$f":"SUM(BJ49,BM49,BP49)","v":4},{"$f":"(BQ48*3)+(BR48*1)","v":3},{"$f":"RANK(BV48,BV$46:BV$51)","v":2},"位",{"$f":"BT48-BU48","v":3},null,{"$f":"RANK(BY48,BY$46:BY$51)","v":2},"位",2]
[null,"得失点",null,{"$f":"I47","v":11},"-",{"$f":"G47","v":0},null,null,null,{"$f":"F18","v":4},"-",{"$f":"J18","v":0},null,null,null,null,null,null,null,null,null,null,null,null,null,null,null,null,null,"得失点",null,{"$f":"AK47","v":1},"-",{"$f":"AI47","v":0},null,null,null,{"$f":"AH18","v":6},"-",{"$f":"AL18","v":1},null,null,null,null,null,null,null,null,null,null,null,null,null,null,null,null,null,"得失点",null,{"$f":"BM47","v":6},"-",{"$f":"BK47","v":0},null,null,null,{"$f":"BJ18","v":1},"-",{"$f":"BN18","v":4}]
[{"$f":"D8","v":"鶴岡Ｓ―ｐｌａｙ・ＭＩＮＡＭＩ"},"星取表",null,null,{"$f":"IF(D51=\"\",\"\",IF(D51>F51,\"○\",IF(D51<F51,\"●\",IF(D51=F51,\"△\"))))","v":"○"},null,null,{"$f":"IF(G51=\"\",\"\",IF(G51>I51,\"○\",IF(G51<I51,\"●\",IF(G51=I51,\"△\"))))","v":"●"},null,null,null,null,{"$f":"COUNTIF(D50:L50,\"○\")","v":1},{"$f":"COUNTIF(D50:L50,\"△\")+COUNTIF(D50:L50,\"▲\")","v":0},{"$f":"COUNTIF(D50:L50,\"●\")","v":1},{"$f":"SUM(D51,G51,J51)","v":6},{"$f":"SUM(F51,I51,L51)","v":4},{"$f":"(M50*3)+(N50*1)","v":3},{"$f":"RANK(R50,R$46:R$51)","v":2},"位",{"$f":"P50-Q50","v":2},null,{"$f":"RANK(U50,U$46:U$51)","v":2},"位",2,null,null,null,{"$f":"AF8","v":"カティオーラフットボールクラブＵ－１２　松岡"},"星取表",null,null,{"$f":"IF(AF51=\"\",\"\",IF(AF51>AH51,\"○\",IF(AF51<AH51,\"●\",IF(AF51=AH51,\"△\"))))","v":"△"},null,null,{"$f":"IF(AI51=\"\",\"\",IF(AI51>AK51,\"○\",IF(AI51<AK51,\"●\",IF(AI51=AK51,\"△\"))))","v":"●"},null,null,null,null,{"$f":"COUNTIF(AF50:AN50,\"○\")","v":0},{"$f":"COUNTIF(AF50:AN50,\"△\")+COUNTIF(AF50:AN50,\"▲\")","v":1},{"$f":"COUNTIF(AF50:AN50,\"●\")","v":1},{"$f":"SUM(AF51,AI51,AL51)","v":1},{"$f":"SUM(AH51,AK51,AN51)","v":6},{"$f":"(AO50*3)+(AP50*1)","v":1},{"$f":"RANK(AT50,AT$46:AT$51)","v":2},"位",{"$f":"AR50-AS50","v":-5},null,{"$f":"RANK(AW50,AW$46:AW$51)","v":3},"位","2※",null,null,null,{"$f":"BH8","v":"鶴居ＳＳＳ"},"星取表",null,null,{"$f":"IF(BH51=\"\",\"\",IF(BH51>BJ51,\"○\",IF(BH51<BJ51,\"●\",IF(BH51=BJ51,\"△\"))))","v":"○"},null,null,{"$f":"IF(BK51=\"\",\"\",IF(BK51>BM51,\"○\",IF(BK51<BM51,\"●\",IF(BK51=BM51,\"△\"))))","v":"○"},null,null,null,null,{"$f":"COUNTIF(BH50:BP50,\"○\")","v":2},{"$f":"COUNTIF(BH50:BP50,\"△\")+COUNTIF(BH50:BP50,\"▲\")","v":0},{"$f":"COUNTIF(BH50:BP50,\"●\")","v":0},{"$f":"SUM(BH51,BK51,BN51)","v":16},{"$f":"SUM(BJ51,BM51,BP51)","v":1},{"$f":"(BQ50*3)+(BR50*1)","v":6},{"$f":"RANK(BV50,BV$46:BV$51)","v":1},"位",{"$f":"BT50-BU50","v":15},null,{"$f":"RANK(BY50,BY$46:BY$51)","v":1},"位",1]
[null,"得失点",null,{"$f":"L47","v":6},"-",{"$f":"J47","v":0},{"$f":"L49","v":0},"-",{"$f":"J49","v":4},null,null,null,null,null,null,null,null,null,null,null,null,null,null,null,null,null,null,null,null,"得失点",null,{"$f":"AN47","v":0},"-",{"$f":"AL47","v":0},{"$f":"AN49","v":1},"-",{"$f":"AL49","v":6},null,null,null,null,null,null,null,null,null,null,null,null,null,null,null,null,null,null,null,null,"得失点",null,{"$f":"BP47","v":12},"-",{"$f":"BN47","v":0},{"$f":"BP49","v":4},"-",{"$f":"BN49","v":1}]
[]
[{"$f":"J4","v":"I"},null,null,{"$f":"A54","v":"ＯＫＹ山香サッカークラブ"},null,null,{"$f":"A56","v":"ドリームキッズフットボールクラブ"},null,null,{"$f":"A58","v":"玖珠サッカースポーツ少年団"},null,null,"勝","引\n分","敗","得\n点","失\n点","勝\n点","勝点\n順位",null,"得失\n点差",null,"得失\n順位",null,"ﾄｰﾀﾙ\n順位",null,null,null,{"$f":"AL4","v":"L"},null,null,{"$f":"AC54","v":"スマイス・セレソン"},null,null,{"$f":"AC56","v":"ＫＩＮＧＳ　ＦＯＯＴＢＡＬＬＣＬＵＢ　Ｕ－１２"},null,null,{"$f":"AC58","v":"西の台ＪＦＣ"},null,null,"勝","引\n分","敗","得\n点","失\n点","勝\n点","勝点\n順位",null,"得失\n点差",null,"得失\n順位",null,"ﾄｰﾀﾙ\n順位",null,null,null,{"$f":"BN4","v":"F"},null,null,{"$f":"BE54","v":"ＦＣ　ＵＮＩＴＥ"},null,null,{"$f":"BE56","v":"明野東サッカースポーツ少年団"},null,null,{"$f":"BE58","v":"豊府サッカースポーツ少年団"},null,null,"勝","引\n分","敗","得\n点","失\n点","勝\n点","勝点\n順位",null,"得失\n点差",null,"得失\n順位",null,"ﾄｰﾀﾙ\n順位"]
[{"$f":"J6","v":"ＯＫＹ山香サッカークラブ"},"星取表",null,null,null,null,null,{"$f":"IF(G55=\"\",\"\",IF(G55>I55,\"○\",IF(G55<I55,\"●\",IF(G55=I55,\"△\"))))","v":"●"},null,null,{"$f":"IF(J55=\"\",\"\",IF(J55>L55,\"○\",IF(J55<L55,\"●\",IF(J55=L55,\"△\"))))","v":"○"},null,{"$f":"COUNTIF(D54:L54,\"○\")","v":1},{"$f":"COUNTIF(D54:L54,\"△\")+COUNTIF(D54:L54,\"▲\")","v":0},{"$f":"COUNTIF(D54:L54,\"●\")","v":1},{"$f":"SUM(D55,G55,J55)","v":3},{"$f":"SUM(F55,I55,L55)","v":5},{"$f":"(M54*3)+(N54*1)","v":3},{"$f":"RANK(R54,$R$54:$R$59)","v":2},"位",{"$f":"P54-Q54","v":-2},null,{"$f":"RANK(U54,$U$54:$V$59)","v":2},"位",2,null,null,null,{"$f":"AL6","v":"スマイス・セレソン"},"星取表",null,null,null,null,null,{"$f":"IF(AI55=\"\",\"\",IF(AI55>AK55,\"○\",IF(AI55<AK55,\"●\",IF(AI55=AK55,\"△\"))))","v":"●"},null,null,{"$f":"IF(AL55=\"\",\"\",IF(AL55>AN55,\"○\",IF(AL55<AN55,\"●\",IF(AL55=AN55,\"△\"))))","v":"○"},null,{"$f":"COUNTIF(AF54:AN54,\"○\")","v":1},{"$f":"COUNTIF(AF54:AN54,\"△\")+COUNTIF(AF54:AN54,\"▲\")","v":0},{"$f":"COUNTIF(AF54:AN54,\"●\")","v":1},{"$f":"SUM(AF55,AI55,AL55)","v":3},{"$f":"SUM(AH55,AK55,AN55)","v":2},{"$f":"(AO54*3)+(AP54*1)","v":3},{"$f":"RANK(AT54,$AT$54:$AT$59)","v":2},"位",{"$f":"AR54-AS54","v":1},null,{"$f":"RANK(AW54,$AW$54:$AW$59)","v":1},"位",2,null,null,null,{"$f":"BN6","v":"ＦＣ　ＵＮＩＴＥ"},"星取表",null,null,null,null,null,{"$f":"IF(BK55=\"\",\"\",IF(BK55>BM55,\"○\",IF(BK55<BM55,\"●\",IF(BK55=BM55,\"△\"))))","v":"△"},null,null,{"$f":"IF(BN55=\"\",\"\",IF(BN55>BP55,\"○\",IF(BN55<BP55,\"●\",IF(BN55=BP55,\"△\"))))","v":"●"},null,{"$f":"COUNTIF(BH54:BP54,\"○\")","v":0},{"$f":"COUNTIF(BH54:BP54,\"△\")+COUNTIF(BH54:BP54,\"▲\")","v":1},{"$f":"COUNTIF(BH54:BP54,\"●\")","v":1},{"$f":"SUM(BH55,BK55,BN55)","v":1},{"$f":"SUM(BJ55,BM55,BP55)","v":4},{"$f":"(BQ54*3)+(BR54*1)","v":1},{"$f":"RANK(BV54,$BV$54:$BV$59)","v":3},"位",{"$f":"BT54-BU54","v":-3},null,{"$f":"RANK(BY54,$BY$54:$BY$59)","v":3},"位",2]
[null,"得失点",null,null,null,null,{"$f":"F16","v":0},"-",{"$f":"J16","v":3},{"$f":"J24","v":3},"-",{"$f":"F24","v":2},null,null,null,null,null,null,null,null,null,null,null,null,null,null,null,null,null,"得失点",null,null,null,null,{"$f":"AH16","v":0},"-",{"$f":"AL16","v":1},{"$f":"AL24","v":3},"-",{"$f":"AH24","v":1},null,null,null,null,null,null,null,null,null,null,null,null,null,null,null,null,null,"得失点",null,null,null,null,{"$f":"BJ16","v":0},"-",{"$f":"BN16","v":0},{"$f":"BN20","v":1},"-",{"$f":"BJ20","v":4}]
[{"$f":"J7","v":"ドリームキッズフットボールクラブ"},"星取表",null,null,{"$f":"IF(D57=\"\",\"\",IF(D57>F57,\"○\",IF(D57<F57,\"●\",IF(D57=F57,\"△\"))))","v":"○"},null,null,null,null,null,{"$f":"IF(J57=\"\",\"\",IF(J57>L57,\"○\",IF(J57<L57,\"●\",IF(J57=L57,\"△\"))))","v":"○"},null,{"$f":"COUNTIF(D56:L56,\"○\")","v":2},{"$f":"COUNTIF(D56:L56,\"△\")+COUNTIF(D56:L56,\"▲\")","v":0},{"$f":"COUNTIF(D56:L56,\"●\")","v":0},{"$f":"SUM(D57,G57,J57)","v":7},{"$f":"SUM(F57,I57,L57)","v":0},{"$f":"(M56*3)+(N56*1)","v":6},{"$f":"RANK(R56,$R$54:$R$59)","v":1},"位",{"$f":"P56-Q56","v":7},null,{"$f":"RANK(U56,$U$54:$V$59)","v":1},"位",1,null,null,null,{"$f":"AL7","v":"ＫＩＮＧＳ　ＦＯＯＴＢＡＬＬＣＬＵＢ　Ｕ－１２"},"星取表",null,null,{"$f":"IF(AF57=\"\",\"\",IF(AF57>AH57,\"○\",IF(AF57<AH57,\"●\",IF(AF57=AH57,\"△\"))))","v":"○"},null,null,null,null,null,{"$f":"IF(AL57=\"\",\"\",IF(AL57>AN57,\"○\",IF(AL57<AN57,\"●\",IF(AL57=AN57,\"△\"))))","v":"△"},null,{"$f":"COUNTIF(AF56:AN56,\"○\")","v":1},{"$f":"COUNTIF(AF56:AN56,\"△\")+COUNTIF(AF56:AN56,\"▲\")","v":1},{"$f":"COUNTIF(AF56:AN56,\"●\")","v":0},{"$f":"SUM(AF57,AI57,AL57)","v":2},{"$f":"SUM(AH57,AK57,AN57)","v":1},{"$f":"(AO56*3)+(AP56*1)","v":4},{"$f":"RANK(AT56,$AT$54:$AT$59)","v":1},"位",{"$f":"AR56-AS56","v":1},null,{"$f":"RANK(AW56,$AW$54:$AW$59)","v":1},"位",1,null,null,null,{"$f":"BN7","v":"明野東サッカースポーツ少年団"},"星取表",null,null,{"$f":"IF(BH57=\"\",\"\",IF(BH57>BJ57,\"○\",IF(BH57<BJ57,\"●\",IF(BH57=BJ57,\"△\"))))","v":"△"},null,null,null,null,null,{"$f":"IF(BN57=\"\",\"\",IF(BN57>BP57,\"○\",IF(BN57<BP57,\"●\",IF(BN57=BP57,\"△\"))))","v":"△"},null,{"$f":"COUNTIF(BH56:BP56,\"○\")","v":0},{"$f":"COUNTIF(BH56:BP56,\"△\")+COUNTIF(BH56:BP56,\"▲\")","v":2},{"$f":"COUNTIF(BH56:BP56,\"●\")","v":0},{"$f":"SUM(BH57,BK57,BN57)","v":0},{"$f":"SUM(BJ57,BM57,BP57)","v":0},{"$f":"(BQ56*3)+(BR56*1)","v":2},{"$f":"RANK(BV56,$BV$54:$BV$59)","v":2},"位",{"$f":"BT56-BU56","v":0},null,{"$f":"RANK(BY56,$BY$54:$BY$59)","v":2},"位","出場\n辞退"]
[null,"得失点",null,{"$f":"I55","v":3},"-",{"$f":"G55","v":0},null,null,null,{"$f":"F20","v":4},"-",{"$f":"J20","v":0},null,null,null,null,null,null,null,null,null,null,null,null,null,null,null,null,null,"得失点",null,{"$f":"AK55","v":1},"-",{"$f":"AI55","v":0},null,null,null,{"$f":"AH20","v":1},"-",{"$f":"AL20","v":1},null,null,null,null,null,null,null,null,null,null,null,null,null,null,null,null,null,"得失点",null,{"$f":"BM55","v":0},"-",{"$f":"BK55","v":0},null,null,null,{"$f":"BJ24","v":0},"-",{"$f":"BN24","v":0}]
[{"$f":"J8","v":"玖珠サッカースポーツ少年団"},"星取表",null,null,{"$f":"IF(D59=\"\",\"\",IF(D59>F59,\"○\",IF(D59<F59,\"●\",IF(D59=F59,\"△\"))))","v":"●"},null,null,{"$f":"IF(G59=\"\",\"\",IF(G59>I59,\"○\",IF(G59<I59,\"●\",IF(G59=I59,\"△\"))))","v":"●"},null,null,null,null,{"$f":"COUNTIF(D58:L58,\"○\")","v":0},{"$f":"COUNTIF(D58:L58,\"△\")+COUNTIF(D58:L58,\"▲\")","v":0},{"$f":"COUNTIF(D58:L58,\"●\")","v":2},{"$f":"SUM(D59,G59,J59)","v":2},{"$f":"SUM(F59,I59,L59)","v":7},{"$f":"(M58*3)+(N58*1)","v":0},{"$f":"RANK(R58,$R$54:$R$59)","v":3},"位",{"$f":"P58-Q58","v":-5},null,{"$f":"RANK(U58,$U$54:$V$59)","v":3},"位",3,null,null,null,{"$f":"AL8","v":"西の台ＪＦＣ"},"星取表",null,null,{"$f":"IF(AF59=\"\",\"\",IF(AF59>AH59,\"○\",IF(AF59<AH59,\"●\",IF(AF59=AH59,\"△\"))))","v":"●"},null,null,{"$f":"IF(AI59=\"\",\"\",IF(AI59>AK59,\"○\",IF(AI59<AK59,\"●\",IF(AI59=AK59,\"△\"))))","v":"△"},null,null,null,null,{"$f":"COUNTIF(AF58:AN58,\"○\")","v":0},{"$f":"COUNTIF(AF58:AN58,\"△\")+COUNTIF(AF58:AN58,\"▲\")","v":1},{"$f":"COUNTIF(AF58:AN58,\"●\")","v":1},{"$f":"SUM(AF59,AI59,AL59)","v":2},{"$f":"SUM(AH59,AK59,AN59)","v":4},{"$f":"(AO58*3)+(AP58*1)","v":1},{"$f":"RANK(AT58,$AT$54:$AT$59)","v":3},"位",{"$f":"AR58-AS58","v":-2},null,{"$f":"RANK(AW58,$AW$54:$AW$59)","v":3},"位",3,null,null,null,{"$f":"BN8","v":"豊府サッカースポーツ少年団"},"星取表",null,null,{"$f":"IF(BH59=\"\",\"\",IF(BH59>BJ59,\"○\",IF(BH59<BJ59,\"●\",IF(BH59=BJ59,\"△\"))))","v":"○"},null,null,{"$f":"IF(BK59=\"\",\"\",IF(BK59>BM59,\"○\",IF(BK59<BM59,\"●\",IF(BK59=BM59,\"△\"))))","v":"△"},null,null,null,null,{"$f":"COUNTIF(BH58:BP58,\"○\")","v":1},{"$f":"COUNTIF(BH58:BP58,\"△\")+COUNTIF(BH58:BP58,\"▲\")","v":1},{"$f":"COUNTIF(BH58:BP58,\"●\")","v":0},{"$f":"SUM(BH59,BK59,BN59)","v":4},{"$f":"SUM(BJ59,BM59,BP59)","v":1},{"$f":"(BQ58*3)+(BR58*1)","v":4},{"$f":"RANK(BV58,$BV$54:$BV$59)","v":1},"位",{"$f":"BT58-BU58","v":3},null,{"$f":"RANK(BY58,$BY$54:$BY$59)","v":1},"位",1]
[null,"得失点",null,{"$f":"L55","v":2},"-",{"$f":"J55","v":3},{"$f":"L57","v":0},"-",{"$f":"J57","v":4},null,null,null,null,null,null,null,null,null,null,null,null,null,null,null,null,null,null,null,null,"得失点",null,{"$f":"AN55","v":1},"-",{"$f":"AL55","v":3},{"$f":"AN57","v":1},"-",{"$f":"AL57","v":1},null,null,null,null,null,null,null,null,null,null,null,null,null,null,null,null,null,null,null,null,"得失点",null,{"$f":"BP55","v":4},"-",{"$f":"BN55","v":1},{"$f":"BP57","v":0},"-",{"$f":"BN57","v":0}]
[]
[{"$f":"P4","v":"B"},null,null,{"$f":"A62","v":"ＦＣアリアーレ"},null,null,{"$f":"A64","v":"大道サッカースポーツ少年団"},null,null,{"$f":"A66","v":"スマイス・セレソンＢ"},null,null,"勝","引\n分","敗","得\n点","失\n点","勝\n点","勝点\n順位",null,"得失\n点差",null,"得失\n順位",null,"ﾄｰﾀﾙ\n順位",null,null,null,{"$f":"AR4","v":"C"},null,null,{"$f":"AC62","v":"ＦＣ大野"},null,null,{"$f":"AC64","v":"Ｍ．Ｓ．Ｓ"},null,null,{"$f":"AC66","v":"ＦＣ　ＪＵＮＩＯＲＳ"},null,null,"勝","引\n分","敗","得\n点","失\n点","勝\n点","勝点\n順位",null,"得失\n点差",null,"得失\n順位",null,"ﾄｰﾀﾙ\n順位",null,null,null,{"$f":"BT4","v":"D"},null,null,{"$f":"BE62","v":"ＦＣ中津ジュニア"},null,null,{"$f":"BE64","v":"明治北ＳＳＣ"},null,null,{"$f":"BE66","v":"スマイス日出"},null,null,"勝","引\n分","敗","得\n点","失\n点","勝\n点","勝点\n順位",null,"得失\n点差",null,"得失\n順位",null,"ﾄｰﾀﾙ\n順位"]
[{"$f":"P6","v":"ＦＣアリアーレ"},"星取表",null,null,null,null,null,{"$f":"IF(G63=\"\",\"\",IF(G63>I63,\"○\",IF(G63<I63,\"●\",IF(G63=I63,\"△\"))))","v":"○"},null,null,{"$f":"IF(J63=\"\",\"\",IF(J63>L63,\"○\",IF(J63<L63,\"●\",IF(J63=L63,\"△\"))))","v":"○"},null,{"$f":"COUNTIF(D62:L62,\"○\")","v":2},{"$f":"COUNTIF(D62:L62,\"△\")+COUNTIF(D62:L62,\"▲\")","v":0},{"$f":"COUNTIF(D62:L62,\"●\")","v":0},{"$f":"SUM(D63,G63,J63)","v":8},{"$f":"SUM(F63,I63,L63)","v":0},{"$f":"(M62*3)+(N62*1)","v":6},{"$f":"RANK(R62,$R$62:$R$67)","v":1},"位",{"$f":"P62-Q62","v":8},null,{"$f":"RANK(U62,$U$62:$V$67)","v":1},"位",1,null,null,null,{"$f":"AR6","v":"ＦＣ大野"},"星取表",null,null,null,null,null,{"$f":"IF(AI63=\"\",\"\",IF(AI63>AK63,\"○\",IF(AI63<AK63,\"●\",IF(AI63=AK63,\"△\"))))","v":"○"},null,null,{"$f":"IF(AL63=\"\",\"\",IF(AL63>AN63,\"○\",IF(AL63<AN63,\"●\",IF(AL63=AN63,\"△\"))))","v":"○"},null,{"$f":"COUNTIF(AF62:AN62,\"○\")","v":2},{"$f":"COUNTIF(AF62:AN62,\"△\")+COUNTIF(AF62:AN62,\"▲\")","v":0},{"$f":"COUNTIF(AF62:AN62,\"●\")","v":0},{"$f":"SUM(AF63,AI63,AL63)","v":3},{"$f":"SUM(AH63,AK63,AN63)","v":1},{"$f":"(AO62*3)+(AP62*1)","v":6},{"$f":"RANK(AT62,$AT$62:$AT$67)","v":1},"位",{"$f":"AR62-AS62","v":2},null,{"$f":"RANK(AW62,$AW$62:$AW$67)","v":1},"位",1,null,null,null,{"$f":"BT6","v":"ＦＣ中津ジュニア"},"星取表",null,null,null,null,null,{"$f":"IF(BK63=\"\",\"\",IF(BK63>BM63,\"○\",IF(BK63<BM63,\"●\",IF(BK63=BM63,\"△\"))))","v":"●"},null,null,{"$f":"IF(BN63=\"\",\"\",IF(BN63>BP63,\"○\",IF(BN63<BP63,\"●\",IF(BN63=BP63,\"△\"))))","v":"○"},null,{"$f":"COUNTIF(BH62:BP62,\"○\")","v":1},{"$f":"COUNTIF(BH62:BP62,\"△\")+COUNTIF(BH62:BP62,\"▲\")","v":0},{"$f":"COUNTIF(BH62:BP62,\"●\")","v":1},{"$f":"SUM(BH63,BK63,BN63)","v":13},{"$f":"SUM(BJ63,BM63,BP63)","v":2},{"$f":"(BQ62*3)+(BR62*1)","v":3},{"$f":"RANK(BV62,$BV$62:$BV$67)","v":2},"位",{"$f":"BT62-BU62","v":11},null,{"$f":"RANK(BY62,$BY$62:$BY$67)","v":1},"位",2]
[null,"得失点",null,null,null,null,{"$f":"R14","v":6},"-",{"$f":"V14","v":0},{"$f":"V22","v":2},"-",{"$f":"R22","v":0},null,null,null,null,null,null,null,null,null,null,null,null,null,null,null,null,null,"得失点",null,null,null,null,{"$f":"AT14","v":2},"-",{"$f":"AX14","v":1},{"$f":"AX22","v":1},"-",{"$f":"AT22","v":0},null,null,null,null,null,null,null,null,null,null,null,null,null,null,null,null,null,"得失点",null,null,null,null,{"$f":"BV14","v":1},"-",{"$f":"BZ14","v":2},{"$f":"BZ22","v":12},"-",{"$f":"BV22","v":0}]
[{"$f":"P7","v":"大道サッカースポーツ少年団"},"星取表",null,null,{"$f":"IF(D65=\"\",\"\",IF(D65>F65,\"○\",IF(D65<F65,\"●\",IF(D65=F65,\"△\"))))","v":"●"},null,null,null,null,null,{"$f":"IF(J65=\"\",\"\",IF(J65>L65,\"○\",IF(J65<L65,\"●\",IF(J65=L65,\"△\"))))","v":"●"},null,{"$f":"COUNTIF(D64:L64,\"○\")","v":0},{"$f":"COUNTIF(D64:L64,\"△\")+COUNTIF(D64:L64,\"▲\")","v":0},{"$f":"COUNTIF(D64:L64,\"●\")","v":2},{"$f":"SUM(D65,G65,J65)","v":0},{"$f":"SUM(F65,I65,L65)","v":10},{"$f":"(M64*3)+(N64*1)","v":0},{"$f":"RANK(R64,$R$62:$R$67)","v":3},"位",{"$f":"P64-Q64","v":-10},null,{"$f":"RANK(U64,$U$62:$V$67)","v":3},"位",3,null,null,null,{"$f":"AR7","v":"Ｍ．Ｓ．Ｓ"},"星取表",null,null,{"$f":"IF(AF65=\"\",\"\",IF(AF65>AH65,\"○\",IF(AF65<AH65,\"●\",IF(AF65=AH65,\"△\"))))","v":"●"},null,null,null,null,null,{"$f":"IF(AL65=\"\",\"\",IF(AL65>AN65,\"○\",IF(AL65<AN65,\"●\",IF(AL65=AN65,\"△\"))))","v":"●"},null,{"$f":"COUNTIF(AF64:AN64,\"○\")","v":0},{"$f":"COUNTIF(AF64:AN64,\"△\")+COUNTIF(AF64:AN64,\"▲\")","v":0},{"$f":"COUNTIF(AF64:AN64,\"●\")","v":2},{"$f":"SUM(AF65,AI65,AL65)","v":1},{"$f":"SUM(AH65,AK65,AN65)","v":3},{"$f":"(AO64*3)+(AP64*1)","v":0},{"$f":"RANK(AT64,$AT$62:$AT$67)","v":3},"位",{"$f":"AR64-AS64","v":-2},null,{"$f":"RANK(AW64,$AW$62:$AW$67)","v":3},"位",3,null,null,null,{"$f":"BT7","v":"明治北ＳＳＣ"},"星取表",null,null,{"$f":"IF(BH65=\"\",\"\",IF(BH65>BJ65,\"○\",IF(BH65<BJ65,\"●\",IF(BH65=BJ65,\"△\"))))","v":"○"},null,null,null,null,null,{"$f":"IF(BN65=\"\",\"\",IF(BN65>BP65,\"○\",IF(BN65<BP65,\"●\",IF(BN65=BP65,\"△\"))))","v":"○"},null,{"$f":"COUNTIF(BH64:BP64,\"○\")","v":2},{"$f":"COUNTIF(BH64:BP64,\"△\")+COUNTIF(BH64:BP64,\"▲\")","v":0},{"$f":"COUNTIF(BH64:BP64,\"●\")","v":0},{"$f":"SUM(BH65,BK65,BN65)","v":8},{"$f":"SUM(BJ65,BM65,BP65)","v":2},{"$f":"(BQ64*3)+(BR64*1)","v":6},{"$f":"RANK(BV64,$BV$62:$BV$67)","v":1},"位",{"$f":"BT64-BU64","v":6},null,{"$f":"RANK(BY64,$BY$62:$BY$67)","v":2},"位",1]
[null,"得失点",null,{"$f":"I63","v":0},"-",{"$f":"G63","v":6},null,null,null,{"$f":"R18","v":0},"-",{"$f":"V18","v":4},null,null,null,null,null,null,null,null,null,null,null,null,null,null,null,null,null,"得失点",null,{"$f":"AK63","v":1},"-",{"$f":"AI63","v":2},null,null,null,{"$f":"AT18","v":0},"-",{"$f":"AX18","v":1},null,null,null,null,null,null,null,null,null,null,null,null,null,null,null,null,null,"得失点",null,{"$f":"BM63","v":2},"-",{"$f":"BK63","v":1},null,null,null,{"$f":"BV18","v":6},"-",{"$f":"BZ18","v":1}]
[{"$f":"P8","v":"スマイス・セレソンＢ"},"星取表",null,null,{"$f":"IF(D67=\"\",\"\",IF(D67>F67,\"○\",IF(D67<F67,\"●\",IF(D67=F67,\"△\"))))","v":"●"},null,null,{"$f":"IF(G67=\"\",\"\",IF(G67>I67,\"○\",IF(G67<I67,\"●\",IF(G67=I67,\"△\"))))","v":"○"},null,null,null,null,{"$f":"COUNTIF(D66:L66,\"○\")","v":1},{"$f":"COUNTIF(D66:L66,\"△\")+COUNTIF(D66:L66,\"▲\")","v":0},{"$f":"COUNTIF(D66:L66,\"●\")","v":1},{"$f":"SUM(D67,G67,J67)","v":4},{"$f":"SUM(F67,I67,L67)","v":2},{"$f":"(M66*3)+(N66*1)","v":3},{"$f":"RANK(R66,$R$62:$R$67)","v":2},"位",{"$f":"P66-Q66","v":2},null,{"$f":"RANK(U66,$U$62:$V$67)","v":2},"位",2,null,null,null,{"$f":"AR8","v":"ＦＣ　ＪＵＮＩＯＲＳ"},"星取表",null,null,{"$f":"IF(AF67=\"\",\"\",IF(AF67>AH67,\"○\",IF(AF67<AH67,\"●\",IF(AF67=AH67,\"△\"))))","v":"●"},null,null,{"$f":"IF(AI67=\"\",\"\",IF(AI67>AK67,\"○\",IF(AI67<AK67,\"●\",IF(AI67=AK67,\"△\"))))","v":"○"},null,null,null,null,{"$f":"COUNTIF(AF66:AN66,\"○\")","v":1},{"$f":"COUNTIF(AF66:AN66,\"△\")+COUNTIF(AF66:AN66,\"▲\")","v":0},{"$f":"COUNTIF(AF66:AN66,\"●\")","v":1},{"$f":"SUM(AF67,AI67,AL67)","v":1},{"$f":"SUM(AH67,AK67,AN67)","v":1},{"$f":"(AO66*3)+(AP66*1)","v":3},{"$f":"RANK(AT66,$AT$62:$AT$67)","v":2},"位",{"$f":"AR66-AS66","v":0},null,{"$f":"RANK(AW66,$AW$62:$AW$67)","v":2},"位",2,null,null,null,{"$f":"BT8","v":"スマイス日出"},"星取表",null,null,{"$f":"IF(BH67=\"\",\"\",IF(BH67>BJ67,\"○\",IF(BH67<BJ67,\"●\",IF(BH67=BJ67,\"△\"))))","v":"●"},null,null,{"$f":"IF(BK67=\"\",\"\",IF(BK67>BM67,\"○\",IF(BK67<BM67,\"●\",IF(BK67=BM67,\"△\"))))","v":"●"},null,null,null,null,{"$f":"COUNTIF(BH66:BP66,\"○\")","v":0},{"$f":"COUNTIF(BH66:BP66,\"△\")+COUNTIF(BH66:BP66,\"▲\")","v":0},{"$f":"COUNTIF(BH66:BP66,\"●\")","v":2},{"$f":"SUM(BH67,BK67,BN67)","v":1},{"$f":"SUM(BJ67,BM67,BP67)","v":18},{"$f":"(BQ66*3)+(BR66*1)","v":0},{"$f":"RANK(BV66,$BV$62:$BV$67)","v":3},"位",{"$f":"BT66-BU66","v":-17},null,{"$f":"RANK(BY66,$BY$62:$BY$67)","v":3},"位",3]
[null,"得失点",null,{"$f":"L63","v":0},"-",{"$f":"J63","v":2},{"$f":"L65","v":4},"-",{"$f":"J65","v":0},null,null,null,null,null,null,null,null,null,null,null,null,null,null,null,null,null,null,null,null,"得失点",null,{"$f":"AN63","v":0},"-",{"$f":"AL63","v":1},{"$f":"AN65","v":1},"-",{"$f":"AL65","v":0},null,null,null,null,null,null,null,null,null,null,null,null,null,null,null,null,null,null,null,null,"得失点",null,{"$f":"BP63","v":0},"-",{"$f":"BN63","v":12},{"$f":"BP65","v":1},"-",{"$f":"BN65","v":6}]
[]
[{"$f":"V4","v":"K"},null,null,{"$f":"A70","v":"太陽スポーツクラブ大分西"},null,null,{"$f":"A72","v":"スマイス　セレソン　スポーツクラブ"},null,null,{"$f":"A74","v":"判田サッカースポーツ少年団"},null,null,"勝","引\n分","敗","得\n点","失\n点","勝\n点","勝点\n順位",null,"得失\n点差",null,"得失\n順位",null,"ﾄｰﾀﾙ\n順位",null,null,null,{"$f":"AX4","v":"G"},null,null,{"$f":"AC70","v":"四日市南ＳＳＣ"},null,null,{"$f":"AC72","v":"大分トリニータＵ－１２"},null,null,{"$f":"AC74","v":"鶴見少年サッカークラブ"},null,null,"勝","引\n分","敗","得\n点","失\n点","勝\n点","勝点\n順位",null,"得失\n点差",null,"得失\n順位",null,"ﾄｰﾀﾙ\n順位",null,null,null,{"$f":"BZ4","v":"H"},null,null,{"$f":"BE70","v":"はやぶさフットボールクラブ"},null,null,{"$f":"BE72","v":"リノスフットボールクラブ　Ｕ－１２"},null,null,{"$f":"BE74","v":"北郡坂ノ市サッカースポーツ少年団"},null,null,"勝","引\n分","敗","得\n点","失\n点","勝\n点","勝点\n順位",null,"得失\n点差",null,"得失\n順位",null,"ﾄｰﾀﾙ\n順位"]
[{"$f":"V6","v":"太陽スポーツクラブ大分西"},"星取表",null,null,null,null,null,{"$f":"IF(G71=\"\",\"\",IF(G71>I71,\"○\",IF(G71<I71,\"●\",IF(G71=I71,\"△\"))))","v":"△"},null,null,{"$f":"IF(J71=\"\",\"\",IF(J71>L71,\"○\",IF(J71<L71,\"●\",IF(J71=L71,\"△\"))))","v":"●"},null,{"$f":"COUNTIF(D70:L70,\"○\")","v":0},{"$f":"COUNTIF(D70:L70,\"△\")+COUNTIF(D70:L70,\"▲\")","v":1},{"$f":"COUNTIF(D70:L70,\"●\")","v":1},{"$f":"SUM(D71,G71,J71)","v":2},{"$f":"SUM(F71,I71,L71)","v":3},{"$f":"(M70*3)+(N70*1)","v":1},{"$f":"RANK(R70,$R$70:$R$75)","v":3},"位",{"$f":"P70-Q70","v":-1},null,{"$f":"RANK(U70,$U$70:$V$75)","v":2},"位",3,null,null,null,{"$f":"AX6","v":"四日市南ＳＳＣ"},"星取表",null,null,null,null,null,{"$f":"IF(AI71=\"\",\"\",IF(AI71>AK71,\"○\",IF(AI71<AK71,\"●\",IF(AI71=AK71,\"△\"))))","v":"●"},null,null,{"$f":"IF(AL71=\"\",\"\",IF(AL71>AN71,\"○\",IF(AL71<AN71,\"●\",IF(AL71=AN71,\"△\"))))","v":"○"},null,{"$f":"COUNTIF(AF70:AN70,\"○\")","v":1},{"$f":"COUNTIF(AF70:AN70,\"△\")+COUNTIF(AF70:AN70,\"▲\")","v":0},{"$f":"COUNTIF(AF70:AN70,\"●\")","v":1},{"$f":"SUM(AF71,AI71,AL71)","v":2},{"$f":"SUM(AH71,AK71,AN71)","v":7},{"$f":"(AO70*3)+(AP70*1)","v":3},{"$f":"RANK(AT70,$AT$70:$AT$75)","v":2},"位",{"$f":"AR70-AS70","v":-5},null,{"$f":"RANK(AW70,$AW$70:$AW$75)","v":2},"位",2,null,null,null,{"$f":"BZ6","v":"はやぶさフットボールクラブ"},"星取表",null,null,null,null,null,{"$f":"IF(BK71=\"\",\"\",IF(BK71>BM71,\"○\",IF(BK71<BM71,\"●\",IF(BK71=BM71,\"△\"))))","v":"△"},null,null,{"$f":"IF(BN71=\"\",\"\",IF(BN71>BP71,\"○\",IF(BN71<BP71,\"●\",IF(BN71=BP71,\"△\"))))","v":"○"},null,{"$f":"COUNTIF(BH70:BP70,\"○\")","v":1},{"$f":"COUNTIF(BH70:BP70,\"△\")+COUNTIF(BH70:BP70,\"▲\")","v":1},{"$f":"COUNTIF(BH70:BP70,\"●\")","v":0},{"$f":"SUM(BH71,BK71,BN71)","v":1},{"$f":"SUM(BJ71,BM71,BP71)","v":0},{"$f":"(BQ70*3)+(BR70*1)","v":4},{"$f":"RANK(BV70,$BV$70:$BV$75)","v":1},"位",{"$f":"BT70-BU70","v":1},null,{"$f":"RANK(BY70,$BY$70:$BY$75)","v":1},"位",1]
[null,"得失点",null,null,null,null,{"$f":"R16","v":1},"-",{"$f":"V16","v":1},{"$f":"V24","v":1},"-",{"$f":"R24","v":2},null,null,null,null,null,null,null,null,null,null,null,null,null,null,null,null,null,"得失点",null,null,null,null,{"$f":"AT16","v":1},"-",{"$f":"AX16","v":7},{"$f":"AX24","v":1},"-",{"$f":"AT24","v":0},null,null,null,null,null,null,null,null,null,null,null,null,null,null,null,null,null,"得失点",null,null,null,null,{"$f":"BV16","v":0},"-",{"$f":"BZ16","v":0},{"$f":"BZ20","v":1},"-",{"$f":"BV20","v":0}]
[{"$f":"V7","v":"スマイス　セレソン　スポーツクラブ"},"星取表",null,null,{"$f":"IF(D73=\"\",\"\",IF(D73>F73,\"○\",IF(D73<F73,\"●\",IF(D73=F73,\"△\"))))","v":"△"},null,null,null,null,null,{"$f":"IF(J73=\"\",\"\",IF(J73>L73,\"○\",IF(J73<L73,\"●\",IF(J73=L73,\"△\"))))","v":"○"},null,{"$f":"COUNTIF(D72:L72,\"○\")","v":1},{"$f":"COUNTIF(D72:L72,\"△\")+COUNTIF(D72:L72,\"▲\")","v":1},{"$f":"COUNTIF(D72:L72,\"●\")","v":0},{"$f":"SUM(D73,G73,J73)","v":5},{"$f":"SUM(F73,I73,L73)","v":2},{"$f":"(M72*3)+(N72*1)","v":4},{"$f":"RANK(R72,$R$70:$R$75)","v":1},"位",{"$f":"P72-Q72","v":3},null,{"$f":"RANK(U72,$U$70:$V$75)","v":1},"位",1,null,null,null,{"$f":"AX7","v":"大分トリニータＵ－１２"},"星取表",null,null,{"$f":"IF(AF73=\"\",\"\",IF(AF73>AH73,\"○\",IF(AF73<AH73,\"●\",IF(AF73=AH73,\"△\"))))","v":"○"},null,null,null,null,null,{"$f":"IF(AL73=\"\",\"\",IF(AL73>AN73,\"○\",IF(AL73<AN73,\"●\",IF(AL73=AN73,\"△\"))))","v":"○"},null,{"$f":"COUNTIF(AF72:AN72,\"○\")","v":2},{"$f":"COUNTIF(AF72:AN72,\"△\")+COUNTIF(AF72:AN72,\"▲\")","v":0},{"$f":"COUNTIF(AF72:AN72,\"●\")","v":0},{"$f":"SUM(AF73,AI73,AL73)","v":14},{"$f":"SUM(AH73,AK73,AN73)","v":2},{"$f":"(AO72*3)+(AP72*1)","v":6},{"$f":"RANK(AT72,$AT$70:$AT$75)","v":1},"位",{"$f":"AR72-AS72","v":12},null,{"$f":"RANK(AW72,$AW$70:$AW$75)","v":1},"位",1,null,null,null,{"$f":"BZ7","v":"リノスフットボールクラブ　Ｕ－１２"},"星取表",null,null,{"$f":"IF(BH73=\"\",\"\",IF(BH73>BJ73,\"○\",IF(BH73<BJ73,\"●\",IF(BH73=BJ73,\"△\"))))","v":"△"},null,null,null,null,null,{"$f":"IF(BN73=\"\",\"\",IF(BN73>BP73,\"○\",IF(BN73<BP73,\"●\",IF(BN73=BP73,\"△\"))))","v":"△"},null,{"$f":"COUNTIF(BH72:BP72,\"○\")","v":0},{"$f":"COUNTIF(BH72:BP72,\"△\")+COUNTIF(BH72:BP72,\"▲\")","v":2},{"$f":"COUNTIF(BH72:BP72,\"●\")","v":0},{"$f":"SUM(BH73,BK73,BN73)","v":0},{"$f":"SUM(BJ73,BM73,BP73)","v":0},{"$f":"(BQ72*3)+(BR72*1)","v":2},{"$f":"RANK(BV72,$BV$70:$BV$75)","v":2},"位",{"$f":"BT72-BU72","v":0},null,{"$f":"RANK(BY72,$BY$70:$BY$75)","v":2},"位","出場\n辞退"]
[null,"得失点",null,{"$f":"I71","v":1},"-",{"$f":"G71","v":1},null,null,null,{"$f":"R20","v":4},"-",{"$f":"V20","v":1},null,null,null,null,null,null,null,null,null,null,null,null,null,null,null,null,null,"得失点",null,{"$f":"AK71","v":7},"-",{"$f":"AI71","v":1},null,null,null,{"$f":"AT20","v":7},"-",{"$f":"AX20","v":1},null,null,null,null,null,null,null,null,null,null,null,null,null,null,null,null,null,"得失点",null,{"$f":"BM71","v":0},"-",{"$f":"BK71","v":0},null,null,null,{"$f":"BV24","v":0},"-",{"$f":"BZ24","v":0}]
[{"$f":"V8","v":"判田サッカースポーツ少年団"},"星取表",null,null,{"$f":"IF(D75=\"\",\"\",IF(D75>F75,\"○\",IF(D75<F75,\"●\",IF(D75=F75,\"△\"))))","v":"○"},null,null,{"$f":"IF(G75=\"\",\"\",IF(G75>I75,\"○\",IF(G75<I75,\"●\",IF(G75=I75,\"△\"))))","v":"●"},null,null,null,null,{"$f":"COUNTIF(D74:L74,\"○\")","v":1},{"$f":"COUNTIF(D74:L74,\"△\")+COUNTIF(D74:L74,\"▲\")","v":0},{"$f":"COUNTIF(D74:L74,\"●\")","v":1},{"$f":"SUM(D75,G75,J75)","v":3},{"$f":"SUM(F75,I75,L75)","v":5},{"$f":"(M74*3)+(N74*1)","v":3},{"$f":"RANK(R74,$R$70:$R$75)","v":2},"位",{"$f":"P74-Q74","v":-2},null,{"$f":"RANK(U74,$U$70:$V$75)","v":3},"位",2,null,null,null,{"$f":"AX8","v":"鶴見少年サッカークラブ"},"星取表",null,null,{"$f":"IF(AF75=\"\",\"\",IF(AF75>AH75,\"○\",IF(AF75<AH75,\"●\",IF(AF75=AH75,\"△\"))))","v":"●"},null,null,{"$f":"IF(AI75=\"\",\"\",IF(AI75>AK75,\"○\",IF(AI75<AK75,\"●\",IF(AI75=AK75,\"△\"))))","v":"●"},null,null,null,null,{"$f":"COUNTIF(AF74:AN74,\"○\")","v":0},{"$f":"COUNTIF(AF74:AN74,\"△\")+COUNTIF(AF74:AN74,\"▲\")","v":0},{"$f":"COUNTIF(AF74:AN74,\"●\")","v":2},{"$f":"SUM(AF75,AI75,AL75)","v":1},{"$f":"SUM(AH75,AK75,AN75)","v":8},{"$f":"(AO74*3)+(AP74*1)","v":0},{"$f":"RANK(AT74,$AT$70:$AT$75)","v":3},"位",{"$f":"AR74-AS74","v":-7},null,{"$f":"RANK(AW74,$AW$70:$AW$75)","v":3},"位",3,null,null,null,{"$f":"BZ8","v":"北郡坂ノ市サッカースポーツ少年団"},"星取表",null,null,{"$f":"IF(BH75=\"\",\"\",IF(BH75>BJ75,\"○\",IF(BH75<BJ75,\"●\",IF(BH75=BJ75,\"△\"))))","v":"●"},null,null,{"$f":"IF(BK75=\"\",\"\",IF(BK75>BM75,\"○\",IF(BK75<BM75,\"●\",IF(BK75=BM75,\"△\"))))","v":"△"},null,null,null,null,{"$f":"COUNTIF(BH74:BP74,\"○\")","v":0},{"$f":"COUNTIF(BH74:BP74,\"△\")+COUNTIF(BH74:BP74,\"▲\")","v":1},{"$f":"COUNTIF(BH74:BP74,\"●\")","v":1},{"$f":"SUM(BH75,BK75,BN75)","v":0},{"$f":"SUM(BJ75,BM75,BP75)","v":1},{"$f":"(BQ74*3)+(BR74*1)","v":1},{"$f":"RANK(BV74,$BV$70:$BV$75)","v":3},"位",{"$f":"BT74-BU74","v":-1},null,{"$f":"RANK(BY74,$BY$70:$BY$75)","v":3},"位",2]
[null,"得失点",null,{"$f":"L71","v":2},"-",{"$f":"J71","v":1},{"$f":"L73","v":1},"-",{"$f":"J73","v":4},null,null,null,null,null,null,null,null,null,null,null,null,null,null,null,null,null,null,null,null,"得失点",null,{"$f":"AN71","v":0},"-",{"$f":"AL71","v":1},{"$f":"AN73","v":1},"-",{"$f":"AL73","v":7},null,null,null,null,null,null,null,null,null,null,null,null,null,null,null,null,null,null,null,null,"得失点",null,{"$f":"BP71","v":0},"-",{"$f":"BN71","v":1},{"$f":"BP73","v":0},"-",{"$f":"BN73","v":0}]

{"sheet":"２次リーグ（佐伯）","index":14,"n_rows":100,"n_cols":67,"rows_kept":100,"cut":false,"hidden":false,"merged":[[14,13,14,17],[14,18,14,20],[14,21,14,22],[15,13,15,17],[15,18,15,20],[15,21,15,22],[16,13,16,17],[16,18,16,20],[16,21,16,22],[14,1,14,5],[14,6,14,8],[14,9,14,10],[15,1,15,5],[15,6,15,8],[15,9,15,10],[16,1,16,5],[16,6,16,8],[16,9,16,10],[32,1,32,5],[32,6,32,8],[32,9,32,10],[33,1,33,5],[33,6,33,8],[33,9,33,10],[34,1,34,5],[34,6,34,8],[34,9,34,10],[52,18,52,20],[52,21,52,22],[32,13,32,17],[32,18,32,20],[32,21,32,22],[33,13,33,17],[33,18,33,20],[33,21,33,22],[34,13,34,17],[34,18,34,20],[34,21,34,22],[50,1,50,5],[50,6,50,8],[50,9,50,10],[51,1,51,5],[51,6,51,8],[51,9,51,10],[52,1,52,5],[52,6,52,8],[52,9,52,10],[89,66,94,66],[89,54,94,55],[89,56,94,57],[89,58,94,59],[89,46,94,47],[91,36,92,37],[91,38,92,38],[91,39,92,40],[89,64,94,65],[89,60,94,61],[83,64,88,65],[83,58,88,59],[89,50,94,51],[89,52,94,53],[89,62,94,63],[93,34,94,35],[93,36,94,37],[93,38,94,38],[93,39,94,40],[87,34,88,35],[87,41,88,42],[83,48,88,49],[83,50,88,51],[83,60,88,61],[83,62,88,63],[83,52,88,53],[83,54,88,55],[83,56,88,57],[91,34,92,35],[89,31,90,35],[89,36,90,40],[93,31,94,32],[93,33,94,33],[71,46,76,47],[71,48,76,49],[71,50,76,51],[71,52,76,53],[71,54,76,55],[77,48,82,49],[77,50,82,51],[71,64,76,65],[81,41,82,42],[81,43,82,43],[77,66,82,66],[79,36,80,37],[79,38,80,38],[81,36,82,37],[81,38,82,38],[81,39,82,40],[79,39,80,40],[79,41,80,42],[79,43,80,43],[79,44,80,45],[14,54,19,55],[14,56,19,57],[32,66,37,66],[34,31,35,32],[34,33,35,33],[34,34,35,35],[34,36,35,37],[34,38,35,38],[34,39,35,40],[36,31,37,32],[36,33,37,33],[32,48,37,49],[32,60,37,61],[32,62,37,63],[32,64,37,65],[32,50,37,51],[32,52,37,53],[32,54,37,55],[32,56,37,57],[32,58,37,59],[14,58,19,59],[14,60,19,61],[14,62,19,63],[20,48,25,49],[0,60,0,66],[1,0,1,10],[1,12,1,22],[1,24,1,58],[0,9,0,10],[0,21,0,22],[24,41,25,42],[24,43,25,43],[24,44,25,45],[14,64,19,65],[14,66,19,66],[20,36,21,40],[20,41,21,45],[20,64,25,65],[20,66,25,66],[22,36,23,37],[22,38,23,38],[22,39,23,40],[14,36,19,40],[14,41,19,45],[14,46,19,47],[14,48,19,49],[14,50,19,51],[14,52,19,53],[3,3,3,10],[3,15,3,22],[3,24,3,26],[3,27,3,32],[3,34,3,48],[5,24,5,26],[6,41,6,44],[5,27,5,32],[0,0,0,8],[0,12,0,20],[0,24,0,58],[7,2,7,8],[7,9,7,10],[7,14,7,20],[7,21,7,22],[7,25,7,27],[7,28,7,40],[7,41,7,44],[6,2,6,8],[6,9,6,10],[6,14,6,20],[6,21,6,22],[6,25,6,27],[6,28,6,40],[8,41,8,44],[11,0,13,0],[11,1,13,1],[11,2,13,2],[11,3,13,3],[11,7,13,7],[11,8,13,8],[11,9,13,9],[11,12,13,12],[11,13,13,13],[11,14,13,14],[11,15,13,15],[11,19,13,19],[11,20,13,20],[11,21,13,21],[17,21,17,22],[14,24,19,27],[14,28,19,30],[14,31,19,35],[20,21,20,22],[8,2,8,8],[8,9,8,10],[8,14,8,20],[8,21,8,22],[8,25,8,27],[8,28,8,40],[18,4,18,5],[18,6,18,8],[18,9,18,10],[18,16,18,17],[18,18,18,20],[18,21,18,22],[19,4,19,5],[19,6,19,8],[19,9,19,10],[19,16,19,17],[19,18,19,20],[19,21,19,22],[20,4,20,5],[20,6,20,8],[20,9,20,10],[20,16,20,17],[20,18,20,20],[17,4,17,5],[17,6,17,8],[17,9,17,10],[17,16,17,17],[17,18,17,20],[20,24,25,28],[20,29,22,30],[20,31,25,35],[20,46,25,47],[22,41,23,42],[22,43,23,43],[22,44,23,45],[24,36,25,37],[24,38,25,38],[24,39,25,40],[20,50,25,51],[20,52,25,53],[20,54,25,55],[20,56,25,57],[20,58,25,59],[20,60,25,61],[20,62,25,63],[23,29,25,30],[26,24,31,28],[26,29,28,30],[26,36,31,40],[26,46,31,47],[28,31,29,32],[28,33,29,33],[28,34,29,35],[28,41,29,42],[30,31,31,32],[30,33,31,33],[26,31,27,35],[26,41,27,45],[28,44,29,45],[26,60,31,61],[26,62,31,63],[29,29,31,30],[83,66,88,66],[85,31,86,32],[85,33,86,33],[85,34,86,35],[39,24,40,57],[41,24,42,25],[41,26,42,26],[41,29,42,29],[41,32,42,32],[71,24,76,27],[71,28,76,30],[71,31,76,35],[71,36,76,40],[71,41,76,45],[63,25,64,27],[63,28,64,40],[71,56,76,57],[71,58,76,59],[71,60,76,61],[71,62,76,63],[71,66,76,66],[77,36,78,40],[77,41,78,45],[77,64,82,65],[77,24,82,28],[77,29,79,30],[77,31,82,35],[77,46,82,47],[29,0,31,0],[29,1,31,1],[29,2,31,2],[29,3,31,3],[29,7,31,7],[29,8,31,8],[29,9,31,9],[29,12,31,12],[29,13,31,13],[29,14,31,14],[29,15,31,15],[29,19,31,19],[29,20,31,20],[29,21,31,21],[47,24,48,58],[35,4,35,5],[35,6,35,8],[35,9,35,10],[36,4,36,5],[36,6,36,8],[47,60,48,66],[49,24,50,58],[41,35,42,35],[26,64,31,65],[26,66,31,66],[28,43,29,43],[47,20,49,20],[47,14,49,14],[47,15,49,15],[47,19,49,19],[47,21,49,21],[26,54,31,55],[26,56,31,57],[26,58,31,59],[30,34,31,35],[30,41,31,42],[30,43,31,43],[30,44,31,45],[26,48,31,49],[26,50,31,51],[26,52,31,53],[32,36,33,40],[36,34,37,35],[36,36,37,37],[56,18,56,20],[56,21,56,22],[32,24,37,28],[32,29,34,30],[32,41,37,45],[32,46,37,47],[32,31,33,35],[35,16,35,17],[35,18,35,20],[35,21,35,22],[53,18,53,20],[53,21,53,22],[35,29,37,30],[53,33,54,33],[53,34,54,48],[36,38,37,38],[36,39,37,40],[50,13,50,17],[50,18,50,20],[50,21,50,22],[51,13,51,17],[51,18,51,20],[51,21,51,22],[52,13,52,17],[36,9,36,10],[36,16,36,17],[36,18,36,20],[36,21,36,22],[37,4,37,5],[37,6,37,8],[37,9,37,10],[37,16,37,17],[37,18,37,20],[37,21,37,22],[38,4,38,5],[38,6,38,8],[38,9,38,10],[38,16,38,17],[38,18,38,20],[38,21,38,22],[77,58,82,59],[77,60,82,61],[77,62,82,63],[81,44,82,45],[55,4,55,5],[55,6,55,8],[55,9,55,10],[55,16,55,17],[55,18,55,20],[55,21,55,22],[56,4,56,5],[56,6,56,8],[56,9,56,10],[56,16,56,17],[53,4,53,5],[53,6,53,8],[53,9,53,10],[53,16,53,17],[83,24,88,28],[83,29,85,30],[83,36,88,40],[83,46,88,47],[85,41,86,42],[85,43,86,43],[85,44,86,45],[87,31,88,32],[86,29,88,30],[87,44,88,45],[87,43,88,43],[83,31,84,35],[83,41,84,45],[87,33,88,33],[47,0,49,0],[47,1,49,1],[47,2,49,2],[47,3,49,3],[47,7,49,7],[47,8,49,8],[47,9,49,9],[47,12,49,12],[47,13,49,13],[54,4,54,5],[54,6,54,8],[54,9,54,10],[54,16,54,17],[54,18,54,20],[54,21,54,22],[63,41,64,44],[98,24,99,25],[98,26,99,26],[98,29,99,29],[98,32,99,32],[96,24,97,57],[89,48,94,49],[92,29,94,30],[89,24,94,28],[89,29,91,30],[80,29,82,30],[77,52,82,53],[77,54,82,55],[77,56,82,57],[98,35,99,35],[89,41,94,45],[91,31,92,32],[91,33,92,33],[57,24,58,26],[57,27,58,32],[59,28,60,40],[61,28,62,40],[59,25,60,27],[61,25,62,27],[53,24,54,26],[53,27,54,32],[59,41,60,44],[61,41,62,44]]}
[{"$f":"抽選会資料!B1","v":"OFA 第 53 回大分県U-12サッカー大会　兼　KYFA 九州U-12サッカー大会大分県大会"},null,null,null,null,null,null,null,null,"２次リーグ結果　報告用紙",null,null,{"$f":"抽選会資料!B1","v":"OFA 第 53 回大分県U-12サッカー大会　兼　KYFA 九州U-12サッカー大会大分県大会"},null,null,null,null,null,null,null,null,"２次リーグ結果　報告用紙",null,null,{"$f":"$A$1","v":"OFA 第 53 回大分県U-12サッカー大会　兼　KYFA 九州U-12サッカー大会大分県大会"},null,null,null,null,null,null,null,null,null,null,null,null,null,null,null,null,null,null,null,null,null,null,null,null,null,null,null,null,null,null,null,null,null,null,null,{"$f":"$J$1","v":"２次リーグ結果　報告用紙"}]
["＜時間割＞　①10:00～　②11:00～　③12:00～　④13:00～　⑤14:00～　⑥15:00～",null,null,null,null,null,null,null,null,null,null,null,"＜時間割＞　①10:00～　②11:00～　③12:00～　④13:00～　⑤14:00～　⑥15:00～",null,null,null,null,null,null,null,null,null,null,null,"＜時間割＞　①10:00～　②11:00～　③12:00～　④13:00～　⑤14:00～　⑥15:00～"]
[]
["会場",{"$f":"組み合わせ!D6","v":"佐伯"},"⇒",{"$f":"VLOOKUP(B4,抽選会資料!$B$52:$F$60,2,FALSE)","v":"佐伯市総合運動公園多目的グラウンド(人工芝)"},null,null,null,null,null,null,null,null,"会場",{"$f":"組み合わせ!D6","v":"佐伯"},"⇒",{"$f":"VLOOKUP(N4,抽選会資料!$B$52:$F$60,2,FALSE)","v":"佐伯市総合運動公園多目的グラウンド(人工芝)"},null,null,null,null,null,null,null,null,"会場",null,null,{"$f":"$B$4","v":"佐伯"},null,null,null,null,null,"⇒",{"$f":"$D$4","v":"佐伯市総合運動公園多目的グラウンド(人工芝)"}]
[]
["パート",{"$f":"組み合わせ!H33","v":"2次リーグ　Aパート"},null,null,null,null,null,null,null,null,null,null,"パート",{"$f":"組み合わせ!CB33","v":"2次リーグ　Cパート"},null,null,null,null,null,null,null,null,null,null,"パート",null,null,{"$f":"$B$6","v":"2次リーグ　Aパート"}]
[null,{"$f":"組み合わせ!$H$36","v":"A"},{"$f":"組み合わせ!$L$36","v":"ブルーウイングフットボールクラブ"},null,null,null,null,null,null,{"$f":"HLOOKUP(C7,組み合わせ!$B$49:$EO$86,31,FALSE)","v":"大分"},null,null,null,{"$f":"組み合わせ!$CB$36","v":"G"},{"$f":"組み合わせ!$CF$36","v":"大分トリニータＵ－１２"},null,null,null,null,null,null,{"$f":"HLOOKUP(O7,組み合わせ!$B$49:$EO$86,31,FALSE)","v":"大分"},null,null,null,{"$f":"+B7","v":"A"},null,null,{"$f":"$C$7","v":"ブルーウイングフットボールクラブ"},null,null,null,null,null,null,null,null,null,null,null,null,{"$f":"$J$7","v":"大分"}]
[null,{"$f":"組み合わせ!$H$38","v":"B"},{"$f":"組み合わせ!$L$38","v":"ＦＣアリアーレ"},null,null,null,null,null,null,{"$f":"HLOOKUP(C8,組み合わせ!$B$49:$EO$86,31,FALSE)","v":"日田・玖珠"},null,null,null,{"$f":"組み合わせ!$CB$38","v":"H"},{"$f":"組み合わせ!$CF$38","v":"はやぶさフットボールクラブ"},null,null,null,null,null,null,{"$f":"HLOOKUP(O8,組み合わせ!$B$49:$EO$86,31,FALSE)","v":"中津"},null,null,null,{"$f":"+B8","v":"B"},null,null,{"$f":"$C$8","v":"ＦＣアリアーレ"},null,null,null,null,null,null,null,null,null,null,null,null,{"$f":"$J$8","v":"日田・玖珠"}]
[null,{"$f":"組み合わせ!$H$40","v":"C"},{"$f":"組み合わせ!$L$40","v":"ＦＣ大野"},null,null,null,null,null,null,{"$f":"HLOOKUP(C9,組み合わせ!$B$49:$EO$86,31,FALSE)","v":"豊肥"},null,null,null,{"$f":"組み合わせ!$CB$40","v":"I"},{"$f":"組み合わせ!$CF$40","v":"ドリームキッズフットボールクラブ"},null,null,null,null,null,null,{"$f":"HLOOKUP(O9,組み合わせ!$B$49:$EO$86,31,FALSE)","v":"大分"},null,null,null,{"$f":"+B9","v":"C"},null,null,{"$f":"$C$9","v":"ＦＣ大野"},null,null,null,null,null,null,null,null,null,null,null,null,{"$f":"$J$9","v":"豊肥"}]
["8：50～ＭＣＭ",null,null,null,null,null,null,null,null,null,null,null,"9：50～ＭＣＭ"]
[]
["①\n10:00～",{"$f":"C7","v":"ブルーウイングフットボールクラブ"},{"$f":"IF(E12=\"\",\"\",SUM(E12:E13))","v":3},"（",2,"前半",3,"）",{"$f":"IF(G12=\"\",\"\",SUM(G12:G13))","v":3},{"$f":"C8","v":"ＦＣアリアーレ"},null,null,"②\n11:00～",{"$f":"O7","v":"大分トリニータＵ－１２"},{"$f":"IF(Q12=\"\",\"\",SUM(Q12:Q13))","v":8},"（",3,"前半",0,"）",{"$f":"IF(S12=\"\",\"\",SUM(S12:S13))","v":0},{"$f":"O8","v":"はやぶさフットボールクラブ"}]
[null,null,null,null,1,"後半",0,null,null,null,null,null,null,null,null,null,5,"後半",0]
[null,null,null,null,null,"PK",null,null,null,null,null,null,null,null,null,null,null,"PK"]
["MC","久保田　英樹",null,null,null,null,"所属協会",null,null,"佐伯市サッカー協会",null,null,"MC","戸髙　博秋",null,null,null,null,"所属協会",null,null,"佐伯市サッカー協会",null,null,{"$f":"$Y$6","v":"パート"},null,null,null,{"$f":"$AB$6","v":"2次リーグ　Aパート"},null,null,{"$f":"$Y$21","v":"ブルーウイングフットボールクラブ"},null,null,null,null,{"$f":"$Y$27","v":"ＦＣアリアーレ"},null,null,null,null,{"$f":"$Y$33","v":"ＦＣ大野"},null,null,null,null,"勝",null,"PK\n勝",null,"PK\n負",null,"負",null,"得点",null,"失点",null,"勝点",null,"勝点\n順位",null,"得失\n点差",null,"得失\n順位",null,"総\n順位"]
["WelfareOfficer","市原　宗久",null,null,null,null,"所属協会",null,null,"佐伯市サッカー協会",null,null,"WelfareOfficer","大友　拓郎",null,null,null,null,"所属協会",null,null,"佐伯市サッカー協会"]
["記録","平川　諒",null,null,null,null,"所属協会",null,null,"佐伯市サッカー協会",null,null,"記録","管　拓哉",null,null,null,null,"所属協会",null,null,"佐伯市サッカー協会"]
["R:",{"$f":"IF(ISERROR(VLOOKUP(G18,審判員!$A:$C,2,FALSE))=TRUE,\"\",VLOOKUP(G18,審判員!$A:$C,2,FALSE))","v":"清家　大介"},{"$f":"IF(ISERROR(VLOOKUP(G18,審判員!$A:$C,3,FALSE))=TRUE,\"\",VLOOKUP(G18,審判員!$A:$C,3,FALSE))","v":3},"級","資格番号",null,"R010027823",null,null,"本部",null,null,"R:",{"$f":"IF(ISERROR(VLOOKUP(S18,審判員!$A:$C,2,FALSE))=TRUE,\"\",VLOOKUP(S18,審判員!$A:$C,2,FALSE))","v":"三原　隼人"},{"$f":"IF(ISERROR(VLOOKUP(S18,審判員!$A:$C,3,FALSE))=TRUE,\"\",VLOOKUP(S18,審判員!$A:$C,3,FALSE))","v":3},"級","資格番号",null,"R004793764",null,null,"本部"]
["AR1:",{"$f":"IF(ISERROR(VLOOKUP(G19,審判員!$A:$C,2,FALSE))=TRUE,\"\",VLOOKUP(G19,審判員!$A:$C,2,FALSE))","v":"小川　翔太"},{"$f":"IF(ISERROR(VLOOKUP(G19,審判員!$A:$C,3,FALSE))=TRUE,\"\",VLOOKUP(G19,審判員!$A:$C,3,FALSE))","v":3},"級","資格番号",null,"R007075261",null,null,{"$f":"N12","v":"大分トリニータＵ－１２"},null,null,"AR1:",{"$f":"IF(ISERROR(VLOOKUP(S19,審判員!$A:$C,2,FALSE))=TRUE,\"\",VLOOKUP(S19,審判員!$A:$C,2,FALSE))","v":"堤　晴菜"},{"$f":"IF(ISERROR(VLOOKUP(S19,審判員!$A:$C,3,FALSE))=TRUE,\"\",VLOOKUP(S19,審判員!$A:$C,3,FALSE))","v":3},"級","資格番号",null,"R010214478",null,null,{"$f":"B12","v":"ブルーウイングフットボールクラブ"}]
["AR2:",{"$f":"IF(ISERROR(VLOOKUP(G20,審判員!$A:$C,2,FALSE))=TRUE,\"\",VLOOKUP(G20,審判員!$A:$C,2,FALSE))","v":"高畑　徳治郎"},{"$f":"IF(ISERROR(VLOOKUP(G20,審判員!$A:$C,3,FALSE))=TRUE,\"\",VLOOKUP(G20,審判員!$A:$C,3,FALSE))","v":3},"級","資格番号",null,"R001263846",null,null,{"$f":"V12","v":"はやぶさフットボールクラブ"},null,null,"AR2:",{"$f":"IF(ISERROR(VLOOKUP(S20,審判員!$A:$C,2,FALSE))=TRUE,\"\",VLOOKUP(S20,審判員!$A:$C,2,FALSE))","v":"川井　勇介"},{"$f":"IF(ISERROR(VLOOKUP(S20,審判員!$A:$C,3,FALSE))=TRUE,\"\",VLOOKUP(S20,審判員!$A:$C,3,FALSE))","v":3},"級","資格番号",null,"R001255616",null,null,{"$f":"J12","v":"ＦＣアリアーレ"}]
["4th:",{"$f":"IF(ISERROR(VLOOKUP(G21,審判員!$A:$C,2,FALSE))=TRUE,\"\",VLOOKUP(G21,審判員!$A:$C,2,FALSE))","v":"秋元　貴生"},{"$f":"IF(ISERROR(VLOOKUP(G21,審判員!$A:$C,3,FALSE))=TRUE,\"\",VLOOKUP(G21,審判員!$A:$C,3,FALSE))","v":3},"級","資格番号",null,"R001253007",null,null,"本部",null,null,"4th:",{"$f":"IF(ISERROR(VLOOKUP(S21,審判員!$A:$C,2,FALSE))=TRUE,\"\",VLOOKUP(S21,審判員!$A:$C,2,FALSE))","v":"白江　直樹"},{"$f":"IF(ISERROR(VLOOKUP(S21,審判員!$A:$C,3,FALSE))=TRUE,\"\",VLOOKUP(S21,審判員!$A:$C,3,FALSE))","v":3},"級","資格番号",null,"R009554780",null,null,"本部",null,null,{"$f":"$AC$7","v":"ブルーウイングフットボールクラブ"},null,null,null,null,"星取表",null,null,null,null,null,null,{"$f":"IF(AK25=\"\",\"\",IF(AK25>AN25,\"○\",IF(AK25<AN25,\"●\",IF(AK23>AN23,\"△\",IF(AK23<AN23,\"▲\")))))","v":false},null,null,null,null,{"$f":"IF(AP25=\"\",\"\",IF(AP25>AS25,\"○\",IF(AP25<AS25,\"●\",IF(AP23>AS23,\"△\",IF(AP23<AS23,\"▲\")))))","v":"○"},null,null,null,null,{"$f":"COUNTIF($AF$21:$AT$22,\"○\")","v":1},null,{"$f":"COUNTIF($AF$21:$AT$22,\"△\")","v":0},null,{"$f":"COUNTIF($AF$21:$AT$22,\"▲\")","v":0},null,{"$f":"COUNTIF($AF$21:$AT$22,\"●\")","v":0},null,{"$f":"SUM($AK$25,$AP$25)","v":8},null,{"$f":"SUM($AN$25,$AS$25)","v":5},null,{"$f":"($AU$21*3)+($AW$21*2)+($AY$21*1)","v":3},null,{"$f":"RANK($BG$21,$BG$21:$BH$38)","v":1},null,{"$f":"$BC$21-$BE$21","v":3},null,{"$f":"RANK($BK$21,$BK$21:$BL$38)","v":1}]
["警告/退場","氏名","背番号","分","内容",null,"内容","分","背番号","氏名","警告/退場",null,"警告/退場","氏名","背番号","分","内容",null,"内容","分","背番号","氏名","警告/退場"]
[null,{"$f":"IF(ISERROR(VLOOKUP(CONCATENATE($B$12,\"_\",C23),選手名簿!$A:$E,5,FALSE))=TRUE,\"\",VLOOKUP(CONCATENATE($B$12,\"_\",C23),選手名簿!$A:$E,5,FALSE))","v":""},null,null,null,null,null,null,null,{"$f":"IF(ISERROR(VLOOKUP(CONCATENATE($J$12,\"_\",I23),選手名簿!$A:$E,5,FALSE))=TRUE,\"\",VLOOKUP(CONCATENATE($J$12,\"_\",I23),選手名簿!$A:$E,5,FALSE))","v":""},null,null,null,{"$f":"IF(ISERROR(VLOOKUP(CONCATENATE($N$12,\"_\",O23),選手名簿!$A:$E,5,FALSE))=TRUE,\"\",VLOOKUP(CONCATENATE($N$12,\"_\",O23),選手名簿!$A:$E,5,FALSE))","v":""},null,null,null,null,null,null,null,{"$f":"IF(ISERROR(VLOOKUP(CONCATENATE($V$12,\"_\",U23),選手名簿!$A:$E,5,FALSE))=TRUE,\"\",VLOOKUP(CONCATENATE($V$12,\"_\",U23),選手名簿!$A:$E,5,FALSE))","v":""},null,null,null,null,null,null,null,null,null,null,null,null,null,null,{"$f":"IF($E$14=\"\",\"\",$E$14)","v":""},null,"―",{"$f":"IF($G$14=\"\",\"\",$G$14)","v":""},null,{"$f":"IF($G$50=\"\",\"\",$G$50)","v":""},null,"―",{"$f":"IF($E$50=\"\",\"\",$E$50)","v":""}]
[null,{"$f":"IF(ISERROR(VLOOKUP(CONCATENATE($B$12,\"_\",C24),選手名簿!$A:$E,5,FALSE))=TRUE,\"\",VLOOKUP(CONCATENATE($B$12,\"_\",C24),選手名簿!$A:$E,5,FALSE))","v":""},null,null,null,null,null,null,null,{"$f":"IF(ISERROR(VLOOKUP(CONCATENATE($J$12,\"_\",I24),選手名簿!$A:$E,5,FALSE))=TRUE,\"\",VLOOKUP(CONCATENATE($J$12,\"_\",I24),選手名簿!$A:$E,5,FALSE))","v":""},null,null,null,{"$f":"IF(ISERROR(VLOOKUP(CONCATENATE($N$12,\"_\",O24),選手名簿!$A:$E,5,FALSE))=TRUE,\"\",VLOOKUP(CONCATENATE($N$12,\"_\",O24),選手名簿!$A:$E,5,FALSE))","v":""},null,null,null,null,null,null,null,{"$f":"IF(ISERROR(VLOOKUP(CONCATENATE($V$12,\"_\",U24),選手名簿!$A:$E,5,FALSE))=TRUE,\"\",VLOOKUP(CONCATENATE($V$12,\"_\",U24),選手名簿!$A:$E,5,FALSE))","v":""},null,null,null,null,null,null,null,"得失点"]
[null,{"$f":"IF(ISERROR(VLOOKUP(CONCATENATE($B$12,\"_\",C25),選手名簿!$A:$E,5,FALSE))=TRUE,\"\",VLOOKUP(CONCATENATE($B$12,\"_\",C25),選手名簿!$A:$E,5,FALSE))","v":""},null,null,null,null,null,null,null,{"$f":"IF(ISERROR(VLOOKUP(CONCATENATE($J$12,\"_\",I25),選手名簿!$A:$E,5,FALSE))=TRUE,\"\",VLOOKUP(CONCATENATE($J$12,\"_\",I25),選手名簿!$A:$E,5,FALSE))","v":""},null,null,null,{"$f":"IF(ISERROR(VLOOKUP(CONCATENATE($N$12,\"_\",O25),選手名簿!$A:$E,5,FALSE))=TRUE,\"\",VLOOKUP(CONCATENATE($N$12,\"_\",O25),選手名簿!$A:$E,5,FALSE))","v":""},null,null,null,null,null,null,null,{"$f":"IF(ISERROR(VLOOKUP(CONCATENATE($V$12,\"_\",U25),選手名簿!$A:$E,5,FALSE))=TRUE,\"\",VLOOKUP(CONCATENATE($V$12,\"_\",U25),選手名簿!$A:$E,5,FALSE))","v":""},null,null,null,null,null,null,null,null,null,null,null,null,null,null,{"$f":"$C$12","v":3},null,"―",{"$f":"$I$12","v":3},null,{"$f":"$I$48","v":5},null,"―",{"$f":"$C$48","v":2}]
[null,{"$f":"IF(ISERROR(VLOOKUP(CONCATENATE($B$12,\"_\",C26),選手名簿!$A:$E,5,FALSE))=TRUE,\"\",VLOOKUP(CONCATENATE($B$12,\"_\",C26),選手名簿!$A:$E,5,FALSE))","v":""},null,null,null,null,null,null,null,{"$f":"IF(ISERROR(VLOOKUP(CONCATENATE($J$12,\"_\",I26),選手名簿!$A:$E,5,FALSE))=TRUE,\"\",VLOOKUP(CONCATENATE($J$12,\"_\",I26),選手名簿!$A:$E,5,FALSE))","v":""},null,null,null,{"$f":"IF(ISERROR(VLOOKUP(CONCATENATE($N$12,\"_\",O26),選手名簿!$A:$E,5,FALSE))=TRUE,\"\",VLOOKUP(CONCATENATE($N$12,\"_\",O26),選手名簿!$A:$E,5,FALSE))","v":""},null,null,null,null,null,null,null,{"$f":"IF(ISERROR(VLOOKUP(CONCATENATE($V$12,\"_\",U26),選手名簿!$A:$E,5,FALSE))=TRUE,\"\",VLOOKUP(CONCATENATE($V$12,\"_\",U26),選手名簿!$A:$E,5,FALSE))","v":""}]
[null,{"$f":"IF(ISERROR(VLOOKUP(CONCATENATE($B$12,\"_\",C27),選手名簿!$A:$E,5,FALSE))=TRUE,\"\",VLOOKUP(CONCATENATE($B$12,\"_\",C27),選手名簿!$A:$E,5,FALSE))","v":""},null,null,null,null,null,null,null,{"$f":"IF(ISERROR(VLOOKUP(CONCATENATE($J$12,\"_\",I27),選手名簿!$A:$E,5,FALSE))=TRUE,\"\",VLOOKUP(CONCATENATE($J$12,\"_\",I27),選手名簿!$A:$E,5,FALSE))","v":""},null,null,null,{"$f":"IF(ISERROR(VLOOKUP(CONCATENATE($N$12,\"_\",O27),選手名簿!$A:$E,5,FALSE))=TRUE,\"\",VLOOKUP(CONCATENATE($N$12,\"_\",O27),選手名簿!$A:$E,5,FALSE))","v":""},null,null,null,null,null,null,null,{"$f":"IF(ISERROR(VLOOKUP(CONCATENATE($V$12,\"_\",U27),選手名簿!$A:$E,5,FALSE))=TRUE,\"\",VLOOKUP(CONCATENATE($V$12,\"_\",U27),選手名簿!$A:$E,5,FALSE))","v":""},null,null,{"$f":"$AC$8","v":"ＦＣアリアーレ"},null,null,null,null,"星取表",null,{"$f":"IF(AF31=\"\",\"\",IF(AF31>AI31,\"○\",IF(AF31<AI31,\"●\",IF(AF29>AI29,\"△\",IF(AF29<AI29,\"▲\")))))","v":false},null,null,null,null,null,null,null,null,null,{"$f":"IF(AP31=\"\",\"\",IF(AP31>AS31,\"○\",IF(AP31<AS31,\"●\",IF(AP29>AS29,\"△\",IF(AP29<AS29,\"▲\")))))","v":"○"},null,null,null,null,{"$f":"COUNTIF($AF$27:$AT$28,\"○\")","v":1},null,{"$f":"COUNTIF($AF$27:$AT$28,\"△\")","v":0},null,{"$f":"COUNTIF($AF$27:$AT$28,\"▲\")","v":0},null,{"$f":"COUNTIF($AF$27:$AT$28,\"●\")","v":0},null,{"$f":"SUM($AF$31,$AP$31)","v":6},null,{"$f":"SUM($AI$31,$AS$31)","v":4},null,{"$f":"($AU$27*3)+($AW$27*2)+($AY$27*1)","v":3},null,{"$f":"RANK($BG$27,$BG$21:$BH$38)","v":1},null,{"$f":"$BC$27-$BE$27","v":2},null,{"$f":"RANK($BK$27,$BK$21:$BL$38)","v":2}]
[]
[null,null,null,null,null,null,null,null,null,null,null,null,null,null,null,null,null,null,null,null,null,null,null,null,null,null,null,null,null,null,null,{"$f":"AN23","v":""},null,"―",{"$f":"AK23","v":""},null,null,null,null,null,null,{"$f":"IF($E$32=\"\",\"\",$E$32)","v":""},null,"―",{"$f":"IF($G$32=\"\",\"\",$G$32)","v":""}]
["③\n12:00～",{"$f":"C8","v":"ＦＣアリアーレ"},{"$f":"IF(E30=\"\",\"\",SUM(E30:E31))","v":3},"（",0,"前半",1,"）",{"$f":"IF(G30=\"\",\"\",SUM(G30:G31))","v":1},{"$f":"C9","v":"ＦＣ大野"},null,null,"④\n13:00～",{"$f":"O8","v":"はやぶさフットボールクラブ"},{"$f":"IF(Q30=\"\",\"\",SUM(Q30:Q31))","v":0},"（",0,"前半",6,"）",{"$f":"IF(S30=\"\",\"\",SUM(S30:S31))","v":10},{"$f":"O9","v":"ドリームキッズフットボールクラブ"},null,null,null,null,null,null,null,"得失点"]
[null,null,null,null,3,"後半",0,null,null,null,null,null,null,null,null,null,0,"後半",4,null,null,null,null,null,null,null,null,null,null,null,null,{"$f":"AN25","v":3},null,"―",{"$f":"AK25","v":3},null,null,null,null,null,null,{"$f":"$C$30","v":3},null,"―",{"$f":"$I$30","v":1}]
[null,null,null,null,null,"PK",null,null,null,null,null,null,null,null,null,null,null,"PK"]
["MC","久保田　英樹",null,null,null,null,"所属協会",null,null,"佐伯市サッカー協会",null,null,"MC","戸髙　博秋",null,null,null,null,"所属協会",null,null,"佐伯市サッカー協会",null,null,{"$f":"$AC$9","v":"ＦＣ大野"},null,null,null,null,"星取表",null,{"$f":"IF(AF37=\"\",\"\",IF(AF37>AI37,\"○\",IF(AF37<AI37,\"●\",IF(AF35>AI35,\"△\",IF(AF35<AI35,\"▲\")))))","v":"●"},null,null,null,null,{"$f":"IF(AK37=\"\",\"\",IF(AK37>AN37,\"○\",IF(AK37<AN37,\"●\",IF(AK35>AN35,\"△\",IF(AK35<AN35,\"▲\")))))","v":"●"},null,null,null,null,null,null,null,null,null,{"$f":"COUNTIF($AF$33:$AT$34,\"○\")","v":0},null,{"$f":"COUNTIF($AF$33:$AT$34,\"△\")","v":0},null,{"$f":"COUNTIF($AF$33:$AT$34,\"▲\")","v":0},null,{"$f":"COUNTIF($AF$33:$AT$34,\"●\")","v":2},null,{"$f":"SUM($AF$37,$AK$37)","v":3},null,{"$f":"SUM($AI$37,$AN$37)","v":8},null,{"$f":"($AU$33*3)+($AW$33*2)+($AY$33*1)","v":0},null,{"$f":"RANK($BG$33,$BG$21:$BH$38)","v":3},null,{"$f":"$BC$33-$BE$33","v":-5},null,{"$f":"RANK($BK$33,$BK$21:$BL$38)","v":3}]
["WelfareOfficer","市原　宗久",null,null,null,null,"所属協会",null,null,"佐伯市サッカー協会",null,null,"WelfareOfficer","大友　拓郎",null,null,null,null,"所属協会",null,null,"佐伯市サッカー協会"]
["記録","平川　諒",null,null,null,null,"所属協会",null,null,"佐伯市サッカー協会",null,null,"記録","管　拓哉",null,null,null,null,"所属協会",null,null,"佐伯市サッカー協会",null,null,null,null,null,null,null,null,null,{"$f":"AS23","v":""},null,"―",{"$f":"AP23","v":""},null,{"$f":"AS29","v":""},null,"―",{"$f":"AP29","v":""}]
["R:",{"$f":"IF(ISERROR(VLOOKUP(G36,審判員!$A:$C,2,FALSE))=TRUE,\"\",VLOOKUP(G36,審判員!$A:$C,2,FALSE))","v":"五十川　文明"},{"$f":"IF(ISERROR(VLOOKUP(G36,審判員!$A:$C,3,FALSE))=TRUE,\"\",VLOOKUP(G36,審判員!$A:$C,3,FALSE))","v":3},"級","資格番号",null,"R003421338",null,null,"本部",null,null,"R:",{"$f":"IF(ISERROR(VLOOKUP(S36,審判員!$A:$C,2,FALSE))=TRUE,\"\",VLOOKUP(S36,審判員!$A:$C,2,FALSE))","v":"柴田　徹"},{"$f":"IF(ISERROR(VLOOKUP(S36,審判員!$A:$C,3,FALSE))=TRUE,\"\",VLOOKUP(S36,審判員!$A:$C,3,FALSE))","v":3},"級","資格番号",null,"R002938017",null,null,"本部",null,null,null,null,null,null,null,"得失点"]
["AR1:",{"$f":"IF(ISERROR(VLOOKUP(G37,審判員!$A:$C,2,FALSE))=TRUE,\"\",VLOOKUP(G37,審判員!$A:$C,2,FALSE))","v":"高畑　徳治郎"},{"$f":"IF(ISERROR(VLOOKUP(G37,審判員!$A:$C,3,FALSE))=TRUE,\"\",VLOOKUP(G37,審判員!$A:$C,3,FALSE))","v":3},"級","資格番号",null,"R001263846",null,null,{"$f":"N30","v":"はやぶさフットボールクラブ"},null,null,"AR1:",{"$f":"IF(ISERROR(VLOOKUP(S37,審判員!$A:$C,2,FALSE))=TRUE,\"\",VLOOKUP(S37,審判員!$A:$C,2,FALSE))","v":"川井　勇介"},{"$f":"IF(ISERROR(VLOOKUP(S37,審判員!$A:$C,3,FALSE))=TRUE,\"\",VLOOKUP(S37,審判員!$A:$C,3,FALSE))","v":3},"級","資格番号",null,"R001255616",null,null,{"$f":"B30","v":"ＦＣアリアーレ"},null,null,null,null,null,null,null,null,null,{"$f":"AS25","v":2},null,"―",{"$f":"AP25","v":5},null,{"$f":"AS31","v":1},null,"―",{"$f":"AP31","v":3}]
["AR2:",{"$f":"IF(ISERROR(VLOOKUP(G38,審判員!$A:$C,2,FALSE))=TRUE,\"\",VLOOKUP(G38,審判員!$A:$C,2,FALSE))","v":"酒井　祐三"},{"$f":"IF(ISERROR(VLOOKUP(G38,審判員!$A:$C,3,FALSE))=TRUE,\"\",VLOOKUP(G38,審判員!$A:$C,3,FALSE))","v":3},"級","資格番号",null,"R001263350",null,null,{"$f":"V30","v":"ドリームキッズフットボールクラブ"},null,null,"AR2:",{"$f":"IF(ISERROR(VLOOKUP(S38,審判員!$A:$C,2,FALSE))=TRUE,\"\",VLOOKUP(S38,審判員!$A:$C,2,FALSE))","v":"狭間　照央"},{"$f":"IF(ISERROR(VLOOKUP(S38,審判員!$A:$C,3,FALSE))=TRUE,\"\",VLOOKUP(S38,審判員!$A:$C,3,FALSE))","v":3},"級","資格番号",null,"R010027819",null,null,{"$f":"J30","v":"ＦＣ大野"}]
["4th:",{"$f":"IF(ISERROR(VLOOKUP(G39,審判員!$A:$C,2,FALSE))=TRUE,\"\",VLOOKUP(G39,審判員!$A:$C,2,FALSE))","v":"安藤　英明"},{"$f":"IF(ISERROR(VLOOKUP(G39,審判員!$A:$C,3,FALSE))=TRUE,\"\",VLOOKUP(G39,審判員!$A:$C,3,FALSE))","v":3},"級","資格番号",null,"R010064829",null,null,"本部",null,null,"4th:",{"$f":"IF(ISERROR(VLOOKUP(S39,審判員!$A:$C,2,FALSE))=TRUE,\"\",VLOOKUP(S39,審判員!$A:$C,2,FALSE))","v":"秋元　貴生"},{"$f":"IF(ISERROR(VLOOKUP(S39,審判員!$A:$C,3,FALSE))=TRUE,\"\",VLOOKUP(S39,審判員!$A:$C,3,FALSE))","v":3},"級","資格番号",null,"R001253007",null,null,"本部"]
["警告/退場","氏名","背番号","分","内容",null,"内容","分","背番号","氏名","警告/退場",null,"警告/退場","氏名","背番号","分","内容",null,"内容","分","背番号","氏名","警告/退場",null,"Ⅰ勝点（勝３点　ＰＫ勝２点　ＰＫ負１点　負０点）　Ⅱ当該チームの戦績　Ⅲ得失点差　Ⅳ多得点　Ⅴ抽選の順で順位を決定する。"]
[null,{"$f":"IF(ISERROR(VLOOKUP(CONCATENATE($B$30,\"_\",C41),選手名簿!$A:$E,5,FALSE))=TRUE,\"\",VLOOKUP(CONCATENATE($B$30,\"_\",C41),選手名簿!$A:$E,5,FALSE))","v":""},null,null,null,null,null,null,null,{"$f":"IF(ISERROR(VLOOKUP(CONCATENATE($J$30,\"_\",I41),選手名簿!$A:$E,5,FALSE))=TRUE,\"\",VLOOKUP(CONCATENATE($J$30,\"_\",I41),選手名簿!$A:$E,5,FALSE))","v":""},null,null,null,{"$f":"IF(ISERROR(VLOOKUP(CONCATENATE($N$30,\"_\",O41),選手名簿!$A:$E,5,FALSE))=TRUE,\"\",VLOOKUP(CONCATENATE($N$30,\"_\",O41),選手名簿!$A:$E,5,FALSE))","v":""},null,null,null,null,null,null,null,{"$f":"IF(ISERROR(VLOOKUP(CONCATENATE($V$30,\"_\",U41),選手名簿!$A:$E,5,FALSE))=TRUE,\"\",VLOOKUP(CONCATENATE($V$30,\"_\",U41),選手名簿!$A:$E,5,FALSE))","v":""}]
[null,{"$f":"IF(ISERROR(VLOOKUP(CONCATENATE($B$30,\"_\",C42),選手名簿!$A:$E,5,FALSE))=TRUE,\"\",VLOOKUP(CONCATENATE($B$30,\"_\",C42),選手名簿!$A:$E,5,FALSE))","v":""},null,null,null,null,null,null,null,{"$f":"IF(ISERROR(VLOOKUP(CONCATENATE($J$30,\"_\",I42),選手名簿!$A:$E,5,FALSE))=TRUE,\"\",VLOOKUP(CONCATENATE($J$30,\"_\",I42),選手名簿!$A:$E,5,FALSE))","v":""},null,null,null,{"$f":"IF(ISERROR(VLOOKUP(CONCATENATE($N$30,\"_\",O42),選手名簿!$A:$E,5,FALSE))=TRUE,\"\",VLOOKUP(CONCATENATE($N$30,\"_\",O42),選手名簿!$A:$E,5,FALSE))","v":""},null,null,null,null,null,null,null,{"$f":"IF(ISERROR(VLOOKUP(CONCATENATE($V$30,\"_\",U42),選手名簿!$A:$E,5,FALSE))=TRUE,\"\",VLOOKUP(CONCATENATE($V$30,\"_\",U42),選手名簿!$A:$E,5,FALSE))","v":""},null,null,"勝点表",null,"勝","○",null,"PK\n勝","△",null,"PK\n負","▲",null,"負","●"]
[null,{"$f":"IF(ISERROR(VLOOKUP(CONCATENATE($B$30,\"_\",C43),選手名簿!$A:$E,5,FALSE))=TRUE,\"\",VLOOKUP(CONCATENATE($B$30,\"_\",C43),選手名簿!$A:$E,5,FALSE))","v":""},null,null,null,null,null,null,null,{"$f":"IF(ISERROR(VLOOKUP(CONCATENATE($J$30,\"_\",I43),選手名簿!$A:$E,5,FALSE))=TRUE,\"\",VLOOKUP(CONCATENATE($J$30,\"_\",I43),選手名簿!$A:$E,5,FALSE))","v":""},null,null,null,{"$f":"IF(ISERROR(VLOOKUP(CONCATENATE($N$30,\"_\",O43),選手名簿!$A:$E,5,FALSE))=TRUE,\"\",VLOOKUP(CONCATENATE($N$30,\"_\",O43),選手名簿!$A:$E,5,FALSE))","v":""},null,null,null,null,null,null,null,{"$f":"IF(ISERROR(VLOOKUP(CONCATENATE($V$30,\"_\",U43),選手名簿!$A:$E,5,FALSE))=TRUE,\"\",VLOOKUP(CONCATENATE($V$30,\"_\",U43),選手名簿!$A:$E,5,FALSE))","v":""},null,null,null,null,null,3,null,null,2,null,null,1,null,null,0]
[null,{"$f":"IF(ISERROR(VLOOKUP(CONCATENATE($B$30,\"_\",C44),選手名簿!$A:$E,5,FALSE))=TRUE,\"\",VLOOKUP(CONCATENATE($B$30,\"_\",C44),選手名簿!$A:$E,5,FALSE))","v":""},null,null,null,null,null,null,null,{"$f":"IF(ISERROR(VLOOKUP(CONCATENATE($J$30,\"_\",I44),選手名簿!$A:$E,5,FALSE))=TRUE,\"\",VLOOKUP(CONCATENATE($J$30,\"_\",I44),選手名簿!$A:$E,5,FALSE))","v":""},null,null,null,{"$f":"IF(ISERROR(VLOOKUP(CONCATENATE($N$30,\"_\",O44),選手名簿!$A:$E,5,FALSE))=TRUE,\"\",VLOOKUP(CONCATENATE($N$30,\"_\",O44),選手名簿!$A:$E,5,FALSE))","v":""},null,null,null,null,null,null,null,{"$f":"IF(ISERROR(VLOOKUP(CONCATENATE($V$30,\"_\",U44),選手名簿!$A:$E,5,FALSE))=TRUE,\"\",VLOOKUP(CONCATENATE($V$30,\"_\",U44),選手名簿!$A:$E,5,FALSE))","v":""}]
[null,{"$f":"IF(ISERROR(VLOOKUP(CONCATENATE($B$30,\"_\",C45),選手名簿!$A:$E,5,FALSE))=TRUE,\"\",VLOOKUP(CONCATENATE($B$30,\"_\",C45),選手名簿!$A:$E,5,FALSE))","v":""},null,null,null,null,null,null,null,{"$f":"IF(ISERROR(VLOOKUP(CONCATENATE($J$30,\"_\",I45),選手名簿!$A:$E,5,FALSE))=TRUE,\"\",VLOOKUP(CONCATENATE($J$30,\"_\",I45),選手名簿!$A:$E,5,FALSE))","v":""},null,null,null,{"$f":"IF(ISERROR(VLOOKUP(CONCATENATE($N$30,\"_\",O45),選手名簿!$A:$E,5,FALSE))=TRUE,\"\",VLOOKUP(CONCATENATE($N$30,\"_\",O45),選手名簿!$A:$E,5,FALSE))","v":""},null,null,null,null,null,null,null,{"$f":"IF(ISERROR(VLOOKUP(CONCATENATE($V$30,\"_\",U45),選手名簿!$A:$E,5,FALSE))=TRUE,\"\",VLOOKUP(CONCATENATE($V$30,\"_\",U45),選手名簿!$A:$E,5,FALSE))","v":""}]
[]
[]
["⑤\n14:00～",{"$f":"C9","v":"ＦＣ大野"},{"$f":"IF(E48=\"\",\"\",SUM(E48:E49))","v":2},"（",1,"前半",3,"）",{"$f":"IF(G48=\"\",\"\",SUM(G48:G49))","v":5},{"$f":"C7","v":"ブルーウイングフットボールクラブ"},null,null,"⑥\n15:00～",{"$f":"O9","v":"ドリームキッズフットボールクラブ"},{"$f":"IF(Q48=\"\",\"\",SUM(Q48:Q49))","v":1},"（",1,"前半",2,"）",{"$f":"IF(S48=\"\",\"\",SUM(S48:S49))","v":4},{"$f":"O7","v":"大分トリニータＵ－１２"},null,null,{"$f":"$Y$1","v":"OFA 第 53 回大分県U-12サッカー大会　兼　KYFA 九州U-12サッカー大会大分県大会"},null,null,null,null,null,null,null,null,null,null,null,null,null,null,null,null,null,null,null,null,null,null,null,null,null,null,null,null,null,null,null,null,null,null,null,{"$f":"$BI$1","v":"２次リーグ結果　報告用紙"}]
[null,null,null,null,1,"後半",2,null,null,null,null,null,null,null,null,null,0,"後半",2]
[null,null,null,null,null,"PK",null,null,null,null,null,null,null,null,null,null,null,"PK",null,null,null,null,null,null,"＜時間割＞　①10:00～　②11:00～　③12:00～　④13:00～　⑤14:00～　⑥15:00～"]
["MC","久保田　英樹",null,null,null,null,"所属協会",null,null,"佐伯市サッカー協会",null,null,"MC","戸髙　博秋",null,null,null,null,"所属協会",null,null,"佐伯市サッカー協会"]
["WelfareOfficer","市原　宗久",null,null,null,null,"所属協会",null,null,"佐伯市サッカー協会",null,null,"WelfareOfficer","大友　拓郎",null,null,null,null,"所属協会",null,null,"佐伯市サッカー協会"]
["記録","平川　諒",null,null,null,null,"所属協会",null,null,"佐伯市サッカー協会",null,null,"記録","管　拓哉",null,null,null,null,"所属協会",null,null,"佐伯市サッカー協会"]
["R:",{"$f":"IF(ISERROR(VLOOKUP(G54,審判員!$A:$C,2,FALSE))=TRUE,\"\",VLOOKUP(G54,審判員!$A:$C,2,FALSE))","v":"清家　大介"},{"$f":"IF(ISERROR(VLOOKUP(G54,審判員!$A:$C,3,FALSE))=TRUE,\"\",VLOOKUP(G54,審判員!$A:$C,3,FALSE))","v":3},"級","資格番号",null,"R010027823",null,null,"本部",null,null,"R:",{"$f":"IF(ISERROR(VLOOKUP(S54,審判員!$A:$C,2,FALSE))=TRUE,\"\",VLOOKUP(S54,審判員!$A:$C,2,FALSE))","v":"白江　直樹"},{"$f":"IF(ISERROR(VLOOKUP(S54,審判員!$A:$C,3,FALSE))=TRUE,\"\",VLOOKUP(S54,審判員!$A:$C,3,FALSE))","v":3},"級","資格番号",null,"R009554780",null,null,"本部",null,null,"会場",null,null,{"$f":"$N$4","v":"佐伯"},null,null,null,null,null,"⇒",{"$f":"$P$4","v":"佐伯市総合運動公園多目的グラウンド(人工芝)"}]
["AR1:",{"$f":"IF(ISERROR(VLOOKUP(G55,審判員!$A:$C,2,FALSE))=TRUE,\"\",VLOOKUP(G55,審判員!$A:$C,2,FALSE))","v":"酒井　祐三"},{"$f":"IF(ISERROR(VLOOKUP(G55,審判員!$A:$C,3,FALSE))=TRUE,\"\",VLOOKUP(G55,審判員!$A:$C,3,FALSE))","v":3},"級","資格番号",null,"R001263350",null,null,{"$f":"N48","v":"ドリームキッズフットボールクラブ"},null,null,"AR1:",{"$f":"IF(ISERROR(VLOOKUP(S55,審判員!$A:$C,2,FALSE))=TRUE,\"\",VLOOKUP(S55,審判員!$A:$C,2,FALSE))","v":"狭間　照央"},{"$f":"IF(ISERROR(VLOOKUP(S55,審判員!$A:$C,3,FALSE))=TRUE,\"\",VLOOKUP(S55,審判員!$A:$C,3,FALSE))","v":3},"級","資格番号",null,"R010027819",null,null,{"$f":"B48","v":"ＦＣ大野"}]
["AR2:",{"$f":"IF(ISERROR(VLOOKUP(G56,審判員!$A:$C,2,FALSE))=TRUE,\"\",VLOOKUP(G56,審判員!$A:$C,2,FALSE))","v":"小川　翔太"},{"$f":"IF(ISERROR(VLOOKUP(G56,審判員!$A:$C,3,FALSE))=TRUE,\"\",VLOOKUP(G56,審判員!$A:$C,3,FALSE))","v":3},"級","資格番号",null,"R007075261",null,null,{"$f":"V48","v":"大分トリニータＵ－１２"},null,null,"AR2:",{"$f":"IF(ISERROR(VLOOKUP(S56,審判員!$A:$C,2,FALSE))=TRUE,\"\",VLOOKUP(S56,審判員!$A:$C,2,FALSE))","v":"堤　晴菜"},{"$f":"IF(ISERROR(VLOOKUP(S56,審判員!$A:$C,3,FALSE))=TRUE,\"\",VLOOKUP(S56,審判員!$A:$C,3,FALSE))","v":3},"級","資格番号",null,"R010214478",null,null,{"$f":"J48","v":"ブルーウイングフットボールクラブ"}]
["4th:",{"$f":"IF(ISERROR(VLOOKUP(G57,審判員!$A:$C,2,FALSE))=TRUE,\"\",VLOOKUP(G57,審判員!$A:$C,2,FALSE))","v":"三原　隼人"},{"$f":"IF(ISERROR(VLOOKUP(G57,審判員!$A:$C,3,FALSE))=TRUE,\"\",VLOOKUP(G57,審判員!$A:$C,3,FALSE))","v":3},"級","資格番号",null,"R004793764",null,null,"本部",null,null,"4th:",{"$f":"IF(ISERROR(VLOOKUP(S57,審判員!$A:$C,2,FALSE))=TRUE,\"\",VLOOKUP(S57,審判員!$A:$C,2,FALSE))","v":"安藤　英明"},{"$f":"IF(ISERROR(VLOOKUP(S57,審判員!$A:$C,3,FALSE))=TRUE,\"\",VLOOKUP(S57,審判員!$A:$C,3,FALSE))","v":3},"級","資格番号",null,"R010064829",null,null,"本部"]
["警告/退場","氏名","背番号","分","内容",null,"内容","分","背番号","氏名","警告/退場",null,"警告/退場","氏名","背番号","分","内容",null,"内容","分","背番号","氏名","警告/退場",null,"パート",null,null,{"$f":"$N$6","v":"2次リーグ　Cパート"}]
[null,{"$f":"IF(ISERROR(VLOOKUP(CONCATENATE($B$48,\"_\",C59),選手名簿!$A:$E,5,FALSE))=TRUE,\"\",VLOOKUP(CONCATENATE($B$48,\"_\",C59),選手名簿!$A:$E,5,FALSE))","v":""},null,null,null,null,null,null,null,{"$f":"IF(ISERROR(VLOOKUP(CONCATENATE($J$48,\"_\",I59),選手名簿!$A:$E,5,FALSE))=TRUE,\"\",VLOOKUP(CONCATENATE($J$48,\"_\",I59),選手名簿!$A:$E,5,FALSE))","v":""},null,null,null,{"$f":"IF(ISERROR(VLOOKUP(CONCATENATE($N$48,\"_\",O59),選手名簿!$A:$E,5,FALSE))=TRUE,\"\",VLOOKUP(CONCATENATE($N$48,\"_\",O59),選手名簿!$A:$E,5,FALSE))","v":""},null,null,null,null,null,null,null,{"$f":"IF(ISERROR(VLOOKUP(CONCATENATE($V$48,\"_\",U59),選手名簿!$A:$E,5,FALSE))=TRUE,\"\",VLOOKUP(CONCATENATE($V$48,\"_\",U59),選手名簿!$A:$E,5,FALSE))","v":""}]
[null,{"$f":"IF(ISERROR(VLOOKUP(CONCATENATE($B$48,\"_\",C60),選手名簿!$A:$E,5,FALSE))=TRUE,\"\",VLOOKUP(CONCATENATE($B$48,\"_\",C60),選手名簿!$A:$E,5,FALSE))","v":""},null,null,null,null,null,null,null,{"$f":"IF(ISERROR(VLOOKUP(CONCATENATE($J$48,\"_\",I60),選手名簿!$A:$E,5,FALSE))=TRUE,\"\",VLOOKUP(CONCATENATE($J$48,\"_\",I60),選手名簿!$A:$E,5,FALSE))","v":""},null,null,null,{"$f":"IF(ISERROR(VLOOKUP(CONCATENATE($N$48,\"_\",O60),選手名簿!$A:$E,5,FALSE))=TRUE,\"\",VLOOKUP(CONCATENATE($N$48,\"_\",O60),選手名簿!$A:$E,5,FALSE))","v":""},null,null,null,null,null,null,null,{"$f":"IF(ISERROR(VLOOKUP(CONCATENATE($V$48,\"_\",U60),選手名簿!$A:$E,5,FALSE))=TRUE,\"\",VLOOKUP(CONCATENATE($V$48,\"_\",U60),選手名簿!$A:$E,5,FALSE))","v":""},null,null,null,{"$f":"$N$7","v":"G"},null,null,{"$f":"$O$7","v":"大分トリニータＵ－１２"},null,null,null,null,null,null,null,null,null,null,null,null,{"$f":"$V$7","v":"大分"}]
[null,{"$f":"IF(ISERROR(VLOOKUP(CONCATENATE($B$48,\"_\",C61),選手名簿!$A:$E,5,FALSE))=TRUE,\"\",VLOOKUP(CONCATENATE($B$48,\"_\",C61),選手名簿!$A:$E,5,FALSE))","v":""},null,null,null,null,null,null,null,{"$f":"IF(ISERROR(VLOOKUP(CONCATENATE($J$48,\"_\",I61),選手名簿!$A:$E,5,FALSE))=TRUE,\"\",VLOOKUP(CONCATENATE($J$48,\"_\",I61),選手名簿!$A:$E,5,FALSE))","v":""},null,null,null,{"$f":"IF(ISERROR(VLOOKUP(CONCATENATE($N$48,\"_\",O61),選手名簿!$A:$E,5,FALSE))=TRUE,\"\",VLOOKUP(CONCATENATE($N$48,\"_\",O61),選手名簿!$A:$E,5,FALSE))","v":""},null,null,null,null,null,null,null,{"$f":"IF(ISERROR(VLOOKUP(CONCATENATE($V$48,\"_\",U61),選手名簿!$A:$E,5,FALSE))=TRUE,\"\",VLOOKUP(CONCATENATE($V$48,\"_\",U61),選手名簿!$A:$E,5,FALSE))","v":""}]
[null,{"$f":"IF(ISERROR(VLOOKUP(CONCATENATE($B$48,\"_\",C62),選手名簿!$A:$E,5,FALSE))=TRUE,\"\",VLOOKUP(CONCATENATE($B$48,\"_\",C62),選手名簿!$A:$E,5,FALSE))","v":""},null,null,null,null,null,null,null,{"$f":"IF(ISERROR(VLOOKUP(CONCATENATE($J$48,\"_\",I62),選手名簿!$A:$E,5,FALSE))=TRUE,\"\",VLOOKUP(CONCATENATE($J$48,\"_\",I62),選手名簿!$A:$E,5,FALSE))","v":""},null,null,null,{"$f":"IF(ISERROR(VLOOKUP(CONCATENATE($N$48,\"_\",O62),選手名簿!$A:$E,5,FALSE))=TRUE,\"\",VLOOKUP(CONCATENATE($N$48,\"_\",O62),選手名簿!$A:$E,5,FALSE))","v":""},null,null,null,null,null,null,null,{"$f":"IF(ISERROR(VLOOKUP(CONCATENATE($V$48,\"_\",U62),選手名簿!$A:$E,5,FALSE))=TRUE,\"\",VLOOKUP(CONCATENATE($V$48,\"_\",U62),選手名簿!$A:$E,5,FALSE))","v":""},null,null,null,{"$f":"$N$8","v":"H"},null,null,{"$f":"$O$8","v":"はやぶさフットボールクラブ"},null,null,null,null,null,null,null,null,null,null,null,null,{"$f":"$V$8","v":"中津"}]
[null,{"$f":"IF(ISERROR(VLOOKUP(CONCATENATE($B$48,\"_\",C63),選手名簿!$A:$E,5,FALSE))=TRUE,\"\",VLOOKUP(CONCATENATE($B$48,\"_\",C63),選手名簿!$A:$E,5,FALSE))","v":""},null,null,null,null,null,null,null,{"$f":"IF(ISERROR(VLOOKUP(CONCATENATE($J$48,\"_\",I63),選手名簿!$A:$E,5,FALSE))=TRUE,\"\",VLOOKUP(CONCATENATE($J$48,\"_\",I63),選手名簿!$A:$E,5,FALSE))","v":""},null,null,null,{"$f":"IF(ISERROR(VLOOKUP(CONCATENATE($N$48,\"_\",O63),選手名簿!$A:$E,5,FALSE))=TRUE,\"\",VLOOKUP(CONCATENATE($N$48,\"_\",O63),選手名簿!$A:$E,5,FALSE))","v":""},null,null,null,null,null,null,null,{"$f":"IF(ISERROR(VLOOKUP(CONCATENATE($V$48,\"_\",U63),選手名簿!$A:$E,5,FALSE))=TRUE,\"\",VLOOKUP(CONCATENATE($V$48,\"_\",U63),選手名簿!$A:$E,5,FALSE))","v":""}]
[null,null,null,null,null,null,null,null,null,null,null,null,null,null,null,null,null,null,null,null,null,null,null,null,null,{"$f":"$N$9","v":"I"},null,null,{"$f":"$O$9","v":"ドリームキッズフットボールクラブ"},null,null,null,null,null,null,null,null,null,null,null,null,{"$f":"$V$9","v":"大分"}]
[]
[]
[]
[]
[]
[]
[]
[null,null,null,null,null,null,null,null,null,null,null,null,null,null,null,null,null,null,null,null,null,null,null,null,{"$f":"$Y$6","v":"パート"},null,null,null,{"$f":"$AB$58","v":"2次リーグ　Cパート"},null,null,{"$f":"$Y$78","v":"大分トリニータＵ－１２"},null,null,null,null,{"$f":"$Y$84","v":"はやぶさフットボールクラブ"},null,null,null,null,{"$f":"$Y$90","v":"ドリームキッズフットボールクラブ"},null,null,null,null,"勝",null,"PK\n勝",null,"PK\n負",null,"負",null,"得点",null,"失点",null,"勝点",null,"勝点\n順位",null,"得失\n点差",null,"得失\n順位",null,"総\n順位"]
[]
[]
[]
[]
[]
[null,null,null,null,null,null,null,null,null,null,null,null,null,null,null,null,null,null,null,null,null,null,null,null,{"$f":"$AC$60","v":"大分トリニータＵ－１２"},null,null,null,null,"星取表",null,null,null,null,null,null,{"$f":"IF(AK82=\"\",\"\",IF(AK82>AN82,\"○\",IF(AK82<AN82,\"●\",IF(AK80>AN80,\"△\",IF(AK80<AN80,\"▲\")))))","v":"○"},null,null,null,null,{"$f":"IF(AP82=\"\",\"\",IF(AP82>AS82,\"○\",IF(AP82<AS82,\"●\",IF(AP80>AS80,\"△\",IF(AP80<AS80,\"▲\")))))","v":"○"},null,null,null,null,{"$f":"COUNTIF($AF$78:$AT$79,\"○\")","v":2},null,{"$f":"COUNTIF($AF$78:$AT$79,\"△\")","v":0},null,{"$f":"COUNTIF($AF$78:$AT$79,\"▲\")","v":0},null,{"$f":"COUNTIF($AF$78:$AT$79,\"●\")","v":0},null,{"$f":"SUM($AK$82,$AP$82)","v":12},null,{"$f":"SUM($AN$82,$AS$82)","v":1},null,{"$f":"($AU$78*3)+($AW$78*2)+($AY$78*1)","v":6},null,{"$f":"RANK($BG$78,$BG$78:$BH$95)","v":1},null,{"$f":"$BC$78-$BE$78","v":11},null,{"$f":"RANK($BK$78,$BK$78:$BL$95)","v":1}]
[]
[null,null,null,null,null,null,null,null,null,null,null,null,null,null,null,null,null,null,null,null,null,null,null,null,null,null,null,null,null,null,null,null,null,null,null,null,{"$f":"IF($Q$14=\"\",\"\",$Q$14)","v":""},null,"―",{"$f":"IF($S$14=\"\",\"\",$S$14)","v":""},null,{"$f":"IF($S$50=\"\",\"\",$S$50)","v":""},null,"―",{"$f":"IF($Q$50=\"\",\"\",$Q$50)","v":""}]
[null,null,null,null,null,null,null,null,null,null,null,null,null,null,null,null,null,null,null,null,null,null,null,null,null,null,null,null,null,"得失点"]
[null,null,null,null,null,null,null,null,null,null,null,null,null,null,null,null,null,null,null,null,null,null,null,null,null,null,null,null,null,null,null,null,null,null,null,null,{"$f":"$O$12","v":8},null,"―",{"$f":"$U$12","v":0},null,{"$f":"$U$48","v":4},null,"―",{"$f":"$O$48","v":1}]
[]
[null,null,null,null,null,null,null,null,null,null,null,null,null,null,null,null,null,null,null,null,null,null,null,null,{"$f":"$AC$62","v":"はやぶさフットボールクラブ"},null,null,null,null,"星取表",null,{"$f":"IF(AF88=\"\",\"\",IF(AF88>AI88,\"○\",IF(AF88<AI88,\"●\",IF(AF86>AI86,\"△\",IF(AF86<AI86,\"▲\")))))","v":"●"},null,null,null,null,null,null,null,null,null,{"$f":"IF(AP88=\"\",\"\",IF(AP88>AS88,\"○\",IF(AP88<AS88,\"●\",IF(AP86>AS86,\"△\",IF(AP86<AS86,\"▲\")))))","v":"●"},null,null,null,null,{"$f":"COUNTIF($AF$84:$AT$85,\"○\")","v":0},null,{"$f":"COUNTIF($AF$84:$AT$85,\"△\")","v":0},null,{"$f":"COUNTIF($AF$84:$AT$85,\"▲\")","v":0},null,{"$f":"COUNTIF($AF$84:$AT$85,\"●\")","v":2},null,{"$f":"SUM($AF$88,$AP$88)","v":0},null,{"$f":"SUM($AI$88,$AS$88)","v":18},null,{"$f":"($AU$84*3)+($AW$84*2)+($AY$84*1)","v":0},null,{"$f":"RANK($BG$84,$BG$78:$BH$95)","v":3},null,{"$f":"$BC$84-$BE$84","v":-18},null,{"$f":"RANK($BK$84,$BK$78:$BL$95)","v":3}]
[]
[null,null,null,null,null,null,null,null,null,null,null,null,null,null,null,null,null,null,null,null,null,null,null,null,null,null,null,null,null,null,null,{"$f":"AN80","v":""},null,"―",{"$f":"AK80","v":""},null,null,null,null,null,null,{"$f":"IF($Q$32=\"\",\"\",$Q$32)","v":""},null,"―",{"$f":"IF($S$32=\"\",\"\",$S$32)","v":""}]
[null,null,null,null,null,null,null,null,null,null,null,null,null,null,null,null,null,null,null,null,null,null,null,null,null,null,null,null,null,"得失点"]
[null,null,null,null,null,null,null,null,null,null,null,null,null,null,null,null,null,null,null,null,null,null,null,null,null,null,null,null,null,null,null,{"$f":"AN82","v":0},null,"―",{"$f":"AK82","v":8},null,null,null,null,null,null,{"$f":"$O$30","v":0},null,"―",{"$f":"$U$30","v":10}]
[]
[null,null,null,null,null,null,null,null,null,null,null,null,null,null,null,null,null,null,null,null,null,null,null,null,{"$f":"$AC$64","v":"ドリームキッズフットボールクラブ"},null,null,null,null,"星取表",null,{"$f":"IF(AF94=\"\",\"\",IF(AF94>AI94,\"○\",IF(AF94<AI94,\"●\",IF(AF92>AI92,\"△\",IF(AF92<AI92,\"▲\")))))","v":"●"},null,null,null,null,{"$f":"IF(AK94=\"\",\"\",IF(AK94>AN94,\"○\",IF(AK94<AN94,\"●\",IF(AK92>AN92,\"△\",IF(AK92<AN92,\"▲\")))))","v":"○"},null,null,null,null,null,null,null,null,null,{"$f":"COUNTIF($AF$90:$AT$91,\"○\")","v":1},null,{"$f":"COUNTIF($AF$90:$AT$91,\"△\")","v":0},null,{"$f":"COUNTIF($AF$90:$AT$91,\"▲\")","v":0},null,{"$f":"COUNTIF($AF$90:$AT$91,\"●\")","v":1},null,{"$f":"SUM($AF$94,$AK$94)","v":11},null,{"$f":"SUM($AI$94,$AN$94)","v":4},null,{"$f":"($AU$90*3)+($AW$90*2)+($AY$90*1)","v":3},null,{"$f":"RANK($BG$90,$BG$78:$BH$95)","v":2},null,{"$f":"$BC$90-$BE$90","v":7},null,{"$f":"RANK($BK$90,$BK$78:$BL$95)","v":2}]
[]
[null,null,null,null,null,null,null,null,null,null,null,null,null,null,null,null,null,null,null,null,null,null,null,null,null,null,null,null,null,null,null,{"$f":"AS80","v":""},null,"―",{"$f":"AP80","v":""},null,{"$f":"AS86","v":""},null,"―",{"$f":"AP86","v":""}]
[null,null,null,null,null,null,null,null,null,null,null,null,null,null,null,null,null,null,null,null,null,null,null,null,null,null,null,null,null,"得失点"]
[null,null,null,null,null,null,null,null,null,null,null,null,null,null,null,null,null,null,null,null,null,null,null,null,null,null,null,null,null,null,null,{"$f":"AS82","v":1},null,"―",{"$f":"AP82","v":4},null,{"$f":"AS88","v":10},null,"―",{"$f":"AP88","v":0}]
[]
[]
[null,null,null,null,null,null,null,null,null,null,null,null,null,null,null,null,null,null,null,null,null,null,null,null,"Ⅰ勝点（勝３点　ＰＫ勝２点　ＰＫ負１点　負０点）　Ⅱ当該チームの戦績　Ⅲ得失点差　Ⅳ多得点　Ⅴ抽選の順で順位を決定する。"]
[]
[null,null,null,null,null,null,null,null,null,null,null,null,null,null,null,null,null,null,null,null,null,null,null,null,"勝点表",null,"勝","○",null,"PK\n勝","△",null,"PK\n負","▲",null,"負","●"]
[null,null,null,null,null,null,null,null,null,null,null,null,null,null,null,null,null,null,null,null,null,null,null,null,null,null,null,3,null,null,2,null,null,1,null,null,0]

{"sheet":"２次リーグ（大分）","index":15,"n_rows":100,"n_cols":67,"rows_kept":100,"cut":false,"hidden":false,"merged":[[20,6,20,8],[20,9,20,10],[20,16,20,17],[20,18,20,20],[29,14,31,14],[29,15,31,15],[29,19,31,19],[29,20,31,20],[29,21,31,21],[20,21,20,22],[34,1,34,5],[34,6,34,8],[34,9,34,10],[32,13,32,17],[32,18,32,20],[32,21,32,22],[33,13,33,17],[33,18,33,20],[33,21,33,22],[34,13,34,17],[34,18,34,20],[34,21,34,22],[32,1,32,5],[32,6,32,8],[32,9,32,10],[33,1,33,5],[33,6,33,8],[33,9,33,10],[52,1,52,5],[52,6,52,8],[52,9,52,10],[50,13,50,17],[50,18,50,20],[50,21,50,22],[51,13,51,17],[51,18,51,20],[51,21,51,22],[52,13,52,17],[52,18,52,20],[52,21,52,22],[77,36,78,40],[77,41,78,45],[77,64,82,65],[79,36,80,37],[91,31,92,32],[91,33,92,33],[91,34,92,35],[91,36,92,37],[91,38,92,38],[87,33,88,33],[87,34,88,35],[87,41,88,42],[83,31,84,35],[89,31,90,35],[89,36,90,40],[87,31,88,32],[32,50,37,51],[32,52,37,53],[89,64,94,65],[89,66,94,66],[87,43,88,43],[87,44,88,45],[83,66,88,66],[85,44,86,45],[83,54,88,55],[83,56,88,57],[83,58,88,59],[89,54,94,55],[71,66,76,66],[83,41,84,45],[83,64,88,65],[89,58,94,59],[89,62,94,63],[77,66,82,66],[79,44,80,45],[47,24,48,58],[47,60,48,66],[49,24,50,58],[41,35,42,35],[89,24,94,28],[98,35,99,35],[14,64,19,65],[14,66,19,66],[20,36,21,40],[20,41,21,45],[20,64,25,65],[20,66,25,66],[22,36,23,37],[22,38,23,38],[22,39,23,40],[14,36,19,40],[14,41,19,45],[14,46,19,47],[14,48,19,49],[14,50,19,51],[14,52,19,53],[14,54,19,55],[14,56,19,57],[14,58,19,59],[34,34,35,35],[34,36,35,37],[32,64,37,65],[32,66,37,66],[79,39,80,40],[5,27,5,32],[0,0,0,8],[0,12,0,20],[0,24,0,58],[0,60,0,66],[1,0,1,10],[1,12,1,22],[1,24,1,58],[6,14,6,20],[6,21,6,22],[6,25,6,27],[6,28,6,40],[3,3,3,10],[3,15,3,22],[3,24,3,26],[3,27,3,32],[3,34,3,48],[5,24,5,26],[6,41,6,44],[7,21,7,22],[7,25,7,27],[7,28,7,40],[7,41,7,44],[6,2,6,8],[6,9,6,10],[8,41,8,44],[11,0,13,0],[11,1,13,1],[11,2,13,2],[11,3,13,3],[11,7,13,7],[11,8,13,8],[11,9,13,9],[11,12,13,12],[11,13,13,13],[11,14,13,14],[11,15,13,15],[11,19,13,19],[11,20,13,20],[11,21,13,21],[7,2,7,8],[7,9,7,10],[7,14,7,20],[8,2,8,8],[8,9,8,10],[8,14,8,20],[8,21,8,22],[8,25,8,27],[8,28,8,40],[14,1,14,5],[14,6,14,8],[14,9,14,10],[14,28,19,30],[14,31,19,35],[17,21,17,22],[15,1,15,5],[15,6,15,8],[15,9,15,10],[16,1,16,5],[16,6,16,8],[16,9,16,10],[14,13,14,17],[14,18,14,20],[14,21,14,22],[15,13,15,17],[16,18,16,20],[16,21,16,22],[20,4,20,5],[15,18,15,20],[15,21,15,22],[16,13,16,17],[14,60,19,61],[14,62,19,63],[18,4,18,5],[18,6,18,8],[18,9,18,10],[18,16,18,17],[18,18,18,20],[18,21,18,22],[19,4,19,5],[19,6,19,8],[19,9,19,10],[19,16,19,17],[19,18,19,20],[19,21,19,22],[17,4,17,5],[17,6,17,8],[17,9,17,10],[17,16,17,17],[17,18,17,20],[14,24,19,27],[20,24,25,28],[20,29,22,30],[20,31,25,35],[20,46,25,47],[22,41,23,42],[22,43,23,43],[22,44,23,45],[24,36,25,37],[24,38,25,38],[24,39,25,40],[24,43,25,43],[24,44,25,45],[24,41,25,42],[20,48,25,49],[20,50,25,51],[20,52,25,53],[20,54,25,55],[20,56,25,57],[20,58,25,59],[20,60,25,61],[20,62,25,63],[23,29,25,30],[30,43,31,43],[30,44,31,45],[26,48,31,49],[26,50,31,51],[26,52,31,53],[26,24,31,28],[26,29,28,30],[26,36,31,40],[26,46,31,47],[28,31,29,32],[28,33,29,33],[28,34,29,35],[28,41,29,42],[30,31,31,32],[30,33,31,33],[26,31,27,35],[26,41,27,45],[28,44,29,45],[53,24,54,26],[77,50,82,51],[77,52,82,53],[32,24,37,28],[32,29,34,30],[32,41,37,45],[32,46,37,47],[32,31,33,35],[32,36,33,40],[36,34,37,35],[36,36,37,37],[32,48,37,49],[34,31,35,32],[34,33,35,33],[36,31,37,32],[36,33,37,33],[36,38,37,38],[36,39,37,40],[81,39,82,40],[81,41,82,42],[81,43,82,43],[81,44,82,45],[34,38,35,38],[34,39,35,40],[53,27,54,32],[53,33,54,33],[53,34,54,48],[77,48,82,49],[85,31,86,32],[85,33,86,33],[85,34,86,35],[71,64,76,65],[61,28,62,40],[77,60,82,61],[77,62,82,63],[71,56,76,57],[71,58,76,59],[71,60,76,61],[71,62,76,63],[77,56,82,57],[77,58,82,59],[79,38,80,38],[81,36,82,37],[81,38,82,38],[79,41,80,42],[83,48,88,49],[83,50,88,51],[83,52,88,53],[29,0,31,0],[29,1,31,1],[29,2,31,2],[29,3,31,3],[29,7,31,7],[29,8,31,8],[29,9,31,9],[29,12,31,12],[29,13,31,13],[26,64,31,65],[26,66,31,66],[28,43,29,43],[38,21,38,22],[47,21,49,21],[32,54,37,55],[32,56,37,57],[32,58,37,59],[32,60,37,61],[32,62,37,63],[35,29,37,30],[39,24,40,57],[41,24,42,25],[41,26,42,26],[41,29,42,29],[41,32,42,32],[26,54,31,55],[26,56,31,57],[26,58,31,59],[26,60,31,61],[26,62,31,63],[29,29,31,30],[30,34,31,35],[30,41,31,42],[35,4,35,5],[35,6,35,8],[35,9,35,10],[35,16,35,17],[35,18,35,20],[35,21,35,22],[36,4,36,5],[36,6,36,8],[36,9,36,10],[36,16,36,17],[36,18,36,20],[36,21,36,22],[37,4,37,5],[37,6,37,8],[37,9,37,10],[37,16,37,17],[37,18,37,20],[37,21,37,22],[38,4,38,5],[38,6,38,8],[38,9,38,10],[38,16,38,17],[38,18,38,20],[53,21,53,22],[54,4,54,5],[54,6,54,8],[54,9,54,10],[54,16,54,17],[54,18,54,20],[54,21,54,22],[55,4,55,5],[55,6,55,8],[47,0,49,0],[47,1,49,1],[47,2,49,2],[47,3,49,3],[47,7,49,7],[47,20,49,20],[53,4,53,5],[53,6,53,8],[53,9,53,10],[53,16,53,17],[53,18,53,20],[47,12,49,12],[47,13,49,13],[47,9,49,9],[47,8,49,8],[47,14,49,14],[47,15,49,15],[47,19,49,19],[50,1,50,5],[50,6,50,8],[50,9,50,10],[51,1,51,5],[51,6,51,8],[51,9,51,10],[56,4,56,5],[56,6,56,8],[56,9,56,10],[56,16,56,17],[56,18,56,20],[56,21,56,22],[57,24,58,26],[77,54,82,55],[71,46,76,47],[77,46,82,47],[71,48,76,49],[71,24,76,27],[71,28,76,30],[71,31,76,35],[71,36,76,40],[71,41,76,45],[71,50,76,51],[71,52,76,53],[77,24,82,28],[77,29,79,30],[77,31,82,35],[80,29,82,30],[71,54,76,55],[79,43,80,43],[89,29,91,30],[89,41,94,45],[89,46,94,47],[93,34,94,35],[89,60,94,61],[92,29,94,30],[91,39,92,40],[93,31,94,32],[93,33,94,33],[93,36,94,37],[93,38,94,38],[93,39,94,40],[83,24,88,28],[83,29,85,30],[83,36,88,40],[83,46,88,47],[85,41,86,42],[85,43,86,43],[83,60,88,61],[83,62,88,63],[86,29,88,30],[96,24,97,57],[98,24,99,25],[98,26,99,26],[98,29,99,29],[98,32,99,32],[0,9,0,10],[0,21,0,22],[89,48,94,49],[89,50,94,51],[89,52,94,53],[89,56,94,57],[57,27,58,32],[59,25,60,27],[59,28,60,40],[59,41,60,44],[61,41,62,44],[63,25,64,27],[63,28,64,40],[63,41,64,44],[61,25,62,27],[55,9,55,10],[55,16,55,17],[55,18,55,20],[55,21,55,22]]}
[{"$f":"抽選会資料!B1","v":"OFA 第 53 回大分県U-12サッカー大会　兼　KYFA 九州U-12サッカー大会大分県大会"},null,null,null,null,null,null,null,null,"２次リーグ結果　報告用紙",null,null,{"$f":"抽選会資料!B1","v":"OFA 第 53 回大分県U-12サッカー大会　兼　KYFA 九州U-12サッカー大会大分県大会"},null,null,null,null,null,null,null,null,"２次リーグ結果　報告用紙",null,null,{"$f":"$A$1","v":"OFA 第 53 回大分県U-12サッカー大会　兼　KYFA 九州U-12サッカー大会大分県大会"},null,null,null,null,null,null,null,null,null,null,null,null,null,null,null,null,null,null,null,null,null,null,null,null,null,null,null,null,null,null,null,null,null,null,null,{"$f":"$J$1","v":"２次リーグ結果　報告用紙"}]
["＜時間割＞　①10:00～　②11:00～　③12:00～　④13:00～　⑤14:00～　⑥15:00～",null,null,null,null,null,null,null,null,null,null,null,"＜時間割＞　①10:00～　②11:00～　③12:00～　④13:00～　⑤14:00～　⑥15:00～",null,null,null,null,null,null,null,null,null,null,null,"＜時間割＞　①10:00～　②11:00～　③12:00～　④13:00～　⑤14:00～　⑥15:00～"]
[]
["会場",{"$f":"組み合わせ!BF6","v":"大分"},"⇒",{"$f":"VLOOKUP(B4,抽選会資料!$B$52:$F$60,2,FALSE)","v":"大在東グラウンド"},null,null,null,null,null,null,null,null,"会場",{"$f":"組み合わせ!BF6","v":"大分"},"⇒",{"$f":"VLOOKUP(N4,抽選会資料!$B$52:$F$60,2,FALSE)","v":"大在東グラウンド"},null,null,null,null,null,null,null,null,"会場",null,null,{"$f":"$B$4","v":"大分"},null,null,null,null,null,"⇒",{"$f":"$D$4","v":"大在東グラウンド"}]
[]
["パート",{"$f":"組み合わせ!AR33","v":"2次リーグ　Bパート"},null,null,null,null,null,null,null,null,null,null,"パート",{"$f":"組み合わせ!DL33","v":"2次リーグ　Dパート"},null,null,null,null,null,null,null,null,null,null,"パート",null,null,{"$f":"$B$6","v":"2次リーグ　Bパート"}]
[null,{"$f":"組み合わせ!$AR$36","v":"D"},{"$f":"組み合わせ!$AV$36","v":"明治北ＳＳＣ"},null,null,null,null,null,null,{"$f":"HLOOKUP(C7,組み合わせ!$B$49:$EO$86,31,FALSE)","v":"大分"},null,null,null,{"$f":"組み合わせ!$DL$36","v":"J"},{"$f":"組み合わせ!$DP$36","v":"鶴居ＳＳＳ"},null,null,null,null,null,null,{"$f":"HLOOKUP(O7,組み合わせ!$B$49:$EO$86,31,FALSE)","v":"中津"},null,null,null,{"$f":"+B7","v":"D"},null,null,{"$f":"$C$7","v":"明治北ＳＳＣ"},null,null,null,null,null,null,null,null,null,null,null,null,{"$f":"$J$7","v":"大分"}]
[null,{"$f":"組み合わせ!$AR$38","v":"E"},{"$f":"組み合わせ!$AV$38","v":"カティオーラフットボールクラブＵ－１２"},null,null,null,null,null,null,{"$f":"HLOOKUP(C8,組み合わせ!$B$49:$EO$86,31,FALSE)","v":"大分"},null,null,null,{"$f":"組み合わせ!$DL$38","v":"K"},{"$f":"組み合わせ!$DP$38","v":"スマイス　セレソン　スポーツクラブ"},null,null,null,null,null,null,{"$f":"HLOOKUP(O8,組み合わせ!$B$49:$EO$86,31,FALSE)","v":"大分"},null,null,null,{"$f":"+B8","v":"E"},null,null,{"$f":"$C$8","v":"カティオーラフットボールクラブＵ－１２"},null,null,null,null,null,null,null,null,null,null,null,null,{"$f":"$J$8","v":"大分"}]
[null,{"$f":"組み合わせ!$AR$40","v":"F"},{"$f":"組み合わせ!$AV$40","v":"豊府サッカースポーツ少年団"},null,null,null,null,null,null,{"$f":"HLOOKUP(C9,組み合わせ!$B$49:$EO$86,31,FALSE)","v":"大分"},null,null,null,{"$f":"組み合わせ!$DL$40","v":"L"},{"$f":"組み合わせ!$DP$40","v":"ＫＩＮＧＳ　ＦＯＯＴＢＡＬＬＣＬＵＢ　Ｕ－１２"},null,null,null,null,null,null,{"$f":"HLOOKUP(O9,組み合わせ!$B$49:$EO$86,31,FALSE)","v":"大分"},null,null,null,{"$f":"+B9","v":"F"},null,null,{"$f":"$C$9","v":"豊府サッカースポーツ少年団"},null,null,null,null,null,null,null,null,null,null,null,null,{"$f":"$J$9","v":"大分"}]
["8：50～ＭＣＭ",null,null,null,null,null,null,null,null,null,null,null,"9：50～ＭＣＭ"]
[]
["①\n10:00～",{"$f":"C7","v":"明治北ＳＳＣ"},{"$f":"IF(E12=\"\",\"\",SUM(E12:E13))","v":0},"（",0,"前半",2,"）",{"$f":"IF(G12=\"\",\"\",SUM(G12:G13))","v":4},{"$f":"C8","v":"カティオーラフットボールクラブＵ－１２"},null,null,"②\n11:00～",{"$f":"O7","v":"鶴居ＳＳＳ"},{"$f":"IF(Q12=\"\",\"\",SUM(Q12:Q13))","v":0},"（",0,"前半",0,"）",{"$f":"IF(S12=\"\",\"\",SUM(S12:S13))","v":2},{"$f":"O8","v":"スマイス　セレソン　スポーツクラブ"}]
[null,null,null,null,0,"後半",2,null,null,null,null,null,null,null,null,null,0,"後半",2]
[null,null,null,null,null,"PK",null,null,null,null,null,null,null,null,null,null,null,"PK"]
["MC","佐々木　秀樹",null,null,null,null,"所属協会",null,null,"大分市サッカー協会",null,null,"MC","福元　研治",null,null,null,null,"所属協会",null,null,"大分市サッカー協会",null,null,{"$f":"$Y$6","v":"パート"},null,null,null,{"$f":"$AB$6","v":"2次リーグ　Bパート"},null,null,{"$f":"$Y$21","v":"明治北ＳＳＣ"},null,null,null,null,{"$f":"$Y$27","v":"カティオーラフットボールクラブＵ－１２"},null,null,null,null,{"$f":"$Y$33","v":"豊府サッカースポーツ少年団"},null,null,null,null,"勝",null,"PK\n勝",null,"PK\n負",null,"負",null,"得点",null,"失点",null,"勝点",null,"勝点\n順位",null,"得失\n点差",null,"得失\n順位",null,"総\n順位"]
["WelfareOfficer","佐々木　秀樹",null,null,null,null,"所属協会",null,null,"大分市サッカー協会",null,null,"WelfareOfficer","福元　研治",null,null,null,null,"所属協会",null,null,"大分市サッカー協会"]
["記録","秋吉　明",null,null,null,null,"所属協会",null,null,"大分市サッカー協会",null,null,"記録","平尾　彰敏",null,null,null,null,"所属協会",null,null,"大分市サッカー協会"]
["R:",{"$f":"IF(ISERROR(VLOOKUP(G18,審判員!$A:$C,2,FALSE))=TRUE,\"\",VLOOKUP(G18,審判員!$A:$C,2,FALSE))","v":"幸　壮一郎"},{"$f":"IF(ISERROR(VLOOKUP(G18,審判員!$A:$C,3,FALSE))=TRUE,\"\",VLOOKUP(G18,審判員!$A:$C,3,FALSE))","v":2},"級","資格番号",null,"R006093817",null,null,"本部",null,null,"R:",{"$f":"IF(ISERROR(VLOOKUP(S18,審判員!$A:$C,2,FALSE))=TRUE,\"\",VLOOKUP(S18,審判員!$A:$C,2,FALSE))","v":"小石川　悟"},{"$f":"IF(ISERROR(VLOOKUP(S18,審判員!$A:$C,3,FALSE))=TRUE,\"\",VLOOKUP(S18,審判員!$A:$C,3,FALSE))","v":3},"級","資格番号",null,"R001256402",null,null,"本部"]
["AR1:",{"$f":"IF(ISERROR(VLOOKUP(G19,審判員!$A:$C,2,FALSE))=TRUE,\"\",VLOOKUP(G19,審判員!$A:$C,2,FALSE))","v":"朝比奈　義行"},{"$f":"IF(ISERROR(VLOOKUP(G19,審判員!$A:$C,3,FALSE))=TRUE,\"\",VLOOKUP(G19,審判員!$A:$C,3,FALSE))","v":3},"級","資格番号",null,"R003972391",null,null,{"$f":"N12","v":"鶴居ＳＳＳ"},null,null,"AR1:",{"$f":"IF(ISERROR(VLOOKUP(S19,審判員!$A:$C,2,FALSE))=TRUE,\"\",VLOOKUP(S19,審判員!$A:$C,2,FALSE))","v":"廣戸　誠一"},{"$f":"IF(ISERROR(VLOOKUP(S19,審判員!$A:$C,3,FALSE))=TRUE,\"\",VLOOKUP(S19,審判員!$A:$C,3,FALSE))","v":3},"級","資格番号",null,"R001260070",null,null,{"$f":"B12","v":"明治北ＳＳＣ"}]
["AR2:",{"$f":"IF(ISERROR(VLOOKUP(G20,審判員!$A:$C,2,FALSE))=TRUE,\"\",VLOOKUP(G20,審判員!$A:$C,2,FALSE))","v":"生野　憲太朗"},{"$f":"IF(ISERROR(VLOOKUP(G20,審判員!$A:$C,3,FALSE))=TRUE,\"\",VLOOKUP(G20,審判員!$A:$C,3,FALSE))","v":3},"級","資格番号",null,"R010542204",null,null,{"$f":"V12","v":"スマイス　セレソン　スポーツクラブ"},null,null,"AR2:",{"$f":"IF(ISERROR(VLOOKUP(S20,審判員!$A:$C,2,FALSE))=TRUE,\"\",VLOOKUP(S20,審判員!$A:$C,2,FALSE))","v":"藤本　勝爾"},{"$f":"IF(ISERROR(VLOOKUP(S20,審判員!$A:$C,3,FALSE))=TRUE,\"\",VLOOKUP(S20,審判員!$A:$C,3,FALSE))","v":3},"級","資格番号",null,"R008798217",null,null,{"$f":"J12","v":"カティオーラフットボールクラブＵ－１２"}]
["4th:",{"$f":"IF(ISERROR(VLOOKUP(G21,審判員!$A:$C,2,FALSE))=TRUE,\"\",VLOOKUP(G21,審判員!$A:$C,2,FALSE))","v":"井上　直樹"},{"$f":"IF(ISERROR(VLOOKUP(G21,審判員!$A:$C,3,FALSE))=TRUE,\"\",VLOOKUP(G21,審判員!$A:$C,3,FALSE))","v":3},"級","資格番号",null,"R001254051",null,null,"本部",null,null,"4th:",{"$f":"IF(ISERROR(VLOOKUP(S21,審判員!$A:$C,2,FALSE))=TRUE,\"\",VLOOKUP(S21,審判員!$A:$C,2,FALSE))","v":"中村　友海"},{"$f":"IF(ISERROR(VLOOKUP(S21,審判員!$A:$C,3,FALSE))=TRUE,\"\",VLOOKUP(S21,審判員!$A:$C,3,FALSE))","v":3},"級","資格番号",null,"R010382275",null,null,"本部",null,null,{"$f":"$AC$7","v":"明治北ＳＳＣ"},null,null,null,null,"星取表",null,null,null,null,null,null,{"$f":"IF(AK25=\"\",\"\",IF(AK25>AN25,\"○\",IF(AK25<AN25,\"●\",IF(AK23>AN23,\"△\",IF(AK23<AN23,\"▲\")))))","v":"●"},null,null,null,null,{"$f":"IF(AP25=\"\",\"\",IF(AP25>AS25,\"○\",IF(AP25<AS25,\"●\",IF(AP23>AS23,\"△\",IF(AP23<AS23,\"▲\")))))","v":"○"},null,null,null,null,{"$f":"COUNTIF($AF$21:$AT$22,\"○\")","v":1},null,{"$f":"COUNTIF($AF$21:$AT$22,\"△\")","v":0},null,{"$f":"COUNTIF($AF$21:$AT$22,\"▲\")","v":0},null,{"$f":"COUNTIF($AF$21:$AT$22,\"●\")","v":1},null,{"$f":"SUM($AK$25,$AP$25)","v":5},null,{"$f":"SUM($AN$25,$AS$25)","v":5},null,{"$f":"($AU$21*3)+($AW$21*2)+($AY$21*1)","v":3},null,{"$f":"RANK($BG$21,$BG$21:$BH$38)","v":2},null,{"$f":"$BC$21-$BE$21","v":0},null,{"$f":"RANK($BK$21,$BK$21:$BL$38)","v":2}]
["警告/退場","氏名","背番号","分","内容",null,"内容","分","背番号","氏名","警告/退場",null,"警告/退場","氏名","背番号","分","内容",null,"内容","分","背番号","氏名","警告/退場"]
[null,{"$f":"IF(ISERROR(VLOOKUP(CONCATENATE($B$12,\"_\",C23),選手名簿!$A:$E,5,FALSE))=TRUE,\"\",VLOOKUP(CONCATENATE($B$12,\"_\",C23),選手名簿!$A:$E,5,FALSE))","v":""},null,null,null,null,null,null,null,{"$f":"IF(ISERROR(VLOOKUP(CONCATENATE($J$12,\"_\",I23),選手名簿!$A:$E,5,FALSE))=TRUE,\"\",VLOOKUP(CONCATENATE($J$12,\"_\",I23),選手名簿!$A:$E,5,FALSE))","v":""},null,null,null,{"$f":"IF(ISERROR(VLOOKUP(CONCATENATE($N$12,\"_\",O23),選手名簿!$A:$E,5,FALSE))=TRUE,\"\",VLOOKUP(CONCATENATE($N$12,\"_\",O23),選手名簿!$A:$E,5,FALSE))","v":""},null,null,null,null,null,null,null,{"$f":"IF(ISERROR(VLOOKUP(CONCATENATE($V$12,\"_\",U23),選手名簿!$A:$E,5,FALSE))=TRUE,\"\",VLOOKUP(CONCATENATE($V$12,\"_\",U23),選手名簿!$A:$E,5,FALSE))","v":""},null,null,null,null,null,null,null,null,null,null,null,null,null,null,{"$f":"IF($E$14=\"\",\"\",$E$14)","v":""},null,"―",{"$f":"IF($G$14=\"\",\"\",$G$14)","v":""},null,{"$f":"IF($G$50=\"\",\"\",$G$50)","v":""},null,"―",{"$f":"IF($E$50=\"\",\"\",$E$50)","v":""}]
[null,{"$f":"IF(ISERROR(VLOOKUP(CONCATENATE($B$12,\"_\",C24),選手名簿!$A:$E,5,FALSE))=TRUE,\"\",VLOOKUP(CONCATENATE($B$12,\"_\",C24),選手名簿!$A:$E,5,FALSE))","v":""},null,null,null,null,null,null,null,{"$f":"IF(ISERROR(VLOOKUP(CONCATENATE($J$12,\"_\",I24),選手名簿!$A:$E,5,FALSE))=TRUE,\"\",VLOOKUP(CONCATENATE($J$12,\"_\",I24),選手名簿!$A:$E,5,FALSE))","v":""},null,null,null,{"$f":"IF(ISERROR(VLOOKUP(CONCATENATE($N$12,\"_\",O24),選手名簿!$A:$E,5,FALSE))=TRUE,\"\",VLOOKUP(CONCATENATE($N$12,\"_\",O24),選手名簿!$A:$E,5,FALSE))","v":""},null,null,null,null,null,null,null,{"$f":"IF(ISERROR(VLOOKUP(CONCATENATE($V$12,\"_\",U24),選手名簿!$A:$E,5,FALSE))=TRUE,\"\",VLOOKUP(CONCATENATE($V$12,\"_\",U24),選手名簿!$A:$E,5,FALSE))","v":""},null,null,null,null,null,null,null,"得失点"]
[null,{"$f":"IF(ISERROR(VLOOKUP(CONCATENATE($B$12,\"_\",C25),選手名簿!$A:$E,5,FALSE))=TRUE,\"\",VLOOKUP(CONCATENATE($B$12,\"_\",C25),選手名簿!$A:$E,5,FALSE))","v":""},null,null,null,null,null,null,null,{"$f":"IF(ISERROR(VLOOKUP(CONCATENATE($J$12,\"_\",I25),選手名簿!$A:$E,5,FALSE))=TRUE,\"\",VLOOKUP(CONCATENATE($J$12,\"_\",I25),選手名簿!$A:$E,5,FALSE))","v":""},null,null,null,{"$f":"IF(ISERROR(VLOOKUP(CONCATENATE($N$12,\"_\",O25),選手名簿!$A:$E,5,FALSE))=TRUE,\"\",VLOOKUP(CONCATENATE($N$12,\"_\",O25),選手名簿!$A:$E,5,FALSE))","v":""},null,null,null,null,null,null,null,{"$f":"IF(ISERROR(VLOOKUP(CONCATENATE($V$12,\"_\",U25),選手名簿!$A:$E,5,FALSE))=TRUE,\"\",VLOOKUP(CONCATENATE($V$12,\"_\",U25),選手名簿!$A:$E,5,FALSE))","v":""},null,null,null,null,null,null,null,null,null,null,null,null,null,null,{"$f":"$C$12","v":0},null,"―",{"$f":"$I$12","v":4},null,{"$f":"$I$48","v":5},null,"―",{"$f":"$C$48","v":1}]
[null,{"$f":"IF(ISERROR(VLOOKUP(CONCATENATE($B$12,\"_\",C26),選手名簿!$A:$E,5,FALSE))=TRUE,\"\",VLOOKUP(CONCATENATE($B$12,\"_\",C26),選手名簿!$A:$E,5,FALSE))","v":""},null,null,null,null,null,null,null,{"$f":"IF(ISERROR(VLOOKUP(CONCATENATE($J$12,\"_\",I26),選手名簿!$A:$E,5,FALSE))=TRUE,\"\",VLOOKUP(CONCATENATE($J$12,\"_\",I26),選手名簿!$A:$E,5,FALSE))","v":""},null,null,null,{"$f":"IF(ISERROR(VLOOKUP(CONCATENATE($N$12,\"_\",O26),選手名簿!$A:$E,5,FALSE))=TRUE,\"\",VLOOKUP(CONCATENATE($N$12,\"_\",O26),選手名簿!$A:$E,5,FALSE))","v":""},null,null,null,null,null,null,null,{"$f":"IF(ISERROR(VLOOKUP(CONCATENATE($V$12,\"_\",U26),選手名簿!$A:$E,5,FALSE))=TRUE,\"\",VLOOKUP(CONCATENATE($V$12,\"_\",U26),選手名簿!$A:$E,5,FALSE))","v":""}]
[null,{"$f":"IF(ISERROR(VLOOKUP(CONCATENATE($B$12,\"_\",C27),選手名簿!$A:$E,5,FALSE))=TRUE,\"\",VLOOKUP(CONCATENATE($B$12,\"_\",C27),選手名簿!$A:$E,5,FALSE))","v":""},null,null,null,null,null,null,null,{"$f":"IF(ISERROR(VLOOKUP(CONCATENATE($J$12,\"_\",I27),選手名簿!$A:$E,5,FALSE))=TRUE,\"\",VLOOKUP(CONCATENATE($J$12,\"_\",I27),選手名簿!$A:$E,5,FALSE))","v":""},null,null,null,{"$f":"IF(ISERROR(VLOOKUP(CONCATENATE($N$12,\"_\",O27),選手名簿!$A:$E,5,FALSE))=TRUE,\"\",VLOOKUP(CONCATENATE($N$12,\"_\",O27),選手名簿!$A:$E,5,FALSE))","v":""},null,null,null,null,null,null,null,{"$f":"IF(ISERROR(VLOOKUP(CONCATENATE($V$12,\"_\",U27),選手名簿!$A:$E,5,FALSE))=TRUE,\"\",VLOOKUP(CONCATENATE($V$12,\"_\",U27),選手名簿!$A:$E,5,FALSE))","v":""},null,null,{"$f":"$AC$8","v":"カティオーラフットボールクラブＵ－１２"},null,null,null,null,"星取表",null,{"$f":"IF(AF31=\"\",\"\",IF(AF31>AI31,\"○\",IF(AF31<AI31,\"●\",IF(AF29>AI29,\"△\",IF(AF29<AI29,\"▲\")))))","v":"○"},null,null,null,null,null,null,null,null,null,{"$f":"IF(AP31=\"\",\"\",IF(AP31>AS31,\"○\",IF(AP31<AS31,\"●\",IF(AP29>AS29,\"△\",IF(AP29<AS29,\"▲\")))))","v":"○"},null,null,null,null,{"$f":"COUNTIF($AF$27:$AT$28,\"○\")","v":2},null,{"$f":"COUNTIF($AF$27:$AT$28,\"△\")","v":0},null,{"$f":"COUNTIF($AF$27:$AT$28,\"▲\")","v":0},null,{"$f":"COUNTIF($AF$27:$AT$28,\"●\")","v":0},null,{"$f":"SUM($AF$31,$AP$31)","v":7},null,{"$f":"SUM($AI$31,$AS$31)","v":0},null,{"$f":"($AU$27*3)+($AW$27*2)+($AY$27*1)","v":6},null,{"$f":"RANK($BG$27,$BG$21:$BH$38)","v":1},null,{"$f":"$BC$27-$BE$27","v":7},null,{"$f":"RANK($BK$27,$BK$21:$BL$38)","v":1}]
[]
[null,null,null,null,null,null,null,null,null,null,null,null,null,null,null,null,null,null,null,null,null,null,null,null,null,null,null,null,null,null,null,{"$f":"AN23","v":""},null,"―",{"$f":"AK23","v":""},null,null,null,null,null,null,{"$f":"IF($E$32=\"\",\"\",$E$32)","v":""},null,"―",{"$f":"IF($G$32=\"\",\"\",$G$32)","v":""}]
["③\n12:00～",{"$f":"C8","v":"カティオーラフットボールクラブＵ－１２"},{"$f":"IF(E30=\"\",\"\",SUM(E30:E31))","v":3},"（",0,"前半",0,"）",{"$f":"IF(G30=\"\",\"\",SUM(G30:G31))","v":0},{"$f":"C9","v":"豊府サッカースポーツ少年団"},null,null,"④\n13:00～",{"$f":"O8","v":"スマイス　セレソン　スポーツクラブ"},{"$f":"IF(Q30=\"\",\"\",SUM(Q30:Q31))","v":1},"（",0,"前半",0,"）",{"$f":"IF(S30=\"\",\"\",SUM(S30:S31))","v":1},{"$f":"O9","v":"ＫＩＮＧＳ　ＦＯＯＴＢＡＬＬＣＬＵＢ　Ｕ－１２"},null,null,null,null,null,null,null,"得失点"]
[null,null,null,null,3,"後半",0,null,null,null,null,null,null,null,null,null,1,"後半",1,null,null,null,null,null,null,null,null,null,null,null,null,{"$f":"AN25","v":4},null,"―",{"$f":"AK25","v":0},null,null,null,null,null,null,{"$f":"$C$30","v":3},null,"―",{"$f":"$I$30","v":0}]
[null,null,null,null,null,"PK",null,null,null,null,null,null,null,null,null,null,null,"PK"]
["MC","津守　一雄",null,null,null,null,"所属協会",null,null,"大分市サッカー協会",null,null,"MC","佐々木　秀樹",null,null,null,null,"所属協会",null,null,"大分市サッカー協会",null,null,{"$f":"$AC$9","v":"豊府サッカースポーツ少年団"},null,null,null,null,"星取表",null,{"$f":"IF(AF37=\"\",\"\",IF(AF37>AI37,\"○\",IF(AF37<AI37,\"●\",IF(AF35>AI35,\"△\",IF(AF35<AI35,\"▲\")))))","v":"●"},null,null,null,null,{"$f":"IF(AK37=\"\",\"\",IF(AK37>AN37,\"○\",IF(AK37<AN37,\"●\",IF(AK35>AN35,\"△\",IF(AK35<AN35,\"▲\")))))","v":"●"},null,null,null,null,null,null,null,null,null,{"$f":"COUNTIF($AF$33:$AT$34,\"○\")","v":0},null,{"$f":"COUNTIF($AF$33:$AT$34,\"△\")","v":0},null,{"$f":"COUNTIF($AF$33:$AT$34,\"▲\")","v":0},null,{"$f":"COUNTIF($AF$33:$AT$34,\"●\")","v":2},null,{"$f":"SUM($AF$37,$AK$37)","v":1},null,{"$f":"SUM($AI$37,$AN$37)","v":8},null,{"$f":"($AU$33*3)+($AW$33*2)+($AY$33*1)","v":0},null,{"$f":"RANK($BG$33,$BG$21:$BH$38)","v":3},null,{"$f":"$BC$33-$BE$33","v":-7},null,{"$f":"RANK($BK$33,$BK$21:$BL$38)","v":3}]
["WelfareOfficer","津守　一雄",null,null,null,null,"所属協会",null,null,"大分市サッカー協会",null,null,"WelfareOfficer","佐々木　秀樹",null,null,null,null,"所属協会",null,null,"大分市サッカー協会"]
["記録","森山　信浩",null,null,null,null,"所属協会",null,null,"大分市サッカー協会",null,null,"記録","秋吉　明",null,null,null,null,"所属協会",null,null,"大分市サッカー協会",null,null,null,null,null,null,null,null,null,{"$f":"AS23","v":""},null,"―",{"$f":"AP23","v":""},null,{"$f":"AS29","v":""},null,"―",{"$f":"AP29","v":""}]
["R:",{"$f":"IF(ISERROR(VLOOKUP(G36,審判員!$A:$C,2,FALSE))=TRUE,\"\",VLOOKUP(G36,審判員!$A:$C,2,FALSE))","v":"森　隆嗣"},{"$f":"IF(ISERROR(VLOOKUP(G36,審判員!$A:$C,3,FALSE))=TRUE,\"\",VLOOKUP(G36,審判員!$A:$C,3,FALSE))","v":3},"級","資格番号",null,"R010027876",null,null,"本部",null,null,"R:",{"$f":"IF(ISERROR(VLOOKUP(S36,審判員!$A:$C,2,FALSE))=TRUE,\"\",VLOOKUP(S36,審判員!$A:$C,2,FALSE))","v":"井上　直樹"},{"$f":"IF(ISERROR(VLOOKUP(S36,審判員!$A:$C,3,FALSE))=TRUE,\"\",VLOOKUP(S36,審判員!$A:$C,3,FALSE))","v":3},"級","資格番号",null,"R001254051",null,null,"本部",null,null,null,null,null,null,null,"得失点"]
["AR1:",{"$f":"IF(ISERROR(VLOOKUP(G37,審判員!$A:$C,2,FALSE))=TRUE,\"\",VLOOKUP(G37,審判員!$A:$C,2,FALSE))","v":"生野　憲太朗"},{"$f":"IF(ISERROR(VLOOKUP(G37,審判員!$A:$C,3,FALSE))=TRUE,\"\",VLOOKUP(G37,審判員!$A:$C,3,FALSE))","v":3},"級","資格番号",null,"R010542204",null,null,{"$f":"N30","v":"スマイス　セレソン　スポーツクラブ"},null,null,"AR1:",{"$f":"IF(ISERROR(VLOOKUP(S37,審判員!$A:$C,2,FALSE))=TRUE,\"\",VLOOKUP(S37,審判員!$A:$C,2,FALSE))","v":"藤本　勝爾"},{"$f":"IF(ISERROR(VLOOKUP(S37,審判員!$A:$C,3,FALSE))=TRUE,\"\",VLOOKUP(S37,審判員!$A:$C,3,FALSE))","v":3},"級","資格番号",null,"R008798217",null,null,{"$f":"B30","v":"カティオーラフットボールクラブＵ－１２"},null,null,null,null,null,null,null,null,null,{"$f":"AS25","v":1},null,"―",{"$f":"AP25","v":5},null,{"$f":"AS31","v":0},null,"―",{"$f":"AP31","v":3}]
["AR2:",{"$f":"IF(ISERROR(VLOOKUP(G38,審判員!$A:$C,2,FALSE))=TRUE,\"\",VLOOKUP(G38,審判員!$A:$C,2,FALSE))","v":"平川　伸吾"},{"$f":"IF(ISERROR(VLOOKUP(G38,審判員!$A:$C,3,FALSE))=TRUE,\"\",VLOOKUP(G38,審判員!$A:$C,3,FALSE))","v":3},"級","資格番号",null,"R003972513",null,null,{"$f":"V30","v":"ＫＩＮＧＳ　ＦＯＯＴＢＡＬＬＣＬＵＢ　Ｕ－１２"},null,null,"AR2:",{"$f":"IF(ISERROR(VLOOKUP(S38,審判員!$A:$C,2,FALSE))=TRUE,\"\",VLOOKUP(S38,審判員!$A:$C,2,FALSE))","v":"野中　裕介"},{"$f":"IF(ISERROR(VLOOKUP(S38,審判員!$A:$C,3,FALSE))=TRUE,\"\",VLOOKUP(S38,審判員!$A:$C,3,FALSE))","v":3},"級","資格番号",null,"R010214556",null,null,{"$f":"J30","v":"豊府サッカースポーツ少年団"}]
["4th:",{"$f":"IF(ISERROR(VLOOKUP(G39,審判員!$A:$C,2,FALSE))=TRUE,\"\",VLOOKUP(G39,審判員!$A:$C,2,FALSE))","v":"佐藤　慎二"},{"$f":"IF(ISERROR(VLOOKUP(G39,審判員!$A:$C,3,FALSE))=TRUE,\"\",VLOOKUP(G39,審判員!$A:$C,3,FALSE))","v":3},"級","資格番号",null,"R009460551",null,null,"本部",null,null,"4th:",{"$f":"IF(ISERROR(VLOOKUP(S39,審判員!$A:$C,2,FALSE))=TRUE,\"\",VLOOKUP(S39,審判員!$A:$C,2,FALSE))","v":"幸　壮一郎"},{"$f":"IF(ISERROR(VLOOKUP(S39,審判員!$A:$C,3,FALSE))=TRUE,\"\",VLOOKUP(S39,審判員!$A:$C,3,FALSE))","v":2},"級","資格番号",null,"R006093817",null,null,"本部"]
["警告/退場","氏名","背番号","分","内容",null,"内容","分","背番号","氏名","警告/退場",null,"警告/退場","氏名","背番号","分","内容",null,"内容","分","背番号","氏名","警告/退場",null,"Ⅰ勝点（勝３点　ＰＫ勝２点　ＰＫ負１点　負０点）　Ⅱ当該チームの戦績　Ⅲ得失点差　Ⅳ多得点　Ⅴ抽選の順で順位を決定する。"]
[null,{"$f":"IF(ISERROR(VLOOKUP(CONCATENATE($B$30,\"_\",C41),選手名簿!$A:$E,5,FALSE))=TRUE,\"\",VLOOKUP(CONCATENATE($B$30,\"_\",C41),選手名簿!$A:$E,5,FALSE))","v":""},null,null,null,null,null,null,null,{"$f":"IF(ISERROR(VLOOKUP(CONCATENATE($J$30,\"_\",I41),選手名簿!$A:$E,5,FALSE))=TRUE,\"\",VLOOKUP(CONCATENATE($J$30,\"_\",I41),選手名簿!$A:$E,5,FALSE))","v":""},null,null,"警告",{"$f":"IF(ISERROR(VLOOKUP(CONCATENATE($N$30,\"_\",O41),選手名簿!$A:$E,5,FALSE))=TRUE,\"\",VLOOKUP(CONCATENATE($N$30,\"_\",O41),選手名簿!$A:$E,5,FALSE))","v":"福島　愛司"},3,24,"ラフ",null,null,null,null,{"$f":"IF(ISERROR(VLOOKUP(CONCATENATE($V$30,\"_\",U41),選手名簿!$A:$E,5,FALSE))=TRUE,\"\",VLOOKUP(CONCATENATE($V$30,\"_\",U41),選手名簿!$A:$E,5,FALSE))","v":""}]
[null,{"$f":"IF(ISERROR(VLOOKUP(CONCATENATE($B$30,\"_\",C42),選手名簿!$A:$E,5,FALSE))=TRUE,\"\",VLOOKUP(CONCATENATE($B$30,\"_\",C42),選手名簿!$A:$E,5,FALSE))","v":""},null,null,null,null,null,null,null,{"$f":"IF(ISERROR(VLOOKUP(CONCATENATE($J$30,\"_\",I42),選手名簿!$A:$E,5,FALSE))=TRUE,\"\",VLOOKUP(CONCATENATE($J$30,\"_\",I42),選手名簿!$A:$E,5,FALSE))","v":""},null,null,null,{"$f":"IF(ISERROR(VLOOKUP(CONCATENATE($N$30,\"_\",O42),選手名簿!$A:$E,5,FALSE))=TRUE,\"\",VLOOKUP(CONCATENATE($N$30,\"_\",O42),選手名簿!$A:$E,5,FALSE))","v":""},null,null,null,null,null,null,null,{"$f":"IF(ISERROR(VLOOKUP(CONCATENATE($V$30,\"_\",U42),選手名簿!$A:$E,5,FALSE))=TRUE,\"\",VLOOKUP(CONCATENATE($V$30,\"_\",U42),選手名簿!$A:$E,5,FALSE))","v":""},null,null,"勝点表",null,"勝","○",null,"PK\n勝","△",null,"PK\n負","▲",null,"負","●"]
[null,{"$f":"IF(ISERROR(VLOOKUP(CONCATENATE($B$30,\"_\",C43),選手名簿!$A:$E,5,FALSE))=TRUE,\"\",VLOOKUP(CONCATENATE($B$30,\"_\",C43),選手名簿!$A:$E,5,FALSE))","v":""},null,null,null,null,null,null,null,{"$f":"IF(ISERROR(VLOOKUP(CONCATENATE($J$30,\"_\",I43),選手名簿!$A:$E,5,FALSE))=TRUE,\"\",VLOOKUP(CONCATENATE($J$30,\"_\",I43),選手名簿!$A:$E,5,FALSE))","v":""},null,null,null,{"$f":"IF(ISERROR(VLOOKUP(CONCATENATE($N$30,\"_\",O43),選手名簿!$A:$E,5,FALSE))=TRUE,\"\",VLOOKUP(CONCATENATE($N$30,\"_\",O43),選手名簿!$A:$E,5,FALSE))","v":""},null,null,null,null,null,null,null,{"$f":"IF(ISERROR(VLOOKUP(CONCATENATE($V$30,\"_\",U43),選手名簿!$A:$E,5,FALSE))=TRUE,\"\",VLOOKUP(CONCATENATE($V$30,\"_\",U43),選手名簿!$A:$E,5,FALSE))","v":""},null,null,null,null,null,3,null,null,2,null,null,1,null,null,0]
[null,{"$f":"IF(ISERROR(VLOOKUP(CONCATENATE($B$30,\"_\",C44),選手名簿!$A:$E,5,FALSE))=TRUE,\"\",VLOOKUP(CONCATENATE($B$30,\"_\",C44),選手名簿!$A:$E,5,FALSE))","v":""},null,null,null,null,null,null,null,{"$f":"IF(ISERROR(VLOOKUP(CONCATENATE($J$30,\"_\",I44),選手名簿!$A:$E,5,FALSE))=TRUE,\"\",VLOOKUP(CONCATENATE($J$30,\"_\",I44),選手名簿!$A:$E,5,FALSE))","v":""},null,null,null,{"$f":"IF(ISERROR(VLOOKUP(CONCATENATE($N$30,\"_\",O44),選手名簿!$A:$E,5,FALSE))=TRUE,\"\",VLOOKUP(CONCATENATE($N$30,\"_\",O44),選手名簿!$A:$E,5,FALSE))","v":""},null,null,null,null,null,null,null,{"$f":"IF(ISERROR(VLOOKUP(CONCATENATE($V$30,\"_\",U44),選手名簿!$A:$E,5,FALSE))=TRUE,\"\",VLOOKUP(CONCATENATE($V$30,\"_\",U44),選手名簿!$A:$E,5,FALSE))","v":""}]
[null,{"$f":"IF(ISERROR(VLOOKUP(CONCATENATE($B$30,\"_\",C45),選手名簿!$A:$E,5,FALSE))=TRUE,\"\",VLOOKUP(CONCATENATE($B$30,\"_\",C45),選手名簿!$A:$E,5,FALSE))","v":""},null,null,null,null,null,null,null,{"$f":"IF(ISERROR(VLOOKUP(CONCATENATE($J$30,\"_\",I45),選手名簿!$A:$E,5,FALSE))=TRUE,\"\",VLOOKUP(CONCATENATE($J$30,\"_\",I45),選手名簿!$A:$E,5,FALSE))","v":""},null,null,null,{"$f":"IF(ISERROR(VLOOKUP(CONCATENATE($N$30,\"_\",O45),選手名簿!$A:$E,5,FALSE))=TRUE,\"\",VLOOKUP(CONCATENATE($N$30,\"_\",O45),選手名簿!$A:$E,5,FALSE))","v":""},null,null,null,null,null,null,null,{"$f":"IF(ISERROR(VLOOKUP(CONCATENATE($V$30,\"_\",U45),選手名簿!$A:$E,5,FALSE))=TRUE,\"\",VLOOKUP(CONCATENATE($V$30,\"_\",U45),選手名簿!$A:$E,5,FALSE))","v":""}]
[]
[]
["⑤\n14:00～",{"$f":"C9","v":"豊府サッカースポーツ少年団"},{"$f":"IF(E48=\"\",\"\",SUM(E48:E49))","v":1},"（",0,"前半",1,"）",{"$f":"IF(G48=\"\",\"\",SUM(G48:G49))","v":5},{"$f":"C7","v":"明治北ＳＳＣ"},null,null,"⑥\n15:00～",{"$f":"O9","v":"ＫＩＮＧＳ　ＦＯＯＴＢＡＬＬＣＬＵＢ　Ｕ－１２"},{"$f":"IF(Q48=\"\",\"\",SUM(Q48:Q49))","v":1},"（",1,"前半",2,"）",{"$f":"IF(S48=\"\",\"\",SUM(S48:S49))","v":2},{"$f":"O7","v":"鶴居ＳＳＳ"},null,null,{"$f":"$Y$1","v":"OFA 第 53 回大分県U-12サッカー大会　兼　KYFA 九州U-12サッカー大会大分県大会"},null,null,null,null,null,null,null,null,null,null,null,null,null,null,null,null,null,null,null,null,null,null,null,null,null,null,null,null,null,null,null,null,null,null,null,{"$f":"$BI$1","v":"２次リーグ結果　報告用紙"}]
[null,null,null,null,1,"後半",4,null,null,null,null,null,null,null,null,null,0,"後半",0]
[null,null,null,null,null,"PK",null,null,null,null,null,null,null,null,null,null,null,"PK",null,null,null,null,null,null,"＜時間割＞　①10:00～　②11:00～　③12:00～　④13:00～　⑤14:00～　⑥15:00～"]
["MC","福元　研治",null,null,null,null,"所属協会",null,null,"大分市サッカー協会",null,null,"MC","津守　一雄",null,null,null,null,"所属協会",null,null,"大分市サッカー協会"]
["WelfareOfficer","福元　研治",null,null,null,null,"所属協会",null,null,"大分市サッカー協会",null,null,"WelfareOfficer","津守　一雄",null,null,null,null,"所属協会",null,null,"大分市サッカー協会"]
["記録","平尾　彰敏",null,null,null,null,"所属協会",null,null,"大分市サッカー協会",null,null,"記録","森山　信浩",null,null,null,null,"所属協会",null,null,"大分市サッカー協会"]
["R:",{"$f":"IF(ISERROR(VLOOKUP(G54,審判員!$A:$C,2,FALSE))=TRUE,\"\",VLOOKUP(G54,審判員!$A:$C,2,FALSE))","v":"中村　友海"},{"$f":"IF(ISERROR(VLOOKUP(G54,審判員!$A:$C,3,FALSE))=TRUE,\"\",VLOOKUP(G54,審判員!$A:$C,3,FALSE))","v":3},"級","資格番号",null,"R010382275",null,null,"本部",null,null,"R:",{"$f":"IF(ISERROR(VLOOKUP(S54,審判員!$A:$C,2,FALSE))=TRUE,\"\",VLOOKUP(S54,審判員!$A:$C,2,FALSE))","v":"佐藤　慎二"},{"$f":"IF(ISERROR(VLOOKUP(S54,審判員!$A:$C,3,FALSE))=TRUE,\"\",VLOOKUP(S54,審判員!$A:$C,3,FALSE))","v":3},"級","資格番号",null,"R009460551",null,null,"本部",null,null,"会場",null,null,{"$f":"$N$4","v":"大分"},null,null,null,null,null,"⇒",{"$f":"$P$4","v":"大在東グラウンド"}]
["AR1:",{"$f":"IF(ISERROR(VLOOKUP(G55,審判員!$A:$C,2,FALSE))=TRUE,\"\",VLOOKUP(G55,審判員!$A:$C,2,FALSE))","v":"平川　伸吾"},{"$f":"IF(ISERROR(VLOOKUP(G55,審判員!$A:$C,3,FALSE))=TRUE,\"\",VLOOKUP(G55,審判員!$A:$C,3,FALSE))","v":3},"級","資格番号",null,"R003972513",null,null,{"$f":"N48","v":"ＫＩＮＧＳ　ＦＯＯＴＢＡＬＬＣＬＵＢ　Ｕ－１２"},null,null,"AR1:",{"$f":"IF(ISERROR(VLOOKUP(S55,審判員!$A:$C,2,FALSE))=TRUE,\"\",VLOOKUP(S55,審判員!$A:$C,2,FALSE))","v":"野中　裕介"},{"$f":"IF(ISERROR(VLOOKUP(S55,審判員!$A:$C,3,FALSE))=TRUE,\"\",VLOOKUP(S55,審判員!$A:$C,3,FALSE))","v":3},"級","資格番号",null,"R010214556",null,null,{"$f":"B48","v":"豊府サッカースポーツ少年団"}]
["AR2:",{"$f":"IF(ISERROR(VLOOKUP(G56,審判員!$A:$C,2,FALSE))=TRUE,\"\",VLOOKUP(G56,審判員!$A:$C,2,FALSE))","v":"朝比奈　義行"},{"$f":"IF(ISERROR(VLOOKUP(G56,審判員!$A:$C,3,FALSE))=TRUE,\"\",VLOOKUP(G56,審判員!$A:$C,3,FALSE))","v":3},"級","資格番号",null,"R003972391",null,null,{"$f":"V48","v":"鶴居ＳＳＳ"},null,null,"AR2:",{"$f":"IF(ISERROR(VLOOKUP(S56,審判員!$A:$C,2,FALSE))=TRUE,\"\",VLOOKUP(S56,審判員!$A:$C,2,FALSE))","v":"廣戸　誠一"},{"$f":"IF(ISERROR(VLOOKUP(S56,審判員!$A:$C,3,FALSE))=TRUE,\"\",VLOOKUP(S56,審判員!$A:$C,3,FALSE))","v":3},"級","資格番号",null,"R001260070",null,null,{"$f":"J48","v":"明治北ＳＳＣ"}]
["4th:",{"$f":"IF(ISERROR(VLOOKUP(G57,審判員!$A:$C,2,FALSE))=TRUE,\"\",VLOOKUP(G57,審判員!$A:$C,2,FALSE))","v":"小石川　悟"},{"$f":"IF(ISERROR(VLOOKUP(G57,審判員!$A:$C,3,FALSE))=TRUE,\"\",VLOOKUP(G57,審判員!$A:$C,3,FALSE))","v":3},"級","資格番号",null,"R001256402",null,null,"本部",null,null,"4th:",{"$f":"IF(ISERROR(VLOOKUP(S57,審判員!$A:$C,2,FALSE))=TRUE,\"\",VLOOKUP(S57,審判員!$A:$C,2,FALSE))","v":"森　隆嗣"},{"$f":"IF(ISERROR(VLOOKUP(S57,審判員!$A:$C,3,FALSE))=TRUE,\"\",VLOOKUP(S57,審判員!$A:$C,3,FALSE))","v":3},"級","資格番号",null,"R010027876",null,null,"本部"]
["警告/退場","氏名","背番号","分","内容",null,"内容","分","背番号","氏名","警告/退場",null,"警告/退場","氏名","背番号","分","内容",null,"内容","分","背番号","氏名","警告/退場",null,"パート",null,null,{"$f":"$N$6","v":"2次リーグ　Dパート"}]
[null,{"$f":"IF(ISERROR(VLOOKUP(CONCATENATE($B$48,\"_\",C59),選手名簿!$A:$E,5,FALSE))=TRUE,\"\",VLOOKUP(CONCATENATE($B$48,\"_\",C59),選手名簿!$A:$E,5,FALSE))","v":""},null,null,null,null,null,null,null,{"$f":"IF(ISERROR(VLOOKUP(CONCATENATE($J$48,\"_\",I59),選手名簿!$A:$E,5,FALSE))=TRUE,\"\",VLOOKUP(CONCATENATE($J$48,\"_\",I59),選手名簿!$A:$E,5,FALSE))","v":""},null,null,null,{"$f":"IF(ISERROR(VLOOKUP(CONCATENATE($N$48,\"_\",O59),選手名簿!$A:$E,5,FALSE))=TRUE,\"\",VLOOKUP(CONCATENATE($N$48,\"_\",O59),選手名簿!$A:$E,5,FALSE))","v":""},null,null,null,null,null,null,null,{"$f":"IF(ISERROR(VLOOKUP(CONCATENATE($V$48,\"_\",U59),選手名簿!$A:$E,5,FALSE))=TRUE,\"\",VLOOKUP(CONCATENATE($V$48,\"_\",U59),選手名簿!$A:$E,5,FALSE))","v":""}]
[null,{"$f":"IF(ISERROR(VLOOKUP(CONCATENATE($B$48,\"_\",C60),選手名簿!$A:$E,5,FALSE))=TRUE,\"\",VLOOKUP(CONCATENATE($B$48,\"_\",C60),選手名簿!$A:$E,5,FALSE))","v":""},null,null,null,null,null,null,null,{"$f":"IF(ISERROR(VLOOKUP(CONCATENATE($J$48,\"_\",I60),選手名簿!$A:$E,5,FALSE))=TRUE,\"\",VLOOKUP(CONCATENATE($J$48,\"_\",I60),選手名簿!$A:$E,5,FALSE))","v":""},null,null,null,{"$f":"IF(ISERROR(VLOOKUP(CONCATENATE($N$48,\"_\",O60),選手名簿!$A:$E,5,FALSE))=TRUE,\"\",VLOOKUP(CONCATENATE($N$48,\"_\",O60),選手名簿!$A:$E,5,FALSE))","v":""},null,null,null,null,null,null,null,{"$f":"IF(ISERROR(VLOOKUP(CONCATENATE($V$48,\"_\",U60),選手名簿!$A:$E,5,FALSE))=TRUE,\"\",VLOOKUP(CONCATENATE($V$48,\"_\",U60),選手名簿!$A:$E,5,FALSE))","v":""},null,null,null,{"$f":"$N$7","v":"J"},null,null,{"$f":"$O$7","v":"鶴居ＳＳＳ"},null,null,null,null,null,null,null,null,null,null,null,null,{"$f":"$V$7","v":"中津"}]
[null,{"$f":"IF(ISERROR(VLOOKUP(CONCATENATE($B$48,\"_\",C61),選手名簿!$A:$E,5,FALSE))=TRUE,\"\",VLOOKUP(CONCATENATE($B$48,\"_\",C61),選手名簿!$A:$E,5,FALSE))","v":""},null,null,null,null,null,null,null,{"$f":"IF(ISERROR(VLOOKUP(CONCATENATE($J$48,\"_\",I61),選手名簿!$A:$E,5,FALSE))=TRUE,\"\",VLOOKUP(CONCATENATE($J$48,\"_\",I61),選手名簿!$A:$E,5,FALSE))","v":""},null,null,null,{"$f":"IF(ISERROR(VLOOKUP(CONCATENATE($N$48,\"_\",O61),選手名簿!$A:$E,5,FALSE))=TRUE,\"\",VLOOKUP(CONCATENATE($N$48,\"_\",O61),選手名簿!$A:$E,5,FALSE))","v":""},null,null,null,null,null,null,null,{"$f":"IF(ISERROR(VLOOKUP(CONCATENATE($V$48,\"_\",U61),選手名簿!$A:$E,5,FALSE))=TRUE,\"\",VLOOKUP(CONCATENATE($V$48,\"_\",U61),選手名簿!$A:$E,5,FALSE))","v":""}]
[null,{"$f":"IF(ISERROR(VLOOKUP(CONCATENATE($B$48,\"_\",C62),選手名簿!$A:$E,5,FALSE))=TRUE,\"\",VLOOKUP(CONCATENATE($B$48,\"_\",C62),選手名簿!$A:$E,5,FALSE))","v":""},null,null,null,null,null,null,null,{"$f":"IF(ISERROR(VLOOKUP(CONCATENATE($J$48,\"_\",I62),選手名簿!$A:$E,5,FALSE))=TRUE,\"\",VLOOKUP(CONCATENATE($J$48,\"_\",I62),選手名簿!$A:$E,5,FALSE))","v":""},null,null,null,{"$f":"IF(ISERROR(VLOOKUP(CONCATENATE($N$48,\"_\",O62),選手名簿!$A:$E,5,FALSE))=TRUE,\"\",VLOOKUP(CONCATENATE($N$48,\"_\",O62),選手名簿!$A:$E,5,FALSE))","v":""},null,null,null,null,null,null,null,{"$f":"IF(ISERROR(VLOOKUP(CONCATENATE($V$48,\"_\",U62),選手名簿!$A:$E,5,FALSE))=TRUE,\"\",VLOOKUP(CONCATENATE($V$48,\"_\",U62),選手名簿!$A:$E,5,FALSE))","v":""},null,null,null,{"$f":"$N$8","v":"K"},null,null,{"$f":"$O$8","v":"スマイス　セレソン　スポーツクラブ"},null,null,null,null,null,null,null,null,null,null,null,null,{"$f":"$V$8","v":"大分"}]
[null,{"$f":"IF(ISERROR(VLOOKUP(CONCATENATE($B$48,\"_\",C63),選手名簿!$A:$E,5,FALSE))=TRUE,\"\",VLOOKUP(CONCATENATE($B$48,\"_\",C63),選手名簿!$A:$E,5,FALSE))","v":""},null,null,null,null,null,null,null,{"$f":"IF(ISERROR(VLOOKUP(CONCATENATE($J$48,\"_\",I63),選手名簿!$A:$E,5,FALSE))=TRUE,\"\",VLOOKUP(CONCATENATE($J$48,\"_\",I63),選手名簿!$A:$E,5,FALSE))","v":""},null,null,null,{"$f":"IF(ISERROR(VLOOKUP(CONCATENATE($N$48,\"_\",O63),選手名簿!$A:$E,5,FALSE))=TRUE,\"\",VLOOKUP(CONCATENATE($N$48,\"_\",O63),選手名簿!$A:$E,5,FALSE))","v":""},null,null,null,null,null,null,null,{"$f":"IF(ISERROR(VLOOKUP(CONCATENATE($V$48,\"_\",U63),選手名簿!$A:$E,5,FALSE))=TRUE,\"\",VLOOKUP(CONCATENATE($V$48,\"_\",U63),選手名簿!$A:$E,5,FALSE))","v":""}]
[null,null,null,null,null,null,null,null,null,null,null,null,null,null,null,null,null,null,null,null,null,null,null,null,null,{"$f":"$N$9","v":"L"},null,null,{"$f":"$O$9","v":"ＫＩＮＧＳ　ＦＯＯＴＢＡＬＬＣＬＵＢ　Ｕ－１２"},null,null,null,null,null,null,null,null,null,null,null,null,{"$f":"$V$9","v":"大分"}]
[]
[]
[]
[]
[]
[]
[]
[null,null,null,null,null,null,null,null,null,null,null,null,null,null,null,null,null,null,null,null,null,null,null,null,{"$f":"$Y$6","v":"パート"},null,null,null,{"$f":"$AB$58","v":"2次リーグ　Dパート"},null,null,{"$f":"$Y$78","v":"鶴居ＳＳＳ"},null,null,null,null,{"$f":"$Y$84","v":"スマイス　セレソン　スポーツクラブ"},null,null,null,null,{"$f":"$Y$90","v":"ＫＩＮＧＳ　ＦＯＯＴＢＡＬＬＣＬＵＢ　Ｕ－１２"},null,null,null,null,"勝",null,"PK\n勝",null,"PK\n負",null,"負",null,"得点",null,"失点",null,"勝点",null,"勝点\n順位",null,"得失\n点差",null,"得失\n順位",null,"総\n順位"]
[]
[]
[]
[]
[]
[null,null,null,null,null,null,null,null,null,null,null,null,null,null,null,null,null,null,null,null,null,null,null,null,{"$f":"$AC$60","v":"鶴居ＳＳＳ"},null,null,null,null,"星取表",null,null,null,null,null,null,{"$f":"IF(AK82=\"\",\"\",IF(AK82>AN82,\"○\",IF(AK82<AN82,\"●\",IF(AK80>AN80,\"△\",IF(AK80<AN80,\"▲\")))))","v":"●"},null,null,null,null,{"$f":"IF(AP82=\"\",\"\",IF(AP82>AS82,\"○\",IF(AP82<AS82,\"●\",IF(AP80>AS80,\"△\",IF(AP80<AS80,\"▲\")))))","v":"○"},null,null,null,null,{"$f":"COUNTIF($AF$78:$AT$79,\"○\")","v":1},null,{"$f":"COUNTIF($AF$78:$AT$79,\"△\")","v":0},null,{"$f":"COUNTIF($AF$78:$AT$79,\"▲\")","v":0},null,{"$f":"COUNTIF($AF$78:$AT$79,\"●\")","v":1},null,{"$f":"SUM($AK$82,$AP$82)","v":2},null,{"$f":"SUM($AN$82,$AS$82)","v":3},null,{"$f":"($AU$78*3)+($AW$78*2)+($AY$78*1)","v":3},null,{"$f":"RANK($BG$78,$BG$78:$BH$95)","v":1},null,{"$f":"$BC$78-$BE$78","v":-1},null,{"$f":"RANK($BK$78,$BK$78:$BL$95)","v":2}]
[]
[null,null,null,null,null,null,null,null,null,null,null,null,null,null,null,null,null,null,null,null,null,null,null,null,null,null,null,null,null,null,null,null,null,null,null,null,{"$f":"IF($Q$14=\"\",\"\",$Q$14)","v":""},null,"―",{"$f":"IF($S$14=\"\",\"\",$S$14)","v":""},null,{"$f":"IF($S$50=\"\",\"\",$S$50)","v":""},null,"―",{"$f":"IF($Q$50=\"\",\"\",$Q$50)","v":""}]
[null,null,null,null,null,null,null,null,null,null,null,null,null,null,null,null,null,null,null,null,null,null,null,null,null,null,null,null,null,"得失点"]
[null,null,null,null,null,null,null,null,null,null,null,null,null,null,null,null,null,null,null,null,null,null,null,null,null,null,null,null,null,null,null,null,null,null,null,null,{"$f":"$O$12","v":0},null,"―",{"$f":"$U$12","v":2},null,{"$f":"$U$48","v":2},null,"―",{"$f":"$O$48","v":1}]
[]
[null,null,null,null,null,null,null,null,null,null,null,null,null,null,null,null,null,null,null,null,null,null,null,null,{"$f":"$AC$62","v":"スマイス　セレソン　スポーツクラブ"},null,null,null,null,"星取表",null,{"$f":"IF(AF88=\"\",\"\",IF(AF88>AI88,\"○\",IF(AF88<AI88,\"●\",IF(AF86>AI86,\"△\",IF(AF86<AI86,\"▲\")))))","v":"○"},null,null,null,null,null,null,null,null,null,{"$f":"IF(AP88=\"\",\"\",IF(AP88>AS88,\"○\",IF(AP88<AS88,\"●\",IF(AP86>AS86,\"△\",IF(AP86<AS86,\"▲\")))))","v":false},null,null,null,null,{"$f":"COUNTIF($AF$84:$AT$85,\"○\")","v":1},null,{"$f":"COUNTIF($AF$84:$AT$85,\"△\")","v":0},null,{"$f":"COUNTIF($AF$84:$AT$85,\"▲\")","v":0},null,{"$f":"COUNTIF($AF$84:$AT$85,\"●\")","v":0},null,{"$f":"SUM($AF$88,$AP$88)","v":3},null,{"$f":"SUM($AI$88,$AS$88)","v":1},null,{"$f":"($AU$84*3)+($AW$84*2)+($AY$84*1)","v":3},null,{"$f":"RANK($BG$84,$BG$78:$BH$95)","v":1},null,{"$f":"$BC$84-$BE$84","v":2},null,{"$f":"RANK($BK$84,$BK$78:$BL$95)","v":1}]
[]
[null,null,null,null,null,null,null,null,null,null,null,null,null,null,null,null,null,null,null,null,null,null,null,null,null,null,null,null,null,null,null,{"$f":"AN80","v":""},null,"―",{"$f":"AK80","v":""},null,null,null,null,null,null,{"$f":"IF($Q$32=\"\",\"\",$Q$32)","v":""},null,"―",{"$f":"IF($S$32=\"\",\"\",$S$32)","v":""}]
[null,null,null,null,null,null,null,null,null,null,null,null,null,null,null,null,null,null,null,null,null,null,null,null,null,null,null,null,null,"得失点"]
[null,null,null,null,null,null,null,null,null,null,null,null,null,null,null,null,null,null,null,null,null,null,null,null,null,null,null,null,null,null,null,{"$f":"AN82","v":2},null,"―",{"$f":"AK82","v":0},null,null,null,null,null,null,{"$f":"$O$30","v":1},null,"―",{"$f":"$U$30","v":1}]
[]
[null,null,null,null,null,null,null,null,null,null,null,null,null,null,null,null,null,null,null,null,null,null,null,null,{"$f":"$AC$64","v":"ＫＩＮＧＳ　ＦＯＯＴＢＡＬＬＣＬＵＢ　Ｕ－１２"},null,null,null,null,"星取表",null,{"$f":"IF(AF94=\"\",\"\",IF(AF94>AI94,\"○\",IF(AF94<AI94,\"●\",IF(AF92>AI92,\"△\",IF(AF92<AI92,\"▲\")))))","v":"●"},null,null,null,null,{"$f":"IF(AK94=\"\",\"\",IF(AK94>AN94,\"○\",IF(AK94<AN94,\"●\",IF(AK92>AN92,\"△\",IF(AK92<AN92,\"▲\")))))","v":false},null,null,null,null,null,null,null,null,null,{"$f":"COUNTIF($AF$90:$AT$91,\"○\")","v":0},null,{"$f":"COUNTIF($AF$90:$AT$91,\"△\")","v":0},null,{"$f":"COUNTIF($AF$90:$AT$91,\"▲\")","v":0},null,{"$f":"COUNTIF($AF$90:$AT$91,\"●\")","v":1},null,{"$f":"SUM($AF$94,$AK$94)","v":2},null,{"$f":"SUM($AI$94,$AN$94)","v":3},null,{"$f":"($AU$90*3)+($AW$90*2)+($AY$90*1)","v":0},null,{"$f":"RANK($BG$90,$BG$78:$BH$95)","v":3},null,{"$f":"$BC$90-$BE$90","v":-1},null,{"$f":"RANK($BK$90,$BK$78:$BL$95)","v":2}]
[]
[null,null,null,null,null,null,null,null,null,null,null,null,null,null,null,null,null,null,null,null,null,null,null,null,null,null,null,null,null,null,null,{"$f":"AS80","v":""},null,"―",{"$f":"AP80","v":""},null,{"$f":"AS86","v":""},null,"―",{"$f":"AP86","v":""}]
[null,null,null,null,null,null,null,null,null,null,null,null,null,null,null,null,null,null,null,null,null,null,null,null,null,null,null,null,null,"得失点"]
[null,null,null,null,null,null,null,null,null,null,null,null,null,null,null,null,null,null,null,null,null,null,null,null,null,null,null,null,null,null,null,{"$f":"AS82","v":1},null,"―",{"$f":"AP82","v":2},null,{"$f":"AS88","v":1},null,"―",{"$f":"AP88","v":1}]
[]
[]
[null,null,null,null,null,null,null,null,null,null,null,null,null,null,null,null,null,null,null,null,null,null,null,null,"Ⅰ勝点（勝３点　ＰＫ勝２点　ＰＫ負１点　負０点）　Ⅱ当該チームの戦績　Ⅲ得失点差　Ⅳ多得点　Ⅴ抽選の順で順位を決定する。"]
[]
[null,null,null,null,null,null,null,null,null,null,null,null,null,null,null,null,null,null,null,null,null,null,null,null,"勝点表",null,"勝","○",null,"PK\n勝","△",null,"PK\n負","▲",null,"負","●"]
[null,null,null,null,null,null,null,null,null,null,null,null,null,null,null,null,null,null,null,null,null,null,null,null,null,null,null,3,null,null,2,null,null,1,null,null,0]

{"sheet":"１次リーグ（速杵国東）","index":16,"n_rows":100,"n_cols":67,"rows_kept":100,"cut":false,"hidden":false,"merged":[[16,13,16,17],[16,18,16,20],[16,21,16,22],[32,1,32,5],[32,6,32,8],[32,9,32,10],[33,1,33,5],[33,6,33,8],[33,9,33,10],[17,4,17,5],[17,6,17,8],[17,9,17,10],[17,16,17,17],[17,18,17,20],[17,21,17,22],[20,21,20,22],[19,4,19,5],[19,6,19,8],[19,9,19,10],[19,16,19,17],[19,18,19,20],[19,21,19,22],[20,4,20,5],[20,6,20,8],[34,1,34,5],[34,6,34,8],[34,9,34,10],[32,13,32,17],[32,18,32,20],[32,21,32,22],[33,13,33,17],[33,18,33,20],[33,21,33,22],[34,13,34,17],[34,18,34,20],[34,21,34,22],[50,13,50,17],[50,18,50,20],[50,21,50,22],[51,13,51,17],[51,18,51,20],[51,21,51,22],[52,13,52,17],[52,18,52,20],[52,21,52,22],[50,1,50,5],[50,6,50,8],[50,9,50,10],[51,1,51,5],[51,6,51,8],[51,9,51,10],[52,1,52,5],[52,6,52,8],[52,9,52,10],[89,36,90,40],[89,64,94,65],[93,36,94,37],[93,38,94,38],[93,39,94,40],[83,64,88,65],[89,58,94,59],[89,66,94,66],[91,31,92,32],[91,33,92,33],[91,34,92,35],[91,36,92,37],[91,38,92,38],[91,39,92,40],[93,31,94,32],[93,33,94,33],[93,34,94,35],[83,66,88,66],[85,31,86,32],[85,33,86,33],[85,34,86,35],[85,41,86,42],[85,43,86,43],[85,44,86,45],[87,31,88,32],[87,33,88,33],[83,46,88,47],[87,41,88,42],[87,43,88,43],[87,44,88,45],[36,39,37,40],[26,48,31,49],[32,62,37,63],[77,36,78,40],[77,41,78,45],[47,60,48,66],[77,50,82,51],[77,52,82,53],[77,54,82,55],[71,46,76,47],[71,48,76,49],[71,50,76,51],[71,52,76,53],[71,54,76,55],[71,60,76,61],[71,62,76,63],[71,64,76,65],[71,66,76,66],[32,66,37,66],[34,31,35,32],[34,33,35,33],[34,34,35,35],[34,36,35,37],[34,38,35,38],[34,39,35,40],[36,31,37,32],[36,33,37,33],[36,34,37,35],[32,54,37,55],[32,56,37,57],[32,60,37,61],[32,64,37,65],[14,58,19,59],[14,60,19,61],[14,62,19,63],[20,48,25,49],[20,50,25,51],[20,52,25,53],[24,41,25,42],[24,43,25,43],[24,44,25,45],[20,54,25,55],[20,56,25,57],[20,58,25,59],[20,60,25,61],[20,62,25,63],[0,60,0,66],[1,0,1,10],[1,12,1,22],[1,24,1,58],[0,9,0,10],[0,21,0,22],[98,35,99,35],[14,64,19,65],[14,66,19,66],[20,36,21,40],[20,41,21,45],[20,64,25,65],[20,66,25,66],[22,36,23,37],[22,38,23,38],[24,36,25,37],[14,36,19,40],[14,41,19,45],[14,46,19,47],[14,48,19,49],[14,50,19,51],[14,52,19,53],[14,54,19,55],[14,56,19,57],[3,3,3,10],[3,15,3,22],[3,24,3,26],[3,27,3,32],[3,34,3,48],[5,24,5,26],[6,41,6,44],[0,0,0,8],[0,12,0,20],[0,24,0,58],[7,2,7,8],[7,9,7,10],[7,14,7,20],[7,21,7,22],[7,25,7,27],[7,28,7,40],[7,41,7,44],[6,2,6,8],[6,9,6,10],[6,14,6,20],[6,21,6,22],[6,25,6,27],[6,28,6,40],[8,2,8,8],[8,9,8,10],[8,14,8,20],[8,21,8,22],[8,25,8,27],[8,28,8,40],[8,41,8,44],[11,0,13,0],[11,1,13,1],[11,2,13,2],[11,3,13,3],[11,7,13,7],[11,8,13,8],[11,9,13,9],[11,12,13,12],[11,13,13,13],[11,14,13,14],[11,15,13,15],[11,19,13,19],[11,20,13,20],[11,21,13,21],[14,24,19,27],[14,28,19,30],[14,31,19,35],[14,1,14,5],[14,6,14,8],[14,9,14,10],[15,1,15,5],[15,6,15,8],[15,9,15,10],[16,1,16,5],[16,6,16,8],[16,9,16,10],[14,13,14,17],[14,18,14,20],[14,21,14,22],[15,13,15,17],[15,18,15,20],[15,21,15,22],[18,4,18,5],[18,6,18,8],[18,9,18,10],[18,16,18,17],[18,18,18,20],[18,21,18,22],[20,9,20,10],[20,16,20,17],[20,18,20,20],[20,24,25,28],[20,29,22,30],[20,31,25,35],[20,46,25,47],[22,39,23,40],[22,41,23,42],[22,43,23,43],[22,44,23,45],[24,38,25,38],[24,39,25,40],[23,29,25,30],[77,64,82,65],[77,66,82,66],[79,36,80,37],[26,24,31,28],[26,29,28,30],[26,36,31,40],[26,46,31,47],[26,31,27,35],[26,41,27,45],[30,34,31,35],[30,41,31,42],[28,44,29,45],[30,31,31,32],[26,50,31,51],[26,52,31,53],[26,54,31,55],[26,56,31,57],[26,58,31,59],[26,60,31,61],[26,62,31,63],[26,64,31,65],[26,66,31,66],[79,43,80,43],[79,44,80,45],[29,13,31,13],[29,15,31,15],[32,58,37,59],[32,24,37,28],[32,29,34,30],[32,41,37,45],[32,46,37,47],[32,50,37,51],[32,52,37,53],[35,29,37,30],[32,48,37,49],[29,29,31,30],[28,31,29,32],[28,33,29,33],[28,34,29,35],[28,41,29,42],[28,43,29,43],[30,33,31,33],[30,43,31,43],[30,44,31,45],[32,31,33,35],[32,36,33,40],[36,36,37,37],[36,38,37,38],[29,12,31,12],[29,14,31,14],[29,19,31,19],[29,20,31,20],[35,18,35,20],[81,39,82,40],[81,41,82,42],[81,43,82,43],[53,9,53,10],[53,16,53,17],[53,18,53,20],[53,21,53,22],[53,33,54,33],[53,34,54,48],[57,24,58,26],[57,27,58,32],[61,25,62,27],[61,28,62,40],[61,41,62,44],[63,25,64,27],[63,28,64,40],[63,41,64,44],[71,41,76,45],[29,21,31,21],[41,29,42,29],[47,24,48,58],[41,35,42,35],[49,24,50,58],[77,56,82,57],[71,56,76,57],[29,0,31,0],[29,1,31,1],[29,2,31,2],[29,3,31,3],[29,7,31,7],[29,8,31,8],[35,21,35,22],[41,32,42,32],[36,9,36,10],[36,16,36,17],[35,4,35,5],[35,6,35,8],[35,9,35,10],[35,16,35,17],[36,18,36,20],[36,21,36,22],[37,4,37,5],[29,9,31,9],[37,6,37,8],[37,9,37,10],[37,16,37,17],[37,18,37,20],[37,21,37,22],[36,4,36,5],[36,6,36,8],[71,58,76,59],[59,25,60,27],[59,28,60,40],[38,4,38,5],[38,6,38,8],[38,9,38,10],[38,16,38,17],[38,18,38,20],[38,21,38,22],[59,41,60,44],[47,9,49,9],[71,24,76,27],[71,28,76,30],[71,31,76,35],[71,36,76,40],[53,4,53,5],[53,6,53,8],[47,0,49,0],[47,1,49,1],[47,2,49,2],[47,3,49,3],[47,7,49,7],[47,8,49,8],[47,21,49,21],[47,12,49,12],[47,13,49,13],[47,14,49,14],[47,15,49,15],[47,19,49,19],[47,20,49,20],[56,4,56,5],[56,6,56,8],[56,9,56,10],[56,16,56,17],[56,18,56,20],[56,21,56,22],[5,27,5,32],[53,24,54,26],[53,27,54,32],[39,24,40,57],[41,24,42,25],[41,26,42,26],[54,4,54,5],[54,6,54,8],[54,9,54,10],[54,16,54,17],[54,18,54,20],[54,21,54,22],[55,4,55,5],[55,6,55,8],[55,9,55,10],[55,16,55,17],[55,18,55,20],[55,21,55,22],[77,24,82,28],[77,29,79,30],[77,31,82,35],[77,46,82,47],[77,48,82,49],[77,58,82,59],[77,60,82,61],[77,62,82,63],[83,58,88,59],[80,29,82,30],[83,24,88,28],[83,29,85,30],[83,36,88,40],[83,31,84,35],[83,41,84,45],[87,34,88,35],[81,36,82,37],[81,38,82,38],[83,62,88,63],[86,29,88,30],[81,44,82,45],[79,38,80,38],[79,39,80,40],[79,41,80,42],[89,24,94,28],[89,29,91,30],[89,41,94,45],[89,46,94,47],[89,62,94,63],[92,29,94,30],[83,48,88,49],[96,24,97,57],[98,24,99,25],[98,26,99,26],[98,29,99,29],[98,32,99,32],[83,60,88,61],[83,50,88,51],[83,52,88,53],[83,54,88,55],[83,56,88,57],[89,60,94,61],[89,50,94,51],[89,52,94,53],[89,54,94,55],[89,56,94,57],[89,48,94,49],[89,31,90,35]]}
[{"$f":"抽選会資料!B1","v":"OFA 第 53 回大分県U-12サッカー大会　兼　KYFA 九州U-12サッカー大会大分県大会"},null,null,null,null,null,null,null,null,"１次リーグ結果　報告用紙",null,null,{"$f":"抽選会資料!B1","v":"OFA 第 53 回大分県U-12サッカー大会　兼　KYFA 九州U-12サッカー大会大分県大会"},null,null,null,null,null,null,null,null,"１次リーグ結果　報告用紙",null,null,{"$f":"$A$1","v":"OFA 第 53 回大分県U-12サッカー大会　兼　KYFA 九州U-12サッカー大会大分県大会"},null,null,null,null,null,null,null,null,null,null,null,null,null,null,null,null,null,null,null,null,null,null,null,null,null,null,null,null,null,null,null,null,null,null,null,{"$f":"$J$1","v":"１次リーグ結果　報告用紙"}]
["＜時間割＞　①10:00～　②11:00～　③12:00～　④13:00～　⑤14:00～　⑥15:00～",null,null,null,null,null,null,null,null,null,null,null,"＜時間割＞　①10:00～　②11:00～　③12:00～　④13:00～　⑤14:00～　⑥15:00～",null,null,null,null,null,null,null,null,null,null,null,"＜時間割＞　①10:00～　②11:00～　③12:00～　④13:00～　⑤14:00～　⑥15:00～"]
[]
["会場",{"$f":"組み合わせ!D7","v":"速杵国東"},"⇒",{"$f":"VLOOKUP(B4,抽選会資料!$B$52:$F$60,2,FALSE)","v":"フットボールセンター大分きつき(杵築市営サッカー場)"},null,null,null,null,null,null,null,null,"会場",{"$f":"組み合わせ!D7","v":"速杵国東"},"⇒",{"$f":"VLOOKUP(N4,抽選会資料!$B$52:$F$60,2,FALSE)","v":"フットボールセンター大分きつき(杵築市営サッカー場)"},null,null,null,null,null,null,null,null,"会場",null,null,{"$f":"$B$4","v":"速杵国東"},null,null,null,null,null,"⇒",{"$f":"$D$4","v":"フットボールセンター大分きつき(杵築市営サッカー場)"}]
[]
["パート",{"$f":"VLOOKUP(B4,組み合わせ!$AL$95:$BU$112,13,FALSE)","v":"A"},null,null,null,null,null,null,null,null,null,null,"パート",{"$f":"VLOOKUP(N4,組み合わせ!$AL$95:$BU$112,25,FALSE)","v":"I"},null,null,null,null,null,null,null,null,null,null,"パート",null,null,{"$f":"$B$6","v":"A"}]
[null,{"$f":"CONCATENATE($B$6,1)","v":"A1"},{"$f":"HLOOKUP(B7,組み合わせ!$B$48:$EO$86,2,FALSE)","v":"八坂少年サッカークラブ"},null,null,null,null,null,null,{"$f":"HLOOKUP(B7,組み合わせ!$B$48:$EO$86,32,FALSE)","v":"速杵国東"},null,null,null,{"$f":"CONCATENATE($N$6,1)","v":"I1"},{"$f":"HLOOKUP(N7,組み合わせ!$B$48:$EO$86,2,FALSE)","v":"ＯＫＹ山香サッカークラブ"},null,null,null,null,null,null,{"$f":"HLOOKUP(N7,組み合わせ!$B$48:$EO$86,32,FALSE)","v":"速杵国東"},null,null,null,{"$f":"+B7","v":"A1"},null,null,{"$f":"$C$7","v":"八坂少年サッカークラブ"},null,null,null,null,null,null,null,null,null,null,null,null,{"$f":"$J$7","v":"速杵国東"}]
[null,{"$f":"CONCATENATE($B$6,2)","v":"A2"},{"$f":"HLOOKUP(B8,組み合わせ!$B$48:$EO$86,2,FALSE)","v":"ブルーウイングフットボールクラブ"},null,null,null,null,null,null,{"$f":"HLOOKUP(B8,組み合わせ!$B$48:$EO$86,32,FALSE)","v":"大分"},null,null,null,{"$f":"CONCATENATE($N$6,2)","v":"I2"},{"$f":"HLOOKUP(N8,組み合わせ!$B$48:$EO$86,2,FALSE)","v":"ドリームキッズフットボールクラブ"},null,null,null,null,null,null,{"$f":"HLOOKUP(N8,組み合わせ!$B$48:$EO$86,32,FALSE)","v":"大分"},null,null,null,{"$f":"+B8","v":"A2"},null,null,{"$f":"$C$8","v":"ブルーウイングフットボールクラブ"},null,null,null,null,null,null,null,null,null,null,null,null,{"$f":"$J$8","v":"大分"}]
[null,{"$f":"CONCATENATE($B$6,3)","v":"A3"},{"$f":"HLOOKUP(B9,組み合わせ!$B$48:$EO$86,2,FALSE)","v":"鶴岡Ｓ―ｐｌａｙ・ＭＩＮＡＭＩ"},null,null,null,null,null,null,{"$f":"HLOOKUP(B9,組み合わせ!$B$48:$EO$86,32,FALSE)","v":"佐伯"},null,null,null,{"$f":"CONCATENATE($N$6,3)","v":"I3"},{"$f":"HLOOKUP(N9,組み合わせ!$B$48:$EO$86,2,FALSE)","v":"玖珠サッカースポーツ少年団"},null,null,null,null,null,null,{"$f":"HLOOKUP(N9,組み合わせ!$B$48:$EO$86,32,FALSE)","v":"日田・玖珠"},null,null,null,{"$f":"+B9","v":"A3"},null,null,{"$f":"$C$9","v":"鶴岡Ｓ―ｐｌａｙ・ＭＩＮＡＭＩ"},null,null,null,null,null,null,null,null,null,null,null,null,{"$f":"$J$9","v":"佐伯"}]
["8：50～ＭＣＭ",null,null,null,null,null,null,null,null,null,null,null,"9：50～ＭＣＭ"]
[]
["①\n10:00～",{"$f":"C7","v":"八坂少年サッカークラブ"},{"$f":"IF(E12=\"\",\"\",SUM(E12:E13))","v":0},"（",0,"前半",5,"）",{"$f":"IF(G12=\"\",\"\",SUM(G12:G13))","v":11},{"$f":"C8","v":"ブルーウイングフットボールクラブ"},null,null,"②\n11:00～",{"$f":"O7","v":"ＯＫＹ山香サッカークラブ"},{"$f":"IF(Q12=\"\",\"\",SUM(Q12:Q13))","v":0},"（",0,"前半",2,"）",{"$f":"IF(S12=\"\",\"\",SUM(S12:S13))","v":3},{"$f":"O8","v":"ドリームキッズフットボールクラブ"}]
[null,null,null,null,0,"後半",6,null,null,null,null,null,null,null,null,null,0,"後半",1]
[null,null,null,null,null,"PK",null,null,null,null,null,null,null,null,null,null,null,"PK"]
["MC","石山　慎史",null,null,null,null,"所属協会",null,null,"速杵国東地区サッカー協会",null,null,"MC","中野　観司郎",null,null,null,null,"所属協会",null,null,"速杵国東地区サッカー協会",null,null,{"$f":"$Y$6","v":"パート"},null,null,null,{"$f":"$AB$6","v":"A"},null,null,{"$f":"$Y$21","v":"八坂少年サッカークラブ"},null,null,null,null,{"$f":"$Y$27","v":"ブルーウイングフットボールクラブ"},null,null,null,null,{"$f":"$Y$33","v":"鶴岡Ｓ―ｐｌａｙ・ＭＩＮＡＭＩ"},null,null,null,null,"勝",null,"PK\n勝",null,"PK\n負",null,"負",null,"得点",null,"失点",null,"勝点",null,"勝点\n順位",null,"得失\n点差",null,"得失\n順位",null,"総\n順位"]
["WelfareOfficer","石山　慎史",null,null,null,null,"所属協会",null,null,"速杵国東地区サッカー協会",null,null,"WelfareOfficer","中野　観司郎",null,null,null,null,"所属協会",null,null,"速杵国東地区サッカー協会"]
["記録","伊賀　隆博",null,null,null,null,"所属協会",null,null,"速杵国東地区サッカー協会",null,null,"記録","小田　邦昭",null,null,null,null,"所属協会",null,null,"速杵国東地区サッカー協会"]
["R:",{"$f":"IF(ISERROR(VLOOKUP(G18,審判員!$A:$C,2,FALSE))=TRUE,\"\",VLOOKUP(G18,審判員!$A:$C,2,FALSE))","v":"酒井　隆宏"},{"$f":"IF(ISERROR(VLOOKUP(G18,審判員!$A:$C,3,FALSE))=TRUE,\"\",VLOOKUP(G18,審判員!$A:$C,3,FALSE))","v":3},"級","資格番号",null,"R001251577",null,null,"本部",null,null,"R:",{"$f":"IF(ISERROR(VLOOKUP(S18,審判員!$A:$C,2,FALSE))=TRUE,\"\",VLOOKUP(S18,審判員!$A:$C,2,FALSE))","v":"安部　正信"},{"$f":"IF(ISERROR(VLOOKUP(S18,審判員!$A:$C,3,FALSE))=TRUE,\"\",VLOOKUP(S18,審判員!$A:$C,3,FALSE))","v":3},"級","資格番号",null,"R010281814",null,null,"本部"]
["AR1:",{"$f":"IF(ISERROR(VLOOKUP(G19,審判員!$A:$C,2,FALSE))=TRUE,\"\",VLOOKUP(G19,審判員!$A:$C,2,FALSE))","v":"唐下　直之"},{"$f":"IF(ISERROR(VLOOKUP(G19,審判員!$A:$C,3,FALSE))=TRUE,\"\",VLOOKUP(G19,審判員!$A:$C,3,FALSE))","v":3},"級","資格番号",null,"R004111340",null,null,{"$f":"N12","v":"ＯＫＹ山香サッカークラブ"},null,null,"AR1:",{"$f":"IF(ISERROR(VLOOKUP(S19,審判員!$A:$C,2,FALSE))=TRUE,\"\",VLOOKUP(S19,審判員!$A:$C,2,FALSE))","v":"藤原　佑史朗"},{"$f":"IF(ISERROR(VLOOKUP(S19,審判員!$A:$C,3,FALSE))=TRUE,\"\",VLOOKUP(S19,審判員!$A:$C,3,FALSE))","v":3},"級","資格番号",null,"R010027860",null,null,{"$f":"B12","v":"八坂少年サッカークラブ"}]
["AR2:",{"$f":"IF(ISERROR(VLOOKUP(G20,審判員!$A:$C,2,FALSE))=TRUE,\"\",VLOOKUP(G20,審判員!$A:$C,2,FALSE))","v":"酒井　祐三"},{"$f":"IF(ISERROR(VLOOKUP(G20,審判員!$A:$C,3,FALSE))=TRUE,\"\",VLOOKUP(G20,審判員!$A:$C,3,FALSE))","v":3},"級","資格番号",null,"R001263350",null,null,{"$f":"V12","v":"ドリームキッズフットボールクラブ"},null,null,"AR2:",{"$f":"IF(ISERROR(VLOOKUP(S20,審判員!$A:$C,2,FALSE))=TRUE,\"\",VLOOKUP(S20,審判員!$A:$C,2,FALSE))","v":"堤　晴菜"},{"$f":"IF(ISERROR(VLOOKUP(S20,審判員!$A:$C,3,FALSE))=TRUE,\"\",VLOOKUP(S20,審判員!$A:$C,3,FALSE))","v":3},"級","資格番号",null,"R010214478",null,null,{"$f":"J12","v":"ブルーウイングフットボールクラブ"}]
["4th:",{"$f":"IF(ISERROR(VLOOKUP(G21,審判員!$A:$C,2,FALSE))=TRUE,\"\",VLOOKUP(G21,審判員!$A:$C,2,FALSE))","v":"笠置　忠照"},{"$f":"IF(ISERROR(VLOOKUP(G21,審判員!$A:$C,3,FALSE))=TRUE,\"\",VLOOKUP(G21,審判員!$A:$C,3,FALSE))","v":3},"級","資格番号",null,"R001262829",null,null,"本部",null,null,"4th:",{"$f":"IF(ISERROR(VLOOKUP(S21,審判員!$A:$C,2,FALSE))=TRUE,\"\",VLOOKUP(S21,審判員!$A:$C,2,FALSE))","v":"箕迫　雄介"},{"$f":"IF(ISERROR(VLOOKUP(S21,審判員!$A:$C,3,FALSE))=TRUE,\"\",VLOOKUP(S21,審判員!$A:$C,3,FALSE))","v":3},"級","資格番号",null,"R005405699",null,null,"本部",null,null,{"$f":"$AC$7","v":"八坂少年サッカークラブ"},null,null,null,null,"星取表",null,null,null,null,null,null,{"$f":"IF(AK25=\"\",\"\",IF(AK25>AN25,\"○\",IF(AK25<AN25,\"●\",IF(AK23>AN23,\"△\",IF(AK23<AN23,\"▲\")))))","v":"●"},null,null,null,null,{"$f":"IF(AP25=\"\",\"\",IF(AP25>AS25,\"○\",IF(AP25<AS25,\"●\",IF(AP23>AS23,\"△\",IF(AP23<AS23,\"▲\")))))","v":"●"},null,null,null,null,{"$f":"COUNTIF($AF$21:$AT$22,\"○\")","v":0},null,{"$f":"COUNTIF($AF$21:$AT$22,\"△\")","v":0},null,{"$f":"COUNTIF($AF$21:$AT$22,\"▲\")","v":0},null,{"$f":"COUNTIF($AF$21:$AT$22,\"●\")","v":2},null,{"$f":"SUM($AK$25,$AP$25)","v":0},null,{"$f":"SUM($AN$25,$AS$25)","v":17},null,{"$f":"($AU$21*3)+($AW$21*2)+($AY$21*1)","v":0},null,{"$f":"RANK($BG$21,$BG$21:$BH$38)","v":3},null,{"$f":"$BC$21-$BE$21","v":-17},null,{"$f":"RANK($BK$21,$BK$21:$BL$38)","v":3}]
["警告/退場","氏名","背番号","分","内容",null,"内容","分","背番号","氏名","警告/退場",null,"警告/退場","氏名","背番号","分","内容",null,"内容","分","背番号","氏名","警告/退場"]
[null,{"$f":"IF(ISERROR(VLOOKUP(CONCATENATE($B$12,\"_\",C23),選手名簿!$A:$E,5,FALSE))=TRUE,\"\",VLOOKUP(CONCATENATE($B$12,\"_\",C23),選手名簿!$A:$E,5,FALSE))","v":""},null,null,null,null,null,null,null,{"$f":"IF(ISERROR(VLOOKUP(CONCATENATE($J$12,\"_\",I23),選手名簿!$A:$E,5,FALSE))=TRUE,\"\",VLOOKUP(CONCATENATE($J$12,\"_\",I23),選手名簿!$A:$E,5,FALSE))","v":""},null,null,null,{"$f":"IF(ISERROR(VLOOKUP(CONCATENATE($N$12,\"_\",O23),選手名簿!$A:$E,5,FALSE))=TRUE,\"\",VLOOKUP(CONCATENATE($N$12,\"_\",O23),選手名簿!$A:$E,5,FALSE))","v":""},null,null,null,null,null,null,null,{"$f":"IF(ISERROR(VLOOKUP(CONCATENATE($V$12,\"_\",U23),選手名簿!$A:$E,5,FALSE))=TRUE,\"\",VLOOKUP(CONCATENATE($V$12,\"_\",U23),選手名簿!$A:$E,5,FALSE))","v":""},null,null,null,null,null,null,null,null,null,null,null,null,null,null,{"$f":"IF($E$14=\"\",\"\",$E$14)","v":""},null,"―",{"$f":"IF($G$14=\"\",\"\",$G$14)","v":""},null,{"$f":"IF($G$50=\"\",\"\",$G$50)","v":""},null,"―",{"$f":"IF($E$50=\"\",\"\",$E$50)","v":""}]
[null,{"$f":"IF(ISERROR(VLOOKUP(CONCATENATE($B$12,\"_\",C24),選手名簿!$A:$E,5,FALSE))=TRUE,\"\",VLOOKUP(CONCATENATE($B$12,\"_\",C24),選手名簿!$A:$E,5,FALSE))","v":""},null,null,null,null,null,null,null,{"$f":"IF(ISERROR(VLOOKUP(CONCATENATE($J$12,\"_\",I24),選手名簿!$A:$E,5,FALSE))=TRUE,\"\",VLOOKUP(CONCATENATE($J$12,\"_\",I24),選手名簿!$A:$E,5,FALSE))","v":""},null,null,null,{"$f":"IF(ISERROR(VLOOKUP(CONCATENATE($N$12,\"_\",O24),選手名簿!$A:$E,5,FALSE))=TRUE,\"\",VLOOKUP(CONCATENATE($N$12,\"_\",O24),選手名簿!$A:$E,5,FALSE))","v":""},null,null,null,null,null,null,null,{"$f":"IF(ISERROR(VLOOKUP(CONCATENATE($V$12,\"_\",U24),選手名簿!$A:$E,5,FALSE))=TRUE,\"\",VLOOKUP(CONCATENATE($V$12,\"_\",U24),選手名簿!$A:$E,5,FALSE))","v":""},null,null,null,null,null,null,null,"得失点"]
[null,{"$f":"IF(ISERROR(VLOOKUP(CONCATENATE($B$12,\"_\",C25),選手名簿!$A:$E,5,FALSE))=TRUE,\"\",VLOOKUP(CONCATENATE($B$12,\"_\",C25),選手名簿!$A:$E,5,FALSE))","v":""},null,null,null,null,null,null,null,{"$f":"IF(ISERROR(VLOOKUP(CONCATENATE($J$12,\"_\",I25),選手名簿!$A:$E,5,FALSE))=TRUE,\"\",VLOOKUP(CONCATENATE($J$12,\"_\",I25),選手名簿!$A:$E,5,FALSE))","v":""},null,null,null,{"$f":"IF(ISERROR(VLOOKUP(CONCATENATE($N$12,\"_\",O25),選手名簿!$A:$E,5,FALSE))=TRUE,\"\",VLOOKUP(CONCATENATE($N$12,\"_\",O25),選手名簿!$A:$E,5,FALSE))","v":""},null,null,null,null,null,null,null,{"$f":"IF(ISERROR(VLOOKUP(CONCATENATE($V$12,\"_\",U25),選手名簿!$A:$E,5,FALSE))=TRUE,\"\",VLOOKUP(CONCATENATE($V$12,\"_\",U25),選手名簿!$A:$E,5,FALSE))","v":""},null,null,null,null,null,null,null,null,null,null,null,null,null,null,{"$f":"$C$12","v":0},null,"―",{"$f":"$I$12","v":11},null,{"$f":"$I$48","v":0},null,"―",{"$f":"$C$48","v":6}]
[null,{"$f":"IF(ISERROR(VLOOKUP(CONCATENATE($B$12,\"_\",C26),選手名簿!$A:$E,5,FALSE))=TRUE,\"\",VLOOKUP(CONCATENATE($B$12,\"_\",C26),選手名簿!$A:$E,5,FALSE))","v":""},null,null,null,null,null,null,null,{"$f":"IF(ISERROR(VLOOKUP(CONCATENATE($J$12,\"_\",I26),選手名簿!$A:$E,5,FALSE))=TRUE,\"\",VLOOKUP(CONCATENATE($J$12,\"_\",I26),選手名簿!$A:$E,5,FALSE))","v":""},null,null,null,{"$f":"IF(ISERROR(VLOOKUP(CONCATENATE($N$12,\"_\",O26),選手名簿!$A:$E,5,FALSE))=TRUE,\"\",VLOOKUP(CONCATENATE($N$12,\"_\",O26),選手名簿!$A:$E,5,FALSE))","v":""},null,null,null,null,null,null,null,{"$f":"IF(ISERROR(VLOOKUP(CONCATENATE($V$12,\"_\",U26),選手名簿!$A:$E,5,FALSE))=TRUE,\"\",VLOOKUP(CONCATENATE($V$12,\"_\",U26),選手名簿!$A:$E,5,FALSE))","v":""}]
[null,{"$f":"IF(ISERROR(VLOOKUP(CONCATENATE($B$12,\"_\",C27),選手名簿!$A:$E,5,FALSE))=TRUE,\"\",VLOOKUP(CONCATENATE($B$12,\"_\",C27),選手名簿!$A:$E,5,FALSE))","v":""},null,null,null,null,null,null,null,{"$f":"IF(ISERROR(VLOOKUP(CONCATENATE($J$12,\"_\",I27),選手名簿!$A:$E,5,FALSE))=TRUE,\"\",VLOOKUP(CONCATENATE($J$12,\"_\",I27),選手名簿!$A:$E,5,FALSE))","v":""},null,null,null,{"$f":"IF(ISERROR(VLOOKUP(CONCATENATE($N$12,\"_\",O27),選手名簿!$A:$E,5,FALSE))=TRUE,\"\",VLOOKUP(CONCATENATE($N$12,\"_\",O27),選手名簿!$A:$E,5,FALSE))","v":""},null,null,null,null,null,null,null,{"$f":"IF(ISERROR(VLOOKUP(CONCATENATE($V$12,\"_\",U27),選手名簿!$A:$E,5,FALSE))=TRUE,\"\",VLOOKUP(CONCATENATE($V$12,\"_\",U27),選手名簿!$A:$E,5,FALSE))","v":""},null,null,{"$f":"$AC$8","v":"ブルーウイングフットボールクラブ"},null,null,null,null,"星取表",null,{"$f":"IF(AF31=\"\",\"\",IF(AF31>AI31,\"○\",IF(AF31<AI31,\"●\",IF(AF29>AI29,\"△\",IF(AF29<AI29,\"▲\")))))","v":"○"},null,null,null,null,null,null,null,null,null,{"$f":"IF(AP31=\"\",\"\",IF(AP31>AS31,\"○\",IF(AP31<AS31,\"●\",IF(AP29>AS29,\"△\",IF(AP29<AS29,\"▲\")))))","v":"○"},null,null,null,null,{"$f":"COUNTIF($AF$27:$AT$28,\"○\")","v":2},null,{"$f":"COUNTIF($AF$27:$AT$28,\"△\")","v":0},null,{"$f":"COUNTIF($AF$27:$AT$28,\"▲\")","v":0},null,{"$f":"COUNTIF($AF$27:$AT$28,\"●\")","v":0},null,{"$f":"SUM($AF$31,$AP$31)","v":15},null,{"$f":"SUM($AI$31,$AS$31)","v":0},null,{"$f":"($AU$27*3)+($AW$27*2)+($AY$27*1)","v":6},null,{"$f":"RANK($BG$27,$BG$21:$BH$38)","v":1},null,{"$f":"$BC$27-$BE$27","v":15},null,{"$f":"RANK($BK$27,$BK$21:$BL$38)","v":1}]
[]
[null,null,null,null,null,null,null,null,null,null,null,null,null,null,null,null,null,null,null,null,null,null,null,null,null,null,null,null,null,null,null,{"$f":"AN23","v":""},null,"―",{"$f":"AK23","v":""},null,null,null,null,null,null,{"$f":"IF($E$32=\"\",\"\",$E$32)","v":""},null,"―",{"$f":"IF($G$32=\"\",\"\",$G$32)","v":""}]
["③\n12:00～",{"$f":"C8","v":"ブルーウイングフットボールクラブ"},{"$f":"IF(E30=\"\",\"\",SUM(E30:E31))","v":4},"（",0,"前半",0,"）",{"$f":"IF(G30=\"\",\"\",SUM(G30:G31))","v":0},{"$f":"C9","v":"鶴岡Ｓ―ｐｌａｙ・ＭＩＮＡＭＩ"},null,null,"④\n13:00～",{"$f":"O8","v":"ドリームキッズフットボールクラブ"},{"$f":"IF(Q30=\"\",\"\",SUM(Q30:Q31))","v":4},"（",3,"前半",0,"）",{"$f":"IF(S30=\"\",\"\",SUM(S30:S31))","v":0},{"$f":"O9","v":"玖珠サッカースポーツ少年団"},null,null,null,null,null,null,null,"得失点"]
[null,null,null,null,4,"後半",0,null,null,null,null,null,null,null,null,null,1,"後半",0,null,null,null,null,null,null,null,null,null,null,null,null,{"$f":"AN25","v":11},null,"―",{"$f":"AK25","v":0},null,null,null,null,null,null,{"$f":"$C$30","v":4},null,"―",{"$f":"$I$30","v":0}]
[null,null,null,null,null,"PK",null,null,null,null,null,null,null,null,null,null,null,"PK"]
["MC","伊賀　隆博",null,null,null,null,"所属協会",null,null,"速杵国東地区サッカー協会",null,null,"MC","藤原　龍司",null,null,null,null,"所属協会",null,null,"速杵国東地区サッカー協会",null,null,{"$f":"$AC$9","v":"鶴岡Ｓ―ｐｌａｙ・ＭＩＮＡＭＩ"},null,null,null,null,"星取表",null,{"$f":"IF(AF37=\"\",\"\",IF(AF37>AI37,\"○\",IF(AF37<AI37,\"●\",IF(AF35>AI35,\"△\",IF(AF35<AI35,\"▲\")))))","v":"○"},null,null,null,null,{"$f":"IF(AK37=\"\",\"\",IF(AK37>AN37,\"○\",IF(AK37<AN37,\"●\",IF(AK35>AN35,\"△\",IF(AK35<AN35,\"▲\")))))","v":"●"},null,null,null,null,null,null,null,null,null,{"$f":"COUNTIF($AF$33:$AT$34,\"○\")","v":1},null,{"$f":"COUNTIF($AF$33:$AT$34,\"△\")","v":0},null,{"$f":"COUNTIF($AF$33:$AT$34,\"▲\")","v":0},null,{"$f":"COUNTIF($AF$33:$AT$34,\"●\")","v":1},null,{"$f":"SUM($AF$37,$AK$37)","v":6},null,{"$f":"SUM($AI$37,$AN$37)","v":4},null,{"$f":"($AU$33*3)+($AW$33*2)+($AY$33*1)","v":3},null,{"$f":"RANK($BG$33,$BG$21:$BH$38)","v":2},null,{"$f":"$BC$33-$BE$33","v":2},null,{"$f":"RANK($BK$33,$BK$21:$BL$38)","v":2}]
["WelfareOfficer","伊賀　隆博",null,null,null,null,"所属協会",null,null,"速杵国東地区サッカー協会",null,null,"WelfareOfficer","藤原　龍司",null,null,null,null,"所属協会",null,null,"速杵国東地区サッカー協会"]
["記録","藤原　龍司",null,null,null,null,"所属協会",null,null,"速杵国東地区サッカー協会",null,null,"記録","小田　邦昭",null,null,null,null,"所属協会",null,null,"速杵国東地区サッカー協会",null,null,null,null,null,null,null,null,null,{"$f":"AS23","v":""},null,"―",{"$f":"AP23","v":""},null,{"$f":"AS29","v":""},null,"―",{"$f":"AP29","v":""}]
["R:",{"$f":"IF(ISERROR(VLOOKUP(G36,審判員!$A:$C,2,FALSE))=TRUE,\"\",VLOOKUP(G36,審判員!$A:$C,2,FALSE))","v":"石山　慎史"},{"$f":"IF(ISERROR(VLOOKUP(G36,審判員!$A:$C,3,FALSE))=TRUE,\"\",VLOOKUP(G36,審判員!$A:$C,3,FALSE))","v":3},"級","資格番号",null,"R001262403",null,null,"本部",null,null,"R:",{"$f":"IF(ISERROR(VLOOKUP(S36,審判員!$A:$C,2,FALSE))=TRUE,\"\",VLOOKUP(S36,審判員!$A:$C,2,FALSE))","v":"笠置　忠照"},{"$f":"IF(ISERROR(VLOOKUP(S36,審判員!$A:$C,3,FALSE))=TRUE,\"\",VLOOKUP(S36,審判員!$A:$C,3,FALSE))","v":3},"級","資格番号",null,"R001262829",null,null,"本部",null,null,null,null,null,null,null,"得失点"]
["AR1:",{"$f":"IF(ISERROR(VLOOKUP(G37,審判員!$A:$C,2,FALSE))=TRUE,\"\",VLOOKUP(G37,審判員!$A:$C,2,FALSE))","v":"酒井　祐三"},{"$f":"IF(ISERROR(VLOOKUP(G37,審判員!$A:$C,3,FALSE))=TRUE,\"\",VLOOKUP(G37,審判員!$A:$C,3,FALSE))","v":3},"級","資格番号",null,"R001263350",null,null,{"$f":"N30","v":"ドリームキッズフットボールクラブ"},null,null,"AR1:",{"$f":"IF(ISERROR(VLOOKUP(S37,審判員!$A:$C,2,FALSE))=TRUE,\"\",VLOOKUP(S37,審判員!$A:$C,2,FALSE))","v":"堤　晴菜"},{"$f":"IF(ISERROR(VLOOKUP(S37,審判員!$A:$C,3,FALSE))=TRUE,\"\",VLOOKUP(S37,審判員!$A:$C,3,FALSE))","v":3},"級","資格番号",null,"R010214478",null,null,{"$f":"B30","v":"ブルーウイングフットボールクラブ"},null,null,null,null,null,null,null,null,null,{"$f":"AS25","v":6},null,"―",{"$f":"AP25","v":0},null,{"$f":"AS31","v":0},null,"―",{"$f":"AP31","v":4}]
["AR2:",{"$f":"IF(ISERROR(VLOOKUP(G38,審判員!$A:$C,2,FALSE))=TRUE,\"\",VLOOKUP(G38,審判員!$A:$C,2,FALSE))","v":"吉田　栄治"},{"$f":"IF(ISERROR(VLOOKUP(G38,審判員!$A:$C,3,FALSE))=TRUE,\"\",VLOOKUP(G38,審判員!$A:$C,3,FALSE))","v":3},"級","資格番号",null,"R001264854",null,null,{"$f":"V30","v":"玖珠サッカースポーツ少年団"},null,null,"AR2:",{"$f":"IF(ISERROR(VLOOKUP(S38,審判員!$A:$C,2,FALSE))=TRUE,\"\",VLOOKUP(S38,審判員!$A:$C,2,FALSE))","v":"安藤　洋樹"},{"$f":"IF(ISERROR(VLOOKUP(S38,審判員!$A:$C,3,FALSE))=TRUE,\"\",VLOOKUP(S38,審判員!$A:$C,3,FALSE))","v":3},"級","資格番号",null,"R001253548",null,null,{"$f":"J30","v":"鶴岡Ｓ―ｐｌａｙ・ＭＩＮＡＭＩ"}]
["4th:",{"$f":"IF(ISERROR(VLOOKUP(G39,審判員!$A:$C,2,FALSE))=TRUE,\"\",VLOOKUP(G39,審判員!$A:$C,2,FALSE))","v":"酒井　隆宏"},{"$f":"IF(ISERROR(VLOOKUP(G39,審判員!$A:$C,3,FALSE))=TRUE,\"\",VLOOKUP(G39,審判員!$A:$C,3,FALSE))","v":3},"級","資格番号",null,"R001251577",null,null,"本部",null,null,"4th:",{"$f":"IF(ISERROR(VLOOKUP(S39,審判員!$A:$C,2,FALSE))=TRUE,\"\",VLOOKUP(S39,審判員!$A:$C,2,FALSE))","v":"安部　正信"},{"$f":"IF(ISERROR(VLOOKUP(S39,審判員!$A:$C,3,FALSE))=TRUE,\"\",VLOOKUP(S39,審判員!$A:$C,3,FALSE))","v":3},"級","資格番号",null,"R010281814",null,null,"本部"]
["警告/退場","氏名","背番号","分","内容",null,"内容","分","背番号","氏名","警告/退場",null,"警告/退場","氏名","背番号","分","内容",null,"内容","分","背番号","氏名","警告/退場",null,"Ⅰ勝点（勝３点　ＰＫ勝２点　ＰＫ負１点　負０点）　Ⅱ当該チームの戦績　Ⅲ得失点差　Ⅳ多得点　Ⅴ抽選の順で順位を決定する。"]
[null,{"$f":"IF(ISERROR(VLOOKUP(CONCATENATE($B$30,\"_\",C41),選手名簿!$A:$E,5,FALSE))=TRUE,\"\",VLOOKUP(CONCATENATE($B$30,\"_\",C41),選手名簿!$A:$E,5,FALSE))","v":""},null,null,null,null,null,null,null,{"$f":"IF(ISERROR(VLOOKUP(CONCATENATE($J$30,\"_\",I41),選手名簿!$A:$E,5,FALSE))=TRUE,\"\",VLOOKUP(CONCATENATE($J$30,\"_\",I41),選手名簿!$A:$E,5,FALSE))","v":""},null,null,null,{"$f":"IF(ISERROR(VLOOKUP(CONCATENATE($N$30,\"_\",O41),選手名簿!$A:$E,5,FALSE))=TRUE,\"\",VLOOKUP(CONCATENATE($N$30,\"_\",O41),選手名簿!$A:$E,5,FALSE))","v":""},null,null,null,null,null,null,null,{"$f":"IF(ISERROR(VLOOKUP(CONCATENATE($V$30,\"_\",U41),選手名簿!$A:$E,5,FALSE))=TRUE,\"\",VLOOKUP(CONCATENATE($V$30,\"_\",U41),選手名簿!$A:$E,5,FALSE))","v":""}]
[null,{"$f":"IF(ISERROR(VLOOKUP(CONCATENATE($B$30,\"_\",C42),選手名簿!$A:$E,5,FALSE))=TRUE,\"\",VLOOKUP(CONCATENATE($B$30,\"_\",C42),選手名簿!$A:$E,5,FALSE))","v":""},null,null,null,null,null,null,null,{"$f":"IF(ISERROR(VLOOKUP(CONCATENATE($J$30,\"_\",I42),選手名簿!$A:$E,5,FALSE))=TRUE,\"\",VLOOKUP(CONCATENATE($J$30,\"_\",I42),選手名簿!$A:$E,5,FALSE))","v":""},null,null,null,{"$f":"IF(ISERROR(VLOOKUP(CONCATENATE($N$30,\"_\",O42),選手名簿!$A:$E,5,FALSE))=TRUE,\"\",VLOOKUP(CONCATENATE($N$30,\"_\",O42),選手名簿!$A:$E,5,FALSE))","v":""},null,null,null,null,null,null,null,{"$f":"IF(ISERROR(VLOOKUP(CONCATENATE($V$30,\"_\",U42),選手名簿!$A:$E,5,FALSE))=TRUE,\"\",VLOOKUP(CONCATENATE($V$30,\"_\",U42),選手名簿!$A:$E,5,FALSE))","v":""},null,null,"勝点表",null,"勝","○",null,"PK\n勝","△",null,"PK\n負","▲",null,"負","●"]
[null,{"$f":"IF(ISERROR(VLOOKUP(CONCATENATE($B$30,\"_\",C43),選手名簿!$A:$E,5,FALSE))=TRUE,\"\",VLOOKUP(CONCATENATE($B$30,\"_\",C43),選手名簿!$A:$E,5,FALSE))","v":""},null,null,null,null,null,null,null,{"$f":"IF(ISERROR(VLOOKUP(CONCATENATE($J$30,\"_\",I43),選手名簿!$A:$E,5,FALSE))=TRUE,\"\",VLOOKUP(CONCATENATE($J$30,\"_\",I43),選手名簿!$A:$E,5,FALSE))","v":""},null,null,null,{"$f":"IF(ISERROR(VLOOKUP(CONCATENATE($N$30,\"_\",O43),選手名簿!$A:$E,5,FALSE))=TRUE,\"\",VLOOKUP(CONCATENATE($N$30,\"_\",O43),選手名簿!$A:$E,5,FALSE))","v":""},null,null,null,null,null,null,null,{"$f":"IF(ISERROR(VLOOKUP(CONCATENATE($V$30,\"_\",U43),選手名簿!$A:$E,5,FALSE))=TRUE,\"\",VLOOKUP(CONCATENATE($V$30,\"_\",U43),選手名簿!$A:$E,5,FALSE))","v":""},null,null,null,null,null,3,null,null,2,null,null,1,null,null,0]
[null,{"$f":"IF(ISERROR(VLOOKUP(CONCATENATE($B$30,\"_\",C44),選手名簿!$A:$E,5,FALSE))=TRUE,\"\",VLOOKUP(CONCATENATE($B$30,\"_\",C44),選手名簿!$A:$E,5,FALSE))","v":""},null,null,null,null,null,null,null,{"$f":"IF(ISERROR(VLOOKUP(CONCATENATE($J$30,\"_\",I44),選手名簿!$A:$E,5,FALSE))=TRUE,\"\",VLOOKUP(CONCATENATE($J$30,\"_\",I44),選手名簿!$A:$E,5,FALSE))","v":""},null,null,null,{"$f":"IF(ISERROR(VLOOKUP(CONCATENATE($N$30,\"_\",O44),選手名簿!$A:$E,5,FALSE))=TRUE,\"\",VLOOKUP(CONCATENATE($N$30,\"_\",O44),選手名簿!$A:$E,5,FALSE))","v":""},null,null,null,null,null,null,null,{"$f":"IF(ISERROR(VLOOKUP(CONCATENATE($V$30,\"_\",U44),選手名簿!$A:$E,5,FALSE))=TRUE,\"\",VLOOKUP(CONCATENATE($V$30,\"_\",U44),選手名簿!$A:$E,5,FALSE))","v":""}]
[null,{"$f":"IF(ISERROR(VLOOKUP(CONCATENATE($B$30,\"_\",C45),選手名簿!$A:$E,5,FALSE))=TRUE,\"\",VLOOKUP(CONCATENATE($B$30,\"_\",C45),選手名簿!$A:$E,5,FALSE))","v":""},null,null,null,null,null,null,null,{"$f":"IF(ISERROR(VLOOKUP(CONCATENATE($J$30,\"_\",I45),選手名簿!$A:$E,5,FALSE))=TRUE,\"\",VLOOKUP(CONCATENATE($J$30,\"_\",I45),選手名簿!$A:$E,5,FALSE))","v":""},null,null,null,{"$f":"IF(ISERROR(VLOOKUP(CONCATENATE($N$30,\"_\",O45),選手名簿!$A:$E,5,FALSE))=TRUE,\"\",VLOOKUP(CONCATENATE($N$30,\"_\",O45),選手名簿!$A:$E,5,FALSE))","v":""},null,null,null,null,null,null,null,{"$f":"IF(ISERROR(VLOOKUP(CONCATENATE($V$30,\"_\",U45),選手名簿!$A:$E,5,FALSE))=TRUE,\"\",VLOOKUP(CONCATENATE($V$30,\"_\",U45),選手名簿!$A:$E,5,FALSE))","v":""}]
[]
[]
["⑤\n14:00～",{"$f":"C9","v":"鶴岡Ｓ―ｐｌａｙ・ＭＩＮＡＭＩ"},{"$f":"IF(E48=\"\",\"\",SUM(E48:E49))","v":6},"（",6,"前半",0,"）",{"$f":"IF(G48=\"\",\"\",SUM(G48:G49))","v":0},{"$f":"C7","v":"八坂少年サッカークラブ"},null,null,"⑥\n15:00～",{"$f":"O9","v":"玖珠サッカースポーツ少年団"},{"$f":"IF(Q48=\"\",\"\",SUM(Q48:Q49))","v":2},"（",2,"前半",3,"）",{"$f":"IF(S48=\"\",\"\",SUM(S48:S49))","v":3},{"$f":"O7","v":"ＯＫＹ山香サッカークラブ"},null,null,{"$f":"$Y$1","v":"OFA 第 53 回大分県U-12サッカー大会　兼　KYFA 九州U-12サッカー大会大分県大会"},null,null,null,null,null,null,null,null,null,null,null,null,null,null,null,null,null,null,null,null,null,null,null,null,null,null,null,null,null,null,null,null,null,null,null,{"$f":"$BI$1","v":"１次リーグ結果　報告用紙"}]
[null,null,null,null,0,"後半",0,null,null,null,null,null,null,null,null,null,0,"後半",0]
[null,null,null,null,null,"PK",null,null,null,null,null,null,null,null,null,null,null,"PK",null,null,null,null,null,null,"＜時間割＞　①10:00～　②11:00～　③12:00～　④13:00～　⑤14:00～　⑥15:00～"]
["MC","小田　邦昭",null,null,null,null,"所属協会",null,null,"速杵国東地区サッカー協会",null,null,"MC","伊賀　隆博",null,null,null,null,"所属協会",null,null,"速杵国東地区サッカー協会"]
["WelfareOfficer","小田　邦昭",null,null,null,null,"所属協会",null,null,"速杵国東地区サッカー協会",null,null,"WelfareOfficer","伊賀　隆博",null,null,null,null,"所属協会",null,null,"速杵国東地区サッカー協会"]
["記録","伊賀　隆博",null,null,null,null,"所属協会",null,null,"速杵国東地区サッカー協会",null,null,"記録","藤原　龍司",null,null,null,null,"所属協会",null,null,"速杵国東地区サッカー協会"]
["R:",{"$f":"IF(ISERROR(VLOOKUP(G54,審判員!$A:$C,2,FALSE))=TRUE,\"\",VLOOKUP(G54,審判員!$A:$C,2,FALSE))","v":"箕迫　雄介"},{"$f":"IF(ISERROR(VLOOKUP(G54,審判員!$A:$C,3,FALSE))=TRUE,\"\",VLOOKUP(G54,審判員!$A:$C,3,FALSE))","v":3},"級","資格番号",null,"R005405699",null,null,"本部",null,null,"R:",{"$f":"IF(ISERROR(VLOOKUP(S54,審判員!$A:$C,2,FALSE))=TRUE,\"\",VLOOKUP(S54,審判員!$A:$C,2,FALSE))","v":"大本　敏行"},{"$f":"IF(ISERROR(VLOOKUP(S54,審判員!$A:$C,3,FALSE))=TRUE,\"\",VLOOKUP(S54,審判員!$A:$C,3,FALSE))","v":3},"級","資格番号",null,"R010093494",null,null,"本部",null,null,"会場",null,null,{"$f":"$N$4","v":"速杵国東"},null,null,null,null,null,"⇒",{"$f":"$P$4","v":"フットボールセンター大分きつき(杵築市営サッカー場)"}]
["AR1:",{"$f":"IF(ISERROR(VLOOKUP(G55,審判員!$A:$C,2,FALSE))=TRUE,\"\",VLOOKUP(G55,審判員!$A:$C,2,FALSE))","v":"吉田　栄治"},{"$f":"IF(ISERROR(VLOOKUP(G55,審判員!$A:$C,3,FALSE))=TRUE,\"\",VLOOKUP(G55,審判員!$A:$C,3,FALSE))","v":3},"級","資格番号",null,"R001264854",null,null,{"$f":"N48","v":"玖珠サッカースポーツ少年団"},null,null,"AR1:",{"$f":"IF(ISERROR(VLOOKUP(S55,審判員!$A:$C,2,FALSE))=TRUE,\"\",VLOOKUP(S55,審判員!$A:$C,2,FALSE))","v":"安藤　洋樹"},{"$f":"IF(ISERROR(VLOOKUP(S55,審判員!$A:$C,3,FALSE))=TRUE,\"\",VLOOKUP(S55,審判員!$A:$C,3,FALSE))","v":3},"級","資格番号",null,"R001253548",null,null,{"$f":"B48","v":"鶴岡Ｓ―ｐｌａｙ・ＭＩＮＡＭＩ"}]
["AR2:",{"$f":"IF(ISERROR(VLOOKUP(G56,審判員!$A:$C,2,FALSE))=TRUE,\"\",VLOOKUP(G56,審判員!$A:$C,2,FALSE))","v":"唐下　直之"},{"$f":"IF(ISERROR(VLOOKUP(G56,審判員!$A:$C,3,FALSE))=TRUE,\"\",VLOOKUP(G56,審判員!$A:$C,3,FALSE))","v":3},"級","資格番号",null,"R004111340",null,null,{"$f":"V48","v":"ＯＫＹ山香サッカークラブ"},null,null,"AR2:",{"$f":"IF(ISERROR(VLOOKUP(S56,審判員!$A:$C,2,FALSE))=TRUE,\"\",VLOOKUP(S56,審判員!$A:$C,2,FALSE))","v":"藤原　佑史朗"},{"$f":"IF(ISERROR(VLOOKUP(S56,審判員!$A:$C,3,FALSE))=TRUE,\"\",VLOOKUP(S56,審判員!$A:$C,3,FALSE))","v":3},"級","資格番号",null,"R010027860",null,null,{"$f":"J48","v":"八坂少年サッカークラブ"}]
["4th:",{"$f":"IF(ISERROR(VLOOKUP(G57,審判員!$A:$C,2,FALSE))=TRUE,\"\",VLOOKUP(G57,審判員!$A:$C,2,FALSE))","v":"石山　慎史"},{"$f":"IF(ISERROR(VLOOKUP(G57,審判員!$A:$C,3,FALSE))=TRUE,\"\",VLOOKUP(G57,審判員!$A:$C,3,FALSE))","v":3},"級","資格番号",null,"R001262403",null,null,"本部",null,null,"4th:",{"$f":"IF(ISERROR(VLOOKUP(S57,審判員!$A:$C,2,FALSE))=TRUE,\"\",VLOOKUP(S57,審判員!$A:$C,2,FALSE))","v":"笠置　忠照"},{"$f":"IF(ISERROR(VLOOKUP(S57,審判員!$A:$C,3,FALSE))=TRUE,\"\",VLOOKUP(S57,審判員!$A:$C,3,FALSE))","v":3},"級","資格番号",null,"R001262829",null,null,"本部"]
["警告/退場","氏名","背番号","分","内容",null,"内容","分","背番号","氏名","警告/退場",null,"警告/退場","氏名","背番号","分","内容",null,"内容","分","背番号","氏名","警告/退場",null,"パート",null,null,{"$f":"$N$6","v":"I"}]
[null,{"$f":"IF(ISERROR(VLOOKUP(CONCATENATE($B$48,\"_\",C59),選手名簿!$A:$E,5,FALSE))=TRUE,\"\",VLOOKUP(CONCATENATE($B$48,\"_\",C59),選手名簿!$A:$E,5,FALSE))","v":""},null,null,null,null,null,null,null,{"$f":"IF(ISERROR(VLOOKUP(CONCATENATE($J$48,\"_\",I59),選手名簿!$A:$E,5,FALSE))=TRUE,\"\",VLOOKUP(CONCATENATE($J$48,\"_\",I59),選手名簿!$A:$E,5,FALSE))","v":""},null,null,null,{"$f":"IF(ISERROR(VLOOKUP(CONCATENATE($N$48,\"_\",O59),選手名簿!$A:$E,5,FALSE))=TRUE,\"\",VLOOKUP(CONCATENATE($N$48,\"_\",O59),選手名簿!$A:$E,5,FALSE))","v":""},null,null,null,null,null,null,null,{"$f":"IF(ISERROR(VLOOKUP(CONCATENATE($V$48,\"_\",U59),選手名簿!$A:$E,5,FALSE))=TRUE,\"\",VLOOKUP(CONCATENATE($V$48,\"_\",U59),選手名簿!$A:$E,5,FALSE))","v":""}]
[null,{"$f":"IF(ISERROR(VLOOKUP(CONCATENATE($B$48,\"_\",C60),選手名簿!$A:$E,5,FALSE))=TRUE,\"\",VLOOKUP(CONCATENATE($B$48,\"_\",C60),選手名簿!$A:$E,5,FALSE))","v":""},null,null,null,null,null,null,null,{"$f":"IF(ISERROR(VLOOKUP(CONCATENATE($J$48,\"_\",I60),選手名簿!$A:$E,5,FALSE))=TRUE,\"\",VLOOKUP(CONCATENATE($J$48,\"_\",I60),選手名簿!$A:$E,5,FALSE))","v":""},null,null,null,{"$f":"IF(ISERROR(VLOOKUP(CONCATENATE($N$48,\"_\",O60),選手名簿!$A:$E,5,FALSE))=TRUE,\"\",VLOOKUP(CONCATENATE($N$48,\"_\",O60),選手名簿!$A:$E,5,FALSE))","v":""},null,null,null,null,null,null,null,{"$f":"IF(ISERROR(VLOOKUP(CONCATENATE($V$48,\"_\",U60),選手名簿!$A:$E,5,FALSE))=TRUE,\"\",VLOOKUP(CONCATENATE($V$48,\"_\",U60),選手名簿!$A:$E,5,FALSE))","v":""},null,null,null,{"$f":"$N$7","v":"I1"},null,null,{"$f":"$O$7","v":"ＯＫＹ山香サッカークラブ"},null,null,null,null,null,null,null,null,null,null,null,null,{"$f":"$V$7","v":"速杵国東"}]
[null,{"$f":"IF(ISERROR(VLOOKUP(CONCATENATE($B$48,\"_\",C61),選手名簿!$A:$E,5,FALSE))=TRUE,\"\",VLOOKUP(CONCATENATE($B$48,\"_\",C61),選手名簿!$A:$E,5,FALSE))","v":""},null,null,null,null,null,null,null,{"$f":"IF(ISERROR(VLOOKUP(CONCATENATE($J$48,\"_\",I61),選手名簿!$A:$E,5,FALSE))=TRUE,\"\",VLOOKUP(CONCATENATE($J$48,\"_\",I61),選手名簿!$A:$E,5,FALSE))","v":""},null,null,null,{"$f":"IF(ISERROR(VLOOKUP(CONCATENATE($N$48,\"_\",O61),選手名簿!$A:$E,5,FALSE))=TRUE,\"\",VLOOKUP(CONCATENATE($N$48,\"_\",O61),選手名簿!$A:$E,5,FALSE))","v":""},null,null,null,null,null,null,null,{"$f":"IF(ISERROR(VLOOKUP(CONCATENATE($V$48,\"_\",U61),選手名簿!$A:$E,5,FALSE))=TRUE,\"\",VLOOKUP(CONCATENATE($V$48,\"_\",U61),選手名簿!$A:$E,5,FALSE))","v":""}]
[null,{"$f":"IF(ISERROR(VLOOKUP(CONCATENATE($B$48,\"_\",C62),選手名簿!$A:$E,5,FALSE))=TRUE,\"\",VLOOKUP(CONCATENATE($B$48,\"_\",C62),選手名簿!$A:$E,5,FALSE))","v":""},null,null,null,null,null,null,null,{"$f":"IF(ISERROR(VLOOKUP(CONCATENATE($J$48,\"_\",I62),選手名簿!$A:$E,5,FALSE))=TRUE,\"\",VLOOKUP(CONCATENATE($J$48,\"_\",I62),選手名簿!$A:$E,5,FALSE))","v":""},null,null,null,{"$f":"IF(ISERROR(VLOOKUP(CONCATENATE($N$48,\"_\",O62),選手名簿!$A:$E,5,FALSE))=TRUE,\"\",VLOOKUP(CONCATENATE($N$48,\"_\",O62),選手名簿!$A:$E,5,FALSE))","v":""},null,null,null,null,null,null,null,{"$f":"IF(ISERROR(VLOOKUP(CONCATENATE($V$48,\"_\",U62),選手名簿!$A:$E,5,FALSE))=TRUE,\"\",VLOOKUP(CONCATENATE($V$48,\"_\",U62),選手名簿!$A:$E,5,FALSE))","v":""},null,null,null,{"$f":"$N$8","v":"I2"},null,null,{"$f":"$O$8","v":"ドリームキッズフットボールクラブ"},null,null,null,null,null,null,null,null,null,null,null,null,{"$f":"$V$8","v":"大分"}]
[null,{"$f":"IF(ISERROR(VLOOKUP(CONCATENATE($B$48,\"_\",C63),選手名簿!$A:$E,5,FALSE))=TRUE,\"\",VLOOKUP(CONCATENATE($B$48,\"_\",C63),選手名簿!$A:$E,5,FALSE))","v":""},null,null,null,null,null,null,null,{"$f":"IF(ISERROR(VLOOKUP(CONCATENATE($J$48,\"_\",I63),選手名簿!$A:$E,5,FALSE))=TRUE,\"\",VLOOKUP(CONCATENATE($J$48,\"_\",I63),選手名簿!$A:$E,5,FALSE))","v":""},null,null,null,{"$f":"IF(ISERROR(VLOOKUP(CONCATENATE($N$48,\"_\",O63),選手名簿!$A:$E,5,FALSE))=TRUE,\"\",VLOOKUP(CONCATENATE($N$48,\"_\",O63),選手名簿!$A:$E,5,FALSE))","v":""},null,null,null,null,null,null,null,{"$f":"IF(ISERROR(VLOOKUP(CONCATENATE($V$48,\"_\",U63),選手名簿!$A:$E,5,FALSE))=TRUE,\"\",VLOOKUP(CONCATENATE($V$48,\"_\",U63),選手名簿!$A:$E,5,FALSE))","v":""}]
[null,null,null,null,null,null,null,null,null,null,null,null,null,null,null,null,null,null,null,null,null,null,null,null,null,{"$f":"$N$9","v":"I3"},null,null,{"$f":"$O$9","v":"玖珠サッカースポーツ少年団"},null,null,null,null,null,null,null,null,null,null,null,null,{"$f":"$V$9","v":"日田・玖珠"}]
[]
[]
[]
[]
[]
[]
[]
[null,null,null,null,null,null,null,null,null,null,null,null,null,null,null,null,null,null,null,null,null,null,null,null,{"$f":"$Y$6","v":"パート"},null,null,null,{"$f":"$AB$58","v":"I"},null,null,{"$f":"$Y$78","v":"ＯＫＹ山香サッカークラブ"},null,null,null,null,{"$f":"$Y$84","v":"ドリームキッズフットボールクラブ"},null,null,null,null,{"$f":"$Y$90","v":"玖珠サッカースポーツ少年団"},null,null,null,null,"勝",null,"PK\n勝",null,"PK\n負",null,"負",null,"得点",null,"失点",null,"勝点",null,"勝点\n順位",null,"得失\n点差",null,"得失\n順位",null,"総\n順位"]
[]
[]
[]
[]
[]
[null,null,null,null,null,null,null,null,null,null,null,null,null,null,null,null,null,null,null,null,null,null,null,null,{"$f":"$AC$60","v":"ＯＫＹ山香サッカークラブ"},null,null,null,null,"星取表",null,null,null,null,null,null,{"$f":"IF(AK82=\"\",\"\",IF(AK82>AN82,\"○\",IF(AK82<AN82,\"●\",IF(AK80>AN80,\"△\",IF(AK80<AN80,\"▲\")))))","v":"●"},null,null,null,null,{"$f":"IF(AP82=\"\",\"\",IF(AP82>AS82,\"○\",IF(AP82<AS82,\"●\",IF(AP80>AS80,\"△\",IF(AP80<AS80,\"▲\")))))","v":"○"},null,null,null,null,{"$f":"COUNTIF($AF$78:$AT$79,\"○\")","v":1},null,{"$f":"COUNTIF($AF$78:$AT$79,\"△\")","v":0},null,{"$f":"COUNTIF($AF$78:$AT$79,\"▲\")","v":0},null,{"$f":"COUNTIF($AF$78:$AT$79,\"●\")","v":1},null,{"$f":"SUM($AK$82,$AP$82)","v":3},null,{"$f":"SUM($AN$82,$AS$82)","v":5},null,{"$f":"($AU$78*3)+($AW$78*2)+($AY$78*1)","v":3},null,{"$f":"RANK($BG$78,$BG$78:$BH$95)","v":2},null,{"$f":"$BC$78-$BE$78","v":-2},null,{"$f":"RANK($BK$78,$BK$78:$BL$95)","v":2}]
[]
[null,null,null,null,null,null,null,null,null,null,null,null,null,null,null,null,null,null,null,null,null,null,null,null,null,null,null,null,null,null,null,null,null,null,null,null,{"$f":"IF($Q$14=\"\",\"\",$Q$14)","v":""},null,"―",{"$f":"IF($S$14=\"\",\"\",$S$14)","v":""},null,{"$f":"IF($S$50=\"\",\"\",$S$50)","v":""},null,"―",{"$f":"IF($Q$50=\"\",\"\",$Q$50)","v":""}]
[null,null,null,null,null,null,null,null,null,null,null,null,null,null,null,null,null,null,null,null,null,null,null,null,null,null,null,null,null,"得失点"]
[null,null,null,null,null,null,null,null,null,null,null,null,null,null,null,null,null,null,null,null,null,null,null,null,null,null,null,null,null,null,null,null,null,null,null,null,{"$f":"$O$12","v":0},null,"―",{"$f":"$U$12","v":3},null,{"$f":"$U$48","v":3},null,"―",{"$f":"$O$48","v":2}]
[]
[null,null,null,null,null,null,null,null,null,null,null,null,null,null,null,null,null,null,null,null,null,null,null,null,{"$f":"$AC$62","v":"ドリームキッズフットボールクラブ"},null,null,null,null,"星取表",null,{"$f":"IF(AF88=\"\",\"\",IF(AF88>AI88,\"○\",IF(AF88<AI88,\"●\",IF(AF86>AI86,\"△\",IF(AF86<AI86,\"▲\")))))","v":"○"},null,null,null,null,null,null,null,null,null,{"$f":"IF(AP88=\"\",\"\",IF(AP88>AS88,\"○\",IF(AP88<AS88,\"●\",IF(AP86>AS86,\"△\",IF(AP86<AS86,\"▲\")))))","v":"○"},null,null,null,null,{"$f":"COUNTIF($AF$84:$AT$85,\"○\")","v":2},null,{"$f":"COUNTIF($AF$84:$AT$85,\"△\")","v":0},null,{"$f":"COUNTIF($AF$84:$AT$85,\"▲\")","v":0},null,{"$f":"COUNTIF($AF$84:$AT$85,\"●\")","v":0},null,{"$f":"SUM($AF$88,$AP$88)","v":7},null,{"$f":"SUM($AI$88,$AS$88)","v":0},null,{"$f":"($AU$84*3)+($AW$84*2)+($AY$84*1)","v":6},null,{"$f":"RANK($BG$84,$BG$78:$BH$95)","v":1},null,{"$f":"$BC$84-$BE$84","v":7},null,{"$f":"RANK($BK$84,$BK$78:$BL$95)","v":1}]
[]
[null,null,null,null,null,null,null,null,null,null,null,null,null,null,null,null,null,null,null,null,null,null,null,null,null,null,null,null,null,null,null,{"$f":"AN80","v":""},null,"―",{"$f":"AK80","v":""},null,null,null,null,null,null,{"$f":"IF($Q$32=\"\",\"\",$Q$32)","v":""},null,"―",{"$f":"IF($S$32=\"\",\"\",$S$32)","v":""}]
[null,null,null,null,null,null,null,null,null,null,null,null,null,null,null,null,null,null,null,null,null,null,null,null,null,null,null,null,null,"得失点"]
[null,null,null,null,null,null,null,null,null,null,null,null,null,null,null,null,null,null,null,null,null,null,null,null,null,null,null,null,null,null,null,{"$f":"AN82","v":3},null,"―",{"$f":"AK82","v":0},null,null,null,null,null,null,{"$f":"$O$30","v":4},null,"―",{"$f":"$U$30","v":0}]
[]
[null,null,null,null,null,null,null,null,null,null,null,null,null,null,null,null,null,null,null,null,null,null,null,null,{"$f":"$AC$64","v":"玖珠サッカースポーツ少年団"},null,null,null,null,"星取表",null,{"$f":"IF(AF94=\"\",\"\",IF(AF94>AI94,\"○\",IF(AF94<AI94,\"●\",IF(AF92>AI92,\"△\",IF(AF92<AI92,\"▲\")))))","v":"●"},null,null,null,null,{"$f":"IF(AK94=\"\",\"\",IF(AK94>AN94,\"○\",IF(AK94<AN94,\"●\",IF(AK92>AN92,\"△\",IF(AK92<AN92,\"▲\")))))","v":"●"},null,null,null,null,null,null,null,null,null,{"$f":"COUNTIF($AF$90:$AT$91,\"○\")","v":0},null,{"$f":"COUNTIF($AF$90:$AT$91,\"△\")","v":0},null,{"$f":"COUNTIF($AF$90:$AT$91,\"▲\")","v":0},null,{"$f":"COUNTIF($AF$90:$AT$91,\"●\")","v":2},null,{"$f":"SUM($AF$94,$AK$94)","v":2},null,{"$f":"SUM($AI$94,$AN$94)","v":7},null,{"$f":"($AU$90*3)+($AW$90*2)+($AY$90*1)","v":0},null,{"$f":"RANK($BG$90,$BG$78:$BH$95)","v":3},null,{"$f":"$BC$90-$BE$90","v":-5},null,{"$f":"RANK($BK$90,$BK$78:$BL$95)","v":3}]
[]
[null,null,null,null,null,null,null,null,null,null,null,null,null,null,null,null,null,null,null,null,null,null,null,null,null,null,null,null,null,null,null,{"$f":"AS80","v":""},null,"―",{"$f":"AP80","v":""},null,{"$f":"AS86","v":""},null,"―",{"$f":"AP86","v":""}]
[null,null,null,null,null,null,null,null,null,null,null,null,null,null,null,null,null,null,null,null,null,null,null,null,null,null,null,null,null,"得失点"]
[null,null,null,null,null,null,null,null,null,null,null,null,null,null,null,null,null,null,null,null,null,null,null,null,null,null,null,null,null,null,null,{"$f":"AS82","v":2},null,"―",{"$f":"AP82","v":3},null,{"$f":"AS88","v":0},null,"―",{"$f":"AP88","v":4}]
[]
[]
[null,null,null,null,null,null,null,null,null,null,null,null,null,null,null,null,null,null,null,null,null,null,null,null,"Ⅰ勝点（勝３点　ＰＫ勝２点　ＰＫ負１点　負０点）　Ⅱ当該チームの戦績　Ⅲ得失点差　Ⅳ多得点　Ⅴ抽選の順で順位を決定する。"]
[]
[null,null,null,null,null,null,null,null,null,null,null,null,null,null,null,null,null,null,null,null,null,null,null,null,"勝点表",null,"勝","○",null,"PK\n勝","△",null,"PK\n負","▲",null,"負","●"]
[null,null,null,null,null,null,null,null,null,null,null,null,null,null,null,null,null,null,null,null,null,null,null,null,null,null,null,3,null,null,2,null,null,1,null,null,0]

{"sheet":"１次リーグ（日田・玖珠）","index":17,"n_rows":100,"n_cols":67,"rows_kept":100,"cut":false,"hidden":false,"merged":[[16,13,16,17],[16,18,16,20],[16,21,16,22],[32,1,32,5],[32,6,32,8],[32,9,32,10],[33,1,33,5],[33,6,33,8],[33,9,33,10],[17,4,17,5],[17,6,17,8],[17,9,17,10],[17,16,17,17],[17,18,17,20],[17,21,17,22],[20,21,20,22],[19,4,19,5],[19,6,19,8],[19,9,19,10],[19,16,19,17],[19,18,19,20],[19,21,19,22],[20,4,20,5],[20,6,20,8],[34,1,34,5],[34,6,34,8],[34,9,34,10],[32,13,32,17],[32,18,32,20],[32,21,32,22],[33,13,33,17],[33,18,33,20],[33,21,33,22],[34,13,34,17],[34,18,34,20],[34,21,34,22],[50,13,50,17],[50,18,50,20],[50,21,50,22],[51,13,51,17],[51,18,51,20],[51,21,51,22],[52,13,52,17],[52,18,52,20],[52,21,52,22],[50,1,50,5],[50,6,50,8],[50,9,50,10],[51,1,51,5],[51,6,51,8],[51,9,51,10],[52,1,52,5],[52,6,52,8],[52,9,52,10],[89,36,90,40],[89,64,94,65],[93,36,94,37],[93,38,94,38],[93,39,94,40],[83,64,88,65],[89,58,94,59],[89,66,94,66],[91,31,92,32],[91,33,92,33],[91,34,92,35],[91,36,92,37],[91,38,92,38],[91,39,92,40],[93,31,94,32],[93,33,94,33],[93,34,94,35],[83,66,88,66],[85,31,86,32],[85,33,86,33],[85,34,86,35],[85,41,86,42],[85,43,86,43],[85,44,86,45],[87,31,88,32],[87,33,88,33],[83,46,88,47],[87,41,88,42],[87,43,88,43],[87,44,88,45],[36,39,37,40],[26,48,31,49],[32,62,37,63],[77,36,78,40],[77,41,78,45],[47,60,48,66],[77,50,82,51],[77,52,82,53],[77,54,82,55],[71,46,76,47],[71,48,76,49],[71,50,76,51],[71,52,76,53],[71,54,76,55],[71,60,76,61],[71,62,76,63],[71,64,76,65],[71,66,76,66],[32,66,37,66],[34,31,35,32],[34,33,35,33],[34,34,35,35],[34,36,35,37],[34,38,35,38],[34,39,35,40],[36,31,37,32],[36,33,37,33],[36,34,37,35],[32,54,37,55],[32,56,37,57],[32,60,37,61],[32,64,37,65],[14,58,19,59],[14,60,19,61],[14,62,19,63],[20,48,25,49],[20,50,25,51],[20,52,25,53],[24,41,25,42],[24,43,25,43],[24,44,25,45],[20,54,25,55],[20,56,25,57],[20,58,25,59],[20,60,25,61],[20,62,25,63],[0,60,0,66],[1,0,1,10],[1,12,1,22],[1,24,1,58],[0,9,0,10],[0,21,0,22],[98,35,99,35],[14,64,19,65],[14,66,19,66],[20,36,21,40],[20,41,21,45],[20,64,25,65],[20,66,25,66],[22,36,23,37],[22,38,23,38],[24,36,25,37],[14,36,19,40],[14,41,19,45],[14,46,19,47],[14,48,19,49],[14,50,19,51],[14,52,19,53],[14,54,19,55],[14,56,19,57],[3,3,3,10],[3,15,3,22],[3,24,3,26],[3,27,3,32],[3,34,3,48],[5,24,5,26],[6,41,6,44],[0,0,0,8],[0,12,0,20],[0,24,0,58],[7,2,7,8],[7,9,7,10],[7,14,7,20],[7,21,7,22],[7,25,7,27],[7,28,7,40],[7,41,7,44],[6,2,6,8],[6,9,6,10],[6,14,6,20],[6,21,6,22],[6,25,6,27],[6,28,6,40],[8,2,8,8],[8,9,8,10],[8,14,8,20],[8,21,8,22],[8,25,8,27],[8,28,8,40],[8,41,8,44],[11,0,13,0],[11,1,13,1],[11,2,13,2],[11,3,13,3],[11,7,13,7],[11,8,13,8],[11,9,13,9],[11,12,13,12],[11,13,13,13],[11,14,13,14],[11,15,13,15],[11,19,13,19],[11,20,13,20],[11,21,13,21],[14,24,19,27],[14,28,19,30],[14,31,19,35],[14,1,14,5],[14,6,14,8],[14,9,14,10],[15,1,15,5],[15,6,15,8],[15,9,15,10],[16,1,16,5],[16,6,16,8],[16,9,16,10],[14,13,14,17],[14,18,14,20],[14,21,14,22],[15,13,15,17],[15,18,15,20],[15,21,15,22],[18,4,18,5],[18,6,18,8],[18,9,18,10],[18,16,18,17],[18,18,18,20],[18,21,18,22],[20,9,20,10],[20,16,20,17],[20,18,20,20],[20,24,25,28],[20,29,22,30],[20,31,25,35],[20,46,25,47],[22,39,23,40],[22,41,23,42],[22,43,23,43],[22,44,23,45],[24,38,25,38],[24,39,25,40],[23,29,25,30],[77,64,82,65],[77,66,82,66],[79,36,80,37],[26,24,31,28],[26,29,28,30],[26,36,31,40],[26,46,31,47],[26,31,27,35],[26,41,27,45],[30,34,31,35],[30,41,31,42],[28,44,29,45],[30,31,31,32],[26,50,31,51],[26,52,31,53],[26,54,31,55],[26,56,31,57],[26,58,31,59],[26,60,31,61],[26,62,31,63],[26,64,31,65],[26,66,31,66],[79,43,80,43],[79,44,80,45],[29,13,31,13],[29,15,31,15],[32,58,37,59],[32,24,37,28],[32,29,34,30],[32,41,37,45],[32,46,37,47],[32,50,37,51],[32,52,37,53],[35,29,37,30],[32,48,37,49],[29,29,31,30],[28,31,29,32],[28,33,29,33],[28,34,29,35],[28,41,29,42],[28,43,29,43],[30,33,31,33],[30,43,31,43],[30,44,31,45],[32,31,33,35],[32,36,33,40],[36,36,37,37],[36,38,37,38],[29,12,31,12],[29,14,31,14],[29,19,31,19],[29,20,31,20],[35,18,35,20],[81,39,82,40],[81,41,82,42],[81,43,82,43],[53,9,53,10],[53,16,53,17],[53,18,53,20],[53,21,53,22],[53,33,54,33],[53,34,54,48],[57,24,58,26],[57,27,58,32],[61,25,62,27],[61,28,62,40],[61,41,62,44],[63,25,64,27],[63,28,64,40],[63,41,64,44],[71,41,76,45],[29,21,31,21],[41,29,42,29],[47,24,48,58],[41,35,42,35],[49,24,50,58],[77,56,82,57],[71,56,76,57],[29,0,31,0],[29,1,31,1],[29,2,31,2],[29,3,31,3],[29,7,31,7],[29,8,31,8],[35,21,35,22],[41,32,42,32],[36,9,36,10],[36,16,36,17],[35,4,35,5],[35,6,35,8],[35,9,35,10],[35,16,35,17],[36,18,36,20],[36,21,36,22],[37,4,37,5],[29,9,31,9],[37,6,37,8],[37,9,37,10],[37,16,37,17],[37,18,37,20],[37,21,37,22],[36,4,36,5],[36,6,36,8],[71,58,76,59],[59,25,60,27],[59,28,60,40],[38,4,38,5],[38,6,38,8],[38,9,38,10],[38,16,38,17],[38,18,38,20],[38,21,38,22],[59,41,60,44],[47,9,49,9],[71,24,76,27],[71,28,76,30],[71,31,76,35],[71,36,76,40],[53,4,53,5],[53,6,53,8],[47,0,49,0],[47,1,49,1],[47,2,49,2],[47,3,49,3],[47,7,49,7],[47,8,49,8],[47,21,49,21],[47,12,49,12],[47,13,49,13],[47,14,49,14],[47,15,49,15],[47,19,49,19],[47,20,49,20],[56,4,56,5],[56,6,56,8],[56,9,56,10],[56,16,56,17],[56,18,56,20],[56,21,56,22],[5,27,5,32],[53,24,54,26],[53,27,54,32],[39,24,40,57],[41,24,42,25],[41,26,42,26],[54,4,54,5],[54,6,54,8],[54,9,54,10],[54,16,54,17],[54,18,54,20],[54,21,54,22],[55,4,55,5],[55,6,55,8],[55,9,55,10],[55,16,55,17],[55,18,55,20],[55,21,55,22],[77,24,82,28],[77,29,79,30],[77,31,82,35],[77,46,82,47],[77,48,82,49],[77,58,82,59],[77,60,82,61],[77,62,82,63],[83,58,88,59],[80,29,82,30],[83,24,88,28],[83,29,85,30],[83,36,88,40],[83,31,84,35],[83,41,84,45],[87,34,88,35],[81,36,82,37],[81,38,82,38],[83,62,88,63],[86,29,88,30],[81,44,82,45],[79,38,80,38],[79,39,80,40],[79,41,80,42],[89,24,94,28],[89,29,91,30],[89,41,94,45],[89,46,94,47],[89,62,94,63],[92,29,94,30],[83,48,88,49],[96,24,97,57],[98,24,99,25],[98,26,99,26],[98,29,99,29],[98,32,99,32],[83,60,88,61],[83,50,88,51],[83,52,88,53],[83,54,88,55],[83,56,88,57],[89,60,94,61],[89,50,94,51],[89,52,94,53],[89,54,94,55],[89,56,94,57],[89,48,94,49],[89,31,90,35]]}
[{"$f":"抽選会資料!B1","v":"OFA 第 53 回大分県U-12サッカー大会　兼　KYFA 九州U-12サッカー大会大分県大会"},null,null,null,null,null,null,null,null,"１次リーグ結果　報告用紙",null,null,{"$f":"抽選会資料!B1","v":"OFA 第 53 回大分県U-12サッカー大会　兼　KYFA 九州U-12サッカー大会大分県大会"},null,null,null,null,null,null,null,null,"１次リーグ結果　報告用紙",null,null,{"$f":"$A$1","v":"OFA 第 53 回大分県U-12サッカー大会　兼　KYFA 九州U-12サッカー大会大分県大会"},null,null,null,null,null,null,null,null,null,null,null,null,null,null,null,null,null,null,null,null,null,null,null,null,null,null,null,null,null,null,null,null,null,null,null,{"$f":"$J$1","v":"１次リーグ結果　報告用紙"}]
["＜時間割＞　①10:00～　②11:00～　③12:00～　④13:00～　⑤14:00～　⑥15:00～",null,null,null,null,null,null,null,null,null,null,null,"＜時間割＞　①10:00～　②11:00～　③12:00～　④13:00～　⑤14:00～　⑥15:00～",null,null,null,null,null,null,null,null,null,null,null,"＜時間割＞　①10:00～　②11:00～　③12:00～　④13:00～　⑤14:00～　⑥15:00～"]
[]
["会場",{"$f":"組み合わせ!D8","v":"日田・玖珠"},"⇒",{"$f":"VLOOKUP(B4,抽選会資料!$B$52:$F$60,2,FALSE)","v":"玖珠町総合運動公園"},null,null,null,null,null,null,null,null,"会場",{"$f":"組み合わせ!D8","v":"日田・玖珠"},"⇒",{"$f":"VLOOKUP(N4,抽選会資料!$B$52:$F$60,2,FALSE)","v":"玖珠町総合運動公園"},null,null,null,null,null,null,null,null,"会場",null,null,{"$f":"$B$4","v":"日田・玖珠"},null,null,null,null,null,"⇒",{"$f":"$D$4","v":"玖珠町総合運動公園"}]
[]
["パート",{"$f":"VLOOKUP(B4,組み合わせ!$AL$95:$BU$112,13,FALSE)","v":"B"},null,null,null,null,null,null,null,null,null,null,"パート",{"$f":"VLOOKUP(N4,組み合わせ!$AL$95:$BU$112,25,FALSE)","v":"K"},null,null,null,null,null,null,null,null,null,null,"パート",null,null,{"$f":"$B$6","v":"B"}]
[null,{"$f":"CONCATENATE($B$6,1)","v":"B1"},{"$f":"HLOOKUP(B7,組み合わせ!$B$48:$EO$86,2,FALSE)","v":"ＦＣアリアーレ"},null,null,null,null,null,null,{"$f":"HLOOKUP(B7,組み合わせ!$B$48:$EO$86,32,FALSE)","v":"日田・玖珠"},null,null,null,{"$f":"CONCATENATE($N$6,1)","v":"K1"},{"$f":"HLOOKUP(N7,組み合わせ!$B$48:$EO$86,2,FALSE)","v":"太陽スポーツクラブ大分西"},null,null,null,null,null,null,{"$f":"HLOOKUP(N7,組み合わせ!$B$48:$EO$86,32,FALSE)","v":"日田・玖珠"},null,null,null,{"$f":"+B7","v":"B1"},null,null,{"$f":"$C$7","v":"ＦＣアリアーレ"},null,null,null,null,null,null,null,null,null,null,null,null,{"$f":"$J$7","v":"日田・玖珠"}]
[null,{"$f":"CONCATENATE($B$6,2)","v":"B2"},{"$f":"HLOOKUP(B8,組み合わせ!$B$48:$EO$86,2,FALSE)","v":"大道サッカースポーツ少年団"},null,null,null,null,null,null,{"$f":"HLOOKUP(B8,組み合わせ!$B$48:$EO$86,32,FALSE)","v":"大分"},null,null,null,{"$f":"CONCATENATE($N$6,2)","v":"K2"},{"$f":"HLOOKUP(N8,組み合わせ!$B$48:$EO$86,2,FALSE)","v":"スマイス　セレソン　スポーツクラブ"},null,null,null,null,null,null,{"$f":"HLOOKUP(N8,組み合わせ!$B$48:$EO$86,32,FALSE)","v":"大分"},null,null,null,{"$f":"+B8","v":"B2"},null,null,{"$f":"$C$8","v":"大道サッカースポーツ少年団"},null,null,null,null,null,null,null,null,null,null,null,null,{"$f":"$J$8","v":"大分"}]
[null,{"$f":"CONCATENATE($B$6,3)","v":"B3"},{"$f":"HLOOKUP(B9,組み合わせ!$B$48:$EO$86,2,FALSE)","v":"スマイス・セレソンＢ"},null,null,null,null,null,null,{"$f":"HLOOKUP(B9,組み合わせ!$B$48:$EO$86,32,FALSE)","v":"別府"},null,null,null,{"$f":"CONCATENATE($N$6,3)","v":"K3"},{"$f":"HLOOKUP(N9,組み合わせ!$B$48:$EO$86,2,FALSE)","v":"判田サッカースポーツ少年団"},null,null,null,null,null,null,{"$f":"HLOOKUP(N9,組み合わせ!$B$48:$EO$86,32,FALSE)","v":"大分"},null,null,null,{"$f":"+B9","v":"B3"},null,null,{"$f":"$C$9","v":"スマイス・セレソンＢ"},null,null,null,null,null,null,null,null,null,null,null,null,{"$f":"$J$9","v":"別府"}]
["8：50～ＭＣＭ",null,null,null,null,null,null,null,null,null,null,null,"9：50～ＭＣＭ"]
[]
["①\n10:00～",{"$f":"C7","v":"ＦＣアリアーレ"},{"$f":"IF(E12=\"\",\"\",SUM(E12:E13))","v":6},"（",4,"前半",0,"）",{"$f":"IF(G12=\"\",\"\",SUM(G12:G13))","v":0},{"$f":"C8","v":"大道サッカースポーツ少年団"},null,null,"②\n11:00～",{"$f":"O7","v":"太陽スポーツクラブ大分西"},{"$f":"IF(Q12=\"\",\"\",SUM(Q12:Q13))","v":1},"（",1,"前半",0,"）",{"$f":"IF(S12=\"\",\"\",SUM(S12:S13))","v":1},{"$f":"O8","v":"スマイス　セレソン　スポーツクラブ"}]
[null,null,null,null,2,"後半",0,null,null,null,null,null,null,null,null,null,0,"後半",1]
[null,null,null,null,null,"PK",null,null,null,null,null,null,null,null,null,null,null,"PK"]
["MC","井上　健次郎",null,null,null,null,"所属協会",null,null,"日田市サッカー協会",null,null,"MC","諌本　秀樹",null,null,null,null,"所属協会",null,null,"日田市サッカー協会",null,null,{"$f":"$Y$6","v":"パート"},null,null,null,{"$f":"$AB$6","v":"B"},null,null,{"$f":"$Y$21","v":"ＦＣアリアーレ"},null,null,null,null,{"$f":"$Y$27","v":"大道サッカースポーツ少年団"},null,null,null,null,{"$f":"$Y$33","v":"スマイス・セレソンＢ"},null,null,null,null,"勝",null,"PK\n勝",null,"PK\n負",null,"負",null,"得点",null,"失点",null,"勝点",null,"勝点\n順位",null,"得失\n点差",null,"得失\n順位",null,"総\n順位"]
["WelfareOfficer","井上　健次郎",null,null,null,null,"所属協会",null,null,"日田市サッカー協会",null,null,"WelfareOfficer","諌本　秀樹",null,null,null,null,"所属協会",null,null,"日田市サッカー協会"]
["記録","上田　源典",null,null,null,null,"所属協会",null,null,"日田市サッカー協会",null,null,"記録","大鶴　翔太郎",null,null,null,null,"所属協会",null,null,"日田市サッカー協会"]
["R:",{"$f":"IF(ISERROR(VLOOKUP(G18,審判員!$A:$C,2,FALSE))=TRUE,\"\",VLOOKUP(G18,審判員!$A:$C,2,FALSE))","v":"松原　マヤ"},{"$f":"IF(ISERROR(VLOOKUP(G18,審判員!$A:$C,3,FALSE))=TRUE,\"\",VLOOKUP(G18,審判員!$A:$C,3,FALSE))","v":2},"級","資格番号",null,"R001265552",null,null,"本部",null,null,"R:",{"$f":"IF(ISERROR(VLOOKUP(S18,審判員!$A:$C,2,FALSE))=TRUE,\"\",VLOOKUP(S18,審判員!$A:$C,2,FALSE))","v":"長尾　信宏"},{"$f":"IF(ISERROR(VLOOKUP(S18,審判員!$A:$C,3,FALSE))=TRUE,\"\",VLOOKUP(S18,審判員!$A:$C,3,FALSE))","v":3},"級","資格番号",null,"R001258871",null,null,"本部"]
["AR1:",{"$f":"IF(ISERROR(VLOOKUP(G19,審判員!$A:$C,2,FALSE))=TRUE,\"\",VLOOKUP(G19,審判員!$A:$C,2,FALSE))","v":"池本　岬"},{"$f":"IF(ISERROR(VLOOKUP(G19,審判員!$A:$C,3,FALSE))=TRUE,\"\",VLOOKUP(G19,審判員!$A:$C,3,FALSE))","v":3},"級","資格番号",null,"R010301990",null,null,{"$f":"N12","v":"太陽スポーツクラブ大分西"},null,null,"AR1:",{"$f":"IF(ISERROR(VLOOKUP(S19,審判員!$A:$C,2,FALSE))=TRUE,\"\",VLOOKUP(S19,審判員!$A:$C,2,FALSE))","v":"川井　勇介"},{"$f":"IF(ISERROR(VLOOKUP(S19,審判員!$A:$C,3,FALSE))=TRUE,\"\",VLOOKUP(S19,審判員!$A:$C,3,FALSE))","v":3},"級","資格番号",null,"R001255616",null,null,{"$f":"B12","v":"ＦＣアリアーレ"}]
["AR2:",{"$f":"IF(ISERROR(VLOOKUP(G20,審判員!$A:$C,2,FALSE))=TRUE,\"\",VLOOKUP(G20,審判員!$A:$C,2,FALSE))","v":"生野　憲太朗"},{"$f":"IF(ISERROR(VLOOKUP(G20,審判員!$A:$C,3,FALSE))=TRUE,\"\",VLOOKUP(G20,審判員!$A:$C,3,FALSE))","v":3},"級","資格番号",null,"R010542204",null,null,{"$f":"V12","v":"スマイス　セレソン　スポーツクラブ"},null,null,"AR2:",{"$f":"IF(ISERROR(VLOOKUP(S20,審判員!$A:$C,2,FALSE))=TRUE,\"\",VLOOKUP(S20,審判員!$A:$C,2,FALSE))","v":"田尻　貴志"},{"$f":"IF(ISERROR(VLOOKUP(S20,審判員!$A:$C,3,FALSE))=TRUE,\"\",VLOOKUP(S20,審判員!$A:$C,3,FALSE))","v":3},"級","資格番号",null,"R010120124",null,null,{"$f":"J12","v":"大道サッカースポーツ少年団"}]
["4th:",{"$f":"IF(ISERROR(VLOOKUP(G21,審判員!$A:$C,2,FALSE))=TRUE,\"\",VLOOKUP(G21,審判員!$A:$C,2,FALSE))","v":"長尾　信宏"},{"$f":"IF(ISERROR(VLOOKUP(G21,審判員!$A:$C,3,FALSE))=TRUE,\"\",VLOOKUP(G21,審判員!$A:$C,3,FALSE))","v":3},"級","資格番号",null,"R001258871",null,null,"本部",null,null,"4th:",{"$f":"IF(ISERROR(VLOOKUP(S21,審判員!$A:$C,2,FALSE))=TRUE,\"\",VLOOKUP(S21,審判員!$A:$C,2,FALSE))","v":"松原　マヤ"},{"$f":"IF(ISERROR(VLOOKUP(S21,審判員!$A:$C,3,FALSE))=TRUE,\"\",VLOOKUP(S21,審判員!$A:$C,3,FALSE))","v":2},"級","資格番号",null,"R001265552",null,null,"本部",null,null,{"$f":"$AC$7","v":"ＦＣアリアーレ"},null,null,null,null,"星取表",null,null,null,null,null,null,{"$f":"IF(AK25=\"\",\"\",IF(AK25>AN25,\"○\",IF(AK25<AN25,\"●\",IF(AK23>AN23,\"△\",IF(AK23<AN23,\"▲\")))))","v":"○"},null,null,null,null,{"$f":"IF(AP25=\"\",\"\",IF(AP25>AS25,\"○\",IF(AP25<AS25,\"●\",IF(AP23>AS23,\"△\",IF(AP23<AS23,\"▲\")))))","v":"○"},null,null,null,null,{"$f":"COUNTIF($AF$21:$AT$22,\"○\")","v":2},null,{"$f":"COUNTIF($AF$21:$AT$22,\"△\")","v":0},null,{"$f":"COUNTIF($AF$21:$AT$22,\"▲\")","v":0},null,{"$f":"COUNTIF($AF$21:$AT$22,\"●\")","v":0},null,{"$f":"SUM($AK$25,$AP$25)","v":8},null,{"$f":"SUM($AN$25,$AS$25)","v":0},null,{"$f":"($AU$21*3)+($AW$21*2)+($AY$21*1)","v":6},null,{"$f":"RANK($BG$21,$BG$21:$BH$38)","v":1},null,{"$f":"$BC$21-$BE$21","v":8},null,{"$f":"RANK($BK$21,$BK$21:$BL$38)","v":1}]
["警告/退場","氏名","背番号","分","内容",null,"内容","分","背番号","氏名","警告/退場",null,"警告/退場","氏名","背番号","分","内容",null,"内容","分","背番号","氏名","警告/退場"]
[null,{"$f":"IF(ISERROR(VLOOKUP(CONCATENATE($B$12,\"_\",C23),選手名簿!$A:$E,5,FALSE))=TRUE,\"\",VLOOKUP(CONCATENATE($B$12,\"_\",C23),選手名簿!$A:$E,5,FALSE))","v":""},null,null,null,null,null,null,null,{"$f":"IF(ISERROR(VLOOKUP(CONCATENATE($J$12,\"_\",I23),選手名簿!$A:$E,5,FALSE))=TRUE,\"\",VLOOKUP(CONCATENATE($J$12,\"_\",I23),選手名簿!$A:$E,5,FALSE))","v":""},null,null,"退場",{"$f":"IF(ISERROR(VLOOKUP(CONCATENATE($N$12,\"_\",O23),選手名簿!$A:$E,5,FALSE))=TRUE,\"\",VLOOKUP(CONCATENATE($N$12,\"_\",O23),選手名簿!$A:$E,5,FALSE))","v":"中島　光稀"},1,24,"阻止(手)",null,null,null,null,{"$f":"IF(ISERROR(VLOOKUP(CONCATENATE($V$12,\"_\",U23),選手名簿!$A:$E,5,FALSE))=TRUE,\"\",VLOOKUP(CONCATENATE($V$12,\"_\",U23),選手名簿!$A:$E,5,FALSE))","v":""},null,null,null,null,null,null,null,null,null,null,null,null,null,null,{"$f":"IF($E$14=\"\",\"\",$E$14)","v":""},null,"―",{"$f":"IF($G$14=\"\",\"\",$G$14)","v":""},null,{"$f":"IF($G$50=\"\",\"\",$G$50)","v":""},null,"―",{"$f":"IF($E$50=\"\",\"\",$E$50)","v":""}]
[null,{"$f":"IF(ISERROR(VLOOKUP(CONCATENATE($B$12,\"_\",C24),選手名簿!$A:$E,5,FALSE))=TRUE,\"\",VLOOKUP(CONCATENATE($B$12,\"_\",C24),選手名簿!$A:$E,5,FALSE))","v":""},null,null,null,null,null,null,null,{"$f":"IF(ISERROR(VLOOKUP(CONCATENATE($J$12,\"_\",I24),選手名簿!$A:$E,5,FALSE))=TRUE,\"\",VLOOKUP(CONCATENATE($J$12,\"_\",I24),選手名簿!$A:$E,5,FALSE))","v":""},null,null,null,{"$f":"IF(ISERROR(VLOOKUP(CONCATENATE($N$12,\"_\",O24),選手名簿!$A:$E,5,FALSE))=TRUE,\"\",VLOOKUP(CONCATENATE($N$12,\"_\",O24),選手名簿!$A:$E,5,FALSE))","v":""},null,null,null,null,null,null,null,{"$f":"IF(ISERROR(VLOOKUP(CONCATENATE($V$12,\"_\",U24),選手名簿!$A:$E,5,FALSE))=TRUE,\"\",VLOOKUP(CONCATENATE($V$12,\"_\",U24),選手名簿!$A:$E,5,FALSE))","v":""},null,null,null,null,null,null,null,"得失点"]
[null,{"$f":"IF(ISERROR(VLOOKUP(CONCATENATE($B$12,\"_\",C25),選手名簿!$A:$E,5,FALSE))=TRUE,\"\",VLOOKUP(CONCATENATE($B$12,\"_\",C25),選手名簿!$A:$E,5,FALSE))","v":""},null,null,null,null,null,null,null,{"$f":"IF(ISERROR(VLOOKUP(CONCATENATE($J$12,\"_\",I25),選手名簿!$A:$E,5,FALSE))=TRUE,\"\",VLOOKUP(CONCATENATE($J$12,\"_\",I25),選手名簿!$A:$E,5,FALSE))","v":""},null,null,null,{"$f":"IF(ISERROR(VLOOKUP(CONCATENATE($N$12,\"_\",O25),選手名簿!$A:$E,5,FALSE))=TRUE,\"\",VLOOKUP(CONCATENATE($N$12,\"_\",O25),選手名簿!$A:$E,5,FALSE))","v":""},null,null,null,null,null,null,null,{"$f":"IF(ISERROR(VLOOKUP(CONCATENATE($V$12,\"_\",U25),選手名簿!$A:$E,5,FALSE))=TRUE,\"\",VLOOKUP(CONCATENATE($V$12,\"_\",U25),選手名簿!$A:$E,5,FALSE))","v":""},null,null,null,null,null,null,null,null,null,null,null,null,null,null,{"$f":"$C$12","v":6},null,"―",{"$f":"$I$12","v":0},null,{"$f":"$I$48","v":2},null,"―",{"$f":"$C$48","v":0}]
[null,{"$f":"IF(ISERROR(VLOOKUP(CONCATENATE($B$12,\"_\",C26),選手名簿!$A:$E,5,FALSE))=TRUE,\"\",VLOOKUP(CONCATENATE($B$12,\"_\",C26),選手名簿!$A:$E,5,FALSE))","v":""},null,null,null,null,null,null,null,{"$f":"IF(ISERROR(VLOOKUP(CONCATENATE($J$12,\"_\",I26),選手名簿!$A:$E,5,FALSE))=TRUE,\"\",VLOOKUP(CONCATENATE($J$12,\"_\",I26),選手名簿!$A:$E,5,FALSE))","v":""},null,null,null,{"$f":"IF(ISERROR(VLOOKUP(CONCATENATE($N$12,\"_\",O26),選手名簿!$A:$E,5,FALSE))=TRUE,\"\",VLOOKUP(CONCATENATE($N$12,\"_\",O26),選手名簿!$A:$E,5,FALSE))","v":""},null,null,null,null,null,null,null,{"$f":"IF(ISERROR(VLOOKUP(CONCATENATE($V$12,\"_\",U26),選手名簿!$A:$E,5,FALSE))=TRUE,\"\",VLOOKUP(CONCATENATE($V$12,\"_\",U26),選手名簿!$A:$E,5,FALSE))","v":""}]
[null,{"$f":"IF(ISERROR(VLOOKUP(CONCATENATE($B$12,\"_\",C27),選手名簿!$A:$E,5,FALSE))=TRUE,\"\",VLOOKUP(CONCATENATE($B$12,\"_\",C27),選手名簿!$A:$E,5,FALSE))","v":""},null,null,null,null,null,null,null,{"$f":"IF(ISERROR(VLOOKUP(CONCATENATE($J$12,\"_\",I27),選手名簿!$A:$E,5,FALSE))=TRUE,\"\",VLOOKUP(CONCATENATE($J$12,\"_\",I27),選手名簿!$A:$E,5,FALSE))","v":""},null,null,null,{"$f":"IF(ISERROR(VLOOKUP(CONCATENATE($N$12,\"_\",O27),選手名簿!$A:$E,5,FALSE))=TRUE,\"\",VLOOKUP(CONCATENATE($N$12,\"_\",O27),選手名簿!$A:$E,5,FALSE))","v":""},null,null,null,null,null,null,null,{"$f":"IF(ISERROR(VLOOKUP(CONCATENATE($V$12,\"_\",U27),選手名簿!$A:$E,5,FALSE))=TRUE,\"\",VLOOKUP(CONCATENATE($V$12,\"_\",U27),選手名簿!$A:$E,5,FALSE))","v":""},null,null,{"$f":"$AC$8","v":"大道サッカースポーツ少年団"},null,null,null,null,"星取表",null,{"$f":"IF(AF31=\"\",\"\",IF(AF31>AI31,\"○\",IF(AF31<AI31,\"●\",IF(AF29>AI29,\"△\",IF(AF29<AI29,\"▲\")))))","v":"●"},null,null,null,null,null,null,null,null,null,{"$f":"IF(AP31=\"\",\"\",IF(AP31>AS31,\"○\",IF(AP31<AS31,\"●\",IF(AP29>AS29,\"△\",IF(AP29<AS29,\"▲\")))))","v":"●"},null,null,null,null,{"$f":"COUNTIF($AF$27:$AT$28,\"○\")","v":0},null,{"$f":"COUNTIF($AF$27:$AT$28,\"△\")","v":0},null,{"$f":"COUNTIF($AF$27:$AT$28,\"▲\")","v":0},null,{"$f":"COUNTIF($AF$27:$AT$28,\"●\")","v":2},null,{"$f":"SUM($AF$31,$AP$31)","v":0},null,{"$f":"SUM($AI$31,$AS$31)","v":10},null,{"$f":"($AU$27*3)+($AW$27*2)+($AY$27*1)","v":0},null,{"$f":"RANK($BG$27,$BG$21:$BH$38)","v":3},null,{"$f":"$BC$27-$BE$27","v":-10},null,{"$f":"RANK($BK$27,$BK$21:$BL$38)","v":3}]
[]
[null,null,null,null,null,null,null,null,null,null,null,null,null,null,null,null,null,null,null,null,null,null,null,null,null,null,null,null,null,null,null,{"$f":"AN23","v":""},null,"―",{"$f":"AK23","v":""},null,null,null,null,null,null,{"$f":"IF($E$32=\"\",\"\",$E$32)","v":""},null,"―",{"$f":"IF($G$32=\"\",\"\",$G$32)","v":""}]
["③\n12:00～",{"$f":"C8","v":"大道サッカースポーツ少年団"},{"$f":"IF(E30=\"\",\"\",SUM(E30:E31))","v":0},"（",0,"前半",3,"）",{"$f":"IF(G30=\"\",\"\",SUM(G30:G31))","v":4},{"$f":"C9","v":"スマイス・セレソンＢ"},null,null,"④\n13:00～",{"$f":"O8","v":"スマイス　セレソン　スポーツクラブ"},{"$f":"IF(Q30=\"\",\"\",SUM(Q30:Q31))","v":4},"（",1,"前半",1,"）",{"$f":"IF(S30=\"\",\"\",SUM(S30:S31))","v":1},{"$f":"O9","v":"判田サッカースポーツ少年団"},null,null,null,null,null,null,null,"得失点"]
[null,null,null,null,0,"後半",1,null,null,null,null,null,null,null,null,null,3,"後半",0,null,null,null,null,null,null,null,null,null,null,null,null,{"$f":"AN25","v":0},null,"―",{"$f":"AK25","v":6},null,null,null,null,null,null,{"$f":"$C$30","v":0},null,"―",{"$f":"$I$30","v":4}]
[null,null,null,null,null,"PK",null,null,null,null,null,null,null,null,null,null,null,"PK"]
["MC","井上　健次郎",null,null,null,null,"所属協会",null,null,"日田市サッカー協会",null,null,"MC","諌本　秀樹",null,null,null,null,"所属協会",null,null,"日田市サッカー協会",null,null,{"$f":"$AC$9","v":"スマイス・セレソンＢ"},null,null,null,null,"星取表",null,{"$f":"IF(AF37=\"\",\"\",IF(AF37>AI37,\"○\",IF(AF37<AI37,\"●\",IF(AF35>AI35,\"△\",IF(AF35<AI35,\"▲\")))))","v":"●"},null,null,null,null,{"$f":"IF(AK37=\"\",\"\",IF(AK37>AN37,\"○\",IF(AK37<AN37,\"●\",IF(AK35>AN35,\"△\",IF(AK35<AN35,\"▲\")))))","v":"○"},null,null,null,null,null,null,null,null,null,{"$f":"COUNTIF($AF$33:$AT$34,\"○\")","v":1},null,{"$f":"COUNTIF($AF$33:$AT$34,\"△\")","v":0},null,{"$f":"COUNTIF($AF$33:$AT$34,\"▲\")","v":0},null,{"$f":"COUNTIF($AF$33:$AT$34,\"●\")","v":1},null,{"$f":"SUM($AF$37,$AK$37)","v":4},null,{"$f":"SUM($AI$37,$AN$37)","v":2},null,{"$f":"($AU$33*3)+($AW$33*2)+($AY$33*1)","v":3},null,{"$f":"RANK($BG$33,$BG$21:$BH$38)","v":2},null,{"$f":"$BC$33-$BE$33","v":2},null,{"$f":"RANK($BK$33,$BK$21:$BL$38)","v":2}]
["WelfareOfficer","井上　健次郎",null,null,null,null,"所属協会",null,null,"日田市サッカー協会",null,null,"WelfareOfficer","諌本　秀樹",null,null,null,null,"所属協会",null,null,"日田市サッカー協会"]
["記録","上田　源典",null,null,null,null,"所属協会",null,null,"日田市サッカー協会",null,null,"記録","桑野　智",null,null,null,null,"所属協会",null,null,"日田市サッカー協会",null,null,null,null,null,null,null,null,null,{"$f":"AS23","v":""},null,"―",{"$f":"AP23","v":""},null,{"$f":"AS29","v":""},null,"―",{"$f":"AP29","v":""}]
["R:",{"$f":"IF(ISERROR(VLOOKUP(G36,審判員!$A:$C,2,FALSE))=TRUE,\"\",VLOOKUP(G36,審判員!$A:$C,2,FALSE))","v":"菱川　翔平"},{"$f":"IF(ISERROR(VLOOKUP(G36,審判員!$A:$C,3,FALSE))=TRUE,\"\",VLOOKUP(G36,審判員!$A:$C,3,FALSE))","v":3},"級","資格番号",null,"R010376324",null,null,"本部",null,null,"R:",{"$f":"IF(ISERROR(VLOOKUP(S36,審判員!$A:$C,2,FALSE))=TRUE,\"\",VLOOKUP(S36,審判員!$A:$C,2,FALSE))","v":"森山　幸介"},{"$f":"IF(ISERROR(VLOOKUP(S36,審判員!$A:$C,3,FALSE))=TRUE,\"\",VLOOKUP(S36,審判員!$A:$C,3,FALSE))","v":3},"級","資格番号",null,"R008634636",null,null,"本部",null,null,null,null,null,null,null,"得失点"]
["AR1:",{"$f":"IF(ISERROR(VLOOKUP(G37,審判員!$A:$C,2,FALSE))=TRUE,\"\",VLOOKUP(G37,審判員!$A:$C,2,FALSE))","v":"生野　憲太朗"},{"$f":"IF(ISERROR(VLOOKUP(G37,審判員!$A:$C,3,FALSE))=TRUE,\"\",VLOOKUP(G37,審判員!$A:$C,3,FALSE))","v":3},"級","資格番号",null,"R010542204",null,null,{"$f":"N30","v":"スマイス　セレソン　スポーツクラブ"},null,null,"AR1:",{"$f":"IF(ISERROR(VLOOKUP(S37,審判員!$A:$C,2,FALSE))=TRUE,\"\",VLOOKUP(S37,審判員!$A:$C,2,FALSE))","v":"田尻　貴志"},{"$f":"IF(ISERROR(VLOOKUP(S37,審判員!$A:$C,3,FALSE))=TRUE,\"\",VLOOKUP(S37,審判員!$A:$C,3,FALSE))","v":3},"級","資格番号",null,"R010120124",null,null,{"$f":"B30","v":"大道サッカースポーツ少年団"},null,null,null,null,null,null,null,null,null,{"$f":"AS25","v":0},null,"―",{"$f":"AP25","v":2},null,{"$f":"AS31","v":4},null,"―",{"$f":"AP31","v":0}]
["AR2:",{"$f":"IF(ISERROR(VLOOKUP(G38,審判員!$A:$C,2,FALSE))=TRUE,\"\",VLOOKUP(G38,審判員!$A:$C,2,FALSE))","v":"阿部　浩之"},{"$f":"IF(ISERROR(VLOOKUP(G38,審判員!$A:$C,3,FALSE))=TRUE,\"\",VLOOKUP(G38,審判員!$A:$C,3,FALSE))","v":3},"級","資格番号",null,"R001262209",null,null,{"$f":"V30","v":"判田サッカースポーツ少年団"},null,null,"AR2:",{"$f":"IF(ISERROR(VLOOKUP(S38,審判員!$A:$C,2,FALSE))=TRUE,\"\",VLOOKUP(S38,審判員!$A:$C,2,FALSE))","v":"白石　健"},{"$f":"IF(ISERROR(VLOOKUP(S38,審判員!$A:$C,3,FALSE))=TRUE,\"\",VLOOKUP(S38,審判員!$A:$C,3,FALSE))","v":3},"級","資格番号",null,"R010538350",null,null,{"$f":"J30","v":"スマイス・セレソンＢ"}]
["4th:",{"$f":"IF(ISERROR(VLOOKUP(G39,審判員!$A:$C,2,FALSE))=TRUE,\"\",VLOOKUP(G39,審判員!$A:$C,2,FALSE))","v":"金子　翔"},{"$f":"IF(ISERROR(VLOOKUP(G39,審判員!$A:$C,3,FALSE))=TRUE,\"\",VLOOKUP(G39,審判員!$A:$C,3,FALSE))","v":3},"級","資格番号",null,"R010261482",null,null,"本部",null,null,"4th:",{"$f":"IF(ISERROR(VLOOKUP(S39,審判員!$A:$C,2,FALSE))=TRUE,\"\",VLOOKUP(S39,審判員!$A:$C,2,FALSE))","v":"川井　勇介"},{"$f":"IF(ISERROR(VLOOKUP(S39,審判員!$A:$C,3,FALSE))=TRUE,\"\",VLOOKUP(S39,審判員!$A:$C,3,FALSE))","v":3},"級","資格番号",null,"R001255616",null,null,"本部"]
["警告/退場","氏名","背番号","分","内容",null,"内容","分","背番号","氏名","警告/退場",null,"警告/退場","氏名","背番号","分","内容",null,"内容","分","背番号","氏名","警告/退場",null,"Ⅰ勝点（勝３点　ＰＫ勝２点　ＰＫ負１点　負０点）　Ⅱ当該チームの戦績　Ⅲ得失点差　Ⅳ多得点　Ⅴ抽選の順で順位を決定する。"]
[null,{"$f":"IF(ISERROR(VLOOKUP(CONCATENATE($B$30,\"_\",C41),選手名簿!$A:$E,5,FALSE))=TRUE,\"\",VLOOKUP(CONCATENATE($B$30,\"_\",C41),選手名簿!$A:$E,5,FALSE))","v":""},null,null,null,null,null,null,null,{"$f":"IF(ISERROR(VLOOKUP(CONCATENATE($J$30,\"_\",I41),選手名簿!$A:$E,5,FALSE))=TRUE,\"\",VLOOKUP(CONCATENATE($J$30,\"_\",I41),選手名簿!$A:$E,5,FALSE))","v":""},null,null,null,{"$f":"IF(ISERROR(VLOOKUP(CONCATENATE($N$30,\"_\",O41),選手名簿!$A:$E,5,FALSE))=TRUE,\"\",VLOOKUP(CONCATENATE($N$30,\"_\",O41),選手名簿!$A:$E,5,FALSE))","v":""},null,null,null,null,null,null,null,{"$f":"IF(ISERROR(VLOOKUP(CONCATENATE($V$30,\"_\",U41),選手名簿!$A:$E,5,FALSE))=TRUE,\"\",VLOOKUP(CONCATENATE($V$30,\"_\",U41),選手名簿!$A:$E,5,FALSE))","v":""}]
[null,{"$f":"IF(ISERROR(VLOOKUP(CONCATENATE($B$30,\"_\",C42),選手名簿!$A:$E,5,FALSE))=TRUE,\"\",VLOOKUP(CONCATENATE($B$30,\"_\",C42),選手名簿!$A:$E,5,FALSE))","v":""},null,null,null,null,null,null,null,{"$f":"IF(ISERROR(VLOOKUP(CONCATENATE($J$30,\"_\",I42),選手名簿!$A:$E,5,FALSE))=TRUE,\"\",VLOOKUP(CONCATENATE($J$30,\"_\",I42),選手名簿!$A:$E,5,FALSE))","v":""},null,null,null,{"$f":"IF(ISERROR(VLOOKUP(CONCATENATE($N$30,\"_\",O42),選手名簿!$A:$E,5,FALSE))=TRUE,\"\",VLOOKUP(CONCATENATE($N$30,\"_\",O42),選手名簿!$A:$E,5,FALSE))","v":""},null,null,null,null,null,null,null,{"$f":"IF(ISERROR(VLOOKUP(CONCATENATE($V$30,\"_\",U42),選手名簿!$A:$E,5,FALSE))=TRUE,\"\",VLOOKUP(CONCATENATE($V$30,\"_\",U42),選手名簿!$A:$E,5,FALSE))","v":""},null,null,"勝点表",null,"勝","○",null,"PK\n勝","△",null,"PK\n負","▲",null,"負","●"]
[null,{"$f":"IF(ISERROR(VLOOKUP(CONCATENATE($B$30,\"_\",C43),選手名簿!$A:$E,5,FALSE))=TRUE,\"\",VLOOKUP(CONCATENATE($B$30,\"_\",C43),選手名簿!$A:$E,5,FALSE))","v":""},null,null,null,null,null,null,null,{"$f":"IF(ISERROR(VLOOKUP(CONCATENATE($J$30,\"_\",I43),選手名簿!$A:$E,5,FALSE))=TRUE,\"\",VLOOKUP(CONCATENATE($J$30,\"_\",I43),選手名簿!$A:$E,5,FALSE))","v":""},null,null,null,{"$f":"IF(ISERROR(VLOOKUP(CONCATENATE($N$30,\"_\",O43),選手名簿!$A:$E,5,FALSE))=TRUE,\"\",VLOOKUP(CONCATENATE($N$30,\"_\",O43),選手名簿!$A:$E,5,FALSE))","v":""},null,null,null,null,null,null,null,{"$f":"IF(ISERROR(VLOOKUP(CONCATENATE($V$30,\"_\",U43),選手名簿!$A:$E,5,FALSE))=TRUE,\"\",VLOOKUP(CONCATENATE($V$30,\"_\",U43),選手名簿!$A:$E,5,FALSE))","v":""},null,null,null,null,null,3,null,null,2,null,null,1,null,null,0]
[null,{"$f":"IF(ISERROR(VLOOKUP(CONCATENATE($B$30,\"_\",C44),選手名簿!$A:$E,5,FALSE))=TRUE,\"\",VLOOKUP(CONCATENATE($B$30,\"_\",C44),選手名簿!$A:$E,5,FALSE))","v":""},null,null,null,null,null,null,null,{"$f":"IF(ISERROR(VLOOKUP(CONCATENATE($J$30,\"_\",I44),選手名簿!$A:$E,5,FALSE))=TRUE,\"\",VLOOKUP(CONCATENATE($J$30,\"_\",I44),選手名簿!$A:$E,5,FALSE))","v":""},null,null,null,{"$f":"IF(ISERROR(VLOOKUP(CONCATENATE($N$30,\"_\",O44),選手名簿!$A:$E,5,FALSE))=TRUE,\"\",VLOOKUP(CONCATENATE($N$30,\"_\",O44),選手名簿!$A:$E,5,FALSE))","v":""},null,null,null,null,null,null,null,{"$f":"IF(ISERROR(VLOOKUP(CONCATENATE($V$30,\"_\",U44),選手名簿!$A:$E,5,FALSE))=TRUE,\"\",VLOOKUP(CONCATENATE($V$30,\"_\",U44),選手名簿!$A:$E,5,FALSE))","v":""}]
[null,{"$f":"IF(ISERROR(VLOOKUP(CONCATENATE($B$30,\"_\",C45),選手名簿!$A:$E,5,FALSE))=TRUE,\"\",VLOOKUP(CONCATENATE($B$30,\"_\",C45),選手名簿!$A:$E,5,FALSE))","v":""},null,null,null,null,null,null,null,{"$f":"IF(ISERROR(VLOOKUP(CONCATENATE($J$30,\"_\",I45),選手名簿!$A:$E,5,FALSE))=TRUE,\"\",VLOOKUP(CONCATENATE($J$30,\"_\",I45),選手名簿!$A:$E,5,FALSE))","v":""},null,null,null,{"$f":"IF(ISERROR(VLOOKUP(CONCATENATE($N$30,\"_\",O45),選手名簿!$A:$E,5,FALSE))=TRUE,\"\",VLOOKUP(CONCATENATE($N$30,\"_\",O45),選手名簿!$A:$E,5,FALSE))","v":""},null,null,null,null,null,null,null,{"$f":"IF(ISERROR(VLOOKUP(CONCATENATE($V$30,\"_\",U45),選手名簿!$A:$E,5,FALSE))=TRUE,\"\",VLOOKUP(CONCATENATE($V$30,\"_\",U45),選手名簿!$A:$E,5,FALSE))","v":""}]
[]
[]
["⑤\n14:00～",{"$f":"C9","v":"スマイス・セレソンＢ"},{"$f":"IF(E48=\"\",\"\",SUM(E48:E49))","v":0},"（",0,"前半",1,"）",{"$f":"IF(G48=\"\",\"\",SUM(G48:G49))","v":2},{"$f":"C7","v":"ＦＣアリアーレ"},null,null,"⑥\n15:00～",{"$f":"O9","v":"判田サッカースポーツ少年団"},{"$f":"IF(Q48=\"\",\"\",SUM(Q48:Q49))","v":2},"（",1,"前半",1,"）",{"$f":"IF(S48=\"\",\"\",SUM(S48:S49))","v":1},{"$f":"O7","v":"太陽スポーツクラブ大分西"},null,null,{"$f":"$Y$1","v":"OFA 第 53 回大分県U-12サッカー大会　兼　KYFA 九州U-12サッカー大会大分県大会"},null,null,null,null,null,null,null,null,null,null,null,null,null,null,null,null,null,null,null,null,null,null,null,null,null,null,null,null,null,null,null,null,null,null,null,{"$f":"$BI$1","v":"１次リーグ結果　報告用紙"}]
[null,null,null,null,0,"後半",1,null,null,null,null,null,null,null,null,null,1,"後半",0]
[null,null,null,null,null,"PK",null,null,null,null,null,null,null,null,null,null,null,"PK",null,null,null,null,null,null,"＜時間割＞　①10:00～　②11:00～　③12:00～　④13:00～　⑤14:00～　⑥15:00～"]
["MC","井上　健次郎",null,null,null,null,"所属協会",null,null,"日田市サッカー協会",null,null,"MC","諌本　秀樹",null,null,null,null,"所属協会",null,null,"日田市サッカー協会"]
["WelfareOfficer","井上　健次郎",null,null,null,null,"所属協会",null,null,"日田市サッカー協会",null,null,"WelfareOfficer","諌本　秀樹",null,null,null,null,"所属協会",null,null,"日田市サッカー協会"]
["記録","諌本　秀樹",null,null,null,null,"所属協会",null,null,"日田市サッカー協会",null,null,"記録","上田　源典",null,null,null,null,"所属協会",null,null,"日田市サッカー協会"]
["R:",{"$f":"IF(ISERROR(VLOOKUP(G54,審判員!$A:$C,2,FALSE))=TRUE,\"\",VLOOKUP(G54,審判員!$A:$C,2,FALSE))","v":"大鶴　翔太郎"},{"$f":"IF(ISERROR(VLOOKUP(G54,審判員!$A:$C,3,FALSE))=TRUE,\"\",VLOOKUP(G54,審判員!$A:$C,3,FALSE))","v":3},"級","資格番号",null,"R010498317",null,null,"本部",null,null,"R:",{"$f":"IF(ISERROR(VLOOKUP(S54,審判員!$A:$C,2,FALSE))=TRUE,\"\",VLOOKUP(S54,審判員!$A:$C,2,FALSE))","v":"金子　翔"},{"$f":"IF(ISERROR(VLOOKUP(S54,審判員!$A:$C,3,FALSE))=TRUE,\"\",VLOOKUP(S54,審判員!$A:$C,3,FALSE))","v":3},"級","資格番号",null,"R010261482",null,null,"本部",null,null,"会場",null,null,{"$f":"$N$4","v":"日田・玖珠"},null,null,null,null,null,"⇒",{"$f":"$P$4","v":"玖珠町総合運動公園"}]
["AR1:",{"$f":"IF(ISERROR(VLOOKUP(G55,審判員!$A:$C,2,FALSE))=TRUE,\"\",VLOOKUP(G55,審判員!$A:$C,2,FALSE))","v":"阿部　浩之"},{"$f":"IF(ISERROR(VLOOKUP(G55,審判員!$A:$C,3,FALSE))=TRUE,\"\",VLOOKUP(G55,審判員!$A:$C,3,FALSE))","v":3},"級","資格番号",null,"R001262209",null,null,{"$f":"N48","v":"判田サッカースポーツ少年団"},null,null,"AR1:",{"$f":"IF(ISERROR(VLOOKUP(S55,審判員!$A:$C,2,FALSE))=TRUE,\"\",VLOOKUP(S55,審判員!$A:$C,2,FALSE))","v":"白石　健"},{"$f":"IF(ISERROR(VLOOKUP(S55,審判員!$A:$C,3,FALSE))=TRUE,\"\",VLOOKUP(S55,審判員!$A:$C,3,FALSE))","v":3},"級","資格番号",null,"R010538350",null,null,{"$f":"B48","v":"スマイス・セレソンＢ"}]
["AR2:",{"$f":"IF(ISERROR(VLOOKUP(G56,審判員!$A:$C,2,FALSE))=TRUE,\"\",VLOOKUP(G56,審判員!$A:$C,2,FALSE))","v":"池本　岬"},{"$f":"IF(ISERROR(VLOOKUP(G56,審判員!$A:$C,3,FALSE))=TRUE,\"\",VLOOKUP(G56,審判員!$A:$C,3,FALSE))","v":3},"級","資格番号",null,"R010301990",null,null,{"$f":"V48","v":"太陽スポーツクラブ大分西"},null,null,"AR2:",{"$f":"IF(ISERROR(VLOOKUP(S56,審判員!$A:$C,2,FALSE))=TRUE,\"\",VLOOKUP(S56,審判員!$A:$C,2,FALSE))","v":"川井　勇介"},{"$f":"IF(ISERROR(VLOOKUP(S56,審判員!$A:$C,3,FALSE))=TRUE,\"\",VLOOKUP(S56,審判員!$A:$C,3,FALSE))","v":3},"級","資格番号",null,"R001255616",null,null,{"$f":"J48","v":"ＦＣアリアーレ"}]
["4th:",{"$f":"IF(ISERROR(VLOOKUP(G57,審判員!$A:$C,2,FALSE))=TRUE,\"\",VLOOKUP(G57,審判員!$A:$C,2,FALSE))","v":"菱川　翔平"},{"$f":"IF(ISERROR(VLOOKUP(G57,審判員!$A:$C,3,FALSE))=TRUE,\"\",VLOOKUP(G57,審判員!$A:$C,3,FALSE))","v":3},"級","資格番号",null,"R010376324",null,null,"本部",null,null,"4th:",{"$f":"IF(ISERROR(VLOOKUP(S57,審判員!$A:$C,2,FALSE))=TRUE,\"\",VLOOKUP(S57,審判員!$A:$C,2,FALSE))","v":"森山　幸介"},{"$f":"IF(ISERROR(VLOOKUP(S57,審判員!$A:$C,3,FALSE))=TRUE,\"\",VLOOKUP(S57,審判員!$A:$C,3,FALSE))","v":3},"級","資格番号",null,"R008634636",null,null,"本部"]
["警告/退場","氏名","背番号","分","内容",null,"内容","分","背番号","氏名","警告/退場",null,"警告/退場","氏名","背番号","分","内容",null,"内容","分","背番号","氏名","警告/退場",null,"パート",null,null,{"$f":"$N$6","v":"K"}]
["警告",{"$f":"IF(ISERROR(VLOOKUP(CONCATENATE($B$48,\"_\",C59),選手名簿!$A:$E,5,FALSE))=TRUE,\"\",VLOOKUP(CONCATENATE($B$48,\"_\",C59),選手名簿!$A:$E,5,FALSE))","v":"吉良　一真"},8,22,"ラフ",null,null,null,null,{"$f":"IF(ISERROR(VLOOKUP(CONCATENATE($J$48,\"_\",I59),選手名簿!$A:$E,5,FALSE))=TRUE,\"\",VLOOKUP(CONCATENATE($J$48,\"_\",I59),選手名簿!$A:$E,5,FALSE))","v":""},null,null,null,{"$f":"IF(ISERROR(VLOOKUP(CONCATENATE($N$48,\"_\",O59),選手名簿!$A:$E,5,FALSE))=TRUE,\"\",VLOOKUP(CONCATENATE($N$48,\"_\",O59),選手名簿!$A:$E,5,FALSE))","v":""},null,null,null,null,null,null,null,{"$f":"IF(ISERROR(VLOOKUP(CONCATENATE($V$48,\"_\",U59),選手名簿!$A:$E,5,FALSE))=TRUE,\"\",VLOOKUP(CONCATENATE($V$48,\"_\",U59),選手名簿!$A:$E,5,FALSE))","v":""}]
[null,{"$f":"IF(ISERROR(VLOOKUP(CONCATENATE($B$48,\"_\",C60),選手名簿!$A:$E,5,FALSE))=TRUE,\"\",VLOOKUP(CONCATENATE($B$48,\"_\",C60),選手名簿!$A:$E,5,FALSE))","v":""},null,null,null,null,null,null,null,{"$f":"IF(ISERROR(VLOOKUP(CONCATENATE($J$48,\"_\",I60),選手名簿!$A:$E,5,FALSE))=TRUE,\"\",VLOOKUP(CONCATENATE($J$48,\"_\",I60),選手名簿!$A:$E,5,FALSE))","v":""},null,null,null,{"$f":"IF(ISERROR(VLOOKUP(CONCATENATE($N$48,\"_\",O60),選手名簿!$A:$E,5,FALSE))=TRUE,\"\",VLOOKUP(CONCATENATE($N$48,\"_\",O60),選手名簿!$A:$E,5,FALSE))","v":""},null,null,null,null,null,null,null,{"$f":"IF(ISERROR(VLOOKUP(CONCATENATE($V$48,\"_\",U60),選手名簿!$A:$E,5,FALSE))=TRUE,\"\",VLOOKUP(CONCATENATE($V$48,\"_\",U60),選手名簿!$A:$E,5,FALSE))","v":""},null,null,null,{"$f":"$N$7","v":"K1"},null,null,{"$f":"$O$7","v":"太陽スポーツクラブ大分西"},null,null,null,null,null,null,null,null,null,null,null,null,{"$f":"$V$7","v":"日田・玖珠"}]
[null,{"$f":"IF(ISERROR(VLOOKUP(CONCATENATE($B$48,\"_\",C61),選手名簿!$A:$E,5,FALSE))=TRUE,\"\",VLOOKUP(CONCATENATE($B$48,\"_\",C61),選手名簿!$A:$E,5,FALSE))","v":""},null,null,null,null,null,null,null,{"$f":"IF(ISERROR(VLOOKUP(CONCATENATE($J$48,\"_\",I61),選手名簿!$A:$E,5,FALSE))=TRUE,\"\",VLOOKUP(CONCATENATE($J$48,\"_\",I61),選手名簿!$A:$E,5,FALSE))","v":""},null,null,null,{"$f":"IF(ISERROR(VLOOKUP(CONCATENATE($N$48,\"_\",O61),選手名簿!$A:$E,5,FALSE))=TRUE,\"\",VLOOKUP(CONCATENATE($N$48,\"_\",O61),選手名簿!$A:$E,5,FALSE))","v":""},null,null,null,null,null,null,null,{"$f":"IF(ISERROR(VLOOKUP(CONCATENATE($V$48,\"_\",U61),選手名簿!$A:$E,5,FALSE))=TRUE,\"\",VLOOKUP(CONCATENATE($V$48,\"_\",U61),選手名簿!$A:$E,5,FALSE))","v":""}]
[null,{"$f":"IF(ISERROR(VLOOKUP(CONCATENATE($B$48,\"_\",C62),選手名簿!$A:$E,5,FALSE))=TRUE,\"\",VLOOKUP(CONCATENATE($B$48,\"_\",C62),選手名簿!$A:$E,5,FALSE))","v":""},null,null,null,null,null,null,null,{"$f":"IF(ISERROR(VLOOKUP(CONCATENATE($J$48,\"_\",I62),選手名簿!$A:$E,5,FALSE))=TRUE,\"\",VLOOKUP(CONCATENATE($J$48,\"_\",I62),選手名簿!$A:$E,5,FALSE))","v":""},null,null,null,{"$f":"IF(ISERROR(VLOOKUP(CONCATENATE($N$48,\"_\",O62),選手名簿!$A:$E,5,FALSE))=TRUE,\"\",VLOOKUP(CONCATENATE($N$48,\"_\",O62),選手名簿!$A:$E,5,FALSE))","v":""},null,null,null,null,null,null,null,{"$f":"IF(ISERROR(VLOOKUP(CONCATENATE($V$48,\"_\",U62),選手名簿!$A:$E,5,FALSE))=TRUE,\"\",VLOOKUP(CONCATENATE($V$48,\"_\",U62),選手名簿!$A:$E,5,FALSE))","v":""},null,null,null,{"$f":"$N$8","v":"K2"},null,null,{"$f":"$O$8","v":"スマイス　セレソン　スポーツクラブ"},null,null,null,null,null,null,null,null,null,null,null,null,{"$f":"$V$8","v":"大分"}]
[null,{"$f":"IF(ISERROR(VLOOKUP(CONCATENATE($B$48,\"_\",C63),選手名簿!$A:$E,5,FALSE))=TRUE,\"\",VLOOKUP(CONCATENATE($B$48,\"_\",C63),選手名簿!$A:$E,5,FALSE))","v":""},null,null,null,null,null,null,null,{"$f":"IF(ISERROR(VLOOKUP(CONCATENATE($J$48,\"_\",I63),選手名簿!$A:$E,5,FALSE))=TRUE,\"\",VLOOKUP(CONCATENATE($J$48,\"_\",I63),選手名簿!$A:$E,5,FALSE))","v":""},null,null,null,{"$f":"IF(ISERROR(VLOOKUP(CONCATENATE($N$48,\"_\",O63),選手名簿!$A:$E,5,FALSE))=TRUE,\"\",VLOOKUP(CONCATENATE($N$48,\"_\",O63),選手名簿!$A:$E,5,FALSE))","v":""},null,null,null,null,null,null,null,{"$f":"IF(ISERROR(VLOOKUP(CONCATENATE($V$48,\"_\",U63),選手名簿!$A:$E,5,FALSE))=TRUE,\"\",VLOOKUP(CONCATENATE($V$48,\"_\",U63),選手名簿!$A:$E,5,FALSE))","v":""}]
[null,null,null,null,null,null,null,null,null,null,null,null,null,null,null,null,null,null,null,null,null,null,null,null,null,{"$f":"$N$9","v":"K3"},null,null,{"$f":"$O$9","v":"判田サッカースポーツ少年団"},null,null,null,null,null,null,null,null,null,null,null,null,{"$f":"$V$9","v":"大分"}]
[]
[]
[]
[]
[]
[]
[]
[null,null,null,null,null,null,null,null,null,null,null,null,null,null,null,null,null,null,null,null,null,null,null,null,{"$f":"$Y$6","v":"パート"},null,null,null,{"$f":"$AB$58","v":"K"},null,null,{"$f":"$Y$78","v":"太陽スポーツクラブ大分西"},null,null,null,null,{"$f":"$Y$84","v":"スマイス　セレソン　スポーツクラブ"},null,null,null,null,{"$f":"$Y$90","v":"判田サッカースポーツ少年団"},null,null,null,null,"勝",null,"PK\n勝",null,"PK\n負",null,"負",null,"得点",null,"失点",null,"勝点",null,"勝点\n順位",null,"得失\n点差",null,"得失\n順位",null,"総\n順位"]
[]
[]
[]
[]
[]
[null,null,null,null,null,null,null,null,null,null,null,null,null,null,null,null,null,null,null,null,null,null,null,null,{"$f":"$AC$60","v":"太陽スポーツクラブ大分西"},null,null,null,null,"星取表",null,null,null,null,null,null,{"$f":"IF(AK82=\"\",\"\",IF(AK82>AN82,\"○\",IF(AK82<AN82,\"●\",IF(AK80>AN80,\"△\",IF(AK80<AN80,\"▲\")))))","v":false},null,null,null,null,{"$f":"IF(AP82=\"\",\"\",IF(AP82>AS82,\"○\",IF(AP82<AS82,\"●\",IF(AP80>AS80,\"△\",IF(AP80<AS80,\"▲\")))))","v":"●"},null,null,null,null,{"$f":"COUNTIF($AF$78:$AT$79,\"○\")","v":0},null,{"$f":"COUNTIF($AF$78:$AT$79,\"△\")","v":0},null,{"$f":"COUNTIF($AF$78:$AT$79,\"▲\")","v":0},null,{"$f":"COUNTIF($AF$78:$AT$79,\"●\")","v":1},null,{"$f":"SUM($AK$82,$AP$82)","v":2},null,{"$f":"SUM($AN$82,$AS$82)","v":3},null,{"$f":"($AU$78*3)+($AW$78*2)+($AY$78*1)","v":0},null,{"$f":"RANK($BG$78,$BG$78:$BH$95)","v":3},null,{"$f":"$BC$78-$BE$78","v":-1},null,{"$f":"RANK($BK$78,$BK$78:$BL$95)","v":2}]
[]
[null,null,null,null,null,null,null,null,null,null,null,null,null,null,null,null,null,null,null,null,null,null,null,null,null,null,null,null,null,null,null,null,null,null,null,null,{"$f":"IF($Q$14=\"\",\"\",$Q$14)","v":""},null,"―",{"$f":"IF($S$14=\"\",\"\",$S$14)","v":""},null,{"$f":"IF($S$50=\"\",\"\",$S$50)","v":""},null,"―",{"$f":"IF($Q$50=\"\",\"\",$Q$50)","v":""}]
[null,null,null,null,null,null,null,null,null,null,null,null,null,null,null,null,null,null,null,null,null,null,null,null,null,null,null,null,null,"得失点"]
[null,null,null,null,null,null,null,null,null,null,null,null,null,null,null,null,null,null,null,null,null,null,null,null,null,null,null,null,null,null,null,null,null,null,null,null,{"$f":"$O$12","v":1},null,"―",{"$f":"$U$12","v":1},null,{"$f":"$U$48","v":1},null,"―",{"$f":"$O$48","v":2}]
[]
[null,null,null,null,null,null,null,null,null,null,null,null,null,null,null,null,null,null,null,null,null,null,null,null,{"$f":"$AC$62","v":"スマイス　セレソン　スポーツクラブ"},null,null,null,null,"星取表",null,{"$f":"IF(AF88=\"\",\"\",IF(AF88>AI88,\"○\",IF(AF88<AI88,\"●\",IF(AF86>AI86,\"△\",IF(AF86<AI86,\"▲\")))))","v":false},null,null,null,null,null,null,null,null,null,{"$f":"IF(AP88=\"\",\"\",IF(AP88>AS88,\"○\",IF(AP88<AS88,\"●\",IF(AP86>AS86,\"△\",IF(AP86<AS86,\"▲\")))))","v":"○"},null,null,null,null,{"$f":"COUNTIF($AF$84:$AT$85,\"○\")","v":1},null,{"$f":"COUNTIF($AF$84:$AT$85,\"△\")","v":0},null,{"$f":"COUNTIF($AF$84:$AT$85,\"▲\")","v":0},null,{"$f":"COUNTIF($AF$84:$AT$85,\"●\")","v":0},null,{"$f":"SUM($AF$88,$AP$88)","v":5},null,{"$f":"SUM($AI$88,$AS$88)","v":2},null,{"$f":"($AU$84*3)+($AW$84*2)+($AY$84*1)","v":3},null,{"$f":"RANK($BG$84,$BG$78:$BH$95)","v":1},null,{"$f":"$BC$84-$BE$84","v":3},null,{"$f":"RANK($BK$84,$BK$78:$BL$95)","v":1}]
[]
[null,null,null,null,null,null,null,null,null,null,null,null,null,null,null,null,null,null,null,null,null,null,null,null,null,null,null,null,null,null,null,{"$f":"AN80","v":""},null,"―",{"$f":"AK80","v":""},null,null,null,null,null,null,{"$f":"IF($Q$32=\"\",\"\",$Q$32)","v":""},null,"―",{"$f":"IF($S$32=\"\",\"\",$S$32)","v":""}]
[null,null,null,null,null,null,null,null,null,null,null,null,null,null,null,null,null,null,null,null,null,null,null,null,null,null,null,null,null,"得失点"]
[null,null,null,null,null,null,null,null,null,null,null,null,null,null,null,null,null,null,null,null,null,null,null,null,null,null,null,null,null,null,null,{"$f":"AN82","v":1},null,"―",{"$f":"AK82","v":1},null,null,null,null,null,null,{"$f":"$O$30","v":4},null,"―",{"$f":"$U$30","v":1}]
[]
[null,null,null,null,null,null,null,null,null,null,null,null,null,null,null,null,null,null,null,null,null,null,null,null,{"$f":"$AC$64","v":"判田サッカースポーツ少年団"},null,null,null,null,"星取表",null,{"$f":"IF(AF94=\"\",\"\",IF(AF94>AI94,\"○\",IF(AF94<AI94,\"●\",IF(AF92>AI92,\"△\",IF(AF92<AI92,\"▲\")))))","v":"○"},null,null,null,null,{"$f":"IF(AK94=\"\",\"\",IF(AK94>AN94,\"○\",IF(AK94<AN94,\"●\",IF(AK92>AN92,\"△\",IF(AK92<AN92,\"▲\")))))","v":"●"},null,null,null,null,null,null,null,null,null,{"$f":"COUNTIF($AF$90:$AT$91,\"○\")","v":1},null,{"$f":"COUNTIF($AF$90:$AT$91,\"△\")","v":0},null,{"$f":"COUNTIF($AF$90:$AT$91,\"▲\")","v":0},null,{"$f":"COUNTIF($AF$90:$AT$91,\"●\")","v":1},null,{"$f":"SUM($AF$94,$AK$94)","v":3},null,{"$f":"SUM($AI$94,$AN$94)","v":5},null,{"$f":"($AU$90*3)+($AW$90*2)+($AY$90*1)","v":3},null,{"$f":"RANK($BG$90,$BG$78:$BH$95)","v":1},null,{"$f":"$BC$90-$BE$90","v":-2},null,{"$f":"RANK($BK$90,$BK$78:$BL$95)","v":3}]
[]
[null,null,null,null,null,null,null,null,null,null,null,null,null,null,null,null,null,null,null,null,null,null,null,null,null,null,null,null,null,null,null,{"$f":"AS80","v":""},null,"―",{"$f":"AP80","v":""},null,{"$f":"AS86","v":""},null,"―",{"$f":"AP86","v":""}]
[null,null,null,null,null,null,null,null,null,null,null,null,null,null,null,null,null,null,null,null,null,null,null,null,null,null,null,null,null,"得失点"]
[null,null,null,null,null,null,null,null,null,null,null,null,null,null,null,null,null,null,null,null,null,null,null,null,null,null,null,null,null,null,null,{"$f":"AS82","v":2},null,"―",{"$f":"AP82","v":1},null,{"$f":"AS88","v":1},null,"―",{"$f":"AP88","v":4}]
[]
[]
[null,null,null,null,null,null,null,null,null,null,null,null,null,null,null,null,null,null,null,null,null,null,null,null,"Ⅰ勝点（勝３点　ＰＫ勝２点　ＰＫ負１点　負０点）　Ⅱ当該チームの戦績　Ⅲ得失点差　Ⅳ多得点　Ⅴ抽選の順で順位を決定する。"]
[]
[null,null,null,null,null,null,null,null,null,null,null,null,null,null,null,null,null,null,null,null,null,null,null,null,"勝点表",null,"勝","○",null,"PK\n勝","△",null,"PK\n負","▲",null,"負","●"]
[null,null,null,null,null,null,null,null,null,null,null,null,null,null,null,null,null,null,null,null,null,null,null,null,null,null,null,3,null,null,2,null,null,1,null,null,0]

{"sheet":"１次リーグ（別府）","index":18,"n_rows":100,"n_cols":67,"rows_kept":100,"cut":false,"hidden":false,"merged":[[16,13,16,17],[16,18,16,20],[16,21,16,22],[32,1,32,5],[32,6,32,8],[32,9,32,10],[33,1,33,5],[33,6,33,8],[33,9,33,10],[17,4,17,5],[17,6,17,8],[17,9,17,10],[17,16,17,17],[17,18,17,20],[17,21,17,22],[20,21,20,22],[19,4,19,5],[19,6,19,8],[19,9,19,10],[19,16,19,17],[19,18,19,20],[19,21,19,22],[20,4,20,5],[20,6,20,8],[34,1,34,5],[34,6,34,8],[34,9,34,10],[32,13,32,17],[32,18,32,20],[32,21,32,22],[33,13,33,17],[33,18,33,20],[33,21,33,22],[34,13,34,17],[34,18,34,20],[34,21,34,22],[50,13,50,17],[50,18,50,20],[50,21,50,22],[51,13,51,17],[51,18,51,20],[51,21,51,22],[52,13,52,17],[52,18,52,20],[52,21,52,22],[50,1,50,5],[50,6,50,8],[50,9,50,10],[51,1,51,5],[51,6,51,8],[51,9,51,10],[52,1,52,5],[52,6,52,8],[52,9,52,10],[89,36,90,40],[89,64,94,65],[93,36,94,37],[93,38,94,38],[93,39,94,40],[83,64,88,65],[89,58,94,59],[89,66,94,66],[91,31,92,32],[91,33,92,33],[91,34,92,35],[91,36,92,37],[91,38,92,38],[91,39,92,40],[93,31,94,32],[93,33,94,33],[93,34,94,35],[83,66,88,66],[85,31,86,32],[85,33,86,33],[85,34,86,35],[85,41,86,42],[85,43,86,43],[85,44,86,45],[87,31,88,32],[87,33,88,33],[83,46,88,47],[87,41,88,42],[87,43,88,43],[87,44,88,45],[36,39,37,40],[26,48,31,49],[32,62,37,63],[77,36,78,40],[77,41,78,45],[47,60,48,66],[77,50,82,51],[77,52,82,53],[77,54,82,55],[71,46,76,47],[71,48,76,49],[71,50,76,51],[71,52,76,53],[71,54,76,55],[71,60,76,61],[71,62,76,63],[71,64,76,65],[71,66,76,66],[32,66,37,66],[34,31,35,32],[34,33,35,33],[34,34,35,35],[34,36,35,37],[34,38,35,38],[34,39,35,40],[36,31,37,32],[36,33,37,33],[36,34,37,35],[32,54,37,55],[32,56,37,57],[32,60,37,61],[32,64,37,65],[14,58,19,59],[14,60,19,61],[14,62,19,63],[20,48,25,49],[20,50,25,51],[20,52,25,53],[24,41,25,42],[24,43,25,43],[24,44,25,45],[20,54,25,55],[20,56,25,57],[20,58,25,59],[20,60,25,61],[20,62,25,63],[0,60,0,66],[1,0,1,10],[1,12,1,22],[1,24,1,58],[0,9,0,10],[0,21,0,22],[98,35,99,35],[14,64,19,65],[14,66,19,66],[20,36,21,40],[20,41,21,45],[20,64,25,65],[20,66,25,66],[22,36,23,37],[22,38,23,38],[24,36,25,37],[14,36,19,40],[14,41,19,45],[14,46,19,47],[14,48,19,49],[14,50,19,51],[14,52,19,53],[14,54,19,55],[14,56,19,57],[3,3,3,10],[3,15,3,22],[3,24,3,26],[3,27,3,32],[3,34,3,48],[5,24,5,26],[6,41,6,44],[0,0,0,8],[0,12,0,20],[0,24,0,58],[7,2,7,8],[7,9,7,10],[7,14,7,20],[7,21,7,22],[7,25,7,27],[7,28,7,40],[7,41,7,44],[6,2,6,8],[6,9,6,10],[6,14,6,20],[6,21,6,22],[6,25,6,27],[6,28,6,40],[8,2,8,8],[8,9,8,10],[8,14,8,20],[8,21,8,22],[8,25,8,27],[8,28,8,40],[8,41,8,44],[11,0,13,0],[11,1,13,1],[11,2,13,2],[11,3,13,3],[11,7,13,7],[11,8,13,8],[11,9,13,9],[11,12,13,12],[11,13,13,13],[11,14,13,14],[11,15,13,15],[11,19,13,19],[11,20,13,20],[11,21,13,21],[14,24,19,27],[14,28,19,30],[14,31,19,35],[14,1,14,5],[14,6,14,8],[14,9,14,10],[15,1,15,5],[15,6,15,8],[15,9,15,10],[16,1,16,5],[16,6,16,8],[16,9,16,10],[14,13,14,17],[14,18,14,20],[14,21,14,22],[15,13,15,17],[15,18,15,20],[15,21,15,22],[18,4,18,5],[18,6,18,8],[18,9,18,10],[18,16,18,17],[18,18,18,20],[18,21,18,22],[20,9,20,10],[20,16,20,17],[20,18,20,20],[20,24,25,28],[20,29,22,30],[20,31,25,35],[20,46,25,47],[22,39,23,40],[22,41,23,42],[22,43,23,43],[22,44,23,45],[24,38,25,38],[24,39,25,40],[23,29,25,30],[77,64,82,65],[77,66,82,66],[79,36,80,37],[26,24,31,28],[26,29,28,30],[26,36,31,40],[26,46,31,47],[26,31,27,35],[26,41,27,45],[30,34,31,35],[30,41,31,42],[28,44,29,45],[30,31,31,32],[26,50,31,51],[26,52,31,53],[26,54,31,55],[26,56,31,57],[26,58,31,59],[26,60,31,61],[26,62,31,63],[26,64,31,65],[26,66,31,66],[79,43,80,43],[79,44,80,45],[29,13,31,13],[29,15,31,15],[32,58,37,59],[32,24,37,28],[32,29,34,30],[32,41,37,45],[32,46,37,47],[32,50,37,51],[32,52,37,53],[35,29,37,30],[32,48,37,49],[29,29,31,30],[28,31,29,32],[28,33,29,33],[28,34,29,35],[28,41,29,42],[28,43,29,43],[30,33,31,33],[30,43,31,43],[30,44,31,45],[32,31,33,35],[32,36,33,40],[36,36,37,37],[36,38,37,38],[29,12,31,12],[29,14,31,14],[29,19,31,19],[29,20,31,20],[35,18,35,20],[81,39,82,40],[81,41,82,42],[81,43,82,43],[53,9,53,10],[53,16,53,17],[53,18,53,20],[53,21,53,22],[53,33,54,33],[53,34,54,48],[57,24,58,26],[57,27,58,32],[61,25,62,27],[61,28,62,40],[61,41,62,44],[63,25,64,27],[63,28,64,40],[63,41,64,44],[71,41,76,45],[29,21,31,21],[41,29,42,29],[47,24,48,58],[41,35,42,35],[49,24,50,58],[77,56,82,57],[71,56,76,57],[29,0,31,0],[29,1,31,1],[29,2,31,2],[29,3,31,3],[29,7,31,7],[29,8,31,8],[35,21,35,22],[41,32,42,32],[36,9,36,10],[36,16,36,17],[35,4,35,5],[35,6,35,8],[35,9,35,10],[35,16,35,17],[36,18,36,20],[36,21,36,22],[37,4,37,5],[29,9,31,9],[37,6,37,8],[37,9,37,10],[37,16,37,17],[37,18,37,20],[37,21,37,22],[36,4,36,5],[36,6,36,8],[71,58,76,59],[59,25,60,27],[59,28,60,40],[38,4,38,5],[38,6,38,8],[38,9,38,10],[38,16,38,17],[38,18,38,20],[38,21,38,22],[59,41,60,44],[47,9,49,9],[71,24,76,27],[71,28,76,30],[71,31,76,35],[71,36,76,40],[53,4,53,5],[53,6,53,8],[47,0,49,0],[47,1,49,1],[47,2,49,2],[47,3,49,3],[47,7,49,7],[47,8,49,8],[47,21,49,21],[47,12,49,12],[47,13,49,13],[47,14,49,14],[47,15,49,15],[47,19,49,19],[47,20,49,20],[56,4,56,5],[56,6,56,8],[56,9,56,10],[56,16,56,17],[56,18,56,20],[56,21,56,22],[5,27,5,32],[53,24,54,26],[53,27,54,32],[39,24,40,57],[41,24,42,25],[41,26,42,26],[54,4,54,5],[54,6,54,8],[54,9,54,10],[54,16,54,17],[54,18,54,20],[54,21,54,22],[55,4,55,5],[55,6,55,8],[55,9,55,10],[55,16,55,17],[55,18,55,20],[55,21,55,22],[77,24,82,28],[77,29,79,30],[77,31,82,35],[77,46,82,47],[77,48,82,49],[77,58,82,59],[77,60,82,61],[77,62,82,63],[83,58,88,59],[80,29,82,30],[83,24,88,28],[83,29,85,30],[83,36,88,40],[83,31,84,35],[83,41,84,45],[87,34,88,35],[81,36,82,37],[81,38,82,38],[83,62,88,63],[86,29,88,30],[81,44,82,45],[79,38,80,38],[79,39,80,40],[79,41,80,42],[89,24,94,28],[89,29,91,30],[89,41,94,45],[89,46,94,47],[89,62,94,63],[92,29,94,30],[83,48,88,49],[96,24,97,57],[98,24,99,25],[98,26,99,26],[98,29,99,29],[98,32,99,32],[83,60,88,61],[83,50,88,51],[83,52,88,53],[83,54,88,55],[83,56,88,57],[89,60,94,61],[89,50,94,51],[89,52,94,53],[89,54,94,55],[89,56,94,57],[89,48,94,49],[89,31,90,35]]}
[{"$f":"抽選会資料!B1","v":"OFA 第 53 回大分県U-12サッカー大会　兼　KYFA 九州U-12サッカー大会大分県大会"},null,null,null,null,null,null,null,null,"１次リーグ結果　報告用紙",null,null,{"$f":"抽選会資料!B1","v":"OFA 第 53 回大分県U-12サッカー大会　兼　KYFA 九州U-12サッカー大会大分県大会"},null,null,null,null,null,null,null,null,"１次リーグ結果　報告用紙",null,null,{"$f":"$A$1","v":"OFA 第 53 回大分県U-12サッカー大会　兼　KYFA 九州U-12サッカー大会大分県大会"},null,null,null,null,null,null,null,null,null,null,null,null,null,null,null,null,null,null,null,null,null,null,null,null,null,null,null,null,null,null,null,null,null,null,null,{"$f":"$J$1","v":"１次リーグ結果　報告用紙"}]
["＜時間割＞　①10:00～　②11:00～　③12:00～　④13:00～　⑤14:00～　⑥15:00～",null,null,null,null,null,null,null,null,null,null,null,"＜時間割＞　①10:00～　②11:00～　③12:00～　④13:00～　⑤14:00～　⑥15:00～",null,null,null,null,null,null,null,null,null,null,null,"＜時間割＞　①10:00～　②11:00～　③12:00～　④13:00～　⑤14:00～　⑥15:00～"]
[]
["会場",{"$f":"組み合わせ!BF7","v":"別府"},"⇒",{"$f":"VLOOKUP(B4,抽選会資料!$B$52:$F$60,2,FALSE)","v":"実相寺サッカー競技場(人工芝)"},null,null,null,null,null,null,null,null,"会場",{"$f":"組み合わせ!BF7","v":"別府"},"⇒",{"$f":"VLOOKUP(N4,抽選会資料!$B$52:$F$60,2,FALSE)","v":"実相寺サッカー競技場(人工芝)"},null,null,null,null,null,null,null,null,"会場",null,null,{"$f":"$B$4","v":"別府"},null,null,null,null,null,"⇒",{"$f":"$D$4","v":"実相寺サッカー競技場(人工芝)"}]
[]
["パート",{"$f":"VLOOKUP(B4,組み合わせ!$AL$95:$BU$112,13,FALSE)","v":"E"},null,null,null,null,null,null,null,null,null,null,"パート",{"$f":"VLOOKUP(N4,組み合わせ!$AL$95:$BU$112,25,FALSE)","v":"L"},null,null,null,null,null,null,null,null,null,null,"パート",null,null,{"$f":"$B$6","v":"E"}]
[null,{"$f":"CONCATENATE($B$6,1)","v":"E1"},{"$f":"HLOOKUP(B7,組み合わせ!$B$48:$EO$86,2,FALSE)","v":"別府フットボールクラブ．ミネルバＵ－１２"},null,null,null,null,null,null,{"$f":"HLOOKUP(B7,組み合わせ!$B$48:$EO$86,32,FALSE)","v":"別府"},null,null,null,{"$f":"CONCATENATE($N$6,1)","v":"L1"},{"$f":"HLOOKUP(N7,組み合わせ!$B$48:$EO$86,2,FALSE)","v":"スマイス・セレソン"},null,null,null,null,null,null,{"$f":"HLOOKUP(N7,組み合わせ!$B$48:$EO$86,32,FALSE)","v":"別府"},null,null,null,{"$f":"+B7","v":"E1"},null,null,{"$f":"$C$7","v":"別府フットボールクラブ．ミネルバＵ－１２"},null,null,null,null,null,null,null,null,null,null,null,null,{"$f":"$J$7","v":"別府"}]
[null,{"$f":"CONCATENATE($B$6,2)","v":"E2"},{"$f":"HLOOKUP(B8,組み合わせ!$B$48:$EO$86,2,FALSE)","v":"カティオーラフットボールクラブＵ－１２"},null,null,null,null,null,null,{"$f":"HLOOKUP(B8,組み合わせ!$B$48:$EO$86,32,FALSE)","v":"大分"},null,null,null,{"$f":"CONCATENATE($N$6,2)","v":"L2"},{"$f":"HLOOKUP(N8,組み合わせ!$B$48:$EO$86,2,FALSE)","v":"ＫＩＮＧＳ　ＦＯＯＴＢＡＬＬＣＬＵＢ　Ｕ－１２"},null,null,null,null,null,null,{"$f":"HLOOKUP(N8,組み合わせ!$B$48:$EO$86,32,FALSE)","v":"大分"},null,null,null,{"$f":"+B8","v":"E2"},null,null,{"$f":"$C$8","v":"カティオーラフットボールクラブＵ－１２"},null,null,null,null,null,null,null,null,null,null,null,null,{"$f":"$J$8","v":"大分"}]
[null,{"$f":"CONCATENATE($B$6,3)","v":"E3"},{"$f":"HLOOKUP(B9,組み合わせ!$B$48:$EO$86,2,FALSE)","v":"カティオーラフットボールクラブＵ－１２　松岡"},null,null,null,null,null,null,{"$f":"HLOOKUP(B9,組み合わせ!$B$48:$EO$86,32,FALSE)","v":"大分"},null,null,null,{"$f":"CONCATENATE($N$6,3)","v":"L3"},{"$f":"HLOOKUP(N9,組み合わせ!$B$48:$EO$86,2,FALSE)","v":"西の台ＪＦＣ"},null,null,null,null,null,null,{"$f":"HLOOKUP(N9,組み合わせ!$B$48:$EO$86,32,FALSE)","v":"大分"},null,null,null,{"$f":"+B9","v":"E3"},null,null,{"$f":"$C$9","v":"カティオーラフットボールクラブＵ－１２　松岡"},null,null,null,null,null,null,null,null,null,null,null,null,{"$f":"$J$9","v":"大分"}]
["8：50～ＭＣＭ",null,null,null,null,null,null,null,null,null,null,null,"9：50～ＭＣＭ"]
[]
["①\n10:00～",{"$f":"C7","v":"別府フットボールクラブ．ミネルバＵ－１２"},{"$f":"IF(E12=\"\",\"\",SUM(E12:E13))","v":0},"（",0,"前半",0,"）",{"$f":"IF(G12=\"\",\"\",SUM(G12:G13))","v":1},{"$f":"C8","v":"カティオーラフットボールクラブＵ－１２"},null,null,"②\n11:00～",{"$f":"O7","v":"スマイス・セレソン"},{"$f":"IF(Q12=\"\",\"\",SUM(Q12:Q13))","v":0},"（",0,"前半",1,"）",{"$f":"IF(S12=\"\",\"\",SUM(S12:S13))","v":1},{"$f":"O8","v":"ＫＩＮＧＳ　ＦＯＯＴＢＡＬＬＣＬＵＢ　Ｕ－１２"}]
[null,null,null,null,0,"後半",1,null,null,null,null,null,null,null,null,null,0,"後半",0]
[null,null,null,null,null,"PK",null,null,null,null,null,null,null,null,null,null,null,"PK"]
["MC","伊東　雅弘",null,null,null,null,"所属協会",null,null,"別府市サッカー協会",null,null,"MC","河野　勝",null,null,null,null,"所属協会",null,null,"別府市サッカー協会",null,null,{"$f":"$Y$6","v":"パート"},null,null,null,{"$f":"$AB$6","v":"E"},null,null,{"$f":"$Y$21","v":"別府フットボールクラブ．ミネルバＵ－１２"},null,null,null,null,{"$f":"$Y$27","v":"カティオーラフットボールクラブＵ－１２"},null,null,null,null,{"$f":"$Y$33","v":"カティオーラフットボールクラブＵ－１２　松岡"},null,null,null,null,"勝",null,"PK\n勝",null,"PK\n負",null,"負",null,"得点",null,"失点",null,"勝点",null,"勝点\n順位",null,"得失\n点差",null,"得失\n順位",null,"総\n順位"]
["WelfareOfficer","甲斐　直樹",null,null,null,null,"所属協会",null,null,"別府市サッカー協会",null,null,"WelfareOfficer","長田　敏明",null,null,null,null,"所属協会",null,null,"別府市サッカー協会"]
["記録","横尾　茂",null,null,null,null,"所属協会",null,null,"別府市サッカー協会",null,null,"記録","香川　豊",null,null,null,null,"所属協会",null,null,"別府市サッカー協会"]
["R:",{"$f":"IF(ISERROR(VLOOKUP(G18,審判員!$A:$C,2,FALSE))=TRUE,\"\",VLOOKUP(G18,審判員!$A:$C,2,FALSE))","v":"後藤　樹明"},{"$f":"IF(ISERROR(VLOOKUP(G18,審判員!$A:$C,3,FALSE))=TRUE,\"\",VLOOKUP(G18,審判員!$A:$C,3,FALSE))","v":2},"級","資格番号",null,"R001265376",null,null,"本部",null,null,"R:",{"$f":"IF(ISERROR(VLOOKUP(S18,審判員!$A:$C,2,FALSE))=TRUE,\"\",VLOOKUP(S18,審判員!$A:$C,2,FALSE))","v":"三ヶ尻　和也"},{"$f":"IF(ISERROR(VLOOKUP(S18,審判員!$A:$C,3,FALSE))=TRUE,\"\",VLOOKUP(S18,審判員!$A:$C,3,FALSE))","v":2},"級","資格番号",null,"R003422498",null,null,"本部"]
["AR1:",{"$f":"IF(ISERROR(VLOOKUP(G19,審判員!$A:$C,2,FALSE))=TRUE,\"\",VLOOKUP(G19,審判員!$A:$C,2,FALSE))","v":"柳元　哲哉"},{"$f":"IF(ISERROR(VLOOKUP(G19,審判員!$A:$C,3,FALSE))=TRUE,\"\",VLOOKUP(G19,審判員!$A:$C,3,FALSE))","v":3},"級","資格番号",null,"R009197594",null,null,{"$f":"N12","v":"スマイス・セレソン"},null,null,"AR1:",{"$f":"IF(ISERROR(VLOOKUP(S19,審判員!$A:$C,2,FALSE))=TRUE,\"\",VLOOKUP(S19,審判員!$A:$C,2,FALSE))","v":"安倍　達也"},{"$f":"IF(ISERROR(VLOOKUP(S19,審判員!$A:$C,3,FALSE))=TRUE,\"\",VLOOKUP(S19,審判員!$A:$C,3,FALSE))","v":3},"級","資格番号",null,"R007959103",null,null,{"$f":"B12","v":"別府フットボールクラブ．ミネルバＵ－１２"}]
["AR2:",{"$f":"IF(ISERROR(VLOOKUP(G20,審判員!$A:$C,2,FALSE))=TRUE,\"\",VLOOKUP(G20,審判員!$A:$C,2,FALSE))","v":"平川　伸吾"},{"$f":"IF(ISERROR(VLOOKUP(G20,審判員!$A:$C,3,FALSE))=TRUE,\"\",VLOOKUP(G20,審判員!$A:$C,3,FALSE))","v":3},"級","資格番号",null,"R003972513",null,null,{"$f":"V12","v":"ＫＩＮＧＳ　ＦＯＯＴＢＡＬＬＣＬＵＢ　Ｕ－１２"},null,null,"AR2:",{"$f":"IF(ISERROR(VLOOKUP(S20,審判員!$A:$C,2,FALSE))=TRUE,\"\",VLOOKUP(S20,審判員!$A:$C,2,FALSE))","v":"藤本　勝爾"},{"$f":"IF(ISERROR(VLOOKUP(S20,審判員!$A:$C,3,FALSE))=TRUE,\"\",VLOOKUP(S20,審判員!$A:$C,3,FALSE))","v":3},"級","資格番号",null,"R008798217",null,null,{"$f":"J12","v":"カティオーラフットボールクラブＵ－１２"}]
["4th:",{"$f":"IF(ISERROR(VLOOKUP(G21,審判員!$A:$C,2,FALSE))=TRUE,\"\",VLOOKUP(G21,審判員!$A:$C,2,FALSE))","v":"伊藤　宏充"},{"$f":"IF(ISERROR(VLOOKUP(G21,審判員!$A:$C,3,FALSE))=TRUE,\"\",VLOOKUP(G21,審判員!$A:$C,3,FALSE))","v":3},"級","資格番号",null,"R002531522",null,null,"本部",null,null,"4th:",{"$f":"IF(ISERROR(VLOOKUP(S21,審判員!$A:$C,2,FALSE))=TRUE,\"\",VLOOKUP(S21,審判員!$A:$C,2,FALSE))","v":"伊藤　宏充"},{"$f":"IF(ISERROR(VLOOKUP(S21,審判員!$A:$C,3,FALSE))=TRUE,\"\",VLOOKUP(S21,審判員!$A:$C,3,FALSE))","v":3},"級","資格番号",null,"R002531522",null,null,"本部",null,null,{"$f":"$AC$7","v":"別府フットボールクラブ．ミネルバＵ－１２"},null,null,null,null,"星取表",null,null,null,null,null,null,{"$f":"IF(AK25=\"\",\"\",IF(AK25>AN25,\"○\",IF(AK25<AN25,\"●\",IF(AK23>AN23,\"△\",IF(AK23<AN23,\"▲\")))))","v":"●"},null,null,null,null,{"$f":"IF(AP25=\"\",\"\",IF(AP25>AS25,\"○\",IF(AP25<AS25,\"●\",IF(AP23>AS23,\"△\",IF(AP23<AS23,\"▲\")))))","v":""},null,null,null,null,{"$f":"COUNTIF($AF$21:$AT$22,\"○\")","v":0},null,{"$f":"COUNTIF($AF$21:$AT$22,\"△\")","v":0},null,{"$f":"COUNTIF($AF$21:$AT$22,\"▲\")","v":0},null,{"$f":"COUNTIF($AF$21:$AT$22,\"●\")","v":1},null,{"$f":"SUM($AK$25,$AP$25)","v":0},null,{"$f":"SUM($AN$25,$AS$25)","v":1},null,{"$f":"($AU$21*3)+($AW$21*2)+($AY$21*1)","v":0},null,{"$f":"RANK($BG$21,$BG$21:$BH$38)","v":2},null,{"$f":"$BC$21-$BE$21","v":-1},null,{"$f":"RANK($BK$21,$BK$21:$BL$38)","v":2}]
["警告/退場","氏名","背番号","分","内容",null,"内容","分","背番号","氏名","警告/退場",null,"警告/退場","氏名","背番号","分","内容",null,"内容","分","背番号","氏名","警告/退場"]
[null,{"$f":"IF(ISERROR(VLOOKUP(CONCATENATE($B$12,\"_\",C23),選手名簿!$A:$E,5,FALSE))=TRUE,\"\",VLOOKUP(CONCATENATE($B$12,\"_\",C23),選手名簿!$A:$E,5,FALSE))","v":""},null,null,null,null,null,null,null,{"$f":"IF(ISERROR(VLOOKUP(CONCATENATE($J$12,\"_\",I23),選手名簿!$A:$E,5,FALSE))=TRUE,\"\",VLOOKUP(CONCATENATE($J$12,\"_\",I23),選手名簿!$A:$E,5,FALSE))","v":""},null,null,null,{"$f":"IF(ISERROR(VLOOKUP(CONCATENATE($N$12,\"_\",O23),選手名簿!$A:$E,5,FALSE))=TRUE,\"\",VLOOKUP(CONCATENATE($N$12,\"_\",O23),選手名簿!$A:$E,5,FALSE))","v":""},null,null,null,null,null,null,null,{"$f":"IF(ISERROR(VLOOKUP(CONCATENATE($V$12,\"_\",U23),選手名簿!$A:$E,5,FALSE))=TRUE,\"\",VLOOKUP(CONCATENATE($V$12,\"_\",U23),選手名簿!$A:$E,5,FALSE))","v":""},null,null,null,null,null,null,null,null,null,null,null,null,null,null,{"$f":"IF($E$14=\"\",\"\",$E$14)","v":""},null,"―",{"$f":"IF($G$14=\"\",\"\",$G$14)","v":""},null,{"$f":"IF($G$50=\"\",\"\",$G$50)","v":""},null,"―",{"$f":"IF($E$50=\"\",\"\",$E$50)","v":""}]
[null,{"$f":"IF(ISERROR(VLOOKUP(CONCATENATE($B$12,\"_\",C24),選手名簿!$A:$E,5,FALSE))=TRUE,\"\",VLOOKUP(CONCATENATE($B$12,\"_\",C24),選手名簿!$A:$E,5,FALSE))","v":""},null,null,null,null,null,null,null,{"$f":"IF(ISERROR(VLOOKUP(CONCATENATE($J$12,\"_\",I24),選手名簿!$A:$E,5,FALSE))=TRUE,\"\",VLOOKUP(CONCATENATE($J$12,\"_\",I24),選手名簿!$A:$E,5,FALSE))","v":""},null,null,null,{"$f":"IF(ISERROR(VLOOKUP(CONCATENATE($N$12,\"_\",O24),選手名簿!$A:$E,5,FALSE))=TRUE,\"\",VLOOKUP(CONCATENATE($N$12,\"_\",O24),選手名簿!$A:$E,5,FALSE))","v":""},null,null,null,null,null,null,null,{"$f":"IF(ISERROR(VLOOKUP(CONCATENATE($V$12,\"_\",U24),選手名簿!$A:$E,5,FALSE))=TRUE,\"\",VLOOKUP(CONCATENATE($V$12,\"_\",U24),選手名簿!$A:$E,5,FALSE))","v":""},null,null,null,null,null,null,null,"得失点"]
[null,{"$f":"IF(ISERROR(VLOOKUP(CONCATENATE($B$12,\"_\",C25),選手名簿!$A:$E,5,FALSE))=TRUE,\"\",VLOOKUP(CONCATENATE($B$12,\"_\",C25),選手名簿!$A:$E,5,FALSE))","v":""},null,null,null,null,null,null,null,{"$f":"IF(ISERROR(VLOOKUP(CONCATENATE($J$12,\"_\",I25),選手名簿!$A:$E,5,FALSE))=TRUE,\"\",VLOOKUP(CONCATENATE($J$12,\"_\",I25),選手名簿!$A:$E,5,FALSE))","v":""},null,null,null,{"$f":"IF(ISERROR(VLOOKUP(CONCATENATE($N$12,\"_\",O25),選手名簿!$A:$E,5,FALSE))=TRUE,\"\",VLOOKUP(CONCATENATE($N$12,\"_\",O25),選手名簿!$A:$E,5,FALSE))","v":""},null,null,null,null,null,null,null,{"$f":"IF(ISERROR(VLOOKUP(CONCATENATE($V$12,\"_\",U25),選手名簿!$A:$E,5,FALSE))=TRUE,\"\",VLOOKUP(CONCATENATE($V$12,\"_\",U25),選手名簿!$A:$E,5,FALSE))","v":""},null,null,null,null,null,null,null,null,null,null,null,null,null,null,{"$f":"$C$12","v":0},null,"―",{"$f":"$I$12","v":1},null,{"$f":"$I$48","v":""},null,"―",{"$f":"$C$48","v":""}]
[null,{"$f":"IF(ISERROR(VLOOKUP(CONCATENATE($B$12,\"_\",C26),選手名簿!$A:$E,5,FALSE))=TRUE,\"\",VLOOKUP(CONCATENATE($B$12,\"_\",C26),選手名簿!$A:$E,5,FALSE))","v":""},null,null,null,null,null,null,null,{"$f":"IF(ISERROR(VLOOKUP(CONCATENATE($J$12,\"_\",I26),選手名簿!$A:$E,5,FALSE))=TRUE,\"\",VLOOKUP(CONCATENATE($J$12,\"_\",I26),選手名簿!$A:$E,5,FALSE))","v":""},null,null,null,{"$f":"IF(ISERROR(VLOOKUP(CONCATENATE($N$12,\"_\",O26),選手名簿!$A:$E,5,FALSE))=TRUE,\"\",VLOOKUP(CONCATENATE($N$12,\"_\",O26),選手名簿!$A:$E,5,FALSE))","v":""},null,null,null,null,null,null,null,{"$f":"IF(ISERROR(VLOOKUP(CONCATENATE($V$12,\"_\",U26),選手名簿!$A:$E,5,FALSE))=TRUE,\"\",VLOOKUP(CONCATENATE($V$12,\"_\",U26),選手名簿!$A:$E,5,FALSE))","v":""}]
[null,{"$f":"IF(ISERROR(VLOOKUP(CONCATENATE($B$12,\"_\",C27),選手名簿!$A:$E,5,FALSE))=TRUE,\"\",VLOOKUP(CONCATENATE($B$12,\"_\",C27),選手名簿!$A:$E,5,FALSE))","v":""},null,null,null,null,null,null,null,{"$f":"IF(ISERROR(VLOOKUP(CONCATENATE($J$12,\"_\",I27),選手名簿!$A:$E,5,FALSE))=TRUE,\"\",VLOOKUP(CONCATENATE($J$12,\"_\",I27),選手名簿!$A:$E,5,FALSE))","v":""},null,null,null,{"$f":"IF(ISERROR(VLOOKUP(CONCATENATE($N$12,\"_\",O27),選手名簿!$A:$E,5,FALSE))=TRUE,\"\",VLOOKUP(CONCATENATE($N$12,\"_\",O27),選手名簿!$A:$E,5,FALSE))","v":""},null,null,null,null,null,null,null,{"$f":"IF(ISERROR(VLOOKUP(CONCATENATE($V$12,\"_\",U27),選手名簿!$A:$E,5,FALSE))=TRUE,\"\",VLOOKUP(CONCATENATE($V$12,\"_\",U27),選手名簿!$A:$E,5,FALSE))","v":""},null,null,{"$f":"$AC$8","v":"カティオーラフットボールクラブＵ－１２"},null,null,null,null,"星取表",null,{"$f":"IF(AF31=\"\",\"\",IF(AF31>AI31,\"○\",IF(AF31<AI31,\"●\",IF(AF29>AI29,\"△\",IF(AF29<AI29,\"▲\")))))","v":"○"},null,null,null,null,null,null,null,null,null,{"$f":"IF(AP31=\"\",\"\",IF(AP31>AS31,\"○\",IF(AP31<AS31,\"●\",IF(AP29>AS29,\"△\",IF(AP29<AS29,\"▲\")))))","v":"○"},null,null,null,null,{"$f":"COUNTIF($AF$27:$AT$28,\"○\")","v":2},null,{"$f":"COUNTIF($AF$27:$AT$28,\"△\")","v":0},null,{"$f":"COUNTIF($AF$27:$AT$28,\"▲\")","v":0},null,{"$f":"COUNTIF($AF$27:$AT$28,\"●\")","v":0},null,{"$f":"SUM($AF$31,$AP$31)","v":7},null,{"$f":"SUM($AI$31,$AS$31)","v":1},null,{"$f":"($AU$27*3)+($AW$27*2)+($AY$27*1)","v":6},null,{"$f":"RANK($BG$27,$BG$21:$BH$38)","v":1},null,{"$f":"$BC$27-$BE$27","v":6},null,{"$f":"RANK($BK$27,$BK$21:$BL$38)","v":1}]
[]
[null,null,null,null,null,null,null,null,null,null,null,null,null,null,null,null,null,null,null,null,null,null,null,null,null,null,null,null,null,null,null,{"$f":"AN23","v":""},null,"―",{"$f":"AK23","v":""},null,null,null,null,null,null,{"$f":"IF($E$32=\"\",\"\",$E$32)","v":""},null,"―",{"$f":"IF($G$32=\"\",\"\",$G$32)","v":""}]
["③\n12:00～",{"$f":"C8","v":"カティオーラフットボールクラブＵ－１２"},{"$f":"IF(E30=\"\",\"\",SUM(E30:E31))","v":6},"（",3,"前半",0,"）",{"$f":"IF(G30=\"\",\"\",SUM(G30:G31))","v":1},{"$f":"C9","v":"カティオーラフットボールクラブＵ－１２　松岡"},null,null,"④\n13:00～",{"$f":"O8","v":"ＫＩＮＧＳ　ＦＯＯＴＢＡＬＬＣＬＵＢ　Ｕ－１２"},{"$f":"IF(Q30=\"\",\"\",SUM(Q30:Q31))","v":1},"（",0,"前半",1,"）",{"$f":"IF(S30=\"\",\"\",SUM(S30:S31))","v":1},{"$f":"O9","v":"西の台ＪＦＣ"},null,null,null,null,null,null,null,"得失点"]
[null,null,null,null,3,"後半",1,null,null,null,null,null,null,null,null,null,1,"後半",0,null,null,null,null,null,null,null,null,null,null,null,null,{"$f":"AN25","v":1},null,"―",{"$f":"AK25","v":0},null,null,null,null,null,null,{"$f":"$C$30","v":6},null,"―",{"$f":"$I$30","v":1}]
[null,null,null,null,null,"PK",null,null,null,null,null,null,null,null,null,null,null,"PK"]
["MC","伊東　雅弘",null,null,null,null,"所属協会",null,null,"別府市サッカー協会",null,null,"MC","河野　勝",null,null,null,null,"所属協会",null,null,"別府市サッカー協会",null,null,{"$f":"$AC$9","v":"カティオーラフットボールクラブＵ－１２　松岡"},null,null,null,null,"星取表",null,{"$f":"IF(AF37=\"\",\"\",IF(AF37>AI37,\"○\",IF(AF37<AI37,\"●\",IF(AF35>AI35,\"△\",IF(AF35<AI35,\"▲\")))))","v":""},null,null,null,null,{"$f":"IF(AK37=\"\",\"\",IF(AK37>AN37,\"○\",IF(AK37<AN37,\"●\",IF(AK35>AN35,\"△\",IF(AK35<AN35,\"▲\")))))","v":"●"},null,null,null,null,null,null,null,null,null,{"$f":"COUNTIF($AF$33:$AT$34,\"○\")","v":0},null,{"$f":"COUNTIF($AF$33:$AT$34,\"△\")","v":0},null,{"$f":"COUNTIF($AF$33:$AT$34,\"▲\")","v":0},null,{"$f":"COUNTIF($AF$33:$AT$34,\"●\")","v":1},null,{"$f":"SUM($AF$37,$AK$37)","v":1},null,{"$f":"SUM($AI$37,$AN$37)","v":6},null,{"$f":"($AU$33*3)+($AW$33*2)+($AY$33*1)","v":0},null,{"$f":"RANK($BG$33,$BG$21:$BH$38)","v":2},null,{"$f":"$BC$33-$BE$33","v":-5},null,{"$f":"RANK($BK$33,$BK$21:$BL$38)","v":3}]
["WelfareOfficer","甲斐　直樹",null,null,null,null,"所属協会",null,null,"別府市サッカー協会",null,null,"WelfareOfficer","長田　敏明",null,null,null,null,"所属協会",null,null,"別府市サッカー協会"]
["記録","横尾　茂",null,null,null,null,"所属協会",null,null,"別府市サッカー協会",null,null,"記録","香川　豊",null,null,null,null,"所属協会",null,null,"別府市サッカー協会",null,null,null,null,null,null,null,null,null,{"$f":"AS23","v":""},null,"―",{"$f":"AP23","v":""},null,{"$f":"AS29","v":""},null,"―",{"$f":"AP29","v":""}]
["R:",{"$f":"IF(ISERROR(VLOOKUP(G36,審判員!$A:$C,2,FALSE))=TRUE,\"\",VLOOKUP(G36,審判員!$A:$C,2,FALSE))","v":"後藤　樹明"},{"$f":"IF(ISERROR(VLOOKUP(G36,審判員!$A:$C,3,FALSE))=TRUE,\"\",VLOOKUP(G36,審判員!$A:$C,3,FALSE))","v":2},"級","資格番号",null,"R001265376",null,null,"本部",null,null,"R:",{"$f":"IF(ISERROR(VLOOKUP(S36,審判員!$A:$C,2,FALSE))=TRUE,\"\",VLOOKUP(S36,審判員!$A:$C,2,FALSE))","v":"三ヶ尻　和也"},{"$f":"IF(ISERROR(VLOOKUP(S36,審判員!$A:$C,3,FALSE))=TRUE,\"\",VLOOKUP(S36,審判員!$A:$C,3,FALSE))","v":2},"級","資格番号",null,"R003422498",null,null,"本部",null,null,null,null,null,null,null,"得失点"]
["AR1:",{"$f":"IF(ISERROR(VLOOKUP(G37,審判員!$A:$C,2,FALSE))=TRUE,\"\",VLOOKUP(G37,審判員!$A:$C,2,FALSE))","v":"平川　伸吾"},{"$f":"IF(ISERROR(VLOOKUP(G37,審判員!$A:$C,3,FALSE))=TRUE,\"\",VLOOKUP(G37,審判員!$A:$C,3,FALSE))","v":3},"級","資格番号",null,"R003972513",null,null,{"$f":"N30","v":"ＫＩＮＧＳ　ＦＯＯＴＢＡＬＬＣＬＵＢ　Ｕ－１２"},null,null,"AR1:",{"$f":"IF(ISERROR(VLOOKUP(S37,審判員!$A:$C,2,FALSE))=TRUE,\"\",VLOOKUP(S37,審判員!$A:$C,2,FALSE))","v":"藤本　勝爾"},{"$f":"IF(ISERROR(VLOOKUP(S37,審判員!$A:$C,3,FALSE))=TRUE,\"\",VLOOKUP(S37,審判員!$A:$C,3,FALSE))","v":3},"級","資格番号",null,"R008798217",null,null,{"$f":"B30","v":"カティオーラフットボールクラブＵ－１２"},null,null,null,null,null,null,null,null,null,{"$f":"AS25","v":""},null,"―",{"$f":"AP25","v":""},null,{"$f":"AS31","v":1},null,"―",{"$f":"AP31","v":6}]
["AR2:",{"$f":"IF(ISERROR(VLOOKUP(G38,審判員!$A:$C,2,FALSE))=TRUE,\"\",VLOOKUP(G38,審判員!$A:$C,2,FALSE))","v":"佐藤　秀昭"},{"$f":"IF(ISERROR(VLOOKUP(G38,審判員!$A:$C,3,FALSE))=TRUE,\"\",VLOOKUP(G38,審判員!$A:$C,3,FALSE))","v":3},"級","資格番号",null,"R010281827",null,null,{"$f":"V30","v":"西の台ＪＦＣ"},null,null,"AR2:",{"$f":"IF(ISERROR(VLOOKUP(S38,審判員!$A:$C,2,FALSE))=TRUE,\"\",VLOOKUP(S38,審判員!$A:$C,2,FALSE))","v":"古瀬　大騎"},{"$f":"IF(ISERROR(VLOOKUP(S38,審判員!$A:$C,3,FALSE))=TRUE,\"\",VLOOKUP(S38,審判員!$A:$C,3,FALSE))","v":3},"級","資格番号",null,"R010538323",null,null,{"$f":"J30","v":"カティオーラフットボールクラブＵ－１２　松岡"}]
["4th:",{"$f":"IF(ISERROR(VLOOKUP(G39,審判員!$A:$C,2,FALSE))=TRUE,\"\",VLOOKUP(G39,審判員!$A:$C,2,FALSE))","v":"柳元　哲哉"},{"$f":"IF(ISERROR(VLOOKUP(G39,審判員!$A:$C,3,FALSE))=TRUE,\"\",VLOOKUP(G39,審判員!$A:$C,3,FALSE))","v":3},"級","資格番号",null,"R009197594",null,null,"本部",null,null,"4th:",{"$f":"IF(ISERROR(VLOOKUP(S39,審判員!$A:$C,2,FALSE))=TRUE,\"\",VLOOKUP(S39,審判員!$A:$C,2,FALSE))","v":"柳元　哲哉"},{"$f":"IF(ISERROR(VLOOKUP(S39,審判員!$A:$C,3,FALSE))=TRUE,\"\",VLOOKUP(S39,審判員!$A:$C,3,FALSE))","v":3},"級","資格番号",null,"R009197594",null,null,"本部"]
["警告/退場","氏名","背番号","分","内容",null,"内容","分","背番号","氏名","警告/退場",null,"警告/退場","氏名","背番号","分","内容",null,"内容","分","背番号","氏名","警告/退場",null,"Ⅰ勝点（勝３点　ＰＫ勝２点　ＰＫ負１点　負０点）　Ⅱ当該チームの戦績　Ⅲ得失点差　Ⅳ多得点　Ⅴ抽選の順で順位を決定する。"]
[null,{"$f":"IF(ISERROR(VLOOKUP(CONCATENATE($B$30,\"_\",C41),選手名簿!$A:$E,5,FALSE))=TRUE,\"\",VLOOKUP(CONCATENATE($B$30,\"_\",C41),選手名簿!$A:$E,5,FALSE))","v":""},null,null,null,null,null,null,null,{"$f":"IF(ISERROR(VLOOKUP(CONCATENATE($J$30,\"_\",I41),選手名簿!$A:$E,5,FALSE))=TRUE,\"\",VLOOKUP(CONCATENATE($J$30,\"_\",I41),選手名簿!$A:$E,5,FALSE))","v":""},null,null,null,{"$f":"IF(ISERROR(VLOOKUP(CONCATENATE($N$30,\"_\",O41),選手名簿!$A:$E,5,FALSE))=TRUE,\"\",VLOOKUP(CONCATENATE($N$30,\"_\",O41),選手名簿!$A:$E,5,FALSE))","v":""},null,null,null,null,null,null,null,{"$f":"IF(ISERROR(VLOOKUP(CONCATENATE($V$30,\"_\",U41),選手名簿!$A:$E,5,FALSE))=TRUE,\"\",VLOOKUP(CONCATENATE($V$30,\"_\",U41),選手名簿!$A:$E,5,FALSE))","v":""}]
[null,{"$f":"IF(ISERROR(VLOOKUP(CONCATENATE($B$30,\"_\",C42),選手名簿!$A:$E,5,FALSE))=TRUE,\"\",VLOOKUP(CONCATENATE($B$30,\"_\",C42),選手名簿!$A:$E,5,FALSE))","v":""},null,null,null,null,null,null,null,{"$f":"IF(ISERROR(VLOOKUP(CONCATENATE($J$30,\"_\",I42),選手名簿!$A:$E,5,FALSE))=TRUE,\"\",VLOOKUP(CONCATENATE($J$30,\"_\",I42),選手名簿!$A:$E,5,FALSE))","v":""},null,null,null,{"$f":"IF(ISERROR(VLOOKUP(CONCATENATE($N$30,\"_\",O42),選手名簿!$A:$E,5,FALSE))=TRUE,\"\",VLOOKUP(CONCATENATE($N$30,\"_\",O42),選手名簿!$A:$E,5,FALSE))","v":""},null,null,null,null,null,null,null,{"$f":"IF(ISERROR(VLOOKUP(CONCATENATE($V$30,\"_\",U42),選手名簿!$A:$E,5,FALSE))=TRUE,\"\",VLOOKUP(CONCATENATE($V$30,\"_\",U42),選手名簿!$A:$E,5,FALSE))","v":""},null,null,"勝点表",null,"勝","○",null,"PK\n勝","△",null,"PK\n負","▲",null,"負","●"]
[null,{"$f":"IF(ISERROR(VLOOKUP(CONCATENATE($B$30,\"_\",C43),選手名簿!$A:$E,5,FALSE))=TRUE,\"\",VLOOKUP(CONCATENATE($B$30,\"_\",C43),選手名簿!$A:$E,5,FALSE))","v":""},null,null,null,null,null,null,null,{"$f":"IF(ISERROR(VLOOKUP(CONCATENATE($J$30,\"_\",I43),選手名簿!$A:$E,5,FALSE))=TRUE,\"\",VLOOKUP(CONCATENATE($J$30,\"_\",I43),選手名簿!$A:$E,5,FALSE))","v":""},null,null,null,{"$f":"IF(ISERROR(VLOOKUP(CONCATENATE($N$30,\"_\",O43),選手名簿!$A:$E,5,FALSE))=TRUE,\"\",VLOOKUP(CONCATENATE($N$30,\"_\",O43),選手名簿!$A:$E,5,FALSE))","v":""},null,null,null,null,null,null,null,{"$f":"IF(ISERROR(VLOOKUP(CONCATENATE($V$30,\"_\",U43),選手名簿!$A:$E,5,FALSE))=TRUE,\"\",VLOOKUP(CONCATENATE($V$30,\"_\",U43),選手名簿!$A:$E,5,FALSE))","v":""},null,null,null,null,null,3,null,null,2,null,null,1,null,null,0]
[null,{"$f":"IF(ISERROR(VLOOKUP(CONCATENATE($B$30,\"_\",C44),選手名簿!$A:$E,5,FALSE))=TRUE,\"\",VLOOKUP(CONCATENATE($B$30,\"_\",C44),選手名簿!$A:$E,5,FALSE))","v":""},null,null,null,null,null,null,null,{"$f":"IF(ISERROR(VLOOKUP(CONCATENATE($J$30,\"_\",I44),選手名簿!$A:$E,5,FALSE))=TRUE,\"\",VLOOKUP(CONCATENATE($J$30,\"_\",I44),選手名簿!$A:$E,5,FALSE))","v":""},null,null,null,{"$f":"IF(ISERROR(VLOOKUP(CONCATENATE($N$30,\"_\",O44),選手名簿!$A:$E,5,FALSE))=TRUE,\"\",VLOOKUP(CONCATENATE($N$30,\"_\",O44),選手名簿!$A:$E,5,FALSE))","v":""},null,null,null,null,null,null,null,{"$f":"IF(ISERROR(VLOOKUP(CONCATENATE($V$30,\"_\",U44),選手名簿!$A:$E,5,FALSE))=TRUE,\"\",VLOOKUP(CONCATENATE($V$30,\"_\",U44),選手名簿!$A:$E,5,FALSE))","v":""}]
[null,{"$f":"IF(ISERROR(VLOOKUP(CONCATENATE($B$30,\"_\",C45),選手名簿!$A:$E,5,FALSE))=TRUE,\"\",VLOOKUP(CONCATENATE($B$30,\"_\",C45),選手名簿!$A:$E,5,FALSE))","v":""},null,null,null,null,null,null,null,{"$f":"IF(ISERROR(VLOOKUP(CONCATENATE($J$30,\"_\",I45),選手名簿!$A:$E,5,FALSE))=TRUE,\"\",VLOOKUP(CONCATENATE($J$30,\"_\",I45),選手名簿!$A:$E,5,FALSE))","v":""},null,null,null,{"$f":"IF(ISERROR(VLOOKUP(CONCATENATE($N$30,\"_\",O45),選手名簿!$A:$E,5,FALSE))=TRUE,\"\",VLOOKUP(CONCATENATE($N$30,\"_\",O45),選手名簿!$A:$E,5,FALSE))","v":""},null,null,null,null,null,null,null,{"$f":"IF(ISERROR(VLOOKUP(CONCATENATE($V$30,\"_\",U45),選手名簿!$A:$E,5,FALSE))=TRUE,\"\",VLOOKUP(CONCATENATE($V$30,\"_\",U45),選手名簿!$A:$E,5,FALSE))","v":""}]
[]
[]
["⑤\n14:00～",{"$f":"C9","v":"カティオーラフットボールクラブＵ－１２　松岡"},{"$f":"IF(E48=\"\",\"\",SUM(E48:E49))","v":""},"（",null,"前半",null,"）",{"$f":"IF(G48=\"\",\"\",SUM(G48:G49))","v":""},{"$f":"C7","v":"別府フットボールクラブ．ミネルバＵ－１２"},null,null,"⑥\n15:00～",{"$f":"O9","v":"西の台ＪＦＣ"},{"$f":"IF(Q48=\"\",\"\",SUM(Q48:Q49))","v":1},"（",0,"前半",2,"）",{"$f":"IF(S48=\"\",\"\",SUM(S48:S49))","v":3},{"$f":"O7","v":"スマイス・セレソン"},null,null,{"$f":"$Y$1","v":"OFA 第 53 回大分県U-12サッカー大会　兼　KYFA 九州U-12サッカー大会大分県大会"},null,null,null,null,null,null,null,null,null,null,null,null,null,null,null,null,null,null,null,null,null,null,null,null,null,null,null,null,null,null,null,null,null,null,null,{"$f":"$BI$1","v":"１次リーグ結果　報告用紙"}]
[null,null,null,null,null,"後半",null,null,null,null,null,null,null,null,null,null,1,"後半",1]
[null,null,null,null,null,"PK",null,null,null,null,null,null,null,null,null,null,null,"PK",null,null,null,null,null,null,"＜時間割＞　①10:00～　②11:00～　③12:00～　④13:00～　⑤14:00～　⑥15:00～"]
["MC",null,null,null,null,null,"所属協会",null,null,null,null,null,"MC","河野　勝",null,null,null,null,"所属協会",null,null,"別府市サッカー協会"]
["WelfareOfficer",null,null,null,null,null,"所属協会",null,null,null,null,null,"WelfareOfficer","長田　敏明",null,null,null,null,"所属協会",null,null,"別府市サッカー協会"]
["記録",null,null,null,null,null,"所属協会",null,null,null,null,null,"記録","香川　豊",null,null,null,null,"所属協会",null,null,"別府市サッカー協会"]
["R:",{"$f":"IF(ISERROR(VLOOKUP(G54,審判員!$A:$C,2,FALSE))=TRUE,\"\",VLOOKUP(G54,審判員!$A:$C,2,FALSE))","v":""},{"$f":"IF(ISERROR(VLOOKUP(G54,審判員!$A:$C,3,FALSE))=TRUE,\"\",VLOOKUP(G54,審判員!$A:$C,3,FALSE))","v":""},"級","資格番号",null,null,null,null,"本部",null,null,"R:",{"$f":"IF(ISERROR(VLOOKUP(S54,審判員!$A:$C,2,FALSE))=TRUE,\"\",VLOOKUP(S54,審判員!$A:$C,2,FALSE))","v":"三ヶ尻　和也"},{"$f":"IF(ISERROR(VLOOKUP(S54,審判員!$A:$C,3,FALSE))=TRUE,\"\",VLOOKUP(S54,審判員!$A:$C,3,FALSE))","v":2},"級","資格番号",null,"R003422498",null,null,"本部",null,null,"会場",null,null,{"$f":"$N$4","v":"別府"},null,null,null,null,null,"⇒",{"$f":"$P$4","v":"実相寺サッカー競技場(人工芝)"}]
["AR1:",{"$f":"IF(ISERROR(VLOOKUP(G55,審判員!$A:$C,2,FALSE))=TRUE,\"\",VLOOKUP(G55,審判員!$A:$C,2,FALSE))","v":""},{"$f":"IF(ISERROR(VLOOKUP(G55,審判員!$A:$C,3,FALSE))=TRUE,\"\",VLOOKUP(G55,審判員!$A:$C,3,FALSE))","v":""},"級","資格番号",null,null,null,null,{"$f":"N48","v":"西の台ＪＦＣ"},null,null,"AR1:",{"$f":"IF(ISERROR(VLOOKUP(S55,審判員!$A:$C,2,FALSE))=TRUE,\"\",VLOOKUP(S55,審判員!$A:$C,2,FALSE))","v":"菊地　玄"},{"$f":"IF(ISERROR(VLOOKUP(S55,審判員!$A:$C,3,FALSE))=TRUE,\"\",VLOOKUP(S55,審判員!$A:$C,3,FALSE))","v":3},"級","資格番号",null,"R007890271",null,null,{"$f":"B48","v":"カティオーラフットボールクラブＵ－１２　松岡"}]
["AR2:",{"$f":"IF(ISERROR(VLOOKUP(G56,審判員!$A:$C,2,FALSE))=TRUE,\"\",VLOOKUP(G56,審判員!$A:$C,2,FALSE))","v":""},{"$f":"IF(ISERROR(VLOOKUP(G56,審判員!$A:$C,3,FALSE))=TRUE,\"\",VLOOKUP(G56,審判員!$A:$C,3,FALSE))","v":""},"級","資格番号",null,null,null,null,{"$f":"V48","v":"スマイス・セレソン"},null,null,"AR2:",{"$f":"IF(ISERROR(VLOOKUP(S56,審判員!$A:$C,2,FALSE))=TRUE,\"\",VLOOKUP(S56,審判員!$A:$C,2,FALSE))","v":"安倍　達也"},{"$f":"IF(ISERROR(VLOOKUP(S56,審判員!$A:$C,3,FALSE))=TRUE,\"\",VLOOKUP(S56,審判員!$A:$C,3,FALSE))","v":3},"級","資格番号",null,"R007959103",null,null,{"$f":"J48","v":"別府フットボールクラブ．ミネルバＵ－１２"}]
["4th:",{"$f":"IF(ISERROR(VLOOKUP(G57,審判員!$A:$C,2,FALSE))=TRUE,\"\",VLOOKUP(G57,審判員!$A:$C,2,FALSE))","v":""},{"$f":"IF(ISERROR(VLOOKUP(G57,審判員!$A:$C,3,FALSE))=TRUE,\"\",VLOOKUP(G57,審判員!$A:$C,3,FALSE))","v":""},"級","資格番号",null,null,null,null,"本部",null,null,"4th:",{"$f":"IF(ISERROR(VLOOKUP(S57,審判員!$A:$C,2,FALSE))=TRUE,\"\",VLOOKUP(S57,審判員!$A:$C,2,FALSE))","v":"切封　智和"},{"$f":"IF(ISERROR(VLOOKUP(S57,審判員!$A:$C,3,FALSE))=TRUE,\"\",VLOOKUP(S57,審判員!$A:$C,3,FALSE))","v":3},"級","資格番号",null,"R001263068",null,null,"本部"]
["警告/退場","氏名","背番号","分","内容",null,"内容","分","背番号","氏名","警告/退場",null,"警告/退場","氏名","背番号","分","内容",null,"内容","分","背番号","氏名","警告/退場",null,"パート",null,null,{"$f":"$N$6","v":"L"}]
[null,{"$f":"IF(ISERROR(VLOOKUP(CONCATENATE($B$48,\"_\",C59),選手名簿!$A:$E,5,FALSE))=TRUE,\"\",VLOOKUP(CONCATENATE($B$48,\"_\",C59),選手名簿!$A:$E,5,FALSE))","v":""},null,null,null,null,null,null,null,{"$f":"IF(ISERROR(VLOOKUP(CONCATENATE($J$48,\"_\",I59),選手名簿!$A:$E,5,FALSE))=TRUE,\"\",VLOOKUP(CONCATENATE($J$48,\"_\",I59),選手名簿!$A:$E,5,FALSE))","v":""},null,null,null,{"$f":"IF(ISERROR(VLOOKUP(CONCATENATE($N$48,\"_\",O59),選手名簿!$A:$E,5,FALSE))=TRUE,\"\",VLOOKUP(CONCATENATE($N$48,\"_\",O59),選手名簿!$A:$E,5,FALSE))","v":""},null,null,null,null,null,null,null,{"$f":"IF(ISERROR(VLOOKUP(CONCATENATE($V$48,\"_\",U59),選手名簿!$A:$E,5,FALSE))=TRUE,\"\",VLOOKUP(CONCATENATE($V$48,\"_\",U59),選手名簿!$A:$E,5,FALSE))","v":""}]
[null,{"$f":"IF(ISERROR(VLOOKUP(CONCATENATE($B$48,\"_\",C60),選手名簿!$A:$E,5,FALSE))=TRUE,\"\",VLOOKUP(CONCATENATE($B$48,\"_\",C60),選手名簿!$A:$E,5,FALSE))","v":""},null,null,null,null,null,null,null,{"$f":"IF(ISERROR(VLOOKUP(CONCATENATE($J$48,\"_\",I60),選手名簿!$A:$E,5,FALSE))=TRUE,\"\",VLOOKUP(CONCATENATE($J$48,\"_\",I60),選手名簿!$A:$E,5,FALSE))","v":""},null,null,null,{"$f":"IF(ISERROR(VLOOKUP(CONCATENATE($N$48,\"_\",O60),選手名簿!$A:$E,5,FALSE))=TRUE,\"\",VLOOKUP(CONCATENATE($N$48,\"_\",O60),選手名簿!$A:$E,5,FALSE))","v":""},null,null,null,null,null,null,null,{"$f":"IF(ISERROR(VLOOKUP(CONCATENATE($V$48,\"_\",U60),選手名簿!$A:$E,5,FALSE))=TRUE,\"\",VLOOKUP(CONCATENATE($V$48,\"_\",U60),選手名簿!$A:$E,5,FALSE))","v":""},null,null,null,{"$f":"$N$7","v":"L1"},null,null,{"$f":"$O$7","v":"スマイス・セレソン"},null,null,null,null,null,null,null,null,null,null,null,null,{"$f":"$V$7","v":"別府"}]
[null,{"$f":"IF(ISERROR(VLOOKUP(CONCATENATE($B$48,\"_\",C61),選手名簿!$A:$E,5,FALSE))=TRUE,\"\",VLOOKUP(CONCATENATE($B$48,\"_\",C61),選手名簿!$A:$E,5,FALSE))","v":""},null,null,null,null,null,null,null,{"$f":"IF(ISERROR(VLOOKUP(CONCATENATE($J$48,\"_\",I61),選手名簿!$A:$E,5,FALSE))=TRUE,\"\",VLOOKUP(CONCATENATE($J$48,\"_\",I61),選手名簿!$A:$E,5,FALSE))","v":""},null,null,null,{"$f":"IF(ISERROR(VLOOKUP(CONCATENATE($N$48,\"_\",O61),選手名簿!$A:$E,5,FALSE))=TRUE,\"\",VLOOKUP(CONCATENATE($N$48,\"_\",O61),選手名簿!$A:$E,5,FALSE))","v":""},null,null,null,null,null,null,null,{"$f":"IF(ISERROR(VLOOKUP(CONCATENATE($V$48,\"_\",U61),選手名簿!$A:$E,5,FALSE))=TRUE,\"\",VLOOKUP(CONCATENATE($V$48,\"_\",U61),選手名簿!$A:$E,5,FALSE))","v":""}]
[null,{"$f":"IF(ISERROR(VLOOKUP(CONCATENATE($B$48,\"_\",C62),選手名簿!$A:$E,5,FALSE))=TRUE,\"\",VLOOKUP(CONCATENATE($B$48,\"_\",C62),選手名簿!$A:$E,5,FALSE))","v":""},null,null,null,null,null,null,null,{"$f":"IF(ISERROR(VLOOKUP(CONCATENATE($J$48,\"_\",I62),選手名簿!$A:$E,5,FALSE))=TRUE,\"\",VLOOKUP(CONCATENATE($J$48,\"_\",I62),選手名簿!$A:$E,5,FALSE))","v":""},null,null,null,{"$f":"IF(ISERROR(VLOOKUP(CONCATENATE($N$48,\"_\",O62),選手名簿!$A:$E,5,FALSE))=TRUE,\"\",VLOOKUP(CONCATENATE($N$48,\"_\",O62),選手名簿!$A:$E,5,FALSE))","v":""},null,null,null,null,null,null,null,{"$f":"IF(ISERROR(VLOOKUP(CONCATENATE($V$48,\"_\",U62),選手名簿!$A:$E,5,FALSE))=TRUE,\"\",VLOOKUP(CONCATENATE($V$48,\"_\",U62),選手名簿!$A:$E,5,FALSE))","v":""},null,null,null,{"$f":"$N$8","v":"L2"},null,null,{"$f":"$O$8","v":"ＫＩＮＧＳ　ＦＯＯＴＢＡＬＬＣＬＵＢ　Ｕ－１２"},null,null,null,null,null,null,null,null,null,null,null,null,{"$f":"$V$8","v":"大分"}]
[null,{"$f":"IF(ISERROR(VLOOKUP(CONCATENATE($B$48,\"_\",C63),選手名簿!$A:$E,5,FALSE))=TRUE,\"\",VLOOKUP(CONCATENATE($B$48,\"_\",C63),選手名簿!$A:$E,5,FALSE))","v":""},null,null,null,null,null,null,null,{"$f":"IF(ISERROR(VLOOKUP(CONCATENATE($J$48,\"_\",I63),選手名簿!$A:$E,5,FALSE))=TRUE,\"\",VLOOKUP(CONCATENATE($J$48,\"_\",I63),選手名簿!$A:$E,5,FALSE))","v":""},null,null,null,{"$f":"IF(ISERROR(VLOOKUP(CONCATENATE($N$48,\"_\",O63),選手名簿!$A:$E,5,FALSE))=TRUE,\"\",VLOOKUP(CONCATENATE($N$48,\"_\",O63),選手名簿!$A:$E,5,FALSE))","v":""},null,null,null,null,null,null,null,{"$f":"IF(ISERROR(VLOOKUP(CONCATENATE($V$48,\"_\",U63),選手名簿!$A:$E,5,FALSE))=TRUE,\"\",VLOOKUP(CONCATENATE($V$48,\"_\",U63),選手名簿!$A:$E,5,FALSE))","v":""}]
[null,null,null,null,null,null,null,null,null,null,null,null,null,null,null,null,null,null,null,null,null,null,null,null,null,{"$f":"$N$9","v":"L3"},null,null,{"$f":"$O$9","v":"西の台ＪＦＣ"},null,null,null,null,null,null,null,null,null,null,null,null,{"$f":"$V$9","v":"大分"}]
[]
[]
[]
[]
[]
[]
[]
[null,null,null,null,null,null,null,null,null,null,null,null,null,null,null,null,null,null,null,null,null,null,null,null,{"$f":"$Y$6","v":"パート"},null,null,null,{"$f":"$AB$58","v":"L"},null,null,{"$f":"$Y$78","v":"スマイス・セレソン"},null,null,null,null,{"$f":"$Y$84","v":"ＫＩＮＧＳ　ＦＯＯＴＢＡＬＬＣＬＵＢ　Ｕ－１２"},null,null,null,null,{"$f":"$Y$90","v":"西の台ＪＦＣ"},null,null,null,null,"勝",null,"PK\n勝",null,"PK\n負",null,"負",null,"得点",null,"失点",null,"勝点",null,"勝点\n順位",null,"得失\n点差",null,"得失\n順位",null,"総\n順位"]
[]
[]
[]
[]
[]
[null,null,null,null,null,null,null,null,null,null,null,null,null,null,null,null,null,null,null,null,null,null,null,null,{"$f":"$AC$60","v":"スマイス・セレソン"},null,null,null,null,"星取表",null,null,null,null,null,null,{"$f":"IF(AK82=\"\",\"\",IF(AK82>AN82,\"○\",IF(AK82<AN82,\"●\",IF(AK80>AN80,\"△\",IF(AK80<AN80,\"▲\")))))","v":"●"},null,null,null,null,{"$f":"IF(AP82=\"\",\"\",IF(AP82>AS82,\"○\",IF(AP82<AS82,\"●\",IF(AP80>AS80,\"△\",IF(AP80<AS80,\"▲\")))))","v":"○"},null,null,null,null,{"$f":"COUNTIF($AF$78:$AT$79,\"○\")","v":1},null,{"$f":"COUNTIF($AF$78:$AT$79,\"△\")","v":0},null,{"$f":"COUNTIF($AF$78:$AT$79,\"▲\")","v":0},null,{"$f":"COUNTIF($AF$78:$AT$79,\"●\")","v":1},null,{"$f":"SUM($AK$82,$AP$82)","v":3},null,{"$f":"SUM($AN$82,$AS$82)","v":2},null,{"$f":"($AU$78*3)+($AW$78*2)+($AY$78*1)","v":3},null,{"$f":"RANK($BG$78,$BG$78:$BH$95)","v":1},null,{"$f":"$BC$78-$BE$78","v":1},null,{"$f":"RANK($BK$78,$BK$78:$BL$95)","v":1}]
[]
[null,null,null,null,null,null,null,null,null,null,null,null,null,null,null,null,null,null,null,null,null,null,null,null,null,null,null,null,null,null,null,null,null,null,null,null,{"$f":"IF($Q$14=\"\",\"\",$Q$14)","v":""},null,"―",{"$f":"IF($S$14=\"\",\"\",$S$14)","v":""},null,{"$f":"IF($S$50=\"\",\"\",$S$50)","v":""},null,"―",{"$f":"IF($Q$50=\"\",\"\",$Q$50)","v":""}]
[null,null,null,null,null,null,null,null,null,null,null,null,null,null,null,null,null,null,null,null,null,null,null,null,null,null,null,null,null,"得失点"]
[null,null,null,null,null,null,null,null,null,null,null,null,null,null,null,null,null,null,null,null,null,null,null,null,null,null,null,null,null,null,null,null,null,null,null,null,{"$f":"$O$12","v":0},null,"―",{"$f":"$U$12","v":1},null,{"$f":"$U$48","v":3},null,"―",{"$f":"$O$48","v":1}]
[]
[null,null,null,null,null,null,null,null,null,null,null,null,null,null,null,null,null,null,null,null,null,null,null,null,{"$f":"$AC$62","v":"ＫＩＮＧＳ　ＦＯＯＴＢＡＬＬＣＬＵＢ　Ｕ－１２"},null,null,null,null,"星取表",null,{"$f":"IF(AF88=\"\",\"\",IF(AF88>AI88,\"○\",IF(AF88<AI88,\"●\",IF(AF86>AI86,\"△\",IF(AF86<AI86,\"▲\")))))","v":"○"},null,null,null,null,null,null,null,null,null,{"$f":"IF(AP88=\"\",\"\",IF(AP88>AS88,\"○\",IF(AP88<AS88,\"●\",IF(AP86>AS86,\"△\",IF(AP86<AS86,\"▲\")))))","v":false},null,null,null,null,{"$f":"COUNTIF($AF$84:$AT$85,\"○\")","v":1},null,{"$f":"COUNTIF($AF$84:$AT$85,\"△\")","v":0},null,{"$f":"COUNTIF($AF$84:$AT$85,\"▲\")","v":0},null,{"$f":"COUNTIF($AF$84:$AT$85,\"●\")","v":0},null,{"$f":"SUM($AF$88,$AP$88)","v":2},null,{"$f":"SUM($AI$88,$AS$88)","v":1},null,{"$f":"($AU$84*3)+($AW$84*2)+($AY$84*1)","v":3},null,{"$f":"RANK($BG$84,$BG$78:$BH$95)","v":1},null,{"$f":"$BC$84-$BE$84","v":1},null,{"$f":"RANK($BK$84,$BK$78:$BL$95)","v":1}]
[]
[null,null,null,null,null,null,null,null,null,null,null,null,null,null,null,null,null,null,null,null,null,null,null,null,null,null,null,null,null,null,null,{"$f":"AN80","v":""},null,"―",{"$f":"AK80","v":""},null,null,null,null,null,null,{"$f":"IF($Q$32=\"\",\"\",$Q$32)","v":""},null,"―",{"$f":"IF($S$32=\"\",\"\",$S$32)","v":""}]
[null,null,null,null,null,null,null,null,null,null,null,null,null,null,null,null,null,null,null,null,null,null,null,null,null,null,null,null,null,"得失点"]
[null,null,null,null,null,null,null,null,null,null,null,null,null,null,null,null,null,null,null,null,null,null,null,null,null,null,null,null,null,null,null,{"$f":"AN82","v":1},null,"―",{"$f":"AK82","v":0},null,null,null,null,null,null,{"$f":"$O$30","v":1},null,"―",{"$f":"$U$30","v":1}]
[]
[null,null,null,null,null,null,null,null,null,null,null,null,null,null,null,null,null,null,null,null,null,null,null,null,{"$f":"$AC$64","v":"西の台ＪＦＣ"},null,null,null,null,"星取表",null,{"$f":"IF(AF94=\"\",\"\",IF(AF94>AI94,\"○\",IF(AF94<AI94,\"●\",IF(AF92>AI92,\"△\",IF(AF92<AI92,\"▲\")))))","v":"●"},null,null,null,null,{"$f":"IF(AK94=\"\",\"\",IF(AK94>AN94,\"○\",IF(AK94<AN94,\"●\",IF(AK92>AN92,\"△\",IF(AK92<AN92,\"▲\")))))","v":false},null,null,null,null,null,null,null,null,null,{"$f":"COUNTIF($AF$90:$AT$91,\"○\")","v":0},null,{"$f":"COUNTIF($AF$90:$AT$91,\"△\")","v":0},null,{"$f":"COUNTIF($AF$90:$AT$91,\"▲\")","v":0},null,{"$f":"COUNTIF($AF$90:$AT$91,\"●\")","v":1},null,{"$f":"SUM($AF$94,$AK$94)","v":2},null,{"$f":"SUM($AI$94,$AN$94)","v":4},null,{"$f":"($AU$90*3)+($AW$90*2)+($AY$90*1)","v":0},null,{"$f":"RANK($BG$90,$BG$78:$BH$95)","v":3},null,{"$f":"$BC$90-$BE$90","v":-2},null,{"$f":"RANK($BK$90,$BK$78:$BL$95)","v":3}]
[]
[null,null,null,null,null,null,null,null,null,null,null,null,null,null,null,null,null,null,null,null,null,null,null,null,null,null,null,null,null,null,null,{"$f":"AS80","v":""},null,"―",{"$f":"AP80","v":""},null,{"$f":"AS86","v":""},null,"―",{"$f":"AP86","v":""}]
[null,null,null,null,null,null,null,null,null,null,null,null,null,null,null,null,null,null,null,null,null,null,null,null,null,null,null,null,null,"得失点"]
[null,null,null,null,null,null,null,null,null,null,null,null,null,null,null,null,null,null,null,null,null,null,null,null,null,null,null,null,null,null,null,{"$f":"AS82","v":1},null,"―",{"$f":"AP82","v":3},null,{"$f":"AS88","v":1},null,"―",{"$f":"AP88","v":1}]
[]
[]
[null,null,null,null,null,null,null,null,null,null,null,null,null,null,null,null,null,null,null,null,null,null,null,null,"Ⅰ勝点（勝３点　ＰＫ勝２点　ＰＫ負１点　負０点）　Ⅱ当該チームの戦績　Ⅲ得失点差　Ⅳ多得点　Ⅴ抽選の順で順位を決定する。"]
[]
[null,null,null,null,null,null,null,null,null,null,null,null,null,null,null,null,null,null,null,null,null,null,null,null,"勝点表",null,"勝","○",null,"PK\n勝","△",null,"PK\n負","▲",null,"負","●"]
[null,null,null,null,null,null,null,null,null,null,null,null,null,null,null,null,null,null,null,null,null,null,null,null,null,null,null,3,null,null,2,null,null,1,null,null,0]

{"sheet":"１次リーグ（豊肥）","index":19,"n_rows":100,"n_cols":67,"rows_kept":100,"cut":false,"hidden":false,"merged":[[16,13,16,17],[16,18,16,20],[16,21,16,22],[32,1,32,5],[32,6,32,8],[32,9,32,10],[33,1,33,5],[33,6,33,8],[33,9,33,10],[17,4,17,5],[17,6,17,8],[17,9,17,10],[17,16,17,17],[17,18,17,20],[17,21,17,22],[20,21,20,22],[19,4,19,5],[19,6,19,8],[19,9,19,10],[19,16,19,17],[19,18,19,20],[19,21,19,22],[20,4,20,5],[20,6,20,8],[34,1,34,5],[34,6,34,8],[34,9,34,10],[32,13,32,17],[32,18,32,20],[32,21,32,22],[33,13,33,17],[33,18,33,20],[33,21,33,22],[34,13,34,17],[34,18,34,20],[34,21,34,22],[50,13,50,17],[50,18,50,20],[50,21,50,22],[51,13,51,17],[51,18,51,20],[51,21,51,22],[52,13,52,17],[52,18,52,20],[52,21,52,22],[50,1,50,5],[50,6,50,8],[50,9,50,10],[51,1,51,5],[51,6,51,8],[51,9,51,10],[52,1,52,5],[52,6,52,8],[52,9,52,10],[89,36,90,40],[89,64,94,65],[93,36,94,37],[93,38,94,38],[93,39,94,40],[83,64,88,65],[89,58,94,59],[89,66,94,66],[91,31,92,32],[91,33,92,33],[91,34,92,35],[91,36,92,37],[91,38,92,38],[91,39,92,40],[93,31,94,32],[93,33,94,33],[93,34,94,35],[83,66,88,66],[85,31,86,32],[85,33,86,33],[85,34,86,35],[85,41,86,42],[85,43,86,43],[85,44,86,45],[87,31,88,32],[87,33,88,33],[83,46,88,47],[87,41,88,42],[87,43,88,43],[87,44,88,45],[36,39,37,40],[26,48,31,49],[32,62,37,63],[77,36,78,40],[77,41,78,45],[47,60,48,66],[77,50,82,51],[77,52,82,53],[77,54,82,55],[71,46,76,47],[71,48,76,49],[71,50,76,51],[71,52,76,53],[71,54,76,55],[71,60,76,61],[71,62,76,63],[71,64,76,65],[71,66,76,66],[32,66,37,66],[34,31,35,32],[34,33,35,33],[34,34,35,35],[34,36,35,37],[34,38,35,38],[34,39,35,40],[36,31,37,32],[36,33,37,33],[36,34,37,35],[32,54,37,55],[32,56,37,57],[32,60,37,61],[32,64,37,65],[14,58,19,59],[14,60,19,61],[14,62,19,63],[20,48,25,49],[20,50,25,51],[20,52,25,53],[24,41,25,42],[24,43,25,43],[24,44,25,45],[20,54,25,55],[20,56,25,57],[20,58,25,59],[20,60,25,61],[20,62,25,63],[0,60,0,66],[1,0,1,10],[1,12,1,22],[1,24,1,58],[0,9,0,10],[0,21,0,22],[98,35,99,35],[14,64,19,65],[14,66,19,66],[20,36,21,40],[20,41,21,45],[20,64,25,65],[20,66,25,66],[22,36,23,37],[22,38,23,38],[24,36,25,37],[14,36,19,40],[14,41,19,45],[14,46,19,47],[14,48,19,49],[14,50,19,51],[14,52,19,53],[14,54,19,55],[14,56,19,57],[3,3,3,10],[3,15,3,22],[3,24,3,26],[3,27,3,32],[3,34,3,48],[5,24,5,26],[6,41,6,44],[0,0,0,8],[0,12,0,20],[0,24,0,58],[7,2,7,8],[7,9,7,10],[7,14,7,20],[7,21,7,22],[7,25,7,27],[7,28,7,40],[7,41,7,44],[6,2,6,8],[6,9,6,10],[6,14,6,20],[6,21,6,22],[6,25,6,27],[6,28,6,40],[8,2,8,8],[8,9,8,10],[8,14,8,20],[8,21,8,22],[8,25,8,27],[8,28,8,40],[8,41,8,44],[11,0,13,0],[11,1,13,1],[11,2,13,2],[11,3,13,3],[11,7,13,7],[11,8,13,8],[11,9,13,9],[11,12,13,12],[11,13,13,13],[11,14,13,14],[11,15,13,15],[11,19,13,19],[11,20,13,20],[11,21,13,21],[14,24,19,27],[14,28,19,30],[14,31,19,35],[14,1,14,5],[14,6,14,8],[14,9,14,10],[15,1,15,5],[15,6,15,8],[15,9,15,10],[16,1,16,5],[16,6,16,8],[16,9,16,10],[14,13,14,17],[14,18,14,20],[14,21,14,22],[15,13,15,17],[15,18,15,20],[15,21,15,22],[18,4,18,5],[18,6,18,8],[18,9,18,10],[18,16,18,17],[18,18,18,20],[18,21,18,22],[20,9,20,10],[20,16,20,17],[20,18,20,20],[20,24,25,28],[20,29,22,30],[20,31,25,35],[20,46,25,47],[22,39,23,40],[22,41,23,42],[22,43,23,43],[22,44,23,45],[24,38,25,38],[24,39,25,40],[23,29,25,30],[77,64,82,65],[77,66,82,66],[79,36,80,37],[26,24,31,28],[26,29,28,30],[26,36,31,40],[26,46,31,47],[26,31,27,35],[26,41,27,45],[30,34,31,35],[30,41,31,42],[28,44,29,45],[30,31,31,32],[26,50,31,51],[26,52,31,53],[26,54,31,55],[26,56,31,57],[26,58,31,59],[26,60,31,61],[26,62,31,63],[26,64,31,65],[26,66,31,66],[79,43,80,43],[79,44,80,45],[29,13,31,13],[29,15,31,15],[32,58,37,59],[32,24,37,28],[32,29,34,30],[32,41,37,45],[32,46,37,47],[32,50,37,51],[32,52,37,53],[35,29,37,30],[32,48,37,49],[29,29,31,30],[28,31,29,32],[28,33,29,33],[28,34,29,35],[28,41,29,42],[28,43,29,43],[30,33,31,33],[30,43,31,43],[30,44,31,45],[32,31,33,35],[32,36,33,40],[36,36,37,37],[36,38,37,38],[29,12,31,12],[29,14,31,14],[29,19,31,19],[29,20,31,20],[35,18,35,20],[81,39,82,40],[81,41,82,42],[81,43,82,43],[53,9,53,10],[53,16,53,17],[53,18,53,20],[53,21,53,22],[53,33,54,33],[53,34,54,48],[57,24,58,26],[57,27,58,32],[61,25,62,27],[61,28,62,40],[61,41,62,44],[63,25,64,27],[63,28,64,40],[63,41,64,44],[71,41,76,45],[29,21,31,21],[41,29,42,29],[47,24,48,58],[41,35,42,35],[49,24,50,58],[77,56,82,57],[71,56,76,57],[29,0,31,0],[29,1,31,1],[29,2,31,2],[29,3,31,3],[29,7,31,7],[29,8,31,8],[35,21,35,22],[41,32,42,32],[36,9,36,10],[36,16,36,17],[35,4,35,5],[35,6,35,8],[35,9,35,10],[35,16,35,17],[36,18,36,20],[36,21,36,22],[37,4,37,5],[29,9,31,9],[37,6,37,8],[37,9,37,10],[37,16,37,17],[37,18,37,20],[37,21,37,22],[36,4,36,5],[36,6,36,8],[71,58,76,59],[59,25,60,27],[59,28,60,40],[38,4,38,5],[38,6,38,8],[38,9,38,10],[38,16,38,17],[38,18,38,20],[38,21,38,22],[59,41,60,44],[47,9,49,9],[71,24,76,27],[71,28,76,30],[71,31,76,35],[71,36,76,40],[53,4,53,5],[53,6,53,8],[47,0,49,0],[47,1,49,1],[47,2,49,2],[47,3,49,3],[47,7,49,7],[47,8,49,8],[47,21,49,21],[47,12,49,12],[47,13,49,13],[47,14,49,14],[47,15,49,15],[47,19,49,19],[47,20,49,20],[56,4,56,5],[56,6,56,8],[56,9,56,10],[56,16,56,17],[56,18,56,20],[56,21,56,22],[5,27,5,32],[53,24,54,26],[53,27,54,32],[39,24,40,57],[41,24,42,25],[41,26,42,26],[54,4,54,5],[54,6,54,8],[54,9,54,10],[54,16,54,17],[54,18,54,20],[54,21,54,22],[55,4,55,5],[55,6,55,8],[55,9,55,10],[55,16,55,17],[55,18,55,20],[55,21,55,22],[77,24,82,28],[77,29,79,30],[77,31,82,35],[77,46,82,47],[77,48,82,49],[77,58,82,59],[77,60,82,61],[77,62,82,63],[83,58,88,59],[80,29,82,30],[83,24,88,28],[83,29,85,30],[83,36,88,40],[83,31,84,35],[83,41,84,45],[87,34,88,35],[81,36,82,37],[81,38,82,38],[83,62,88,63],[86,29,88,30],[81,44,82,45],[79,38,80,38],[79,39,80,40],[79,41,80,42],[89,24,94,28],[89,29,91,30],[89,41,94,45],[89,46,94,47],[89,62,94,63],[92,29,94,30],[83,48,88,49],[96,24,97,57],[98,24,99,25],[98,26,99,26],[98,29,99,29],[98,32,99,32],[83,60,88,61],[83,50,88,51],[83,52,88,53],[83,54,88,55],[83,56,88,57],[89,60,94,61],[89,50,94,51],[89,52,94,53],[89,54,94,55],[89,56,94,57],[89,48,94,49],[89,31,90,35]]}
[{"$f":"抽選会資料!B1","v":"OFA 第 53 回大分県U-12サッカー大会　兼　KYFA 九州U-12サッカー大会大分県大会"},null,null,null,null,null,null,null,null,"１次リーグ結果　報告用紙",null,null,{"$f":"抽選会資料!B1","v":"OFA 第 53 回大分県U-12サッカー大会　兼　KYFA 九州U-12サッカー大会大分県大会"},null,null,null,null,null,null,null,null,"１次リーグ結果　報告用紙",null,null,{"$f":"$A$1","v":"OFA 第 53 回大分県U-12サッカー大会　兼　KYFA 九州U-12サッカー大会大分県大会"},null,null,null,null,null,null,null,null,null,null,null,null,null,null,null,null,null,null,null,null,null,null,null,null,null,null,null,null,null,null,null,null,null,null,null,{"$f":"$J$1","v":"１次リーグ結果　報告用紙"}]
["＜時間割＞　①10:00～　②11:00～　③12:00～　④13:00～　⑤14:00～　⑥15:00～",null,null,null,null,null,null,null,null,null,null,null,"＜時間割＞　①10:00～　②11:00～　③12:00～　④13:00～　⑤14:00～　⑥15:00～",null,null,null,null,null,null,null,null,null,null,null,"＜時間割＞　①10:00～　②11:00～　③12:00～　④13:00～　⑤14:00～　⑥15:00～"]
[]
["会場",{"$f":"組み合わせ!BF8","v":"豊肥"},"⇒",{"$f":"VLOOKUP(B4,抽選会資料!$B$52:$F$60,2,FALSE)","v":"サン・スポーツランドみえ"},null,null,null,null,null,null,null,null,"会場",{"$f":"組み合わせ!BF8","v":"豊肥"},"⇒",{"$f":"VLOOKUP(N4,抽選会資料!$B$52:$F$60,2,FALSE)","v":"サン・スポーツランドみえ"},null,null,null,null,null,null,null,null,"会場",null,null,{"$f":"$B$4","v":"豊肥"},null,null,null,null,null,"⇒",{"$f":"$D$4","v":"サン・スポーツランドみえ"}]
[]
["パート",{"$f":"VLOOKUP(B4,組み合わせ!$AL$95:$BU$112,13,FALSE)","v":"C"},null,null,null,null,null,null,null,null,null,null,"パート",{"$f":"VLOOKUP(N4,組み合わせ!$AL$95:$BU$112,25,FALSE)","v":"G"},null,null,null,null,null,null,null,null,null,null,"パート",null,null,{"$f":"$B$6","v":"C"}]
[null,{"$f":"CONCATENATE($B$6,1)","v":"C1"},{"$f":"HLOOKUP(B7,組み合わせ!$B$48:$EO$86,2,FALSE)","v":"ＦＣ大野"},null,null,null,null,null,null,{"$f":"HLOOKUP(B7,組み合わせ!$B$48:$EO$86,32,FALSE)","v":"豊肥"},null,null,null,{"$f":"CONCATENATE($N$6,1)","v":"G1"},{"$f":"HLOOKUP(N7,組み合わせ!$B$48:$EO$86,2,FALSE)","v":"四日市南ＳＳＣ"},null,null,null,null,null,null,{"$f":"HLOOKUP(N7,組み合わせ!$B$48:$EO$86,32,FALSE)","v":"宇佐高田"},null,null,null,{"$f":"+B7","v":"C1"},null,null,{"$f":"$C$7","v":"ＦＣ大野"},null,null,null,null,null,null,null,null,null,null,null,null,{"$f":"$J$7","v":"豊肥"}]
[null,{"$f":"CONCATENATE($B$6,2)","v":"C2"},{"$f":"HLOOKUP(B8,組み合わせ!$B$48:$EO$86,2,FALSE)","v":"Ｍ．Ｓ．Ｓ"},null,null,null,null,null,null,{"$f":"HLOOKUP(B8,組み合わせ!$B$48:$EO$86,32,FALSE)","v":"大分"},null,null,null,{"$f":"CONCATENATE($N$6,2)","v":"G2"},{"$f":"HLOOKUP(N8,組み合わせ!$B$48:$EO$86,2,FALSE)","v":"大分トリニータＵ－１２"},null,null,null,null,null,null,{"$f":"HLOOKUP(N8,組み合わせ!$B$48:$EO$86,32,FALSE)","v":"大分"},null,null,null,{"$f":"+B8","v":"C2"},null,null,{"$f":"$C$8","v":"Ｍ．Ｓ．Ｓ"},null,null,null,null,null,null,null,null,null,null,null,null,{"$f":"$J$8","v":"大分"}]
[null,{"$f":"CONCATENATE($B$6,3)","v":"C3"},{"$f":"HLOOKUP(B9,組み合わせ!$B$48:$EO$86,2,FALSE)","v":"ＦＣ　ＪＵＮＩＯＲＳ"},null,null,null,null,null,null,{"$f":"HLOOKUP(B9,組み合わせ!$B$48:$EO$86,32,FALSE)","v":"中津"},null,null,null,{"$f":"CONCATENATE($N$6,3)","v":"G3"},{"$f":"HLOOKUP(N9,組み合わせ!$B$48:$EO$86,2,FALSE)","v":"鶴見少年サッカークラブ"},null,null,null,null,null,null,{"$f":"HLOOKUP(N9,組み合わせ!$B$48:$EO$86,32,FALSE)","v":"佐伯"},null,null,null,{"$f":"+B9","v":"C3"},null,null,{"$f":"$C$9","v":"ＦＣ　ＪＵＮＩＯＲＳ"},null,null,null,null,null,null,null,null,null,null,null,null,{"$f":"$J$9","v":"中津"}]
["8：50～ＭＣＭ",null,null,null,null,null,null,null,null,null,null,null,"9：50～ＭＣＭ"]
[]
["①\n10:00～",{"$f":"C7","v":"ＦＣ大野"},{"$f":"IF(E12=\"\",\"\",SUM(E12:E13))","v":2},"（",1,"前半",0,"）",{"$f":"IF(G12=\"\",\"\",SUM(G12:G13))","v":1},{"$f":"C8","v":"Ｍ．Ｓ．Ｓ"},null,null,"②\n11:00～",{"$f":"O7","v":"四日市南ＳＳＣ"},{"$f":"IF(Q12=\"\",\"\",SUM(Q12:Q13))","v":1},"（",0,"前半",2,"）",{"$f":"IF(S12=\"\",\"\",SUM(S12:S13))","v":7},{"$f":"O8","v":"大分トリニータＵ－１２"}]
[null,null,null,null,1,"後半",1,null,null,null,null,null,null,null,null,null,1,"後半",5]
[null,null,null,null,null,"PK",null,null,null,null,null,null,null,null,null,null,null,"PK"]
["MC","岡部　司",null,null,null,null,"所属協会",null,null,"豊肥地区サッカー協会",null,null,"MC","仲野　昭博",null,null,null,null,"所属協会",null,null,"豊肥地区サッカー協会",null,null,{"$f":"$Y$6","v":"パート"},null,null,null,{"$f":"$AB$6","v":"C"},null,null,{"$f":"$Y$21","v":"ＦＣ大野"},null,null,null,null,{"$f":"$Y$27","v":"Ｍ．Ｓ．Ｓ"},null,null,null,null,{"$f":"$Y$33","v":"ＦＣ　ＪＵＮＩＯＲＳ"},null,null,null,null,"勝",null,"PK\n勝",null,"PK\n負",null,"負",null,"得点",null,"失点",null,"勝点",null,"勝点\n順位",null,"得失\n点差",null,"得失\n順位",null,"総\n順位"]
["WelfareOfficer","岡部　司",null,null,null,null,"所属協会",null,null,"豊肥地区サッカー協会",null,null,"WelfareOfficer","仲野　昭博",null,null,null,null,"所属協会",null,null,"豊肥地区サッカー協会"]
["記録","寺次　良生",null,null,null,null,"所属協会",null,null,"豊肥地区サッカー協会",null,null,"記録","安藤　大生",null,null,null,null,"所属協会",null,null,"豊肥地区サッカー協会"]
["R:",{"$f":"IF(ISERROR(VLOOKUP(G18,審判員!$A:$C,2,FALSE))=TRUE,\"\",VLOOKUP(G18,審判員!$A:$C,2,FALSE))","v":"狭間　照央"},{"$f":"IF(ISERROR(VLOOKUP(G18,審判員!$A:$C,3,FALSE))=TRUE,\"\",VLOOKUP(G18,審判員!$A:$C,3,FALSE))","v":3},"級","資格番号",null,"R010027819",null,null,"本部",null,null,"R:",{"$f":"IF(ISERROR(VLOOKUP(S18,審判員!$A:$C,2,FALSE))=TRUE,\"\",VLOOKUP(S18,審判員!$A:$C,2,FALSE))","v":"羽田野　亘"},{"$f":"IF(ISERROR(VLOOKUP(S18,審判員!$A:$C,3,FALSE))=TRUE,\"\",VLOOKUP(S18,審判員!$A:$C,3,FALSE))","v":3},"級","資格番号",null,"R001264304",null,null,"本部"]
["AR1:",{"$f":"IF(ISERROR(VLOOKUP(G19,審判員!$A:$C,2,FALSE))=TRUE,\"\",VLOOKUP(G19,審判員!$A:$C,2,FALSE))","v":"山田　将来"},{"$f":"IF(ISERROR(VLOOKUP(G19,審判員!$A:$C,3,FALSE))=TRUE,\"\",VLOOKUP(G19,審判員!$A:$C,3,FALSE))","v":3},"級","資格番号",null,"R010396589",null,null,{"$f":"N12","v":"四日市南ＳＳＣ"},null,null,"AR1:",{"$f":"IF(ISERROR(VLOOKUP(S19,審判員!$A:$C,2,FALSE))=TRUE,\"\",VLOOKUP(S19,審判員!$A:$C,2,FALSE))","v":"佐藤　昭生"},{"$f":"IF(ISERROR(VLOOKUP(S19,審判員!$A:$C,3,FALSE))=TRUE,\"\",VLOOKUP(S19,審判員!$A:$C,3,FALSE))","v":3},"級","資格番号",null,"R001263448",null,null,{"$f":"B12","v":"ＦＣ大野"}]
["AR2:",{"$f":"IF(ISERROR(VLOOKUP(G20,審判員!$A:$C,2,FALSE))=TRUE,\"\",VLOOKUP(G20,審判員!$A:$C,2,FALSE))","v":"小川　翔太"},{"$f":"IF(ISERROR(VLOOKUP(G20,審判員!$A:$C,3,FALSE))=TRUE,\"\",VLOOKUP(G20,審判員!$A:$C,3,FALSE))","v":3},"級","資格番号",null,"R007075261",null,null,{"$f":"V12","v":"大分トリニータＵ－１２"},null,null,"AR2:",{"$f":"IF(ISERROR(VLOOKUP(S20,審判員!$A:$C,2,FALSE))=TRUE,\"\",VLOOKUP(S20,審判員!$A:$C,2,FALSE))","v":"深堀　祥司"},{"$f":"IF(ISERROR(VLOOKUP(S20,審判員!$A:$C,3,FALSE))=TRUE,\"\",VLOOKUP(S20,審判員!$A:$C,3,FALSE))","v":3},"級","資格番号",null,"R009197691",null,null,{"$f":"J12","v":"Ｍ．Ｓ．Ｓ"}]
["4th:",{"$f":"IF(ISERROR(VLOOKUP(G21,審判員!$A:$C,2,FALSE))=TRUE,\"\",VLOOKUP(G21,審判員!$A:$C,2,FALSE))","v":"矢野　三千生"},{"$f":"IF(ISERROR(VLOOKUP(G21,審判員!$A:$C,3,FALSE))=TRUE,\"\",VLOOKUP(G21,審判員!$A:$C,3,FALSE))","v":3},"級","資格番号",null,"R003972443",null,null,"本部",null,null,"4th:",{"$f":"IF(ISERROR(VLOOKUP(S21,審判員!$A:$C,2,FALSE))=TRUE,\"\",VLOOKUP(S21,審判員!$A:$C,2,FALSE))","v":"後藤　真一"},{"$f":"IF(ISERROR(VLOOKUP(S21,審判員!$A:$C,3,FALSE))=TRUE,\"\",VLOOKUP(S21,審判員!$A:$C,3,FALSE))","v":4},"級","資格番号",null,"R003256044",null,null,"本部",null,null,{"$f":"$AC$7","v":"ＦＣ大野"},null,null,null,null,"星取表",null,null,null,null,null,null,{"$f":"IF(AK25=\"\",\"\",IF(AK25>AN25,\"○\",IF(AK25<AN25,\"●\",IF(AK23>AN23,\"△\",IF(AK23<AN23,\"▲\")))))","v":"○"},null,null,null,null,{"$f":"IF(AP25=\"\",\"\",IF(AP25>AS25,\"○\",IF(AP25<AS25,\"●\",IF(AP23>AS23,\"△\",IF(AP23<AS23,\"▲\")))))","v":"○"},null,null,null,null,{"$f":"COUNTIF($AF$21:$AT$22,\"○\")","v":2},null,{"$f":"COUNTIF($AF$21:$AT$22,\"△\")","v":0},null,{"$f":"COUNTIF($AF$21:$AT$22,\"▲\")","v":0},null,{"$f":"COUNTIF($AF$21:$AT$22,\"●\")","v":0},null,{"$f":"SUM($AK$25,$AP$25)","v":3},null,{"$f":"SUM($AN$25,$AS$25)","v":1},null,{"$f":"($AU$21*3)+($AW$21*2)+($AY$21*1)","v":6},null,{"$f":"RANK($BG$21,$BG$21:$BH$38)","v":1},null,{"$f":"$BC$21-$BE$21","v":2},null,{"$f":"RANK($BK$21,$BK$21:$BL$38)","v":1}]
["警告/退場","氏名","背番号","分","内容",null,"内容","分","背番号","氏名","警告/退場",null,"警告/退場","氏名","背番号","分","内容",null,"内容","分","背番号","氏名","警告/退場"]
[null,{"$f":"IF(ISERROR(VLOOKUP(CONCATENATE($B$12,\"_\",C23),選手名簿!$A:$E,5,FALSE))=TRUE,\"\",VLOOKUP(CONCATENATE($B$12,\"_\",C23),選手名簿!$A:$E,5,FALSE))","v":""},null,null,null,null,null,null,null,{"$f":"IF(ISERROR(VLOOKUP(CONCATENATE($J$12,\"_\",I23),選手名簿!$A:$E,5,FALSE))=TRUE,\"\",VLOOKUP(CONCATENATE($J$12,\"_\",I23),選手名簿!$A:$E,5,FALSE))","v":""},null,null,null,{"$f":"IF(ISERROR(VLOOKUP(CONCATENATE($N$12,\"_\",O23),選手名簿!$A:$E,5,FALSE))=TRUE,\"\",VLOOKUP(CONCATENATE($N$12,\"_\",O23),選手名簿!$A:$E,5,FALSE))","v":""},null,null,null,null,null,null,null,{"$f":"IF(ISERROR(VLOOKUP(CONCATENATE($V$12,\"_\",U23),選手名簿!$A:$E,5,FALSE))=TRUE,\"\",VLOOKUP(CONCATENATE($V$12,\"_\",U23),選手名簿!$A:$E,5,FALSE))","v":""},null,null,null,null,null,null,null,null,null,null,null,null,null,null,{"$f":"IF($E$14=\"\",\"\",$E$14)","v":""},null,"―",{"$f":"IF($G$14=\"\",\"\",$G$14)","v":""},null,{"$f":"IF($G$50=\"\",\"\",$G$50)","v":""},null,"―",{"$f":"IF($E$50=\"\",\"\",$E$50)","v":""}]
[null,{"$f":"IF(ISERROR(VLOOKUP(CONCATENATE($B$12,\"_\",C24),選手名簿!$A:$E,5,FALSE))=TRUE,\"\",VLOOKUP(CONCATENATE($B$12,\"_\",C24),選手名簿!$A:$E,5,FALSE))","v":""},null,null,null,null,null,null,null,{"$f":"IF(ISERROR(VLOOKUP(CONCATENATE($J$12,\"_\",I24),選手名簿!$A:$E,5,FALSE))=TRUE,\"\",VLOOKUP(CONCATENATE($J$12,\"_\",I24),選手名簿!$A:$E,5,FALSE))","v":""},null,null,null,{"$f":"IF(ISERROR(VLOOKUP(CONCATENATE($N$12,\"_\",O24),選手名簿!$A:$E,5,FALSE))=TRUE,\"\",VLOOKUP(CONCATENATE($N$12,\"_\",O24),選手名簿!$A:$E,5,FALSE))","v":""},null,null,null,null,null,null,null,{"$f":"IF(ISERROR(VLOOKUP(CONCATENATE($V$12,\"_\",U24),選手名簿!$A:$E,5,FALSE))=TRUE,\"\",VLOOKUP(CONCATENATE($V$12,\"_\",U24),選手名簿!$A:$E,5,FALSE))","v":""},null,null,null,null,null,null,null,"得失点"]
[null,{"$f":"IF(ISERROR(VLOOKUP(CONCATENATE($B$12,\"_\",C25),選手名簿!$A:$E,5,FALSE))=TRUE,\"\",VLOOKUP(CONCATENATE($B$12,\"_\",C25),選手名簿!$A:$E,5,FALSE))","v":""},null,null,null,null,null,null,null,{"$f":"IF(ISERROR(VLOOKUP(CONCATENATE($J$12,\"_\",I25),選手名簿!$A:$E,5,FALSE))=TRUE,\"\",VLOOKUP(CONCATENATE($J$12,\"_\",I25),選手名簿!$A:$E,5,FALSE))","v":""},null,null,null,{"$f":"IF(ISERROR(VLOOKUP(CONCATENATE($N$12,\"_\",O25),選手名簿!$A:$E,5,FALSE))=TRUE,\"\",VLOOKUP(CONCATENATE($N$12,\"_\",O25),選手名簿!$A:$E,5,FALSE))","v":""},null,null,null,null,null,null,null,{"$f":"IF(ISERROR(VLOOKUP(CONCATENATE($V$12,\"_\",U25),選手名簿!$A:$E,5,FALSE))=TRUE,\"\",VLOOKUP(CONCATENATE($V$12,\"_\",U25),選手名簿!$A:$E,5,FALSE))","v":""},null,null,null,null,null,null,null,null,null,null,null,null,null,null,{"$f":"$C$12","v":2},null,"―",{"$f":"$I$12","v":1},null,{"$f":"$I$48","v":1},null,"―",{"$f":"$C$48","v":0}]
[null,{"$f":"IF(ISERROR(VLOOKUP(CONCATENATE($B$12,\"_\",C26),選手名簿!$A:$E,5,FALSE))=TRUE,\"\",VLOOKUP(CONCATENATE($B$12,\"_\",C26),選手名簿!$A:$E,5,FALSE))","v":""},null,null,null,null,null,null,null,{"$f":"IF(ISERROR(VLOOKUP(CONCATENATE($J$12,\"_\",I26),選手名簿!$A:$E,5,FALSE))=TRUE,\"\",VLOOKUP(CONCATENATE($J$12,\"_\",I26),選手名簿!$A:$E,5,FALSE))","v":""},null,null,null,{"$f":"IF(ISERROR(VLOOKUP(CONCATENATE($N$12,\"_\",O26),選手名簿!$A:$E,5,FALSE))=TRUE,\"\",VLOOKUP(CONCATENATE($N$12,\"_\",O26),選手名簿!$A:$E,5,FALSE))","v":""},null,null,null,null,null,null,null,{"$f":"IF(ISERROR(VLOOKUP(CONCATENATE($V$12,\"_\",U26),選手名簿!$A:$E,5,FALSE))=TRUE,\"\",VLOOKUP(CONCATENATE($V$12,\"_\",U26),選手名簿!$A:$E,5,FALSE))","v":""}]
[null,{"$f":"IF(ISERROR(VLOOKUP(CONCATENATE($B$12,\"_\",C27),選手名簿!$A:$E,5,FALSE))=TRUE,\"\",VLOOKUP(CONCATENATE($B$12,\"_\",C27),選手名簿!$A:$E,5,FALSE))","v":""},null,null,null,null,null,null,null,{"$f":"IF(ISERROR(VLOOKUP(CONCATENATE($J$12,\"_\",I27),選手名簿!$A:$E,5,FALSE))=TRUE,\"\",VLOOKUP(CONCATENATE($J$12,\"_\",I27),選手名簿!$A:$E,5,FALSE))","v":""},null,null,null,{"$f":"IF(ISERROR(VLOOKUP(CONCATENATE($N$12,\"_\",O27),選手名簿!$A:$E,5,FALSE))=TRUE,\"\",VLOOKUP(CONCATENATE($N$12,\"_\",O27),選手名簿!$A:$E,5,FALSE))","v":""},null,null,null,null,null,null,null,{"$f":"IF(ISERROR(VLOOKUP(CONCATENATE($V$12,\"_\",U27),選手名簿!$A:$E,5,FALSE))=TRUE,\"\",VLOOKUP(CONCATENATE($V$12,\"_\",U27),選手名簿!$A:$E,5,FALSE))","v":""},null,null,{"$f":"$AC$8","v":"Ｍ．Ｓ．Ｓ"},null,null,null,null,"星取表",null,{"$f":"IF(AF31=\"\",\"\",IF(AF31>AI31,\"○\",IF(AF31<AI31,\"●\",IF(AF29>AI29,\"△\",IF(AF29<AI29,\"▲\")))))","v":"●"},null,null,null,null,null,null,null,null,null,{"$f":"IF(AP31=\"\",\"\",IF(AP31>AS31,\"○\",IF(AP31<AS31,\"●\",IF(AP29>AS29,\"△\",IF(AP29<AS29,\"▲\")))))","v":"●"},null,null,null,null,{"$f":"COUNTIF($AF$27:$AT$28,\"○\")","v":0},null,{"$f":"COUNTIF($AF$27:$AT$28,\"△\")","v":0},null,{"$f":"COUNTIF($AF$27:$AT$28,\"▲\")","v":0},null,{"$f":"COUNTIF($AF$27:$AT$28,\"●\")","v":2},null,{"$f":"SUM($AF$31,$AP$31)","v":1},null,{"$f":"SUM($AI$31,$AS$31)","v":3},null,{"$f":"($AU$27*3)+($AW$27*2)+($AY$27*1)","v":0},null,{"$f":"RANK($BG$27,$BG$21:$BH$38)","v":3},null,{"$f":"$BC$27-$BE$27","v":-2},null,{"$f":"RANK($BK$27,$BK$21:$BL$38)","v":3}]
[]
[null,null,null,null,null,null,null,null,null,null,null,null,null,null,null,null,null,null,null,null,null,null,null,null,null,null,null,null,null,null,null,{"$f":"AN23","v":""},null,"―",{"$f":"AK23","v":""},null,null,null,null,null,null,{"$f":"IF($E$32=\"\",\"\",$E$32)","v":""},null,"―",{"$f":"IF($G$32=\"\",\"\",$G$32)","v":""}]
["③\n12:00～",{"$f":"C8","v":"Ｍ．Ｓ．Ｓ"},{"$f":"IF(E30=\"\",\"\",SUM(E30:E31))","v":0},"（",0,"前半",1,"）",{"$f":"IF(G30=\"\",\"\",SUM(G30:G31))","v":1},{"$f":"C9","v":"ＦＣ　ＪＵＮＩＯＲＳ"},null,null,"④\n13:00～",{"$f":"O8","v":"大分トリニータＵ－１２"},{"$f":"IF(Q30=\"\",\"\",SUM(Q30:Q31))","v":7},"（",4,"前半",0,"）",{"$f":"IF(S30=\"\",\"\",SUM(S30:S31))","v":1},{"$f":"O9","v":"鶴見少年サッカークラブ"},null,null,null,null,null,null,null,"得失点"]
[null,null,null,null,0,"後半",0,null,null,null,null,null,null,null,null,null,3,"後半",1,null,null,null,null,null,null,null,null,null,null,null,null,{"$f":"AN25","v":1},null,"―",{"$f":"AK25","v":2},null,null,null,null,null,null,{"$f":"$C$30","v":0},null,"―",{"$f":"$I$30","v":1}]
[null,null,null,null,null,"PK",null,null,null,null,null,null,null,null,null,null,null,"PK"]
["MC","菊地　謙一",null,null,null,null,"所属協会",null,null,"豊肥地区サッカー協会",null,null,"MC","羽田野　亘",null,null,null,null,"所属協会",null,null,"豊肥地区サッカー協会",null,null,{"$f":"$AC$9","v":"ＦＣ　ＪＵＮＩＯＲＳ"},null,null,null,null,"星取表",null,{"$f":"IF(AF37=\"\",\"\",IF(AF37>AI37,\"○\",IF(AF37<AI37,\"●\",IF(AF35>AI35,\"△\",IF(AF35<AI35,\"▲\")))))","v":"●"},null,null,null,null,{"$f":"IF(AK37=\"\",\"\",IF(AK37>AN37,\"○\",IF(AK37<AN37,\"●\",IF(AK35>AN35,\"△\",IF(AK35<AN35,\"▲\")))))","v":"○"},null,null,null,null,null,null,null,null,null,{"$f":"COUNTIF($AF$33:$AT$34,\"○\")","v":1},null,{"$f":"COUNTIF($AF$33:$AT$34,\"△\")","v":0},null,{"$f":"COUNTIF($AF$33:$AT$34,\"▲\")","v":0},null,{"$f":"COUNTIF($AF$33:$AT$34,\"●\")","v":1},null,{"$f":"SUM($AF$37,$AK$37)","v":1},null,{"$f":"SUM($AI$37,$AN$37)","v":1},null,{"$f":"($AU$33*3)+($AW$33*2)+($AY$33*1)","v":3},null,{"$f":"RANK($BG$33,$BG$21:$BH$38)","v":2},null,{"$f":"$BC$33-$BE$33","v":0},null,{"$f":"RANK($BK$33,$BK$21:$BL$38)","v":2}]
["WelfareOfficer","菊地　謙一",null,null,null,null,"所属協会",null,null,"豊肥地区サッカー協会",null,null,"WelfareOfficer","羽田野　亘",null,null,null,null,"所属協会",null,null,"豊肥地区サッカー協会"]
["記録","宮成　亨治",null,null,null,null,"所属協会",null,null,"豊肥地区サッカー協会",null,null,"記録","安藤　大生",null,null,null,null,"所属協会",null,null,"豊肥地区サッカー協会",null,null,null,null,null,null,null,null,null,{"$f":"AS23","v":""},null,"―",{"$f":"AP23","v":""},null,{"$f":"AS29","v":""},null,"―",{"$f":"AP29","v":""}]
["R:",{"$f":"IF(ISERROR(VLOOKUP(G36,審判員!$A:$C,2,FALSE))=TRUE,\"\",VLOOKUP(G36,審判員!$A:$C,2,FALSE))","v":"矢野　三千生"},{"$f":"IF(ISERROR(VLOOKUP(G36,審判員!$A:$C,3,FALSE))=TRUE,\"\",VLOOKUP(G36,審判員!$A:$C,3,FALSE))","v":3},"級","資格番号",null,"R003972443",null,null,"本部",null,null,"R:",{"$f":"IF(ISERROR(VLOOKUP(S36,審判員!$A:$C,2,FALSE))=TRUE,\"\",VLOOKUP(S36,審判員!$A:$C,2,FALSE))","v":"寺次　良生"},{"$f":"IF(ISERROR(VLOOKUP(S36,審判員!$A:$C,3,FALSE))=TRUE,\"\",VLOOKUP(S36,審判員!$A:$C,3,FALSE))","v":3},"級","資格番号",null,"R010120117",null,null,"本部",null,null,null,null,null,null,null,"得失点"]
["AR1:",{"$f":"IF(ISERROR(VLOOKUP(G37,審判員!$A:$C,2,FALSE))=TRUE,\"\",VLOOKUP(G37,審判員!$A:$C,2,FALSE))","v":"小川　翔太"},{"$f":"IF(ISERROR(VLOOKUP(G37,審判員!$A:$C,3,FALSE))=TRUE,\"\",VLOOKUP(G37,審判員!$A:$C,3,FALSE))","v":3},"級","資格番号",null,"R007075261",null,null,{"$f":"N30","v":"大分トリニータＵ－１２"},null,null,"AR1:",{"$f":"IF(ISERROR(VLOOKUP(S37,審判員!$A:$C,2,FALSE))=TRUE,\"\",VLOOKUP(S37,審判員!$A:$C,2,FALSE))","v":"深堀　祥司"},{"$f":"IF(ISERROR(VLOOKUP(S37,審判員!$A:$C,3,FALSE))=TRUE,\"\",VLOOKUP(S37,審判員!$A:$C,3,FALSE))","v":3},"級","資格番号",null,"R009197691",null,null,{"$f":"B30","v":"Ｍ．Ｓ．Ｓ"},null,null,null,null,null,null,null,null,null,{"$f":"AS25","v":0},null,"―",{"$f":"AP25","v":1},null,{"$f":"AS31","v":1},null,"―",{"$f":"AP31","v":0}]
["AR2:",{"$f":"IF(ISERROR(VLOOKUP(G38,審判員!$A:$C,2,FALSE))=TRUE,\"\",VLOOKUP(G38,審判員!$A:$C,2,FALSE))","v":"平川　諒"},{"$f":"IF(ISERROR(VLOOKUP(G38,審判員!$A:$C,3,FALSE))=TRUE,\"\",VLOOKUP(G38,審判員!$A:$C,3,FALSE))","v":3},"級","資格番号",null,"R010538358",null,null,{"$f":"V30","v":"鶴見少年サッカークラブ"},null,null,"AR2:",{"$f":"IF(ISERROR(VLOOKUP(S38,審判員!$A:$C,2,FALSE))=TRUE,\"\",VLOOKUP(S38,審判員!$A:$C,2,FALSE))","v":"山下　泰明"},{"$f":"IF(ISERROR(VLOOKUP(S38,審判員!$A:$C,3,FALSE))=TRUE,\"\",VLOOKUP(S38,審判員!$A:$C,3,FALSE))","v":3},"級","資格番号",null,"R010189260",null,null,{"$f":"J30","v":"ＦＣ　ＪＵＮＩＯＲＳ"}]
["4th:",{"$f":"IF(ISERROR(VLOOKUP(G39,審判員!$A:$C,2,FALSE))=TRUE,\"\",VLOOKUP(G39,審判員!$A:$C,2,FALSE))","v":"後藤　真一"},{"$f":"IF(ISERROR(VLOOKUP(G39,審判員!$A:$C,3,FALSE))=TRUE,\"\",VLOOKUP(G39,審判員!$A:$C,3,FALSE))","v":4},"級","資格番号",null,"R003256044",null,null,"本部",null,null,"4th:",{"$f":"IF(ISERROR(VLOOKUP(S39,審判員!$A:$C,2,FALSE))=TRUE,\"\",VLOOKUP(S39,審判員!$A:$C,2,FALSE))","v":"宮成　亨治"},{"$f":"IF(ISERROR(VLOOKUP(S39,審判員!$A:$C,3,FALSE))=TRUE,\"\",VLOOKUP(S39,審判員!$A:$C,3,FALSE))","v":4},"級","資格番号",null,"R010538357",null,null,"本部"]
["警告/退場","氏名","背番号","分","内容",null,"内容","分","背番号","氏名","警告/退場",null,"警告/退場","氏名","背番号","分","内容",null,"内容","分","背番号","氏名","警告/退場",null,"Ⅰ勝点（勝３点　ＰＫ勝２点　ＰＫ負１点　負０点）　Ⅱ当該チームの戦績　Ⅲ得失点差　Ⅳ多得点　Ⅴ抽選の順で順位を決定する。"]
[null,{"$f":"IF(ISERROR(VLOOKUP(CONCATENATE($B$30,\"_\",C41),選手名簿!$A:$E,5,FALSE))=TRUE,\"\",VLOOKUP(CONCATENATE($B$30,\"_\",C41),選手名簿!$A:$E,5,FALSE))","v":""},null,null,null,null,null,null,null,{"$f":"IF(ISERROR(VLOOKUP(CONCATENATE($J$30,\"_\",I41),選手名簿!$A:$E,5,FALSE))=TRUE,\"\",VLOOKUP(CONCATENATE($J$30,\"_\",I41),選手名簿!$A:$E,5,FALSE))","v":""},null,null,null,{"$f":"IF(ISERROR(VLOOKUP(CONCATENATE($N$30,\"_\",O41),選手名簿!$A:$E,5,FALSE))=TRUE,\"\",VLOOKUP(CONCATENATE($N$30,\"_\",O41),選手名簿!$A:$E,5,FALSE))","v":""},null,null,null,null,null,null,null,{"$f":"IF(ISERROR(VLOOKUP(CONCATENATE($V$30,\"_\",U41),選手名簿!$A:$E,5,FALSE))=TRUE,\"\",VLOOKUP(CONCATENATE($V$30,\"_\",U41),選手名簿!$A:$E,5,FALSE))","v":""}]
[null,{"$f":"IF(ISERROR(VLOOKUP(CONCATENATE($B$30,\"_\",C42),選手名簿!$A:$E,5,FALSE))=TRUE,\"\",VLOOKUP(CONCATENATE($B$30,\"_\",C42),選手名簿!$A:$E,5,FALSE))","v":""},null,null,null,null,null,null,null,{"$f":"IF(ISERROR(VLOOKUP(CONCATENATE($J$30,\"_\",I42),選手名簿!$A:$E,5,FALSE))=TRUE,\"\",VLOOKUP(CONCATENATE($J$30,\"_\",I42),選手名簿!$A:$E,5,FALSE))","v":""},null,null,null,{"$f":"IF(ISERROR(VLOOKUP(CONCATENATE($N$30,\"_\",O42),選手名簿!$A:$E,5,FALSE))=TRUE,\"\",VLOOKUP(CONCATENATE($N$30,\"_\",O42),選手名簿!$A:$E,5,FALSE))","v":""},null,null,null,null,null,null,null,{"$f":"IF(ISERROR(VLOOKUP(CONCATENATE($V$30,\"_\",U42),選手名簿!$A:$E,5,FALSE))=TRUE,\"\",VLOOKUP(CONCATENATE($V$30,\"_\",U42),選手名簿!$A:$E,5,FALSE))","v":""},null,null,"勝点表",null,"勝","○",null,"PK\n勝","△",null,"PK\n負","▲",null,"負","●"]
[null,{"$f":"IF(ISERROR(VLOOKUP(CONCATENATE($B$30,\"_\",C43),選手名簿!$A:$E,5,FALSE))=TRUE,\"\",VLOOKUP(CONCATENATE($B$30,\"_\",C43),選手名簿!$A:$E,5,FALSE))","v":""},null,null,null,null,null,null,null,{"$f":"IF(ISERROR(VLOOKUP(CONCATENATE($J$30,\"_\",I43),選手名簿!$A:$E,5,FALSE))=TRUE,\"\",VLOOKUP(CONCATENATE($J$30,\"_\",I43),選手名簿!$A:$E,5,FALSE))","v":""},null,null,null,{"$f":"IF(ISERROR(VLOOKUP(CONCATENATE($N$30,\"_\",O43),選手名簿!$A:$E,5,FALSE))=TRUE,\"\",VLOOKUP(CONCATENATE($N$30,\"_\",O43),選手名簿!$A:$E,5,FALSE))","v":""},null,null,null,null,null,null,null,{"$f":"IF(ISERROR(VLOOKUP(CONCATENATE($V$30,\"_\",U43),選手名簿!$A:$E,5,FALSE))=TRUE,\"\",VLOOKUP(CONCATENATE($V$30,\"_\",U43),選手名簿!$A:$E,5,FALSE))","v":""},null,null,null,null,null,3,null,null,2,null,null,1,null,null,0]
[null,{"$f":"IF(ISERROR(VLOOKUP(CONCATENATE($B$30,\"_\",C44),選手名簿!$A:$E,5,FALSE))=TRUE,\"\",VLOOKUP(CONCATENATE($B$30,\"_\",C44),選手名簿!$A:$E,5,FALSE))","v":""},null,null,null,null,null,null,null,{"$f":"IF(ISERROR(VLOOKUP(CONCATENATE($J$30,\"_\",I44),選手名簿!$A:$E,5,FALSE))=TRUE,\"\",VLOOKUP(CONCATENATE($J$30,\"_\",I44),選手名簿!$A:$E,5,FALSE))","v":""},null,null,null,{"$f":"IF(ISERROR(VLOOKUP(CONCATENATE($N$30,\"_\",O44),選手名簿!$A:$E,5,FALSE))=TRUE,\"\",VLOOKUP(CONCATENATE($N$30,\"_\",O44),選手名簿!$A:$E,5,FALSE))","v":""},null,null,null,null,null,null,null,{"$f":"IF(ISERROR(VLOOKUP(CONCATENATE($V$30,\"_\",U44),選手名簿!$A:$E,5,FALSE))=TRUE,\"\",VLOOKUP(CONCATENATE($V$30,\"_\",U44),選手名簿!$A:$E,5,FALSE))","v":""}]
[null,{"$f":"IF(ISERROR(VLOOKUP(CONCATENATE($B$30,\"_\",C45),選手名簿!$A:$E,5,FALSE))=TRUE,\"\",VLOOKUP(CONCATENATE($B$30,\"_\",C45),選手名簿!$A:$E,5,FALSE))","v":""},null,null,null,null,null,null,null,{"$f":"IF(ISERROR(VLOOKUP(CONCATENATE($J$30,\"_\",I45),選手名簿!$A:$E,5,FALSE))=TRUE,\"\",VLOOKUP(CONCATENATE($J$30,\"_\",I45),選手名簿!$A:$E,5,FALSE))","v":""},null,null,null,{"$f":"IF(ISERROR(VLOOKUP(CONCATENATE($N$30,\"_\",O45),選手名簿!$A:$E,5,FALSE))=TRUE,\"\",VLOOKUP(CONCATENATE($N$30,\"_\",O45),選手名簿!$A:$E,5,FALSE))","v":""},null,null,null,null,null,null,null,{"$f":"IF(ISERROR(VLOOKUP(CONCATENATE($V$30,\"_\",U45),選手名簿!$A:$E,5,FALSE))=TRUE,\"\",VLOOKUP(CONCATENATE($V$30,\"_\",U45),選手名簿!$A:$E,5,FALSE))","v":""}]
[]
[]
["⑤\n14:00～",{"$f":"C9","v":"ＦＣ　ＪＵＮＩＯＲＳ"},{"$f":"IF(E48=\"\",\"\",SUM(E48:E49))","v":0},"（",0,"前半",0,"）",{"$f":"IF(G48=\"\",\"\",SUM(G48:G49))","v":1},{"$f":"C7","v":"ＦＣ大野"},null,null,"⑥\n15:00～",{"$f":"O9","v":"鶴見少年サッカークラブ"},{"$f":"IF(Q48=\"\",\"\",SUM(Q48:Q49))","v":0},"（",0,"前半",0,"）",{"$f":"IF(S48=\"\",\"\",SUM(S48:S49))","v":1},{"$f":"O7","v":"四日市南ＳＳＣ"},null,null,{"$f":"$Y$1","v":"OFA 第 53 回大分県U-12サッカー大会　兼　KYFA 九州U-12サッカー大会大分県大会"},null,null,null,null,null,null,null,null,null,null,null,null,null,null,null,null,null,null,null,null,null,null,null,null,null,null,null,null,null,null,null,null,null,null,null,{"$f":"$BI$1","v":"１次リーグ結果　報告用紙"}]
[null,null,null,null,0,"後半",1,null,null,null,null,null,null,null,null,null,0,"後半",1]
[null,null,null,null,null,"PK",null,null,null,null,null,null,null,null,null,null,null,"PK",null,null,null,null,null,null,"＜時間割＞　①10:00～　②11:00～　③12:00～　④13:00～　⑤14:00～　⑥15:00～"]
["MC","岡部　司",null,null,null,null,"所属協会",null,null,"豊肥地区サッカー協会",null,null,"MC","仲野　昭博",null,null,null,null,"所属協会",null,null,"豊肥地区サッカー協会"]
["WelfareOfficer","岡部　司",null,null,null,null,"所属協会",null,null,"豊肥地区サッカー協会",null,null,"WelfareOfficer","仲野　昭博",null,null,null,null,"所属協会",null,null,"豊肥地区サッカー協会"]
["記録","後藤　真一",null,null,null,null,"所属協会",null,null,"豊肥地区サッカー協会",null,null,"記録","羽田野　亘",null,null,null,null,"所属協会",null,null,"豊肥地区サッカー協会"]
["R:",{"$f":"IF(ISERROR(VLOOKUP(G54,審判員!$A:$C,2,FALSE))=TRUE,\"\",VLOOKUP(G54,審判員!$A:$C,2,FALSE))","v":"菊地　謙一"},{"$f":"IF(ISERROR(VLOOKUP(G54,審判員!$A:$C,3,FALSE))=TRUE,\"\",VLOOKUP(G54,審判員!$A:$C,3,FALSE))","v":3},"級","資格番号",null,"R003256053",null,null,"本部",null,null,"R:",{"$f":"IF(ISERROR(VLOOKUP(S54,審判員!$A:$C,2,FALSE))=TRUE,\"\",VLOOKUP(S54,審判員!$A:$C,2,FALSE))","v":"寺次　良生"},{"$f":"IF(ISERROR(VLOOKUP(S54,審判員!$A:$C,3,FALSE))=TRUE,\"\",VLOOKUP(S54,審判員!$A:$C,3,FALSE))","v":3},"級","資格番号",null,"R010120117",null,null,"本部",null,null,"会場",null,null,{"$f":"$N$4","v":"豊肥"},null,null,null,null,null,"⇒",{"$f":"$P$4","v":"サン・スポーツランドみえ"}]
["AR1:",{"$f":"IF(ISERROR(VLOOKUP(G55,審判員!$A:$C,2,FALSE))=TRUE,\"\",VLOOKUP(G55,審判員!$A:$C,2,FALSE))","v":"平川　諒"},{"$f":"IF(ISERROR(VLOOKUP(G55,審判員!$A:$C,3,FALSE))=TRUE,\"\",VLOOKUP(G55,審判員!$A:$C,3,FALSE))","v":3},"級","資格番号",null,"R010538358",null,null,{"$f":"N48","v":"鶴見少年サッカークラブ"},null,null,"AR1:",{"$f":"IF(ISERROR(VLOOKUP(S55,審判員!$A:$C,2,FALSE))=TRUE,\"\",VLOOKUP(S55,審判員!$A:$C,2,FALSE))","v":"山下　泰明"},{"$f":"IF(ISERROR(VLOOKUP(S55,審判員!$A:$C,3,FALSE))=TRUE,\"\",VLOOKUP(S55,審判員!$A:$C,3,FALSE))","v":3},"級","資格番号",null,"R010189260",null,null,{"$f":"B48","v":"ＦＣ　ＪＵＮＩＯＲＳ"}]
["AR2:",{"$f":"IF(ISERROR(VLOOKUP(G56,審判員!$A:$C,2,FALSE))=TRUE,\"\",VLOOKUP(G56,審判員!$A:$C,2,FALSE))","v":"山田　将来"},{"$f":"IF(ISERROR(VLOOKUP(G56,審判員!$A:$C,3,FALSE))=TRUE,\"\",VLOOKUP(G56,審判員!$A:$C,3,FALSE))","v":3},"級","資格番号",null,"R010396589",null,null,{"$f":"V48","v":"四日市南ＳＳＣ"},null,null,"AR2:",{"$f":"IF(ISERROR(VLOOKUP(S56,審判員!$A:$C,2,FALSE))=TRUE,\"\",VLOOKUP(S56,審判員!$A:$C,2,FALSE))","v":"佐藤　昭生"},{"$f":"IF(ISERROR(VLOOKUP(S56,審判員!$A:$C,3,FALSE))=TRUE,\"\",VLOOKUP(S56,審判員!$A:$C,3,FALSE))","v":3},"級","資格番号",null,"R001263448",null,null,{"$f":"J48","v":"ＦＣ大野"}]
["4th:",{"$f":"IF(ISERROR(VLOOKUP(G57,審判員!$A:$C,2,FALSE))=TRUE,\"\",VLOOKUP(G57,審判員!$A:$C,2,FALSE))","v":"矢野　三千生"},{"$f":"IF(ISERROR(VLOOKUP(G57,審判員!$A:$C,3,FALSE))=TRUE,\"\",VLOOKUP(G57,審判員!$A:$C,3,FALSE))","v":3},"級","資格番号",null,"R003972443",null,null,"本部",null,null,"4th:",{"$f":"IF(ISERROR(VLOOKUP(S57,審判員!$A:$C,2,FALSE))=TRUE,\"\",VLOOKUP(S57,審判員!$A:$C,2,FALSE))","v":"宮成　亨治"},{"$f":"IF(ISERROR(VLOOKUP(S57,審判員!$A:$C,3,FALSE))=TRUE,\"\",VLOOKUP(S57,審判員!$A:$C,3,FALSE))","v":4},"級","資格番号",null,"R010538357",null,null,"本部"]
["警告/退場","氏名","背番号","分","内容",null,"内容","分","背番号","氏名","警告/退場",null,"警告/退場","氏名","背番号","分","内容",null,"内容","分","背番号","氏名","警告/退場",null,"パート",null,null,{"$f":"$N$6","v":"G"}]
["警告",{"$f":"IF(ISERROR(VLOOKUP(CONCATENATE($B$48,\"_\",C59),選手名簿!$A:$E,5,FALSE))=TRUE,\"\",VLOOKUP(CONCATENATE($B$48,\"_\",C59),選手名簿!$A:$E,5,FALSE))","v":"尾造　刻土"},17,28,"反スポ",null,null,null,null,{"$f":"IF(ISERROR(VLOOKUP(CONCATENATE($J$48,\"_\",I59),選手名簿!$A:$E,5,FALSE))=TRUE,\"\",VLOOKUP(CONCATENATE($J$48,\"_\",I59),選手名簿!$A:$E,5,FALSE))","v":""},null,null,null,{"$f":"IF(ISERROR(VLOOKUP(CONCATENATE($N$48,\"_\",O59),選手名簿!$A:$E,5,FALSE))=TRUE,\"\",VLOOKUP(CONCATENATE($N$48,\"_\",O59),選手名簿!$A:$E,5,FALSE))","v":""},null,null,null,null,"反スポ",15,1,{"$f":"IF(ISERROR(VLOOKUP(CONCATENATE($V$48,\"_\",U59),選手名簿!$A:$E,5,FALSE))=TRUE,\"\",VLOOKUP(CONCATENATE($V$48,\"_\",U59),選手名簿!$A:$E,5,FALSE))","v":"千々松　夏生"},"警告"]
[null,{"$f":"IF(ISERROR(VLOOKUP(CONCATENATE($B$48,\"_\",C60),選手名簿!$A:$E,5,FALSE))=TRUE,\"\",VLOOKUP(CONCATENATE($B$48,\"_\",C60),選手名簿!$A:$E,5,FALSE))","v":""},null,null,null,null,null,null,null,{"$f":"IF(ISERROR(VLOOKUP(CONCATENATE($J$48,\"_\",I60),選手名簿!$A:$E,5,FALSE))=TRUE,\"\",VLOOKUP(CONCATENATE($J$48,\"_\",I60),選手名簿!$A:$E,5,FALSE))","v":""},null,null,null,{"$f":"IF(ISERROR(VLOOKUP(CONCATENATE($N$48,\"_\",O60),選手名簿!$A:$E,5,FALSE))=TRUE,\"\",VLOOKUP(CONCATENATE($N$48,\"_\",O60),選手名簿!$A:$E,5,FALSE))","v":""},null,null,null,null,null,null,null,{"$f":"IF(ISERROR(VLOOKUP(CONCATENATE($V$48,\"_\",U60),選手名簿!$A:$E,5,FALSE))=TRUE,\"\",VLOOKUP(CONCATENATE($V$48,\"_\",U60),選手名簿!$A:$E,5,FALSE))","v":""},null,null,null,{"$f":"$N$7","v":"G1"},null,null,{"$f":"$O$7","v":"四日市南ＳＳＣ"},null,null,null,null,null,null,null,null,null,null,null,null,{"$f":"$V$7","v":"宇佐高田"}]
[null,{"$f":"IF(ISERROR(VLOOKUP(CONCATENATE($B$48,\"_\",C61),選手名簿!$A:$E,5,FALSE))=TRUE,\"\",VLOOKUP(CONCATENATE($B$48,\"_\",C61),選手名簿!$A:$E,5,FALSE))","v":""},null,null,null,null,null,null,null,{"$f":"IF(ISERROR(VLOOKUP(CONCATENATE($J$48,\"_\",I61),選手名簿!$A:$E,5,FALSE))=TRUE,\"\",VLOOKUP(CONCATENATE($J$48,\"_\",I61),選手名簿!$A:$E,5,FALSE))","v":""},null,null,null,{"$f":"IF(ISERROR(VLOOKUP(CONCATENATE($N$48,\"_\",O61),選手名簿!$A:$E,5,FALSE))=TRUE,\"\",VLOOKUP(CONCATENATE($N$48,\"_\",O61),選手名簿!$A:$E,5,FALSE))","v":""},null,null,null,null,null,null,null,{"$f":"IF(ISERROR(VLOOKUP(CONCATENATE($V$48,\"_\",U61),選手名簿!$A:$E,5,FALSE))=TRUE,\"\",VLOOKUP(CONCATENATE($V$48,\"_\",U61),選手名簿!$A:$E,5,FALSE))","v":""}]
[null,{"$f":"IF(ISERROR(VLOOKUP(CONCATENATE($B$48,\"_\",C62),選手名簿!$A:$E,5,FALSE))=TRUE,\"\",VLOOKUP(CONCATENATE($B$48,\"_\",C62),選手名簿!$A:$E,5,FALSE))","v":""},null,null,null,null,null,null,null,{"$f":"IF(ISERROR(VLOOKUP(CONCATENATE($J$48,\"_\",I62),選手名簿!$A:$E,5,FALSE))=TRUE,\"\",VLOOKUP(CONCATENATE($J$48,\"_\",I62),選手名簿!$A:$E,5,FALSE))","v":""},null,null,null,{"$f":"IF(ISERROR(VLOOKUP(CONCATENATE($N$48,\"_\",O62),選手名簿!$A:$E,5,FALSE))=TRUE,\"\",VLOOKUP(CONCATENATE($N$48,\"_\",O62),選手名簿!$A:$E,5,FALSE))","v":""},null,null,null,null,null,null,null,{"$f":"IF(ISERROR(VLOOKUP(CONCATENATE($V$48,\"_\",U62),選手名簿!$A:$E,5,FALSE))=TRUE,\"\",VLOOKUP(CONCATENATE($V$48,\"_\",U62),選手名簿!$A:$E,5,FALSE))","v":""},null,null,null,{"$f":"$N$8","v":"G2"},null,null,{"$f":"$O$8","v":"大分トリニータＵ－１２"},null,null,null,null,null,null,null,null,null,null,null,null,{"$f":"$V$8","v":"大分"}]
[null,{"$f":"IF(ISERROR(VLOOKUP(CONCATENATE($B$48,\"_\",C63),選手名簿!$A:$E,5,FALSE))=TRUE,\"\",VLOOKUP(CONCATENATE($B$48,\"_\",C63),選手名簿!$A:$E,5,FALSE))","v":""},null,null,null,null,null,null,null,{"$f":"IF(ISERROR(VLOOKUP(CONCATENATE($J$48,\"_\",I63),選手名簿!$A:$E,5,FALSE))=TRUE,\"\",VLOOKUP(CONCATENATE($J$48,\"_\",I63),選手名簿!$A:$E,5,FALSE))","v":""},null,null,null,{"$f":"IF(ISERROR(VLOOKUP(CONCATENATE($N$48,\"_\",O63),選手名簿!$A:$E,5,FALSE))=TRUE,\"\",VLOOKUP(CONCATENATE($N$48,\"_\",O63),選手名簿!$A:$E,5,FALSE))","v":""},null,null,null,null,null,null,null,{"$f":"IF(ISERROR(VLOOKUP(CONCATENATE($V$48,\"_\",U63),選手名簿!$A:$E,5,FALSE))=TRUE,\"\",VLOOKUP(CONCATENATE($V$48,\"_\",U63),選手名簿!$A:$E,5,FALSE))","v":""}]
[null,null,null,null,null,null,null,null,null,null,null,null,null,null,null,null,null,null,null,null,null,null,null,null,null,{"$f":"$N$9","v":"G3"},null,null,{"$f":"$O$9","v":"鶴見少年サッカークラブ"},null,null,null,null,null,null,null,null,null,null,null,null,{"$f":"$V$9","v":"佐伯"}]
[]
[]
[]
[]
[]
[]
[]
[null,null,null,null,null,null,null,null,null,null,null,null,null,null,null,null,null,null,null,null,null,null,null,null,{"$f":"$Y$6","v":"パート"},null,null,null,{"$f":"$AB$58","v":"G"},null,null,{"$f":"$Y$78","v":"四日市南ＳＳＣ"},null,null,null,null,{"$f":"$Y$84","v":"大分トリニータＵ－１２"},null,null,null,null,{"$f":"$Y$90","v":"鶴見少年サッカークラブ"},null,null,null,null,"勝",null,"PK\n勝",null,"PK\n負",null,"負",null,"得点",null,"失点",null,"勝点",null,"勝点\n順位",null,"得失\n点差",null,"得失\n順位",null,"総\n順位"]
[]
[]
[]
[]
[]
[null,null,null,null,null,null,null,null,null,null,null,null,null,null,null,null,null,null,null,null,null,null,null,null,{"$f":"$AC$60","v":"四日市南ＳＳＣ"},null,null,null,null,"星取表",null,null,null,null,null,null,{"$f":"IF(AK82=\"\",\"\",IF(AK82>AN82,\"○\",IF(AK82<AN82,\"●\",IF(AK80>AN80,\"△\",IF(AK80<AN80,\"▲\")))))","v":"●"},null,null,null,null,{"$f":"IF(AP82=\"\",\"\",IF(AP82>AS82,\"○\",IF(AP82<AS82,\"●\",IF(AP80>AS80,\"△\",IF(AP80<AS80,\"▲\")))))","v":"○"},null,null,null,null,{"$f":"COUNTIF($AF$78:$AT$79,\"○\")","v":1},null,{"$f":"COUNTIF($AF$78:$AT$79,\"△\")","v":0},null,{"$f":"COUNTIF($AF$78:$AT$79,\"▲\")","v":0},null,{"$f":"COUNTIF($AF$78:$AT$79,\"●\")","v":1},null,{"$f":"SUM($AK$82,$AP$82)","v":2},null,{"$f":"SUM($AN$82,$AS$82)","v":7},null,{"$f":"($AU$78*3)+($AW$78*2)+($AY$78*1)","v":3},null,{"$f":"RANK($BG$78,$BG$78:$BH$95)","v":2},null,{"$f":"$BC$78-$BE$78","v":-5},null,{"$f":"RANK($BK$78,$BK$78:$BL$95)","v":2}]
[]
[null,null,null,null,null,null,null,null,null,null,null,null,null,null,null,null,null,null,null,null,null,null,null,null,null,null,null,null,null,null,null,null,null,null,null,null,{"$f":"IF($Q$14=\"\",\"\",$Q$14)","v":""},null,"―",{"$f":"IF($S$14=\"\",\"\",$S$14)","v":""},null,{"$f":"IF($S$50=\"\",\"\",$S$50)","v":""},null,"―",{"$f":"IF($Q$50=\"\",\"\",$Q$50)","v":""}]
[null,null,null,null,null,null,null,null,null,null,null,null,null,null,null,null,null,null,null,null,null,null,null,null,null,null,null,null,null,"得失点"]
[null,null,null,null,null,null,null,null,null,null,null,null,null,null,null,null,null,null,null,null,null,null,null,null,null,null,null,null,null,null,null,null,null,null,null,null,{"$f":"$O$12","v":1},null,"―",{"$f":"$U$12","v":7},null,{"$f":"$U$48","v":1},null,"―",{"$f":"$O$48","v":0}]
[]
[null,null,null,null,null,null,null,null,null,null,null,null,null,null,null,null,null,null,null,null,null,null,null,null,{"$f":"$AC$62","v":"大分トリニータＵ－１２"},null,null,null,null,"星取表",null,{"$f":"IF(AF88=\"\",\"\",IF(AF88>AI88,\"○\",IF(AF88<AI88,\"●\",IF(AF86>AI86,\"△\",IF(AF86<AI86,\"▲\")))))","v":"○"},null,null,null,null,null,null,null,null,null,{"$f":"IF(AP88=\"\",\"\",IF(AP88>AS88,\"○\",IF(AP88<AS88,\"●\",IF(AP86>AS86,\"△\",IF(AP86<AS86,\"▲\")))))","v":"○"},null,null,null,null,{"$f":"COUNTIF($AF$84:$AT$85,\"○\")","v":2},null,{"$f":"COUNTIF($AF$84:$AT$85,\"△\")","v":0},null,{"$f":"COUNTIF($AF$84:$AT$85,\"▲\")","v":0},null,{"$f":"COUNTIF($AF$84:$AT$85,\"●\")","v":0},null,{"$f":"SUM($AF$88,$AP$88)","v":14},null,{"$f":"SUM($AI$88,$AS$88)","v":2},null,{"$f":"($AU$84*3)+($AW$84*2)+($AY$84*1)","v":6},null,{"$f":"RANK($BG$84,$BG$78:$BH$95)","v":1},null,{"$f":"$BC$84-$BE$84","v":12},null,{"$f":"RANK($BK$84,$BK$78:$BL$95)","v":1}]
[]
[null,null,null,null,null,null,null,null,null,null,null,null,null,null,null,null,null,null,null,null,null,null,null,null,null,null,null,null,null,null,null,{"$f":"AN80","v":""},null,"―",{"$f":"AK80","v":""},null,null,null,null,null,null,{"$f":"IF($Q$32=\"\",\"\",$Q$32)","v":""},null,"―",{"$f":"IF($S$32=\"\",\"\",$S$32)","v":""}]
[null,null,null,null,null,null,null,null,null,null,null,null,null,null,null,null,null,null,null,null,null,null,null,null,null,null,null,null,null,"得失点"]
[null,null,null,null,null,null,null,null,null,null,null,null,null,null,null,null,null,null,null,null,null,null,null,null,null,null,null,null,null,null,null,{"$f":"AN82","v":7},null,"―",{"$f":"AK82","v":1},null,null,null,null,null,null,{"$f":"$O$30","v":7},null,"―",{"$f":"$U$30","v":1}]
[]
[null,null,null,null,null,null,null,null,null,null,null,null,null,null,null,null,null,null,null,null,null,null,null,null,{"$f":"$AC$64","v":"鶴見少年サッカークラブ"},null,null,null,null,"星取表",null,{"$f":"IF(AF94=\"\",\"\",IF(AF94>AI94,\"○\",IF(AF94<AI94,\"●\",IF(AF92>AI92,\"△\",IF(AF92<AI92,\"▲\")))))","v":"●"},null,null,null,null,{"$f":"IF(AK94=\"\",\"\",IF(AK94>AN94,\"○\",IF(AK94<AN94,\"●\",IF(AK92>AN92,\"△\",IF(AK92<AN92,\"▲\")))))","v":"●"},null,null,null,null,null,null,null,null,null,{"$f":"COUNTIF($AF$90:$AT$91,\"○\")","v":0},null,{"$f":"COUNTIF($AF$90:$AT$91,\"△\")","v":0},null,{"$f":"COUNTIF($AF$90:$AT$91,\"▲\")","v":0},null,{"$f":"COUNTIF($AF$90:$AT$91,\"●\")","v":2},null,{"$f":"SUM($AF$94,$AK$94)","v":1},null,{"$f":"SUM($AI$94,$AN$94)","v":8},null,{"$f":"($AU$90*3)+($AW$90*2)+($AY$90*1)","v":0},null,{"$f":"RANK($BG$90,$BG$78:$BH$95)","v":3},null,{"$f":"$BC$90-$BE$90","v":-7},null,{"$f":"RANK($BK$90,$BK$78:$BL$95)","v":3}]
[]
[null,null,null,null,null,null,null,null,null,null,null,null,null,null,null,null,null,null,null,null,null,null,null,null,null,null,null,null,null,null,null,{"$f":"AS80","v":""},null,"―",{"$f":"AP80","v":""},null,{"$f":"AS86","v":""},null,"―",{"$f":"AP86","v":""}]
[null,null,null,null,null,null,null,null,null,null,null,null,null,null,null,null,null,null,null,null,null,null,null,null,null,null,null,null,null,"得失点"]
[null,null,null,null,null,null,null,null,null,null,null,null,null,null,null,null,null,null,null,null,null,null,null,null,null,null,null,null,null,null,null,{"$f":"AS82","v":0},null,"―",{"$f":"AP82","v":1},null,{"$f":"AS88","v":1},null,"―",{"$f":"AP88","v":7}]
[]
[]
[null,null,null,null,null,null,null,null,null,null,null,null,null,null,null,null,null,null,null,null,null,null,null,null,"Ⅰ勝点（勝３点　ＰＫ勝２点　ＰＫ負１点　負０点）　Ⅱ当該チームの戦績　Ⅲ得失点差　Ⅳ多得点　Ⅴ抽選の順で順位を決定する。"]
[]
[null,null,null,null,null,null,null,null,null,null,null,null,null,null,null,null,null,null,null,null,null,null,null,null,"勝点表",null,"勝","○",null,"PK\n勝","△",null,"PK\n負","▲",null,"負","●"]
[null,null,null,null,null,null,null,null,null,null,null,null,null,null,null,null,null,null,null,null,null,null,null,null,null,null,null,3,null,null,2,null,null,1,null,null,0]

{"sheet":"１次リーグ（津久見・臼杵）","index":20,"n_rows":100,"n_cols":67,"rows_kept":100,"cut":false,"hidden":false,"merged":[[17,16,17,17],[17,18,17,20],[17,21,17,22],[47,12,49,12],[47,14,49,14],[47,19,49,19],[47,20,49,20],[47,21,49,21],[16,1,16,5],[16,6,16,8],[16,9,16,10],[32,1,32,5],[32,6,32,8],[32,9,32,10],[33,1,33,5],[33,6,33,8],[33,9,33,10],[17,4,17,5],[17,6,17,8],[17,9,17,10],[29,9,31,9],[37,9,37,10],[34,1,34,5],[34,6,34,8],[38,4,38,5],[38,6,38,8],[38,9,38,10],[34,18,34,20],[34,21,34,22],[50,1,50,5],[50,6,50,8],[50,9,50,10],[34,9,34,10],[50,13,50,17],[50,18,50,20],[50,21,50,22],[37,4,37,5],[37,6,37,8],[34,13,34,17],[38,16,38,17],[38,18,38,20],[38,21,38,22],[89,64,94,65],[89,66,94,66],[91,31,92,32],[91,33,92,33],[91,34,92,35],[91,36,92,37],[91,38,92,38],[91,39,92,40],[49,24,50,58],[59,41,60,44],[61,25,62,27],[61,28,62,40],[87,33,88,33],[87,34,88,35],[87,41,88,42],[87,43,88,43],[87,44,88,45],[85,31,86,32],[77,24,82,28],[77,29,79,30],[77,31,82,35],[77,46,82,47],[77,48,82,49],[71,52,76,53],[14,36,19,40],[14,41,19,45],[57,24,58,26],[57,27,58,32],[61,41,62,44],[63,25,64,27],[30,44,31,45],[14,24,19,27],[14,28,19,30],[14,31,19,35],[20,24,25,28],[20,29,22,30],[20,31,25,35],[23,29,25,30],[29,29,31,30],[26,24,31,28],[26,29,28,30],[26,36,31,40],[41,29,42,29],[47,24,48,58],[32,58,37,59],[32,56,37,57],[53,33,54,33],[53,34,54,48],[14,66,19,66],[20,36,21,40],[20,41,21,45],[20,64,25,65],[20,66,25,66],[22,36,23,37],[22,38,23,38],[22,39,23,40],[14,64,19,65],[14,48,19,49],[20,56,25,57],[20,58,25,59],[20,60,25,61],[20,62,25,63],[20,46,25,47],[22,43,23,43],[22,44,23,45],[24,36,25,37],[24,38,25,38],[24,41,25,42],[24,43,25,43],[22,41,23,42],[24,39,25,40],[24,44,25,45],[26,64,31,65],[32,64,37,65],[14,50,19,51],[14,52,19,53],[26,66,31,66],[28,31,29,32],[28,33,29,33],[28,34,29,35],[28,41,29,42],[28,43,29,43],[26,60,31,61],[28,44,29,45],[30,31,31,32],[30,33,31,33],[26,31,27,35],[26,52,31,53],[26,62,31,63],[26,56,31,57],[26,58,31,59],[30,34,31,35],[26,41,27,45],[26,46,31,47],[30,41,31,42],[30,43,31,43],[5,24,5,26],[6,41,6,44],[5,27,5,32],[0,0,0,8],[0,12,0,20],[0,24,0,58],[32,66,37,66],[26,48,31,49],[26,50,31,51],[7,2,7,8],[32,46,37,47],[32,50,37,51],[32,52,37,53],[26,54,31,55],[14,58,19,59],[14,60,19,61],[14,62,19,63],[20,48,25,49],[20,50,25,51],[20,52,25,53],[20,54,25,55],[14,46,19,47],[14,54,19,55],[14,56,19,57],[0,60,0,66],[1,0,1,10],[1,12,1,22],[1,24,1,58],[0,9,0,10],[0,21,0,22],[3,3,3,10],[3,15,3,22],[3,24,3,26],[3,27,3,32],[3,34,3,48],[83,64,88,65],[83,66,88,66],[83,48,88,49],[71,62,76,63],[81,38,82,38],[81,39,82,40],[81,41,82,42],[81,43,82,43],[77,60,82,61],[71,64,76,65],[71,66,76,66],[77,36,78,40],[77,41,78,45],[77,64,82,65],[77,66,82,66],[79,36,80,37],[79,38,80,38],[81,36,82,37],[79,39,80,40],[79,41,80,42],[79,43,80,43],[79,44,80,45],[81,44,82,45],[77,56,82,57],[7,9,7,10],[7,14,7,20],[7,21,7,22],[7,25,7,27],[7,28,7,40],[7,41,7,44],[6,2,6,8],[6,9,6,10],[6,14,6,20],[6,21,6,22],[6,25,6,27],[6,28,6,40],[8,2,8,8],[8,9,8,10],[8,14,8,20],[8,21,8,22],[8,25,8,27],[8,28,8,40],[8,41,8,44],[11,0,13,0],[11,1,13,1],[11,2,13,2],[11,3,13,3],[11,7,13,7],[11,8,13,8],[11,9,13,9],[11,12,13,12],[11,13,13,13],[11,14,13,14],[11,15,13,15],[11,19,13,19],[11,20,13,20],[11,21,13,21],[14,13,14,17],[14,18,14,20],[14,21,14,22],[15,13,15,17],[15,18,15,20],[15,21,15,22],[16,13,16,17],[16,18,16,20],[16,21,16,22],[14,1,14,5],[14,6,14,8],[14,9,14,10],[15,1,15,5],[15,6,15,8],[15,9,15,10],[20,21,20,22],[18,4,18,5],[18,6,18,8],[18,9,18,10],[18,16,18,17],[18,18,18,20],[18,21,18,22],[19,4,19,5],[19,6,19,8],[19,9,19,10],[19,16,19,17],[19,18,19,20],[19,21,19,22],[20,4,20,5],[20,6,20,8],[20,9,20,10],[20,16,20,17],[20,18,20,20],[32,62,37,63],[35,29,37,30],[32,48,37,49],[47,60,48,66],[32,24,37,28],[32,29,34,30],[39,24,40,57],[41,24,42,25],[41,26,42,26],[41,35,42,35],[36,33,37,33],[36,34,37,35],[36,36,37,37],[34,31,35,32],[34,33,35,33],[34,34,35,35],[34,36,35,37],[34,38,35,38],[34,39,35,40],[32,41,37,45],[32,60,37,61],[29,21,31,21],[36,39,37,40],[32,54,37,55],[32,13,32,17],[32,18,32,20],[32,21,32,22],[33,13,33,17],[33,18,33,20],[33,21,33,22],[32,31,33,35],[37,16,37,17],[37,18,37,20],[37,21,37,22],[32,36,33,40],[36,31,37,32],[36,38,37,38],[63,41,64,44],[71,41,76,45],[71,46,76,47],[71,48,76,49],[71,24,76,27],[71,28,76,30],[71,31,76,35],[71,36,76,40],[51,13,51,17],[51,18,51,20],[51,21,51,22],[52,13,52,17],[52,18,52,20],[52,21,52,22],[54,18,54,20],[54,21,54,22],[59,25,60,27],[59,28,60,40],[55,21,55,22],[63,28,64,40],[56,21,56,22],[47,0,49,0],[47,1,49,1],[47,2,49,2],[47,3,49,3],[47,7,49,7],[47,8,49,8],[55,4,55,5],[55,6,55,8],[55,9,55,10],[51,1,51,5],[51,6,51,8],[51,9,51,10],[52,1,52,5],[52,6,52,8],[52,9,52,10],[56,4,56,5],[56,6,56,8],[56,9,56,10],[54,4,54,5],[54,6,54,8],[53,4,53,5],[53,6,53,8],[55,16,55,17],[55,18,55,20],[54,16,54,17],[56,16,56,17],[56,18,56,20],[53,16,53,17],[29,0,31,0],[29,1,31,1],[29,2,31,2],[29,3,31,3],[29,7,31,7],[29,8,31,8],[36,4,36,5],[36,6,36,8],[35,4,35,5],[35,6,35,8],[29,12,31,12],[29,13,31,13],[29,14,31,14],[29,15,31,15],[29,19,31,19],[29,20,31,20],[47,9,49,9],[53,24,54,26],[53,27,54,32],[54,9,54,10],[36,16,36,17],[36,18,36,20],[36,21,36,22],[53,18,53,20],[53,21,53,22],[41,32,42,32],[47,13,49,13],[47,15,49,15],[36,9,36,10],[35,9,35,10],[53,9,53,10],[35,16,35,17],[35,18,35,20],[35,21,35,22],[71,54,76,55],[71,60,76,61],[71,58,76,59],[77,62,82,63],[80,29,82,30],[89,62,94,63],[89,48,94,49],[83,31,84,35],[83,41,84,45],[83,52,88,53],[83,54,88,55],[85,44,86,45],[77,54,82,55],[83,60,88,61],[83,62,88,63],[86,29,88,30],[77,58,82,59],[71,50,76,51],[77,50,82,51],[77,52,82,53],[85,33,86,33],[71,56,76,57],[89,60,94,61],[89,50,94,51],[83,29,85,30],[83,36,88,40],[85,34,86,35],[85,41,86,42],[85,43,86,43],[83,46,88,47],[83,56,88,57],[89,52,94,53],[93,31,94,32],[93,33,94,33],[83,58,88,59],[83,50,88,51],[96,24,97,57],[98,24,99,25],[98,26,99,26],[98,29,99,29],[98,32,99,32],[89,24,94,28],[89,29,91,30],[89,31,90,35],[93,34,94,35],[92,29,94,30],[87,31,88,32],[98,35,99,35],[89,54,94,55],[89,56,94,57],[93,36,94,37],[93,38,94,38],[93,39,94,40],[89,58,94,59],[89,41,94,45],[89,46,94,47],[89,36,90,40],[83,24,88,28]]}
[{"$f":"抽選会資料!B1","v":"OFA 第 53 回大分県U-12サッカー大会　兼　KYFA 九州U-12サッカー大会大分県大会"},null,null,null,null,null,null,null,null,"１次リーグ結果　報告用紙",null,null,{"$f":"抽選会資料!B1","v":"OFA 第 53 回大分県U-12サッカー大会　兼　KYFA 九州U-12サッカー大会大分県大会"},null,null,null,null,null,null,null,null,"１次リーグ結果　報告用紙",null,null,{"$f":"$A$1","v":"OFA 第 53 回大分県U-12サッカー大会　兼　KYFA 九州U-12サッカー大会大分県大会"},null,null,null,null,null,null,null,null,null,null,null,null,null,null,null,null,null,null,null,null,null,null,null,null,null,null,null,null,null,null,null,null,null,null,null,{"$f":"$J$1","v":"１次リーグ結果　報告用紙"}]
["＜時間割＞　①10:00～　②11:00～　③12:00～　④13:00～　⑤14:00～　⑥15:00～",null,null,null,null,null,null,null,null,null,null,null,"＜時間割＞　①10:00～　②11:00～　③12:00～　④13:00～　⑤14:00～　⑥15:00～",null,null,null,null,null,null,null,null,null,null,null,"＜時間割＞　①10:00～　②11:00～　③12:00～　④13:00～　⑤14:00～　⑥15:00～"]
[]
["会場",{"$f":"組み合わせ!DH7","v":"津久見・臼杵"},"⇒",{"$f":"VLOOKUP(B4,抽選会資料!$B$52:$F$60,2,FALSE)","v":"吉四六ランド陸上競技場"},null,null,null,null,null,null,null,null,"会場",{"$f":"組み合わせ!DH7","v":"津久見・臼杵"},"⇒",{"$f":"VLOOKUP(N4,抽選会資料!$B$52:$F$60,2,FALSE)","v":"吉四六ランド陸上競技場"},null,null,null,null,null,null,null,null,"会場",null,null,{"$f":"$B$4","v":"津久見・臼杵"},null,null,null,null,null,"⇒",{"$f":"$D$4","v":"吉四六ランド陸上競技場"}]
[]
["パート",{"$f":"VLOOKUP(B4,組み合わせ!$AL$95:$BU$112,13,FALSE)","v":"J"},null,null,null,null,null,null,null,null,null,null,"パート",{"$f":"VLOOKUP(N4,組み合わせ!$AL$95:$BU$112,25,FALSE)","v":"F"},null,null,null,null,null,null,null,null,null,null,"パート",null,null,{"$f":"$B$6","v":"J"}]
[null,{"$f":"CONCATENATE($B$6,1)","v":"J1"},{"$f":"HLOOKUP(B7,組み合わせ!$B$48:$EO$86,2,FALSE)","v":"千怒サッカースポーツ少年団"},null,null,null,null,null,null,{"$f":"HLOOKUP(B7,組み合わせ!$B$48:$EO$86,32,FALSE)","v":"臼杵・津久見"},null,null,null,{"$f":"CONCATENATE($N$6,1)","v":"F1"},{"$f":"HLOOKUP(N7,組み合わせ!$B$48:$EO$86,2,FALSE)","v":"ＦＣ　ＵＮＩＴＥ"},null,null,null,null,null,null,{"$f":"HLOOKUP(N7,組み合わせ!$B$48:$EO$86,32,FALSE)","v":"宇佐高田"},null,null,null,{"$f":"+B7","v":"J1"},null,null,{"$f":"$C$7","v":"千怒サッカースポーツ少年団"},null,null,null,null,null,null,null,null,null,null,null,null,{"$f":"$J$7","v":"臼杵・津久見"}]
[null,{"$f":"CONCATENATE($B$6,2)","v":"J2"},{"$f":"HLOOKUP(B8,組み合わせ!$B$48:$EO$86,2,FALSE)","v":"宗方サッカークラブ"},null,null,null,null,null,null,{"$f":"HLOOKUP(B8,組み合わせ!$B$48:$EO$86,32,FALSE)","v":"大分"},null,null,null,{"$f":"CONCATENATE($N$6,2)","v":"F2"},{"$f":"HLOOKUP(N8,組み合わせ!$B$48:$EO$86,2,FALSE)","v":"明野東サッカースポーツ少年団"},null,null,null,null,null,null,{"$f":"HLOOKUP(N8,組み合わせ!$B$48:$EO$86,32,FALSE)","v":"大分"},null,null,null,{"$f":"+B8","v":"J2"},null,null,{"$f":"$C$8","v":"宗方サッカークラブ"},null,null,null,null,null,null,null,null,null,null,null,null,{"$f":"$J$8","v":"大分"}]
[null,{"$f":"CONCATENATE($B$6,3)","v":"J3"},{"$f":"HLOOKUP(B9,組み合わせ!$B$48:$EO$86,2,FALSE)","v":"鶴居ＳＳＳ"},null,null,null,null,null,null,{"$f":"HLOOKUP(B9,組み合わせ!$B$48:$EO$86,32,FALSE)","v":"中津"},null,null,null,{"$f":"CONCATENATE($N$6,3)","v":"F3"},{"$f":"HLOOKUP(N9,組み合わせ!$B$48:$EO$86,2,FALSE)","v":"豊府サッカースポーツ少年団"},null,null,null,null,null,null,{"$f":"HLOOKUP(N9,組み合わせ!$B$48:$EO$86,32,FALSE)","v":"大分"},null,null,null,{"$f":"+B9","v":"J3"},null,null,{"$f":"$C$9","v":"鶴居ＳＳＳ"},null,null,null,null,null,null,null,null,null,null,null,null,{"$f":"$J$9","v":"中津"}]
["8：50～ＭＣＭ",null,null,null,null,null,null,null,null,null,null,null,"9：50～ＭＣＭ"]
[]
["①\n10:00～",{"$f":"C7","v":"千怒サッカースポーツ少年団"},{"$f":"IF(E12=\"\",\"\",SUM(E12:E13))","v":0},"（",0,"前半",3,"）",{"$f":"IF(G12=\"\",\"\",SUM(G12:G13))","v":6},{"$f":"C8","v":"宗方サッカークラブ"},null,null,"②\n11:00～",{"$f":"O7","v":"ＦＣ　ＵＮＩＴＥ"},{"$f":"IF(Q12=\"\",\"\",SUM(Q12:Q13))","v":""},"（",null,"前半",null,"）",{"$f":"IF(S12=\"\",\"\",SUM(S12:S13))","v":""},{"$f":"O8","v":"明野東サッカースポーツ少年団"}]
[null,null,null,null,0,"後半",3,null,null,null,null,null,null,null,null,null,null,"後半"]
[null,null,null,null,null,"PK",null,null,null,null,null,null,null,null,null,null,null,"PK"]
["MC","安東　信二",null,null,null,null,"所属協会",null,null,"臼杵市サッカー協会",null,null,"MC",null,null,null,null,null,"所属協会",null,null,null,null,null,{"$f":"$Y$6","v":"パート"},null,null,null,{"$f":"$AB$6","v":"J"},null,null,{"$f":"$Y$21","v":"千怒サッカースポーツ少年団"},null,null,null,null,{"$f":"$Y$27","v":"宗方サッカークラブ"},null,null,null,null,{"$f":"$Y$33","v":"鶴居ＳＳＳ"},null,null,null,null,"勝",null,"PK\n勝",null,"PK\n負",null,"負",null,"得点",null,"失点",null,"勝点",null,"勝点\n順位",null,"得失\n点差",null,"得失\n順位",null,"総\n順位"]
["WelfareOfficer","安東　信二",null,null,null,null,"所属協会",null,null,"臼杵市サッカー協会",null,null,"WelfareOfficer",null,null,null,null,null,"所属協会"]
["記録","岡部　正典",null,null,null,null,"所属協会",null,null,"臼杵市サッカー協会",null,null,"記録",null,null,null,null,null,"所属協会"]
["R:",{"$f":"IF(ISERROR(VLOOKUP(G18,審判員!$A:$C,2,FALSE))=TRUE,\"\",VLOOKUP(G18,審判員!$A:$C,2,FALSE))","v":"安藤　博幸"},{"$f":"IF(ISERROR(VLOOKUP(G18,審判員!$A:$C,3,FALSE))=TRUE,\"\",VLOOKUP(G18,審判員!$A:$C,3,FALSE))","v":2},"級","資格番号",null,"R001253502",null,null,"本部",null,null,"R:",{"$f":"IF(ISERROR(VLOOKUP(S18,審判員!$A:$C,2,FALSE))=TRUE,\"\",VLOOKUP(S18,審判員!$A:$C,2,FALSE))","v":""},{"$f":"IF(ISERROR(VLOOKUP(S18,審判員!$A:$C,3,FALSE))=TRUE,\"\",VLOOKUP(S18,審判員!$A:$C,3,FALSE))","v":""},"級","資格番号",null,null,null,null,"本部"]
["AR1:",{"$f":"IF(ISERROR(VLOOKUP(G19,審判員!$A:$C,2,FALSE))=TRUE,\"\",VLOOKUP(G19,審判員!$A:$C,2,FALSE))","v":"足立　卓也"},{"$f":"IF(ISERROR(VLOOKUP(G19,審判員!$A:$C,3,FALSE))=TRUE,\"\",VLOOKUP(G19,審判員!$A:$C,3,FALSE))","v":3},"級","資格番号",null,"R010069871",null,null,"本部",null,null,"AR1:",{"$f":"IF(ISERROR(VLOOKUP(S19,審判員!$A:$C,2,FALSE))=TRUE,\"\",VLOOKUP(S19,審判員!$A:$C,2,FALSE))","v":""},{"$f":"IF(ISERROR(VLOOKUP(S19,審判員!$A:$C,3,FALSE))=TRUE,\"\",VLOOKUP(S19,審判員!$A:$C,3,FALSE))","v":""},"級","資格番号",null,null,null,null,{"$f":"B12","v":"千怒サッカースポーツ少年団"}]
["AR2:",{"$f":"IF(ISERROR(VLOOKUP(G20,審判員!$A:$C,2,FALSE))=TRUE,\"\",VLOOKUP(G20,審判員!$A:$C,2,FALSE))","v":"小手川　朋輝"},{"$f":"IF(ISERROR(VLOOKUP(G20,審判員!$A:$C,3,FALSE))=TRUE,\"\",VLOOKUP(G20,審判員!$A:$C,3,FALSE))","v":3},"級","資格番号",null,"R005405255",null,null,"本部",null,null,"AR2:",{"$f":"IF(ISERROR(VLOOKUP(S20,審判員!$A:$C,2,FALSE))=TRUE,\"\",VLOOKUP(S20,審判員!$A:$C,2,FALSE))","v":""},{"$f":"IF(ISERROR(VLOOKUP(S20,審判員!$A:$C,3,FALSE))=TRUE,\"\",VLOOKUP(S20,審判員!$A:$C,3,FALSE))","v":""},"級","資格番号",null,null,null,null,{"$f":"J12","v":"宗方サッカークラブ"}]
["4th:",{"$f":"IF(ISERROR(VLOOKUP(G21,審判員!$A:$C,2,FALSE))=TRUE,\"\",VLOOKUP(G21,審判員!$A:$C,2,FALSE))","v":"師藤　一也"},{"$f":"IF(ISERROR(VLOOKUP(G21,審判員!$A:$C,3,FALSE))=TRUE,\"\",VLOOKUP(G21,審判員!$A:$C,3,FALSE))","v":3},"級","資格番号",null,"R001257322",null,null,"本部",null,null,"4th:",{"$f":"IF(ISERROR(VLOOKUP(S21,審判員!$A:$C,2,FALSE))=TRUE,\"\",VLOOKUP(S21,審判員!$A:$C,2,FALSE))","v":""},{"$f":"IF(ISERROR(VLOOKUP(S21,審判員!$A:$C,3,FALSE))=TRUE,\"\",VLOOKUP(S21,審判員!$A:$C,3,FALSE))","v":""},"級","資格番号",null,null,null,null,"本部",null,null,{"$f":"$AC$7","v":"千怒サッカースポーツ少年団"},null,null,null,null,"星取表",null,null,null,null,null,null,{"$f":"IF(AK25=\"\",\"\",IF(AK25>AN25,\"○\",IF(AK25<AN25,\"●\",IF(AK23>AN23,\"△\",IF(AK23<AN23,\"▲\")))))","v":"●"},null,null,null,null,{"$f":"IF(AP25=\"\",\"\",IF(AP25>AS25,\"○\",IF(AP25<AS25,\"●\",IF(AP23>AS23,\"△\",IF(AP23<AS23,\"▲\")))))","v":"●"},null,null,null,null,{"$f":"COUNTIF($AF$21:$AT$22,\"○\")","v":0},null,{"$f":"COUNTIF($AF$21:$AT$22,\"△\")","v":0},null,{"$f":"COUNTIF($AF$21:$AT$22,\"▲\")","v":0},null,{"$f":"COUNTIF($AF$21:$AT$22,\"●\")","v":2},null,{"$f":"SUM($AK$25,$AP$25)","v":0},null,{"$f":"SUM($AN$25,$AS$25)","v":18},null,{"$f":"($AU$21*3)+($AW$21*2)+($AY$21*1)","v":0},null,{"$f":"RANK($BG$21,$BG$21:$BH$38)","v":3},null,{"$f":"$BC$21-$BE$21","v":-18},null,{"$f":"RANK($BK$21,$BK$21:$BL$38)","v":3}]
["警告/退場","氏名","背番号","分","内容",null,"内容","分","背番号","氏名","警告/退場",null,"警告/退場","氏名","背番号","分","内容",null,"内容","分","背番号","氏名","警告/退場"]
[null,{"$f":"IF(ISERROR(VLOOKUP(CONCATENATE($B$12,\"_\",C23),選手名簿!$A:$E,5,FALSE))=TRUE,\"\",VLOOKUP(CONCATENATE($B$12,\"_\",C23),選手名簿!$A:$E,5,FALSE))","v":""},null,null,null,null,null,null,null,{"$f":"IF(ISERROR(VLOOKUP(CONCATENATE($J$12,\"_\",I23),選手名簿!$A:$E,5,FALSE))=TRUE,\"\",VLOOKUP(CONCATENATE($J$12,\"_\",I23),選手名簿!$A:$E,5,FALSE))","v":""},null,null,null,{"$f":"IF(ISERROR(VLOOKUP(CONCATENATE($N$12,\"_\",O23),選手名簿!$A:$E,5,FALSE))=TRUE,\"\",VLOOKUP(CONCATENATE($N$12,\"_\",O23),選手名簿!$A:$E,5,FALSE))","v":""},null,null,null,null,null,null,null,{"$f":"IF(ISERROR(VLOOKUP(CONCATENATE($V$12,\"_\",U23),選手名簿!$A:$E,5,FALSE))=TRUE,\"\",VLOOKUP(CONCATENATE($V$12,\"_\",U23),選手名簿!$A:$E,5,FALSE))","v":""},null,null,null,null,null,null,null,null,null,null,null,null,null,null,{"$f":"IF($E$14=\"\",\"\",$E$14)","v":""},null,"―",{"$f":"IF($G$14=\"\",\"\",$G$14)","v":""},null,{"$f":"IF($G$50=\"\",\"\",$G$50)","v":""},null,"―",{"$f":"IF($E$50=\"\",\"\",$E$50)","v":""}]
[null,{"$f":"IF(ISERROR(VLOOKUP(CONCATENATE($B$12,\"_\",C24),選手名簿!$A:$E,5,FALSE))=TRUE,\"\",VLOOKUP(CONCATENATE($B$12,\"_\",C24),選手名簿!$A:$E,5,FALSE))","v":""},null,null,null,null,null,null,null,{"$f":"IF(ISERROR(VLOOKUP(CONCATENATE($J$12,\"_\",I24),選手名簿!$A:$E,5,FALSE))=TRUE,\"\",VLOOKUP(CONCATENATE($J$12,\"_\",I24),選手名簿!$A:$E,5,FALSE))","v":""},null,null,null,{"$f":"IF(ISERROR(VLOOKUP(CONCATENATE($N$12,\"_\",O24),選手名簿!$A:$E,5,FALSE))=TRUE,\"\",VLOOKUP(CONCATENATE($N$12,\"_\",O24),選手名簿!$A:$E,5,FALSE))","v":""},null,null,null,null,null,null,null,{"$f":"IF(ISERROR(VLOOKUP(CONCATENATE($V$12,\"_\",U24),選手名簿!$A:$E,5,FALSE))=TRUE,\"\",VLOOKUP(CONCATENATE($V$12,\"_\",U24),選手名簿!$A:$E,5,FALSE))","v":""},null,null,null,null,null,null,null,"得失点"]
[null,{"$f":"IF(ISERROR(VLOOKUP(CONCATENATE($B$12,\"_\",C25),選手名簿!$A:$E,5,FALSE))=TRUE,\"\",VLOOKUP(CONCATENATE($B$12,\"_\",C25),選手名簿!$A:$E,5,FALSE))","v":""},null,null,null,null,null,null,null,{"$f":"IF(ISERROR(VLOOKUP(CONCATENATE($J$12,\"_\",I25),選手名簿!$A:$E,5,FALSE))=TRUE,\"\",VLOOKUP(CONCATENATE($J$12,\"_\",I25),選手名簿!$A:$E,5,FALSE))","v":""},null,null,null,{"$f":"IF(ISERROR(VLOOKUP(CONCATENATE($N$12,\"_\",O25),選手名簿!$A:$E,5,FALSE))=TRUE,\"\",VLOOKUP(CONCATENATE($N$12,\"_\",O25),選手名簿!$A:$E,5,FALSE))","v":""},null,null,null,null,null,null,null,{"$f":"IF(ISERROR(VLOOKUP(CONCATENATE($V$12,\"_\",U25),選手名簿!$A:$E,5,FALSE))=TRUE,\"\",VLOOKUP(CONCATENATE($V$12,\"_\",U25),選手名簿!$A:$E,5,FALSE))","v":""},null,null,null,null,null,null,null,null,null,null,null,null,null,null,{"$f":"$C$12","v":0},null,"―",{"$f":"$I$12","v":6},null,{"$f":"$I$48","v":0},null,"―",{"$f":"$C$48","v":12}]
[null,{"$f":"IF(ISERROR(VLOOKUP(CONCATENATE($B$12,\"_\",C26),選手名簿!$A:$E,5,FALSE))=TRUE,\"\",VLOOKUP(CONCATENATE($B$12,\"_\",C26),選手名簿!$A:$E,5,FALSE))","v":""},null,null,null,null,null,null,null,{"$f":"IF(ISERROR(VLOOKUP(CONCATENATE($J$12,\"_\",I26),選手名簿!$A:$E,5,FALSE))=TRUE,\"\",VLOOKUP(CONCATENATE($J$12,\"_\",I26),選手名簿!$A:$E,5,FALSE))","v":""},null,null,null,{"$f":"IF(ISERROR(VLOOKUP(CONCATENATE($N$12,\"_\",O26),選手名簿!$A:$E,5,FALSE))=TRUE,\"\",VLOOKUP(CONCATENATE($N$12,\"_\",O26),選手名簿!$A:$E,5,FALSE))","v":""},null,null,null,null,null,null,null,{"$f":"IF(ISERROR(VLOOKUP(CONCATENATE($V$12,\"_\",U26),選手名簿!$A:$E,5,FALSE))=TRUE,\"\",VLOOKUP(CONCATENATE($V$12,\"_\",U26),選手名簿!$A:$E,5,FALSE))","v":""}]
[null,{"$f":"IF(ISERROR(VLOOKUP(CONCATENATE($B$12,\"_\",C27),選手名簿!$A:$E,5,FALSE))=TRUE,\"\",VLOOKUP(CONCATENATE($B$12,\"_\",C27),選手名簿!$A:$E,5,FALSE))","v":""},null,null,null,null,null,null,null,{"$f":"IF(ISERROR(VLOOKUP(CONCATENATE($J$12,\"_\",I27),選手名簿!$A:$E,5,FALSE))=TRUE,\"\",VLOOKUP(CONCATENATE($J$12,\"_\",I27),選手名簿!$A:$E,5,FALSE))","v":""},null,null,null,{"$f":"IF(ISERROR(VLOOKUP(CONCATENATE($N$12,\"_\",O27),選手名簿!$A:$E,5,FALSE))=TRUE,\"\",VLOOKUP(CONCATENATE($N$12,\"_\",O27),選手名簿!$A:$E,5,FALSE))","v":""},null,null,null,null,null,null,null,{"$f":"IF(ISERROR(VLOOKUP(CONCATENATE($V$12,\"_\",U27),選手名簿!$A:$E,5,FALSE))=TRUE,\"\",VLOOKUP(CONCATENATE($V$12,\"_\",U27),選手名簿!$A:$E,5,FALSE))","v":""},null,null,{"$f":"$AC$8","v":"宗方サッカークラブ"},null,null,null,null,"星取表",null,{"$f":"IF(AF31=\"\",\"\",IF(AF31>AI31,\"○\",IF(AF31<AI31,\"●\",IF(AF29>AI29,\"△\",IF(AF29<AI29,\"▲\")))))","v":"○"},null,null,null,null,null,null,null,null,null,{"$f":"IF(AP31=\"\",\"\",IF(AP31>AS31,\"○\",IF(AP31<AS31,\"●\",IF(AP29>AS29,\"△\",IF(AP29<AS29,\"▲\")))))","v":"●"},null,null,null,null,{"$f":"COUNTIF($AF$27:$AT$28,\"○\")","v":1},null,{"$f":"COUNTIF($AF$27:$AT$28,\"△\")","v":0},null,{"$f":"COUNTIF($AF$27:$AT$28,\"▲\")","v":0},null,{"$f":"COUNTIF($AF$27:$AT$28,\"●\")","v":1},null,{"$f":"SUM($AF$31,$AP$31)","v":7},null,{"$f":"SUM($AI$31,$AS$31)","v":4},null,{"$f":"($AU$27*3)+($AW$27*2)+($AY$27*1)","v":3},null,{"$f":"RANK($BG$27,$BG$21:$BH$38)","v":2},null,{"$f":"$BC$27-$BE$27","v":3},null,{"$f":"RANK($BK$27,$BK$21:$BL$38)","v":2}]
[]
[null,null,null,null,null,null,null,null,null,null,null,null,null,null,null,null,null,null,null,null,null,null,null,null,null,null,null,null,null,null,null,{"$f":"AN23","v":""},null,"―",{"$f":"AK23","v":""},null,null,null,null,null,null,{"$f":"IF($E$32=\"\",\"\",$E$32)","v":""},null,"―",{"$f":"IF($G$32=\"\",\"\",$G$32)","v":""}]
["③\n12:00～",{"$f":"C8","v":"宗方サッカークラブ"},{"$f":"IF(E30=\"\",\"\",SUM(E30:E31))","v":1},"（",0,"前半",2,"）",{"$f":"IF(G30=\"\",\"\",SUM(G30:G31))","v":4},{"$f":"C9","v":"鶴居ＳＳＳ"},null,null,"④\n13:00～",{"$f":"O9","v":"豊府サッカースポーツ少年団"},{"$f":"IF(Q30=\"\",\"\",SUM(Q30:Q31))","v":4},"（",3,"前半",1,"）",{"$f":"IF(S30=\"\",\"\",SUM(S30:S31))","v":1},{"$f":"O7","v":"ＦＣ　ＵＮＩＴＥ"},null,null,null,null,null,null,null,"得失点"]
[null,null,null,null,1,"後半",2,null,null,null,null,null,null,null,null,null,1,"後半",0,null,null,null,null,null,null,null,null,null,null,null,null,{"$f":"AN25","v":6},null,"―",{"$f":"AK25","v":0},null,null,null,null,null,null,{"$f":"$C$30","v":1},null,"―",{"$f":"$I$30","v":4}]
[null,null,null,null,null,"PK",null,null,null,null,null,null,null,null,null,null,null,"PK"]
["MC","酒井　清行",null,null,null,null,"所属協会",null,null,"津久見市サッカー協会",null,null,"MC","安東　信二",null,null,null,null,"所属協会",null,null,"臼杵市サッカー協会",null,null,{"$f":"$AC$9","v":"鶴居ＳＳＳ"},null,null,null,null,"星取表",null,{"$f":"IF(AF37=\"\",\"\",IF(AF37>AI37,\"○\",IF(AF37<AI37,\"●\",IF(AF35>AI35,\"△\",IF(AF35<AI35,\"▲\")))))","v":"○"},null,null,null,null,{"$f":"IF(AK37=\"\",\"\",IF(AK37>AN37,\"○\",IF(AK37<AN37,\"●\",IF(AK35>AN35,\"△\",IF(AK35<AN35,\"▲\")))))","v":"○"},null,null,null,null,null,null,null,null,null,{"$f":"COUNTIF($AF$33:$AT$34,\"○\")","v":2},null,{"$f":"COUNTIF($AF$33:$AT$34,\"△\")","v":0},null,{"$f":"COUNTIF($AF$33:$AT$34,\"▲\")","v":0},null,{"$f":"COUNTIF($AF$33:$AT$34,\"●\")","v":0},null,{"$f":"SUM($AF$37,$AK$37)","v":16},null,{"$f":"SUM($AI$37,$AN$37)","v":1},null,{"$f":"($AU$33*3)+($AW$33*2)+($AY$33*1)","v":6},null,{"$f":"RANK($BG$33,$BG$21:$BH$38)","v":1},null,{"$f":"$BC$33-$BE$33","v":15},null,{"$f":"RANK($BK$33,$BK$21:$BL$38)","v":1}]
["WelfareOfficer","吉良　和明",null,null,null,null,"所属協会",null,null,"臼杵市サッカー協会",null,null,"WelfareOfficer","酒井　清行",null,null,null,null,"所属協会",null,null,"津久見市サッカー協会"]
["記録","岡部　正典",null,null,null,null,"所属協会",null,null,"臼杵市サッカー協会",null,null,"記録","岡部　正典",null,null,null,null,"所属協会",null,null,"臼杵市サッカー協会",null,null,null,null,null,null,null,null,null,{"$f":"AS23","v":""},null,"―",{"$f":"AP23","v":""},null,{"$f":"AS29","v":""},null,"―",{"$f":"AP29","v":""}]
["R:",{"$f":"IF(ISERROR(VLOOKUP(G36,審判員!$A:$C,2,FALSE))=TRUE,\"\",VLOOKUP(G36,審判員!$A:$C,2,FALSE))","v":"宇都宮　貴之"},{"$f":"IF(ISERROR(VLOOKUP(G36,審判員!$A:$C,3,FALSE))=TRUE,\"\",VLOOKUP(G36,審判員!$A:$C,3,FALSE))","v":3},"級","資格番号",null,"R005527609",null,null,"本部",null,null,"R:",{"$f":"IF(ISERROR(VLOOKUP(S36,審判員!$A:$C,2,FALSE))=TRUE,\"\",VLOOKUP(S36,審判員!$A:$C,2,FALSE))","v":"金田　智朗"},{"$f":"IF(ISERROR(VLOOKUP(S36,審判員!$A:$C,3,FALSE))=TRUE,\"\",VLOOKUP(S36,審判員!$A:$C,3,FALSE))","v":3},"級","資格番号",null,"R010396582",null,null,"本部",null,null,null,null,null,null,null,"得失点"]
["AR1:",{"$f":"IF(ISERROR(VLOOKUP(G37,審判員!$A:$C,2,FALSE))=TRUE,\"\",VLOOKUP(G37,審判員!$A:$C,2,FALSE))","v":"深津　弘毅"},{"$f":"IF(ISERROR(VLOOKUP(G37,審判員!$A:$C,3,FALSE))=TRUE,\"\",VLOOKUP(G37,審判員!$A:$C,3,FALSE))","v":3},"級","資格番号",null,"R010376332",null,null,"本部",null,null,"AR1:",{"$f":"IF(ISERROR(VLOOKUP(S37,審判員!$A:$C,2,FALSE))=TRUE,\"\",VLOOKUP(S37,審判員!$A:$C,2,FALSE))","v":"山本　青"},{"$f":"IF(ISERROR(VLOOKUP(S37,審判員!$A:$C,3,FALSE))=TRUE,\"\",VLOOKUP(S37,審判員!$A:$C,3,FALSE))","v":3},"級","資格番号",null,"R010281871",null,null,{"$f":"J30","v":"鶴居ＳＳＳ"},null,null,null,null,null,null,null,null,null,{"$f":"AS25","v":12},null,"―",{"$f":"AP25","v":0},null,{"$f":"AS31","v":4},null,"―",{"$f":"AP31","v":1}]
["AR2:",{"$f":"IF(ISERROR(VLOOKUP(G38,審判員!$A:$C,2,FALSE))=TRUE,\"\",VLOOKUP(G38,審判員!$A:$C,2,FALSE))","v":"足立　卓也"},{"$f":"IF(ISERROR(VLOOKUP(G38,審判員!$A:$C,3,FALSE))=TRUE,\"\",VLOOKUP(G38,審判員!$A:$C,3,FALSE))","v":3},"級","資格番号",null,"R010069871",null,null,"本部",null,null,"AR2:",{"$f":"IF(ISERROR(VLOOKUP(S38,審判員!$A:$C,2,FALSE))=TRUE,\"\",VLOOKUP(S38,審判員!$A:$C,2,FALSE))","v":"朝比奈　義行"},{"$f":"IF(ISERROR(VLOOKUP(S38,審判員!$A:$C,3,FALSE))=TRUE,\"\",VLOOKUP(S38,審判員!$A:$C,3,FALSE))","v":3},"級","資格番号",null,"R003972391",null,null,{"$f":"B30","v":"宗方サッカークラブ"}]
["4th:",{"$f":"IF(ISERROR(VLOOKUP(G39,審判員!$A:$C,2,FALSE))=TRUE,\"\",VLOOKUP(G39,審判員!$A:$C,2,FALSE))","v":"小手川　朋輝"},{"$f":"IF(ISERROR(VLOOKUP(G39,審判員!$A:$C,3,FALSE))=TRUE,\"\",VLOOKUP(G39,審判員!$A:$C,3,FALSE))","v":3},"級","資格番号",null,"R005405255",null,null,"本部",null,null,"4th:",{"$f":"IF(ISERROR(VLOOKUP(S39,審判員!$A:$C,2,FALSE))=TRUE,\"\",VLOOKUP(S39,審判員!$A:$C,2,FALSE))","v":"足立　卓也"},{"$f":"IF(ISERROR(VLOOKUP(S39,審判員!$A:$C,3,FALSE))=TRUE,\"\",VLOOKUP(S39,審判員!$A:$C,3,FALSE))","v":3},"級","資格番号",null,"R010069871",null,null,"本部"]
["警告/退場","氏名","背番号","分","内容",null,"内容","分","背番号","氏名","警告/退場",null,"警告/退場","氏名","背番号","分","内容",null,"内容","分","背番号","氏名","警告/退場",null,"Ⅰ勝点（勝３点　ＰＫ勝２点　ＰＫ負１点　負０点）　Ⅱ当該チームの戦績　Ⅲ得失点差　Ⅳ多得点　Ⅴ抽選の順で順位を決定する。"]
[null,{"$f":"IF(ISERROR(VLOOKUP(CONCATENATE($B$30,\"_\",C41),選手名簿!$A:$E,5,FALSE))=TRUE,\"\",VLOOKUP(CONCATENATE($B$30,\"_\",C41),選手名簿!$A:$E,5,FALSE))","v":""},null,null,null,null,null,null,null,{"$f":"IF(ISERROR(VLOOKUP(CONCATENATE($J$30,\"_\",I41),選手名簿!$A:$E,5,FALSE))=TRUE,\"\",VLOOKUP(CONCATENATE($J$30,\"_\",I41),選手名簿!$A:$E,5,FALSE))","v":""},null,null,null,{"$f":"IF(ISERROR(VLOOKUP(CONCATENATE($N$30,\"_\",O41),選手名簿!$A:$E,5,FALSE))=TRUE,\"\",VLOOKUP(CONCATENATE($N$30,\"_\",O41),選手名簿!$A:$E,5,FALSE))","v":""},null,null,null,null,null,null,null,{"$f":"IF(ISERROR(VLOOKUP(CONCATENATE($V$30,\"_\",U41),選手名簿!$A:$E,5,FALSE))=TRUE,\"\",VLOOKUP(CONCATENATE($V$30,\"_\",U41),選手名簿!$A:$E,5,FALSE))","v":""}]
[null,{"$f":"IF(ISERROR(VLOOKUP(CONCATENATE($B$30,\"_\",C42),選手名簿!$A:$E,5,FALSE))=TRUE,\"\",VLOOKUP(CONCATENATE($B$30,\"_\",C42),選手名簿!$A:$E,5,FALSE))","v":""},null,null,null,null,null,null,null,{"$f":"IF(ISERROR(VLOOKUP(CONCATENATE($J$30,\"_\",I42),選手名簿!$A:$E,5,FALSE))=TRUE,\"\",VLOOKUP(CONCATENATE($J$30,\"_\",I42),選手名簿!$A:$E,5,FALSE))","v":""},null,null,null,{"$f":"IF(ISERROR(VLOOKUP(CONCATENATE($N$30,\"_\",O42),選手名簿!$A:$E,5,FALSE))=TRUE,\"\",VLOOKUP(CONCATENATE($N$30,\"_\",O42),選手名簿!$A:$E,5,FALSE))","v":""},null,null,null,null,null,null,null,{"$f":"IF(ISERROR(VLOOKUP(CONCATENATE($V$30,\"_\",U42),選手名簿!$A:$E,5,FALSE))=TRUE,\"\",VLOOKUP(CONCATENATE($V$30,\"_\",U42),選手名簿!$A:$E,5,FALSE))","v":""},null,null,"勝点表",null,"勝","○",null,"PK\n勝","△",null,"PK\n負","▲",null,"負","●"]
[null,{"$f":"IF(ISERROR(VLOOKUP(CONCATENATE($B$30,\"_\",C43),選手名簿!$A:$E,5,FALSE))=TRUE,\"\",VLOOKUP(CONCATENATE($B$30,\"_\",C43),選手名簿!$A:$E,5,FALSE))","v":""},null,null,null,null,null,null,null,{"$f":"IF(ISERROR(VLOOKUP(CONCATENATE($J$30,\"_\",I43),選手名簿!$A:$E,5,FALSE))=TRUE,\"\",VLOOKUP(CONCATENATE($J$30,\"_\",I43),選手名簿!$A:$E,5,FALSE))","v":""},null,null,null,{"$f":"IF(ISERROR(VLOOKUP(CONCATENATE($N$30,\"_\",O43),選手名簿!$A:$E,5,FALSE))=TRUE,\"\",VLOOKUP(CONCATENATE($N$30,\"_\",O43),選手名簿!$A:$E,5,FALSE))","v":""},null,null,null,null,null,null,null,{"$f":"IF(ISERROR(VLOOKUP(CONCATENATE($V$30,\"_\",U43),選手名簿!$A:$E,5,FALSE))=TRUE,\"\",VLOOKUP(CONCATENATE($V$30,\"_\",U43),選手名簿!$A:$E,5,FALSE))","v":""},null,null,null,null,null,3,null,null,2,null,null,1,null,null,0]
[null,{"$f":"IF(ISERROR(VLOOKUP(CONCATENATE($B$30,\"_\",C44),選手名簿!$A:$E,5,FALSE))=TRUE,\"\",VLOOKUP(CONCATENATE($B$30,\"_\",C44),選手名簿!$A:$E,5,FALSE))","v":""},null,null,null,null,null,null,null,{"$f":"IF(ISERROR(VLOOKUP(CONCATENATE($J$30,\"_\",I44),選手名簿!$A:$E,5,FALSE))=TRUE,\"\",VLOOKUP(CONCATENATE($J$30,\"_\",I44),選手名簿!$A:$E,5,FALSE))","v":""},null,null,null,{"$f":"IF(ISERROR(VLOOKUP(CONCATENATE($N$30,\"_\",O44),選手名簿!$A:$E,5,FALSE))=TRUE,\"\",VLOOKUP(CONCATENATE($N$30,\"_\",O44),選手名簿!$A:$E,5,FALSE))","v":""},null,null,null,null,null,null,null,{"$f":"IF(ISERROR(VLOOKUP(CONCATENATE($V$30,\"_\",U44),選手名簿!$A:$E,5,FALSE))=TRUE,\"\",VLOOKUP(CONCATENATE($V$30,\"_\",U44),選手名簿!$A:$E,5,FALSE))","v":""}]
[null,{"$f":"IF(ISERROR(VLOOKUP(CONCATENATE($B$30,\"_\",C45),選手名簿!$A:$E,5,FALSE))=TRUE,\"\",VLOOKUP(CONCATENATE($B$30,\"_\",C45),選手名簿!$A:$E,5,FALSE))","v":""},null,null,null,null,null,null,null,{"$f":"IF(ISERROR(VLOOKUP(CONCATENATE($J$30,\"_\",I45),選手名簿!$A:$E,5,FALSE))=TRUE,\"\",VLOOKUP(CONCATENATE($J$30,\"_\",I45),選手名簿!$A:$E,5,FALSE))","v":""},null,null,null,{"$f":"IF(ISERROR(VLOOKUP(CONCATENATE($N$30,\"_\",O45),選手名簿!$A:$E,5,FALSE))=TRUE,\"\",VLOOKUP(CONCATENATE($N$30,\"_\",O45),選手名簿!$A:$E,5,FALSE))","v":""},null,null,null,null,null,null,null,{"$f":"IF(ISERROR(VLOOKUP(CONCATENATE($V$30,\"_\",U45),選手名簿!$A:$E,5,FALSE))=TRUE,\"\",VLOOKUP(CONCATENATE($V$30,\"_\",U45),選手名簿!$A:$E,5,FALSE))","v":""}]
[]
[]
["⑤\n14:00～",{"$f":"C9","v":"鶴居ＳＳＳ"},{"$f":"IF(E48=\"\",\"\",SUM(E48:E49))","v":12},"（",5,"前半",0,"）",{"$f":"IF(G48=\"\",\"\",SUM(G48:G49))","v":0},{"$f":"C7","v":"千怒サッカースポーツ少年団"},null,null,"⑥\n15:00～",{"$f":"O8","v":"明野東サッカースポーツ少年団"},{"$f":"IF(Q48=\"\",\"\",SUM(Q48:Q49))","v":""},"（",null,"前半",null,"）",{"$f":"IF(S48=\"\",\"\",SUM(S48:S49))","v":""},{"$f":"O9","v":"豊府サッカースポーツ少年団"},null,null,{"$f":"$Y$1","v":"OFA 第 53 回大分県U-12サッカー大会　兼　KYFA 九州U-12サッカー大会大分県大会"},null,null,null,null,null,null,null,null,null,null,null,null,null,null,null,null,null,null,null,null,null,null,null,null,null,null,null,null,null,null,null,null,null,null,null,{"$f":"$BI$1","v":"１次リーグ結果　報告用紙"}]
[null,null,null,null,7,"後半",0,null,null,null,null,null,null,null,null,null,null,"後半"]
[null,null,null,null,null,"PK",null,null,null,null,null,null,null,null,null,null,null,"PK",null,null,null,null,null,null,"＜時間割＞　①10:00～　②11:00～　③12:00～　④13:00～　⑤14:00～　⑥15:00～"]
["MC","松下　省吾",null,null,null,null,"所属協会",null,null,"津久見市サッカー協会",null,null,"MC",null,null,null,null,null,"所属協会"]
["WelfareOfficer","吉良　和明",null,null,null,null,"所属協会",null,null,"臼杵市サッカー協会",null,null,"WelfareOfficer",null,null,null,null,null,"所属協会"]
["記録","岡部　正典",null,null,null,null,"所属協会",null,null,"臼杵市サッカー協会",null,null,"記録",null,null,null,null,null,"所属協会"]
["R:",{"$f":"IF(ISERROR(VLOOKUP(G54,審判員!$A:$C,2,FALSE))=TRUE,\"\",VLOOKUP(G54,審判員!$A:$C,2,FALSE))","v":"師藤　一也"},{"$f":"IF(ISERROR(VLOOKUP(G54,審判員!$A:$C,3,FALSE))=TRUE,\"\",VLOOKUP(G54,審判員!$A:$C,3,FALSE))","v":3},"級","資格番号",null,"R001257322",null,null,"本部",null,null,"R:",{"$f":"IF(ISERROR(VLOOKUP(S54,審判員!$A:$C,2,FALSE))=TRUE,\"\",VLOOKUP(S54,審判員!$A:$C,2,FALSE))","v":""},{"$f":"IF(ISERROR(VLOOKUP(S54,審判員!$A:$C,3,FALSE))=TRUE,\"\",VLOOKUP(S54,審判員!$A:$C,3,FALSE))","v":""},"級","資格番号",null,null,null,null,"本部",null,null,"会場",null,null,{"$f":"$N$4","v":"津久見・臼杵"},null,null,null,null,null,"⇒",{"$f":"$P$4","v":"吉四六ランド陸上競技場"}]
["AR1:",{"$f":"IF(ISERROR(VLOOKUP(G55,審判員!$A:$C,2,FALSE))=TRUE,\"\",VLOOKUP(G55,審判員!$A:$C,2,FALSE))","v":"相良　章成"},{"$f":"IF(ISERROR(VLOOKUP(G55,審判員!$A:$C,3,FALSE))=TRUE,\"\",VLOOKUP(G55,審判員!$A:$C,3,FALSE))","v":3},"級","資格番号",null,"R006664864",null,null,{"$f":"N30","v":"豊府サッカースポーツ少年団"},null,null,"AR1:",{"$f":"IF(ISERROR(VLOOKUP(S55,審判員!$A:$C,2,FALSE))=TRUE,\"\",VLOOKUP(S55,審判員!$A:$C,2,FALSE))","v":""},{"$f":"IF(ISERROR(VLOOKUP(S55,審判員!$A:$C,3,FALSE))=TRUE,\"\",VLOOKUP(S55,審判員!$A:$C,3,FALSE))","v":""},"級","資格番号",null,null,null,null,{"$f":"B30","v":"宗方サッカークラブ"}]
["AR2:",{"$f":"IF(ISERROR(VLOOKUP(G56,審判員!$A:$C,2,FALSE))=TRUE,\"\",VLOOKUP(G56,審判員!$A:$C,2,FALSE))","v":"野中　裕介"},{"$f":"IF(ISERROR(VLOOKUP(G56,審判員!$A:$C,3,FALSE))=TRUE,\"\",VLOOKUP(G56,審判員!$A:$C,3,FALSE))","v":3},"級","資格番号",null,"R010214556",null,null,{"$f":"V30","v":"ＦＣ　ＵＮＩＴＥ"},null,null,"AR2:",{"$f":"IF(ISERROR(VLOOKUP(S56,審判員!$A:$C,2,FALSE))=TRUE,\"\",VLOOKUP(S56,審判員!$A:$C,2,FALSE))","v":""},{"$f":"IF(ISERROR(VLOOKUP(S56,審判員!$A:$C,3,FALSE))=TRUE,\"\",VLOOKUP(S56,審判員!$A:$C,3,FALSE))","v":""},"級","資格番号",null,null,null,null,{"$f":"J30","v":"鶴居ＳＳＳ"}]
["4th:",{"$f":"IF(ISERROR(VLOOKUP(G57,審判員!$A:$C,2,FALSE))=TRUE,\"\",VLOOKUP(G57,審判員!$A:$C,2,FALSE))","v":"小手川　朋輝"},{"$f":"IF(ISERROR(VLOOKUP(G57,審判員!$A:$C,3,FALSE))=TRUE,\"\",VLOOKUP(G57,審判員!$A:$C,3,FALSE))","v":3},"級","資格番号",null,"R005405255",null,null,"本部",null,null,"4th:",{"$f":"IF(ISERROR(VLOOKUP(S57,審判員!$A:$C,2,FALSE))=TRUE,\"\",VLOOKUP(S57,審判員!$A:$C,2,FALSE))","v":""},{"$f":"IF(ISERROR(VLOOKUP(S57,審判員!$A:$C,3,FALSE))=TRUE,\"\",VLOOKUP(S57,審判員!$A:$C,3,FALSE))","v":""},"級","資格番号",null,null,null,null,"本部"]
["警告/退場","氏名","背番号","分","内容",null,"内容","分","背番号","氏名","警告/退場",null,"警告/退場","氏名","背番号","分","内容",null,"内容","分","背番号","氏名","警告/退場",null,"パート",null,null,{"$f":"$N$6","v":"F"}]
[null,{"$f":"IF(ISERROR(VLOOKUP(CONCATENATE($B$48,\"_\",C59),選手名簿!$A:$E,5,FALSE))=TRUE,\"\",VLOOKUP(CONCATENATE($B$48,\"_\",C59),選手名簿!$A:$E,5,FALSE))","v":""},null,null,null,null,null,null,null,{"$f":"IF(ISERROR(VLOOKUP(CONCATENATE($J$48,\"_\",I59),選手名簿!$A:$E,5,FALSE))=TRUE,\"\",VLOOKUP(CONCATENATE($J$48,\"_\",I59),選手名簿!$A:$E,5,FALSE))","v":""},null,null,null,{"$f":"IF(ISERROR(VLOOKUP(CONCATENATE($N$48,\"_\",O59),選手名簿!$A:$E,5,FALSE))=TRUE,\"\",VLOOKUP(CONCATENATE($N$48,\"_\",O59),選手名簿!$A:$E,5,FALSE))","v":""},null,null,null,null,null,null,null,{"$f":"IF(ISERROR(VLOOKUP(CONCATENATE($V$48,\"_\",U59),選手名簿!$A:$E,5,FALSE))=TRUE,\"\",VLOOKUP(CONCATENATE($V$48,\"_\",U59),選手名簿!$A:$E,5,FALSE))","v":""}]
[null,{"$f":"IF(ISERROR(VLOOKUP(CONCATENATE($B$48,\"_\",C60),選手名簿!$A:$E,5,FALSE))=TRUE,\"\",VLOOKUP(CONCATENATE($B$48,\"_\",C60),選手名簿!$A:$E,5,FALSE))","v":""},null,null,null,null,null,null,null,{"$f":"IF(ISERROR(VLOOKUP(CONCATENATE($J$48,\"_\",I60),選手名簿!$A:$E,5,FALSE))=TRUE,\"\",VLOOKUP(CONCATENATE($J$48,\"_\",I60),選手名簿!$A:$E,5,FALSE))","v":""},null,null,null,{"$f":"IF(ISERROR(VLOOKUP(CONCATENATE($N$48,\"_\",O60),選手名簿!$A:$E,5,FALSE))=TRUE,\"\",VLOOKUP(CONCATENATE($N$48,\"_\",O60),選手名簿!$A:$E,5,FALSE))","v":""},null,null,null,null,null,null,null,{"$f":"IF(ISERROR(VLOOKUP(CONCATENATE($V$48,\"_\",U60),選手名簿!$A:$E,5,FALSE))=TRUE,\"\",VLOOKUP(CONCATENATE($V$48,\"_\",U60),選手名簿!$A:$E,5,FALSE))","v":""},null,null,null,{"$f":"$N$7","v":"F1"},null,null,{"$f":"$O$7","v":"ＦＣ　ＵＮＩＴＥ"},null,null,null,null,null,null,null,null,null,null,null,null,{"$f":"$V$7","v":"宇佐高田"}]
[null,{"$f":"IF(ISERROR(VLOOKUP(CONCATENATE($B$48,\"_\",C61),選手名簿!$A:$E,5,FALSE))=TRUE,\"\",VLOOKUP(CONCATENATE($B$48,\"_\",C61),選手名簿!$A:$E,5,FALSE))","v":""},null,null,null,null,null,null,null,{"$f":"IF(ISERROR(VLOOKUP(CONCATENATE($J$48,\"_\",I61),選手名簿!$A:$E,5,FALSE))=TRUE,\"\",VLOOKUP(CONCATENATE($J$48,\"_\",I61),選手名簿!$A:$E,5,FALSE))","v":""},null,null,null,{"$f":"IF(ISERROR(VLOOKUP(CONCATENATE($N$48,\"_\",O61),選手名簿!$A:$E,5,FALSE))=TRUE,\"\",VLOOKUP(CONCATENATE($N$48,\"_\",O61),選手名簿!$A:$E,5,FALSE))","v":""},null,null,null,null,null,null,null,{"$f":"IF(ISERROR(VLOOKUP(CONCATENATE($V$48,\"_\",U61),選手名簿!$A:$E,5,FALSE))=TRUE,\"\",VLOOKUP(CONCATENATE($V$48,\"_\",U61),選手名簿!$A:$E,5,FALSE))","v":""}]
[null,{"$f":"IF(ISERROR(VLOOKUP(CONCATENATE($B$48,\"_\",C62),選手名簿!$A:$E,5,FALSE))=TRUE,\"\",VLOOKUP(CONCATENATE($B$48,\"_\",C62),選手名簿!$A:$E,5,FALSE))","v":""},null,null,null,null,null,null,null,{"$f":"IF(ISERROR(VLOOKUP(CONCATENATE($J$48,\"_\",I62),選手名簿!$A:$E,5,FALSE))=TRUE,\"\",VLOOKUP(CONCATENATE($J$48,\"_\",I62),選手名簿!$A:$E,5,FALSE))","v":""},null,null,null,{"$f":"IF(ISERROR(VLOOKUP(CONCATENATE($N$48,\"_\",O62),選手名簿!$A:$E,5,FALSE))=TRUE,\"\",VLOOKUP(CONCATENATE($N$48,\"_\",O62),選手名簿!$A:$E,5,FALSE))","v":""},null,null,null,null,null,null,null,{"$f":"IF(ISERROR(VLOOKUP(CONCATENATE($V$48,\"_\",U62),選手名簿!$A:$E,5,FALSE))=TRUE,\"\",VLOOKUP(CONCATENATE($V$48,\"_\",U62),選手名簿!$A:$E,5,FALSE))","v":""},null,null,null,{"$f":"$N$8","v":"F2"},null,null,{"$f":"$O$8","v":"明野東サッカースポーツ少年団"},null,null,null,null,null,null,null,null,null,null,null,null,{"$f":"$V$8","v":"大分"}]
[null,{"$f":"IF(ISERROR(VLOOKUP(CONCATENATE($B$48,\"_\",C63),選手名簿!$A:$E,5,FALSE))=TRUE,\"\",VLOOKUP(CONCATENATE($B$48,\"_\",C63),選手名簿!$A:$E,5,FALSE))","v":""},null,null,null,null,null,null,null,{"$f":"IF(ISERROR(VLOOKUP(CONCATENATE($J$48,\"_\",I63),選手名簿!$A:$E,5,FALSE))=TRUE,\"\",VLOOKUP(CONCATENATE($J$48,\"_\",I63),選手名簿!$A:$E,5,FALSE))","v":""},null,null,null,{"$f":"IF(ISERROR(VLOOKUP(CONCATENATE($N$48,\"_\",O63),選手名簿!$A:$E,5,FALSE))=TRUE,\"\",VLOOKUP(CONCATENATE($N$48,\"_\",O63),選手名簿!$A:$E,5,FALSE))","v":""},null,null,null,null,null,null,null,{"$f":"IF(ISERROR(VLOOKUP(CONCATENATE($V$48,\"_\",U63),選手名簿!$A:$E,5,FALSE))=TRUE,\"\",VLOOKUP(CONCATENATE($V$48,\"_\",U63),選手名簿!$A:$E,5,FALSE))","v":""}]
[null,null,null,null,null,null,null,null,null,null,null,null,null,null,null,null,null,null,null,null,null,null,null,null,null,{"$f":"$N$9","v":"F3"},null,null,{"$f":"$O$9","v":"豊府サッカースポーツ少年団"},null,null,null,null,null,null,null,null,null,null,null,null,{"$f":"$V$9","v":"大分"}]
[]
[]
[]
[]
[]
[]
[]
[null,null,null,null,null,null,null,null,null,null,null,null,null,null,null,null,null,null,null,null,null,null,null,null,{"$f":"$Y$6","v":"パート"},null,null,null,{"$f":"$AB$58","v":"F"},null,null,{"$f":"$Y$78","v":"ＦＣ　ＵＮＩＴＥ"},null,null,null,null,{"$f":"$Y$84","v":"明野東サッカースポーツ少年団"},null,null,null,null,{"$f":"$Y$90","v":"豊府サッカースポーツ少年団"},null,null,null,null,"勝",null,"PK\n勝",null,"PK\n負",null,"負",null,"得点",null,"失点",null,"勝点",null,"勝点\n順位",null,"得失\n点差",null,"得失\n順位",null,"総\n順位"]
[]
[]
[]
[]
[]
[null,null,null,null,null,null,null,null,null,null,null,null,null,null,null,null,null,null,null,null,null,null,null,null,{"$f":"$AC$60","v":"ＦＣ　ＵＮＩＴＥ"},null,null,null,null,"星取表",null,null,null,null,null,null,{"$f":"IF(AK82=\"\",\"\",IF(AK82>AN82,\"○\",IF(AK82<AN82,\"●\",IF(AK80>AN80,\"△\",IF(AK80<AN80,\"▲\")))))","v":""},null,null,null,null,{"$f":"IF(AP82=\"\",\"\",IF(AP82>AS82,\"○\",IF(AP82<AS82,\"●\",IF(AP80>AS80,\"△\",IF(AP80<AS80,\"▲\")))))","v":"●"},null,null,null,null,{"$f":"COUNTIF($AF$78:$AT$79,\"○\")","v":0},null,{"$f":"COUNTIF($AF$78:$AT$79,\"△\")","v":0},null,{"$f":"COUNTIF($AF$78:$AT$79,\"▲\")","v":0},null,{"$f":"COUNTIF($AF$78:$AT$79,\"●\")","v":1},null,{"$f":"SUM($AK$82,$AP$82)","v":1},null,{"$f":"SUM($AN$82,$AS$82)","v":4},null,{"$f":"($AU$78*3)+($AW$78*2)+($AY$78*1)","v":0},null,{"$f":"RANK($BG$78,$BG$78:$BH$95)","v":2},null,{"$f":"$BC$78-$BE$78","v":-3},null,{"$f":"RANK($BK$78,$BK$78:$BL$95)","v":3}]
[]
[null,null,null,null,null,null,null,null,null,null,null,null,null,null,null,null,null,null,null,null,null,null,null,null,null,null,null,null,null,null,null,null,null,null,null,null,{"$f":"IF($Q$14=\"\",\"\",$Q$14)","v":""},null,"―",{"$f":"IF($S$14=\"\",\"\",$S$14)","v":""},null,{"$f":"IF($S$32=\"\",\"\",$S$32)","v":""},null,"―",{"$f":"IF($Q$32=\"\",\"\",$Q$32)","v":""}]
[null,null,null,null,null,null,null,null,null,null,null,null,null,null,null,null,null,null,null,null,null,null,null,null,null,null,null,null,null,"得失点"]
[null,null,null,null,null,null,null,null,null,null,null,null,null,null,null,null,null,null,null,null,null,null,null,null,null,null,null,null,null,null,null,null,null,null,null,null,{"$f":"$O$12","v":""},null,"―",{"$f":"$U$12","v":""},null,{"$f":"$U$30","v":1},null,"―",{"$f":"$O$30","v":4}]
[]
[null,null,null,null,null,null,null,null,null,null,null,null,null,null,null,null,null,null,null,null,null,null,null,null,{"$f":"$AC$62","v":"明野東サッカースポーツ少年団"},null,null,null,null,"星取表",null,{"$f":"IF(AF88=\"\",\"\",IF(AF88>AI88,\"○\",IF(AF88<AI88,\"●\",IF(AF86>AI86,\"△\",IF(AF86<AI86,\"▲\")))))","v":""},null,null,null,null,null,null,null,null,null,{"$f":"IF(AP88=\"\",\"\",IF(AP88>AS88,\"○\",IF(AP88<AS88,\"●\",IF(AP86>AS86,\"△\",IF(AP86<AS86,\"▲\")))))","v":""},null,null,null,null,{"$f":"COUNTIF($AF$84:$AT$85,\"○\")","v":0},null,{"$f":"COUNTIF($AF$84:$AT$85,\"△\")","v":0},null,{"$f":"COUNTIF($AF$84:$AT$85,\"▲\")","v":0},null,{"$f":"COUNTIF($AF$84:$AT$85,\"●\")","v":0},null,{"$f":"SUM($AF$88,$AP$88)","v":0},null,{"$f":"SUM($AI$88,$AS$88)","v":0},null,{"$f":"($AU$84*3)+($AW$84*2)+($AY$84*1)","v":0},null,{"$f":"RANK($BG$84,$BG$78:$BH$95)","v":2},null,{"$f":"$BC$84-$BE$84","v":0},null,{"$f":"RANK($BK$84,$BK$78:$BL$95)","v":2}]
[]
[null,null,null,null,null,null,null,null,null,null,null,null,null,null,null,null,null,null,null,null,null,null,null,null,null,null,null,null,null,null,null,{"$f":"AN80","v":""},null,"―",{"$f":"AK80","v":""},null,null,null,null,null,null,{"$f":"IF($Q$50=\"\",\"\",$Q$50)","v":""},null,"―",{"$f":"IF($S$50=\"\",\"\",$S$50)","v":""}]
[null,null,null,null,null,null,null,null,null,null,null,null,null,null,null,null,null,null,null,null,null,null,null,null,null,null,null,null,null,"得失点"]
[null,null,null,null,null,null,null,null,null,null,null,null,null,null,null,null,null,null,null,null,null,null,null,null,null,null,null,null,null,null,null,{"$f":"AN82","v":""},null,"―",{"$f":"AK82","v":""},null,null,null,null,null,null,{"$f":"$O$48","v":""},null,"―",{"$f":"$U$48","v":""}]
[]
[null,null,null,null,null,null,null,null,null,null,null,null,null,null,null,null,null,null,null,null,null,null,null,null,{"$f":"$AC$64","v":"豊府サッカースポーツ少年団"},null,null,null,null,"星取表",null,{"$f":"IF(AF94=\"\",\"\",IF(AF94>AI94,\"○\",IF(AF94<AI94,\"●\",IF(AF92>AI92,\"△\",IF(AF92<AI92,\"▲\")))))","v":"○"},null,null,null,null,{"$f":"IF(AK94=\"\",\"\",IF(AK94>AN94,\"○\",IF(AK94<AN94,\"●\",IF(AK92>AN92,\"△\",IF(AK92<AN92,\"▲\")))))","v":""},null,null,null,null,null,null,null,null,null,{"$f":"COUNTIF($AF$90:$AT$91,\"○\")","v":1},null,{"$f":"COUNTIF($AF$90:$AT$91,\"△\")","v":0},null,{"$f":"COUNTIF($AF$90:$AT$91,\"▲\")","v":0},null,{"$f":"COUNTIF($AF$90:$AT$91,\"●\")","v":0},null,{"$f":"SUM($AF$94,$AK$94)","v":4},null,{"$f":"SUM($AI$94,$AN$94)","v":1},null,{"$f":"($AU$90*3)+($AW$90*2)+($AY$90*1)","v":3},null,{"$f":"RANK($BG$90,$BG$78:$BH$95)","v":1},null,{"$f":"$BC$90-$BE$90","v":3},null,{"$f":"RANK($BK$90,$BK$78:$BL$95)","v":1}]
[]
[null,null,null,null,null,null,null,null,null,null,null,null,null,null,null,null,null,null,null,null,null,null,null,null,null,null,null,null,null,null,null,{"$f":"AS80","v":""},null,"―",{"$f":"AP80","v":""},null,{"$f":"AS86","v":""},null,"―",{"$f":"AP86","v":""}]
[null,null,null,null,null,null,null,null,null,null,null,null,null,null,null,null,null,null,null,null,null,null,null,null,null,null,null,null,null,"得失点"]
[null,null,null,null,null,null,null,null,null,null,null,null,null,null,null,null,null,null,null,null,null,null,null,null,null,null,null,null,null,null,null,{"$f":"AS82","v":4},null,"―",{"$f":"AP82","v":1},null,{"$f":"AS88","v":""},null,"―",{"$f":"AP88","v":""}]
[]
[]
[null,null,null,null,null,null,null,null,null,null,null,null,null,null,null,null,null,null,null,null,null,null,null,null,"Ⅰ勝点（勝３点　ＰＫ勝２点　ＰＫ負１点　負０点）　Ⅱ当該チームの戦績　Ⅲ得失点差　Ⅳ多得点　Ⅴ抽選の順で順位を決定する。"]
[]
[null,null,null,null,null,null,null,null,null,null,null,null,null,null,null,null,null,null,null,null,null,null,null,null,"勝点表",null,"勝","○",null,"PK\n勝","△",null,"PK\n負","▲",null,"負","●"]
[null,null,null,null,null,null,null,null,null,null,null,null,null,null,null,null,null,null,null,null,null,null,null,null,null,null,null,3,null,null,2,null,null,1,null,null,0]

{"sheet":"１次リーグ（中津）","index":21,"n_rows":100,"n_cols":67,"rows_kept":100,"cut":false,"hidden":false,"merged":[[85,43,86,43],[85,44,86,45],[71,58,76,59],[28,41,29,42],[91,36,92,37],[91,38,92,38],[91,39,92,40],[93,31,94,32],[93,33,94,33],[93,34,94,35],[93,36,94,37],[93,38,94,38],[93,39,94,40],[77,36,78,40],[77,41,78,45],[79,36,80,37],[79,38,80,38],[79,39,80,40],[79,41,80,42],[79,43,80,43],[79,44,80,45],[81,36,82,37],[81,38,82,38],[81,39,82,40],[89,64,94,65],[71,66,76,66],[77,66,82,66],[83,66,88,66],[89,66,94,66],[14,66,19,66],[20,66,25,66],[26,66,31,66],[32,66,37,66],[14,64,19,65],[71,64,76,65],[77,64,82,65],[83,64,88,65],[20,64,25,65],[26,64,31,65],[32,64,37,65],[0,60,0,66],[1,0,1,10],[1,12,1,22],[1,24,1,58],[0,9,0,10],[0,21,0,22],[41,35,42,35],[98,35,99,35],[20,36,21,40],[22,38,23,38],[24,38,25,38],[22,36,23,37],[22,39,23,40],[24,36,25,37],[24,39,25,40],[26,31,27,35],[85,34,86,35],[96,24,97,57],[98,24,99,25],[98,26,99,26],[98,29,99,29],[98,32,99,32],[28,43,29,43],[28,44,29,45],[3,3,3,10],[3,15,3,22],[3,24,3,26],[3,27,3,32],[3,34,3,48],[5,24,5,26],[6,41,6,44],[5,27,5,32],[0,0,0,8],[0,12,0,20],[0,24,0,58],[7,2,7,8],[7,9,7,10],[7,14,7,20],[7,21,7,22],[7,25,7,27],[7,28,7,40],[7,41,7,44],[6,2,6,8],[6,9,6,10],[6,14,6,20],[6,21,6,22],[6,25,6,27],[6,28,6,40],[8,2,8,8],[8,9,8,10],[8,14,8,20],[8,21,8,22],[8,25,8,27],[8,28,8,40],[8,41,8,44],[11,0,13,0],[11,1,13,1],[11,2,13,2],[11,3,13,3],[11,7,13,7],[11,8,13,8],[11,9,13,9],[11,12,13,12],[11,13,13,13],[11,14,13,14],[11,15,13,15],[11,19,13,19],[11,20,13,20],[11,21,13,21],[14,62,19,63],[18,4,18,5],[18,6,18,8],[18,9,18,10],[18,16,18,17],[18,18,18,20],[18,21,18,22],[19,4,19,5],[14,46,19,47],[14,1,14,5],[14,6,14,8],[14,9,14,10],[15,1,15,5],[15,6,15,8],[15,9,15,10],[16,1,16,5],[16,6,16,8],[16,9,16,10],[14,13,14,17],[14,18,14,20],[14,21,14,22],[15,13,15,17],[15,18,15,20],[15,21,15,22],[20,4,20,5],[20,6,20,8],[20,9,20,10],[20,16,20,17],[20,18,20,20],[14,58,19,59],[14,48,19,49],[14,50,19,51],[14,52,19,53],[14,54,19,55],[17,4,17,5],[17,6,17,8],[17,9,17,10],[17,16,17,17],[17,18,17,20],[16,13,16,17],[16,18,16,20],[16,21,16,22],[20,24,25,28],[20,29,22,30],[20,31,25,35],[19,6,19,8],[19,9,19,10],[19,16,19,17],[19,18,19,20],[19,21,19,22],[26,24,31,28],[30,41,31,42],[26,48,31,49],[26,50,31,51],[55,18,55,20],[55,21,55,22],[14,60,19,61],[14,56,19,57],[17,21,17,22],[14,24,19,27],[14,28,19,30],[14,31,19,35],[14,36,19,40],[14,41,19,45],[20,21,20,22],[26,52,31,53],[26,54,31,55],[26,56,31,57],[26,58,31,59],[26,60,31,61],[32,56,37,57],[32,58,37,59],[20,62,25,63],[23,29,25,30],[22,43,23,43],[22,44,23,45],[24,41,25,42],[20,48,25,49],[20,50,25,51],[20,52,25,53],[20,54,25,55],[20,56,25,57],[20,58,25,59],[20,46,25,47],[20,41,21,45],[22,41,23,42],[24,43,25,43],[24,44,25,45],[20,60,25,61],[26,62,31,63],[29,29,31,30],[26,29,28,30],[26,36,31,40],[26,46,31,47],[30,31,31,32],[30,33,31,33],[30,34,31,35],[28,31,29,32],[28,33,29,33],[28,34,29,35],[26,41,27,45],[30,43,31,43],[30,44,31,45],[32,41,37,45],[32,46,37,47],[32,50,37,51],[32,52,37,53],[32,31,33,35],[34,31,35,32],[34,33,35,33],[34,34,35,35],[32,36,33,40],[34,36,35,37],[36,34,37,35],[36,36,37,37],[36,38,37,38],[36,39,37,40],[34,38,35,38],[34,39,35,40],[36,31,37,32],[36,33,37,33],[32,60,37,61],[32,62,37,63],[35,29,37,30],[32,48,37,49],[35,21,35,22],[32,24,37,28],[32,29,34,30],[83,31,84,35],[83,41,84,45],[47,60,48,66],[49,24,50,58],[59,41,60,44],[59,25,60,27],[59,28,60,40],[53,24,54,26],[53,27,54,32],[53,33,54,33],[53,34,54,48],[57,24,58,26],[57,27,58,32],[39,24,40,57],[41,24,42,25],[41,26,42,26],[61,25,62,27],[41,32,42,32],[47,13,49,13],[47,15,49,15],[29,9,31,9],[35,4,35,5],[35,6,35,8],[35,9,35,10],[37,4,37,5],[38,4,38,5],[38,6,38,8],[38,9,38,10],[37,6,37,8],[37,9,37,10],[41,29,42,29],[32,1,32,5],[32,6,32,8],[32,9,32,10],[33,1,33,5],[33,6,33,8],[33,9,33,10],[34,1,34,5],[34,6,34,8],[34,9,34,10],[50,13,50,17],[50,18,50,20],[50,21,50,22],[53,16,53,17],[56,16,56,17],[55,16,55,17],[29,0,31,0],[29,1,31,1],[29,2,31,2],[29,3,31,3],[29,7,31,7],[29,8,31,8],[53,18,53,20],[53,21,53,22],[51,13,51,17],[51,18,51,20],[51,21,51,22],[52,13,52,17],[52,18,52,20],[52,21,52,22],[77,50,82,51],[77,52,82,53],[77,54,82,55],[29,12,31,12],[29,13,31,13],[36,4,36,5],[36,6,36,8],[36,9,36,10],[54,16,54,17],[47,9,49,9],[32,54,37,55],[77,24,82,28],[50,1,50,5],[50,6,50,8],[50,9,50,10],[51,1,51,5],[51,6,51,8],[51,9,51,10],[52,1,52,5],[52,6,52,8],[52,9,52,10],[32,13,32,17],[32,18,32,20],[32,21,32,22],[71,56,76,57],[29,20,31,20],[53,4,53,5],[53,6,53,8],[53,9,53,10],[35,16,35,17],[35,18,35,20],[54,4,54,5],[54,6,54,8],[54,9,54,10],[36,16,36,17],[47,24,48,58],[71,50,76,51],[71,52,76,53],[71,54,76,55],[33,13,33,17],[33,18,33,20],[33,21,33,22],[34,13,34,17],[34,18,34,20],[34,21,34,22],[63,41,64,44],[71,41,76,45],[71,46,76,47],[71,48,76,49],[47,0,49,0],[47,1,49,1],[47,2,49,2],[47,3,49,3],[47,7,49,7],[47,8,49,8],[29,14,31,14],[29,15,31,15],[29,19,31,19],[29,21,31,21],[71,24,76,27],[71,28,76,30],[71,31,76,35],[71,36,76,40],[54,18,54,20],[54,21,54,22],[56,18,56,20],[56,21,56,22],[47,12,49,12],[47,14,49,14],[47,19,49,19],[47,20,49,20],[47,21,49,21],[83,62,88,63],[86,29,88,30],[85,41,86,42],[77,62,82,63],[71,60,76,61],[71,62,76,63],[36,18,36,20],[36,21,36,22],[55,4,55,5],[55,6,55,8],[55,9,55,10],[37,16,37,17],[37,18,37,20],[37,21,37,22],[56,4,56,5],[56,6,56,8],[56,9,56,10],[38,16,38,17],[38,18,38,20],[38,21,38,22],[61,28,62,40],[61,41,62,44],[63,25,64,27],[63,28,64,40],[77,29,79,30],[77,31,82,35],[77,46,82,47],[77,48,82,49],[77,58,82,59],[77,60,82,61],[83,50,88,51],[83,52,88,53],[83,54,88,55],[83,56,88,57],[80,29,82,30],[87,31,88,32],[87,33,88,33],[87,34,88,35],[87,41,88,42],[87,43,88,43],[87,44,88,45],[81,41,82,42],[81,43,82,43],[81,44,82,45],[85,33,86,33],[83,58,88,59],[83,60,88,61],[77,56,82,57],[89,58,94,59],[89,62,94,63],[89,48,94,49],[83,46,88,47],[83,48,88,49],[89,24,94,28],[89,29,91,30],[89,41,94,45],[89,46,94,47],[89,31,90,35],[89,36,90,40],[91,31,92,32],[92,29,94,30],[91,33,92,33],[91,34,92,35],[89,60,94,61],[89,50,94,51],[89,52,94,53],[89,54,94,55],[89,56,94,57],[83,24,88,28],[83,29,85,30],[83,36,88,40],[85,31,86,32]]}
[{"$f":"抽選会資料!B1","v":"OFA 第 53 回大分県U-12サッカー大会　兼　KYFA 九州U-12サッカー大会大分県大会"},null,null,null,null,null,null,null,null,"１次リーグ結果　報告用紙",null,null,{"$f":"抽選会資料!B1","v":"OFA 第 53 回大分県U-12サッカー大会　兼　KYFA 九州U-12サッカー大会大分県大会"},null,null,null,null,null,null,null,null,"１次リーグ結果　報告用紙",null,null,{"$f":"$A$1","v":"OFA 第 53 回大分県U-12サッカー大会　兼　KYFA 九州U-12サッカー大会大分県大会"},null,null,null,null,null,null,null,null,null,null,null,null,null,null,null,null,null,null,null,null,null,null,null,null,null,null,null,null,null,null,null,null,null,null,null,{"$f":"$J$1","v":"１次リーグ結果　報告用紙"}]
["＜時間割＞　①10:00～　②11:00～　③12:00～　④13:00～　⑤14:00～　⑥15:00～",null,null,null,null,null,null,null,null,null,null,null,"＜時間割＞　①10:00～　②11:00～　③12:00～　④13:00～　⑤14:00～　⑥15:00～",null,null,null,null,null,null,null,null,null,null,null,"＜時間割＞　①10:00～　②11:00～　③12:00～　④13:00～　⑤14:00～　⑥15:00～"]
[]
["会場",{"$f":"組み合わせ!DH8","v":"中津"},"⇒",{"$f":"VLOOKUP(B4,抽選会資料!$B$52:$F$60,2,FALSE)","v":"永添運動公園人工芝多目的グラウンド"},null,null,null,null,null,null,null,null,"会場",{"$f":"組み合わせ!DH8","v":"中津"},"⇒",{"$f":"VLOOKUP(N4,抽選会資料!$B$52:$F$60,2,FALSE)","v":"永添運動公園人工芝多目的グラウンド"},null,null,null,null,null,null,null,null,"会場",null,null,{"$f":"$B$4","v":"中津"},null,null,null,null,null,"⇒",{"$f":"$D$4","v":"永添運動公園人工芝多目的グラウンド"}]
[]
["パート",{"$f":"VLOOKUP(B4,組み合わせ!$AL$95:$BU$112,13,FALSE)","v":"D"},null,null,null,null,null,null,null,null,null,null,"パート",{"$f":"VLOOKUP(N4,組み合わせ!$AL$95:$BU$112,25,FALSE)","v":"H"},null,null,null,null,null,null,null,null,null,null,"パート",null,null,{"$f":"$B$6","v":"D"}]
[null,{"$f":"CONCATENATE($B$6,1)","v":"D1"},{"$f":"HLOOKUP(B7,組み合わせ!$B$48:$EO$86,2,FALSE)","v":"ＦＣ中津ジュニア"},null,null,null,null,null,null,{"$f":"HLOOKUP(B7,組み合わせ!$B$48:$EO$86,32,FALSE)","v":"中津"},null,null,null,{"$f":"CONCATENATE($N$6,1)","v":"H1"},{"$f":"HLOOKUP(N7,組み合わせ!$B$48:$EO$86,2,FALSE)","v":"はやぶさフットボールクラブ"},null,null,null,null,null,null,{"$f":"HLOOKUP(N7,組み合わせ!$B$48:$EO$86,32,FALSE)","v":"中津"},null,null,null,{"$f":"+B7","v":"D1"},null,null,{"$f":"$C$7","v":"ＦＣ中津ジュニア"},null,null,null,null,null,null,null,null,null,null,null,null,{"$f":"$J$7","v":"中津"}]
[null,{"$f":"CONCATENATE($B$6,2)","v":"D2"},{"$f":"HLOOKUP(B8,組み合わせ!$B$48:$EO$86,2,FALSE)","v":"明治北ＳＳＣ"},null,null,null,null,null,null,{"$f":"HLOOKUP(B8,組み合わせ!$B$48:$EO$86,32,FALSE)","v":"大分"},null,null,null,{"$f":"CONCATENATE($N$6,2)","v":"H2"},{"$f":"HLOOKUP(N8,組み合わせ!$B$48:$EO$86,2,FALSE)","v":"リノスフットボールクラブ　Ｕ－１２"},null,null,null,null,null,null,{"$f":"HLOOKUP(N8,組み合わせ!$B$48:$EO$86,32,FALSE)","v":"大分"},null,null,null,{"$f":"+B8","v":"D2"},null,null,{"$f":"$C$8","v":"明治北ＳＳＣ"},null,null,null,null,null,null,null,null,null,null,null,null,{"$f":"$J$8","v":"大分"}]
[null,{"$f":"CONCATENATE($B$6,3)","v":"D3"},{"$f":"HLOOKUP(B9,組み合わせ!$B$48:$EO$86,2,FALSE)","v":"スマイス日出"},null,null,null,null,null,null,{"$f":"HLOOKUP(B9,組み合わせ!$B$48:$EO$86,32,FALSE)","v":"速杵国東"},null,null,null,{"$f":"CONCATENATE($N$6,3)","v":"H3"},{"$f":"HLOOKUP(N9,組み合わせ!$B$48:$EO$86,2,FALSE)","v":"北郡坂ノ市サッカースポーツ少年団"},null,null,null,null,null,null,{"$f":"HLOOKUP(N9,組み合わせ!$B$48:$EO$86,32,FALSE)","v":"大分"},null,null,null,{"$f":"+B9","v":"D3"},null,null,{"$f":"$C$9","v":"スマイス日出"},null,null,null,null,null,null,null,null,null,null,null,null,{"$f":"$J$9","v":"速杵国東"}]
["8：50～ＭＣＭ",null,null,null,null,null,null,null,null,null,null,null,"9：50～ＭＣＭ"]
[]
["①\n10:00～",{"$f":"C7","v":"ＦＣ中津ジュニア"},{"$f":"IF(E12=\"\",\"\",SUM(E12:E13))","v":1},"（",1,"前半",0,"）",{"$f":"IF(G12=\"\",\"\",SUM(G12:G13))","v":2},{"$f":"C8","v":"明治北ＳＳＣ"},null,null,"②\n11:00～",{"$f":"O7","v":"はやぶさフットボールクラブ"},{"$f":"IF(Q12=\"\",\"\",SUM(Q12:Q13))","v":""},"（",null,"前半",null,"）",{"$f":"IF(S12=\"\",\"\",SUM(S12:S13))","v":""},{"$f":"O8","v":"リノスフットボールクラブ　Ｕ－１２"}]
[null,null,null,null,0,"後半",2,null,null,null,null,null,null,null,null,null,null,"後半"]
[null,null,null,null,null,"PK",null,null,null,null,null,null,null,null,null,null,null,"PK"]
["MC","甲斐　照",null,null,null,null,"所属協会",null,null,"中津市サッカー協会",null,null,"MC",null,null,null,null,null,"所属協会",null,null,null,null,null,{"$f":"$Y$6","v":"パート"},null,null,null,{"$f":"$AB$6","v":"D"},null,null,{"$f":"$Y$21","v":"ＦＣ中津ジュニア"},null,null,null,null,{"$f":"$Y$27","v":"明治北ＳＳＣ"},null,null,null,null,{"$f":"$Y$33","v":"スマイス日出"},null,null,null,null,"勝",null,"PK\n勝",null,"PK\n負",null,"負",null,"得点",null,"失点",null,"勝点",null,"勝点\n順位",null,"得失\n点差",null,"得失\n順位",null,"総\n順位"]
["WelfareOfficer","甲斐　照",null,null,null,null,"所属協会",null,null,"中津市サッカー協会",null,null,"WelfareOfficer",null,null,null,null,null,"所属協会"]
["記録","近砂　覚志",null,null,null,null,"所属協会",null,null,"中津市サッカー協会",null,null,"記録",null,null,null,null,null,"所属協会"]
["R:",{"$f":"IF(ISERROR(VLOOKUP(G18,審判員!$A:$C,2,FALSE))=TRUE,\"\",VLOOKUP(G18,審判員!$A:$C,2,FALSE))","v":"菅川　智"},{"$f":"IF(ISERROR(VLOOKUP(G18,審判員!$A:$C,3,FALSE))=TRUE,\"\",VLOOKUP(G18,審判員!$A:$C,3,FALSE))","v":3},"級","資格番号",null,"R008515571",null,null,"本部",null,null,"R:",{"$f":"IF(ISERROR(VLOOKUP(S18,審判員!$A:$C,2,FALSE))=TRUE,\"\",VLOOKUP(S18,審判員!$A:$C,2,FALSE))","v":""},{"$f":"IF(ISERROR(VLOOKUP(S18,審判員!$A:$C,3,FALSE))=TRUE,\"\",VLOOKUP(S18,審判員!$A:$C,3,FALSE))","v":""},"級","資格番号",null,null,null,null,"本部"]
["AR1:",{"$f":"IF(ISERROR(VLOOKUP(G19,審判員!$A:$C,2,FALSE))=TRUE,\"\",VLOOKUP(G19,審判員!$A:$C,2,FALSE))","v":"高畑　徳治郎"},{"$f":"IF(ISERROR(VLOOKUP(G19,審判員!$A:$C,3,FALSE))=TRUE,\"\",VLOOKUP(G19,審判員!$A:$C,3,FALSE))","v":3},"級","資格番号",null,"R001263846",null,null,{"$f":"N12","v":"はやぶさフットボールクラブ"},null,null,"AR1:",{"$f":"IF(ISERROR(VLOOKUP(S19,審判員!$A:$C,2,FALSE))=TRUE,\"\",VLOOKUP(S19,審判員!$A:$C,2,FALSE))","v":""},{"$f":"IF(ISERROR(VLOOKUP(S19,審判員!$A:$C,3,FALSE))=TRUE,\"\",VLOOKUP(S19,審判員!$A:$C,3,FALSE))","v":""},"級","資格番号",null,null,null,null,{"$f":"B12","v":"ＦＣ中津ジュニア"}]
["AR2:",{"$f":"IF(ISERROR(VLOOKUP(G20,審判員!$A:$C,2,FALSE))=TRUE,\"\",VLOOKUP(G20,審判員!$A:$C,2,FALSE))","v":"石川　慎也"},{"$f":"IF(ISERROR(VLOOKUP(G20,審判員!$A:$C,3,FALSE))=TRUE,\"\",VLOOKUP(G20,審判員!$A:$C,3,FALSE))","v":3},"級","資格番号",null,"R001262379",null,null,"本部",null,null,"AR2:",{"$f":"IF(ISERROR(VLOOKUP(S20,審判員!$A:$C,2,FALSE))=TRUE,\"\",VLOOKUP(S20,審判員!$A:$C,2,FALSE))","v":""},{"$f":"IF(ISERROR(VLOOKUP(S20,審判員!$A:$C,3,FALSE))=TRUE,\"\",VLOOKUP(S20,審判員!$A:$C,3,FALSE))","v":""},"級","資格番号",null,null,null,null,{"$f":"J12","v":"明治北ＳＳＣ"}]
["4th:",{"$f":"IF(ISERROR(VLOOKUP(G21,審判員!$A:$C,2,FALSE))=TRUE,\"\",VLOOKUP(G21,審判員!$A:$C,2,FALSE))","v":"屋敷　伴幸"},{"$f":"IF(ISERROR(VLOOKUP(G21,審判員!$A:$C,3,FALSE))=TRUE,\"\",VLOOKUP(G21,審判員!$A:$C,3,FALSE))","v":3},"級","資格番号",null,"R001264775",null,null,"本部",null,null,"4th:",{"$f":"IF(ISERROR(VLOOKUP(S21,審判員!$A:$C,2,FALSE))=TRUE,\"\",VLOOKUP(S21,審判員!$A:$C,2,FALSE))","v":""},{"$f":"IF(ISERROR(VLOOKUP(S21,審判員!$A:$C,3,FALSE))=TRUE,\"\",VLOOKUP(S21,審判員!$A:$C,3,FALSE))","v":""},"級","資格番号",null,null,null,null,"本部",null,null,{"$f":"$AC$7","v":"ＦＣ中津ジュニア"},null,null,null,null,"星取表",null,null,null,null,null,null,{"$f":"IF(AK25=\"\",\"\",IF(AK25>AN25,\"○\",IF(AK25<AN25,\"●\",IF(AK23>AN23,\"△\",IF(AK23<AN23,\"▲\")))))","v":"●"},null,null,null,null,{"$f":"IF(AP25=\"\",\"\",IF(AP25>AS25,\"○\",IF(AP25<AS25,\"●\",IF(AP23>AS23,\"△\",IF(AP23<AS23,\"▲\")))))","v":"○"},null,null,null,null,{"$f":"COUNTIF($AF$21:$AT$22,\"○\")","v":1},null,{"$f":"COUNTIF($AF$21:$AT$22,\"△\")","v":0},null,{"$f":"COUNTIF($AF$21:$AT$22,\"▲\")","v":0},null,{"$f":"COUNTIF($AF$21:$AT$22,\"●\")","v":1},null,{"$f":"SUM($AK$25,$AP$25)","v":13},null,{"$f":"SUM($AN$25,$AS$25)","v":2},null,{"$f":"($AU$21*3)+($AW$21*2)+($AY$21*1)","v":3},null,{"$f":"RANK($BG$21,$BG$21:$BH$38)","v":2},null,{"$f":"$BC$21-$BE$21","v":11},null,{"$f":"RANK($BK$21,$BK$21:$BL$38)","v":1}]
["警告/退場","氏名","背番号","分","内容",null,"内容","分","背番号","氏名","警告/退場",null,"警告/退場","氏名","背番号","分","内容",null,"内容","分","背番号","氏名","警告/退場"]
[null,{"$f":"IF(ISERROR(VLOOKUP(CONCATENATE($B$12,\"_\",C23),選手名簿!$A:$E,5,FALSE))=TRUE,\"\",VLOOKUP(CONCATENATE($B$12,\"_\",C23),選手名簿!$A:$E,5,FALSE))","v":""},null,null,null,null,null,null,null,{"$f":"IF(ISERROR(VLOOKUP(CONCATENATE($J$12,\"_\",I23),選手名簿!$A:$E,5,FALSE))=TRUE,\"\",VLOOKUP(CONCATENATE($J$12,\"_\",I23),選手名簿!$A:$E,5,FALSE))","v":""},null,null,null,{"$f":"IF(ISERROR(VLOOKUP(CONCATENATE($N$12,\"_\",O23),選手名簿!$A:$E,5,FALSE))=TRUE,\"\",VLOOKUP(CONCATENATE($N$12,\"_\",O23),選手名簿!$A:$E,5,FALSE))","v":""},null,null,null,null,null,null,null,{"$f":"IF(ISERROR(VLOOKUP(CONCATENATE($V$12,\"_\",U23),選手名簿!$A:$E,5,FALSE))=TRUE,\"\",VLOOKUP(CONCATENATE($V$12,\"_\",U23),選手名簿!$A:$E,5,FALSE))","v":""},null,null,null,null,null,null,null,null,null,null,null,null,null,null,{"$f":"IF($E$14=\"\",\"\",$E$14)","v":""},null,"―",{"$f":"IF($G$14=\"\",\"\",$G$14)","v":""},null,{"$f":"IF($G$50=\"\",\"\",$G$50)","v":""},null,"―",{"$f":"IF($E$50=\"\",\"\",$E$50)","v":""}]
[null,{"$f":"IF(ISERROR(VLOOKUP(CONCATENATE($B$12,\"_\",C24),選手名簿!$A:$E,5,FALSE))=TRUE,\"\",VLOOKUP(CONCATENATE($B$12,\"_\",C24),選手名簿!$A:$E,5,FALSE))","v":""},null,null,null,null,null,null,null,{"$f":"IF(ISERROR(VLOOKUP(CONCATENATE($J$12,\"_\",I24),選手名簿!$A:$E,5,FALSE))=TRUE,\"\",VLOOKUP(CONCATENATE($J$12,\"_\",I24),選手名簿!$A:$E,5,FALSE))","v":""},null,null,null,{"$f":"IF(ISERROR(VLOOKUP(CONCATENATE($N$12,\"_\",O24),選手名簿!$A:$E,5,FALSE))=TRUE,\"\",VLOOKUP(CONCATENATE($N$12,\"_\",O24),選手名簿!$A:$E,5,FALSE))","v":""},null,null,null,null,null,null,null,{"$f":"IF(ISERROR(VLOOKUP(CONCATENATE($V$12,\"_\",U24),選手名簿!$A:$E,5,FALSE))=TRUE,\"\",VLOOKUP(CONCATENATE($V$12,\"_\",U24),選手名簿!$A:$E,5,FALSE))","v":""},null,null,null,null,null,null,null,"得失点"]
[null,{"$f":"IF(ISERROR(VLOOKUP(CONCATENATE($B$12,\"_\",C25),選手名簿!$A:$E,5,FALSE))=TRUE,\"\",VLOOKUP(CONCATENATE($B$12,\"_\",C25),選手名簿!$A:$E,5,FALSE))","v":""},null,null,null,null,null,null,null,{"$f":"IF(ISERROR(VLOOKUP(CONCATENATE($J$12,\"_\",I25),選手名簿!$A:$E,5,FALSE))=TRUE,\"\",VLOOKUP(CONCATENATE($J$12,\"_\",I25),選手名簿!$A:$E,5,FALSE))","v":""},null,null,null,{"$f":"IF(ISERROR(VLOOKUP(CONCATENATE($N$12,\"_\",O25),選手名簿!$A:$E,5,FALSE))=TRUE,\"\",VLOOKUP(CONCATENATE($N$12,\"_\",O25),選手名簿!$A:$E,5,FALSE))","v":""},null,null,null,null,null,null,null,{"$f":"IF(ISERROR(VLOOKUP(CONCATENATE($V$12,\"_\",U25),選手名簿!$A:$E,5,FALSE))=TRUE,\"\",VLOOKUP(CONCATENATE($V$12,\"_\",U25),選手名簿!$A:$E,5,FALSE))","v":""},null,null,null,null,null,null,null,null,null,null,null,null,null,null,{"$f":"$C$12","v":1},null,"―",{"$f":"$I$12","v":2},null,{"$f":"$I$48","v":12},null,"―",{"$f":"$C$48","v":0}]
[null,{"$f":"IF(ISERROR(VLOOKUP(CONCATENATE($B$12,\"_\",C26),選手名簿!$A:$E,5,FALSE))=TRUE,\"\",VLOOKUP(CONCATENATE($B$12,\"_\",C26),選手名簿!$A:$E,5,FALSE))","v":""},null,null,null,null,null,null,null,{"$f":"IF(ISERROR(VLOOKUP(CONCATENATE($J$12,\"_\",I26),選手名簿!$A:$E,5,FALSE))=TRUE,\"\",VLOOKUP(CONCATENATE($J$12,\"_\",I26),選手名簿!$A:$E,5,FALSE))","v":""},null,null,null,{"$f":"IF(ISERROR(VLOOKUP(CONCATENATE($N$12,\"_\",O26),選手名簿!$A:$E,5,FALSE))=TRUE,\"\",VLOOKUP(CONCATENATE($N$12,\"_\",O26),選手名簿!$A:$E,5,FALSE))","v":""},null,null,null,null,null,null,null,{"$f":"IF(ISERROR(VLOOKUP(CONCATENATE($V$12,\"_\",U26),選手名簿!$A:$E,5,FALSE))=TRUE,\"\",VLOOKUP(CONCATENATE($V$12,\"_\",U26),選手名簿!$A:$E,5,FALSE))","v":""}]
[null,{"$f":"IF(ISERROR(VLOOKUP(CONCATENATE($B$12,\"_\",C27),選手名簿!$A:$E,5,FALSE))=TRUE,\"\",VLOOKUP(CONCATENATE($B$12,\"_\",C27),選手名簿!$A:$E,5,FALSE))","v":""},null,null,null,null,null,null,null,{"$f":"IF(ISERROR(VLOOKUP(CONCATENATE($J$12,\"_\",I27),選手名簿!$A:$E,5,FALSE))=TRUE,\"\",VLOOKUP(CONCATENATE($J$12,\"_\",I27),選手名簿!$A:$E,5,FALSE))","v":""},null,null,null,{"$f":"IF(ISERROR(VLOOKUP(CONCATENATE($N$12,\"_\",O27),選手名簿!$A:$E,5,FALSE))=TRUE,\"\",VLOOKUP(CONCATENATE($N$12,\"_\",O27),選手名簿!$A:$E,5,FALSE))","v":""},null,null,null,null,null,null,null,{"$f":"IF(ISERROR(VLOOKUP(CONCATENATE($V$12,\"_\",U27),選手名簿!$A:$E,5,FALSE))=TRUE,\"\",VLOOKUP(CONCATENATE($V$12,\"_\",U27),選手名簿!$A:$E,5,FALSE))","v":""},null,null,{"$f":"$AC$8","v":"明治北ＳＳＣ"},null,null,null,null,"星取表",null,{"$f":"IF(AF31=\"\",\"\",IF(AF31>AI31,\"○\",IF(AF31<AI31,\"●\",IF(AF29>AI29,\"△\",IF(AF29<AI29,\"▲\")))))","v":"○"},null,null,null,null,null,null,null,null,null,{"$f":"IF(AP31=\"\",\"\",IF(AP31>AS31,\"○\",IF(AP31<AS31,\"●\",IF(AP29>AS29,\"△\",IF(AP29<AS29,\"▲\")))))","v":"○"},null,null,null,null,{"$f":"COUNTIF($AF$27:$AT$28,\"○\")","v":2},null,{"$f":"COUNTIF($AF$27:$AT$28,\"△\")","v":0},null,{"$f":"COUNTIF($AF$27:$AT$28,\"▲\")","v":0},null,{"$f":"COUNTIF($AF$27:$AT$28,\"●\")","v":0},null,{"$f":"SUM($AF$31,$AP$31)","v":8},null,{"$f":"SUM($AI$31,$AS$31)","v":2},null,{"$f":"($AU$27*3)+($AW$27*2)+($AY$27*1)","v":6},null,{"$f":"RANK($BG$27,$BG$21:$BH$38)","v":1},null,{"$f":"$BC$27-$BE$27","v":6},null,{"$f":"RANK($BK$27,$BK$21:$BL$38)","v":2}]
[]
[null,null,null,null,null,null,null,null,null,null,null,null,null,null,null,null,null,null,null,null,null,null,null,null,null,null,null,null,null,null,null,{"$f":"AN23","v":""},null,"―",{"$f":"AK23","v":""},null,null,null,null,null,null,{"$f":"IF($E$32=\"\",\"\",$E$32)","v":""},null,"―",{"$f":"IF($G$32=\"\",\"\",$G$32)","v":""}]
["③\n12:00～",{"$f":"C8","v":"明治北ＳＳＣ"},{"$f":"IF(E30=\"\",\"\",SUM(E30:E31))","v":6},"（",3,"前半",0,"）",{"$f":"IF(G30=\"\",\"\",SUM(G30:G31))","v":1},{"$f":"C9","v":"スマイス日出"},null,null,"④\n13:00～",{"$f":"O9","v":"北郡坂ノ市サッカースポーツ少年団"},{"$f":"IF(Q30=\"\",\"\",SUM(Q30:Q31))","v":0},"（",0,"前半",1,"）",{"$f":"IF(S30=\"\",\"\",SUM(S30:S31))","v":1},{"$f":"O7","v":"はやぶさフットボールクラブ"},null,null,null,null,null,null,null,"得失点"]
[null,null,null,null,3,"後半",1,null,null,null,null,null,null,null,null,null,0,"後半",0,null,null,null,null,null,null,null,null,null,null,null,null,{"$f":"AN25","v":2},null,"―",{"$f":"AK25","v":1},null,null,null,null,null,null,{"$f":"$C$30","v":6},null,"―",{"$f":"$I$30","v":1}]
[null,null,null,null,null,"PK",null,null,null,null,null,null,null,null,null,null,null,"PK"]
["MC","水島　義規",null,null,null,null,"所属協会",null,null,"中津市サッカー協会",null,null,"MC","屋敷　伴幸",null,null,null,null,"所属協会",null,null,"中津市サッカー協会",null,null,{"$f":"$AC$9","v":"スマイス日出"},null,null,null,null,"星取表",null,{"$f":"IF(AF37=\"\",\"\",IF(AF37>AI37,\"○\",IF(AF37<AI37,\"●\",IF(AF35>AI35,\"△\",IF(AF35<AI35,\"▲\")))))","v":"●"},null,null,null,null,{"$f":"IF(AK37=\"\",\"\",IF(AK37>AN37,\"○\",IF(AK37<AN37,\"●\",IF(AK35>AN35,\"△\",IF(AK35<AN35,\"▲\")))))","v":"●"},null,null,null,null,null,null,null,null,null,{"$f":"COUNTIF($AF$33:$AT$34,\"○\")","v":0},null,{"$f":"COUNTIF($AF$33:$AT$34,\"△\")","v":0},null,{"$f":"COUNTIF($AF$33:$AT$34,\"▲\")","v":0},null,{"$f":"COUNTIF($AF$33:$AT$34,\"●\")","v":2},null,{"$f":"SUM($AF$37,$AK$37)","v":1},null,{"$f":"SUM($AI$37,$AN$37)","v":18},null,{"$f":"($AU$33*3)+($AW$33*2)+($AY$33*1)","v":0},null,{"$f":"RANK($BG$33,$BG$21:$BH$38)","v":3},null,{"$f":"$BC$33-$BE$33","v":-17},null,{"$f":"RANK($BK$33,$BK$21:$BL$38)","v":3}]
["WelfareOfficer","水島　義規",null,null,null,null,"所属協会",null,null,"中津市サッカー協会",null,null,"WelfareOfficer","屋敷　伴幸",null,null,null,null,"所属協会",null,null,"中津市サッカー協会"]
["記録","清原　勇二",null,null,null,null,"所属協会",null,null,"中津市サッカー協会",null,null,"記録","甲斐　照",null,null,null,null,"所属協会",null,null,"中津市サッカー協会",null,null,null,null,null,null,null,null,null,{"$f":"AS23","v":""},null,"―",{"$f":"AP23","v":""},null,{"$f":"AS29","v":""},null,"―",{"$f":"AP29","v":""}]
["R:",{"$f":"IF(ISERROR(VLOOKUP(G36,審判員!$A:$C,2,FALSE))=TRUE,\"\",VLOOKUP(G36,審判員!$A:$C,2,FALSE))","v":"水江　真太郎"},{"$f":"IF(ISERROR(VLOOKUP(G36,審判員!$A:$C,3,FALSE))=TRUE,\"\",VLOOKUP(G36,審判員!$A:$C,3,FALSE))","v":2},"級","資格番号",null,"R004793649",null,null,"本部",null,null,"R:",{"$f":"IF(ISERROR(VLOOKUP(S36,審判員!$A:$C,2,FALSE))=TRUE,\"\",VLOOKUP(S36,審判員!$A:$C,2,FALSE))","v":"菅川　智"},{"$f":"IF(ISERROR(VLOOKUP(S36,審判員!$A:$C,3,FALSE))=TRUE,\"\",VLOOKUP(S36,審判員!$A:$C,3,FALSE))","v":3},"級","資格番号",null,"R008515571",null,null,"本部",null,null,null,null,null,null,null,"得失点"]
["AR1:",{"$f":"IF(ISERROR(VLOOKUP(G37,審判員!$A:$C,2,FALSE))=TRUE,\"\",VLOOKUP(G37,審判員!$A:$C,2,FALSE))","v":"高畑　智秀"},{"$f":"IF(ISERROR(VLOOKUP(G37,審判員!$A:$C,3,FALSE))=TRUE,\"\",VLOOKUP(G37,審判員!$A:$C,3,FALSE))","v":3},"級","資格番号",null,"R001263837",null,null,"本部",null,null,"AR1:",{"$f":"IF(ISERROR(VLOOKUP(S37,審判員!$A:$C,2,FALSE))=TRUE,\"\",VLOOKUP(S37,審判員!$A:$C,2,FALSE))","v":"廣戸　誠一"},{"$f":"IF(ISERROR(VLOOKUP(S37,審判員!$A:$C,3,FALSE))=TRUE,\"\",VLOOKUP(S37,審判員!$A:$C,3,FALSE))","v":3},"級","資格番号",null,"R001260070",null,null,{"$f":"B30","v":"明治北ＳＳＣ"},null,null,null,null,null,null,null,null,null,{"$f":"AS25","v":0},null,"―",{"$f":"AP25","v":12},null,{"$f":"AS31","v":1},null,"―",{"$f":"AP31","v":6}]
["AR2:",{"$f":"IF(ISERROR(VLOOKUP(G38,審判員!$A:$C,2,FALSE))=TRUE,\"\",VLOOKUP(G38,審判員!$A:$C,2,FALSE))","v":"三好　美輝"},{"$f":"IF(ISERROR(VLOOKUP(G38,審判員!$A:$C,3,FALSE))=TRUE,\"\",VLOOKUP(G38,審判員!$A:$C,3,FALSE))","v":3},"級","資格番号",null,"R001252196",null,null,{"$f":"V48","v":"北郡坂ノ市サッカースポーツ少年団"},null,null,"AR2:",{"$f":"IF(ISERROR(VLOOKUP(S38,審判員!$A:$C,2,FALSE))=TRUE,\"\",VLOOKUP(S38,審判員!$A:$C,2,FALSE))","v":"内藤　翔悟"},{"$f":"IF(ISERROR(VLOOKUP(S38,審判員!$A:$C,3,FALSE))=TRUE,\"\",VLOOKUP(S38,審判員!$A:$C,3,FALSE))","v":3},"級","資格番号",null,"R010542171",null,null,{"$f":"J30","v":"スマイス日出"}]
["4th:",{"$f":"IF(ISERROR(VLOOKUP(G39,審判員!$A:$C,2,FALSE))=TRUE,\"\",VLOOKUP(G39,審判員!$A:$C,2,FALSE))","v":"近砂　覚志"},{"$f":"IF(ISERROR(VLOOKUP(G39,審判員!$A:$C,3,FALSE))=TRUE,\"\",VLOOKUP(G39,審判員!$A:$C,3,FALSE))","v":4},"級","資格番号",null,"R010513889",null,null,"本部",null,null,"4th:",{"$f":"IF(ISERROR(VLOOKUP(S39,審判員!$A:$C,2,FALSE))=TRUE,\"\",VLOOKUP(S39,審判員!$A:$C,2,FALSE))","v":"石川　慎也"},{"$f":"IF(ISERROR(VLOOKUP(S39,審判員!$A:$C,3,FALSE))=TRUE,\"\",VLOOKUP(S39,審判員!$A:$C,3,FALSE))","v":3},"級","資格番号",null,"R001262379",null,null,"本部"]
["警告/退場","氏名","背番号","分","内容",null,"内容","分","背番号","氏名","警告/退場",null,"警告/退場","氏名","背番号","分","内容",null,"内容","分","背番号","氏名","警告/退場",null,"Ⅰ勝点（勝３点　ＰＫ勝２点　ＰＫ負１点　負０点）　Ⅱ当該チームの戦績　Ⅲ得失点差　Ⅳ多得点　Ⅴ抽選の順で順位を決定する。"]
[null,{"$f":"IF(ISERROR(VLOOKUP(CONCATENATE($B$30,\"_\",C41),選手名簿!$A:$E,5,FALSE))=TRUE,\"\",VLOOKUP(CONCATENATE($B$30,\"_\",C41),選手名簿!$A:$E,5,FALSE))","v":""},null,null,null,null,null,null,null,{"$f":"IF(ISERROR(VLOOKUP(CONCATENATE($J$30,\"_\",I41),選手名簿!$A:$E,5,FALSE))=TRUE,\"\",VLOOKUP(CONCATENATE($J$30,\"_\",I41),選手名簿!$A:$E,5,FALSE))","v":""},null,null,null,{"$f":"IF(ISERROR(VLOOKUP(CONCATENATE($N$30,\"_\",O41),選手名簿!$A:$E,5,FALSE))=TRUE,\"\",VLOOKUP(CONCATENATE($N$30,\"_\",O41),選手名簿!$A:$E,5,FALSE))","v":""},null,null,null,null,null,null,null,{"$f":"IF(ISERROR(VLOOKUP(CONCATENATE($V$30,\"_\",U41),選手名簿!$A:$E,5,FALSE))=TRUE,\"\",VLOOKUP(CONCATENATE($V$30,\"_\",U41),選手名簿!$A:$E,5,FALSE))","v":""}]
[null,{"$f":"IF(ISERROR(VLOOKUP(CONCATENATE($B$30,\"_\",C42),選手名簿!$A:$E,5,FALSE))=TRUE,\"\",VLOOKUP(CONCATENATE($B$30,\"_\",C42),選手名簿!$A:$E,5,FALSE))","v":""},null,null,null,null,null,null,null,{"$f":"IF(ISERROR(VLOOKUP(CONCATENATE($J$30,\"_\",I42),選手名簿!$A:$E,5,FALSE))=TRUE,\"\",VLOOKUP(CONCATENATE($J$30,\"_\",I42),選手名簿!$A:$E,5,FALSE))","v":""},null,null,null,{"$f":"IF(ISERROR(VLOOKUP(CONCATENATE($N$30,\"_\",O42),選手名簿!$A:$E,5,FALSE))=TRUE,\"\",VLOOKUP(CONCATENATE($N$30,\"_\",O42),選手名簿!$A:$E,5,FALSE))","v":""},null,null,null,null,null,null,null,{"$f":"IF(ISERROR(VLOOKUP(CONCATENATE($V$30,\"_\",U42),選手名簿!$A:$E,5,FALSE))=TRUE,\"\",VLOOKUP(CONCATENATE($V$30,\"_\",U42),選手名簿!$A:$E,5,FALSE))","v":""},null,null,"勝点表",null,"勝","○",null,"PK\n勝","△",null,"PK\n負","▲",null,"負","●"]
[null,{"$f":"IF(ISERROR(VLOOKUP(CONCATENATE($B$30,\"_\",C43),選手名簿!$A:$E,5,FALSE))=TRUE,\"\",VLOOKUP(CONCATENATE($B$30,\"_\",C43),選手名簿!$A:$E,5,FALSE))","v":""},null,null,null,null,null,null,null,{"$f":"IF(ISERROR(VLOOKUP(CONCATENATE($J$30,\"_\",I43),選手名簿!$A:$E,5,FALSE))=TRUE,\"\",VLOOKUP(CONCATENATE($J$30,\"_\",I43),選手名簿!$A:$E,5,FALSE))","v":""},null,null,null,{"$f":"IF(ISERROR(VLOOKUP(CONCATENATE($N$30,\"_\",O43),選手名簿!$A:$E,5,FALSE))=TRUE,\"\",VLOOKUP(CONCATENATE($N$30,\"_\",O43),選手名簿!$A:$E,5,FALSE))","v":""},null,null,null,null,null,null,null,{"$f":"IF(ISERROR(VLOOKUP(CONCATENATE($V$30,\"_\",U43),選手名簿!$A:$E,5,FALSE))=TRUE,\"\",VLOOKUP(CONCATENATE($V$30,\"_\",U43),選手名簿!$A:$E,5,FALSE))","v":""},null,null,null,null,null,3,null,null,2,null,null,1,null,null,0]
[null,{"$f":"IF(ISERROR(VLOOKUP(CONCATENATE($B$30,\"_\",C44),選手名簿!$A:$E,5,FALSE))=TRUE,\"\",VLOOKUP(CONCATENATE($B$30,\"_\",C44),選手名簿!$A:$E,5,FALSE))","v":""},null,null,null,null,null,null,null,{"$f":"IF(ISERROR(VLOOKUP(CONCATENATE($J$30,\"_\",I44),選手名簿!$A:$E,5,FALSE))=TRUE,\"\",VLOOKUP(CONCATENATE($J$30,\"_\",I44),選手名簿!$A:$E,5,FALSE))","v":""},null,null,null,{"$f":"IF(ISERROR(VLOOKUP(CONCATENATE($N$30,\"_\",O44),選手名簿!$A:$E,5,FALSE))=TRUE,\"\",VLOOKUP(CONCATENATE($N$30,\"_\",O44),選手名簿!$A:$E,5,FALSE))","v":""},null,null,null,null,null,null,null,{"$f":"IF(ISERROR(VLOOKUP(CONCATENATE($V$30,\"_\",U44),選手名簿!$A:$E,5,FALSE))=TRUE,\"\",VLOOKUP(CONCATENATE($V$30,\"_\",U44),選手名簿!$A:$E,5,FALSE))","v":""}]
[null,{"$f":"IF(ISERROR(VLOOKUP(CONCATENATE($B$30,\"_\",C45),選手名簿!$A:$E,5,FALSE))=TRUE,\"\",VLOOKUP(CONCATENATE($B$30,\"_\",C45),選手名簿!$A:$E,5,FALSE))","v":""},null,null,null,null,null,null,null,{"$f":"IF(ISERROR(VLOOKUP(CONCATENATE($J$30,\"_\",I45),選手名簿!$A:$E,5,FALSE))=TRUE,\"\",VLOOKUP(CONCATENATE($J$30,\"_\",I45),選手名簿!$A:$E,5,FALSE))","v":""},null,null,null,{"$f":"IF(ISERROR(VLOOKUP(CONCATENATE($N$30,\"_\",O45),選手名簿!$A:$E,5,FALSE))=TRUE,\"\",VLOOKUP(CONCATENATE($N$30,\"_\",O45),選手名簿!$A:$E,5,FALSE))","v":""},null,null,null,null,null,null,null,{"$f":"IF(ISERROR(VLOOKUP(CONCATENATE($V$30,\"_\",U45),選手名簿!$A:$E,5,FALSE))=TRUE,\"\",VLOOKUP(CONCATENATE($V$30,\"_\",U45),選手名簿!$A:$E,5,FALSE))","v":""}]
[]
[]
["⑤\n14:00～",{"$f":"C9","v":"スマイス日出"},{"$f":"IF(E48=\"\",\"\",SUM(E48:E49))","v":0},"（",0,"前半",5,"）",{"$f":"IF(G48=\"\",\"\",SUM(G48:G49))","v":12},{"$f":"C7","v":"ＦＣ中津ジュニア"},null,null,"⑥\n15:00～",{"$f":"O8","v":"リノスフットボールクラブ　Ｕ－１２"},{"$f":"IF(Q48=\"\",\"\",SUM(Q48:Q49))","v":""},"（",null,"前半",null,"）",{"$f":"IF(S48=\"\",\"\",SUM(S48:S49))","v":""},{"$f":"O9","v":"北郡坂ノ市サッカースポーツ少年団"},null,null,{"$f":"$Y$1","v":"OFA 第 53 回大分県U-12サッカー大会　兼　KYFA 九州U-12サッカー大会大分県大会"},null,null,null,null,null,null,null,null,null,null,null,null,null,null,null,null,null,null,null,null,null,null,null,null,null,null,null,null,null,null,null,null,null,null,null,{"$f":"$BI$1","v":"１次リーグ結果　報告用紙"}]
[null,null,null,null,0,"後半",7,null,null,null,null,null,null,null,null,null,null,"後半"]
[null,null,null,null,null,"PK",null,null,null,null,null,null,null,null,null,null,null,"PK",null,null,null,null,null,null,"＜時間割＞　①10:00～　②11:00～　③12:00～　④13:00～　⑤14:00～　⑥15:00～"]
["MC","近砂　覚志",null,null,null,null,"所属協会",null,null,"中津市サッカー協会",null,null,"MC",null,null,null,null,null,"所属協会"]
["WelfareOfficer","近砂　覚志",null,null,null,null,"所属協会",null,null,"中津市サッカー協会",null,null,"WelfareOfficer",null,null,null,null,null,"所属協会"]
["記録","宮脇　健二",null,null,null,null,"所属協会",null,null,"中津市サッカー協会",null,null,"記録",null,null,null,null,null,"所属協会"]
["R:",{"$f":"IF(ISERROR(VLOOKUP(G54,審判員!$A:$C,2,FALSE))=TRUE,\"\",VLOOKUP(G54,審判員!$A:$C,2,FALSE))","v":"水江　真太郎"},{"$f":"IF(ISERROR(VLOOKUP(G54,審判員!$A:$C,3,FALSE))=TRUE,\"\",VLOOKUP(G54,審判員!$A:$C,3,FALSE))","v":2},"級","資格番号",null,"R004793649",null,null,"本部",null,null,"R:",{"$f":"IF(ISERROR(VLOOKUP(S54,審判員!$A:$C,2,FALSE))=TRUE,\"\",VLOOKUP(S54,審判員!$A:$C,2,FALSE))","v":""},{"$f":"IF(ISERROR(VLOOKUP(S54,審判員!$A:$C,3,FALSE))=TRUE,\"\",VLOOKUP(S54,審判員!$A:$C,3,FALSE))","v":""},"級","資格番号",null,null,null,null,"本部",null,null,"会場",null,null,{"$f":"$N$4","v":"中津"},null,null,null,null,null,"⇒",{"$f":"$P$4","v":"永添運動公園人工芝多目的グラウンド"}]
["AR1:",{"$f":"IF(ISERROR(VLOOKUP(G55,審判員!$A:$C,2,FALSE))=TRUE,\"\",VLOOKUP(G55,審判員!$A:$C,2,FALSE))","v":"三好　美輝"},{"$f":"IF(ISERROR(VLOOKUP(G55,審判員!$A:$C,3,FALSE))=TRUE,\"\",VLOOKUP(G55,審判員!$A:$C,3,FALSE))","v":3},"級","資格番号",null,"R001252196",null,null,{"$f":"N30","v":"北郡坂ノ市サッカースポーツ少年団"},null,null,"AR1:",{"$f":"IF(ISERROR(VLOOKUP(S55,審判員!$A:$C,2,FALSE))=TRUE,\"\",VLOOKUP(S55,審判員!$A:$C,2,FALSE))","v":""},{"$f":"IF(ISERROR(VLOOKUP(S55,審判員!$A:$C,3,FALSE))=TRUE,\"\",VLOOKUP(S55,審判員!$A:$C,3,FALSE))","v":""},"級","資格番号",null,null,null,null,{"$f":"B48","v":"スマイス日出"}]
["AR2:",{"$f":"IF(ISERROR(VLOOKUP(G56,審判員!$A:$C,2,FALSE))=TRUE,\"\",VLOOKUP(G56,審判員!$A:$C,2,FALSE))","v":"高畑　徳治郎"},{"$f":"IF(ISERROR(VLOOKUP(G56,審判員!$A:$C,3,FALSE))=TRUE,\"\",VLOOKUP(G56,審判員!$A:$C,3,FALSE))","v":3},"級","資格番号",null,"R001263846",null,null,{"$f":"V30","v":"はやぶさフットボールクラブ"},null,null,"AR2:",{"$f":"IF(ISERROR(VLOOKUP(S56,審判員!$A:$C,2,FALSE))=TRUE,\"\",VLOOKUP(S56,審判員!$A:$C,2,FALSE))","v":""},{"$f":"IF(ISERROR(VLOOKUP(S56,審判員!$A:$C,3,FALSE))=TRUE,\"\",VLOOKUP(S56,審判員!$A:$C,3,FALSE))","v":""},"級","資格番号",null,null,null,null,{"$f":"J48","v":"ＦＣ中津ジュニア"}]
["4th:",{"$f":"IF(ISERROR(VLOOKUP(G57,審判員!$A:$C,2,FALSE))=TRUE,\"\",VLOOKUP(G57,審判員!$A:$C,2,FALSE))","v":"高畑　智秀"},{"$f":"IF(ISERROR(VLOOKUP(G57,審判員!$A:$C,3,FALSE))=TRUE,\"\",VLOOKUP(G57,審判員!$A:$C,3,FALSE))","v":3},"級","資格番号",null,"R001263837",null,null,"本部",null,null,"4th:",{"$f":"IF(ISERROR(VLOOKUP(S57,審判員!$A:$C,2,FALSE))=TRUE,\"\",VLOOKUP(S57,審判員!$A:$C,2,FALSE))","v":""},{"$f":"IF(ISERROR(VLOOKUP(S57,審判員!$A:$C,3,FALSE))=TRUE,\"\",VLOOKUP(S57,審判員!$A:$C,3,FALSE))","v":""},"級","資格番号",null,null,null,null,"本部"]
["警告/退場","氏名","背番号","分","内容",null,"内容","分","背番号","氏名","警告/退場",null,"警告/退場","氏名","背番号","分","内容",null,"内容","分","背番号","氏名","警告/退場",null,"パート",null,null,{"$f":"$N$6","v":"H"}]
[null,{"$f":"IF(ISERROR(VLOOKUP(CONCATENATE($B$48,\"_\",C59),選手名簿!$A:$E,5,FALSE))=TRUE,\"\",VLOOKUP(CONCATENATE($B$48,\"_\",C59),選手名簿!$A:$E,5,FALSE))","v":""},null,null,null,null,null,null,null,{"$f":"IF(ISERROR(VLOOKUP(CONCATENATE($J$48,\"_\",I59),選手名簿!$A:$E,5,FALSE))=TRUE,\"\",VLOOKUP(CONCATENATE($J$48,\"_\",I59),選手名簿!$A:$E,5,FALSE))","v":""},null,null,null,{"$f":"IF(ISERROR(VLOOKUP(CONCATENATE($N$48,\"_\",O59),選手名簿!$A:$E,5,FALSE))=TRUE,\"\",VLOOKUP(CONCATENATE($N$48,\"_\",O59),選手名簿!$A:$E,5,FALSE))","v":""},null,null,null,null,null,null,null,{"$f":"IF(ISERROR(VLOOKUP(CONCATENATE($V$48,\"_\",U59),選手名簿!$A:$E,5,FALSE))=TRUE,\"\",VLOOKUP(CONCATENATE($V$48,\"_\",U59),選手名簿!$A:$E,5,FALSE))","v":""}]
[null,{"$f":"IF(ISERROR(VLOOKUP(CONCATENATE($B$48,\"_\",C60),選手名簿!$A:$E,5,FALSE))=TRUE,\"\",VLOOKUP(CONCATENATE($B$48,\"_\",C60),選手名簿!$A:$E,5,FALSE))","v":""},null,null,null,null,null,null,null,{"$f":"IF(ISERROR(VLOOKUP(CONCATENATE($J$48,\"_\",I60),選手名簿!$A:$E,5,FALSE))=TRUE,\"\",VLOOKUP(CONCATENATE($J$48,\"_\",I60),選手名簿!$A:$E,5,FALSE))","v":""},null,null,null,{"$f":"IF(ISERROR(VLOOKUP(CONCATENATE($N$48,\"_\",O60),選手名簿!$A:$E,5,FALSE))=TRUE,\"\",VLOOKUP(CONCATENATE($N$48,\"_\",O60),選手名簿!$A:$E,5,FALSE))","v":""},null,null,null,null,null,null,null,{"$f":"IF(ISERROR(VLOOKUP(CONCATENATE($V$48,\"_\",U60),選手名簿!$A:$E,5,FALSE))=TRUE,\"\",VLOOKUP(CONCATENATE($V$48,\"_\",U60),選手名簿!$A:$E,5,FALSE))","v":""},null,null,null,{"$f":"$N$7","v":"H1"},null,null,{"$f":"$O$7","v":"はやぶさフットボールクラブ"},null,null,null,null,null,null,null,null,null,null,null,null,{"$f":"$V$7","v":"中津"}]
[null,{"$f":"IF(ISERROR(VLOOKUP(CONCATENATE($B$48,\"_\",C61),選手名簿!$A:$E,5,FALSE))=TRUE,\"\",VLOOKUP(CONCATENATE($B$48,\"_\",C61),選手名簿!$A:$E,5,FALSE))","v":""},null,null,null,null,null,null,null,{"$f":"IF(ISERROR(VLOOKUP(CONCATENATE($J$48,\"_\",I61),選手名簿!$A:$E,5,FALSE))=TRUE,\"\",VLOOKUP(CONCATENATE($J$48,\"_\",I61),選手名簿!$A:$E,5,FALSE))","v":""},null,null,null,{"$f":"IF(ISERROR(VLOOKUP(CONCATENATE($N$48,\"_\",O61),選手名簿!$A:$E,5,FALSE))=TRUE,\"\",VLOOKUP(CONCATENATE($N$48,\"_\",O61),選手名簿!$A:$E,5,FALSE))","v":""},null,null,null,null,null,null,null,{"$f":"IF(ISERROR(VLOOKUP(CONCATENATE($V$48,\"_\",U61),選手名簿!$A:$E,5,FALSE))=TRUE,\"\",VLOOKUP(CONCATENATE($V$48,\"_\",U61),選手名簿!$A:$E,5,FALSE))","v":""}]
[null,{"$f":"IF(ISERROR(VLOOKUP(CONCATENATE($B$48,\"_\",C62),選手名簿!$A:$E,5,FALSE))=TRUE,\"\",VLOOKUP(CONCATENATE($B$48,\"_\",C62),選手名簿!$A:$E,5,FALSE))","v":""},null,null,null,null,null,null,null,{"$f":"IF(ISERROR(VLOOKUP(CONCATENATE($J$48,\"_\",I62),選手名簿!$A:$E,5,FALSE))=TRUE,\"\",VLOOKUP(CONCATENATE($J$48,\"_\",I62),選手名簿!$A:$E,5,FALSE))","v":""},null,null,null,{"$f":"IF(ISERROR(VLOOKUP(CONCATENATE($N$48,\"_\",O62),選手名簿!$A:$E,5,FALSE))=TRUE,\"\",VLOOKUP(CONCATENATE($N$48,\"_\",O62),選手名簿!$A:$E,5,FALSE))","v":""},null,null,null,null,null,null,null,{"$f":"IF(ISERROR(VLOOKUP(CONCATENATE($V$48,\"_\",U62),選手名簿!$A:$E,5,FALSE))=TRUE,\"\",VLOOKUP(CONCATENATE($V$48,\"_\",U62),選手名簿!$A:$E,5,FALSE))","v":""},null,null,null,{"$f":"$N$8","v":"H2"},null,null,{"$f":"$O$8","v":"リノスフットボールクラブ　Ｕ－１２"},null,null,null,null,null,null,null,null,null,null,null,null,{"$f":"$V$8","v":"大分"}]
[null,{"$f":"IF(ISERROR(VLOOKUP(CONCATENATE($B$48,\"_\",C63),選手名簿!$A:$E,5,FALSE))=TRUE,\"\",VLOOKUP(CONCATENATE($B$48,\"_\",C63),選手名簿!$A:$E,5,FALSE))","v":""},null,null,null,null,null,null,null,{"$f":"IF(ISERROR(VLOOKUP(CONCATENATE($J$48,\"_\",I63),選手名簿!$A:$E,5,FALSE))=TRUE,\"\",VLOOKUP(CONCATENATE($J$48,\"_\",I63),選手名簿!$A:$E,5,FALSE))","v":""},null,null,null,{"$f":"IF(ISERROR(VLOOKUP(CONCATENATE($N$48,\"_\",O63),選手名簿!$A:$E,5,FALSE))=TRUE,\"\",VLOOKUP(CONCATENATE($N$48,\"_\",O63),選手名簿!$A:$E,5,FALSE))","v":""},null,null,null,null,null,null,null,{"$f":"IF(ISERROR(VLOOKUP(CONCATENATE($V$48,\"_\",U63),選手名簿!$A:$E,5,FALSE))=TRUE,\"\",VLOOKUP(CONCATENATE($V$48,\"_\",U63),選手名簿!$A:$E,5,FALSE))","v":""}]
[null,null,null,null,null,null,null,null,null,null,null,null,null,null,null,null,null,null,null,null,null,null,null,null,null,{"$f":"$N$9","v":"H3"},null,null,{"$f":"$O$9","v":"北郡坂ノ市サッカースポーツ少年団"},null,null,null,null,null,null,null,null,null,null,null,null,{"$f":"$V$9","v":"大分"}]
[]
[]
[]
[]
[]
[]
[]
[null,null,null,null,null,null,null,null,null,null,null,null,null,null,null,null,null,null,null,null,null,null,null,null,{"$f":"$Y$6","v":"パート"},null,null,null,{"$f":"$AB$58","v":"H"},null,null,{"$f":"$Y$78","v":"はやぶさフットボールクラブ"},null,null,null,null,{"$f":"$Y$84","v":"リノスフットボールクラブ　Ｕ－１２"},null,null,null,null,{"$f":"$Y$90","v":"北郡坂ノ市サッカースポーツ少年団"},null,null,null,null,"勝",null,"PK\n勝",null,"PK\n負",null,"負",null,"得点",null,"失点",null,"勝点",null,"勝点\n順位",null,"得失\n点差",null,"得失\n順位",null,"総\n順位"]
[]
[]
[]
[]
[]
[null,null,null,null,null,null,null,null,null,null,null,null,null,null,null,null,null,null,null,null,null,null,null,null,{"$f":"$AC$60","v":"はやぶさフットボールクラブ"},null,null,null,null,"星取表",null,null,null,null,null,null,{"$f":"IF(AK82=\"\",\"\",IF(AK82>AN82,\"○\",IF(AK82<AN82,\"●\",IF(AK80>AN80,\"△\",IF(AK80<AN80,\"▲\")))))","v":""},null,null,null,null,{"$f":"IF(AP82=\"\",\"\",IF(AP82>AS82,\"○\",IF(AP82<AS82,\"●\",IF(AP80>AS80,\"△\",IF(AP80<AS80,\"▲\")))))","v":"○"},null,null,null,null,{"$f":"COUNTIF($AF$78:$AT$79,\"○\")","v":1},null,{"$f":"COUNTIF($AF$78:$AT$79,\"△\")","v":0},null,{"$f":"COUNTIF($AF$78:$AT$79,\"▲\")","v":0},null,{"$f":"COUNTIF($AF$78:$AT$79,\"●\")","v":0},null,{"$f":"SUM($AK$82,$AP$82)","v":1},null,{"$f":"SUM($AN$82,$AS$82)","v":0},null,{"$f":"($AU$78*3)+($AW$78*2)+($AY$78*1)","v":3},null,{"$f":"RANK($BG$78,$BG$78:$BH$95)","v":1},null,{"$f":"$BC$78-$BE$78","v":1},null,{"$f":"RANK($BK$78,$BK$78:$BL$95)","v":1}]
[]
[null,null,null,null,null,null,null,null,null,null,null,null,null,null,null,null,null,null,null,null,null,null,null,null,null,null,null,null,null,null,null,null,null,null,null,null,{"$f":"IF($Q$14=\"\",\"\",$Q$14)","v":""},null,"―",{"$f":"IF($S$14=\"\",\"\",$S$14)","v":""},null,{"$f":"IF($S$32=\"\",\"\",$S$32)","v":""},null,"―",{"$f":"IF($Q$32=\"\",\"\",$Q$32)","v":""}]
[null,null,null,null,null,null,null,null,null,null,null,null,null,null,null,null,null,null,null,null,null,null,null,null,null,null,null,null,null,"得失点"]
[null,null,null,null,null,null,null,null,null,null,null,null,null,null,null,null,null,null,null,null,null,null,null,null,null,null,null,null,null,null,null,null,null,null,null,null,{"$f":"$O$12","v":""},null,"―",{"$f":"$U$12","v":""},null,{"$f":"$U$30","v":1},null,"―",{"$f":"$O$30","v":0}]
[]
[null,null,null,null,null,null,null,null,null,null,null,null,null,null,null,null,null,null,null,null,null,null,null,null,{"$f":"$AC$62","v":"リノスフットボールクラブ　Ｕ－１２"},null,null,null,null,"星取表",null,{"$f":"IF(AF88=\"\",\"\",IF(AF88>AI88,\"○\",IF(AF88<AI88,\"●\",IF(AF86>AI86,\"△\",IF(AF86<AI86,\"▲\")))))","v":""},null,null,null,null,null,null,null,null,null,{"$f":"IF(AP88=\"\",\"\",IF(AP88>AS88,\"○\",IF(AP88<AS88,\"●\",IF(AP86>AS86,\"△\",IF(AP86<AS86,\"▲\")))))","v":""},null,null,null,null,{"$f":"COUNTIF($AF$84:$AT$85,\"○\")","v":0},null,{"$f":"COUNTIF($AF$84:$AT$85,\"△\")","v":0},null,{"$f":"COUNTIF($AF$84:$AT$85,\"▲\")","v":0},null,{"$f":"COUNTIF($AF$84:$AT$85,\"●\")","v":0},null,{"$f":"SUM($AF$88,$AP$88)","v":0},null,{"$f":"SUM($AI$88,$AS$88)","v":0},null,{"$f":"($AU$84*3)+($AW$84*2)+($AY$84*1)","v":0},null,{"$f":"RANK($BG$84,$BG$78:$BH$95)","v":2},null,{"$f":"$BC$84-$BE$84","v":0},null,{"$f":"RANK($BK$84,$BK$78:$BL$95)","v":2}]
[]
[null,null,null,null,null,null,null,null,null,null,null,null,null,null,null,null,null,null,null,null,null,null,null,null,null,null,null,null,null,null,null,{"$f":"AN80","v":""},null,"―",{"$f":"AK80","v":""},null,null,null,null,null,null,{"$f":"IF($Q$50=\"\",\"\",$Q$50)","v":""},null,"―",{"$f":"IF($S$50=\"\",\"\",$S$50)","v":""}]
[null,null,null,null,null,null,null,null,null,null,null,null,null,null,null,null,null,null,null,null,null,null,null,null,null,null,null,null,null,"得失点"]
[null,null,null,null,null,null,null,null,null,null,null,null,null,null,null,null,null,null,null,null,null,null,null,null,null,null,null,null,null,null,null,{"$f":"AN82","v":""},null,"―",{"$f":"AK82","v":""},null,null,null,null,null,null,{"$f":"$O$48","v":""},null,"―",{"$f":"$U$48","v":""}]
[]
[null,null,null,null,null,null,null,null,null,null,null,null,null,null,null,null,null,null,null,null,null,null,null,null,{"$f":"$AC$64","v":"北郡坂ノ市サッカースポーツ少年団"},null,null,null,null,"星取表",null,{"$f":"IF(AF94=\"\",\"\",IF(AF94>AI94,\"○\",IF(AF94<AI94,\"●\",IF(AF92>AI92,\"△\",IF(AF92<AI92,\"▲\")))))","v":"●"},null,null,null,null,{"$f":"IF(AK94=\"\",\"\",IF(AK94>AN94,\"○\",IF(AK94<AN94,\"●\",IF(AK92>AN92,\"△\",IF(AK92<AN92,\"▲\")))))","v":""},null,null,null,null,null,null,null,null,null,{"$f":"COUNTIF($AF$90:$AT$91,\"○\")","v":0},null,{"$f":"COUNTIF($AF$90:$AT$91,\"△\")","v":0},null,{"$f":"COUNTIF($AF$90:$AT$91,\"▲\")","v":0},null,{"$f":"COUNTIF($AF$90:$AT$91,\"●\")","v":1},null,{"$f":"SUM($AF$94,$AK$94)","v":0},null,{"$f":"SUM($AI$94,$AN$94)","v":1},null,{"$f":"($AU$90*3)+($AW$90*2)+($AY$90*1)","v":0},null,{"$f":"RANK($BG$90,$BG$78:$BH$95)","v":2},null,{"$f":"$BC$90-$BE$90","v":-1},null,{"$f":"RANK($BK$90,$BK$78:$BL$95)","v":3}]
[]
[null,null,null,null,null,null,null,null,null,null,null,null,null,null,null,null,null,null,null,null,null,null,null,null,null,null,null,null,null,null,null,{"$f":"AS80","v":""},null,"―",{"$f":"AP80","v":""},null,{"$f":"AS86","v":""},null,"―",{"$f":"AP86","v":""}]
[null,null,null,null,null,null,null,null,null,null,null,null,null,null,null,null,null,null,null,null,null,null,null,null,null,null,null,null,null,"得失点"]
[null,null,null,null,null,null,null,null,null,null,null,null,null,null,null,null,null,null,null,null,null,null,null,null,null,null,null,null,null,null,null,{"$f":"AS82","v":0},null,"―",{"$f":"AP82","v":1},null,{"$f":"AS88","v":""},null,"―",{"$f":"AP88","v":""}]
[]
[]
[null,null,null,null,null,null,null,null,null,null,null,null,null,null,null,null,null,null,null,null,null,null,null,null,"Ⅰ勝点（勝３点　ＰＫ勝２点　ＰＫ負１点　負０点）　Ⅱ当該チームの戦績　Ⅲ得失点差　Ⅳ多得点　Ⅴ抽選の順で順位を決定する。"]
[]
[null,null,null,null,null,null,null,null,null,null,null,null,null,null,null,null,null,null,null,null,null,null,null,null,"勝点表",null,"勝","○",null,"PK\n勝","△",null,"PK\n負","▲",null,"負","●"]
[null,null,null,null,null,null,null,null,null,null,null,null,null,null,null,null,null,null,null,null,null,null,null,null,null,null,null,3,null,null,2,null,null,1,null,null,0]

{"sheet":"選手名簿","index":22,"n_rows":1659,"n_cols":9,"rows_kept":1659,"cut":false,"hidden":true,"merged":[]}
[{"$f":"CONCATENATE(B1,\"_\",C1)","v":"大会参加チーム名_背番号"},"大会参加チーム名","背番号","ポジション","選手名漢字","選手名カナ","学年","男女区分","キャプテン"]
[{"$f":"CONCATENATE(B2,\"_\",C2)","v":"ＭＦＣ三花少年サッカー教室_1"},"ＭＦＣ三花少年サッカー教室",{"$f":"(\"1\")","v":"1"},"GK","上田　暖","ウエダ　ハル",4,"男子"]
[{"$f":"CONCATENATE(B3,\"_\",C3)","v":"ＭＦＣ三花少年サッカー教室_2"},"ＭＦＣ三花少年サッカー教室",{"$f":"(\"2\")","v":"2"},"DF","梶原　羽琉","カジワラ　ハル",5,"男子"]
["ＭＦＣ三花少年サッカー教室_3","ＭＦＣ三花少年サッカー教室",{"$f":"(\"3\")","v":"3"},"GK","片岡　想友","カタオカ　ソウスケ",5,"男子"]
["ＭＦＣ三花少年サッカー教室_4","ＭＦＣ三花少年サッカー教室",{"$f":"(\"4\")","v":"4"},"DF","長谷部　文人","ハセベ　フミト",4,"男子"]
["ＭＦＣ三花少年サッカー教室_5","ＭＦＣ三花少年サッカー教室",{"$f":"(\"5\")","v":"5"},"DF","本多　玄太","ホンダ　ゲンタ",6,"男子"]
["ＭＦＣ三花少年サッカー教室_6","ＭＦＣ三花少年サッカー教室",{"$f":"(\"6\")","v":"6"},"FW","小野　颯真","オノ　ソウマ",4,"男子"]
["ＭＦＣ三花少年サッカー教室_7","ＭＦＣ三花少年サッカー教室",{"$f":"(\"7\")","v":"7"},"DF","木下　琥太郎","キノシタ　コタロウ",5,"男子"]
["ＭＦＣ三花少年サッカー教室_8","ＭＦＣ三花少年サッカー教室",{"$f":"(\"8\")","v":"8"},"FW","椋野　凌生","ムクノ　リュウ",4,"男子"]
["ＭＦＣ三花少年サッカー教室_9","ＭＦＣ三花少年サッカー教室",{"$f":"(\"9\")","v":"9"},"MF","宇野　匠真","ウノ　ショウマ",6,"男子"]
["ＭＦＣ三花少年サッカー教室_10","ＭＦＣ三花少年サッカー教室",{"$f":"(\"10\")","v":"10"},"MF","木下　陽翔","キノシタ　ヒロト",6,"男子"]
["ＭＦＣ三花少年サッカー教室_11","ＭＦＣ三花少年サッカー教室",{"$f":"(\"11\")","v":"11"},"FW","諌山　星那","イサヤマ　セナ",6,"男子","○"]
["ＭＦＣ三花少年サッカー教室_12","ＭＦＣ三花少年サッカー教室",{"$f":"(\"12\")","v":"12"},"MF","佐藤　理一","サトウ　リイチ",3,"男子"]
["ＭＦＣ三花少年サッカー教室_13","ＭＦＣ三花少年サッカー教室",{"$f":"(\"13\")","v":"13"},"DF","内海　太輝","ウツミ　タイヨウ",3,"男子"]
["ＭＦＣ三花少年サッカー教室_14","ＭＦＣ三花少年サッカー教室",{"$f":"(\"14\")","v":"14"},"MF","木下　誠喜","キノシタ　マコ",3,"男子"]
["ＭＦＣ三花少年サッカー教室_15","ＭＦＣ三花少年サッカー教室",{"$f":"(\"15\")","v":"15"},"GK","岡松　洸希","オカマツ　コウキ",5,"男子"]
["ＭＦＣ三花少年サッカー教室_16","ＭＦＣ三花少年サッカー教室",{"$f":"(\"16\")","v":"16"},"MF","小野　紘弥","オノ　ヒロヤ",2,"男子"]
["若宮サッカースポーツ少年団_2","若宮サッカースポーツ少年団",{"$f":"(\"2\")","v":"2"},"DF","野瀬　照太","ノセ　ショウタ",6,"男子"]
["若宮サッカースポーツ少年団_3","若宮サッカースポーツ少年団",{"$f":"(\"3\")","v":"3"},"MF","千原　美月","チハラ　ミヅキ",5,"女子小学生"]
["若宮サッカースポーツ少年団_4","若宮サッカースポーツ少年団",{"$f":"(\"4\")","v":"4"},"DF","野瀬　幹太","ノセ　カンタ",4,"男子"]
["若宮サッカースポーツ少年団_5","若宮サッカースポーツ少年団",{"$f":"(\"5\")","v":"5"},"DF","千原　凛士","チハラ　リント",4,"男子"]
["若宮サッカースポーツ少年団_6","若宮サッカースポーツ少年団",{"$f":"(\"6\")","v":"6"},"DF","星野　佑弥","ホシノ　ユウヤ",5,"男子"]
["若宮サッカースポーツ少年団_7","若宮サッカースポーツ少年団",{"$f":"(\"7\")","v":"7"},"MF","末竹　光健","スエタケ　コウケン",4,"男子"]
["若宮サッカースポーツ少年団_8","若宮サッカースポーツ少年団",{"$f":"(\"8\")","v":"8"},"FW","矢幡　宝貴","ヤワタ　タカキ",3,"男子"]
["若宮サッカースポーツ少年団_9","若宮サッカースポーツ少年団",{"$f":"(\"9\")","v":"9"},"MF","吉谷　琉斗","ヨシタニ　リュウト",6,"男子","○"]
["若宮サッカースポーツ少年団_10","若宮サッカースポーツ少年団",{"$f":"(\"10\")","v":"10"},"FW","石倉　玄登","イシクラ　ゲント",5,"男子"]
["若宮サッカースポーツ少年団_13","若宮サッカースポーツ少年団",{"$f":"(\"13\")","v":"13"},"MF","鷲頭　時希","ワシズ　トキ",3,"男子"]
["若宮サッカースポーツ少年団_21","若宮サッカースポーツ少年団",{"$f":"(\"21\")","v":"21"},"GK","綾部　瑛太","アヤベ　エイタ",4,"男子"]
["咸宜日隈ｓｃ_1","咸宜日隈ｓｃ",{"$f":"(\"1\")","v":"1"},"GK","平野　緋月","ヒラノ　ヒヅキ",5,"男子"]
["咸宜日隈ｓｃ_3","咸宜日隈ｓｃ",{"$f":"(\"3\")","v":"3"},"FW","幸　翔太","ユキ　ショウタ",3,"男子"]
["咸宜日隈ｓｃ_4","咸宜日隈ｓｃ",{"$f":"(\"4\")","v":"4"},"DF","高倉　颯太","タカクラ　ソウタ",6,"男子"]
["咸宜日隈ｓｃ_5","咸宜日隈ｓｃ",{"$f":"(\"5\")","v":"5"},"DF","安養寺　徳真","アンヨウジ　トクマ",3,"男子"]
["咸宜日隈ｓｃ_9","咸宜日隈ｓｃ",{"$f":"(\"9\")","v":"9"},"DF","梶原　慶","カジワラ　ケイ",3,"男子"]
["咸宜日隈ｓｃ_16","咸宜日隈ｓｃ",{"$f":"(\"16\")","v":"16"},"MF","唐木　耀誠","カラキ　ヨウセイ",5,"男子"]
["咸宜日隈ｓｃ_20","咸宜日隈ｓｃ",{"$f":"(\"20\")","v":"20"},"MF","熊谷　颯真","クマガエ　ソウマ",5,"男子"]
["咸宜日隈ｓｃ_23","咸宜日隈ｓｃ",{"$f":"(\"23\")","v":"23"},"DF","三苫　浬","ミトマ　カイリ",5,"男子"]
["咸宜日隈ｓｃ_26","咸宜日隈ｓｃ",{"$f":"(\"26\")","v":"26"},"FW","萬　結史","ヨロズ　ユシ",5,"男子"]
["咸宜日隈ｓｃ_27","咸宜日隈ｓｃ",{"$f":"(\"27\")","v":"27"},"MF","萬　善","ヨロズ　ゼン",3,"男子"]
["咸宜日隈ｓｃ_33","咸宜日隈ｓｃ",{"$f":"(\"33\")","v":"33"},"MF","三浦　碧藍","ミウラ　アラン",6,"男子"]
["咸宜日隈ｓｃ_35","咸宜日隈ｓｃ",{"$f":"(\"35\")","v":"35"},"DF","銭花　奏","ゼニバナ　ソウ",6,"男子","○"]
["ＦＣアリアーレ_1","ＦＣアリアーレ",{"$f":"(\"1\")","v":"1"},"GK","進藤　秀太","シンドウ　シュウタ",6,"男子"]
["ＦＣアリアーレ_2","ＦＣアリアーレ",{"$f":"(\"2\")","v":"2"},"DF","河津　瞬","カワヅ　シュン",5,"男子"]
["ＦＣアリアーレ_3","ＦＣアリアーレ",{"$f":"(\"3\")","v":"3"},"DF","佐藤　奏介","サトウ　ソウスケ",6,"男子"]
["ＦＣアリアーレ_4","ＦＣアリアーレ",{"$f":"(\"4\")","v":"4"},"MF","池田　月明都","イケダ　ルアト",6,"男子"]
["ＦＣアリアーレ_5","ＦＣアリアーレ",{"$f":"(\"5\")","v":"5"},"DF","相良　琥希翔","サガラ　トキト",6,"男子"]
["ＦＣアリアーレ_6","ＦＣアリアーレ",{"$f":"(\"6\")","v":"6"},"MF","佐藤　有隼","サトウ　ユウト",6,"男子"]
["ＦＣアリアーレ_7","ＦＣアリアーレ",{"$f":"(\"7\")","v":"7"},"DF","武内　璃緒斗","タケウチ　リオト",6,"男子"]
["ＦＣアリアーレ_8","ＦＣアリアーレ",{"$f":"(\"8\")","v":"8"},"MF","明里　心夢","アカリ　シユウ",5,"男子"]
["ＦＣアリアーレ_9","ＦＣアリアーレ",{"$f":"(\"9\")","v":"9"},"FW","高瀬　晴葉","タカセ　テルハ",6,"男子"]
["ＦＣアリアーレ_10","ＦＣアリアーレ",{"$f":"(\"10\")","v":"10"},"FW","右近　陽翔","ウコン　ハルト",6,"男子","○"]
["ＦＣアリアーレ_11","ＦＣアリアーレ",{"$f":"(\"11\")","v":"11"},"MF","藤高　温希","フジタカ　ハルキ",6,"男子"]
["ＦＣアリアーレ_12","ＦＣアリアーレ",{"$f":"(\"12\")","v":"12"},"FW","松岡　蓮音","マツオカ　レント",4,"男子"]
["ＦＣアリアーレ_13","ＦＣアリアーレ",{"$f":"(\"13\")","v":"13"},"MF","坂本　悠俄","サカモト　ユウガ",6,"男子"]
["ＦＣアリアーレ_14","ＦＣアリアーレ",{"$f":"(\"14\")","v":"14"},"MF","古賀　丈太郎","コガ　ジョウタロウ",4,"男子"]
["ＦＣアリアーレ_15","ＦＣアリアーレ",{"$f":"(\"15\")","v":"15"},"MF","串尾　遼馬","クシオ　ハルマ",4,"男子"]
["ＦＣアリアーレ_16","ＦＣアリアーレ",{"$f":"(\"16\")","v":"16"},"GK","其田　和士","ソノダ　カズシ",6,"男子"]
["三芳少年サッカースクール_1","三芳少年サッカースクール",{"$f":"(\"1\")","v":"1"},"GK","江田　聖流","コウダ　セナ",5,"男子"]
["三芳少年サッカースクール_2","三芳少年サッカースクール",{"$f":"(\"2\")","v":"2"},"DF","髙倉　久継","タカクラ　ヒサツグ",6,"男子"]
["三芳少年サッカースクール_3","三芳少年サッカースクール",{"$f":"(\"3\")","v":"3"},"FW","高波　天惺","タカナミ　テンセイ",5,"男子"]
["三芳少年サッカースクール_5","三芳少年サッカースクール",{"$f":"(\"5\")","v":"5"},"DF","安田　悠人","ヤスダ　ユウト",5,"男子"]
["三芳少年サッカースクール_6","三芳少年サッカースクール",{"$f":"(\"6\")","v":"6"},"DF","山本　晴翔","ヤマモト　ハルト",5,"男子"]
["三芳少年サッカースクール_7","三芳少年サッカースクール",{"$f":"(\"7\")","v":"7"},"FW","富田　健人","トミタ　ケント",6,"男子"]
["三芳少年サッカースクール_8","三芳少年サッカースクール",{"$f":"(\"8\")","v":"8"},"MF","梶原　清太郎","カジワラ　セイタロウ",5,"男子"]
["三芳少年サッカースクール_9","三芳少年サッカースクール",{"$f":"(\"9\")","v":"9"},"FW","椎原　颯麻","シイハラ　ソウマ",6,"男子","○"]
["三芳少年サッカースクール_10","三芳少年サッカースクール",{"$f":"(\"10\")","v":"10"},"FW","椎原　佑大","シイハラ　ユウタ",4,"男子"]
["三芳少年サッカースクール_11","三芳少年サッカースクール",{"$f":"(\"11\")","v":"11"},"MF","金子　蓮","カネコ　レン",5,"男子"]
[{"$f":"CONCATENATE(B67,\"_\",C67)","v":"三芳少年サッカースクール_12"},"三芳少年サッカースクール",{"$f":"(\"12\")","v":"12"},"DF","大鶴　拳志郎","オオツル　ケンシロウ",4,"男子"]
["三芳少年サッカースクール_13","三芳少年サッカースクール",{"$f":"(\"13\")","v":"13"},"FW","河津　壮真","カワヅ　ソウマ",4,"男子"]
["三芳少年サッカースクール_14","三芳少年サッカースクール",{"$f":"(\"14\")","v":"14"},"MF","佐藤　煌汰","サトウ　コウタ",4,"男子"]
["三芳少年サッカースクール_15","三芳少年サッカースクール",{"$f":"(\"15\")","v":"15"},"DF","高森　優暉","タカモリ　ユウキ",4,"男子"]
["三芳少年サッカースクール_16","三芳少年サッカースクール",{"$f":"(\"16\")","v":"16"},"GK","小山　泉粋","コヤマ　センスイ",4,"男子"]
["玖珠サッカースポーツ少年団_1","玖珠サッカースポーツ少年団",{"$f":"(\"1\")","v":"1"},"GK","麻生　健","アソウ　タケル",6,"男子"]
["玖珠サッカースポーツ少年団_2","玖珠サッカースポーツ少年団",{"$f":"(\"2\")","v":"2"},"DF","坂本　雅久斗","サカモト　ガクト",6,"男子"]
["玖珠サッカースポーツ少年団_3","玖珠サッカースポーツ少年団",{"$f":"(\"3\")","v":"3"},"DF","河津　愛都","カワヅ　アイト",6,"男子"]
["玖珠サッカースポーツ少年団_4","玖珠サッカースポーツ少年団",{"$f":"(\"4\")","v":"4"},"FW","梅木　彩羽","ウメキ　サワ",6,"女子小学生"]
["玖珠サッカースポーツ少年団_5","玖珠サッカースポーツ少年団",{"$f":"(\"5\")","v":"5"},"GK","荒木　崇秀","アラキ　タカヒデ",4,"男子"]
["玖珠サッカースポーツ少年団_6","玖珠サッカースポーツ少年団",{"$f":"(\"6\")","v":"6"},"FW","武田　夢叶","タケダ　ユメト",6,"男子"]
["玖珠サッカースポーツ少年団_7","玖珠サッカースポーツ少年団",{"$f":"(\"7\")","v":"7"},"MF","安部　良祐","アベ　リョウスケ",6,"男子"]
["玖珠サッカースポーツ少年団_8","玖珠サッカースポーツ少年団",{"$f":"(\"8\")","v":"8"},"MF","穴井　将斗","アナイ　マサト",6,"男子"]
["玖珠サッカースポーツ少年団_9","玖珠サッカースポーツ少年団",{"$f":"(\"9\")","v":"9"},"MF","宿利　斗眞","シュクリ　トウマ",6,"男子"]
["玖珠サッカースポーツ少年団_10","玖珠サッカースポーツ少年団",{"$f":"(\"10\")","v":"10"},"MF","山口　宗史","ヤマグチ　ムネフミ",6,"男子","○"]
["玖珠サッカースポーツ少年団_11","玖珠サッカースポーツ少年団",{"$f":"(\"11\")","v":"11"},"MF","宝珠　将吾","ホウス　ショウゴ",5,"男子"]
["玖珠サッカースポーツ少年団_12","玖珠サッカースポーツ少年団",{"$f":"(\"12\")","v":"12"},"MF","石井　信治朗","イシイ　シンジロウ",5,"男子"]
["玖珠サッカースポーツ少年団_13","玖珠サッカースポーツ少年団",{"$f":"(\"13\")","v":"13"},"MF","繁田　大雅","シゲタ　タイガ",5,"男子"]
["玖珠サッカースポーツ少年団_14","玖珠サッカースポーツ少年団",{"$f":"(\"14\")","v":"14"},"MF","田中　冠舟","タナカ　カンシュウ",5,"男子"]
["玖珠サッカースポーツ少年団_15","玖珠サッカースポーツ少年団",{"$f":"(\"15\")","v":"15"},"FW","佐藤　龍輝","サトウ　リュウキ",4,"男子"]
["玖珠サッカースポーツ少年団_16","玖珠サッカースポーツ少年団",{"$f":"(\"16\")","v":"16"},"MF","山上　修吾","ヤマガミ　シュウゴ",4,"男子"]
["玖珠サッカースポーツ少年団_17","玖珠サッカースポーツ少年団",{"$f":"(\"17\")","v":"17"},"DF","嶋末　大地","シマスエ　ダイチ",4,"男子"]
["玖珠サッカースポーツ少年団_18","玖珠サッカースポーツ少年団",{"$f":"(\"18\")","v":"18"},"DF","江隈　涼星","エグマ　リョウセイ",4,"男子"]
["ＦＣ．ＵＳＡ_1","ＦＣ．ＵＳＡ",{"$f":"(\"1\")","v":"1"},"GK","浜永　征斗","ハマナガ　ユキト",6,"男子"]
["ＦＣ．ＵＳＡ_2","ＦＣ．ＵＳＡ",{"$f":"(\"2\")","v":"2"},"DF","長本　康太郎","ナガモト　コウタロウ",5,"男子"]
["ＦＣ．ＵＳＡ_3","ＦＣ．ＵＳＡ",{"$f":"(\"3\")","v":"3"},"DF","松尾　颯真","マツオ　ソウマ",6,"男子"]
["ＦＣ．ＵＳＡ_4","ＦＣ．ＵＳＡ",{"$f":"(\"4\")","v":"4"},"MF","久保　栄人","クボ　ハルト",6,"男子"]
["ＦＣ．ＵＳＡ_5","ＦＣ．ＵＳＡ",{"$f":"(\"5\")","v":"5"},"MF","豊永　優月","トヨナガ　ユヅキ",6,"男子","○"]
["ＦＣ．ＵＳＡ_6","ＦＣ．ＵＳＡ",{"$f":"(\"6\")","v":"6"},"MF","新井　瑛人","アライ　エイト",5,"男子"]
["ＦＣ．ＵＳＡ_7","ＦＣ．ＵＳＡ",{"$f":"(\"7\")","v":"7"},"FW","吉井　颯","ヨシイ　ハヤテ",4,"男子"]
["ＦＣ．ＵＳＡ_8","ＦＣ．ＵＳＡ",{"$f":"(\"8\")","v":"8"},"MF","大力　翼","ダイリキ　ツバサ",4,"男子"]
["ＦＣ．ＵＳＡ_9","ＦＣ．ＵＳＡ",{"$f":"(\"9\")","v":"9"},"MF","桐畑　奈儀徒","キリハタ　ナギト",4,"男子"]
["ＦＣ．ＵＳＡ_10","ＦＣ．ＵＳＡ",{"$f":"(\"10\")","v":"10"},"MF","長田　旺祐","ナガタ　オウスケ",3,"男子"]
["ＦＣ．ＵＳＡ_11","ＦＣ．ＵＳＡ",{"$f":"(\"11\")","v":"11"},"FW","今永　瑛仁","イマナガ　エイト",3,"男子"]
["ＦＣ．ＵＳＡ_12","ＦＣ．ＵＳＡ",{"$f":"(\"12\")","v":"12"},"DF","礒辺　翔","イソベ　ショウ",3,"男子"]
["ＦＣ．ＵＳＡ_13","ＦＣ．ＵＳＡ",{"$f":"(\"13\")","v":"13"},"MF","吉松　龍生","ヨシマツ　リュウショウ",3,"男子"]
["ＦＣ．ＵＳＡ_14","ＦＣ．ＵＳＡ",{"$f":"(\"14\")","v":"14"},"DF","光永　颯大","ミツナガ　ソウタ",3,"男子"]
["ＦＣ．ＵＳＡ_16","ＦＣ．ＵＳＡ",{"$f":"(\"16\")","v":"16"},"GK","蜷木　貫人","ニナギ　カント",5,"男子"]
["ＦＣ　ＷＡＹＳ_1","ＦＣ　ＷＡＹＳ",{"$f":"(\"1\")","v":"1"},"GK","久保　蓮哉","クボ　レンヤ",6,"男子","○"]
["ＦＣ　ＷＡＹＳ_2","ＦＣ　ＷＡＹＳ",{"$f":"(\"2\")","v":"2"},"DF","近藤　汰哉","コンドウ　ダイヤ",6,"男子"]
["ＦＣ　ＷＡＹＳ_3","ＦＣ　ＷＡＹＳ",{"$f":"(\"3\")","v":"3"},"DF","佐藤　暖真","サトウ　ハルマ",5,"男子"]
["ＦＣ　ＷＡＹＳ_4","ＦＣ　ＷＡＹＳ",{"$f":"(\"4\")","v":"4"},"DF","高木　龍斗","タカキ　リュウト",5,"男子"]
["ＦＣ　ＷＡＹＳ_5","ＦＣ　ＷＡＹＳ",{"$f":"(\"5\")","v":"5"},"MF","岩尾　琉生","イワオ　ルイ",6,"男子"]
["ＦＣ　ＷＡＹＳ_7","ＦＣ　ＷＡＹＳ",{"$f":"(\"7\")","v":"7"},"MF","梶原　健","カジワラ　ケン",5,"男子"]
["ＦＣ　ＷＡＹＳ_8","ＦＣ　ＷＡＹＳ",{"$f":"(\"8\")","v":"8"},"FW","前田　徠太","マエダ　ライタ",6,"男子"]
["ＦＣ　ＷＡＹＳ_9","ＦＣ　ＷＡＹＳ",{"$f":"(\"9\")","v":"9"},"MF","村上　京佑","ムラカミ　キョウスケ",6,"男子"]
["ＦＣ　ＷＡＹＳ_10","ＦＣ　ＷＡＹＳ",{"$f":"(\"10\")","v":"10"},"MF","末　健人","スエ　ケント",6,"男子"]
["ＦＣ　ＷＡＹＳ_11","ＦＣ　ＷＡＹＳ",{"$f":"(\"11\")","v":"11"},"FW","加茂　愛翔","カモ　マナト",6,"男子"]
["ＦＣ　ＷＡＹＳ_12","ＦＣ　ＷＡＹＳ",{"$f":"(\"12\")","v":"12"},"DF","小山　響生","コヤマ　ヒビキ",5,"男子"]
["ＦＣ　ＷＡＹＳ_13","ＦＣ　ＷＡＹＳ",{"$f":"(\"13\")","v":"13"},"MF","吉田　光毅","ヨシダ　コウキ",5,"男子"]
["ＦＣ　ＷＡＹＳ_14","ＦＣ　ＷＡＹＳ",{"$f":"(\"14\")","v":"14"},"DF","井手　湊太","イデ　ソウタ",5,"男子"]
["ＦＣ　ＷＡＹＳ_16","ＦＣ　ＷＡＹＳ",{"$f":"(\"16\")","v":"16"},"GK","荒牧　悠斗","アラマキ　ハルト",4,"男子"]
["ＦＣ　ＷＡＹＳ_17","ＦＣ　ＷＡＹＳ",{"$f":"(\"17\")","v":"17"},"FW","末　悠人","スエ　ユウト",5,"男子"]
["ＦＣ　ＷＡＹＳ_18","ＦＣ　ＷＡＹＳ",{"$f":"(\"18\")","v":"18"},"MF","福田　貴玄","フクダ　タカトラ",4,"男子"]
["ＦＣ　ＷＡＹＳ_19","ＦＣ　ＷＡＹＳ",{"$f":"(\"19\")","v":"19"},"DF","佐藤　稜真","サトウ　リオマ",4,"男子"]
["ＦＣ　ＷＡＹＳ_20","ＦＣ　ＷＡＹＳ",{"$f":"(\"20\")","v":"20"},"MF","小山　千慧","コヤマ　チサト",4,"男子"]
["四日市南ＳＳＣ_1","四日市南ＳＳＣ",{"$f":"(\"1\")","v":"1"},"GK","千々松　夏生","チヂマツ　ナツ",6,"男子"]
["四日市南ＳＳＣ_3","四日市南ＳＳＣ",{"$f":"(\"3\")","v":"3"},"MF","権藤　心玖","ゴンドウ　ミク",6,"女子小学生"]
["四日市南ＳＳＣ_4","四日市南ＳＳＣ",{"$f":"(\"4\")","v":"4"},"DF","川端　大稀","カワバタ　ダイキ",5,"男子"]
["四日市南ＳＳＣ_5","四日市南ＳＳＣ",{"$f":"(\"5\")","v":"5"},"FW","中間　思温","ナカマ　シオン",5,"男子"]
["四日市南ＳＳＣ_6","四日市南ＳＳＣ",{"$f":"(\"6\")","v":"6"},"MF","井手　悠稀","イデ　ユウマ",5,"男子"]
["四日市南ＳＳＣ_7","四日市南ＳＳＣ",{"$f":"(\"7\")","v":"7"},"FW","長岡　玲司","ナガオカ　レイジ",6,"男子"]
["四日市南ＳＳＣ_8","四日市南ＳＳＣ",{"$f":"(\"8\")","v":"8"},"DF","渡邉　潤也","ワタナベ　ジュンヤ",6,"男子"]
["四日市南ＳＳＣ_9","四日市南ＳＳＣ",{"$f":"(\"9\")","v":"9"},"DF","幸野　英史郎","コウノ　エイシロウ",6,"男子"]
[{"$f":"CONCATENATE(B131,\"_\",C131)","v":"四日市南ＳＳＣ_10"},"四日市南ＳＳＣ",{"$f":"(\"10\")","v":"10"},"MF","津田　藍斗","ツダ　アイト",6,"男子","○"]
["四日市南ＳＳＣ_11","四日市南ＳＳＣ",{"$f":"(\"11\")","v":"11"},"MF","佐藤　瑛太","サトウ　エイタ",5,"男子"]
["四日市南ＳＳＣ_12","四日市南ＳＳＣ",{"$f":"(\"12\")","v":"12"},"MF","岡部　龍大","オカベ　リュウダイ",4,"男子"]
["四日市南ＳＳＣ_13","四日市南ＳＳＣ",{"$f":"(\"13\")","v":"13"},"DF","合原　輝翔","ゴウバル　ケント",5,"男子"]
["四日市南ＳＳＣ_14","四日市南ＳＳＣ",{"$f":"(\"14\")","v":"14"},"FW","合原　竜毅","ゴウバル　リュウキ",4,"男子"]
["四日市南ＳＳＣ_16","四日市南ＳＳＣ",{"$f":"(\"16\")","v":"16"},"GK","斉藤　大翔","サイトウ　ヒロト",5,"男子"]
["四日市北ＪＦＣ_1","四日市北ＪＦＣ",{"$f":"(\"1\")","v":"1"},"GK","松本　旺大","マツモト　オウタ",6,"男子"]
["四日市北ＪＦＣ_2","四日市北ＪＦＣ",{"$f":"(\"2\")","v":"2"},"MF","安倍　翔空","アベ　トア",4,"男子"]
["四日市北ＪＦＣ_3","四日市北ＪＦＣ",{"$f":"(\"3\")","v":"3"},"MF","河野　広空","カワノ　ヒロタカ",4,"男子"]
[{"$f":"CONCATENATE(B140,\"_\",C140)","v":"四日市北ＪＦＣ_4"},"四日市北ＪＦＣ",{"$f":"(\"4\")","v":"4"},"MF","伴　龍之介","バン　リュウノスケ",4,"男子"]
["四日市北ＪＦＣ_5","四日市北ＪＦＣ",{"$f":"(\"5\")","v":"5"},"FW","中野　嬉生","ナカノ　キオ",4,"男子"]
["四日市北ＪＦＣ_6","四日市北ＪＦＣ",{"$f":"(\"6\")","v":"6"},"FW","原田　将臣","ハラダ　マサオミ",3,"男子"]
["四日市北ＪＦＣ_7","四日市北ＪＦＣ",{"$f":"(\"7\")","v":"7"},"FW","長谷川　太一","ハセガワ　タイチ",5,"男子"]
["四日市北ＪＦＣ_8","四日市北ＪＦＣ",{"$f":"(\"8\")","v":"8"},"FW","吉田　和季","ヨシダ　カズ",4,"男子"]
["四日市北ＪＦＣ_9","四日市北ＪＦＣ",{"$f":"(\"9\")","v":"9"},"DF","山崎　銀斗","ヤマサキ　ギント",6,"男子"]
["四日市北ＪＦＣ_10","四日市北ＪＦＣ",{"$f":"(\"10\")","v":"10"},"DF","河野　晃久","カワノ　アキヒサ",6,"男子","○"]
["四日市北ＪＦＣ_11","四日市北ＪＦＣ",{"$f":"(\"11\")","v":"11"},"DF","矢野　透晟","ヤノ　トウセイ",6,"男子"]
["四日市北ＪＦＣ_12","四日市北ＪＦＣ",{"$f":"(\"12\")","v":"12"},"MF","戸上　維人","トウエ　ユイト",4,"男子"]
["きつきＦＣ_1","きつきＦＣ",{"$f":"(\"1\")","v":"1"},"GK","衛藤　紘太","エトウ　コウタ",4,"男子"]
["きつきＦＣ_5","きつきＦＣ",{"$f":"(\"5\")","v":"5"},"DF","佐藤　心乃助","サトウ　シンノスケ",4,"男子"]
["きつきＦＣ_6","きつきＦＣ",{"$f":"(\"6\")","v":"6"},"DF","山本　璃彩","ヤマモト　リア",4,"女子小学生"]
["きつきＦＣ_7","きつきＦＣ",{"$f":"(\"7\")","v":"7"},"MF","立脇　蓮惟","タテワキ　レイ",4,"男子"]
["きつきＦＣ_8","きつきＦＣ",{"$f":"(\"8\")","v":"8"},"MF","植村　清十郎","ウエムラ　セイジュウロウ",4,"男子"]
["きつきＦＣ_9","きつきＦＣ",{"$f":"(\"9\")","v":"9"},"MF","伊藤　天雅","イトウ　テンマ",4,"男子"]
["きつきＦＣ_10","きつきＦＣ",{"$f":"(\"10\")","v":"10"},"FW","木元　大芽","キモト　タイガ",6,"男子","○"]
["きつきＦＣ_11","きつきＦＣ",{"$f":"(\"11\")","v":"11"},"MF","内藤　士穏","ナイトウ　シオン",4,"男子"]
["きつきＦＣ_12","きつきＦＣ",{"$f":"(\"12\")","v":"12"},"FW","亀井　凌","カメイ　リョウ",3,"男子"]
["きつきＦＣ_13","きつきＦＣ",{"$f":"(\"13\")","v":"13"},"FW","土居　志誠","ドイ　シセイ",3,"男子"]
["きつきＦＣ_14","きつきＦＣ",{"$f":"(\"14\")","v":"14"},"MF","徳丸　緒憧","トクマル　ショア",2,"男子"]
["東ＦＣ_1","東ＦＣ",{"$f":"(\"1\")","v":"1"},"GK","長谷雄　大和","ハセオ　ヤマト",6,"男子","○"]
["東ＦＣ_2","東ＦＣ",{"$f":"(\"2\")","v":"2"},"MF","森崎　夏向","モリサキ　カナタ",6,"男子"]
["東ＦＣ_3","東ＦＣ",{"$f":"(\"3\")","v":"3"},"FW","後藤　大輝","ゴトウ　マサキ",5,"男子"]
["東ＦＣ_5","東ＦＣ",{"$f":"(\"5\")","v":"5"},"FW","上野　煌太","ウエノ　オウタ",5,"男子"]
["東ＦＣ_6","東ＦＣ",{"$f":"(\"6\")","v":"6"},"MF","今村　瑛太","イマムラ　エイタ",5,"男子"]
["東ＦＣ_7","東ＦＣ",{"$f":"(\"7\")","v":"7"},"MF","相部　眞那斗","アイベ　マナト",5,"男子"]
["東ＦＣ_8","東ＦＣ",{"$f":"(\"8\")","v":"8"},"DF","鹿野　亜衣莉","カノ　アイリ",5,"女子小学生"]
["東ＦＣ_9","東ＦＣ",{"$f":"(\"9\")","v":"9"},"MF","安達　靖将","アダチ　ヤスマサ",5,"男子"]
["東ＦＣ_10","東ＦＣ",{"$f":"(\"10\")","v":"10"},"MF","浅井　悠成","アザイ　ユウセイ",6,"男子"]
["東ＦＣ_11","東ＦＣ",{"$f":"(\"11\")","v":"11"},"DF","長谷雄　銀士","ハセオ　ギンジ",4,"男子"]
["東ＦＣ_12","東ＦＣ",{"$f":"(\"12\")","v":"12"},"MF","浅井　仁成","アザイ　ジンセイ",4,"男子"]
["東ＦＣ_13","東ＦＣ",{"$f":"(\"13\")","v":"13"},"DF","是永　愛翔","コレナガ　マナト",4,"男子"]
["東ＦＣ_14","東ＦＣ",{"$f":"(\"14\")","v":"14"},"MF","川野　颯亮","カワノ　ソウスケ",3,"男子"]
["東ＦＣ_18","東ＦＣ",{"$f":"(\"18\")","v":"18"},"GK","中矢　和綺","ナカヤ　カズキ",5,"男子"]
["八坂少年サッカークラブ_2","八坂少年サッカークラブ",{"$f":"(\"2\")","v":"2"},"DF","浅野　力我","アサノ　リキガ",6,"男子"]
["八坂少年サッカークラブ_3","八坂少年サッカークラブ",{"$f":"(\"3\")","v":"3"},"DF","堀　浩太朗","ホリ　コウタロウ",6,"男子"]
["八坂少年サッカークラブ_4","八坂少年サッカークラブ",{"$f":"(\"4\")","v":"4"},"DF","山平　晃輝","ヤマヒラ　コウキ",6,"男子"]
["八坂少年サッカークラブ_5","八坂少年サッカークラブ",{"$f":"(\"5\")","v":"5"},"MF","青野　鈴華","アオノ　リンカ",6,"女子小学生"]
["八坂少年サッカークラブ_6","八坂少年サッカークラブ",{"$f":"(\"6\")","v":"6"},"FW","豊島　一聡","トヨシマ　イッサ",6,"男子"]
["八坂少年サッカークラブ_7","八坂少年サッカークラブ",{"$f":"(\"7\")","v":"7"},"MF","今富　幸翔","イマトミ　ユキト",6,"男子"]
["八坂少年サッカークラブ_9","八坂少年サッカークラブ",{"$f":"(\"9\")","v":"9"},"MF","渡邊　駿貴","ワタナベ　シュンキ",6,"男子","○"]
["八坂少年サッカークラブ_10","八坂少年サッカークラブ",{"$f":"(\"10\")","v":"10"},"FW","藤原　唯花","フジワラ　ユイカ",5,"女子小学生"]
["八坂少年サッカークラブ_11","八坂少年サッカークラブ",{"$f":"(\"11\")","v":"11"},"DF","中原　美羽","ナカハラ　ミウ",5,"女子小学生"]
["八坂少年サッカークラブ_12","八坂少年サッカークラブ",{"$f":"(\"12\")","v":"12"},"MF","工藤　健太","クドウ　ケンタ",5,"男子"]
["八坂少年サッカークラブ_13","八坂少年サッカークラブ",{"$f":"(\"13\")","v":"13"},"GK","南　樹希","ミナミ　イツキ",6,"男子"]
["八坂少年サッカークラブ_14","八坂少年サッカークラブ",{"$f":"(\"14\")","v":"14"},"FW","内田　直斗","ウチダ　ナオト",5,"男子"]
["八坂少年サッカークラブ_15","八坂少年サッカークラブ",{"$f":"(\"15\")","v":"15"},"DF","梶原　鷹介","カジワラ　タカスケ",5,"男子"]
["八坂少年サッカークラブ_16","八坂少年サッカークラブ",{"$f":"(\"16\")","v":"16"},"FW","亀井　璃月","カメイ　リツキ",5,"男子"]
["八坂少年サッカークラブ_17","八坂少年サッカークラブ",{"$f":"(\"17\")","v":"17"},"DF","大畑　翔太郎","オオハタ　ショウタロウ",6,"男子"]
["国東ＦＣ_1","国東ＦＣ",{"$f":"(\"1\")","v":"1"},"GK","前田　晃寿","マエダ　アキトシ",6,"男子"]
["国東ＦＣ_2","国東ＦＣ",{"$f":"(\"2\")","v":"2"},"DF","難波　航平","ナンバ　コウヘイ",4,"男子"]
["国東ＦＣ_3","国東ＦＣ",{"$f":"(\"3\")","v":"3"},"DF","金子　笑也","カネコ　エミヤ",4,"男子"]
["国東ＦＣ_4","国東ＦＣ",{"$f":"(\"4\")","v":"4"},"FW","厚田　恵太郎","アツダ　ケイタロウ",4,"男子"]
["国東ＦＣ_5","国東ＦＣ",{"$f":"(\"5\")","v":"5"},"MF","平野　嵩晴","ヒラノ　スバル",4,"男子"]
["国東ＦＣ_6","国東ＦＣ",{"$f":"(\"6\")","v":"6"},"MF","阿比留　寛太","アビル　カンタ",4,"男子"]
["国東ＦＣ_7","国東ＦＣ",{"$f":"(\"7\")","v":"7"},"MF","箕迫　夏海","ミイサコ　ナツミ",3,"女子小学生"]
[{"$f":"CONCATENATE(B196,\"_\",C196)","v":"国東ＦＣ_8"},"国東ＦＣ",{"$f":"(\"8\")","v":"8"},"MF","萱嶋　颯太","カヤシマ　ハヤタ",4,"男子"]
["国東ＦＣ_9","国東ＦＣ",{"$f":"(\"9\")","v":"9"},"DF","北川　周","キタガワ　アマネ",6,"男子","○"]
["国東ＦＣ_10","国東ＦＣ",{"$f":"(\"10\")","v":"10"},"MF","箕迫　海斗","ミイサコ　カイト",6,"男子"]
["国東ＦＣ_11","国東ＦＣ",{"$f":"(\"11\")","v":"11"},"DF","福田　ここな","フクダ　ココナ",6,"女子小学生"]
["国東ＦＣ_13","国東ＦＣ",{"$f":"(\"13\")","v":"13"},"FW","松本　絢斗","マツモト　アヤト",4,"男子"]
["国東ＦＣ_14","国東ＦＣ",{"$f":"(\"14\")","v":"14"},"FW","板井　建親","イタイ　ケンシン",5,"男子"]
["国東ＦＣ_15","国東ＦＣ",{"$f":"(\"15\")","v":"15"},"MF","宮本　結生","ミヤモト　ユウキ",4,"男子"]
["国東ＦＣ_16","国東ＦＣ",{"$f":"(\"16\")","v":"16"},"GK","中磨　龍信","ナカマ　リュウシン",4,"男子"]
["はやぶさフットボールクラブ_1","はやぶさフットボールクラブ",{"$f":"(\"1\")","v":"1"},"GK","原口　暉琉","ハラグチ　ヒカル",6,"男子"]
["はやぶさフットボールクラブ_2","はやぶさフットボールクラブ",{"$f":"(\"2\")","v":"2"},"FW","小河内　煌珀","オガワウチ　コハク",6,"男子"]
["はやぶさフットボールクラブ_3","はやぶさフットボールクラブ",{"$f":"(\"3\")","v":"3"},"MF","喜久里　璃空","キクザト　リク",6,"男子"]
["はやぶさフットボールクラブ_4","はやぶさフットボールクラブ",{"$f":"(\"4\")","v":"4"},"FW","今西　桜音","イマニシ　オト",6,"女子小学生"]
["はやぶさフットボールクラブ_5","はやぶさフットボールクラブ",{"$f":"(\"5\")","v":"5"},"MF","友松　大己","トモマツ　ヒロキ",6,"男子"]
["はやぶさフットボールクラブ_6","はやぶさフットボールクラブ",{"$f":"(\"6\")","v":"6"},"MF","西本　祐晟","ニシモト　ユウセイ",6,"男子"]
["はやぶさフットボールクラブ_7","はやぶさフットボールクラブ",{"$f":"(\"7\")","v":"7"},"DF","山本　瀧生","ヤマモト　ロイ",6,"男子"]
["はやぶさフットボールクラブ_8","はやぶさフットボールクラブ",{"$f":"(\"8\")","v":"8"},"DF","柴田　晴喜","シバタ　ハルキ",6,"男子"]
["はやぶさフットボールクラブ_9","はやぶさフットボールクラブ",{"$f":"(\"9\")","v":"9"},"MF","吉﨑　莉央","ヨシザキ　リオ",6,"男子"]
["はやぶさフットボールクラブ_10","はやぶさフットボールクラブ",{"$f":"(\"10\")","v":"10"},"MF","西耒　琥界","サイライ　コウガ",6,"男子","○"]
["はやぶさフットボールクラブ_11","はやぶさフットボールクラブ",{"$f":"(\"11\")","v":"11"},"FW","末廣　義也","スエヒロ　ヨシヤ",6,"男子"]
["はやぶさフットボールクラブ_13","はやぶさフットボールクラブ",{"$f":"(\"13\")","v":"13"},"FW","杉元　琉久","スギモト　リク",5,"男子"]
["はやぶさフットボールクラブ_14","はやぶさフットボールクラブ",{"$f":"(\"14\")","v":"14"},"MF","廣池　優楽","ヒロイケ　ユラ",5,"男子"]
["はやぶさフットボールクラブ_15","はやぶさフットボールクラブ",{"$f":"(\"15\")","v":"15"},"MF","岩本　啓誠","イワモト　ケイセイ",5,"男子"]
["はやぶさフットボールクラブ_16","はやぶさフットボールクラブ",{"$f":"(\"16\")","v":"16"},"MF","須藤　羽海","ストウ　ウミ",5,"女子小学生"]
["はやぶさフットボールクラブ_17","はやぶさフットボールクラブ",{"$f":"(\"17\")","v":"17"},"DF","用松　千奈","モチマツ　ユキナ",5,"女子小学生"]
["鶴居ＳＳＳ_1","鶴居ＳＳＳ",{"$f":"(\"1\")","v":"1"},"GK","石川　颯飛","イシカワ　ソラト",6,"男子"]
["鶴居ＳＳＳ_2","鶴居ＳＳＳ",{"$f":"(\"2\")","v":"2"},"FW","畑中　聡太","ハタナカ　ソウタ",6,"男子"]
["鶴居ＳＳＳ_3","鶴居ＳＳＳ",{"$f":"(\"3\")","v":"3"},"DF","富原　涼平","トミハラ　リョウヘイ",6,"男子"]
["鶴居ＳＳＳ_4","鶴居ＳＳＳ",{"$f":"(\"4\")","v":"4"},"FW","井上　董伍","イノウエ　トウゴ",6,"男子"]
["鶴居ＳＳＳ_5","鶴居ＳＳＳ",{"$f":"(\"5\")","v":"5"},"DF","吉田　瑠斗","ヨシダ　ルイト",6,"男子"]
["鶴居ＳＳＳ_7","鶴居ＳＳＳ",{"$f":"(\"7\")","v":"7"},"DF","工藤　一颯","クドウ　イブキ",5,"男子"]
["鶴居ＳＳＳ_8","鶴居ＳＳＳ",{"$f":"(\"8\")","v":"8"},"DF","大下　遙斗","オオシタ　ハルト",6,"男子"]
["鶴居ＳＳＳ_9","鶴居ＳＳＳ",{"$f":"(\"9\")","v":"9"},"MF","村澤　叶","ムラサワ　キョウ",6,"男子"]
["鶴居ＳＳＳ_10","鶴居ＳＳＳ",{"$f":"(\"10\")","v":"10"},"FW","長田　十夢也","ナガタ　トムヤ",6,"男子"]
["鶴居ＳＳＳ_11","鶴居ＳＳＳ",{"$f":"(\"11\")","v":"11"},"MF","長野　瑛心","ナガノ　エイシン",6,"男子"]
["鶴居ＳＳＳ_12","鶴居ＳＳＳ",{"$f":"(\"12\")","v":"12"},"GK","岩久　慶人","イワヒサ　ケイト",5,"男子"]
["鶴居ＳＳＳ_13","鶴居ＳＳＳ",{"$f":"(\"13\")","v":"13"},"DF","吉本　悠純樹","ヨシモト　ユズキ",5,"男子"]
["鶴居ＳＳＳ_15","鶴居ＳＳＳ",{"$f":"(\"15\")","v":"15"},"MF","永松　銀河","ナガマツ　ギンガ",6,"男子","○"]
["鶴居ＳＳＳ_16","鶴居ＳＳＳ",{"$f":"(\"16\")","v":"16"},"DF","安武　龍司","ヤスタケ　リュウシ",5,"男子"]
["鶴居ＳＳＳ_17","鶴居ＳＳＳ",{"$f":"(\"17\")","v":"17"},"FW","原　直人","ハラ　ナオト",4,"男子"]
["鶴居ＳＳＳ_18","鶴居ＳＳＳ",{"$f":"(\"18\")","v":"18"},"DF","松野　大地","マツノ　ダイチ",4,"男子"]
["ＦＣ大野_2","ＦＣ大野",{"$f":"(\"2\")","v":"2"},"MF","小野　雄稀","オノ　ユウキ",3,"男子"]
["ＦＣ大野_4","ＦＣ大野",{"$f":"(\"4\")","v":"4"},"DF","麻生　結実","アソウ　ユウミ",4,"女子小学生"]
["ＦＣ大野_5","ＦＣ大野",{"$f":"(\"5\")","v":"5"},"DF","後藤　莉温","ゴトウ　リオン",6,"男子"]
["ＦＣ大野_6","ＦＣ大野",{"$f":"(\"6\")","v":"6"},"DF","伊東　つきの","イトウ　ツキノ",6,"女子小学生"]
["ＦＣ大野_7","ＦＣ大野",{"$f":"(\"7\")","v":"7"},"MF","日坂　祐翔","ヒサカ　ヒロト",6,"男子"]
["ＦＣ大野_8","ＦＣ大野",{"$f":"(\"8\")","v":"8"},"FW","土居　蒔詩","ドイ　マキシ",3,"男子"]
["ＦＣ大野_9","ＦＣ大野",{"$f":"(\"9\")","v":"9"},"DF","首藤　涼太","シュトウ　リョウタ",6,"男子"]
["ＦＣ大野_10","ＦＣ大野",{"$f":"(\"10\")","v":"10"},"FW","小野　涼成","オノ　リョウセイ",6,"男子","○"]
["ＦＣ大野_11","ＦＣ大野",{"$f":"(\"11\")","v":"11"},"DF","臼杵　奏珀","ウスキ　ソウハク",5,"男子"]
["ＦＣ大野_12","ＦＣ大野",{"$f":"(\"12\")","v":"12"},"GK","高橋　颯志","タカハシ　ソウシ",4,"男子"]
["ＦＣ大野_13","ＦＣ大野",{"$f":"(\"13\")","v":"13"},"FW","國師　夢芽","コクシ　ユメ",6,"女子小学生"]
["ＦＣ大野_14","ＦＣ大野",{"$f":"(\"14\")","v":"14"},"DF","廣瀬　遼真","ヒロセ　ハルマ",5,"男子"]
["ＦＣ大野_15","ＦＣ大野",{"$f":"(\"15\")","v":"15"},"FW","遠矢　楓斗","トオヤ　フウト",4,"男子"]
["ＦＣ大野_16","ＦＣ大野",{"$f":"(\"16\")","v":"16"},"GK","和田　昊","ワダ　ソラ",6,"男子"]
["ＦＣ大野_17","ＦＣ大野",{"$f":"(\"17\")","v":"17"},"DF","南部　寧々杷","ナンブ　ネネハ",6,"女子小学生"]
["ＦＣ大野_18","ＦＣ大野",{"$f":"(\"18\")","v":"18"},"MF","土居　時道","ドイ　トキミチ",6,"男子"]
["ＦＣ大野_19","ＦＣ大野",{"$f":"(\"19\")","v":"19"},"MF","甲斐　晶","カイ　アキラ",3,"男子"]
["ＦＣ大野_20","ＦＣ大野",{"$f":"(\"20\")","v":"20"},"MF","大森　仁貴","オオモリ　ヒトキ",6,"男子"]
["鶴見ジュニアサッカークラブ_1","鶴見ジュニアサッカークラブ",{"$f":"(\"1\")","v":"1"},"GK","永井　彰","ナガイ　アキラ",6,"男子"]
["鶴見ジュニアサッカークラブ_2","鶴見ジュニアサッカークラブ",{"$f":"(\"2\")","v":"2"},"FW","諸富　神彪","モロトミ　タイガ",5,"男子"]
["鶴見ジュニアサッカークラブ_3","鶴見ジュニアサッカークラブ",{"$f":"(\"3\")","v":"3"},"MF","田川　喜隆","タガワ　キリュウ",5,"男子"]
["鶴見ジュニアサッカークラブ_5","鶴見ジュニアサッカークラブ",{"$f":"(\"5\")","v":"5"},"MF","今吉　陸來","イマヨシ　リク",6,"男子"]
["鶴見ジュニアサッカークラブ_6","鶴見ジュニアサッカークラブ",{"$f":"(\"6\")","v":"6"},"MF","福本　翔大","フクモト　ショウタ",6,"男子"]
["鶴見ジュニアサッカークラブ_7","鶴見ジュニアサッカークラブ",{"$f":"(\"7\")","v":"7"},"MF","田原　響","タハラ　ヒビキ",6,"男子"]
[{"$f":"CONCATENATE(B260,\"_\",C260)","v":"鶴見ジュニアサッカークラブ_8"},"鶴見ジュニアサッカークラブ",{"$f":"(\"8\")","v":"8"},"MF","仲野　禅海","ナカノ　ゼンカイ",6,"男子"]
["鶴見ジュニアサッカークラブ_9","鶴見ジュニアサッカークラブ",{"$f":"(\"9\")","v":"9"},"MF","木村　優月","キムラ　ユヅキ",6,"女子小学生"]
["鶴見ジュニアサッカークラブ_10","鶴見ジュニアサッカークラブ",{"$f":"(\"10\")","v":"10"},"MF","鶴河　大翔","ツルカワ　ヤマト",6,"男子","○"]
["鶴見ジュニアサッカークラブ_11","鶴見ジュニアサッカークラブ",{"$f":"(\"11\")","v":"11"},"MF","矢治　雅弘","ヤジ　マサヒロ",6,"男子"]
["鶴見ジュニアサッカークラブ_13","鶴見ジュニアサッカークラブ",{"$f":"(\"13\")","v":"13"},"MF","石井　悠暉","イシイ　ユウキ",5,"男子"]
["鶴見ジュニアサッカークラブ_15","鶴見ジュニアサッカークラブ",{"$f":"(\"15\")","v":"15"},"GK","江藤　碧依","エトウ　アオイ",5,"男子"]
["鶴見ジュニアサッカークラブ_16","鶴見ジュニアサッカークラブ",{"$f":"(\"16\")","v":"16"},"MF","福本　明衣","フクモト　メイ",4,"女子小学生"]
["鶴見ジュニアサッカークラブ_17","鶴見ジュニアサッカークラブ",{"$f":"(\"17\")","v":"17"},"MF","中澤　愛","ナカザワ　アイ",4,"女子小学生"]
["鶴見ジュニアサッカークラブ_18","鶴見ジュニアサッカークラブ",{"$f":"(\"18\")","v":"18"},"MF","平野　拓馬","ヒラノ　タクマ",4,"男子"]
["鶴見ジュニアサッカークラブ_19","鶴見ジュニアサッカークラブ",{"$f":"(\"19\")","v":"19"},"MF","山田　翔太","ヤマダ　ショウタ",4,"男子"]
["鶴見ジュニアサッカークラブ_20","鶴見ジュニアサッカークラブ",{"$f":"(\"20\")","v":"20"},"MF","大関　樹","オオゼキ　タツキ",4,"男子"]
["大平山アソシエーション式フットボールクラブ_1","大平山アソシエーション式フットボールクラブ",{"$f":"(\"1\")","v":"1"},"GK","谷　悠真","タニ　ユウマ",6,"男子"]
["大平山アソシエーション式フットボールクラブ_2","大平山アソシエーション式フットボールクラブ",{"$f":"(\"2\")","v":"2"},"FW","浅越　勇駕","アサゴエ　ユウガ",6,"男子"]
["大平山アソシエーション式フットボールクラブ_3","大平山アソシエーション式フットボールクラブ",{"$f":"(\"3\")","v":"3"},"FW","森　悠莉","モリ　ユウリ",5,"女子小学生"]
["大平山アソシエーション式フットボールクラブ_4","大平山アソシエーション式フットボールクラブ",{"$f":"(\"4\")","v":"4"},"FW","瀧石　水","タキイシ　スイ",6,"女子小学生"]
["大平山アソシエーション式フットボールクラブ_5","大平山アソシエーション式フットボールクラブ",{"$f":"(\"5\")","v":"5"},"FW","宮本　武虎","ミヤモト　タケトラ",6,"男子"]
["大平山アソシエーション式フットボールクラブ_6","大平山アソシエーション式フットボールクラブ",{"$f":"(\"6\")","v":"6"},"FW","栁井　彩乃","ヤナイ　アヤノ",5,"女子小学生"]
["大平山アソシエーション式フットボールクラブ_7","大平山アソシエーション式フットボールクラブ",{"$f":"(\"7\")","v":"7"},"FW","馬場　愛梨","ババ　アイリ",6,"女子小学生"]
["大平山アソシエーション式フットボールクラブ_8","大平山アソシエーション式フットボールクラブ",{"$f":"(\"8\")","v":"8"},"FW","岩崎　結子","イワサキ　ユウコ",6,"女子小学生"]
["大平山アソシエーション式フットボールクラブ_10","大平山アソシエーション式フットボールクラブ",{"$f":"(\"10\")","v":"10"},"FW","出利葉　瑛太","イデリハ　エイタ",6,"男子","○"]
["大平山アソシエーション式フットボールクラブ_23","大平山アソシエーション式フットボールクラブ",{"$f":"(\"23\")","v":"23"},"FW","瀧石　十雲","タキイシ　シュウ",4,"男子"]
["大平山アソシエーション式フットボールクラブ_24","大平山アソシエーション式フットボールクラブ",{"$f":"(\"24\")","v":"24"},"FW","坂本　蓮","サカモト　レン",4,"男子"]
["大平山アソシエーション式フットボールクラブ_25","大平山アソシエーション式フットボールクラブ",{"$f":"(\"25\")","v":"25"},"FW","櫻井　仁士","サクライ　トシ",4,"男子"]
["大平山アソシエーション式フットボールクラブ_26","大平山アソシエーション式フットボールクラブ",{"$f":"(\"26\")","v":"26"},"FW","後藤　志劉","ゴトウ　シリュウ",4,"男子"]
["大平山アソシエーション式フットボールクラブ_27","大平山アソシエーション式フットボールクラブ",{"$f":"(\"27\")","v":"27"},"FW","宮本　龍之介","ミヤモト　リュウノスケ",3,"男子"]
["大平山アソシエーション式フットボールクラブ_28","大平山アソシエーション式フットボールクラブ",{"$f":"(\"28\")","v":"28"},"GK","大野　陽平","オオノ　ヨウヘイ",3,"男子"]
["大平山アソシエーション式フットボールクラブ　ＧＯ　Ｆｏｒ　２０２３_9","大平山アソシエーション式フットボールクラブ　ＧＯ　Ｆｏｒ　２０２３",{"$f":"(\"9\")","v":"9"},"FW","原田　脩平","ハラダ　シュウヘイ",5,"男子"]
["大平山アソシエーション式フットボールクラブ　ＧＯ　Ｆｏｒ　２０２３_11","大平山アソシエーション式フットボールクラブ　ＧＯ　Ｆｏｒ　２０２３",{"$f":"(\"11\")","v":"11"},"FW","戸田　瑛斗","トダ　アキト",5,"男子","○"]
["大平山アソシエーション式フットボールクラブ　ＧＯ　Ｆｏｒ　２０２３_12","大平山アソシエーション式フットボールクラブ　ＧＯ　Ｆｏｒ　２０２３",{"$f":"(\"12\")","v":"12"},"FW","中原　宗一朗","ナカハラ　ソウイチロウ",5,"男子"]
["大平山アソシエーション式フットボールクラブ　ＧＯ　Ｆｏｒ　２０２３_13","大平山アソシエーション式フットボールクラブ　ＧＯ　Ｆｏｒ　２０２３",{"$f":"(\"13\")","v":"13"},"FW","谷　逞斗","タニ　タクト",5,"男子"]
["大平山アソシエーション式フットボールクラブ　ＧＯ　Ｆｏｒ　２０２３_14","大平山アソシエーション式フットボールクラブ　ＧＯ　Ｆｏｒ　２０２３",{"$f":"(\"14\")","v":"14"},"FW","笹原　歩夢","ササハラ　アユム",5,"男子"]
["大平山アソシエーション式フットボールクラブ　ＧＯ　Ｆｏｒ　２０２３_15","大平山アソシエーション式フットボールクラブ　ＧＯ　Ｆｏｒ　２０２３",{"$f":"(\"15\")","v":"15"},"FW","定平　柊","サダヒラ　シュウ",5,"男子"]
["大平山アソシエーション式フットボールクラブ　ＧＯ　Ｆｏｒ　２０２３_16","大平山アソシエーション式フットボールクラブ　ＧＯ　Ｆｏｒ　２０２３",{"$f":"(\"16\")","v":"16"},"GK","工藤　桜志","クドウ　オウシ",4,"男子"]
["大平山アソシエーション式フットボールクラブ　ＧＯ　Ｆｏｒ　２０２３_17","大平山アソシエーション式フットボールクラブ　ＧＯ　Ｆｏｒ　２０２３",{"$f":"(\"17\")","v":"17"},"FW","林　翔大","ハヤシ　ショウタ",4,"男子"]
["大平山アソシエーション式フットボールクラブ　ＧＯ　Ｆｏｒ　２０２３_18","大平山アソシエーション式フットボールクラブ　ＧＯ　Ｆｏｒ　２０２３",{"$f":"(\"18\")","v":"18"},"FW","和田　一真","ワダ　カズマ",4,"男子"]
["大平山アソシエーション式フットボールクラブ　ＧＯ　Ｆｏｒ　２０２３_19","大平山アソシエーション式フットボールクラブ　ＧＯ　Ｆｏｒ　２０２３",{"$f":"(\"19\")","v":"19"},"FW","宗岡　周護郎","ムナオカ　シュウゴロウ",4,"男子"]
["大平山アソシエーション式フットボールクラブ　ＧＯ　Ｆｏｒ　２０２３_20","大平山アソシエーション式フットボールクラブ　ＧＯ　Ｆｏｒ　２０２３",{"$f":"(\"20\")","v":"20"},"FW","工藤　豪汰","クドウ　ゴウタ",4,"男子"]
["大平山アソシエーション式フットボールクラブ　ＧＯ　Ｆｏｒ　２０２３_21","大平山アソシエーション式フットボールクラブ　ＧＯ　Ｆｏｒ　２０２３",{"$f":"(\"21\")","v":"21"},"FW","吉田　湊","ヨシダ　ミナト",4,"男子"]
["大平山アソシエーション式フットボールクラブ　ＧＯ　Ｆｏｒ　２０２３_22","大平山アソシエーション式フットボールクラブ　ＧＯ　Ｆｏｒ　２０２３",{"$f":"(\"22\")","v":"22"},"FW","重黒木　翔士","ジュウクロギ　ショウジ",4,"男子"]
["緑丘サッカースポーツ少年団_1","緑丘サッカースポーツ少年団",{"$f":"(\"1\")","v":"1"},"GK","寶亀　翔紀","ホウキ　トキ",6,"男子"]
["緑丘サッカースポーツ少年団_2","緑丘サッカースポーツ少年団",{"$f":"(\"2\")","v":"2"},"MF","杉本　勇聖","スギモト　ユウセイ",5,"男子"]
["緑丘サッカースポーツ少年団_3","緑丘サッカースポーツ少年団",{"$f":"(\"3\")","v":"3"},"DF","坂田　碧琉","サカタ　アイル",5,"男子"]
["緑丘サッカースポーツ少年団_4","緑丘サッカースポーツ少年団",{"$f":"(\"4\")","v":"4"},"MF","本田　汐音","ホンダ　シオン",6,"男子"]
["緑丘サッカースポーツ少年団_5","緑丘サッカースポーツ少年団",{"$f":"(\"5\")","v":"5"},"FW","ジョーンズ　真秀","ジョーンズ　マシュウ",5,"男子"]
["緑丘サッカースポーツ少年団_6","緑丘サッカースポーツ少年団",{"$f":"(\"6\")","v":"6"},"MF","豊田　翔汰","トヨダ　ショウタ",6,"男子"]
["緑丘サッカースポーツ少年団_7","緑丘サッカースポーツ少年団",{"$f":"(\"7\")","v":"7"},"MF","荒金　一騎","アラカネ　イッキ",6,"男子"]
["緑丘サッカースポーツ少年団_8","緑丘サッカースポーツ少年団",{"$f":"(\"8\")","v":"8"},"DF","平山　迪","ヒラヤマ　ユウ",6,"女子小学生"]
["緑丘サッカースポーツ少年団_9","緑丘サッカースポーツ少年団",{"$f":"(\"9\")","v":"9"},"MF","下郡　瑛人","シモゴウリ　エイト",6,"男子"]
["緑丘サッカースポーツ少年団_10","緑丘サッカースポーツ少年団",{"$f":"(\"10\")","v":"10"},"DF","切封　心花","キリフ　ココカ",6,"女子小学生","○"]
["緑丘サッカースポーツ少年団_11","緑丘サッカースポーツ少年団",{"$f":"(\"11\")","v":"11"},"MF","旗手　悠也","ハタテ　ユウヤ",5,"男子"]
["緑丘サッカースポーツ少年団_12","緑丘サッカースポーツ少年団",{"$f":"(\"12\")","v":"12"},"FW","西本　達哉","ニシモト　タツヤ",6,"男子"]
["緑丘サッカースポーツ少年団_13","緑丘サッカースポーツ少年団",{"$f":"(\"13\")","v":"13"},"FW","酒井　琉生","サカイ　ルキ",5,"男子"]
["緑丘サッカースポーツ少年団_14","緑丘サッカースポーツ少年団",{"$f":"(\"14\")","v":"14"},"MF","荒金　ひより","アラカネ　ヒヨリ",4,"女子小学生"]
["緑丘サッカースポーツ少年団_15","緑丘サッカースポーツ少年団",{"$f":"(\"15\")","v":"15"},"MF","松尾　颯磨","マツオ　ソウマ",4,"男子"]
["緑丘サッカースポーツ少年団_17","緑丘サッカースポーツ少年団",{"$f":"(\"17\")","v":"17"},"MF","杉本　航聖","スギモト　コウセイ",4,"男子"]
["緑丘サッカースポーツ少年団_21","緑丘サッカースポーツ少年団",{"$f":"(\"21\")","v":"21"},"GK","衛藤　颯","エトウ　ハヤテ",5,"男子"]
["Ｓｈｙｎｔ　ＦＣ_1","Ｓｈｙｎｔ　ＦＣ",{"$f":"(\"1\")","v":"1"},"GK","光枝　愛哉","ミツエダ　ヨシヤ",5,"男子"]
["Ｓｈｙｎｔ　ＦＣ_2","Ｓｈｙｎｔ　ＦＣ",{"$f":"(\"2\")","v":"2"},"DF","道祖　光琉","サヤ　ミツル",6,"男子"]
["Ｓｈｙｎｔ　ＦＣ_3","Ｓｈｙｎｔ　ＦＣ",{"$f":"(\"3\")","v":"3"},"MF","田中　鉄生","タナカ　テッセイ",6,"男子"]
["Ｓｈｙｎｔ　ＦＣ_4","Ｓｈｙｎｔ　ＦＣ",{"$f":"(\"4\")","v":"4"},"DF","中島　瑞歩","ナカシマ　ミズホ",6,"女子小学生"]
["Ｓｈｙｎｔ　ＦＣ_5","Ｓｈｙｎｔ　ＦＣ",{"$f":"(\"5\")","v":"5"},"MF","河原　圭汰","カワハラ　ケイタ",6,"男子"]
["Ｓｈｙｎｔ　ＦＣ_6","Ｓｈｙｎｔ　ＦＣ",{"$f":"(\"6\")","v":"6"},"DF","高藤　煕留","タカフジ　ヒカル",6,"男子"]
["Ｓｈｙｎｔ　ＦＣ_8","Ｓｈｙｎｔ　ＦＣ",{"$f":"(\"8\")","v":"8"},"DF","南　彪雅","ミナミ　ヒュウガ",6,"男子"]
["Ｓｈｙｎｔ　ＦＣ_9","Ｓｈｙｎｔ　ＦＣ",{"$f":"(\"9\")","v":"9"},"MF","東　理一","ヒガシ　リイチ",6,"男子"]
[{"$f":"CONCATENATE(B324,\"_\",C324)","v":"Ｓｈｙｎｔ　ＦＣ_10"},"Ｓｈｙｎｔ　ＦＣ",{"$f":"(\"10\")","v":"10"},"FW","有田　凜久","アリタ　リク",6,"男子","○"]
["Ｓｈｙｎｔ　ＦＣ_11","Ｓｈｙｎｔ　ＦＣ",{"$f":"(\"11\")","v":"11"},"MF","小野　海音","オノ　カイト",6,"男子"]
["Ｓｈｙｎｔ　ＦＣ_12","Ｓｈｙｎｔ　ＦＣ",{"$f":"(\"12\")","v":"12"},"GK","川嶋　弘輝","カワシマ　ミツキ",5,"男子"]
["Ｓｈｙｎｔ　ＦＣ_13","Ｓｈｙｎｔ　ＦＣ",{"$f":"(\"13\")","v":"13"},"FW","光枝　愛一","ミツエダ　アイチ",6,"男子"]
["Ｓｈｙｎｔ　ＦＣ_14","Ｓｈｙｎｔ　ＦＣ",{"$f":"(\"14\")","v":"14"},"FW","松井　七聖","マツイ　ナナセ",6,"男子"]
["Ｓｈｙｎｔ　ＦＣ_15","Ｓｈｙｎｔ　ＦＣ",{"$f":"(\"15\")","v":"15"},"MF","西尾　基希","ニシオ　モトキ",5,"男子"]
["和田少年サッカークラブ_1","和田少年サッカークラブ",{"$f":"(\"1\")","v":"1"},"GK","岩渕　大洋","イワブチ　タイヨウ",5,"男子"]
["和田少年サッカークラブ_2","和田少年サッカークラブ",{"$f":"(\"2\")","v":"2"},"MF","大新田　柊","オオシンデン　ヒラギ",6,"男子"]
["和田少年サッカークラブ_3","和田少年サッカークラブ",{"$f":"(\"3\")","v":"3"},"DF","宮脇　豪希","ミヤワキ　ゴウキ",6,"男子"]
["和田少年サッカークラブ_4","和田少年サッカークラブ",{"$f":"(\"4\")","v":"4"},"DF","宮原　虎太郎","ミヤハラ　コタロウ",6,"男子"]
["和田少年サッカークラブ_5","和田少年サッカークラブ",{"$f":"(\"5\")","v":"5"},"FW","上城　旬","カミジョウ　シュン",6,"男子"]
["和田少年サッカークラブ_7","和田少年サッカークラブ",{"$f":"(\"7\")","v":"7"},"FW","松本　愛司","マツモト　アイシ",6,"男子"]
["和田少年サッカークラブ_8","和田少年サッカークラブ",{"$f":"(\"8\")","v":"8"},"FW","奥　小梅","オク　コウメ",6,"女子小学生"]
["和田少年サッカークラブ_10","和田少年サッカークラブ",{"$f":"(\"10\")","v":"10"},"DF","田中　一颯","タナカ　イブキ",5,"男子"]
["和田少年サッカークラブ_11","和田少年サッカークラブ",{"$f":"(\"11\")","v":"11"},"FW","福田　雲雀","フクダ　ヒバリ",5,"男子"]
["和田少年サッカークラブ_12","和田少年サッカークラブ",{"$f":"(\"12\")","v":"12"},"DF","高橋　理夢","タカハシ　リム",5,"男子"]
["和田少年サッカークラブ_13","和田少年サッカークラブ",{"$f":"(\"13\")","v":"13"},"MF","畑辺　喜一","ハタベ　キイチ",6,"男子","○"]
["和田少年サッカークラブ_17","和田少年サッカークラブ",{"$f":"(\"17\")","v":"17"},"MF","宮脇　匠志","ミヤワキ　ショウジ",4,"男子"]
["和田少年サッカークラブ_18","和田少年サッカークラブ",{"$f":"(\"18\")","v":"18"},"FW","古間地　櫻咲","フルマジ　ハル",4,"男子"]
["和田少年サッカークラブ_19","和田少年サッカークラブ",{"$f":"(\"19\")","v":"19"},"MF","邑本　一真","ムラモト　カズマ",4,"男子"]
["和田少年サッカークラブ_20","和田少年サッカークラブ",{"$f":"(\"20\")","v":"20"},"MF","奥　蒼太","オク　ソウタ",4,"男子"]
["下毛ＦＣ_1","下毛ＦＣ",{"$f":"(\"1\")","v":"1"},"GK","山本　寿輝","ヤマモト　トシキ",4,"男子"]
["下毛ＦＣ_2","下毛ＦＣ",{"$f":"(\"2\")","v":"2"},"MF","中島　凜人","ナカシマ　リヒト",6,"男子"]
["下毛ＦＣ_3","下毛ＦＣ",{"$f":"(\"3\")","v":"3"},"DF","松井　暖","マツイ　ヒナタ",5,"男子"]
["下毛ＦＣ_4","下毛ＦＣ",{"$f":"(\"4\")","v":"4"},"DF","吉岡　剛星","ヨシオカ　ゴウセイ",6,"男子"]
["下毛ＦＣ_5","下毛ＦＣ",{"$f":"(\"5\")","v":"5"},"DF","堂上　春希","ドウジョウ　ハルキ",5,"男子"]
["下毛ＦＣ_6","下毛ＦＣ",{"$f":"(\"6\")","v":"6"},"FW","山下　空大","ヤマシタ　ソラタ",5,"男子"]
["下毛ＦＣ_7","下毛ＦＣ",{"$f":"(\"7\")","v":"7"},"FW","伊藤　翔大","イトウ　ショウタ",6,"男子"]
["下毛ＦＣ_8","下毛ＦＣ",{"$f":"(\"8\")","v":"8"},"FW","馬出　蒼士","ウマデ　ソウシ",5,"男子"]
["下毛ＦＣ_9","下毛ＦＣ",{"$f":"(\"9\")","v":"9"},"MF","村上　弘樹","ムラカミ　ヒロキ",5,"男子"]
["下毛ＦＣ_10","下毛ＦＣ",{"$f":"(\"10\")","v":"10"},"MF","松野　悠翔","マツノ　ユウト",6,"男子","○"]
["下毛ＦＣ_11","下毛ＦＣ",{"$f":"(\"11\")","v":"11"},"MF","山本　光城","ヤマモト　ミツキ",5,"男子"]
["下毛ＦＣ_12","下毛ＦＣ",{"$f":"(\"12\")","v":"12"},"MF","岩下　大翔","イワシタ　ヒロト",5,"男子"]
["下毛ＦＣ_13","下毛ＦＣ",{"$f":"(\"13\")","v":"13"},"DF","森脇　琥太郎","モリワキ　コタロウ",4,"男子"]
["下毛ＦＣ_14","下毛ＦＣ",{"$f":"(\"14\")","v":"14"},"MF","菅川　惺空","スガワ　セラ",4,"男子"]
["下毛ＦＣ_15","下毛ＦＣ",{"$f":"(\"15\")","v":"15"},"MF","岡山　太郎","オカヤマ　タロウ",5,"男子"]
["中津豊南ＦＣ_1","中津豊南ＦＣ",{"$f":"(\"1\")","v":"1"},"GK","出口　大雅","デグチ　タイガ",5,"男子"]
["中津豊南ＦＣ_2","中津豊南ＦＣ",{"$f":"(\"2\")","v":"2"},"DF","森本　峻太","モリモト　シュンタ",4,"男子"]
["中津豊南ＦＣ_3","中津豊南ＦＣ",{"$f":"(\"3\")","v":"3"},"DF","山本　拓真","ヤマモト　タクマ",4,"男子"]
["中津豊南ＦＣ_4","中津豊南ＦＣ",{"$f":"(\"4\")","v":"4"},"MF","宮崎　敦寛","ミヤザキ　アツヒロ",4,"男子"]
["中津豊南ＦＣ_5","中津豊南ＦＣ",{"$f":"(\"5\")","v":"5"},"DF","野依　千夏","ノヨリ　チナ",5,"女子小学生"]
["中津豊南ＦＣ_6","中津豊南ＦＣ",{"$f":"(\"6\")","v":"6"},"MF","中島　諒子","ナカシマ　リョウコ",5,"女子小学生"]
["中津豊南ＦＣ_7","中津豊南ＦＣ",{"$f":"(\"7\")","v":"7"},"FW","小洞　花穂","コドウ　カホ",5,"女子小学生"]
["中津豊南ＦＣ_8","中津豊南ＦＣ",{"$f":"(\"8\")","v":"8"},"DF","稲熊　海成","イナグマ　カイセイ",5,"男子"]
["中津豊南ＦＣ_9","中津豊南ＦＣ",{"$f":"(\"9\")","v":"9"},"DF","貴戸　遥翔","キド　ハルト",6,"男子"]
["中津豊南ＦＣ_10","中津豊南ＦＣ",{"$f":"(\"10\")","v":"10"},"MF","木元　湧大","キモト　ユウダイ",6,"男子","○"]
["中津豊南ＦＣ_11","中津豊南ＦＣ",{"$f":"(\"11\")","v":"11"},"FW","宮崎　雄大","ミヤザキ　ユウダイ",6,"男子"]
["中津豊南ＦＣ_12","中津豊南ＦＣ",{"$f":"(\"12\")","v":"12"},"MF","近砂　宏信","チカスナ　ヒロノブ",4,"男子"]
["中津豊南ＦＣ_13","中津豊南ＦＣ",{"$f":"(\"13\")","v":"13"},"DF","松尾　耕成","マツオ　コウセイ",4,"男子"]
["中津豊南ＦＣ_14","中津豊南ＦＣ",{"$f":"(\"14\")","v":"14"},"DF","貴戸　晟吾","キド　セイゴ",4,"男子"]
["中津豊南ＦＣ_16","中津豊南ＦＣ",{"$f":"(\"16\")","v":"16"},"GK","菅野　泰雅","スガノ　タイガ",5,"男子"]
["中津沖代ＪＳＣ_1","中津沖代ＪＳＣ",{"$f":"(\"1\")","v":"1"},"GK","佐々木　碧音","ササキ　アオト",6,"男子"]
["中津沖代ＪＳＣ_2","中津沖代ＪＳＣ",{"$f":"(\"2\")","v":"2"},"DF","門田　一路","カドタ　イチロ",5,"男子"]
["中津沖代ＪＳＣ_3","中津沖代ＪＳＣ",{"$f":"(\"3\")","v":"3"},"MF","松下　颯真","マツシタ　ソウマ",5,"男子"]
["中津沖代ＪＳＣ_4","中津沖代ＪＳＣ",{"$f":"(\"4\")","v":"4"},"DF","江田　博太朗","コウダ　ヒロタロウ",5,"男子"]
["中津沖代ＪＳＣ_5","中津沖代ＪＳＣ",{"$f":"(\"5\")","v":"5"},"MF","笹原　翔太郎","ササハラ　ショウタロウ",5,"男子"]
["中津沖代ＪＳＣ_6","中津沖代ＪＳＣ",{"$f":"(\"6\")","v":"6"},"MF","高木　想太","タカキ　ソウタ",6,"男子"]
["中津沖代ＪＳＣ_7","中津沖代ＪＳＣ",{"$f":"(\"7\")","v":"7"},"MF","向田　颯太郎","ムコウダ　ソウタロウ",5,"男子"]
["中津沖代ＪＳＣ_9","中津沖代ＪＳＣ",{"$f":"(\"9\")","v":"9"},"DF","藤丸　未桜","フジマル　ミオ",6,"女子小学生"]
["中津沖代ＪＳＣ_10","中津沖代ＪＳＣ",{"$f":"(\"10\")","v":"10"},"MF","太田　康介","オオタ　コウスケ",6,"男子","○"]
["中津沖代ＪＳＣ_11","中津沖代ＪＳＣ",{"$f":"(\"11\")","v":"11"},"MF","井手　碧","イデ　アオイ",6,"男子"]
["中津沖代ＪＳＣ_12","中津沖代ＪＳＣ",{"$f":"(\"12\")","v":"12"},"FW","堀部　翔太","ホリベ　ショウタ",4,"男子"]
["中津沖代ＪＳＣ_13","中津沖代ＪＳＣ",{"$f":"(\"13\")","v":"13"},"GK","川野　泰雅","カワノ　タイガ",5,"男子"]
["中津沖代ＪＳＣ_14","中津沖代ＪＳＣ",{"$f":"(\"14\")","v":"14"},"MF","高比良　飛吹","タカヒラ　イブキ",4,"男子"]
[{"$f":"CONCATENATE(B388,\"_\",C388)","v":"中津沖代ＪＳＣ_16"},"中津沖代ＪＳＣ",{"$f":"(\"16\")","v":"16"},"FW","白石　大翔","シライシ　ヒロト",4,"男子"]
["中津沖代ＪＳＣ_19","中津沖代ＪＳＣ",{"$f":"(\"19\")","v":"19"},"FW","守口　輝哉","モリグチ　ライヤ",4,"男子"]
["中津沖代ＪＳＣ_22","中津沖代ＪＳＣ",{"$f":"(\"22\")","v":"22"},"MF","笠原　惇希","カサハラ　アツキ",4,"男子"]
["千怒サッカースポーツ少年団_1","千怒サッカースポーツ少年団",{"$f":"(\"1\")","v":"1"},"GK","石井　湊人","イシイ　ミナト",6,"男子"]
["千怒サッカースポーツ少年団_2","千怒サッカースポーツ少年団",{"$f":"(\"2\")","v":"2"},"MF","有永　夏基","アリナガ　ナツキ",6,"男子","○"]
["千怒サッカースポーツ少年団_3","千怒サッカースポーツ少年団",{"$f":"(\"3\")","v":"3"},"DF","山本　蒼","ヤマモト　ソウ",5,"男子"]
["千怒サッカースポーツ少年団_4","千怒サッカースポーツ少年団",{"$f":"(\"4\")","v":"4"},"DF","仲　凌生","ナカ　リョウセイ",5,"男子"]
["千怒サッカースポーツ少年団_5","千怒サッカースポーツ少年団",{"$f":"(\"5\")","v":"5"},"DF","岩﨑　冬輝","イワサキ　トウキ",5,"男子"]
["千怒サッカースポーツ少年団_7","千怒サッカースポーツ少年団",{"$f":"(\"7\")","v":"7"},"MF","小手川　耀","コテガワ　ヨウ",5,"男子"]
["千怒サッカースポーツ少年団_8","千怒サッカースポーツ少年団",{"$f":"(\"8\")","v":"8"},"MF","石谷　悠二郎","イシタニ　ユウジロウ",6,"男子"]
["千怒サッカースポーツ少年団_9","千怒サッカースポーツ少年団",{"$f":"(\"9\")","v":"9"},"FW","堀口　滉太","ホリグチ　コウタ",6,"男子"]
["千怒サッカースポーツ少年団_10","千怒サッカースポーツ少年団",{"$f":"(\"10\")","v":"10"},"DF","岩﨑　蓮","イワサキ　レン",6,"男子"]
["千怒サッカースポーツ少年団_11","千怒サッカースポーツ少年団",{"$f":"(\"11\")","v":"11"},"MF","上田　彗斗","ウエダ　ケイト",5,"男子"]
["千怒サッカースポーツ少年団_12","千怒サッカースポーツ少年団",{"$f":"(\"12\")","v":"12"},"FW","西村　鴻志","ニシムラ　コウシ",5,"男子"]
["千怒サッカースポーツ少年団_13","千怒サッカースポーツ少年団",{"$f":"(\"13\")","v":"13"},"FW","深津　空斗","フカヅ　ソラト",4,"男子"]
["千怒サッカースポーツ少年団_14","千怒サッカースポーツ少年団",{"$f":"(\"14\")","v":"14"},"GK","内藤　尚音","ナイトウ　ショウオン",4,"男子"]
["千怒サッカースポーツ少年団_15","千怒サッカースポーツ少年団",{"$f":"(\"15\")","v":"15"},"FW","中平　龍希","ナカヒラ　リュウキ",4,"男子"]
["千怒サッカースポーツ少年団_16","千怒サッカースポーツ少年団",{"$f":"(\"16\")","v":"16"},"FW","中津留　蓮飛","ナカツル　レント",3,"男子"]
["千怒サッカースポーツ少年団_17","千怒サッカースポーツ少年団",{"$f":"(\"17\")","v":"17"},"FW","小手川　海人","コテガワ　カイト",3,"男子"]
["千怒サッカースポーツ少年団_18","千怒サッカースポーツ少年団",{"$f":"(\"18\")","v":"18"},"FW","島田　京弥","シマダ　キョウヤ",3,"男子"]
["鶴見少年サッカークラブ_1","鶴見少年サッカークラブ",{"$f":"(\"1\")","v":"1"},"GK","益留　尊志郎","マスドメ　トウシロウ",4,"男子"]
["鶴見少年サッカークラブ_2","鶴見少年サッカークラブ",{"$f":"(\"2\")","v":"2"},"FW","松岡　逞","マツオカ　タクマ",6,"男子"]
["鶴見少年サッカークラブ_3","鶴見少年サッカークラブ",{"$f":"(\"3\")","v":"3"},"MF","岩崎　夢羽","イワサキ　ムウ",6,"女子小学生"]
["鶴見少年サッカークラブ_4","鶴見少年サッカークラブ",{"$f":"(\"4\")","v":"4"},"MF","安部　千輝","アベ　カズキ",3,"男子"]
["鶴見少年サッカークラブ_5","鶴見少年サッカークラブ",{"$f":"(\"5\")","v":"5"},"MF","関　聖愛","セキ　セラ",6,"女子小学生"]
["鶴見少年サッカークラブ_6","鶴見少年サッカークラブ",{"$f":"(\"6\")","v":"6"},"MF","廣田　友之介","ヒロタ　ユウノスケ",6,"男子"]
["鶴見少年サッカークラブ_7","鶴見少年サッカークラブ",{"$f":"(\"7\")","v":"7"},"DF","甲斐　海愛","カイ　ミノリ",6,"男子"]
["鶴見少年サッカークラブ_8","鶴見少年サッカークラブ",{"$f":"(\"8\")","v":"8"},"MF","石田　悠真","イシダ　ハルマ",6,"男子"]
["鶴見少年サッカークラブ_9","鶴見少年サッカークラブ",{"$f":"(\"9\")","v":"9"},"FW","百田　翔貴","モモタ　トキ",6,"男子"]
["鶴見少年サッカークラブ_10","鶴見少年サッカークラブ",{"$f":"(\"10\")","v":"10"},"MF","渡邉　煌雅","ワタナベ　コウガ",6,"男子","○"]
["鶴見少年サッカークラブ_11","鶴見少年サッカークラブ",{"$f":"(\"11\")","v":"11"},"FW","神田　龍斗","カンダ　リュウト",6,"男子"]
["鶴見少年サッカークラブ_12","鶴見少年サッカークラブ",{"$f":"(\"12\")","v":"12"},"MF","安部　漣音","アベ　レオン",6,"男子"]
["鶴見少年サッカークラブ_13","鶴見少年サッカークラブ",{"$f":"(\"13\")","v":"13"},"DF","波戸崎　武虎","ハトザキ　タケトラ",5,"男子"]
["鶴見少年サッカークラブ_14","鶴見少年サッカークラブ",{"$f":"(\"14\")","v":"14"},"FW","清家　羽輝","セイケ　ウキ",3,"男子"]
["鶴見少年サッカークラブ_15","鶴見少年サッカークラブ",{"$f":"(\"15\")","v":"15"},"FW","梶西　惺凪","カジニシ　セナ",3,"男子"]
["鶴見少年サッカークラブ_16","鶴見少年サッカークラブ",{"$f":"(\"16\")","v":"16"},"FW","谷川　颯太","タニガワ　ソウタ",3,"男子"]
["鶴見少年サッカークラブ_17","鶴見少年サッカークラブ",{"$f":"(\"17\")","v":"17"},"GK","黒岩　陽","クロイワ　ヒナタ",6,"男子"]
["弥生少年サッカークラブ_1","弥生少年サッカークラブ",{"$f":"(\"1\")","v":"1"},"GK","松下　直樹","マツシタ　ナオキ",6,"男子"]
["弥生少年サッカークラブ_2","弥生少年サッカークラブ",{"$f":"(\"2\")","v":"2"},"MF","髙木　りお","タカギ　リオ",5,"女子小学生"]
["弥生少年サッカークラブ_3","弥生少年サッカークラブ",{"$f":"(\"3\")","v":"3"},"MF","工藤　義夕","クドウ　ヨシユウ",6,"女子小学生"]
["弥生少年サッカークラブ_4","弥生少年サッカークラブ",{"$f":"(\"4\")","v":"4"},"DF","神崎　陸斗","カンザキ　リクト",5,"男子"]
["弥生少年サッカークラブ_5","弥生少年サッカークラブ",{"$f":"(\"5\")","v":"5"},"DF","目黒　礼助","メグロ　レイスケ",6,"男子"]
["弥生少年サッカークラブ_6","弥生少年サッカークラブ",{"$f":"(\"6\")","v":"6"},"MF","林　正温","ハヤシ　セオ",6,"男子"]
["弥生少年サッカークラブ_7","弥生少年サッカークラブ",{"$f":"(\"7\")","v":"7"},"DF","宮脇　彪瑠","ミヤワキ　タケル",6,"男子"]
["弥生少年サッカークラブ_8","弥生少年サッカークラブ",{"$f":"(\"8\")","v":"8"},"MF","高木　奏","タカギ　カナデ",6,"男子"]
["弥生少年サッカークラブ_9","弥生少年サッカークラブ",{"$f":"(\"9\")","v":"9"},"MF","淡路　旺太朗","アワジ　オオタロウ",5,"男子"]
["弥生少年サッカークラブ_10","弥生少年サッカークラブ",{"$f":"(\"10\")","v":"10"},"FW","田中　愛乃音","タナカ　アノン",6,"女子小学生","○"]
["弥生少年サッカークラブ_11","弥生少年サッカークラブ",{"$f":"(\"11\")","v":"11"},"MF","小野　美咲","オノ　ミサキ",6,"女子小学生"]
["弥生少年サッカークラブ_12","弥生少年サッカークラブ",{"$f":"(\"12\")","v":"12"},"FW","宮脇　陸人","ミヤワキ　リクト",4,"男子"]
["弥生少年サッカークラブ_13","弥生少年サッカークラブ",{"$f":"(\"13\")","v":"13"},"DF","松下　和樹","マツシタ　カズキ",4,"男子"]
["弥生少年サッカークラブ_14","弥生少年サッカークラブ",{"$f":"(\"14\")","v":"14"},"MF","岡田　琉希","オカダ　ルキ",4,"男子"]
["弥生少年サッカークラブ_15","弥生少年サッカークラブ",{"$f":"(\"15\")","v":"15"},"MF","角崎　暖","カクザキ　ハル",4,"男子"]
["弥生少年サッカークラブ_16","弥生少年サッカークラブ",{"$f":"(\"16\")","v":"16"},"MF","山村　朔人","ヤマムラ　サクト",4,"男子"]
["弥生少年サッカークラブ_17","弥生少年サッカークラブ",{"$f":"(\"17\")","v":"17"},"GK","橋井　航","ハシイ　ワタル",4,"男子"]
["上堅田少年サッカークラブ_1","上堅田少年サッカークラブ",{"$f":"(\"1\")","v":"1"},"GK","松下　晃大","マツシタ　コウダイ",6,"男子"]
["上堅田少年サッカークラブ_2","上堅田少年サッカークラブ",{"$f":"(\"2\")","v":"2"},"FW","坂本　悠真","サカモト　ユウマ",5,"男子"]
["上堅田少年サッカークラブ_3","上堅田少年サッカークラブ",{"$f":"(\"3\")","v":"3"},"DF","大島　佑太","オオシマ　ユウタ",4,"男子"]
["上堅田少年サッカークラブ_4","上堅田少年サッカークラブ",{"$f":"(\"4\")","v":"4"},"DF","染矢　蒼羽","ソメヤ　アオハ",4,"男子"]
["上堅田少年サッカークラブ_5","上堅田少年サッカークラブ",{"$f":"(\"5\")","v":"5"},"FW","川部　大和","カワベ　ヤマト",6,"男子"]
["上堅田少年サッカークラブ_6","上堅田少年サッカークラブ",{"$f":"(\"6\")","v":"6"},"MF","藤原　颯天","フジワラ　ハヤテ",4,"男子"]
["上堅田少年サッカークラブ_7","上堅田少年サッカークラブ",{"$f":"(\"7\")","v":"7"},"MF","柴田　賢十","シバタ　ケント",4,"男子"]
["上堅田少年サッカークラブ_8","上堅田少年サッカークラブ",{"$f":"(\"8\")","v":"8"},"DF","秋元　智早","アキモト　チハヤ",5,"男子"]
["上堅田少年サッカークラブ_9","上堅田少年サッカークラブ",{"$f":"(\"9\")","v":"9"},"DF","染矢　羽琉","ソメヤ　ハル",5,"男子"]
["上堅田少年サッカークラブ_10","上堅田少年サッカークラブ",{"$f":"(\"10\")","v":"10"},"MF","砂川　大河","スナガワ　タイガ",6,"男子","○"]
[{"$f":"CONCATENATE(B452,\"_\",C452)","v":"上堅田少年サッカークラブ_11"},"上堅田少年サッカークラブ",{"$f":"(\"11\")","v":"11"},"MF","古本　瞭太","フルモト　リョウタ",5,"男子"]
["上堅田少年サッカークラブ_12","上堅田少年サッカークラブ",{"$f":"(\"12\")","v":"12"},"MF","後藤　泉琉","ゴトウ　イズル",5,"男子"]
[{"$f":"CONCATENATE(B454,\"_\",C454)","v":"上堅田少年サッカークラブ_13"},"上堅田少年サッカークラブ",{"$f":"(\"13\")","v":"13"},"DF","後藤　昴琉","ゴトウ　スバル",6,"男子"]
["上堅田少年サッカークラブ_14","上堅田少年サッカークラブ",{"$f":"(\"14\")","v":"14"},"FW","古木　岬","フルキ　ミサキ",4,"男子"]
["上堅田少年サッカークラブ_15","上堅田少年サッカークラブ",{"$f":"(\"15\")","v":"15"},"DF","片山　大也","カタヤマ　ヒロヤ",6,"男子"]
["上堅田少年サッカークラブ_21","上堅田少年サッカークラブ",{"$f":"(\"21\")","v":"21"},"GK","磯貝　涼祐","イソガイ　リョウスケ",6,"男子"]
["鶴岡Ｓ―ｐｌａｙ・ＭＩＮＡＭＩ_1","鶴岡Ｓ―ｐｌａｙ・ＭＩＮＡＭＩ",{"$f":"(\"1\")","v":"1"},"GK","河野　瑛亮","カワノ　エイスケ",6,"男子","○"]
["鶴岡Ｓ―ｐｌａｙ・ＭＩＮＡＭＩ_2","鶴岡Ｓ―ｐｌａｙ・ＭＩＮＡＭＩ",{"$f":"(\"2\")","v":"2"},"MF","津田　楓翔","ツダ　フウト",4,"男子"]
["鶴岡Ｓ―ｐｌａｙ・ＭＩＮＡＭＩ_3","鶴岡Ｓ―ｐｌａｙ・ＭＩＮＡＭＩ",{"$f":"(\"3\")","v":"3"},"MF","小野　藏之介","オノ　クラノスケ",4,"男子"]
["鶴岡Ｓ―ｐｌａｙ・ＭＩＮＡＭＩ_4","鶴岡Ｓ―ｐｌａｙ・ＭＩＮＡＭＩ",{"$f":"(\"4\")","v":"4"},"DF","狩生　倖充","カリュウ　ユキミツ",6,"男子"]
["鶴岡Ｓ―ｐｌａｙ・ＭＩＮＡＭＩ_5","鶴岡Ｓ―ｐｌａｙ・ＭＩＮＡＭＩ",{"$f":"(\"5\")","v":"5"},"MF","市原　蓮空","イチハラ　レン",4,"男子"]
["鶴岡Ｓ―ｐｌａｙ・ＭＩＮＡＭＩ_6","鶴岡Ｓ―ｐｌａｙ・ＭＩＮＡＭＩ",{"$f":"(\"6\")","v":"6"},"DF","藤原　尚","フジワラ　ナオ",5,"男子"]
["鶴岡Ｓ―ｐｌａｙ・ＭＩＮＡＭＩ_7","鶴岡Ｓ―ｐｌａｙ・ＭＩＮＡＭＩ",{"$f":"(\"7\")","v":"7"},"MF","藤原　滉","フジワラ　コウ",6,"男子"]
[{"$f":"CONCATENATE(B465,\"_\",C465)","v":"鶴岡Ｓ―ｐｌａｙ・ＭＩＮＡＭＩ_8"},"鶴岡Ｓ―ｐｌａｙ・ＭＩＮＡＭＩ",{"$f":"(\"8\")","v":"8"},"MF","兒玉　佳大","コダマ　ケイタ",6,"男子"]
[{"$f":"CONCATENATE(B466,\"_\",C466)","v":"鶴岡Ｓ―ｐｌａｙ・ＭＩＮＡＭＩ_9"},"鶴岡Ｓ―ｐｌａｙ・ＭＩＮＡＭＩ",{"$f":"(\"9\")","v":"9"},"FW","大室　匠","オオムロ　タクミ",6,"男子"]
["鶴岡Ｓ―ｐｌａｙ・ＭＩＮＡＭＩ_10","鶴岡Ｓ―ｐｌａｙ・ＭＩＮＡＭＩ",{"$f":"(\"10\")","v":"10"},"MF","安藤　和樹","アンドウ　カズキ",6,"男子"]
["鶴岡Ｓ―ｐｌａｙ・ＭＩＮＡＭＩ_11","鶴岡Ｓ―ｐｌａｙ・ＭＩＮＡＭＩ",{"$f":"(\"11\")","v":"11"},"MF","小野　龍之介","オノ　リュウノスケ",6,"男子"]
["鶴岡Ｓ―ｐｌａｙ・ＭＩＮＡＭＩ_12","鶴岡Ｓ―ｐｌａｙ・ＭＩＮＡＭＩ",{"$f":"(\"12\")","v":"12"},"DF","児玉　隼人","コダマ　ハヤト",4,"男子"]
["鶴岡Ｓ―ｐｌａｙ・ＭＩＮＡＭＩ_13","鶴岡Ｓ―ｐｌａｙ・ＭＩＮＡＭＩ",{"$f":"(\"13\")","v":"13"},"FW","矢野　晶大","ヤノ　ショウダイ",4,"男子"]
["鶴岡Ｓ―ｐｌａｙ・ＭＩＮＡＭＩ_14","鶴岡Ｓ―ｐｌａｙ・ＭＩＮＡＭＩ",{"$f":"(\"14\")","v":"14"},"MF","大室　颯","オオムロ　ハヤテ",4,"男子"]
["鶴岡Ｓ―ｐｌａｙ・ＭＩＮＡＭＩ_15","鶴岡Ｓ―ｐｌａｙ・ＭＩＮＡＭＩ",{"$f":"(\"15\")","v":"15"},"FW","加藤　奏太","カトウ　ソウタ",6,"男子"]
["鶴岡Ｓ―ｐｌａｙ・ＭＩＮＡＭＩ_23","鶴岡Ｓ―ｐｌａｙ・ＭＩＮＡＭＩ",{"$f":"(\"23\")","v":"23"},"GK","兒玉　龍樹","コダマ　リュウジュ",5,"男子"]
["佐伯リベロフットボールクラブ_1","佐伯リベロフットボールクラブ",{"$f":"(\"1\")","v":"1"},"GK","山村　心大","ヤマムラ　シンタ",6,"男子","○"]
["佐伯リベロフットボールクラブ_2","佐伯リベロフットボールクラブ",{"$f":"(\"2\")","v":"2"},"DF","日吉　虎輔","ヒヨシ　コスケ",4,"男子"]
["佐伯リベロフットボールクラブ_3","佐伯リベロフットボールクラブ",{"$f":"(\"3\")","v":"3"},"FW","佐藤　陽斗","サトウ　ハルト",4,"男子"]
["佐伯リベロフットボールクラブ_4","佐伯リベロフットボールクラブ",{"$f":"(\"4\")","v":"4"},"DF","河野　遥真","カワノ　ハルマ",5,"男子"]
["佐伯リベロフットボールクラブ_5","佐伯リベロフットボールクラブ",{"$f":"(\"5\")","v":"5"},"DF","早瀬　昇","ハヤセ　ノボル",5,"男子"]
["佐伯リベロフットボールクラブ_6","佐伯リベロフットボールクラブ",{"$f":"(\"6\")","v":"6"},"FW","石上　博也","イシガミ　ヒロヤ",5,"男子"]
["佐伯リベロフットボールクラブ_7","佐伯リベロフットボールクラブ",{"$f":"(\"7\")","v":"7"},"DF","尾崎　恭","オザキ　キョウ",5,"男子"]
["佐伯リベロフットボールクラブ_8","佐伯リベロフットボールクラブ",{"$f":"(\"8\")","v":"8"},"MF","神崎　雄人","カンザキ　ユウト",5,"男子"]
["佐伯リベロフットボールクラブ_9","佐伯リベロフットボールクラブ",{"$f":"(\"9\")","v":"9"},"MF","岡田　虎太朗","オカダ　コタロウ",5,"男子"]
["佐伯リベロフットボールクラブ_10","佐伯リベロフットボールクラブ",{"$f":"(\"10\")","v":"10"},"DF","岩丸　優真","イワマル　ユウマ",6,"男子"]
["佐伯リベロフットボールクラブ_11","佐伯リベロフットボールクラブ",{"$f":"(\"11\")","v":"11"},"FW","廣瀬　大治","ヒロセ　ダイチ",5,"男子"]
["佐伯リベロフットボールクラブ_12","佐伯リベロフットボールクラブ",{"$f":"(\"12\")","v":"12"},"DF","児玉　冴徠","コダマ　サク",4,"男子"]
["佐伯リベロフットボールクラブ_13","佐伯リベロフットボールクラブ",{"$f":"(\"13\")","v":"13"},"MF","上野　蒼太","ウエノ　ソウタ",4,"男子"]
["佐伯リベロフットボールクラブ_14","佐伯リベロフットボールクラブ",{"$f":"(\"14\")","v":"14"},"DF","山村　悠人","ヤマムラ　ヒサト",4,"男子"]
["佐伯リベロフットボールクラブ_15","佐伯リベロフットボールクラブ",{"$f":"(\"15\")","v":"15"},"FW","渡邉　翔太","ワタナベ　ショウタ",4,"男子"]
["佐伯リベロフットボールクラブ_21","佐伯リベロフットボールクラブ",{"$f":"(\"21\")","v":"21"},"GK","冨澤　樹","トミザワ　イツキ",4,"男子"]
["別府フットボールクラブ．ミネルバＵ－１２_1","別府フットボールクラブ．ミネルバＵ－１２",{"$f":"(\"1\")","v":"1"},"GK","小島　悠人","コジマ　ハルト",6,"男子"]
["別府フットボールクラブ．ミネルバＵ－１２_2","別府フットボールクラブ．ミネルバＵ－１２",{"$f":"(\"2\")","v":"2"},"MF","森迫　大翔","モリサコ　ヒロト",6,"男子"]
["別府フットボールクラブ．ミネルバＵ－１２_3","別府フットボールクラブ．ミネルバＵ－１２",{"$f":"(\"3\")","v":"3"},"DF","波多野　雄大","ハタノ　ユウダイ",5,"男子"]
["別府フットボールクラブ．ミネルバＵ－１２_4","別府フットボールクラブ．ミネルバＵ－１２",{"$f":"(\"4\")","v":"4"},"MF","西　謙太郎","ニシ　ケンタロウ",6,"男子"]
["別府フットボールクラブ．ミネルバＵ－１２_5","別府フットボールクラブ．ミネルバＵ－１２",{"$f":"(\"5\")","v":"5"},"MF","安倍　京弥","アベ　キョウヤ",5,"男子"]
["別府フットボールクラブ．ミネルバＵ－１２_6","別府フットボールクラブ．ミネルバＵ－１２",{"$f":"(\"6\")","v":"6"},"MF","横大路　敬太","ヨコオウジ　ケイタ",6,"男子"]
["別府フットボールクラブ．ミネルバＵ－１２_7","別府フットボールクラブ．ミネルバＵ－１２",{"$f":"(\"7\")","v":"7"},"DF","宮崎　浩一郎","ミヤザキ　コウイチロウ",6,"男子"]
["別府フットボールクラブ．ミネルバＵ－１２_8","別府フットボールクラブ．ミネルバＵ－１２",{"$f":"(\"8\")","v":"8"},"MF","矢野　陽介","ヤノ　ヨウスケ",5,"男子"]
["別府フットボールクラブ．ミネルバＵ－１２_9","別府フットボールクラブ．ミネルバＵ－１２",{"$f":"(\"9\")","v":"9"},"FW","三ヶ尻　啓輔","ミカジリ　ケイスケ",6,"男子"]
[{"$f":"CONCATENATE(B499,\"_\",C499)","v":"別府フットボールクラブ．ミネルバＵ－１２_10"},"別府フットボールクラブ．ミネルバＵ－１２",{"$f":"(\"10\")","v":"10"},"DF","賀来　玲音","カク　レオン",6,"男子","○"]
["別府フットボールクラブ．ミネルバＵ－１２_11","別府フットボールクラブ．ミネルバＵ－１２",{"$f":"(\"11\")","v":"11"},"MF","有永　元","アリナガ　レイ",6,"男子"]
["別府フットボールクラブ．ミネルバＵ－１２_12","別府フットボールクラブ．ミネルバＵ－１２",{"$f":"(\"12\")","v":"12"},"MF","仲道　悠人","ナカミチ　ハルト",5,"男子"]
["別府フットボールクラブ．ミネルバＵ－１２_13","別府フットボールクラブ．ミネルバＵ－１２",{"$f":"(\"13\")","v":"13"},"FW","安部　煌生","アベ　コウキ",5,"男子"]
["別府フットボールクラブ．ミネルバＵ－１２_14","別府フットボールクラブ．ミネルバＵ－１２",{"$f":"(\"14\")","v":"14"},"MF","古川　悠真","フルカワ　ユウマ",5,"男子"]
["別府フットボールクラブ．ミネルバＵ－１２_15","別府フットボールクラブ．ミネルバＵ－１２",{"$f":"(\"15\")","v":"15"},"GK","石橋　千尋","イシバシ　チヒロ",5,"男子"]
["別府フットボールクラブ．ミネルバＵ－１２_16","別府フットボールクラブ．ミネルバＵ－１２",{"$f":"(\"16\")","v":"16"},"MF","佐藤　由凰","サトウ　ユウゴ",5,"男子"]
["別府フットボールクラブ．ミネルバＵ－１２_17","別府フットボールクラブ．ミネルバＵ－１２",{"$f":"(\"17\")","v":"17"},"MF","西林　貴臣","ニシバヤシ　タカオミ",4,"男子"]
["別府フットボールクラブ．ミネルバＵ－１２_18","別府フットボールクラブ．ミネルバＵ－１２",{"$f":"(\"18\")","v":"18"},"FW","林　蔵人","ハヤシ　クロウド",4,"男子"]
["別保ＳＦＣ_1","別保ＳＦＣ",{"$f":"(\"1\")","v":"1"},"GK","中倉　奏歌","ナカクラ　ソウタ",6,"男子","○"]
["別保ＳＦＣ_2","別保ＳＦＣ",{"$f":"(\"2\")","v":"2"},"DF","山本　蒼太","ヤマモト　ソウタ",6,"男子"]
["別保ＳＦＣ_3","別保ＳＦＣ",{"$f":"(\"3\")","v":"3"},"DF","小野　琳太郎","オノ　リンタロウ",5,"男子"]
["別保ＳＦＣ_4","別保ＳＦＣ",{"$f":"(\"4\")","v":"4"},"MF","大嶋　蒼介","オオシマ　ソウスケ",5,"男子"]
["別保ＳＦＣ_5","別保ＳＦＣ",{"$f":"(\"5\")","v":"5"},"DF","江藤　吉哉","エトウ　ヨシヤ",5,"男子"]
["別保ＳＦＣ_6","別保ＳＦＣ",{"$f":"(\"6\")","v":"6"},"DF","小野　祐央","オノ　ユウ",6,"男子"]
["別保ＳＦＣ_7","別保ＳＦＣ",{"$f":"(\"7\")","v":"7"},"MF","薬師寺　悠貴","ヤクシジ　ユウキ",6,"男子"]
["別保ＳＦＣ_8","別保ＳＦＣ",{"$f":"(\"8\")","v":"8"},"DF","岩尾　侑之助","イワオ　ユウノスケ",6,"男子"]
["別保ＳＦＣ_9","別保ＳＦＣ",{"$f":"(\"9\")","v":"9"},"MF","平井　喜暁","ヒライ　ヨシアキ",6,"男子"]
["別保ＳＦＣ_10","別保ＳＦＣ",{"$f":"(\"10\")","v":"10"},"FW","中根　晴希","ナカネ　ハルキ",6,"男子"]
["別保ＳＦＣ_11","別保ＳＦＣ",{"$f":"(\"11\")","v":"11"},"DF","髙﨑　淳平","タカサキ　ジュンペイ",6,"男子"]
["別保ＳＦＣ_12","別保ＳＦＣ",{"$f":"(\"12\")","v":"12"},"GK","後藤　蒼太","ゴトウ　ソウタ",6,"男子"]
[{"$f":"CONCATENATE(B520,\"_\",C520)","v":"別保ＳＦＣ_13"},"別保ＳＦＣ",{"$f":"(\"13\")","v":"13"},"MF","庄司　雅人","ショウジ　マサト",5,"男子"]
["別保ＳＦＣ_14","別保ＳＦＣ",{"$f":"(\"14\")","v":"14"},"MF","江上　結奈","エガミ　ユイナ",5,"女子小学生"]
["別保ＳＦＣ_15","別保ＳＦＣ",{"$f":"(\"15\")","v":"15"},"MF","後藤　誠士郎","ゴトウ　セイシロウ",5,"男子"]
["別保ＳＦＣ_19","別保ＳＦＣ",{"$f":"(\"19\")","v":"19"},"GK","石見　悟","イワミ　サトル",5,"男子"]
["大在サッカースポーツ少年団_1","大在サッカースポーツ少年団",{"$f":"(\"1\")","v":"1"},"GK","須川　彪雅","スガワ　ヒュウガ",5,"男子"]
["大在サッカースポーツ少年団_3","大在サッカースポーツ少年団",{"$f":"(\"3\")","v":"3"},"DF","後藤　颯斗","ゴトウ　ハヤト",5,"男子"]
["大在サッカースポーツ少年団_4","大在サッカースポーツ少年団",{"$f":"(\"4\")","v":"4"},"MF","須藤　来希","スドウ　ライキ",5,"男子"]
["大在サッカースポーツ少年団_5","大在サッカースポーツ少年団",{"$f":"(\"5\")","v":"5"},"MF","市原　玲斗","イチハラ　レオト",5,"男子"]
["大在サッカースポーツ少年団_6","大在サッカースポーツ少年団",{"$f":"(\"6\")","v":"6"},"FW","菱川　暁翔","ヒシカワ　アキト",5,"男子"]
["大在サッカースポーツ少年団_7","大在サッカースポーツ少年団",{"$f":"(\"7\")","v":"7"},"MF","姫野　大和","ヒメノ　ヤマト",5,"男子"]
["大在サッカースポーツ少年団_8","大在サッカースポーツ少年団",{"$f":"(\"8\")","v":"8"},"DF","戎野　堆牙","エビスノ　タイガ",5,"男子","○"]
["大在サッカースポーツ少年団_9","大在サッカースポーツ少年団",{"$f":"(\"9\")","v":"9"},"DF","後藤　響","ゴトウ　ヒビキ",5,"男子"]
["大在サッカースポーツ少年団_10","大在サッカースポーツ少年団",{"$f":"(\"10\")","v":"10"},"FW","金嶽　璃空","カネタケ　リク",5,"男子"]
["大在サッカースポーツ少年団_11","大在サッカースポーツ少年団",{"$f":"(\"11\")","v":"11"},"DF","松良　航雅","マツラ　コウガ",5,"男子"]
["大在サッカースポーツ少年団_12","大在サッカースポーツ少年団",{"$f":"(\"12\")","v":"12"},"DF","下川　昊登","シモカワ　ヒロト",5,"男子"]
["大在サッカースポーツ少年団_13","大在サッカースポーツ少年団",{"$f":"(\"13\")","v":"13"},"DF","守田　海渡","モリタ　カイト",5,"男子"]
["大在サッカースポーツ少年団_14","大在サッカースポーツ少年団",{"$f":"(\"14\")","v":"14"},"MF","三代　虎愛","ミシロ　トア",5,"男子"]
["大分トリニータＵ－１２_1","大分トリニータＵ－１２",{"$f":"(\"1\")","v":"1"},"GK","佐藤　志巌","サトウ　シゲン",6,"男子"]
["大分トリニータＵ－１２_2","大分トリニータＵ－１２",{"$f":"(\"2\")","v":"2"},"MF","増永　大生獅","マスナガ　タイシ",6,"男子","○"]
["大分トリニータＵ－１２_3","大分トリニータＵ－１２",{"$f":"(\"3\")","v":"3"},"DF","野崎　隆太","ノザキ　リュウタ",6,"男子"]
["大分トリニータＵ－１２_4","大分トリニータＵ－１２",{"$f":"(\"4\")","v":"4"},"DF","尾本　泰雅","オモト　タイガ",6,"男子"]
["大分トリニータＵ－１２_5","大分トリニータＵ－１２",{"$f":"(\"5\")","v":"5"},"MF","後藤　悠","ゴトウ　ユウ",6,"男子"]
["大分トリニータＵ－１２_6","大分トリニータＵ－１２",{"$f":"(\"6\")","v":"6"},"MF","宮坂　奏音","ミヤサカ　カナト",6,"男子"]
["大分トリニータＵ－１２_7","大分トリニータＵ－１２",{"$f":"(\"7\")","v":"7"},"MF","増田　壮我","マスダ　ソウガ",6,"男子"]
["大分トリニータＵ－１２_8","大分トリニータＵ－１２",{"$f":"(\"8\")","v":"8"},"MF","髙橋　佑樹","タカハシ　ユウキ",6,"男子"]
["大分トリニータＵ－１２_9","大分トリニータＵ－１２",{"$f":"(\"9\")","v":"9"},"MF","染矢　涼志","ソメヤ　リョウジ",6,"男子"]
["大分トリニータＵ－１２_10","大分トリニータＵ－１２",{"$f":"(\"10\")","v":"10"},"FW","波多野　瑛太","ハタノ　エイタ",6,"男子"]
["大分トリニータＵ－１２_11","大分トリニータＵ－１２",{"$f":"(\"11\")","v":"11"},"FW","池谷　碧","イケヤ　アオイ",5,"男子"]
["大分トリニータＵ－１２_12","大分トリニータＵ－１２",{"$f":"(\"12\")","v":"12"},"FW","佐藤　煌将","サトウ　トキマサ",6,"男子"]
["大分トリニータＵ－１２_13","大分トリニータＵ－１２",{"$f":"(\"13\")","v":"13"},"DF","原園　英虎","ハラゾノ　ヒデトラ",5,"男子"]
["大分トリニータＵ－１２_14","大分トリニータＵ－１２",{"$f":"(\"14\")","v":"14"},"DF","野田　佑月","ノダ　ユズキ",5,"男子"]
["大分トリニータＵ－１２_15","大分トリニータＵ－１２",{"$f":"(\"15\")","v":"15"},"MF","上本　翔海","ウエモト　ツバサ",5,"男子"]
["大分トリニータＵ－１２_16","大分トリニータＵ－１２",{"$f":"(\"16\")","v":"16"},"GK","小澤　卓実","オザワ　タクミ",6,"男子"]
["大分トリニータＵ－１２_17","大分トリニータＵ－１２",{"$f":"(\"17\")","v":"17"},"MF","伊勢　虎斗","イセ　タケト",5,"男子"]
["大分トリニータＵ－１２_18","大分トリニータＵ－１２",{"$f":"(\"18\")","v":"18"},"DF","小泉　咲空","コイズミ　サク",5,"女子小学生"]
["碩田サッカースポーツ少年団_1","碩田サッカースポーツ少年団",{"$f":"(\"1\")","v":"1"},"GK","矢野　琉聖","ヤノ　リュウセイ",6,"男子"]
["碩田サッカースポーツ少年団_2","碩田サッカースポーツ少年団",{"$f":"(\"2\")","v":"2"},"FW","村上　遥飛","ムラカミ　ハルト",3,"男子"]
["碩田サッカースポーツ少年団_3","碩田サッカースポーツ少年団",{"$f":"(\"3\")","v":"3"},"DF","広瀬　瑚々乃","ヒロセ　ココノ",5,"女子小学生"]
["碩田サッカースポーツ少年団_4","碩田サッカースポーツ少年団",{"$f":"(\"4\")","v":"4"},"FW","仲道　美梨杏","ナカミチ　ミリア",5,"女子小学生"]
["碩田サッカースポーツ少年団_5","碩田サッカースポーツ少年団",{"$f":"(\"5\")","v":"5"},"DF","岩村　貫吾","イワムラ　カンゴ",5,"男子"]
["碩田サッカースポーツ少年団_6","碩田サッカースポーツ少年団",{"$f":"(\"6\")","v":"6"},"MF","佐藤　琉斗","サトウ　リュウト",5,"男子"]
["碩田サッカースポーツ少年団_7","碩田サッカースポーツ少年団",{"$f":"(\"7\")","v":"7"},"FW","阿部　理沙","アベ　リサ",6,"女子小学生"]
["碩田サッカースポーツ少年団_8","碩田サッカースポーツ少年団",{"$f":"(\"8\")","v":"8"},"MF","楢橋　拓斗","ナラハシ　タクト",4,"男子"]
["碩田サッカースポーツ少年団_9","碩田サッカースポーツ少年団",{"$f":"(\"9\")","v":"9"},"MF","三浦　優真","ミウラ　ユウマ",6,"男子","○"]
["碩田サッカースポーツ少年団_10","碩田サッカースポーツ少年団",{"$f":"(\"10\")","v":"10"},"MF","木元　蒼空","キモト　ソラ",6,"男子"]
["碩田サッカースポーツ少年団_11","碩田サッカースポーツ少年団",{"$f":"(\"11\")","v":"11"},"DF","東　和志","アズマ　カズシ",6,"男子"]
["碩田サッカースポーツ少年団_12","碩田サッカースポーツ少年団",{"$f":"(\"12\")","v":"12"},"MF","岩尾　賢尚","イワオ　タカヒサ",3,"男子"]
["碩田サッカースポーツ少年団_13","碩田サッカースポーツ少年団",{"$f":"(\"13\")","v":"13"},"MF","中村　光希","ナカムラ　ヒカリ",3,"男子"]
["碩田サッカースポーツ少年団_14","碩田サッカースポーツ少年団",{"$f":"(\"14\")","v":"14"},"MF","仲道　陸空人","ナカミチ　リクト",3,"男子"]
["碩田サッカースポーツ少年団_15","碩田サッカースポーツ少年団",{"$f":"(\"15\")","v":"15"},"MF","海津　逞人","カイヅ　タクト",4,"男子"]
["碩田サッカースポーツ少年団_16","碩田サッカースポーツ少年団",{"$f":"(\"16\")","v":"16"},"GK","阿部　覇亜斗","アベ　ハアト",3,"男子"]
["春日ＳＳＳ_1","春日ＳＳＳ",{"$f":"(\"1\")","v":"1"},"GK","是永　虎太朗","コレナガ　コタロウ",5,"男子"]
["春日ＳＳＳ_2","春日ＳＳＳ",{"$f":"(\"2\")","v":"2"},"DF","大久保　澪","オオクボ　レイ",5,"男子"]
["春日ＳＳＳ_3","春日ＳＳＳ",{"$f":"(\"3\")","v":"3"},"DF","矢﨑　穂高","ヤザキ　ホダカ",5,"男子"]
["春日ＳＳＳ_4","春日ＳＳＳ",{"$f":"(\"4\")","v":"4"},"DF","岡田　大空","オカダ　タク",4,"男子"]
["春日ＳＳＳ_5","春日ＳＳＳ",{"$f":"(\"5\")","v":"5"},"DF","岡崎　采久磨","オカザキ　サクマ",6,"男子","○"]
["春日ＳＳＳ_6","春日ＳＳＳ",{"$f":"(\"6\")","v":"6"},"MF","尾崎　亘","オザキ　ワタル",3,"男子"]
["春日ＳＳＳ_7","春日ＳＳＳ",{"$f":"(\"7\")","v":"7"},"FW","宮本　嵩琉","ミヤモト　タケル",6,"男子"]
["春日ＳＳＳ_8","春日ＳＳＳ",{"$f":"(\"8\")","v":"8"},"DF","三良　文也","ミヨシ　フミヤ",6,"男子"]
["春日ＳＳＳ_9","春日ＳＳＳ",{"$f":"(\"9\")","v":"9"},"MF","河野　皓馬","カワノ　コウマ",5,"男子"]
["春日ＳＳＳ_10","春日ＳＳＳ",{"$f":"(\"10\")","v":"10"},"MF","小田　冠太","オダ　カンタ",5,"男子"]
["春日ＳＳＳ_11","春日ＳＳＳ",{"$f":"(\"11\")","v":"11"},"FW","佐藤　結生","サトウ　ユイ",5,"女子小学生"]
["春日ＳＳＳ_12","春日ＳＳＳ",{"$f":"(\"12\")","v":"12"},"DF","矢﨑　大地","ヤザキ　ダイチ",3,"男子"]
["春日ＳＳＳ_13","春日ＳＳＳ",{"$f":"(\"13\")","v":"13"},"FW","平川　樹","ヒラカワ　タツ",3,"男子"]
[{"$f":"CONCATENATE(B584,\"_\",C584)","v":"春日ＳＳＳ_14"},"春日ＳＳＳ",{"$f":"(\"14\")","v":"14"},"MF","小田　瑛太","オダ　エイタ",3,"男子"]
["春日ＳＳＳ_15","春日ＳＳＳ",{"$f":"(\"15\")","v":"15"},"FW","安藤　ひより","アンドウ　ヒヨリ",2,"女子小学生"]
["春日ＳＳＳ_16","春日ＳＳＳ",{"$f":"(\"16\")","v":"16"},"GK","本多　荘弥","ホンダ　ソウヤ",3,"男子"]
["春日ＳＳＳ_17","春日ＳＳＳ",{"$f":"(\"17\")","v":"17"},"FW","古庄　櫂士","コショウ　カイト",1,"男子"]
["春日ＳＳＳ_18","春日ＳＳＳ",{"$f":"(\"18\")","v":"18"},"MF","安藤　結人","アンドウ　ユイト",3,"男子"]
["南大分サッカー少年団_1","南大分サッカー少年団",{"$f":"(\"1\")","v":"1"},"GK","首藤　優慎","シュトウ　ユウシン",5,"男子"]
["南大分サッカー少年団_2","南大分サッカー少年団",{"$f":"(\"2\")","v":"2"},"MF","甲斐　勇人","カイ　ハヤト",5,"男子"]
["南大分サッカー少年団_3","南大分サッカー少年団",{"$f":"(\"3\")","v":"3"},"DF","安部　駆","アベ　カケル",6,"男子"]
["南大分サッカー少年団_5","南大分サッカー少年団",{"$f":"(\"5\")","v":"5"},"MF","竹林　一護","タケバヤシ　イチゴ",5,"男子"]
["南大分サッカー少年団_7","南大分サッカー少年団",{"$f":"(\"7\")","v":"7"},"FW","大久保　賢吾","オオクボ　ケンゴ",5,"男子"]
["南大分サッカー少年団_8","南大分サッカー少年団",{"$f":"(\"8\")","v":"8"},"FW","野尻　春樹","ノジリ　シュンキ",5,"男子"]
["南大分サッカー少年団_9","南大分サッカー少年団",{"$f":"(\"9\")","v":"9"},"DF","佐藤　陽登","サトウ　アキト",6,"男子","○"]
["南大分サッカー少年団_10","南大分サッカー少年団",{"$f":"(\"10\")","v":"10"},"DF","樋口　結人","ヒグチ　ユイト",5,"男子"]
["南大分サッカー少年団_11","南大分サッカー少年団",{"$f":"(\"11\")","v":"11"},"MF","小野　了雅","オノ　リョウガ",5,"男子"]
["南大分サッカー少年団_13","南大分サッカー少年団",{"$f":"(\"13\")","v":"13"},"MF","佐藤　煌星","サトウ　コウセイ",5,"男子"]
["南大分サッカー少年団_14","南大分サッカー少年団",{"$f":"(\"14\")","v":"14"},"DF","高橋　湊太","タカハシ　ソウタ",5,"男子"]
["南大分サッカー少年団_15","南大分サッカー少年団",{"$f":"(\"15\")","v":"15"},"GK","後藤　梢","ゴトウ　コズエ",5,"女子小学生"]
["南大分サッカー少年団_16","南大分サッカー少年団",{"$f":"(\"16\")","v":"16"},"FW","安部　海結","アベ　ミユウ",6,"女子小学生"]
["南大分サッカー少年団_20","南大分サッカー少年団",{"$f":"(\"20\")","v":"20"},"DF","前田　賢悟","マエダ　ケンゴ",6,"男子"]
["アトレチコエラン横瀬_1","アトレチコエラン横瀬",{"$f":"(\"1\")","v":"1"},"GK","森山　蓮亜","モリヤマ　レイア",5,"男子"]
["アトレチコエラン横瀬_2","アトレチコエラン横瀬",{"$f":"(\"2\")","v":"2"},"MF","鶴原　宋佑","ツルハラ　ソウスケ",5,"男子"]
["アトレチコエラン横瀬_3","アトレチコエラン横瀬",{"$f":"(\"3\")","v":"3"},"DF","志賀　悠聖","シガ　ユウセイ",6,"男子"]
["アトレチコエラン横瀬_4","アトレチコエラン横瀬",{"$f":"(\"4\")","v":"4"},"FW","末松　明樽","スエマツ　アタル",5,"男子"]
["アトレチコエラン横瀬_5","アトレチコエラン横瀬",{"$f":"(\"5\")","v":"5"},"MF","三浦　斡太","ミウラ　カンタ",5,"男子"]
["アトレチコエラン横瀬_6","アトレチコエラン横瀬",{"$f":"(\"6\")","v":"6"},"DF","髙木　翔央","タカギ　ショウ",4,"男子"]
["アトレチコエラン横瀬_7","アトレチコエラン横瀬",{"$f":"(\"7\")","v":"7"},"DF","藤田　開正","フジタ　カイセイ",6,"男子"]
["アトレチコエラン横瀬_8","アトレチコエラン横瀬",{"$f":"(\"8\")","v":"8"},"FW","日野　結翔","ヒノ　ユイト",4,"男子"]
["アトレチコエラン横瀬_9","アトレチコエラン横瀬",{"$f":"(\"9\")","v":"9"},"DF","相良　祐虎","サガラ　ユウト",5,"男子"]
["アトレチコエラン横瀬_10","アトレチコエラン横瀬",{"$f":"(\"10\")","v":"10"},"MF","松尾　叶輝優","マツオ　トキウ",6,"男子","○"]
["アトレチコエラン横瀬_11","アトレチコエラン横瀬",{"$f":"(\"11\")","v":"11"},"FW","仁部屋　蓮斗","ニブヤ　レント",5,"男子"]
["アトレチコエラン横瀬_12","アトレチコエラン横瀬",{"$f":"(\"12\")","v":"12"},"GK","中　優輝","ナカ　マサキ",5,"男子"]
["アトレチコエラン横瀬_13","アトレチコエラン横瀬",{"$f":"(\"13\")","v":"13"},"DF","土師　大知","ハジ　ダイチ",5,"男子"]
["アトレチコエラン横瀬_14","アトレチコエラン横瀬",{"$f":"(\"14\")","v":"14"},"DF","土師　優貴","ハジ　ユウキ",5,"男子"]
["アトレチコエラン横瀬_15","アトレチコエラン横瀬",{"$f":"(\"15\")","v":"15"},"MF","田北　悠斗","タキタ　ユウト",5,"男子"]
["アトレチコエラン横瀬_17","アトレチコエラン横瀬",{"$f":"(\"17\")","v":"17"},"DF","岩本　大寿","イワモト　タイジュ",5,"男子"]
["明野北フットボールクラブ_1","明野北フットボールクラブ",{"$f":"(\"1\")","v":"1"},"GK","芦刈　大志","アシカリ　タイシ",6,"男子"]
["明野北フットボールクラブ_2","明野北フットボールクラブ",{"$f":"(\"2\")","v":"2"},"DF","楠　舞衣","クスノキ　マイ",6,"女子小学生"]
["明野北フットボールクラブ_3","明野北フットボールクラブ",{"$f":"(\"3\")","v":"3"},"DF","平山　誠悟","ヒラヤマ　セイゴ",6,"男子"]
["明野北フットボールクラブ_4","明野北フットボールクラブ",{"$f":"(\"4\")","v":"4"},"DF","清田　優成","キヨタ　ユウセイ",6,"男子"]
["明野北フットボールクラブ_5","明野北フットボールクラブ",{"$f":"(\"5\")","v":"5"},"FW","倉原　颯希","クラハラ　サツキ",6,"男子"]
["明野北フットボールクラブ_6","明野北フットボールクラブ",{"$f":"(\"6\")","v":"6"},"MF","徳丸　翔大","トクマル　ショウタ",6,"男子"]
["明野北フットボールクラブ_7","明野北フットボールクラブ",{"$f":"(\"7\")","v":"7"},"DF","田口　岳雄","タグチ　タケオ",5,"男子"]
["明野北フットボールクラブ_8","明野北フットボールクラブ",{"$f":"(\"8\")","v":"8"},"DF","大嶋　蘭","オオシマ　ラン",5,"男子"]
["明野北フットボールクラブ_9","明野北フットボールクラブ",{"$f":"(\"9\")","v":"9"},"FW","今村　太壱郎","イマムラ　タイチロウ",5,"男子"]
["明野北フットボールクラブ_10","明野北フットボールクラブ",{"$f":"(\"10\")","v":"10"},"MF","吉原　大翔","ヨシハラ　ヒロト",6,"男子","○"]
["明野北フットボールクラブ_11","明野北フットボールクラブ",{"$f":"(\"11\")","v":"11"},"DF","中野　幹太","ナカノ　カンタ",4,"男子"]
["明野北フットボールクラブ_12","明野北フットボールクラブ",{"$f":"(\"12\")","v":"12"},"DF","中津留　桜吏","ナカツル　オウリ",4,"男子"]
["明野北フットボールクラブ_13","明野北フットボールクラブ",{"$f":"(\"13\")","v":"13"},"MF","藤原　鉄心","フジワラ　テッシン",4,"男子"]
["明野北フットボールクラブ_14","明野北フットボールクラブ",{"$f":"(\"14\")","v":"14"},"MF","黒川　壱綺","クロカワ　イチギ",4,"男子"]
["明野北フットボールクラブ_15","明野北フットボールクラブ",{"$f":"(\"15\")","v":"15"},"MF","嶌田　徠煌","シマダ　ライキ",4,"男子"]
["明野北フットボールクラブ_16","明野北フットボールクラブ",{"$f":"(\"16\")","v":"16"},"GK","大嶋　凛","オオシマ　リン",5,"男子"]
["明治北ＳＳＣ_1","明治北ＳＳＣ",{"$f":"(\"1\")","v":"1"},"GK","室園　悠來","ムロゾノ　ユウラ",6,"男子"]
["明治北ＳＳＣ_2","明治北ＳＳＣ",{"$f":"(\"2\")","v":"2"},"DF","松川　太哉","マツカワ　ダイヤ",6,"男子"]
["明治北ＳＳＣ_3","明治北ＳＳＣ",{"$f":"(\"3\")","v":"3"},"DF","大野　十善","オオノ　ジュウゼン",6,"男子"]
["明治北ＳＳＣ_4","明治北ＳＳＣ",{"$f":"(\"4\")","v":"4"},"DF","安部　銀之助","アベ　ギンノスケ",6,"男子"]
["明治北ＳＳＣ_5","明治北ＳＳＣ",{"$f":"(\"5\")","v":"5"},"DF","河野　光瑠","カワノ　ヒカル",6,"男子"]
["明治北ＳＳＣ_6","明治北ＳＳＣ",{"$f":"(\"6\")","v":"6"},"FW","楢崎　奏斗","ナラサキ　カナト",5,"男子"]
["明治北ＳＳＣ_7","明治北ＳＳＣ",{"$f":"(\"7\")","v":"7"},"MF","清原　昇馬","キヨハラ　ショウマ",6,"男子","○"]
["明治北ＳＳＣ_8","明治北ＳＳＣ",{"$f":"(\"8\")","v":"8"},"MF","分部　太一","ワケベ　タイチ",6,"男子"]
["明治北ＳＳＣ_9","明治北ＳＳＣ",{"$f":"(\"9\")","v":"9"},"MF","小原　琉聖","オハラ　リュウセイ",6,"男子"]
["明治北ＳＳＣ_10","明治北ＳＳＣ",{"$f":"(\"10\")","v":"10"},"FW","首藤　惺南","シュトウ　セナ",6,"男子"]
["明治北ＳＳＣ_11","明治北ＳＳＣ",{"$f":"(\"11\")","v":"11"},"MF","大芦　春真","オオアシ　ハルマ",6,"男子"]
["明治北ＳＳＣ_12","明治北ＳＳＣ",{"$f":"(\"12\")","v":"12"},"GK","石田　一稀","イシダ　イツキ",5,"男子"]
["明治北ＳＳＣ_13","明治北ＳＳＣ",{"$f":"(\"13\")","v":"13"},"FW","山内　陽世","ヤマウチ　ハルセ",5,"男子"]
[{"$f":"CONCATENATE(B648,\"_\",C648)","v":"明治北ＳＳＣ_14"},"明治北ＳＳＣ",{"$f":"(\"14\")","v":"14"},"DF","岩本　太志","イワモト　タイシ",5,"男子"]
["明治北ＳＳＣ_15","明治北ＳＳＣ",{"$f":"(\"15\")","v":"15"},"FW","竹野内　翼","タケノウチ　ツバサ",5,"男子"]
["明治北ＳＳＣ_16","明治北ＳＳＣ",{"$f":"(\"16\")","v":"16"},"FW","森田　圭一","モリタ　ケイイチ",5,"男子"]
["明治北ＳＳＣ_17","明治北ＳＳＣ",{"$f":"(\"17\")","v":"17"},"DF","佐藤　優維人","サトウ　ユイト",5,"男子"]
["明治北ＳＳＣ_18","明治北ＳＳＣ",{"$f":"(\"18\")","v":"18"},"MF","山室　直暉","ヤマムロ　ナオキ",5,"男子"]
["明野東サッカースポーツ少年団_1","明野東サッカースポーツ少年団",{"$f":"(\"1\")","v":"1"},"GK","藤山　優斗","フジヤマ　ユウト",6,"男子"]
["明野東サッカースポーツ少年団_2","明野東サッカースポーツ少年団",{"$f":"(\"2\")","v":"2"},"DF","水野　公太郎","ミズノ　コウタロウ",5,"男子"]
["明野東サッカースポーツ少年団_3","明野東サッカースポーツ少年団",{"$f":"(\"3\")","v":"3"},"FW","朝倉　宏天","アサクラ　ヒロタカ",4,"男子"]
["明野東サッカースポーツ少年団_4","明野東サッカースポーツ少年団",{"$f":"(\"4\")","v":"4"},"FW","山田　晃誠","ヤマダ　コウセイ",5,"男子"]
["明野東サッカースポーツ少年団_5","明野東サッカースポーツ少年団",{"$f":"(\"5\")","v":"5"},"MF","菊池　魁大","キクチ　カイト",5,"男子"]
["明野東サッカースポーツ少年団_6","明野東サッカースポーツ少年団",{"$f":"(\"6\")","v":"6"},"FW","飯田　蓮斗","イイダ　レント",6,"男子"]
["明野東サッカースポーツ少年団_7","明野東サッカースポーツ少年団",{"$f":"(\"7\")","v":"7"},"DF","御手洗　真","ミタライ　シン",6,"男子"]
["明野東サッカースポーツ少年団_8","明野東サッカースポーツ少年団",{"$f":"(\"8\")","v":"8"},"DF","阿部　希空","アベ　ノア",5,"男子"]
["明野東サッカースポーツ少年団_9","明野東サッカースポーツ少年団",{"$f":"(\"9\")","v":"9"},"DF","首藤　大輝","シュトウ　ダイキ",5,"男子"]
["明野東サッカースポーツ少年団_10","明野東サッカースポーツ少年団",{"$f":"(\"10\")","v":"10"},"MF","西崎　一稀","ニシザキ　イツキ",6,"男子","○"]
["明野東サッカースポーツ少年団_11","明野東サッカースポーツ少年団",{"$f":"(\"11\")","v":"11"},"FW","藤山　陸斗","フジヤマ　リクト",4,"男子"]
["明野東サッカースポーツ少年団_12","明野東サッカースポーツ少年団",{"$f":"(\"12\")","v":"12"},"MF","宮﨑　風牙","ミヤザキ　フウガ",4,"男子"]
["明野東サッカースポーツ少年団_13","明野東サッカースポーツ少年団",{"$f":"(\"13\")","v":"13"},"FW","後藤　透眞","ゴトウ　トウマ",6,"男子"]
["明野東サッカースポーツ少年団_14","明野東サッカースポーツ少年団",{"$f":"(\"14\")","v":"14"},"DF","首藤　蕨","シュトウ　ワラビ",6,"男子"]
["明野東サッカースポーツ少年団_15","明野東サッカースポーツ少年団",{"$f":"(\"15\")","v":"15"},"FW","加藤　咲妃","カトウ　サキ",4,"女子小学生"]
["明野東サッカースポーツ少年団_16","明野東サッカースポーツ少年団",{"$f":"(\"16\")","v":"16"},"FW","山田　芽依","ヤマダ　メイ",4,"女子小学生"]
["戸次吉野ＳＳＳ_1","戸次吉野ＳＳＳ",{"$f":"(\"1\")","v":"1"},"GK","上村　真弘","ウエムラ　マサヒロ",5,"男子"]
["戸次吉野ＳＳＳ_2","戸次吉野ＳＳＳ",{"$f":"(\"2\")","v":"2"},"DF","尾崎　柊哉","オザキ　シュウヤ",6,"男子"]
["戸次吉野ＳＳＳ_3","戸次吉野ＳＳＳ",{"$f":"(\"3\")","v":"3"},"DF","玉井　俊輝","タマイ　トシキ",5,"男子"]
["戸次吉野ＳＳＳ_4","戸次吉野ＳＳＳ",{"$f":"(\"4\")","v":"4"},"DF","松田　千慧","マツダ　チサト",5,"男子"]
["戸次吉野ＳＳＳ_5","戸次吉野ＳＳＳ",{"$f":"(\"5\")","v":"5"},"MF","岩城　圭悟","イワキ　ケイゴ",6,"男子"]
["戸次吉野ＳＳＳ_6","戸次吉野ＳＳＳ",{"$f":"(\"6\")","v":"6"},"MF","須藤　玲空","スドウ　リク",5,"男子"]
["戸次吉野ＳＳＳ_7","戸次吉野ＳＳＳ",{"$f":"(\"7\")","v":"7"},"MF","平山　龍","ヒラヤマ　リュウ",6,"男子"]
["戸次吉野ＳＳＳ_8","戸次吉野ＳＳＳ",{"$f":"(\"8\")","v":"8"},"MF","小田　湊登","オダ　ミナト",5,"男子"]
["戸次吉野ＳＳＳ_9","戸次吉野ＳＳＳ",{"$f":"(\"9\")","v":"9"},"FW","甲斐　陽向","カイ　ヒナタ",6,"男子"]
["戸次吉野ＳＳＳ_10","戸次吉野ＳＳＳ",{"$f":"(\"10\")","v":"10"},"DF","稗田　伊織","ヒエダ　イオリ",6,"男子","○"]
["戸次吉野ＳＳＳ_11","戸次吉野ＳＳＳ",{"$f":"(\"11\")","v":"11"},"FW","村上　凛太朗","ムラカミ　リンタロウ",5,"男子"]
["戸次吉野ＳＳＳ_12","戸次吉野ＳＳＳ",{"$f":"(\"12\")","v":"12"},"MF","佐用　大翔","サヨウ　ヒロト",5,"男子"]
["戸次吉野ＳＳＳ_13","戸次吉野ＳＳＳ",{"$f":"(\"13\")","v":"13"},"DF","赤木　学人","アカギ　カグト",4,"男子"]
["戸次吉野ＳＳＳ_14","戸次吉野ＳＳＳ",{"$f":"(\"14\")","v":"14"},"DF","諏訪　しほ","スワ　シホ",5,"女子小学生"]
["戸次吉野ＳＳＳ_15","戸次吉野ＳＳＳ",{"$f":"(\"15\")","v":"15"},"MF","帆足　颯太","ホアシ　ソウタ",4,"男子"]
["戸次吉野ＳＳＳ_16","戸次吉野ＳＳＳ",{"$f":"(\"16\")","v":"16"},"MF","若林　悠人","ワカバヤシ　ハルト",5,"男子"]
["大道サッカースポーツ少年団_1","大道サッカースポーツ少年団",{"$f":"(\"1\")","v":"1"},"GK","竹尾　理志","タケオ　サトシ",6,"男子"]
["大道サッカースポーツ少年団_2","大道サッカースポーツ少年団",{"$f":"(\"2\")","v":"2"},"DF","二宮　陽詩","ニノミヤ　ヒナタ",6,"男子"]
["大道サッカースポーツ少年団_3","大道サッカースポーツ少年団",{"$f":"(\"3\")","v":"3"},"DF","岩田　夏槻","イワタ　ナツキ",6,"男子"]
["大道サッカースポーツ少年団_4","大道サッカースポーツ少年団",{"$f":"(\"4\")","v":"4"},"DF","盛武　大樹","モリタケ　タイキ",5,"男子"]
["大道サッカースポーツ少年団_5","大道サッカースポーツ少年団",{"$f":"(\"5\")","v":"5"},"MF","今畠　かえで","イマハタ　カエデ",6,"女子小学生","○"]
["大道サッカースポーツ少年団_6","大道サッカースポーツ少年団",{"$f":"(\"6\")","v":"6"},"MF","橋本　和弥","ハシモト　カズヤ",5,"男子"]
["大道サッカースポーツ少年団_7","大道サッカースポーツ少年団",{"$f":"(\"7\")","v":"7"},"FW","村上　颯","ムラカミ　ハヤト",6,"男子"]
["大道サッカースポーツ少年団_8","大道サッカースポーツ少年団",{"$f":"(\"8\")","v":"8"},"MF","近藤　海斗","コンドウ　カイト",6,"男子"]
["大道サッカースポーツ少年団_9","大道サッカースポーツ少年団",{"$f":"(\"9\")","v":"9"},"FW","岐部　昊平","キベ　コウヘイ",5,"男子"]
["大道サッカースポーツ少年団_10","大道サッカースポーツ少年団",{"$f":"(\"10\")","v":"10"},"FW","穴井　幹太","アナイ　カンタ",4,"男子"]
["大道サッカースポーツ少年団_11","大道サッカースポーツ少年団",{"$f":"(\"11\")","v":"11"},"FW","馬場　遥翔","ババ　ハルト",5,"男子"]
["大道サッカースポーツ少年団_12","大道サッカースポーツ少年団",{"$f":"(\"12\")","v":"12"},"GK","酒井　晴彦","サカイ　ハルヒコ",6,"男子"]
["大道サッカースポーツ少年団_13","大道サッカースポーツ少年団",{"$f":"(\"13\")","v":"13"},"FW","高山　瑛汰","タカヤマ　エイタ",6,"男子"]
["大道サッカースポーツ少年団_14","大道サッカースポーツ少年団",{"$f":"(\"14\")","v":"14"},"MF","髙村　千尋","タカムラ　チヒロ",5,"女子小学生"]
["大道サッカースポーツ少年団_15","大道サッカースポーツ少年団",{"$f":"(\"15\")","v":"15"},"DF","宮川　航","ミヤカワ　ワタル",5,"男子"]
["大道サッカースポーツ少年団_16","大道サッカースポーツ少年団",{"$f":"(\"16\")","v":"16"},"FW","林　遼祐","ハヤシ　リョウスケ",6,"男子"]
["東稙田サッカースポーツ少年団_1","東稙田サッカースポーツ少年団",{"$f":"(\"1\")","v":"1"},"GK","後藤　琉音","ゴトウ　リオ",6,"男子","○"]
["東稙田サッカースポーツ少年団_3","東稙田サッカースポーツ少年団",{"$f":"(\"3\")","v":"3"},"FW","大津留　新","オオツル　アラタ",3,"男子"]
["東稙田サッカースポーツ少年団_5","東稙田サッカースポーツ少年団",{"$f":"(\"5\")","v":"5"},"MF","工藤　大輝","クドウ　タイキ",3,"男子"]
["東稙田サッカースポーツ少年団_7","東稙田サッカースポーツ少年団",{"$f":"(\"7\")","v":"7"},"DF","秋元　駿佑","アキモト　シュンスケ",5,"男子"]
["東稙田サッカースポーツ少年団_8","東稙田サッカースポーツ少年団",{"$f":"(\"8\")","v":"8"},"MF","和泉　湊","イズミ　ソウ",5,"男子"]
["東稙田サッカースポーツ少年団_9","東稙田サッカースポーツ少年団",{"$f":"(\"9\")","v":"9"},"MF","佐藤　世渚","サトウ　セナ",6,"男子"]
["東稙田サッカースポーツ少年団_10","東稙田サッカースポーツ少年団",{"$f":"(\"10\")","v":"10"},"MF","奥藤　颯","オクフジ　イブキ",6,"男子"]
["東稙田サッカースポーツ少年団_11","東稙田サッカースポーツ少年団",{"$f":"(\"11\")","v":"11"},"DF","玉井　悠詩","タマイ　ユウタ",5,"男子"]
["東稙田サッカースポーツ少年団_12","東稙田サッカースポーツ少年団",{"$f":"(\"12\")","v":"12"},"GK","高原　瞭","タカハラ　リョウ",3,"男子"]
["東稙田サッカースポーツ少年団_13","東稙田サッカースポーツ少年団",{"$f":"(\"13\")","v":"13"},"FW","髙畠　優","タカハタ　ユウ",3,"男子"]
["東稙田サッカースポーツ少年団_14","東稙田サッカースポーツ少年団",{"$f":"(\"14\")","v":"14"},"FW","中島　泰志","ナカシマ　タイシ",3,"男子"]
[{"$f":"CONCATENATE(B712,\"_\",C712)","v":"東稙田サッカースポーツ少年団_16"},"東稙田サッカースポーツ少年団",{"$f":"(\"16\")","v":"16"},"FW","久保田　一平","クボタ　イッペイ",3,"男子"]
["東稙田サッカースポーツ少年団_17","東稙田サッカースポーツ少年団",{"$f":"(\"17\")","v":"17"},"MF","三浦　拓仁","ミウラ　タクト",3,"男子"]
["東稙田サッカースポーツ少年団_18","東稙田サッカースポーツ少年団",{"$f":"(\"18\")","v":"18"},"DF","松﨑　義英","マツザキ　ヨシヒデ",3,"男子"]
["東稙田サッカースポーツ少年団_19","東稙田サッカースポーツ少年団",{"$f":"(\"19\")","v":"19"},"DF","棚村　誠太","タナムラ　セイタ",3,"男子"]
["寒田少年サッカークラブ_1","寒田少年サッカークラブ",{"$f":"(\"1\")","v":"1"},"GK","谷口　昊翼","タニグチ　ソウスケ",6,"男子"]
["寒田少年サッカークラブ_2","寒田少年サッカークラブ",{"$f":"(\"2\")","v":"2"},"DF","田中　煌真","タナカ　コウマ",6,"男子"]
["寒田少年サッカークラブ_3","寒田少年サッカークラブ",{"$f":"(\"3\")","v":"3"},"MF","森　凛桜","モリ　リサ",5,"女子小学生"]
["寒田少年サッカークラブ_4","寒田少年サッカークラブ",{"$f":"(\"4\")","v":"4"},"MF","城土　隼羽","ジョウド　トワ",6,"男子"]
["寒田少年サッカークラブ_5","寒田少年サッカークラブ",{"$f":"(\"5\")","v":"5"},"FW","堀　夢希","ホリ　ユノン",4,"女子小学生"]
["寒田少年サッカークラブ_6","寒田少年サッカークラブ",{"$f":"(\"6\")","v":"6"},"DF","笠木　涼世","カサギ　リョウセイ",6,"男子"]
["寒田少年サッカークラブ_7","寒田少年サッカークラブ",{"$f":"(\"7\")","v":"7"},"MF","奈須　要","ナス　カナメ",6,"男子","○"]
["寒田少年サッカークラブ_8","寒田少年サッカークラブ",{"$f":"(\"8\")","v":"8"},"FW","堀　柚希","ホリ　ユズキ",6,"男子"]
["寒田少年サッカークラブ_10","寒田少年サッカークラブ",{"$f":"(\"10\")","v":"10"},"DF","成松　怜音","ナリマツ　レオ",6,"男子"]
["寒田少年サッカークラブ_11","寒田少年サッカークラブ",{"$f":"(\"11\")","v":"11"},"MF","野仲　悠月","ノナカ　ユヅキ",6,"男子"]
["寒田少年サッカークラブ_13","寒田少年サッカークラブ",{"$f":"(\"13\")","v":"13"},"DF","長吉　美夕稀","ナガヨシ　ミユキ",6,"女子小学生"]
["寒田少年サッカークラブ_14","寒田少年サッカークラブ",{"$f":"(\"14\")","v":"14"},"DF","皆川　琉良","ミナガワ　ルイ",6,"女子小学生"]
["寒田少年サッカークラブ_15","寒田少年サッカークラブ",{"$f":"(\"15\")","v":"15"},"MF","宮脇　百合愛","ミヤワキ　リリア",4,"女子小学生"]
["寒田少年サッカークラブ_16","寒田少年サッカークラブ",{"$f":"(\"16\")","v":"16"},"FW","佐藤　礼佳","サトウ　ライカ",4,"女子小学生"]
["寒田少年サッカークラブ_21","寒田少年サッカークラブ",{"$f":"(\"21\")","v":"21"},"GK","豊田　湊","トヨダ　ミナト",6,"男子"]
["滝尾下郡サッカースポーツ少年団_1","滝尾下郡サッカースポーツ少年団",{"$f":"(\"1\")","v":"1"},"GK","竹本　蓮","タケモト　レン",5,"男子"]
["滝尾下郡サッカースポーツ少年団_2","滝尾下郡サッカースポーツ少年団",{"$f":"(\"2\")","v":"2"},"MF","田上　慶人","タガミ　ケイト",6,"男子"]
["滝尾下郡サッカースポーツ少年団_3","滝尾下郡サッカースポーツ少年団",{"$f":"(\"3\")","v":"3"},"DF","安達　葉平","アダチ　ヨウヘイ",5,"男子"]
["滝尾下郡サッカースポーツ少年団_4","滝尾下郡サッカースポーツ少年団",{"$f":"(\"4\")","v":"4"},"DF","佐藤　伊吹","サトウ　イブキ",5,"男子"]
["滝尾下郡サッカースポーツ少年団_5","滝尾下郡サッカースポーツ少年団",{"$f":"(\"5\")","v":"5"},"FW","酒見　陸斗","サケミ　リクト",6,"男子"]
["滝尾下郡サッカースポーツ少年団_6","滝尾下郡サッカースポーツ少年団",{"$f":"(\"6\")","v":"6"},"FW","伊藤　煌基","イトウ　コウキ",6,"男子"]
["滝尾下郡サッカースポーツ少年団_7","滝尾下郡サッカースポーツ少年団",{"$f":"(\"7\")","v":"7"},"FW","藤原　亜希斗","フジワラ　アキト",4,"男子"]
["滝尾下郡サッカースポーツ少年団_9","滝尾下郡サッカースポーツ少年団",{"$f":"(\"9\")","v":"9"},"MF","小出　稜喜","コイデ　イツキ",6,"男子"]
["滝尾下郡サッカースポーツ少年団_10","滝尾下郡サッカースポーツ少年団",{"$f":"(\"10\")","v":"10"},"FW","喜舎場　一馬","キシャバ　カズマ",6,"男子","○"]
["滝尾下郡サッカースポーツ少年団_11","滝尾下郡サッカースポーツ少年団",{"$f":"(\"11\")","v":"11"},"MF","田上　楓貴","タガミ　フウキ",4,"男子"]
["滝尾下郡サッカースポーツ少年団_13","滝尾下郡サッカースポーツ少年団",{"$f":"(\"13\")","v":"13"},"FW","伊藤　瑞","イトウ　ミズキ",4,"女子小学生"]
["滝尾下郡サッカースポーツ少年団_14","滝尾下郡サッカースポーツ少年団",{"$f":"(\"14\")","v":"14"},"DF","円本　伯馬","エンモト　ハクマ",4,"男子"]
["滝尾下郡サッカースポーツ少年団_15","滝尾下郡サッカースポーツ少年団",{"$f":"(\"15\")","v":"15"},"DF","池田　匠","イケダ　タクミ",4,"男子"]
["滝尾下郡サッカースポーツ少年団_16","滝尾下郡サッカースポーツ少年団",{"$f":"(\"16\")","v":"16"},"MF","竹本　陽","タケモト　ハル",3,"男子"]
["滝尾下郡サッカースポーツ少年団_17","滝尾下郡サッカースポーツ少年団",{"$f":"(\"17\")","v":"17"},"MF","須藤　瑛翔","ストウ　アキト",5,"男子"]
["滝尾下郡サッカースポーツ少年団_18","滝尾下郡サッカースポーツ少年団",{"$f":"(\"18\")","v":"18"},"MF","藤原　大心","フジワラ　タイシン",5,"男子"]
["豊府サッカースポーツ少年団_1","豊府サッカースポーツ少年団",{"$f":"(\"1\")","v":"1"},"GK","竹内　彪斗","タケウチ　アヤト",6,"男子"]
["豊府サッカースポーツ少年団_2","豊府サッカースポーツ少年団",{"$f":"(\"2\")","v":"2"},"MF","岩永　琥太郎","イワナガ　コタロウ",5,"男子"]
["豊府サッカースポーツ少年団_3","豊府サッカースポーツ少年団",{"$f":"(\"3\")","v":"3"},"DF","榎本　弥泰","エノモト　ヤヒロ",6,"男子"]
["豊府サッカースポーツ少年団_4","豊府サッカースポーツ少年団",{"$f":"(\"4\")","v":"4"},"DF","濱岡　奏也","ハマオカ　ソウヤ",6,"男子"]
["豊府サッカースポーツ少年団_5","豊府サッカースポーツ少年団",{"$f":"(\"5\")","v":"5"},"FW","土谷　壮正","ツチヤ　タケマサ",6,"男子"]
["豊府サッカースポーツ少年団_6","豊府サッカースポーツ少年団",{"$f":"(\"6\")","v":"6"},"MF","亀山　泰雅","カメヤマ　タイガ",5,"男子"]
["豊府サッカースポーツ少年団_7","豊府サッカースポーツ少年団",{"$f":"(\"7\")","v":"7"},"MF","三ノ宮　羚央","サンノミヤ　レオ",6,"男子"]
["豊府サッカースポーツ少年団_8","豊府サッカースポーツ少年団",{"$f":"(\"8\")","v":"8"},"DF","河野　悠","コウノ　ユウキ",5,"男子"]
["豊府サッカースポーツ少年団_9","豊府サッカースポーツ少年団",{"$f":"(\"9\")","v":"9"},"MF","福田　虎志郎","フクダ　コジロウ",6,"男子","○"]
["豊府サッカースポーツ少年団_10","豊府サッカースポーツ少年団",{"$f":"(\"10\")","v":"10"},"MF","安部　太智","アベ　タイチ",6,"男子"]
["豊府サッカースポーツ少年団_11","豊府サッカースポーツ少年団",{"$f":"(\"11\")","v":"11"},"FW","時松　蒼茉","トキマツ　ソウマ",5,"男子"]
["豊府サッカースポーツ少年団_12","豊府サッカースポーツ少年団",{"$f":"(\"12\")","v":"12"},"GK","清時　悠聖","キヨトキ　ハルキ",5,"男子"]
["宗方サッカークラブ_1","宗方サッカークラブ",{"$f":"(\"1\")","v":"1"},"GK","波多野　瑛斗","ハタノ　エイト",6,"男子"]
["宗方サッカークラブ_2","宗方サッカークラブ",{"$f":"(\"2\")","v":"2"},"FW","高森　遥誠","タカモリ　ハルマ",6,"男子"]
["宗方サッカークラブ_3","宗方サッカークラブ",{"$f":"(\"3\")","v":"3"},"DF","吉浦　祐之助","ヨシウラ　ユウノスケ",6,"男子"]
["宗方サッカークラブ_4","宗方サッカークラブ",{"$f":"(\"4\")","v":"4"},"DF","大下　紗也奈","オオシタ　サヤナ",6,"女子小学生","○"]
["宗方サッカークラブ_5","宗方サッカークラブ",{"$f":"(\"5\")","v":"5"},"MF","門田　楽汰","カドタ　ランタ",6,"男子"]
["宗方サッカークラブ_6","宗方サッカークラブ",{"$f":"(\"6\")","v":"6"},"DF","蓑毛　颯","ミノモ　ソウ",5,"男子"]
["宗方サッカークラブ_7","宗方サッカークラブ",{"$f":"(\"7\")","v":"7"},"MF","平早水　蒼空","ヒラソウズ　ソラ",6,"男子"]
["宗方サッカークラブ_8","宗方サッカークラブ",{"$f":"(\"8\")","v":"8"},"FW","山田　笙太郎","ヤマダ　ソウタロウ",6,"男子"]
["宗方サッカークラブ_9","宗方サッカークラブ",{"$f":"(\"9\")","v":"9"},"MF","小原　大雅","オハラ　タイガ",6,"男子"]
["宗方サッカークラブ_10","宗方サッカークラブ",{"$f":"(\"10\")","v":"10"},"MF","岩田　琉生","イワタ　リュウ",6,"男子"]
["宗方サッカークラブ_11","宗方サッカークラブ",{"$f":"(\"11\")","v":"11"},"DF","高山　僚太","タカヤマ　リョウタ",6,"男子"]
["宗方サッカークラブ_12","宗方サッカークラブ",{"$f":"(\"12\")","v":"12"},"MF","岩田　和真","イワタ　カズマ",5,"男子"]
["宗方サッカークラブ_13","宗方サッカークラブ",{"$f":"(\"13\")","v":"13"},"DF","後藤　彩希","ゴトウ　サキ",5,"女子小学生"]
["宗方サッカークラブ_14","宗方サッカークラブ",{"$f":"(\"14\")","v":"14"},"MF","都留　瑞","ツル　ミズキ",5,"男子"]
["宗方サッカークラブ_15","宗方サッカークラブ",{"$f":"(\"15\")","v":"15"},"DF","廣石　有咲","ヒロイシ　アリサ",5,"女子小学生"]
["宗方サッカークラブ_21","宗方サッカークラブ",{"$f":"(\"21\")","v":"21"},"GK","高森　颯誠","タカモリ　ソウマ",5,"男子"]
["明治サッカースポーツ少年団_1","明治サッカースポーツ少年団",{"$f":"(\"1\")","v":"1"},"GK","沓掛　一裟","クツカケ　イッサ",5,"男子"]
[{"$f":"CONCATENATE(B776,\"_\",C776)","v":"明治サッカースポーツ少年団_4"},"明治サッカースポーツ少年団",{"$f":"(\"4\")","v":"4"},"FW","菊池　爽真","キクチ　ソウマ",5,"男子"]
["明治サッカースポーツ少年団_5","明治サッカースポーツ少年団",{"$f":"(\"5\")","v":"5"},"DF","古家　遙真","フルイエ　ハルマ",5,"男子","○"]
["明治サッカースポーツ少年団_6","明治サッカースポーツ少年団",{"$f":"(\"6\")","v":"6"},"DF","日浦　上総","ヒウラ　カズサ",5,"男子"]
["明治サッカースポーツ少年団_7","明治サッカースポーツ少年団",{"$f":"(\"7\")","v":"7"},"MF","吉川　侑来","ヨシカワ　ユライ",5,"男子"]
["明治サッカースポーツ少年団_9","明治サッカースポーツ少年団",{"$f":"(\"9\")","v":"9"},"MF","中山　大我","ナカヤマ　オオガ",5,"男子"]
["明治サッカースポーツ少年団_11","明治サッカースポーツ少年団",{"$f":"(\"11\")","v":"11"},"FW","那賀　敦輝","ナカ　アツキ",4,"男子"]
["明治サッカースポーツ少年団_12","明治サッカースポーツ少年団",{"$f":"(\"12\")","v":"12"},"FW","園田　蓮","ソノダ　レン",4,"男子"]
["明治サッカースポーツ少年団_13","明治サッカースポーツ少年団",{"$f":"(\"13\")","v":"13"},"FW","古澤　愛斗","フルサワ　マナト",4,"男子"]
["明治サッカースポーツ少年団_14","明治サッカースポーツ少年団",{"$f":"(\"14\")","v":"14"},"DF","安藤　心大","アンドウ　シンタ",4,"男子"]
["明治サッカースポーツ少年団_15","明治サッカースポーツ少年団",{"$f":"(\"15\")","v":"15"},"DF","相川　莉久","アイカワ　リク",4,"男子"]
["明治サッカースポーツ少年団_16","明治サッカースポーツ少年団",{"$f":"(\"16\")","v":"16"},"MF","金高　光哉","カネタカ　コウヤ",4,"男子"]
["明治サッカースポーツ少年団_17","明治サッカースポーツ少年団",{"$f":"(\"17\")","v":"17"},"MF","河野　桜晴","カワノ　オウセイ",4,"男子"]
["明治サッカースポーツ少年団_18","明治サッカースポーツ少年団",{"$f":"(\"18\")","v":"18"},"GK","阿部　将大","アベ　ショウダイ",3,"男子"]
["三佐サッカースポーツ少年団_1","三佐サッカースポーツ少年団",{"$f":"(\"1\")","v":"1"},"GK","財前　遥仁","ザイゼン　ハルト",3,"男子"]
["三佐サッカースポーツ少年団_2","三佐サッカースポーツ少年団",{"$f":"(\"2\")","v":"2"},"DF","河野　桜太","コウノ　オウタ",4,"男子"]
["三佐サッカースポーツ少年団_3","三佐サッカースポーツ少年団",{"$f":"(\"3\")","v":"3"},"DF","向井　照真","ムカイ　テルマ",4,"男子"]
["三佐サッカースポーツ少年団_4","三佐サッカースポーツ少年団",{"$f":"(\"4\")","v":"4"},"MF","植木　杏亮","ウエキ　キョウウスケ",4,"男子"]
["三佐サッカースポーツ少年団_5","三佐サッカースポーツ少年団",{"$f":"(\"5\")","v":"5"},"MF","南　絢斗","ミナミ　アヤト",4,"男子"]
["三佐サッカースポーツ少年団_6","三佐サッカースポーツ少年団",{"$f":"(\"6\")","v":"6"},"DF","藤澤　健琉","フジサワ　タケル",4,"男子"]
["三佐サッカースポーツ少年団_7","三佐サッカースポーツ少年団",{"$f":"(\"7\")","v":"7"},"DF","本久　湊","モトヒサ　ミナト",5,"男子"]
["三佐サッカースポーツ少年団_8","三佐サッカースポーツ少年団",{"$f":"(\"8\")","v":"8"},"FW","亀井　翔太朗","カメイ　ショウタロウ",5,"男子"]
["三佐サッカースポーツ少年団_9","三佐サッカースポーツ少年団",{"$f":"(\"9\")","v":"9"},"DF","三浦　喜与政","ミウラ　キヨマサ",5,"男子"]
["三佐サッカースポーツ少年団_10","三佐サッカースポーツ少年団",{"$f":"(\"10\")","v":"10"},"FW","大山　翔","オオヤマ　ショウ",6,"男子","○"]
["三佐サッカースポーツ少年団_11","三佐サッカースポーツ少年団",{"$f":"(\"11\")","v":"11"},"FW","亀井　琥太朗","カメイ　コタロウ",6,"男子"]
["三佐サッカースポーツ少年団_12","三佐サッカースポーツ少年団",{"$f":"(\"12\")","v":"12"},"MF","三浦　雅翔","ミウラ　マサト",5,"男子"]
["三佐サッカースポーツ少年団_13","三佐サッカースポーツ少年団",{"$f":"(\"13\")","v":"13"},"FW","笠置　湊斗","カサギ　ミナト",5,"男子"]
["三佐サッカースポーツ少年団_14","三佐サッカースポーツ少年団",{"$f":"(\"14\")","v":"14"},"DF","嶋津　琥珀","シマヅ　コハク",3,"男子"]
["三佐サッカースポーツ少年団_15","三佐サッカースポーツ少年団",{"$f":"(\"15\")","v":"15"},"FW","古屋　直己","コヤ　ナオキ",4,"男子"]
["三佐サッカースポーツ少年団_16","三佐サッカースポーツ少年団",{"$f":"(\"16\")","v":"16"},"FW","本久　旭","モトヒサ　アサヒ",3,"男子"]
["明野西ＪＦＣ_1","明野西ＪＦＣ",{"$f":"(\"1\")","v":"1"},"GK","足立　徠","アダチ　ライ",5,"男子"]
["明野西ＪＦＣ_2","明野西ＪＦＣ",{"$f":"(\"2\")","v":"2"},"DF","川副　孝仁","カワソエ　タカヒト",6,"男子"]
["明野西ＪＦＣ_3","明野西ＪＦＣ",{"$f":"(\"3\")","v":"3"},"DF","植山　蒼大","ウエヤマ　アオト",6,"男子"]
["明野西ＪＦＣ_4","明野西ＪＦＣ",{"$f":"(\"4\")","v":"4"},"FW","杉田　翔","スギタ　ショウ",5,"男子"]
["明野西ＪＦＣ_6","明野西ＪＦＣ",{"$f":"(\"6\")","v":"6"},"MF","中島　颯汰","ナカシマ　ソウタ",4,"男子"]
["明野西ＪＦＣ_7","明野西ＪＦＣ",{"$f":"(\"7\")","v":"7"},"MF","足立　雅樹","アダチ　マサキ",5,"男子"]
["明野西ＪＦＣ_8","明野西ＪＦＣ",{"$f":"(\"8\")","v":"8"},"MF","緒方　惇人","オガタ　アツト",5,"男子"]
["明野西ＪＦＣ_9","明野西ＪＦＣ",{"$f":"(\"9\")","v":"9"},"DF","河村　奏汰","カワムラ　ソウタ",6,"男子"]
["明野西ＪＦＣ_10","明野西ＪＦＣ",{"$f":"(\"10\")","v":"10"},"FW","松本　凌茉","マツモト　リョウマ",6,"男子","○"]
["明野西ＪＦＣ_11","明野西ＪＦＣ",{"$f":"(\"11\")","v":"11"},"MF","河村　芽依","カワムラ　メイ",4,"女子小学生"]
["明野西ＪＦＣ_12","明野西ＪＦＣ",{"$f":"(\"12\")","v":"12"},"DF","髙浪　颯馬","タカナミ　ソウマ",5,"男子"]
["明野西ＪＦＣ_13","明野西ＪＦＣ",{"$f":"(\"13\")","v":"13"},"FW","古川　雄惺","フルカワ　ユウセイ",3,"男子"]
["明野西ＪＦＣ_14","明野西ＪＦＣ",{"$f":"(\"14\")","v":"14"},"MF","足立　陸","アダチ　リク",3,"男子"]
["明野西ＪＦＣ_15","明野西ＪＦＣ",{"$f":"(\"15\")","v":"15"},"FW","加藤　隆将","カトウ　タカマサ",3,"男子"]
["明野西ＪＦＣ_16","明野西ＪＦＣ",{"$f":"(\"16\")","v":"16"},"MF","首藤　舞空","シュトウ　マソラ",3,"女子小学生"]
["金池長浜サッカースポーツ少年団_1","金池長浜サッカースポーツ少年団",{"$f":"(\"1\")","v":"1"},"GK","原田　啓央","ハラダ　ケイオウ",6,"男子"]
["金池長浜サッカースポーツ少年団_2","金池長浜サッカースポーツ少年団",{"$f":"(\"2\")","v":"2"},"MF","須藤　世成","ストウ　セナ",5,"男子"]
["金池長浜サッカースポーツ少年団_3","金池長浜サッカースポーツ少年団",{"$f":"(\"3\")","v":"3"},"MF","竹之内　浬","タケノウチ　カイリ",5,"男子"]
["金池長浜サッカースポーツ少年団_5","金池長浜サッカースポーツ少年団",{"$f":"(\"5\")","v":"5"},"MF","秋月　瑚立","アキヅキ　コダチ",6,"男子"]
["金池長浜サッカースポーツ少年団_6","金池長浜サッカースポーツ少年団",{"$f":"(\"6\")","v":"6"},"DF","末廣　陸駈","スエヒロ　リク",6,"男子"]
["金池長浜サッカースポーツ少年団_7","金池長浜サッカースポーツ少年団",{"$f":"(\"7\")","v":"7"},"MF","木原　悠聖","キハラ　ユウセイ",6,"男子"]
["金池長浜サッカースポーツ少年団_8","金池長浜サッカースポーツ少年団",{"$f":"(\"8\")","v":"8"},"MF","有田　遍","アリタ　アマネ",6,"女子小学生"]
["金池長浜サッカースポーツ少年団_9","金池長浜サッカースポーツ少年団",{"$f":"(\"9\")","v":"9"},"MF","坂田　靖明","サカタ　ヤスアキ",6,"男子"]
["金池長浜サッカースポーツ少年団_10","金池長浜サッカースポーツ少年団",{"$f":"(\"10\")","v":"10"},"FW","水江　泰雅","ミズエ　タイガ",6,"男子","○"]
["金池長浜サッカースポーツ少年団_11","金池長浜サッカースポーツ少年団",{"$f":"(\"11\")","v":"11"},"FW","繁里　勇吾","シゲサト　ユウゴ",6,"男子"]
["金池長浜サッカースポーツ少年団_12","金池長浜サッカースポーツ少年団",{"$f":"(\"12\")","v":"12"},"MF","梶谷　暖樹","カジタニ　ハルキ",5,"男子"]
["金池長浜サッカースポーツ少年団_14","金池長浜サッカースポーツ少年団",{"$f":"(\"14\")","v":"14"},"MF","大野　仁","オオノ　ジン",5,"男子"]
["金池長浜サッカースポーツ少年団_15","金池長浜サッカースポーツ少年団",{"$f":"(\"15\")","v":"15"},"MF","小野　颯人","オノ　ハヤト",5,"男子"]
["金池長浜サッカースポーツ少年団_16","金池長浜サッカースポーツ少年団",{"$f":"(\"16\")","v":"16"},"GK","利光　蒼太","トシミツ　ソウタ",6,"男子"]
["金池長浜サッカースポーツ少年団_17","金池長浜サッカースポーツ少年団",{"$f":"(\"17\")","v":"17"},"FW","藤田　修亮","フジタ　シュウスケ",4,"男子"]
["金池長浜サッカースポーツ少年団_20","金池長浜サッカースポーツ少年団",{"$f":"(\"20\")","v":"20"},"DF","安東　周平","アンドウ　シュウヘイ",4,"男子"]
["金池長浜サッカースポーツ少年団_21","金池長浜サッカースポーツ少年団",{"$f":"(\"21\")","v":"21"},"GK","小野　清志郎","オノ　キヨシロウ",5,"男子"]
["金池長浜サッカースポーツ少年団_24","金池長浜サッカースポーツ少年団",{"$f":"(\"24\")","v":"24"},"MF","堤　涼空","ツツミ　リク",5,"男子"]
["日岡サッカースポーツ少年団_1","日岡サッカースポーツ少年団",{"$f":"(\"1\")","v":"1"},"GK","伊藤　勇人","イトウ　ハヤト",6,"男子","○"]
["日岡サッカースポーツ少年団_2","日岡サッカースポーツ少年団",{"$f":"(\"2\")","v":"2"},"MF","後藤　里央奈","ゴトウ　リオナ",4,"女子小学生"]
[{"$f":"CONCATENATE(B840,\"_\",C840)","v":"日岡サッカースポーツ少年団_3"},"日岡サッカースポーツ少年団",{"$f":"(\"3\")","v":"3"},"MF","橋本　蓮","ハシモト　レン",4,"男子"]
["日岡サッカースポーツ少年団_4","日岡サッカースポーツ少年団",{"$f":"(\"4\")","v":"4"},"DF","長尾　龍真","ナガオ　リョウマ",4,"男子"]
["日岡サッカースポーツ少年団_5","日岡サッカースポーツ少年団",{"$f":"(\"5\")","v":"5"},"DF","柴田　大志","シバタ　タイシ",6,"男子"]
["日岡サッカースポーツ少年団_6","日岡サッカースポーツ少年団",{"$f":"(\"6\")","v":"6"},"DF","伊藤　大翔","イトウ　ヤマト",3,"男子"]
["日岡サッカースポーツ少年団_7","日岡サッカースポーツ少年団",{"$f":"(\"7\")","v":"7"},"DF","北原　幸侑","キタハラ　コウスケ",5,"男子"]
["日岡サッカースポーツ少年団_8","日岡サッカースポーツ少年団",{"$f":"(\"8\")","v":"8"},"DF","後藤　喬亮","ゴトウ　キョウスケ",5,"男子"]
["日岡サッカースポーツ少年団_9","日岡サッカースポーツ少年団",{"$f":"(\"9\")","v":"9"},"DF","首藤　志音","シュトウ　シオン",5,"男子"]
["日岡サッカースポーツ少年団_10","日岡サッカースポーツ少年団",{"$f":"(\"10\")","v":"10"},"FW","佐藤　凛月","サトウ　リツキ",5,"男子"]
["日岡サッカースポーツ少年団_11","日岡サッカースポーツ少年団",{"$f":"(\"11\")","v":"11"},"FW","矢野　都織","ヤノ　トオリ",5,"男子"]
["日岡サッカースポーツ少年団_12","日岡サッカースポーツ少年団",{"$f":"(\"12\")","v":"12"},"MF","柴田　光貴","シバタ　コウキ",3,"男子"]
["日岡サッカースポーツ少年団_14","日岡サッカースポーツ少年団",{"$f":"(\"14\")","v":"14"},"DF","北原　悠翔","キタハラ　ユウト",3,"男子"]
["日岡サッカースポーツ少年団_17","日岡サッカースポーツ少年団",{"$f":"(\"17\")","v":"17"},"GK","野上　颯太","ノガミ　ソウタ",4,"男子"]
["城南サッカースポーツ少年団_1","城南サッカースポーツ少年団",{"$f":"(\"1\")","v":"1"},"GK","二宮　蓮王","ニノミヤ　レオ",4,"男子"]
["城南サッカースポーツ少年団_2","城南サッカースポーツ少年団",{"$f":"(\"2\")","v":"2"},"DF","座木　功伸","ザキ　コウシン",5,"男子"]
["城南サッカースポーツ少年団_3","城南サッカースポーツ少年団",{"$f":"(\"3\")","v":"3"},"MF","首藤　那文","シュトウ　トモフミ",6,"男子"]
["城南サッカースポーツ少年団_4","城南サッカースポーツ少年団",{"$f":"(\"4\")","v":"4"},"MF","山本　蒼汰","ヤマモト　ソウタ",4,"男子"]
["城南サッカースポーツ少年団_5","城南サッカースポーツ少年団",{"$f":"(\"5\")","v":"5"},"DF","足立　誠悟","アダチ　セイゴ",4,"男子"]
["城南サッカースポーツ少年団_6","城南サッカースポーツ少年団",{"$f":"(\"6\")","v":"6"},"MF","二宮　蘭","ニノミヤ　ラン",6,"女子小学生","○"]
["城南サッカースポーツ少年団_7","城南サッカースポーツ少年団",{"$f":"(\"7\")","v":"7"},"FW","貝塚　新","カイヅカ　アラタ",5,"男子"]
["城南サッカースポーツ少年団_8","城南サッカースポーツ少年団",{"$f":"(\"8\")","v":"8"},"DF","嶋末　想平","シマスエ　ソウヘイ",6,"男子"]
["城南サッカースポーツ少年団_9","城南サッカースポーツ少年団",{"$f":"(\"9\")","v":"9"},"DF","岡部　聡咲","オカベ　ソウサク",6,"男子"]
["城南サッカースポーツ少年団_10","城南サッカースポーツ少年団",{"$f":"(\"10\")","v":"10"},"MF","松浦　朝陽","マツウラ　アサヒ",5,"男子"]
["城南サッカースポーツ少年団_12","城南サッカースポーツ少年団",{"$f":"(\"12\")","v":"12"},"MF","森﨑　悠斗","モリサキ　ユウト",5,"男子"]
["城南サッカースポーツ少年団_13","城南サッカースポーツ少年団",{"$f":"(\"13\")","v":"13"},"MF","宮部　拓斗","ミヤベ　タクト",4,"男子"]
["城南サッカースポーツ少年団_14","城南サッカースポーツ少年団",{"$f":"(\"14\")","v":"14"},"FW","久保　絆人","クボ　キト",4,"男子"]
["城南サッカースポーツ少年団_15","城南サッカースポーツ少年団",{"$f":"(\"15\")","v":"15"},"DF","阿南　櫂","アナン　カイ",4,"男子"]
["城南サッカースポーツ少年団_16","城南サッカースポーツ少年団",{"$f":"(\"16\")","v":"16"},"DF","牧　春花","マキ　ハルカ",4,"女子小学生"]
["荏隈サッカースポーツ少年団_1","荏隈サッカースポーツ少年団",{"$f":"(\"1\")","v":"1"},"GK","安東　新泰","アンドウ　アラタ",5,"男子"]
["荏隈サッカースポーツ少年団_6","荏隈サッカースポーツ少年団",{"$f":"(\"6\")","v":"6"},"MF","小野　蓮華","オノ　レンカ",4,"女子小学生"]
["荏隈サッカースポーツ少年団_7","荏隈サッカースポーツ少年団",{"$f":"(\"7\")","v":"7"},"MF","中村　楽","ナカムラ　ガク",5,"男子"]
["荏隈サッカースポーツ少年団_8","荏隈サッカースポーツ少年団",{"$f":"(\"8\")","v":"8"},"MF","鈴木　玲央","スズキ　レオ",3,"男子"]
["荏隈サッカースポーツ少年団_9","荏隈サッカースポーツ少年団",{"$f":"(\"9\")","v":"9"},"FW","鈴木　琉斗","スズキ　リュウト",5,"男子"]
["荏隈サッカースポーツ少年団_10","荏隈サッカースポーツ少年団",{"$f":"(\"10\")","v":"10"},"DF","佐藤　大翔","サトウ　ハルト",6,"男子","○"]
["荏隈サッカースポーツ少年団_11","荏隈サッカースポーツ少年団",{"$f":"(\"11\")","v":"11"},"FW","古門　倖太","フルカド　コウタ",6,"男子"]
["荏隈サッカースポーツ少年団_12","荏隈サッカースポーツ少年団",{"$f":"(\"12\")","v":"12"},"DF","安部　稜大","アベ　リョウタ",3,"男子"]
["荏隈サッカースポーツ少年団_13","荏隈サッカースポーツ少年団",{"$f":"(\"13\")","v":"13"},"MF","佐藤　大夢","サトウ　ヒロム",3,"男子"]
["荏隈サッカースポーツ少年団_15","荏隈サッカースポーツ少年団",{"$f":"(\"15\")","v":"15"},"MF","芦刈　翔真","アシカリ　ショウマ",3,"男子"]
["荏隈サッカースポーツ少年団_17","荏隈サッカースポーツ少年団",{"$f":"(\"17\")","v":"17"},"FW","武生　琉翔","タケオ　ルイト",4,"男子"]
["荏隈サッカースポーツ少年団_18","荏隈サッカースポーツ少年団",{"$f":"(\"18\")","v":"18"},"DF","下村　優斗","シモムラ　ユウト",3,"男子"]
["稙田ＦＣサッカースポーツ少年団_1","稙田ＦＣサッカースポーツ少年団",{"$f":"(\"1\")","v":"1"},"GK","北川　藍生","キタガワ　アイキ",5,"男子"]
["稙田ＦＣサッカースポーツ少年団_2","稙田ＦＣサッカースポーツ少年団",{"$f":"(\"2\")","v":"2"},"DF","増野　橙磨","マスノ　トウマ",5,"男子"]
["稙田ＦＣサッカースポーツ少年団_3","稙田ＦＣサッカースポーツ少年団",{"$f":"(\"3\")","v":"3"},"DF","平川　優斗","ヒラカワ　ユウト",6,"男子"]
["稙田ＦＣサッカースポーツ少年団_4","稙田ＦＣサッカースポーツ少年団",{"$f":"(\"4\")","v":"4"},"MF","奥村　勇斗","オクムラ　ハヤト",6,"男子","○"]
["稙田ＦＣサッカースポーツ少年団_5","稙田ＦＣサッカースポーツ少年団",{"$f":"(\"5\")","v":"5"},"DF","澤谷　昊汰","サワヤ　コウタ",5,"男子"]
["稙田ＦＣサッカースポーツ少年団_6","稙田ＦＣサッカースポーツ少年団",{"$f":"(\"6\")","v":"6"},"DF","前田　康瑛","マエダ　コウエイ",6,"男子"]
["稙田ＦＣサッカースポーツ少年団_7","稙田ＦＣサッカースポーツ少年団",{"$f":"(\"7\")","v":"7"},"DF","藤野　璃空","フジノ　リクウ",5,"男子"]
["稙田ＦＣサッカースポーツ少年団_8","稙田ＦＣサッカースポーツ少年団",{"$f":"(\"8\")","v":"8"},"MF","野々下　未來","ノノシタ　ミライ",6,"男子"]
["稙田ＦＣサッカースポーツ少年団_9","稙田ＦＣサッカースポーツ少年団",{"$f":"(\"9\")","v":"9"},"MF","長野　佑都","ナガノ　ユウト",5,"男子"]
["稙田ＦＣサッカースポーツ少年団_10","稙田ＦＣサッカースポーツ少年団",{"$f":"(\"10\")","v":"10"},"FW","安部　莉依子","アベ　リイコ",6,"女子小学生"]
["稙田ＦＣサッカースポーツ少年団_11","稙田ＦＣサッカースポーツ少年団",{"$f":"(\"11\")","v":"11"},"MF","長岡　暖真","ナガオカ　ハルマ",5,"男子"]
["稙田ＦＣサッカースポーツ少年団_12","稙田ＦＣサッカースポーツ少年団",{"$f":"(\"12\")","v":"12"},"MF","戸田　有哉","トダ　ユウヤ",5,"男子"]
["稙田ＦＣサッカースポーツ少年団_13","稙田ＦＣサッカースポーツ少年団",{"$f":"(\"13\")","v":"13"},"FW","漆間　悠介","ウルマ　ユウスケ",5,"男子"]
["稙田ＦＣサッカースポーツ少年団_14","稙田ＦＣサッカースポーツ少年団",{"$f":"(\"14\")","v":"14"},"FW","漆間　琉晟","ウルマ　リュウセイ",5,"男子"]
["稙田ＦＣサッカースポーツ少年団_15","稙田ＦＣサッカースポーツ少年団",{"$f":"(\"15\")","v":"15"},"MF","宮本　櫂吏","ミヤモト　カイリ",5,"男子"]
["稙田ＦＣサッカースポーツ少年団_16","稙田ＦＣサッカースポーツ少年団",{"$f":"(\"16\")","v":"16"},"FW","松岡　航希","マツオカ　コウキ",5,"男子"]
["稙田ＦＣサッカースポーツ少年団_17","稙田ＦＣサッカースポーツ少年団",{"$f":"(\"17\")","v":"17"},"MF","阿南　波玖","アナン　ハク",5,"男子"]
["北郡坂ノ市サッカースポーツ少年団_1","北郡坂ノ市サッカースポーツ少年団",{"$f":"(\"1\")","v":"1"},"GK","敷嶋　慶武","シキシマ　ケイタ",5,"男子"]
["北郡坂ノ市サッカースポーツ少年団_2","北郡坂ノ市サッカースポーツ少年団",{"$f":"(\"2\")","v":"2"},"DF","岩本　悠","イワモト　ユウ",6,"男子"]
["北郡坂ノ市サッカースポーツ少年団_3","北郡坂ノ市サッカースポーツ少年団",{"$f":"(\"3\")","v":"3"},"DF","山田　凪","ヤマダ　ナギ",6,"男子"]
["北郡坂ノ市サッカースポーツ少年団_4","北郡坂ノ市サッカースポーツ少年団",{"$f":"(\"4\")","v":"4"},"DF","仲村　健介","ナカムラ　ケンスケ",5,"男子"]
["北郡坂ノ市サッカースポーツ少年団_5","北郡坂ノ市サッカースポーツ少年団",{"$f":"(\"5\")","v":"5"},"DF","河野　龍太郎","カワノ　リュウタロウ",6,"男子"]
["北郡坂ノ市サッカースポーツ少年団_7","北郡坂ノ市サッカースポーツ少年団",{"$f":"(\"7\")","v":"7"},"MF","高野　泰成","タカノ　タイセイ",6,"男子"]
["北郡坂ノ市サッカースポーツ少年団_9","北郡坂ノ市サッカースポーツ少年団",{"$f":"(\"9\")","v":"9"},"FW","串間　一貴","クシマ　カズキ",6,"男子"]
["北郡坂ノ市サッカースポーツ少年団_10","北郡坂ノ市サッカースポーツ少年団",{"$f":"(\"10\")","v":"10"},"MF","釘宮　央","クギミヤ　ヒロ",6,"男子","○"]
[{"$f":"CONCATENATE(B904,\"_\",C904)","v":"北郡坂ノ市サッカースポーツ少年団_11"},"北郡坂ノ市サッカースポーツ少年団",{"$f":"(\"11\")","v":"11"},"FW","梶原　晟瑠紫","カジワラ　テルム",5,"男子"]
["北郡坂ノ市サッカースポーツ少年団_12","北郡坂ノ市サッカースポーツ少年団",{"$f":"(\"12\")","v":"12"},"DF","安部　煌大","アベ　コウダイ",5,"男子"]
["北郡坂ノ市サッカースポーツ少年団_13","北郡坂ノ市サッカースポーツ少年団",{"$f":"(\"13\")","v":"13"},"DF","大塚　蒼生","オオツカ　アオイ",5,"男子"]
["北郡坂ノ市サッカースポーツ少年団_14","北郡坂ノ市サッカースポーツ少年団",{"$f":"(\"14\")","v":"14"},"DF","高橋　泰來","タカハシ　タイラ",5,"男子"]
["北郡坂ノ市サッカースポーツ少年団_15","北郡坂ノ市サッカースポーツ少年団",{"$f":"(\"15\")","v":"15"},"FW","釘宮　蓮","クギミヤ　レン",4,"男子"]
["北郡坂ノ市サッカースポーツ少年団_16","北郡坂ノ市サッカースポーツ少年団",{"$f":"(\"16\")","v":"16"},"FW","太田　陽斗","オオタ　ハルト",4,"男子"]
["田尻サッカースポーツ少年団_1","田尻サッカースポーツ少年団",{"$f":"(\"1\")","v":"1"},"GK","石崎　裕真","イシザキ　ユウシン",6,"男子"]
["田尻サッカースポーツ少年団_2","田尻サッカースポーツ少年団",{"$f":"(\"2\")","v":"2"},"MF","小曽根　育太","コゾネ　イクタ",3,"男子"]
["田尻サッカースポーツ少年団_3","田尻サッカースポーツ少年団",{"$f":"(\"3\")","v":"3"},"DF","油布　壮太郎","ユフ　ソウタロウ",4,"男子"]
["田尻サッカースポーツ少年団_4","田尻サッカースポーツ少年団",{"$f":"(\"4\")","v":"4"},"MF","和田　結人","ワダ　ユウト",6,"男子"]
["田尻サッカースポーツ少年団_5","田尻サッカースポーツ少年団",{"$f":"(\"5\")","v":"5"},"MF","東納　凛空","トウノウ　リク",6,"男子"]
["田尻サッカースポーツ少年団_6","田尻サッカースポーツ少年団",{"$f":"(\"6\")","v":"6"},"MF","植木　大地","ウエキ　ダイチ",4,"男子"]
["田尻サッカースポーツ少年団_7","田尻サッカースポーツ少年団",{"$f":"(\"7\")","v":"7"},"FW","江田　力空","コウダ　リク",6,"男子"]
["田尻サッカースポーツ少年団_8","田尻サッカースポーツ少年団",{"$f":"(\"8\")","v":"8"},"MF","江田　拓空","コウダ　タク",6,"男子"]
["田尻サッカースポーツ少年団_9","田尻サッカースポーツ少年団",{"$f":"(\"9\")","v":"9"},"MF","浜小路　大智","ハマショウジ　ダイチ",6,"男子"]
["田尻サッカースポーツ少年団_10","田尻サッカースポーツ少年団",{"$f":"(\"10\")","v":"10"},"MF","池永　蒼生","イケナガ　アオイ",6,"男子","○"]
["田尻サッカースポーツ少年団_11","田尻サッカースポーツ少年団",{"$f":"(\"11\")","v":"11"},"DF","石井　悠貴","イシイ　ハルキ",6,"男子"]
["田尻サッカースポーツ少年団_14","田尻サッカースポーツ少年団",{"$f":"(\"14\")","v":"14"},"DF","村山　拓海","ムラヤマ　タクミ",5,"男子"]
["田尻サッカースポーツ少年団_18","田尻サッカースポーツ少年団",{"$f":"(\"18\")","v":"18"},"MF","末宗　篤人","スエムネ　アツト",6,"男子"]
["判田サッカースポーツ少年団_1","判田サッカースポーツ少年団",{"$f":"(\"1\")","v":"1"},"GK","小川　修人","オガワ　シュウト",6,"男子"]
["判田サッカースポーツ少年団_2","判田サッカースポーツ少年団",{"$f":"(\"2\")","v":"2"},"FW","山崎　淳太","ヤマサキ　ジュンタ",6,"男子"]
["判田サッカースポーツ少年団_3","判田サッカースポーツ少年団",{"$f":"(\"3\")","v":"3"},"DF","小代　朔","オジロ　サク",6,"男子"]
["判田サッカースポーツ少年団_5","判田サッカースポーツ少年団",{"$f":"(\"5\")","v":"5"},"MF","渡邊　蒼一朗","ワタナベ　ソウイチロウ",5,"男子"]
["判田サッカースポーツ少年団_6","判田サッカースポーツ少年団",{"$f":"(\"6\")","v":"6"},"FW","佐藤　楓真","サトウ　フウマ",5,"男子"]
["判田サッカースポーツ少年団_7","判田サッカースポーツ少年団",{"$f":"(\"7\")","v":"7"},"DF","西條　伶","サイジョウ　リョウ",5,"男子"]
["判田サッカースポーツ少年団_8","判田サッカースポーツ少年団",{"$f":"(\"8\")","v":"8"},"MF","髙橋　陽那汰","タカハシ　ヒナタ",4,"男子"]
["判田サッカースポーツ少年団_9","判田サッカースポーツ少年団",{"$f":"(\"9\")","v":"9"},"MF","小野　大和","オノ　ヤマト",6,"男子"]
["判田サッカースポーツ少年団_10","判田サッカースポーツ少年団",{"$f":"(\"10\")","v":"10"},"MF","高橋　璃央","タカハシ　リオ",6,"男子","○"]
["判田サッカースポーツ少年団_11","判田サッカースポーツ少年団",{"$f":"(\"11\")","v":"11"},"DF","田﨑　蒼","タサキ　アオイ",4,"男子"]
["判田サッカースポーツ少年団_12","判田サッカースポーツ少年団",{"$f":"(\"12\")","v":"12"},"MF","高橋　和希","タカハシ　カズキ",4,"男子"]
["判田サッカースポーツ少年団_13","判田サッカースポーツ少年団",{"$f":"(\"13\")","v":"13"},"DF","森田　一真","モリタ　カズマ",5,"男子"]
["判田サッカースポーツ少年団_14","判田サッカースポーツ少年団",{"$f":"(\"14\")","v":"14"},"DF","三浦　琉空","ミウラ　リク",5,"男子"]
["判田サッカースポーツ少年団_15","判田サッカースポーツ少年団",{"$f":"(\"15\")","v":"15"},"FW","友永　英汰","トモナガ　エイタ",6,"男子"]
["判田サッカースポーツ少年団_16","判田サッカースポーツ少年団",{"$f":"(\"16\")","v":"16"},"FW","森本　圭祐","モリモト　ケイスケ",4,"男子"]
["判田サッカースポーツ少年団_17","判田サッカースポーツ少年団",{"$f":"(\"17\")","v":"17"},"GK","長野　巧","ナガノ　タクミ",5,"男子"]
["賀来ジュニアサッカークラブ_1","賀来ジュニアサッカークラブ",{"$f":"(\"1\")","v":"1"},"GK","井上　遼太","イノウエ　リョウタ",6,"男子"]
["賀来ジュニアサッカークラブ_2","賀来ジュニアサッカークラブ",{"$f":"(\"2\")","v":"2"},"FW","恵藤　和海","エトウ　カズミ",5,"男子"]
["賀来ジュニアサッカークラブ_3","賀来ジュニアサッカークラブ",{"$f":"(\"3\")","v":"3"},"DF","佐藤　太一","サトウ　タイチ",5,"男子"]
["賀来ジュニアサッカークラブ_4","賀来ジュニアサッカークラブ",{"$f":"(\"4\")","v":"4"},"DF","霍田　基","ツルタ　モトキ",6,"男子"]
["賀来ジュニアサッカークラブ_6","賀来ジュニアサッカークラブ",{"$f":"(\"6\")","v":"6"},"DF","二宮　八大","ニノミヤ　ハチダイ",5,"男子"]
["賀来ジュニアサッカークラブ_7","賀来ジュニアサッカークラブ",{"$f":"(\"7\")","v":"7"},"DF","甲斐　咲渡","カイ　サクト",6,"男子","○"]
["賀来ジュニアサッカークラブ_8","賀来ジュニアサッカークラブ",{"$f":"(\"8\")","v":"8"},"MF","副田　大晴","ソエダ　タイセイ",6,"男子"]
["賀来ジュニアサッカークラブ_9","賀来ジュニアサッカークラブ",{"$f":"(\"9\")","v":"9"},"MF","一丸　諒丞","イチマル　リョウスケ",6,"男子"]
["賀来ジュニアサッカークラブ_10","賀来ジュニアサッカークラブ",{"$f":"(\"10\")","v":"10"},"MF","藤原　世","フジワラ　セイ",6,"男子"]
["賀来ジュニアサッカークラブ_11","賀来ジュニアサッカークラブ",{"$f":"(\"11\")","v":"11"},"DF","工藤　颯真","クドウ　ソウマ",4,"男子"]
["賀来ジュニアサッカークラブ_12","賀来ジュニアサッカークラブ",{"$f":"(\"12\")","v":"12"},"FW","恵藤　太陽","エトウ　タイヨウ",1,"男子"]
["桃園サッカースポーツ少年団_1","桃園サッカースポーツ少年団",{"$f":"(\"1\")","v":"1"},"GK","村上　陽哉","ムラカミ　ハルヤ",4,"男子"]
["桃園サッカースポーツ少年団_2","桃園サッカースポーツ少年団",{"$f":"(\"2\")","v":"2"},"DF","菅原　泰成","スガハラ　タイセイ",5,"男子"]
["桃園サッカースポーツ少年団_3","桃園サッカースポーツ少年団",{"$f":"(\"3\")","v":"3"},"FW","宗　志優","ソウ　シユウ",5,"男子"]
["桃園サッカースポーツ少年団_4","桃園サッカースポーツ少年団",{"$f":"(\"4\")","v":"4"},"DF","三辻　悠太","ミツジ　ユウタ",6,"男子"]
["桃園サッカースポーツ少年団_5","桃園サッカースポーツ少年団",{"$f":"(\"5\")","v":"5"},"DF","長岡　輝一","ナガオカ　キイチ",5,"男子"]
["桃園サッカースポーツ少年団_6","桃園サッカースポーツ少年団",{"$f":"(\"6\")","v":"6"},"MF","髙野　充生","タカノ　アツキ",5,"男子"]
["桃園サッカースポーツ少年団_7","桃園サッカースポーツ少年団",{"$f":"(\"7\")","v":"7"},"MF","岩田　凌明","イワタ　リョウメイ",6,"男子"]
["桃園サッカースポーツ少年団_8","桃園サッカースポーツ少年団",{"$f":"(\"8\")","v":"8"},"DF","宮﨑　琉愛","ミヤザキ　ルア",6,"女子小学生"]
["桃園サッカースポーツ少年団_9","桃園サッカースポーツ少年団",{"$f":"(\"9\")","v":"9"},"FW","牧　礼真","マキ　レイシン",6,"男子"]
["桃園サッカースポーツ少年団_10","桃園サッカースポーツ少年団",{"$f":"(\"10\")","v":"10"},"MF","阿部　祐世","アベ　ユウセイ",6,"男子","○"]
["桃園サッカースポーツ少年団_11","桃園サッカースポーツ少年団",{"$f":"(\"11\")","v":"11"},"DF","長尾　晟太朗","ナガオ　セイタロウ",5,"男子"]
["桃園サッカースポーツ少年団_12","桃園サッカースポーツ少年団",{"$f":"(\"12\")","v":"12"},"FW","保月　信司","ホズキ　シンジ",6,"男子"]
["桃園サッカースポーツ少年団_13","桃園サッカースポーツ少年団",{"$f":"(\"13\")","v":"13"},"MF","金崎　瑞樹","カナザキ　ミズキ",5,"男子"]
["桃園サッカースポーツ少年団_14","桃園サッカースポーツ少年団",{"$f":"(\"14\")","v":"14"},"MF","佐藤　俊平","サトウ　シュンペイ",5,"男子"]
["桃園サッカースポーツ少年団_15","桃園サッカースポーツ少年団",{"$f":"(\"15\")","v":"15"},"FW","衛藤　空樹","エトウ　アイキ",4,"男子"]
["桃園サッカースポーツ少年団_16","桃園サッカースポーツ少年団",{"$f":"(\"16\")","v":"16"},"MF","西　琉汰","ニシ　リュウタ",4,"男子"]
["日出サッカースポーツ少年団_1","日出サッカースポーツ少年団",{"$f":"(\"1\")","v":"1"},"GK","幸　遥愛","ユキ　ハルア",6,"女子小学生"]
["日出サッカースポーツ少年団_2","日出サッカースポーツ少年団",{"$f":"(\"2\")","v":"2"},"FW","久恒　歩","ヒサツネ　アユム",6,"男子"]
[{"$f":"CONCATENATE(B968,\"_\",C968)","v":"日出サッカースポーツ少年団_4"},"日出サッカースポーツ少年団",{"$f":"(\"4\")","v":"4"},"DF","赤山　慎一郎","アカヤマ　シンイチロウ",5,"男子"]
["日出サッカースポーツ少年団_5","日出サッカースポーツ少年団",{"$f":"(\"5\")","v":"5"},"FW","田口　稟太朗","タグチ　リンタロウ",5,"男子"]
["日出サッカースポーツ少年団_6","日出サッカースポーツ少年団",{"$f":"(\"6\")","v":"6"},"MF","園田　拓海","ソノダ　タクミ",6,"男子"]
["日出サッカースポーツ少年団_7","日出サッカースポーツ少年団",{"$f":"(\"7\")","v":"7"},"DF","佐藤　安立","サトウ　アンリュウ",6,"男子"]
["日出サッカースポーツ少年団_8","日出サッカースポーツ少年団",{"$f":"(\"8\")","v":"8"},"DF","北川　遥斗","キタガワ　ハルト",6,"男子"]
["日出サッカースポーツ少年団_9","日出サッカースポーツ少年団",{"$f":"(\"9\")","v":"9"},"DF","山﨑　虎太郎","ヤマサキ　コタロウ",5,"男子"]
["日出サッカースポーツ少年団_10","日出サッカースポーツ少年団",{"$f":"(\"10\")","v":"10"},"MF","笠置　喬虎","カサギ　タカトラ",6,"男子","○"]
["日出サッカースポーツ少年団_11","日出サッカースポーツ少年団",{"$f":"(\"11\")","v":"11"},"MF","本田　雄琉","ホンダ　タケル",6,"男子"]
["日出サッカースポーツ少年団_12","日出サッカースポーツ少年団",{"$f":"(\"12\")","v":"12"},"MF","北川　優真","キタガワ　ユウマ",4,"男子"]
["日出サッカースポーツ少年団_16","日出サッカースポーツ少年団",{"$f":"(\"16\")","v":"16"},"GK","高月　祥真","タカツキ　ショウシン",4,"男子"]
["渡町台サッカークラブ_1","渡町台サッカークラブ",{"$f":"(\"1\")","v":"1"},"MF","多田　怜真","タダ　リョウマ",4,"男子"]
["渡町台サッカークラブ_2","渡町台サッカークラブ",{"$f":"(\"2\")","v":"2"},"DF","團塚　煌","ダンヅカ　コウ",4,"男子"]
["渡町台サッカークラブ_3","渡町台サッカークラブ",{"$f":"(\"3\")","v":"3"},"DF","増野　瑛","マスノ　アキラ",5,"男子"]
["渡町台サッカークラブ_4","渡町台サッカークラブ",{"$f":"(\"4\")","v":"4"},"DF","高石　靖太","タカイシ　セイタ",5,"男子"]
["渡町台サッカークラブ_6","渡町台サッカークラブ",{"$f":"(\"6\")","v":"6"},"DF","青木　大和","アオキ　ヤマト",4,"男子"]
["渡町台サッカークラブ_7","渡町台サッカークラブ",{"$f":"(\"7\")","v":"7"},"MF","上杉　想真","ウエスギ　ソウマ",4,"男子"]
["渡町台サッカークラブ_8","渡町台サッカークラブ",{"$f":"(\"8\")","v":"8"},"FW","小野　夏希","オノ　ナツキ",5,"女子小学生"]
["渡町台サッカークラブ_9","渡町台サッカークラブ",{"$f":"(\"9\")","v":"9"},"MF","安藤　岳","アンドウ　ガク",4,"男子"]
["渡町台サッカークラブ_10","渡町台サッカークラブ",{"$f":"(\"10\")","v":"10"},"MF","赤嶺　隼士","アカミネ　ハヤト",6,"男子","○"]
["渡町台サッカークラブ_11","渡町台サッカークラブ",{"$f":"(\"11\")","v":"11"},"MF","宮脇　遙冴","ミヤワキ　ハルヒ",4,"男子"]
["渡町台サッカークラブ_12","渡町台サッカークラブ",{"$f":"(\"12\")","v":"12"},"FW","三浦　龍星","ミウラ　リュウセイ",3,"男子"]
["渡町台サッカークラブ_13","渡町台サッカークラブ",{"$f":"(\"13\")","v":"13"},"MF","白江　朔麻","シラエ　サクマ",4,"男子"]
["渡町台サッカークラブ_14","渡町台サッカークラブ",{"$f":"(\"14\")","v":"14"},"FW","岩本　悠希","イワモト　ハルキ",3,"男子"]
["西の台ＪＦＣ_1","西の台ＪＦＣ",{"$f":"(\"1\")","v":"1"},"GK","中村　紘史朗","ナカムラ　コウシロウ",6,"男子"]
["西の台ＪＦＣ_2","西の台ＪＦＣ",{"$f":"(\"2\")","v":"2"},"DF","造士　凛太郎","ゾウシ　リンタロウ",6,"男子"]
["西の台ＪＦＣ_3","西の台ＪＦＣ",{"$f":"(\"3\")","v":"3"},"DF","佐藤　泰喜","サトウ　タイキ",6,"男子"]
["西の台ＪＦＣ_4","西の台ＪＦＣ",{"$f":"(\"4\")","v":"4"},"DF","江藤　然生","エトウ　ゼン",6,"男子"]
["西の台ＪＦＣ_5","西の台ＪＦＣ",{"$f":"(\"5\")","v":"5"},"MF","松原　大","マツバラ　ダイ",6,"男子"]
["西の台ＪＦＣ_6","西の台ＪＦＣ",{"$f":"(\"6\")","v":"6"},"MF","秋月　凛太","アキヅキ　リンタ",4,"男子"]
["西の台ＪＦＣ_7","西の台ＪＦＣ",{"$f":"(\"7\")","v":"7"},"MF","平井　歩","ヒライ　アユム",6,"男子"]
["西の台ＪＦＣ_8","西の台ＪＦＣ",{"$f":"(\"8\")","v":"8"},"DF","生口　彩人","イグチ　アヤト",5,"男子"]
["西の台ＪＦＣ_9","西の台ＪＦＣ",{"$f":"(\"9\")","v":"9"},"FW","幸野　駿汰","コウノ　シュンタ",4,"男子"]
["西の台ＪＦＣ_10","西の台ＪＦＣ",{"$f":"(\"10\")","v":"10"},"MF","秋吉　真翔","アキヨシ　マナト",6,"男子","○"]
["西の台ＪＦＣ_11","西の台ＪＦＣ",{"$f":"(\"11\")","v":"11"},"DF","近藤　総司","コンドウ　ソウシ",4,"男子"]
["西の台ＪＦＣ_12","西の台ＪＦＣ",{"$f":"(\"12\")","v":"12"},"MF","江藤　大央","エトウ　タオ",4,"男子"]
["西の台ＪＦＣ_13","西の台ＪＦＣ",{"$f":"(\"13\")","v":"13"},"DF","青木　稜羽","アオキ　リウ",4,"男子"]
["西の台ＪＦＣ_16","西の台ＪＦＣ",{"$f":"(\"16\")","v":"16"},"FW","岡本　心逢","オカモト　ミアイ",6,"男子"]
["豊後高田ＦＣ　Ｂｏｒｄｅｒ　Ｊｒ_1","豊後高田ＦＣ　Ｂｏｒｄｅｒ　Ｊｒ",{"$f":"(\"1\")","v":"1"},"GK","秋田　光晴","アキタ　コウキ",6,"男子"]
["豊後高田ＦＣ　Ｂｏｒｄｅｒ　Ｊｒ_2","豊後高田ＦＣ　Ｂｏｒｄｅｒ　Ｊｒ",{"$f":"(\"2\")","v":"2"},"DF","小田原　聖","オダワラ　コウキ",6,"男子"]
["豊後高田ＦＣ　Ｂｏｒｄｅｒ　Ｊｒ_4","豊後高田ＦＣ　Ｂｏｒｄｅｒ　Ｊｒ",{"$f":"(\"4\")","v":"4"},"FW","恒久　翠稀","ツネヒサ　スイキ",6,"男子"]
["豊後高田ＦＣ　Ｂｏｒｄｅｒ　Ｊｒ_6","豊後高田ＦＣ　Ｂｏｒｄｅｒ　Ｊｒ",{"$f":"(\"6\")","v":"6"},"MF","上条　優斗","カミジョウ　ユウト",6,"男子"]
["豊後高田ＦＣ　Ｂｏｒｄｅｒ　Ｊｒ_7","豊後高田ＦＣ　Ｂｏｒｄｅｒ　Ｊｒ",{"$f":"(\"7\")","v":"7"},"DF","清原　光賀","キヨハラ　コウガ",6,"男子"]
["豊後高田ＦＣ　Ｂｏｒｄｅｒ　Ｊｒ_8","豊後高田ＦＣ　Ｂｏｒｄｅｒ　Ｊｒ",{"$f":"(\"8\")","v":"8"},"FW","後藤　元篤","ゴトウ　ゲントク",6,"男子"]
["豊後高田ＦＣ　Ｂｏｒｄｅｒ　Ｊｒ_9","豊後高田ＦＣ　Ｂｏｒｄｅｒ　Ｊｒ",{"$f":"(\"9\")","v":"9"},"FW","清原　大暉","キヨハラ　ダイキ",6,"男子"]
["豊後高田ＦＣ　Ｂｏｒｄｅｒ　Ｊｒ_11","豊後高田ＦＣ　Ｂｏｒｄｅｒ　Ｊｒ",{"$f":"(\"11\")","v":"11"},"MF","大塚　祐也","オオツカ　ユウヤ",5,"男子"]
["豊後高田ＦＣ　Ｂｏｒｄｅｒ　Ｊｒ_12","豊後高田ＦＣ　Ｂｏｒｄｅｒ　Ｊｒ",{"$f":"(\"12\")","v":"12"},"MF","宮本　雄一稀","ミヤモト　ユイキ",5,"男子"]
["豊後高田ＦＣ　Ｂｏｒｄｅｒ　Ｊｒ_13","豊後高田ＦＣ　Ｂｏｒｄｅｒ　Ｊｒ",{"$f":"(\"13\")","v":"13"},"DF","平岡　寛望","ヒラオカ　ヒロム",5,"男子"]
["豊後高田ＦＣ　Ｂｏｒｄｅｒ　Ｊｒ_14","豊後高田ＦＣ　Ｂｏｒｄｅｒ　Ｊｒ",{"$f":"(\"14\")","v":"14"},"MF","岩永　光叶","イワナガ　ヒロト",5,"男子"]
["豊後高田ＦＣ　Ｂｏｒｄｅｒ　Ｊｒ_15","豊後高田ＦＣ　Ｂｏｒｄｅｒ　Ｊｒ",{"$f":"(\"15\")","v":"15"},"FW","上條　彩美","カミジョウ　アヤミ",5,"女子小学生"]
["豊後高田ＦＣ　Ｂｏｒｄｅｒ　Ｊｒ_16","豊後高田ＦＣ　Ｂｏｒｄｅｒ　Ｊｒ",{"$f":"(\"16\")","v":"16"},"DF","平岡　歩望","ヒラオカ　アユム",5,"男子"]
["豊後高田ＦＣ　Ｂｏｒｄｅｒ　Ｊｒ_18","豊後高田ＦＣ　Ｂｏｒｄｅｒ　Ｊｒ",{"$f":"(\"18\")","v":"18"},"MF","明石　敬心","アカイシ　ケンシン",6,"男子"]
["豊後高田ＦＣ　Ｂｏｒｄｅｒ　Ｊｒ_19","豊後高田ＦＣ　Ｂｏｒｄｅｒ　Ｊｒ",{"$f":"(\"19\")","v":"19"},"FW","都甲　周弥","トゴウ　シュウヤ",6,"男子"]
["豊後高田ＦＣ　Ｂｏｒｄｅｒ　Ｊｒ_21","豊後高田ＦＣ　Ｂｏｒｄｅｒ　Ｊｒ",{"$f":"(\"21\")","v":"21"},"MF","水田　暖人","ミズタ　ハルト",6,"男子","○"]
["豊後高田ＦＣ　Ｂｏｒｄｅｒ　Ｊｒ_22","豊後高田ＦＣ　Ｂｏｒｄｅｒ　Ｊｒ",{"$f":"(\"22\")","v":"22"},"DF","岩男　心羽","イワオ　シンバ",6,"男子"]
["豊後高田ＦＣ　Ｂｏｒｄｅｒ　Ｊｒ_23","豊後高田ＦＣ　Ｂｏｒｄｅｒ　Ｊｒ",{"$f":"(\"23\")","v":"23"},"MF","秋田　大和","アキタ　ヤマト",4,"男子"]
["竹田直入ＦＣ_2","竹田直入ＦＣ",{"$f":"(\"2\")","v":"2"},"DF","古瀬　士竜","コセ　シリュウ",6,"男子"]
["竹田直入ＦＣ_4","竹田直入ＦＣ",{"$f":"(\"4\")","v":"4"},"MF","山中　夏紗音","ヤマナカ　カサネ",4,"女子小学生"]
["竹田直入ＦＣ_5","竹田直入ＦＣ",{"$f":"(\"5\")","v":"5"},"MF","吉良　皓心","キラ　コウシン",5,"男子"]
["竹田直入ＦＣ_6","竹田直入ＦＣ",{"$f":"(\"6\")","v":"6"},"DF","工藤　雄輝","クドウ　ユウキ",5,"男子"]
["竹田直入ＦＣ_7","竹田直入ＦＣ",{"$f":"(\"7\")","v":"7"},"DF","坂本　輝","サカモト　テル",6,"男子","○"]
["竹田直入ＦＣ_8","竹田直入ＦＣ",{"$f":"(\"8\")","v":"8"},"MF","金田　敦暉","クドウ　アツキ",5,"男子"]
["竹田直入ＦＣ_9","竹田直入ＦＣ",{"$f":"(\"9\")","v":"9"},"DF","内川　愛梨","ウチカワ　アイリ",5,"女子小学生"]
["竹田直入ＦＣ_10","竹田直入ＦＣ",{"$f":"(\"10\")","v":"10"},"FW","後藤　侑大","ゴトウ　ユウタ",4,"男子"]
["竹田直入ＦＣ_11","竹田直入ＦＣ",{"$f":"(\"11\")","v":"11"},"FW","渡邉　春馬","ワタナベ　ハルマ",6,"男子"]
[{"$f":"CONCATENATE(B1032,\"_\",C1032)","v":"竹田直入ＦＣ_12"},"竹田直入ＦＣ",{"$f":"(\"12\")","v":"12"},"GK","菅　泰河","スガ　タイガ",5,"男子"]
["竹田直入ＦＣ_13","竹田直入ＦＣ",{"$f":"(\"13\")","v":"13"},"MF","渡邊　彩人","ワタナベ　アヤト",4,"男子"]
["竹田直入ＦＣ_14","竹田直入ＦＣ",{"$f":"(\"14\")","v":"14"},"MF","坂本　陽","サカモト　ハル",4,"男子"]
["竹田直入ＦＣ_16","竹田直入ＦＣ",{"$f":"(\"16\")","v":"16"},"MF","小林　里奈","コバヤシ　リナ",4,"女子小学生"]
["竹田直入ＦＣ_17","竹田直入ＦＣ",{"$f":"(\"17\")","v":"17"},"FW","大塚　光","オオツカ　ヒカル",4,"男子"]
["竹田直入ＦＣ_19","竹田直入ＦＣ",{"$f":"(\"19\")","v":"19"},"MF","土屋　諒悟","ツチヤ　リョウゴ",5,"男子"]
["南立石サッカースポーツ少年団_1","南立石サッカースポーツ少年団",{"$f":"(\"1\")","v":"1"},"GK","上田　一護","ウエダ　イチゴ",4,"男子"]
["南立石サッカースポーツ少年団_5","南立石サッカースポーツ少年団",{"$f":"(\"5\")","v":"5"},"DF","有村　一翔","アリムラ　カズト",4,"男子"]
["南立石サッカースポーツ少年団_6","南立石サッカースポーツ少年団",{"$f":"(\"6\")","v":"6"},"MF","ユスフゾダ　ウマルジョン","ユスフゾダ　ウマルジョン",6,"男子"]
["南立石サッカースポーツ少年団_10","南立石サッカースポーツ少年団",{"$f":"(\"10\")","v":"10"},"DF","佐藤　宗義","サトウ　ムネヨシ",5,"男子","○"]
["南立石サッカースポーツ少年団_11","南立石サッカースポーツ少年団",{"$f":"(\"11\")","v":"11"},"MF","工藤　大空","クドウ　ツバサ",4,"男子"]
["南立石サッカースポーツ少年団_13","南立石サッカースポーツ少年団",{"$f":"(\"13\")","v":"13"},"MF","後藤　大夢","ゴトウ　ヒロム",4,"男子"]
["南立石サッカースポーツ少年団_15","南立石サッカースポーツ少年団",{"$f":"(\"15\")","v":"15"},"DF","澤井　衣愛","サワイ　イチカ",4,"女子小学生"]
["南立石サッカースポーツ少年団_18","南立石サッカースポーツ少年団",{"$f":"(\"18\")","v":"18"},"FW","大久保　孝紀","オオクボ　コウキ",2,"男子"]
["南立石サッカースポーツ少年団_20","南立石サッカースポーツ少年団",{"$f":"(\"20\")","v":"20"},"MF","藤原　翔斗","フジワラ　ソラト",3,"男子"]
["南立石サッカースポーツ少年団_22","南立石サッカースポーツ少年団",{"$f":"(\"22\")","v":"22"},"FW","川瀬　晴斗","カワセ　ハルト",2,"男子"]
["南立石サッカースポーツ少年団_26","南立石サッカースポーツ少年団",{"$f":"(\"26\")","v":"26"},"MF","松浦　幸輝","マツウラ　コウキ",3,"男子"]
["南立石サッカースポーツ少年団_28","南立石サッカースポーツ少年団",{"$f":"(\"28\")","v":"28"},"DF","澤井　司聡","サワイ　ツカサ",2,"男子"]
["南立石サッカースポーツ少年団_30","南立石サッカースポーツ少年団",{"$f":"(\"30\")","v":"30"},"MF","佐藤　譲治","サトウ　ジョウジ",2,"男子"]
["南立石サッカースポーツ少年団_31","南立石サッカースポーツ少年団",{"$f":"(\"31\")","v":"31"},"DF","釘宮　旭希","クギミヤ　アサキ",2,"男子"]
["ドリームキッズフットボールクラブ_1","ドリームキッズフットボールクラブ",{"$f":"(\"1\")","v":"1"},"GK","北田　旺佑","キタダ　オオスケ",6,"男子"]
["ドリームキッズフットボールクラブ_2","ドリームキッズフットボールクラブ",{"$f":"(\"2\")","v":"2"},"DF","芦田　孝太郎","アシダ　コウタロウ",6,"男子"]
["ドリームキッズフットボールクラブ_3","ドリームキッズフットボールクラブ",{"$f":"(\"3\")","v":"3"},"DF","加藤　陽翔","カトウ　ハルト",6,"男子"]
["ドリームキッズフットボールクラブ_4","ドリームキッズフットボールクラブ",{"$f":"(\"4\")","v":"4"},"MF","阿部　源太","アベ　ゲンタ",6,"男子"]
["ドリームキッズフットボールクラブ_5","ドリームキッズフットボールクラブ",{"$f":"(\"5\")","v":"5"},"MF","菊川　翼","キクガワ　ツバサ",5,"男子"]
["ドリームキッズフットボールクラブ_6","ドリームキッズフットボールクラブ",{"$f":"(\"6\")","v":"6"},"MF","杉村　祐心","スギムラ　ユウシン",6,"男子"]
["ドリームキッズフットボールクラブ_7","ドリームキッズフットボールクラブ",{"$f":"(\"7\")","v":"7"},"FW","大久保　桧埜","オオクボ　ヒノ",6,"男子"]
["ドリームキッズフットボールクラブ_8","ドリームキッズフットボールクラブ",{"$f":"(\"8\")","v":"8"},"DF","長田　賢昇","ナガタ　ケンショウ",6,"男子"]
["ドリームキッズフットボールクラブ_9","ドリームキッズフットボールクラブ",{"$f":"(\"9\")","v":"9"},"DF","麻生　拓夢","アソウ　ヒロム",6,"男子"]
["ドリームキッズフットボールクラブ_11","ドリームキッズフットボールクラブ",{"$f":"(\"11\")","v":"11"},"MF","佐藤　嘉人","サトウ　ヒロト",6,"男子","○"]
["ドリームキッズフットボールクラブ_12","ドリームキッズフットボールクラブ",{"$f":"(\"12\")","v":"12"},"DF","佐藤　天雅","サトウ　テンガ",5,"男子"]
["ドリームキッズフットボールクラブ_13","ドリームキッズフットボールクラブ",{"$f":"(\"13\")","v":"13"},"DF","林　天音","ハヤシ　テオン",5,"男子"]
["ドリームキッズフットボールクラブ_14","ドリームキッズフットボールクラブ",{"$f":"(\"14\")","v":"14"},"MF","長野　瑛斗","ナガノ　エイト",5,"男子"]
["ドリームキッズフットボールクラブ_15","ドリームキッズフットボールクラブ",{"$f":"(\"15\")","v":"15"},"MF","亀野　佑輝","カメノ　ユウキ",5,"男子"]
["ドリームキッズフットボールクラブ_16","ドリームキッズフットボールクラブ",{"$f":"(\"16\")","v":"16"},"GK","神崎　柊斗","カンザキ　シュウト",6,"男子"]
["ドリームキッズフットボールクラブ_17","ドリームキッズフットボールクラブ",{"$f":"(\"17\")","v":"17"},"DF","阿部　京輔","アベ　キョウスケ",5,"男子"]
["ドリームキッズフットボールクラブ_18","ドリームキッズフットボールクラブ",{"$f":"(\"18\")","v":"18"},"DF","當麻　晃基","トウマ　コウキ",5,"男子"]
["ドリームキッズフットボールクラブ_20","ドリームキッズフットボールクラブ",{"$f":"(\"20\")","v":"20"},"MF","山田　心結","ヤマダ　ミユウ",6,"女子小学生"]
["東陽フットボールクラブ_1","東陽フットボールクラブ",{"$f":"(\"1\")","v":"1"},"GK","幸　大翔","ユキ　ヒロト",6,"男子","○"]
["東陽フットボールクラブ_2","東陽フットボールクラブ",{"$f":"(\"2\")","v":"2"},"DF","松尾　昊","マツオ　コウ",6,"男子"]
["東陽フットボールクラブ_3","東陽フットボールクラブ",{"$f":"(\"3\")","v":"3"},"DF","江崎　陽悠","エザキ　ハルチカ",5,"男子"]
["東陽フットボールクラブ_4","東陽フットボールクラブ",{"$f":"(\"4\")","v":"4"},"DF","丹生　昴亨","ニュウ　タカユキ",5,"男子"]
["東陽フットボールクラブ_5","東陽フットボールクラブ",{"$f":"(\"5\")","v":"5"},"DF","政村　青空","マサムラ　ソラ",5,"男子"]
["東陽フットボールクラブ_6","東陽フットボールクラブ",{"$f":"(\"6\")","v":"6"},"DF","鶴原　瑞葵","ツルハラ　ミズキ",4,"男子"]
["東陽フットボールクラブ_7","東陽フットボールクラブ",{"$f":"(\"7\")","v":"7"},"MF","松尾　翔","マツオ　ショウ",4,"男子"]
["東陽フットボールクラブ_8","東陽フットボールクラブ",{"$f":"(\"8\")","v":"8"},"MF","重住　龍真","シゲズミ　リュウマ",5,"男子"]
["東陽フットボールクラブ_9","東陽フットボールクラブ",{"$f":"(\"9\")","v":"9"},"FW","赤峰　宗佑","アカミネ　ソウスケ",5,"男子"]
["東陽フットボールクラブ_10","東陽フットボールクラブ",{"$f":"(\"10\")","v":"10"},"MF","阿部　瑞己","アベ　ミズキ",5,"男子"]
["東陽フットボールクラブ_11","東陽フットボールクラブ",{"$f":"(\"11\")","v":"11"},"FW","重住　亮真","シゲズミ　リョウマ",5,"男子"]
["東陽フットボールクラブ_14","東陽フットボールクラブ",{"$f":"(\"14\")","v":"14"},"MF","阿孫　羽南","アソン　ハナ",5,"女子小学生"]
["東陽フットボールクラブ_15","東陽フットボールクラブ",{"$f":"(\"15\")","v":"15"},"GK","牧　紫音","マキ　シオン",5,"男子"]
["ＯＫＹ山香サッカークラブ_1","ＯＫＹ山香サッカークラブ",{"$f":"(\"1\")","v":"1"},"GK","曽根崎　輝一","ソネザキ　キイチ",6,"男子"]
["ＯＫＹ山香サッカークラブ_2","ＯＫＹ山香サッカークラブ",{"$f":"(\"2\")","v":"2"},"FW","木全　柊惺","キマタ　シュウセイ",6,"男子"]
["ＯＫＹ山香サッカークラブ_3","ＯＫＹ山香サッカークラブ",{"$f":"(\"3\")","v":"3"},"FW","唐下　心唯妃","トウゲ　コユキ",6,"女子小学生"]
["ＯＫＹ山香サッカークラブ_4","ＯＫＹ山香サッカークラブ",{"$f":"(\"4\")","v":"4"},"MF","伊地知　美咲","イジチ　ミサキ",6,"女子小学生"]
["ＯＫＹ山香サッカークラブ_5","ＯＫＹ山香サッカークラブ",{"$f":"(\"5\")","v":"5"},"MF","土井　稔平朗","ドイ　ネンタロウ",6,"男子"]
["ＯＫＹ山香サッカークラブ_6","ＯＫＹ山香サッカークラブ",{"$f":"(\"6\")","v":"6"},"MF","鶴田　蓮斗","ツルタ　レント",6,"男子"]
["ＯＫＹ山香サッカークラブ_7","ＯＫＹ山香サッカークラブ",{"$f":"(\"7\")","v":"7"},"MF","伊藤　唯人","イトウ　ユイト",6,"男子"]
["ＯＫＹ山香サッカークラブ_8","ＯＫＹ山香サッカークラブ",{"$f":"(\"8\")","v":"8"},"DF","池部　絆心","イケベ　キズナ",6,"男子"]
["ＯＫＹ山香サッカークラブ_9","ＯＫＹ山香サッカークラブ",{"$f":"(\"9\")","v":"9"},"DF","廣瀬　帆斗","ヒロセ　ハント",6,"男子"]
["ＯＫＹ山香サッカークラブ_10","ＯＫＹ山香サッカークラブ",{"$f":"(\"10\")","v":"10"},"MF","岩尾　淳矢","イワオ　ジュンヤ",6,"男子","○"]
["ＯＫＹ山香サッカークラブ_11","ＯＫＹ山香サッカークラブ",{"$f":"(\"11\")","v":"11"},"FW","山本　将太郎","ヤマモト　ショウタロウ",6,"男子"]
["ＯＫＹ山香サッカークラブ_12","ＯＫＹ山香サッカークラブ",{"$f":"(\"12\")","v":"12"},"MF","仲島　れある","ナカシマ　レアル",5,"女子小学生"]
["ＯＫＹ山香サッカークラブ_13","ＯＫＹ山香サッカークラブ",{"$f":"(\"13\")","v":"13"},"MF","竹丸　哲平","タケマル　テッペイ",5,"男子"]
[{"$f":"CONCATENATE(B1096,\"_\",C1096)","v":"ＯＫＹ山香サッカークラブ_14"},"ＯＫＹ山香サッカークラブ",{"$f":"(\"14\")","v":"14"},"DF","平川　桃子","ヒラカワ　モモコ",5,"女子小学生"]
["ＯＫＹ山香サッカークラブ_15","ＯＫＹ山香サッカークラブ",{"$f":"(\"15\")","v":"15"},"DF","玉井　葉夏","タマイ　ハナ",5,"女子小学生"]
["ＯＫＹ山香サッカークラブ_16","ＯＫＹ山香サッカークラブ",{"$f":"(\"16\")","v":"16"},"GK","伊藤　拓海","イトウ　タクミ",6,"男子"]
["臼杵ＳＳＳ_1","臼杵ＳＳＳ",{"$f":"(\"1\")","v":"1"},"GK","衛藤　慶尭","エトウ　ヨシアキ",6,"男子"]
["臼杵ＳＳＳ_2","臼杵ＳＳＳ",{"$f":"(\"2\")","v":"2"},"FW","薬師寺　航矢","ヤクシジ　コウヤ",6,"男子"]
["臼杵ＳＳＳ_3","臼杵ＳＳＳ",{"$f":"(\"3\")","v":"3"},"DF","野口　真央","ノグチ　マオ",6,"男子"]
["臼杵ＳＳＳ_4","臼杵ＳＳＳ",{"$f":"(\"4\")","v":"4"},"MF","安藤　颯","アンドウ　ハヤテ",5,"男子"]
["臼杵ＳＳＳ_5","臼杵ＳＳＳ",{"$f":"(\"5\")","v":"5"},"MF","足立　真央","アダチ　マオ",6,"女子小学生"]
["臼杵ＳＳＳ_6","臼杵ＳＳＳ",{"$f":"(\"6\")","v":"6"},"MF","戸上　桐翔","トノウエ　キリト",6,"男子"]
["臼杵ＳＳＳ_7","臼杵ＳＳＳ",{"$f":"(\"7\")","v":"7"},"FW","長野　琢生","ナガノ　タクミ",6,"男子"]
["臼杵ＳＳＳ_8","臼杵ＳＳＳ",{"$f":"(\"8\")","v":"8"},"MF","衛藤　瑞輝","エトウ　ミズキ",6,"男子"]
["臼杵ＳＳＳ_9","臼杵ＳＳＳ",{"$f":"(\"9\")","v":"9"},"FW","川邊　希龍","カワベ　キリュウ",6,"男子"]
["臼杵ＳＳＳ_10","臼杵ＳＳＳ",{"$f":"(\"10\")","v":"10"},"MF","足立　美菜","アダチ　ミナ",6,"女子小学生","○"]
["臼杵ＳＳＳ_11","臼杵ＳＳＳ",{"$f":"(\"11\")","v":"11"},"DF","玉井　颯太","タマイ　ソウタ",6,"男子"]
["臼杵ＳＳＳ_12","臼杵ＳＳＳ",{"$f":"(\"12\")","v":"12"},"DF","椎原　蓮丸","シイハラ　レンマル",5,"男子"]
["臼杵ＳＳＳ_13","臼杵ＳＳＳ",{"$f":"(\"13\")","v":"13"},"MF","廣瀬　颯大","ヒロセ　ソウタ",5,"男子"]
["臼杵ＳＳＳ_14","臼杵ＳＳＳ",{"$f":"(\"14\")","v":"14"},"MF","大戸　隆成","ネギ　リュウセイ",4,"男子"]
["臼杵ＳＳＳ_15","臼杵ＳＳＳ",{"$f":"(\"15\")","v":"15"},"DF","林　悠羽","ハヤシ　ユウワ",4,"男子"]
["臼杵ＳＳＳ_16","臼杵ＳＳＳ",{"$f":"(\"16\")","v":"16"},"GK","曽我　?地","ソガ　ライチ",5,"男子"]
["挾間ＪＦＣ_1","挾間ＪＦＣ",{"$f":"(\"1\")","v":"1"},"GK","杉田　煌桜","スギタ　コオ",6,"男子","○"]
["挾間ＪＦＣ_2","挾間ＪＦＣ",{"$f":"(\"2\")","v":"2"},"MF","渡辺　晃大","ワタナベ　コウタ",4,"男子"]
["挾間ＪＦＣ_3","挾間ＪＦＣ",{"$f":"(\"3\")","v":"3"},"MF","佐藤　翔真","サトウ　ショウマ",5,"男子"]
["挾間ＪＦＣ_4","挾間ＪＦＣ",{"$f":"(\"4\")","v":"4"},"DF","佐藤　和真","サトウ　カズマ",5,"男子"]
["挾間ＪＦＣ_5","挾間ＪＦＣ",{"$f":"(\"5\")","v":"5"},"DF","石田　翼","イシダ　ツバサ",5,"男子"]
["挾間ＪＦＣ_6","挾間ＪＦＣ",{"$f":"(\"6\")","v":"6"},"MF","麻生　蓮","アソウ　レン",5,"男子"]
["挾間ＪＦＣ_7","挾間ＪＦＣ",{"$f":"(\"7\")","v":"7"},"MF","阿部　虎牙","アベ　タイガ",5,"男子"]
["挾間ＪＦＣ_8","挾間ＪＦＣ",{"$f":"(\"8\")","v":"8"},"MF","大石　陽也","オオイシ　ハルヤ",4,"男子"]
["挾間ＪＦＣ_9","挾間ＪＦＣ",{"$f":"(\"9\")","v":"9"},"FW","秋吉　玲桜叶","アキヨシ　レオト",5,"男子"]
["挾間ＪＦＣ_10","挾間ＪＦＣ",{"$f":"(\"10\")","v":"10"},"DF","日野　諒","ヒノ　リョウ",6,"男子"]
["挾間ＪＦＣ_11","挾間ＪＦＣ",{"$f":"(\"11\")","v":"11"},"MF","依田　雄翔","ヨダ　ユウショウ",5,"男子"]
["挾間ＪＦＣ_12","挾間ＪＦＣ",{"$f":"(\"12\")","v":"12"},"DF","麻生　悠","アソウ　ユウ",3,"男子"]
["挾間ＪＦＣ_13","挾間ＪＦＣ",{"$f":"(\"13\")","v":"13"},"MF","安永　蒼史","ヤスナガ　ソウシ",3,"男子"]
["挾間ＪＦＣ_17","挾間ＪＦＣ",{"$f":"(\"17\")","v":"17"},"MF","後藤　爽空朗","ゴトウ　サクロウ",5,"男子"]
["挾間ＪＦＣ_18","挾間ＪＦＣ",{"$f":"(\"18\")","v":"18"},"MF","山本　教介","ヤマモト　キョウスケ",4,"男子"]
["挾間ＪＦＣ_21","挾間ＪＦＣ",{"$f":"(\"21\")","v":"21"},"GK","山村　大地","ヤマムラ　ダイチ",4,"男子"]
["ＦＣ安岐_1","ＦＣ安岐",{"$f":"(\"1\")","v":"1"},"GK","伊賀上　陸","イガガミ　リク",4,"男子"]
["ＦＣ安岐_2","ＦＣ安岐",{"$f":"(\"2\")","v":"2"},"MF","仮屋　月雲","カリヤ　ツクモ",4,"男子"]
["ＦＣ安岐_3","ＦＣ安岐",{"$f":"(\"3\")","v":"3"},"DF","松丸　真大","マツマル　マサト",4,"男子"]
["ＦＣ安岐_4","ＦＣ安岐",{"$f":"(\"4\")","v":"4"},"FW","廣峯　咲功","ヒロミネ　サク",5,"男子"]
["ＦＣ安岐_5","ＦＣ安岐",{"$f":"(\"5\")","v":"5"},"DF","明石　琉希亜","アカシ　ルキア",5,"男子"]
["ＦＣ安岐_6","ＦＣ安岐",{"$f":"(\"6\")","v":"6"},"DF","田中　理琥","タナカ　リク",5,"男子"]
["ＦＣ安岐_7","ＦＣ安岐",{"$f":"(\"7\")","v":"7"},"DF","南　凌介","ミナミ　リョウスケ",5,"男子"]
["ＦＣ安岐_8","ＦＣ安岐",{"$f":"(\"8\")","v":"8"},"MF","小玉　湊翔","コダマ　ミナト",4,"男子"]
["ＦＣ安岐_9","ＦＣ安岐",{"$f":"(\"9\")","v":"9"},"MF","上野　紗奈","ウエノ　サナ",5,"女子小学生","○"]
["ＦＣ安岐_10","ＦＣ安岐",{"$f":"(\"10\")","v":"10"},"MF","山田　蓮次","ヤマダ　レンジ",5,"男子"]
["ＦＣ安岐_11","ＦＣ安岐",{"$f":"(\"11\")","v":"11"},"FW","峯下　快斗","ミネシタ　カイト",3,"男子"]
["ＦＣ安岐_12","ＦＣ安岐",{"$f":"(\"12\")","v":"12"},"DF","勝見　悠樹","カツミ　ユウキ",4,"男子"]
["ＦＣ安岐_13","ＦＣ安岐",{"$f":"(\"13\")","v":"13"},"FW","参　優太朗","サン　ユウタロウ",3,"男子"]
["ＦＣ安岐_16","ＦＣ安岐",{"$f":"(\"16\")","v":"16"},"GK","服部　澪央","ハットリ　レオ",4,"男子"]
["スマイス・セレソン_1","スマイス・セレソン",{"$f":"(\"1\")","v":"1"},"GK","河野　夏樹","コウノ　ナツキ",6,"男子"]
["スマイス・セレソン_2","スマイス・セレソン",{"$f":"(\"2\")","v":"2"},"MF","伊藤　廉真","イトウ　レンマ",5,"男子"]
["スマイス・セレソン_4","スマイス・セレソン",{"$f":"(\"4\")","v":"4"},"DF","小田　聖翔","オダ　マサト",6,"男子"]
["スマイス・セレソン_5","スマイス・セレソン",{"$f":"(\"5\")","v":"5"},"DF","中園　藍丸","ナカゾノ　ランマル",6,"男子"]
["スマイス・セレソン_6","スマイス・セレソン",{"$f":"(\"6\")","v":"6"},"MF","松本　快理","マツモト　カイリ",6,"男子"]
["スマイス・セレソン_7","スマイス・セレソン",{"$f":"(\"7\")","v":"7"},"MF","横田　大河","ヨコタ　タイガ",6,"男子"]
["スマイス・セレソン_8","スマイス・セレソン",{"$f":"(\"8\")","v":"8"},"MF","鎌田　航史郎","カマタ　コウシロウ",6,"男子"]
["スマイス・セレソン_9","スマイス・セレソン",{"$f":"(\"9\")","v":"9"},"FW","中園　釉丸","ナカゾノ　ユウマル",6,"男子"]
["スマイス・セレソン_10","スマイス・セレソン",{"$f":"(\"10\")","v":"10"},"FW","西野　凌太朗","ニシノ　リョウタロウ",6,"男子","○"]
["スマイス・セレソン_11","スマイス・セレソン",{"$f":"(\"11\")","v":"11"},"MF","中嶌　大喜","ナカジマ　タイキ",5,"男子"]
["スマイス・セレソン_12","スマイス・セレソン",{"$f":"(\"12\")","v":"12"},"MF","橋本　錦空","ハシモト　キング",5,"男子"]
["スマイス・セレソン_13","スマイス・セレソン",{"$f":"(\"13\")","v":"13"},"FW","都　凛太朗","ミヤコ　リンタロウ",5,"男子"]
["スマイス・セレソン_14","スマイス・セレソン",{"$f":"(\"14\")","v":"14"},"MF","市野　琉太","イチノ　リュウタ",5,"男子"]
["スマイス・セレソン_15","スマイス・セレソン",{"$f":"(\"15\")","v":"15"},"FW","下嶋　龍斗","シモジマ　リュウト",5,"男子"]
["スマイス・セレソン_16","スマイス・セレソン",{"$f":"(\"16\")","v":"16"},"GK","青山　恭輔","アオヤマ　キョウスケ",5,"男子"]
[{"$f":"CONCATENATE(B1160,\"_\",C1160)","v":"スマイス・セレソン_17"},"スマイス・セレソン",{"$f":"(\"17\")","v":"17"},"FW","工藤　義人","クドウ　ヨシト",4,"男子"]
["スマイス・セレソンＢ_2","スマイス・セレソンＢ",{"$f":"(\"2\")","v":"2"},"MF","大橋　薫","オオハシ　カオル",5,"男子"]
["スマイス・セレソンＢ_3","スマイス・セレソンＢ",{"$f":"(\"3\")","v":"3"},"MF","長野　官叫","ナガノ　カンギュ",5,"男子"]
["スマイス・セレソンＢ_4","スマイス・セレソンＢ",{"$f":"(\"4\")","v":"4"},"MF","濱野　脩翔","ハマノ　シュウト",5,"男子"]
["スマイス・セレソンＢ_5","スマイス・セレソンＢ",{"$f":"(\"5\")","v":"5"},"MF","伊東　凌","イトウ　リョウ",5,"男子"]
["スマイス・セレソンＢ_6","スマイス・セレソンＢ",{"$f":"(\"6\")","v":"6"},"FW","佐々木　琉衣","ササキ　ルイ",5,"男子"]
["スマイス・セレソンＢ_7","スマイス・セレソンＢ",{"$f":"(\"7\")","v":"7"},"MF","伊藤　翼","イトウ　ツバサ",6,"男子"]
["スマイス・セレソンＢ_8","スマイス・セレソンＢ",{"$f":"(\"8\")","v":"8"},"FW","吉良　一真","キラ　カズマ",6,"男子"]
["スマイス・セレソンＢ_9","スマイス・セレソンＢ",{"$f":"(\"9\")","v":"9"},"MF","渡邊　陸斗","ワタナベ　リクト",6,"男子"]
["スマイス・セレソンＢ_10","スマイス・セレソンＢ",{"$f":"(\"10\")","v":"10"},"MF","田中　楓晟","タナカ　フウセイ",6,"男子","○"]
["スマイス・セレソンＢ_11","スマイス・セレソンＢ",{"$f":"(\"11\")","v":"11"},"MF","佐藤　睦翔","サトウ　リクト",5,"男子"]
["スマイス・セレソンＢ_12","スマイス・セレソンＢ",{"$f":"(\"12\")","v":"12"},"DF","安波　颯人","ヤスナミ　ハヤト",5,"男子"]
["スマイス・セレソンＢ_13","スマイス・セレソンＢ",{"$f":"(\"13\")","v":"13"},"DF","矢田　孝太郎","ヤダ　コウタロウ",5,"男子"]
["スマイス・セレソンＢ_14","スマイス・セレソンＢ",{"$f":"(\"14\")","v":"14"},"MF","堤　悠晴","ツツミ　ユウセイ",5,"男子"]
["スマイス・セレソンＢ_15","スマイス・セレソンＢ",{"$f":"(\"15\")","v":"15"},"MF","吉田　侑生","ヨシダ　ユウセイ",5,"男子"]
["スマイス・セレソンＢ_16","スマイス・セレソンＢ",{"$f":"(\"16\")","v":"16"},"GK","石田　大和","イシダ　ヤマト",5,"男子"]
["カティオーラフットボールクラブＵ－１２_1","カティオーラフットボールクラブＵ－１２",{"$f":"(\"1\")","v":"1"},"GK","秋吉　逞","アキヨシ　タクマ",6,"男子"]
["カティオーラフットボールクラブＵ－１２_2","カティオーラフットボールクラブＵ－１２",{"$f":"(\"2\")","v":"2"},"DF","廣門　胡太朗","ヒロカド　コタロウ",6,"男子"]
["カティオーラフットボールクラブＵ－１２_3","カティオーラフットボールクラブＵ－１２",{"$f":"(\"3\")","v":"3"},"DF","田尻　真生","タジリ　マウ",6,"男子"]
["カティオーラフットボールクラブＵ－１２_4","カティオーラフットボールクラブＵ－１２",{"$f":"(\"4\")","v":"4"},"MF","田中　翔","タナカ　ショウ",6,"男子"]
["カティオーラフットボールクラブＵ－１２_5","カティオーラフットボールクラブＵ－１２",{"$f":"(\"5\")","v":"5"},"DF","尼崎　琉太","アマガサキ　リュウタ",6,"男子","○"]
["カティオーラフットボールクラブＵ－１２_6","カティオーラフットボールクラブＵ－１２",{"$f":"(\"6\")","v":"6"},"DF","上田　蒼真","ウエダ　ソウマ",6,"男子"]
["カティオーラフットボールクラブＵ－１２_7","カティオーラフットボールクラブＵ－１２",{"$f":"(\"7\")","v":"7"},"FW","二宮　秀太","ニノミヤ　シュウタ",6,"男子"]
["カティオーラフットボールクラブＵ－１２_8","カティオーラフットボールクラブＵ－１２",{"$f":"(\"8\")","v":"8"},"DF","石井　瑛登","イシイ　エイト",6,"男子"]
["カティオーラフットボールクラブＵ－１２_9","カティオーラフットボールクラブＵ－１２",{"$f":"(\"9\")","v":"9"},"MF","川﨑　音生","カワサキ　ネオ",6,"男子"]
["カティオーラフットボールクラブＵ－１２_10","カティオーラフットボールクラブＵ－１２",{"$f":"(\"10\")","v":"10"},"MF","矢野　圭悟","ヤノ　ケイゴ",6,"男子"]
["カティオーラフットボールクラブＵ－１２_11","カティオーラフットボールクラブＵ－１２",{"$f":"(\"11\")","v":"11"},"MF","實方　来夏","ジツカタ　ライカ",6,"男子"]
["カティオーラフットボールクラブＵ－１２_12","カティオーラフットボールクラブＵ－１２",{"$f":"(\"12\")","v":"12"},"GK","川野　佑斗","カワノ　ユウト",6,"男子"]
["カティオーラフットボールクラブＵ－１２_13","カティオーラフットボールクラブＵ－１２",{"$f":"(\"13\")","v":"13"},"FW","檜垣　寛大","ヒガキ　カンタ",6,"男子"]
["カティオーラフットボールクラブＵ－１２_14","カティオーラフットボールクラブＵ－１２",{"$f":"(\"14\")","v":"14"},"FW","阿南　徠已","アナミ　ライ",5,"男子"]
["カティオーラフットボールクラブＵ－１２_15","カティオーラフットボールクラブＵ－１２",{"$f":"(\"15\")","v":"15"},"FW","芝　虎之介","シバ　トラノスケ",5,"男子"]
["カティオーラフットボールクラブＵ－１２_16","カティオーラフットボールクラブＵ－１２",{"$f":"(\"16\")","v":"16"},"MF","隅　悠來","スミ　ユウライ",5,"男子"]
["カティオーラフットボールクラブＵ－１２　大在_1","カティオーラフットボールクラブＵ－１２　大在",{"$f":"(\"1\")","v":"1"},"GK","加茂　清家","カモ　スミヤ",6,"男子"]
["カティオーラフットボールクラブＵ－１２　大在_2","カティオーラフットボールクラブＵ－１２　大在",{"$f":"(\"2\")","v":"2"},"FW","堤　丈諒","ツツミ　タケマサ",6,"男子"]
["カティオーラフットボールクラブＵ－１２　大在_3","カティオーラフットボールクラブＵ－１２　大在",{"$f":"(\"3\")","v":"3"},"MF","梅木　翔平","ウメキ　ショウヘイ",5,"男子"]
["カティオーラフットボールクラブＵ－１２　大在_4","カティオーラフットボールクラブＵ－１２　大在",{"$f":"(\"4\")","v":"4"},"FW","飯田　航平","ハンダ　コウヘイ",6,"男子"]
["カティオーラフットボールクラブＵ－１２　大在_5","カティオーラフットボールクラブＵ－１２　大在",{"$f":"(\"5\")","v":"5"},"DF","田中　美桜","タナカ　ミオ",6,"女子小学生"]
["カティオーラフットボールクラブＵ－１２　大在_6","カティオーラフットボールクラブＵ－１２　大在",{"$f":"(\"6\")","v":"6"},"DF","浦部　悠","ウラベ　トワ",6,"男子"]
["カティオーラフットボールクラブＵ－１２　大在_7","カティオーラフットボールクラブＵ－１２　大在",{"$f":"(\"7\")","v":"7"},"MF","有田　茉央","アリタ　マオ",6,"女子小学生"]
["カティオーラフットボールクラブＵ－１２　大在_8","カティオーラフットボールクラブＵ－１２　大在",{"$f":"(\"8\")","v":"8"},"DF","内野　結心","ウチノ　ユウト",6,"男子"]
["カティオーラフットボールクラブＵ－１２　大在_9","カティオーラフットボールクラブＵ－１２　大在",{"$f":"(\"9\")","v":"9"},"FW","松岡　空","マツオカ　ソラ",6,"男子"]
["カティオーラフットボールクラブＵ－１２　大在_10","カティオーラフットボールクラブＵ－１２　大在",{"$f":"(\"10\")","v":"10"},"MF","堤　聖那","ツツミ　セナ",6,"男子"]
["カティオーラフットボールクラブＵ－１２　大在_11","カティオーラフットボールクラブＵ－１２　大在",{"$f":"(\"11\")","v":"11"},"DF","有田　悠真","アリタ　ユウマ",5,"男子"]
["カティオーラフットボールクラブＵ－１２　大在_12","カティオーラフットボールクラブＵ－１２　大在",{"$f":"(\"12\")","v":"12"},"GK","松田　智寛","マツダ　トモヒロ",6,"男子","○"]
["カティオーラフットボールクラブＵ－１２　大在_13","カティオーラフットボールクラブＵ－１２　大在",{"$f":"(\"13\")","v":"13"},"MF","西山　龍之介","ニシヤマ　リュウノスケ",3,"男子"]
["カティオーラフットボールクラブＵ－１２　松岡_1","カティオーラフットボールクラブＵ－１２　松岡",{"$f":"(\"1\")","v":"1"},"GK","佐藤　唯翔","サトウ　ユイト",6,"男子"]
["カティオーラフットボールクラブＵ－１２　松岡_2","カティオーラフットボールクラブＵ－１２　松岡",{"$f":"(\"2\")","v":"2"},"DF","御手洗　一心","ミタライ　イッシン",6,"男子"]
["カティオーラフットボールクラブＵ－１２　松岡_3","カティオーラフットボールクラブＵ－１２　松岡",{"$f":"(\"3\")","v":"3"},"FW","財津　勇輔","ザイツ　ユウスケ",6,"男子"]
["カティオーラフットボールクラブＵ－１２　松岡_4","カティオーラフットボールクラブＵ－１２　松岡",{"$f":"(\"4\")","v":"4"},"FW","戸髙　琉惺","トダカ　リュウセイ",6,"男子"]
["カティオーラフットボールクラブＵ－１２　松岡_5","カティオーラフットボールクラブＵ－１２　松岡",{"$f":"(\"5\")","v":"5"},"DF","高橋　京馬","タカハシ　キョウマ",6,"男子"]
["カティオーラフットボールクラブＵ－１２　松岡_6","カティオーラフットボールクラブＵ－１２　松岡",{"$f":"(\"6\")","v":"6"},"DF","岡村　颯太","オカムラ　ソウタ",6,"男子"]
["カティオーラフットボールクラブＵ－１２　松岡_7","カティオーラフットボールクラブＵ－１２　松岡",{"$f":"(\"7\")","v":"7"},"MF","原田　夕輝","ハラダ　ユウキ",6,"男子"]
["カティオーラフットボールクラブＵ－１２　松岡_8","カティオーラフットボールクラブＵ－１２　松岡",{"$f":"(\"8\")","v":"8"},"MF","牧　朔弥","マキ　サクヤ",6,"男子"]
["カティオーラフットボールクラブＵ－１２　松岡_9","カティオーラフットボールクラブＵ－１２　松岡",{"$f":"(\"9\")","v":"9"},"FW","平本　綾汰","ヒラモト　リョウタ",6,"男子","○"]
["カティオーラフットボールクラブＵ－１２　松岡_10","カティオーラフットボールクラブＵ－１２　松岡",{"$f":"(\"10\")","v":"10"},"DF","矢野　翔希","ヤノ　トウマ",6,"男子"]
["カティオーラフットボールクラブＵ－１２　松岡_12","カティオーラフットボールクラブＵ－１２　松岡",{"$f":"(\"12\")","v":"12"},"GK","河野　響","カワノ　ヒビキ",6,"男子"]
["カティオーラフットボールクラブＵ－１２　松岡_13","カティオーラフットボールクラブＵ－１２　松岡",{"$f":"(\"13\")","v":"13"},"MF","河野　吏玖","カワノ　リク",6,"男子"]
["カティオーラフットボールクラブＵ－１２　松岡_14","カティオーラフットボールクラブＵ－１２　松岡",{"$f":"(\"14\")","v":"14"},"DF","仲摩　瑞希","ナカマ　ミズキ",6,"男子"]
["森岡サッカースポーツ少年団_1","森岡サッカースポーツ少年団",{"$f":"(\"1\")","v":"1"},"GK","前田　凌","マエダ　リョウ",6,"男子"]
["森岡サッカースポーツ少年団_2","森岡サッカースポーツ少年団",{"$f":"(\"2\")","v":"2"},"DF","佐藤　風薫助","サトウ　フクスケ",6,"男子"]
["森岡サッカースポーツ少年団_3","森岡サッカースポーツ少年団",{"$f":"(\"3\")","v":"3"},"FW","山崎　琥大朗","ヤマサキ　コタロウ",4,"男子"]
["森岡サッカースポーツ少年団_4","森岡サッカースポーツ少年団",{"$f":"(\"4\")","v":"4"},"DF","甲斐　蓮翔","カイ　レント",6,"男子"]
["森岡サッカースポーツ少年団_5","森岡サッカースポーツ少年団",{"$f":"(\"5\")","v":"5"},"FW","高司　理公","タカツカ　リオウ",4,"男子"]
["森岡サッカースポーツ少年団_6","森岡サッカースポーツ少年団",{"$f":"(\"6\")","v":"6"},"MF","佐藤　晴生吉","サトウ　セイキチ",4,"男子"]
[{"$f":"CONCATENATE(B1224,\"_\",C1224)","v":"森岡サッカースポーツ少年団_7"},"森岡サッカースポーツ少年団",{"$f":"(\"7\")","v":"7"},"MF","上田　孝騎","ウエダ　コウキ",5,"男子"]
["森岡サッカースポーツ少年団_8","森岡サッカースポーツ少年団",{"$f":"(\"8\")","v":"8"},"MF","長岡　蒼空","ナガオカ　ソラ",4,"男子"]
["森岡サッカースポーツ少年団_9","森岡サッカースポーツ少年団",{"$f":"(\"9\")","v":"9"},"FW","角谷　春樹","カクヤ　ハルキ",4,"男子"]
["森岡サッカースポーツ少年団_10","森岡サッカースポーツ少年団",{"$f":"(\"10\")","v":"10"},"DF","野尻　大地","ノジリ　ダイチ",6,"男子","○"]
["森岡サッカースポーツ少年団_11","森岡サッカースポーツ少年団",{"$f":"(\"11\")","v":"11"},"FW","平井　蒼斗","ヒライ　アオト",4,"男子"]
["森岡サッカースポーツ少年団_12","森岡サッカースポーツ少年団",{"$f":"(\"12\")","v":"12"},"FW","長岡　聖空","ナガオカ　セイア",3,"男子"]
["森岡サッカースポーツ少年団_14","森岡サッカースポーツ少年団",{"$f":"(\"14\")","v":"14"},"FW","大城　遼真","オオキ　リョウマ",6,"男子"]
["森岡サッカースポーツ少年団_15","森岡サッカースポーツ少年団",{"$f":"(\"15\")","v":"15"},"FW","小川　瑛翔","オガワ　エイト",3,"男子"]
["由布川サッカースポーツ少年団_1","由布川サッカースポーツ少年団",{"$f":"(\"1\")","v":"1"},"GK","伊東　湊","イトウ　ミナト",6,"男子"]
["由布川サッカースポーツ少年団_2","由布川サッカースポーツ少年団",{"$f":"(\"2\")","v":"2"},"DF","山田　陽喜","ヤマダ　ハルキ",5,"男子"]
["由布川サッカースポーツ少年団_3","由布川サッカースポーツ少年団",{"$f":"(\"3\")","v":"3"},"MF","後藤　恵大","ゴトウ　ケイタ",3,"男子"]
["由布川サッカースポーツ少年団_4","由布川サッカースポーツ少年団",{"$f":"(\"4\")","v":"4"},"MF","伊地知　蒼士","イジチ　ソウシ",4,"男子"]
["由布川サッカースポーツ少年団_5","由布川サッカースポーツ少年団",{"$f":"(\"5\")","v":"5"},"MF","片山　峻吾","カタヤマ　シュンゴ",4,"男子"]
["由布川サッカースポーツ少年団_6","由布川サッカースポーツ少年団",{"$f":"(\"6\")","v":"6"},"MF","衛藤　蒼依","エトウ　アオイ",5,"女子小学生"]
["由布川サッカースポーツ少年団_7","由布川サッカースポーツ少年団",{"$f":"(\"7\")","v":"7"},"MF","上野　桜汰","ウエノ　オウタ",5,"男子"]
["由布川サッカースポーツ少年団_8","由布川サッカースポーツ少年団",{"$f":"(\"8\")","v":"8"},"MF","上野　透瑚","ウエノ　トウゴ",3,"男子"]
["由布川サッカースポーツ少年団_9","由布川サッカースポーツ少年団",{"$f":"(\"9\")","v":"9"},"MF","黒木　渚冴","クロキ　ナギサ",6,"男子","○"]
["由布川サッカースポーツ少年団_10","由布川サッカースポーツ少年団",{"$f":"(\"10\")","v":"10"},"FW","髙倉　暖基","タカクラ　ハルキ",6,"男子"]
["由布川サッカースポーツ少年団_11","由布川サッカースポーツ少年団",{"$f":"(\"11\")","v":"11"},"MF","大塚　憧希","オオツカ　ショウキ",5,"男子"]
["由布川サッカースポーツ少年団_12","由布川サッカースポーツ少年団",{"$f":"(\"12\")","v":"12"},"DF","古野　大我","フルノ　タイガ",4,"男子"]
["由布川サッカースポーツ少年団_13","由布川サッカースポーツ少年団",{"$f":"(\"13\")","v":"13"},"FW","塚﨑　琉生","ツカザキ　ルイ",3,"男子"]
["由布川サッカースポーツ少年団_14","由布川サッカースポーツ少年団",{"$f":"(\"14\")","v":"14"},"DF","鶴岡　晃汰","ツルオカ　コウタ",3,"男子"]
["由布川サッカースポーツ少年団_15","由布川サッカースポーツ少年団",{"$f":"(\"15\")","v":"15"},"DF","村中　俊太","ムラナカ　シュンタ",3,"男子"]
["由布川サッカースポーツ少年団_16","由布川サッカースポーツ少年団",{"$f":"(\"16\")","v":"16"},"GK","首藤　彰斗","シュトウ　アキト",3,"男子"]
["ＫＩＮＧＳ　ＦＯＯＴＢＡＬＬＣＬＵＢ　Ｕ－１２_1","ＫＩＮＧＳ　ＦＯＯＴＢＡＬＬＣＬＵＢ　Ｕ－１２",{"$f":"(\"1\")","v":"1"},"GK","小濱　佳太","コハマ　ケイタ",6,"男子"]
["ＫＩＮＧＳ　ＦＯＯＴＢＡＬＬＣＬＵＢ　Ｕ－１２_2","ＫＩＮＧＳ　ＦＯＯＴＢＡＬＬＣＬＵＢ　Ｕ－１２",{"$f":"(\"2\")","v":"2"},"DF","伊藤　太我","イトウ　タイガ",5,"男子"]
["ＫＩＮＧＳ　ＦＯＯＴＢＡＬＬＣＬＵＢ　Ｕ－１２_3","ＫＩＮＧＳ　ＦＯＯＴＢＡＬＬＣＬＵＢ　Ｕ－１２",{"$f":"(\"3\")","v":"3"},"MF","伏野　洸希","フシノ　コウキ",6,"男子"]
["ＫＩＮＧＳ　ＦＯＯＴＢＡＬＬＣＬＵＢ　Ｕ－１２_4","ＫＩＮＧＳ　ＦＯＯＴＢＡＬＬＣＬＵＢ　Ｕ－１２",{"$f":"(\"4\")","v":"4"},"DF","石川　遥翔","イシカワ　ハルト",6,"男子"]
["ＫＩＮＧＳ　ＦＯＯＴＢＡＬＬＣＬＵＢ　Ｕ－１２_5","ＫＩＮＧＳ　ＦＯＯＴＢＡＬＬＣＬＵＢ　Ｕ－１２",{"$f":"(\"5\")","v":"5"},"MF","亀井　慶太","カメイ　ケイタ",6,"男子"]
["ＫＩＮＧＳ　ＦＯＯＴＢＡＬＬＣＬＵＢ　Ｕ－１２_6","ＫＩＮＧＳ　ＦＯＯＴＢＡＬＬＣＬＵＢ　Ｕ－１２",{"$f":"(\"6\")","v":"6"},"DF","伊藤　虹輝","イトウ　コウキ",6,"男子"]
["ＫＩＮＧＳ　ＦＯＯＴＢＡＬＬＣＬＵＢ　Ｕ－１２_7","ＫＩＮＧＳ　ＦＯＯＴＢＡＬＬＣＬＵＢ　Ｕ－１２",{"$f":"(\"7\")","v":"7"},"FW","小野　渚","オノ　ナギサ",6,"男子"]
["ＫＩＮＧＳ　ＦＯＯＴＢＡＬＬＣＬＵＢ　Ｕ－１２_8","ＫＩＮＧＳ　ＦＯＯＴＢＡＬＬＣＬＵＢ　Ｕ－１２",{"$f":"(\"8\")","v":"8"},"MF","下瀬　龍翔","シモセ　リュウト",6,"男子"]
["ＫＩＮＧＳ　ＦＯＯＴＢＡＬＬＣＬＵＢ　Ｕ－１２_9","ＫＩＮＧＳ　ＦＯＯＴＢＡＬＬＣＬＵＢ　Ｕ－１２",{"$f":"(\"9\")","v":"9"},"FW","藤田　京佑","フジタ　キョウスケ",6,"男子"]
["ＫＩＮＧＳ　ＦＯＯＴＢＡＬＬＣＬＵＢ　Ｕ－１２_10","ＫＩＮＧＳ　ＦＯＯＴＢＡＬＬＣＬＵＢ　Ｕ－１２",{"$f":"(\"10\")","v":"10"},"MF","城　大雅","ジョウ　ハルマサ",6,"男子","○"]
["ＫＩＮＧＳ　ＦＯＯＴＢＡＬＬＣＬＵＢ　Ｕ－１２_11","ＫＩＮＧＳ　ＦＯＯＴＢＡＬＬＣＬＵＢ　Ｕ－１２",{"$f":"(\"11\")","v":"11"},"MF","萱島　一平","カヤシマ　イッペイ",6,"男子"]
["ＫＩＮＧＳ　ＦＯＯＴＢＡＬＬＣＬＵＢ　Ｕ－１２_12","ＫＩＮＧＳ　ＦＯＯＴＢＡＬＬＣＬＵＢ　Ｕ－１２",{"$f":"(\"12\")","v":"12"},"GK","児玉　陵空","コダマ　リク",5,"男子"]
["ＫＩＮＧＳ　ＦＯＯＴＢＡＬＬＣＬＵＢ　Ｕ－１２_13","ＫＩＮＧＳ　ＦＯＯＴＢＡＬＬＣＬＵＢ　Ｕ－１２",{"$f":"(\"13\")","v":"13"},"FW","上野　磨央","ウエノ　マオ",6,"男子"]
["ＫＩＮＧＳ　ＦＯＯＴＢＡＬＬＣＬＵＢ　Ｕ－１２_14","ＫＩＮＧＳ　ＦＯＯＴＢＡＬＬＣＬＵＢ　Ｕ－１２",{"$f":"(\"14\")","v":"14"},"MF","河野　悠亜","カワノ　ユウア",5,"男子"]
["ＫＩＮＧＳ　ＦＯＯＴＢＡＬＬＣＬＵＢ　Ｕ－１２_15","ＫＩＮＧＳ　ＦＯＯＴＢＡＬＬＣＬＵＢ　Ｕ－１２",{"$f":"(\"15\")","v":"15"},"MF","井上　陽太","イノウエ　ハルタ",5,"男子"]
["ＫＩＮＧＳ　ＦＯＯＴＢＡＬＬＣＬＵＢ　Ｕ－１２_16","ＫＩＮＧＳ　ＦＯＯＴＢＡＬＬＣＬＵＢ　Ｕ－１２",{"$f":"(\"16\")","v":"16"},"FW","間　隆成","ハサマ　リュウセイ",4,"男子"]
["スマイスＦＣ_1","スマイスＦＣ",{"$f":"(\"1\")","v":"1"},"GK","長友　颯汰","ナガトモ　ソウタ",6,"男子"]
["スマイスＦＣ_2","スマイスＦＣ",{"$f":"(\"2\")","v":"2"},"DF","佐藤　以織","サトウ　イオリ",6,"男子"]
["スマイスＦＣ_3","スマイスＦＣ",{"$f":"(\"3\")","v":"3"},"MF","市原　海吏","イチハラ　カイリ",6,"男子"]
["スマイスＦＣ_4","スマイスＦＣ",{"$f":"(\"4\")","v":"4"},"MF","河野　龍翔","コウノ　リュウショウ",6,"男子"]
["スマイスＦＣ_5","スマイスＦＣ",{"$f":"(\"5\")","v":"5"},"DF","吉本　陽向","ヨシモト　ヒナタ",6,"男子"]
["スマイスＦＣ_6","スマイスＦＣ",{"$f":"(\"6\")","v":"6"},"MF","荒金　奏太朗","アラカネ　ソウタロウ",6,"男子"]
["スマイスＦＣ_7","スマイスＦＣ",{"$f":"(\"7\")","v":"7"},"MF","大東　春斗","オオヒガシ　ハルト",6,"男子"]
["スマイスＦＣ_8","スマイスＦＣ",{"$f":"(\"8\")","v":"8"},"DF","山岡　遼平","ヤマオカ　リョウヘイ",6,"男子","○"]
["スマイスＦＣ_9","スマイスＦＣ",{"$f":"(\"9\")","v":"9"},"DF","工藤　煌人","クドウ　アキト",6,"男子"]
["スマイスＦＣ_10","スマイスＦＣ",{"$f":"(\"10\")","v":"10"},"FW","桑原　大河","クワハラ　タイガ",6,"男子"]
["スマイスＦＣ_11","スマイスＦＣ",{"$f":"(\"11\")","v":"11"},"FW","森永　涼太","モリナガ　リョウタ",6,"男子"]
["スマイスＦＣ_12","スマイスＦＣ",{"$f":"(\"12\")","v":"12"},"MF","大石　征澄","オオイシ　マサト",6,"男子"]
["スマイスＦＣ_13","スマイスＦＣ",{"$f":"(\"13\")","v":"13"},"MF","東川　颯真","ヒガシカワ　ソウマ",6,"男子"]
["スマイスＦＣ_14","スマイスＦＣ",{"$f":"(\"14\")","v":"14"},"MF","吉﨑　一和","ヨシザキ　ヒナノ",6,"女子小学生"]
["スマイスＦＣ_15","スマイスＦＣ",{"$f":"(\"15\")","v":"15"},"MF","野村　康晴","ノムラ　コウセイ",6,"男子"]
["スマイスＦＣ_16","スマイスＦＣ",{"$f":"(\"16\")","v":"16"},"GK","森　陽佐志","モリ　ヒサシ",6,"男子"]
["スマイスＦＣ_17","スマイスＦＣ",{"$f":"(\"17\")","v":"17"},"DF","猪原　壮史","イハラ　ソウシ",6,"男子"]
["市浜レッドソックス_1","市浜レッドソックス",{"$f":"(\"1\")","v":"1"},"GK","嶋津　色音","シマヅ　イロト",5,"男子"]
["市浜レッドソックス_2","市浜レッドソックス",{"$f":"(\"2\")","v":"2"},"DF","西村　駿佑","ニシムラ　シュンスケ",6,"男子"]
["市浜レッドソックス_3","市浜レッドソックス",{"$f":"(\"3\")","v":"3"},"FW","衛藤　祥太","エトウ　ショウタ",5,"男子"]
["市浜レッドソックス_5","市浜レッドソックス",{"$f":"(\"5\")","v":"5"},"FW","高田　琥太郎","タカダ　コタロウ",6,"男子"]
["市浜レッドソックス_6","市浜レッドソックス",{"$f":"(\"6\")","v":"6"},"MF","武生　岬","タキュウ　ミサキ",6,"男子"]
["市浜レッドソックス_7","市浜レッドソックス",{"$f":"(\"7\")","v":"7"},"DF","木村　海惺","キムラ　カイセイ",6,"男子"]
["市浜レッドソックス_8","市浜レッドソックス",{"$f":"(\"8\")","v":"8"},"DF","橘　実知","タチバナ　ミチ",6,"女子小学生"]
[{"$f":"CONCATENATE(B1288,\"_\",C1288)","v":"市浜レッドソックス_9"},"市浜レッドソックス",{"$f":"(\"9\")","v":"9"},"MF","穴見　恒輝","アナミ　コウキ",5,"男子"]
["市浜レッドソックス_10","市浜レッドソックス",{"$f":"(\"10\")","v":"10"},"MF","川野　羚準","カワノ　リヒト",6,"男子","○"]
["市浜レッドソックス_11","市浜レッドソックス",{"$f":"(\"11\")","v":"11"},"FW","梶原　康太","カジワラ　コウタ",6,"男子"]
["市浜レッドソックス_12","市浜レッドソックス",{"$f":"(\"12\")","v":"12"},"DF","五十川　蘭","イカガワ　ラン",5,"女子小学生"]
["市浜レッドソックス_13","市浜レッドソックス",{"$f":"(\"13\")","v":"13"},"MF","小倉　遙隼","オグラ　ハルト",5,"男子"]
["県央おおのＪＦＣ_1","県央おおのＪＦＣ",{"$f":"(\"1\")","v":"1"},"GK","村上　莉久","ムラカミ　リク",6,"男子"]
["県央おおのＪＦＣ_2","県央おおのＪＦＣ",{"$f":"(\"2\")","v":"2"},"DF","冨田　伊吹","トミタ　イブキ",4,"男子"]
["県央おおのＪＦＣ_3","県央おおのＪＦＣ",{"$f":"(\"3\")","v":"3"},"MF","足立　希望","アダチ　ノゾム",4,"男子"]
["県央おおのＪＦＣ_4","県央おおのＪＦＣ",{"$f":"(\"4\")","v":"4"},"DF","河辺　光央","カワベ　コオ",4,"男子"]
["県央おおのＪＦＣ_5","県央おおのＪＦＣ",{"$f":"(\"5\")","v":"5"},"DF","後藤　颯真","ゴトウ　ソウマ",6,"男子"]
["県央おおのＪＦＣ_6","県央おおのＪＦＣ",{"$f":"(\"6\")","v":"6"},"DF","丹　陸人","タン　リクト",6,"男子"]
["県央おおのＪＦＣ_7","県央おおのＪＦＣ",{"$f":"(\"7\")","v":"7"},"MF","宮成　淳也","ミヤナリ　ジュンヤ",5,"男子"]
["県央おおのＪＦＣ_8","県央おおのＪＦＣ",{"$f":"(\"8\")","v":"8"},"MF","深田　瑠唯","フカタ　ルイ",5,"女子小学生"]
["県央おおのＪＦＣ_9","県央おおのＪＦＣ",{"$f":"(\"9\")","v":"9"},"MF","宮成　一慎","ミヤナリ　カズマ",5,"男子"]
["県央おおのＪＦＣ_10","県央おおのＪＦＣ",{"$f":"(\"10\")","v":"10"},"FW","得丸　涼雅","トクマル　リョウマ",6,"男子","○"]
["県央おおのＪＦＣ_11","県央おおのＪＦＣ",{"$f":"(\"11\")","v":"11"},"MF","仲町　駿祐","ナカマチ　シュンスケ",5,"男子"]
["県央おおのＪＦＣ_14","県央おおのＪＦＣ",{"$f":"(\"14\")","v":"14"},"FW","森田　悠司","モリタ　ユウジ",3,"男子"]
["県央おおのＪＦＣ_15","県央おおのＪＦＣ",{"$f":"(\"15\")","v":"15"},"MF","小野　陽斗","オノ　ハルト",4,"男子"]
["県央おおのＪＦＣ_17","県央おおのＪＦＣ",{"$f":"(\"17\")","v":"17"},"GK","矢野　啓","ヤノ　ヒラク",4,"男子"]
["県央おおのＪＦＣ_18","県央おおのＪＦＣ",{"$f":"(\"18\")","v":"18"},"DF","小野　琢磨","オノ　タクマ",4,"男子"]
["ブルーウイングフットボールクラブ_1","ブルーウイングフットボールクラブ",{"$f":"(\"1\")","v":"1"},"GK","安部　凌真","アベ　リョウマ",6,"男子"]
["ブルーウイングフットボールクラブ_2","ブルーウイングフットボールクラブ",{"$f":"(\"2\")","v":"2"},"DF","久保　飛磨","クボ　アスマ",6,"男子"]
["ブルーウイングフットボールクラブ_3","ブルーウイングフットボールクラブ",{"$f":"(\"3\")","v":"3"},"DF","岩本　大空","イワモト　ツバサ",6,"男子"]
["ブルーウイングフットボールクラブ_4","ブルーウイングフットボールクラブ",{"$f":"(\"4\")","v":"4"},"DF","吉田　綾斗","ヨシダ　アヤト",6,"男子"]
["ブルーウイングフットボールクラブ_5","ブルーウイングフットボールクラブ",{"$f":"(\"5\")","v":"5"},"FW","常住　凛太朗","ツネズミ　リンタロウ",6,"男子"]
["ブルーウイングフットボールクラブ_6","ブルーウイングフットボールクラブ",{"$f":"(\"6\")","v":"6"},"DF","河崎　海斗","カワサキ　カイト",6,"男子"]
["ブルーウイングフットボールクラブ_7","ブルーウイングフットボールクラブ",{"$f":"(\"7\")","v":"7"},"MF","佐々木　壮太","ササキ　ソウタ",6,"男子"]
["ブルーウイングフットボールクラブ_8","ブルーウイングフットボールクラブ",{"$f":"(\"8\")","v":"8"},"MF","河野　彪駕","カワノ　ヒュウガ",5,"男子"]
["ブルーウイングフットボールクラブ_9","ブルーウイングフットボールクラブ",{"$f":"(\"9\")","v":"9"},"FW","田村　瑛人","タムラ　エイト",5,"男子"]
["ブルーウイングフットボールクラブ_10","ブルーウイングフットボールクラブ",{"$f":"(\"10\")","v":"10"},"MF","久保田　蓮","クボタ　レン",6,"男子","○"]
["ブルーウイングフットボールクラブ_11","ブルーウイングフットボールクラブ",{"$f":"(\"11\")","v":"11"},"MF","藤澤　楠","フジサワ　ダン",6,"男子"]
["ブルーウイングフットボールクラブ_12","ブルーウイングフットボールクラブ",{"$f":"(\"12\")","v":"12"},"GK","工藤　海斗","クドウ　カイト",6,"男子"]
["ブルーウイングフットボールクラブ_13","ブルーウイングフットボールクラブ",{"$f":"(\"13\")","v":"13"},"FW","加藤　悠都","カトウ　ユウト",5,"男子"]
["ブルーウイングフットボールクラブ_14","ブルーウイングフットボールクラブ",{"$f":"(\"14\")","v":"14"},"MF","中道　祐槻","ナカミチ　ユヅキ",5,"男子"]
["ブルーウイングフットボールクラブ_15","ブルーウイングフットボールクラブ",{"$f":"(\"15\")","v":"15"},"DF","渡辺　太観","ワタナベ　タイカン",5,"男子"]
["ブルーウイングフットボールクラブ_16","ブルーウイングフットボールクラブ",{"$f":"(\"16\")","v":"16"},"MF","藤野　世那","フジノ　セナ",5,"男子"]
["ブルーウイングフットボールクラブ_17","ブルーウイングフットボールクラブ",{"$f":"(\"17\")","v":"17"},"DF","伊賀　旺甫","イガ　オウスケ",5,"男子"]
["ブルーウイングフットボールクラブ_18","ブルーウイングフットボールクラブ",{"$f":"(\"18\")","v":"18"},"DF","宮本　陸光","ミヤモト　タカヒロ",5,"男子"]
["ようこくバンビーレＦＣ_1","ようこくバンビーレＦＣ",{"$f":"(\"1\")","v":"1"},"GK","中野　碧斗","ナカノ　アオト",6,"男子"]
["ようこくバンビーレＦＣ_2","ようこくバンビーレＦＣ",{"$f":"(\"2\")","v":"2"},"DF","福良　太一","フクラ　タイチ",5,"男子"]
["ようこくバンビーレＦＣ_3","ようこくバンビーレＦＣ",{"$f":"(\"3\")","v":"3"},"DF","宮下　斗真","ミヤシタ　トウマ",5,"男子"]
["ようこくバンビーレＦＣ_4","ようこくバンビーレＦＣ",{"$f":"(\"4\")","v":"4"},"MF","藤川　桃也","フジカワ　トウヤ",5,"男子"]
["ようこくバンビーレＦＣ_5","ようこくバンビーレＦＣ",{"$f":"(\"5\")","v":"5"},"DF","井戸　翔琉","イド　カケル",5,"男子"]
["ようこくバンビーレＦＣ_6","ようこくバンビーレＦＣ",{"$f":"(\"6\")","v":"6"},"MF","大本　理生","オオモト　リオ",5,"男子"]
["ようこくバンビーレＦＣ_7","ようこくバンビーレＦＣ",{"$f":"(\"7\")","v":"7"},"FW","山下　大輔","ヤマシタ　ダイスケ",5,"男子"]
["ようこくバンビーレＦＣ_8","ようこくバンビーレＦＣ",{"$f":"(\"8\")","v":"8"},"MF","河野　陽真","コウノ　ハルマ",5,"男子"]
["ようこくバンビーレＦＣ_9","ようこくバンビーレＦＣ",{"$f":"(\"9\")","v":"9"},"FW","山下　慶人","ヤマシタ　ケイト",5,"男子"]
["ようこくバンビーレＦＣ_10","ようこくバンビーレＦＣ",{"$f":"(\"10\")","v":"10"},"MF","佐藤　昊介","サトウ　コウスケ",6,"男子","○"]
["ようこくバンビーレＦＣ_11","ようこくバンビーレＦＣ",{"$f":"(\"11\")","v":"11"},"DF","佐藤　晴斗","サトウ　ハルト",5,"男子"]
["ようこくバンビーレＦＣ_12","ようこくバンビーレＦＣ",{"$f":"(\"12\")","v":"12"},"FW","松田　慶人","マツダ　ケイト",4,"男子"]
["ようこくバンビーレＦＣ_13","ようこくバンビーレＦＣ",{"$f":"(\"13\")","v":"13"},"FW","前田　陽向","マエダ　ヒナタ",3,"男子"]
["ようこくバンビーレＦＣ_14","ようこくバンビーレＦＣ",{"$f":"(\"14\")","v":"14"},"FW","大本　琉生","オオモト　ルイ",3,"男子"]
["野津ＦＣ_2","野津ＦＣ",{"$f":"(\"2\")","v":"2"},"FW","白根　知紘","シラネ　チヒロ",3,"男子"]
["野津ＦＣ_3","野津ＦＣ",{"$f":"(\"3\")","v":"3"},"MF","福西　勝哉","フクニシ　マサヤ",5,"男子"]
["野津ＦＣ_4","野津ＦＣ",{"$f":"(\"4\")","v":"4"},"MF","柴田　琉生","シバタ　ルイ",5,"男子"]
["野津ＦＣ_5","野津ＦＣ",{"$f":"(\"5\")","v":"5"},"DF","川野　宏弥","カワノ　コウヤ",6,"男子"]
["野津ＦＣ_6","野津ＦＣ",{"$f":"(\"6\")","v":"6"},"MF","神野　隼羽","カミノ　トワ",5,"男子"]
["野津ＦＣ_7","野津ＦＣ",{"$f":"(\"7\")","v":"7"},"MF","長野　汰我","ナガノ　タイガ",6,"男子","○"]
["野津ＦＣ_8","野津ＦＣ",{"$f":"(\"8\")","v":"8"},"MF","吉良　大和","キラ　ヤマト",6,"男子"]
["野津ＦＣ_9","野津ＦＣ",{"$f":"(\"9\")","v":"9"},"DF","高松　禾生","タカマツ　カイ",6,"男子"]
["野津ＦＣ_11","野津ＦＣ",{"$f":"(\"11\")","v":"11"},"MF","川野　晃汰","カワノ　コウタ",5,"男子"]
["野津ＦＣ_13","野津ＦＣ",{"$f":"(\"13\")","v":"13"},"DF","岡部　安莉","オカベ　アンリ",3,"男子"]
["野津ＦＣ_14","野津ＦＣ",{"$f":"(\"14\")","v":"14"},"MF","吉良　咲耶","キラ　サクヤ",3,"男子"]
["野津ＦＣ_17","野津ＦＣ",{"$f":"(\"17\")","v":"17"},"FW","植田　琉生","ウエダ　ルイ",3,"男子"]
[{"$f":"CONCATENATE(B1352,\"_\",C1352)","v":"野津ＦＣ_21"},"野津ＦＣ",{"$f":"(\"21\")","v":"21"},"GK","流　大智","ミズユキ　ダイチ",3,"男子"]
["城東サッカースポーツ少年団_1","城東サッカースポーツ少年団",{"$f":"(\"1\")","v":"1"},"GK","河邊　太地","カワベ　タイチ",6,"男子"]
["城東サッカースポーツ少年団_2","城東サッカースポーツ少年団",{"$f":"(\"2\")","v":"2"},"DF","重石　陽向","シゲイシ　ヒナタ",6,"男子"]
["城東サッカースポーツ少年団_3","城東サッカースポーツ少年団",{"$f":"(\"3\")","v":"3"},"DF","下村　奏太","シモムラ　ソウタ",6,"男子"]
["城東サッカースポーツ少年団_4","城東サッカースポーツ少年団",{"$f":"(\"4\")","v":"4"},"DF","黒木　隆成","クロキ　リュウセイ",6,"男子"]
["城東サッカースポーツ少年団_5","城東サッカースポーツ少年団",{"$f":"(\"5\")","v":"5"},"MF","平野　丈仁","ヒラノ　タケト",6,"男子"]
["城東サッカースポーツ少年団_6","城東サッカースポーツ少年団",{"$f":"(\"6\")","v":"6"},"FW","兼子　拓人","カネコ　タクト",5,"男子"]
["城東サッカースポーツ少年団_7","城東サッカースポーツ少年団",{"$f":"(\"7\")","v":"7"},"MF","高瀬　悠太","タカセ　ユウタ",6,"男子","○"]
["城東サッカースポーツ少年団_8","城東サッカースポーツ少年団",{"$f":"(\"8\")","v":"8"},"MF","谷口　斗哉","タニグチ　トウヤ",5,"男子"]
["城東サッカースポーツ少年団_9","城東サッカースポーツ少年団",{"$f":"(\"9\")","v":"9"},"MF","柿添　主水","カキゾエ　モンド",6,"男子"]
["城東サッカースポーツ少年団_10","城東サッカースポーツ少年団",{"$f":"(\"10\")","v":"10"},"FW","佐藤　菜沙","サトウ　ナズナ",5,"女子小学生"]
["城東サッカースポーツ少年団_12","城東サッカースポーツ少年団",{"$f":"(\"12\")","v":"12"},"FW","下村　悠太","シモムラ　ユウタ",3,"男子"]
["城東サッカースポーツ少年団_14","城東サッカースポーツ少年団",{"$f":"(\"14\")","v":"14"},"FW","市ノ瀬　新","イチノセ　アラタ",3,"男子"]
["ヴェルスパ大分　Ｕ－１２_1","ヴェルスパ大分　Ｕ－１２",{"$f":"(\"1\")","v":"1"},"GK","大野　遥生","オオノ　ハルキ",5,"男子"]
["ヴェルスパ大分　Ｕ－１２_2","ヴェルスパ大分　Ｕ－１２",{"$f":"(\"2\")","v":"2"},"DF","宮川　泰晴","ミヤカワ　タイセイ",5,"男子"]
["ヴェルスパ大分　Ｕ－１２_3","ヴェルスパ大分　Ｕ－１２",{"$f":"(\"3\")","v":"3"},"FW","遠藤　太雅","エンドウ　タイガ",5,"男子"]
["ヴェルスパ大分　Ｕ－１２_4","ヴェルスパ大分　Ｕ－１２",{"$f":"(\"4\")","v":"4"},"MF","日下　宗大","クサカ　ソウマ",6,"男子"]
["ヴェルスパ大分　Ｕ－１２_5","ヴェルスパ大分　Ｕ－１２",{"$f":"(\"5\")","v":"5"},"MF","石井　瑛登","イシイ　エイト",5,"男子"]
["ヴェルスパ大分　Ｕ－１２_6","ヴェルスパ大分　Ｕ－１２",{"$f":"(\"6\")","v":"6"},"FW","松垣　蒼空","マツガキ　ソラ",5,"男子"]
["ヴェルスパ大分　Ｕ－１２_7","ヴェルスパ大分　Ｕ－１２",{"$f":"(\"7\")","v":"7"},"DF","本城　梛翔","ホンジョウ　ナギト",5,"男子"]
["ヴェルスパ大分　Ｕ－１２_8","ヴェルスパ大分　Ｕ－１２",{"$f":"(\"8\")","v":"8"},"FW","足立　匠海","アダチ　タクミ",6,"男子","○"]
["ヴェルスパ大分　Ｕ－１２_9","ヴェルスパ大分　Ｕ－１２",{"$f":"(\"9\")","v":"9"},"FW","衞藤　蒼羽","エトウ　ソウワ",6,"男子"]
["ヴェルスパ大分　Ｕ－１２_10","ヴェルスパ大分　Ｕ－１２",{"$f":"(\"10\")","v":"10"},"MF","百田　晃太朗","ヒャクダ　コウタロウ",6,"男子"]
["ヴェルスパ大分　Ｕ－１２_11","ヴェルスパ大分　Ｕ－１２",{"$f":"(\"11\")","v":"11"},"MF","幸　洋太","ユキ　ヨウタ",6,"男子"]
["ヴェルスパ大分　Ｕ－１２_12","ヴェルスパ大分　Ｕ－１２",{"$f":"(\"12\")","v":"12"},"DF","湯浅　聡","ユアサ　サトル",5,"男子"]
["ヴェルスパ大分　Ｕ－１２_13","ヴェルスパ大分　Ｕ－１２",{"$f":"(\"13\")","v":"13"},"DF","桑山　廣大","クワヤマ　コウタ",5,"男子"]
["ヴェルスパ大分　Ｕ－１２_14","ヴェルスパ大分　Ｕ－１２",{"$f":"(\"14\")","v":"14"},"FW","大庭　圭人","オオバ　ケイト",5,"男子"]
["ヴェルスパ大分　Ｕ－１２_15","ヴェルスパ大分　Ｕ－１２",{"$f":"(\"15\")","v":"15"},"MF","小山　誠人","コヤマ　マコト",5,"男子"]
["ヴェルスパ大分　Ｕ－１２_16","ヴェルスパ大分　Ｕ－１２",{"$f":"(\"16\")","v":"16"},"MF","首藤　煌人","シュトウ　キラト",5,"男子"]
["ＦＣ　ＲＥＧＡＴＥ_1","ＦＣ　ＲＥＧＡＴＥ",{"$f":"(\"1\")","v":"1"},"GK","志賀　優弥","シガ　ユウヤ",6,"男子"]
["ＦＣ　ＲＥＧＡＴＥ_2","ＦＣ　ＲＥＧＡＴＥ",{"$f":"(\"2\")","v":"2"},"DF","工藤　蓮大","クドウ　レンタ",5,"男子"]
["ＦＣ　ＲＥＧＡＴＥ_3","ＦＣ　ＲＥＧＡＴＥ",{"$f":"(\"3\")","v":"3"},"DF","長田　花琳","ナガタ　カリン",6,"女子小学生"]
["ＦＣ　ＲＥＧＡＴＥ_4","ＦＣ　ＲＥＧＡＴＥ",{"$f":"(\"4\")","v":"4"},"DF","藤川　成","フジカワ　ナル",5,"男子"]
["ＦＣ　ＲＥＧＡＴＥ_5","ＦＣ　ＲＥＧＡＴＥ",{"$f":"(\"5\")","v":"5"},"DF","後藤　快瑠","ゴトウ　カイル",5,"男子"]
["ＦＣ　ＲＥＧＡＴＥ_6","ＦＣ　ＲＥＧＡＴＥ",{"$f":"(\"6\")","v":"6"},"MF","米田　壮志","ヨネダ　ソウシ",4,"男子"]
["ＦＣ　ＲＥＧＡＴＥ_7","ＦＣ　ＲＥＧＡＴＥ",{"$f":"(\"7\")","v":"7"},"FW","杉山　由采","スギヤマ　ユイト",6,"男子"]
["ＦＣ　ＲＥＧＡＴＥ_8","ＦＣ　ＲＥＧＡＴＥ",{"$f":"(\"8\")","v":"8"},"MF","池田　瀧矢","イケダ　ソウシ",5,"男子"]
["ＦＣ　ＲＥＧＡＴＥ_9","ＦＣ　ＲＥＧＡＴＥ",{"$f":"(\"9\")","v":"9"},"FW","黒川　薫月","クロカワ　タツキ",5,"男子"]
["ＦＣ　ＲＥＧＡＴＥ_10","ＦＣ　ＲＥＧＡＴＥ",{"$f":"(\"10\")","v":"10"},"DF","塩手　晴仁","シオテ　ハルヒト",6,"男子","○"]
["ＦＣ　ＲＥＧＡＴＥ_11","ＦＣ　ＲＥＧＡＴＥ",{"$f":"(\"11\")","v":"11"},"FW","佐藤　稜真","サトウ　リョウマ",5,"男子"]
["ＦＣ　ＲＥＧＡＴＥ_12","ＦＣ　ＲＥＧＡＴＥ",{"$f":"(\"12\")","v":"12"},"DF","三木　柊歩","ミキ　シュウト",4,"男子"]
["ＦＣ　ＲＥＧＡＴＥ_13","ＦＣ　ＲＥＧＡＴＥ",{"$f":"(\"13\")","v":"13"},"DF","堺　彩実","サカイ　アヤミ",4,"女子小学生"]
["ＦＣ　ＲＥＧＡＴＥ_14","ＦＣ　ＲＥＧＡＴＥ",{"$f":"(\"14\")","v":"14"},"DF","長田　莉旺","ナガタ　リオ",4,"男子"]
["ＦＣ　ＲＥＧＡＴＥ_15","ＦＣ　ＲＥＧＡＴＥ",{"$f":"(\"15\")","v":"15"},"DF","河野　春叶","カワノ　ハルト",4,"男子"]
["ＦＣ　ＲＥＧＡＴＥ_20","ＦＣ　ＲＥＧＡＴＥ",{"$f":"(\"20\")","v":"20"},"GK","柳井　侑也","ヤナイ　ユウヤ",5,"男子"]
["大分トリニータタートルズ_1","大分トリニータタートルズ",{"$f":"(\"1\")","v":"1"},"GK","江藤　陽樹","エトウ　ハルキ",6,"男子"]
["大分トリニータタートルズ_2","大分トリニータタートルズ",{"$f":"(\"2\")","v":"2"},"FW","三宮　直人","サンノミヤ　ナオト",5,"男子"]
["大分トリニータタートルズ_3","大分トリニータタートルズ",{"$f":"(\"3\")","v":"3"},"MF","藤野　和馬","フジノ　カズマ",5,"男子"]
["大分トリニータタートルズ_4","大分トリニータタートルズ",{"$f":"(\"4\")","v":"4"},"MF","野村　琉翔","ノムラ　リュウト",6,"男子"]
["大分トリニータタートルズ_5","大分トリニータタートルズ",{"$f":"(\"5\")","v":"5"},"FW","荒巻　乃得","アラマキ　ノエル",6,"男子"]
["大分トリニータタートルズ_6","大分トリニータタートルズ",{"$f":"(\"6\")","v":"6"},"MF","後藤　璃杏","ゴトウ　リアン",6,"男子"]
["大分トリニータタートルズ_7","大分トリニータタートルズ",{"$f":"(\"7\")","v":"7"},"DF","伊﨑　玄","イザキ　シズカ",6,"男子"]
["大分トリニータタートルズ_8","大分トリニータタートルズ",{"$f":"(\"8\")","v":"8"},"FW","村上　駿斗","ムラカミ　ハヤト",6,"男子"]
["大分トリニータタートルズ_9","大分トリニータタートルズ",{"$f":"(\"9\")","v":"9"},"MF","本室　碧聖","モトムロ　リクト",6,"男子"]
["大分トリニータタートルズ_10","大分トリニータタートルズ",{"$f":"(\"10\")","v":"10"},"DF","石川　悠月","イシカワ　ユヅキ",6,"男子","○"]
["大分トリニータタートルズ_11","大分トリニータタートルズ",{"$f":"(\"11\")","v":"11"},"MF","楢田　悠人","ナラダ　ハルト",6,"男子"]
["大分トリニータタートルズ_12","大分トリニータタートルズ",{"$f":"(\"12\")","v":"12"},"DF","小松　俊介","コマツ　シュンスケ",5,"男子"]
["大分トリニータタートルズ_13","大分トリニータタートルズ",{"$f":"(\"13\")","v":"13"},"MF","藤本　英太郎","フジモト　エイタロウ",5,"男子"]
["大分トリニータタートルズ_14","大分トリニータタートルズ",{"$f":"(\"14\")","v":"14"},"MF","矢野　壮太郎","ヤノ　ソウタロウ",5,"男子"]
["大分トリニータタートルズ_15","大分トリニータタートルズ",{"$f":"(\"15\")","v":"15"},"DF","麻生　凱斗","アソウ　カイト",5,"男子"]
["大分トリニータタートルズ_16","大分トリニータタートルズ",{"$f":"(\"16\")","v":"16"},"GK","野上　泰雅","ノガミ　タイガ",5,"男子"]
["大分トリニータタートルズ_17","大分トリニータタートルズ",{"$f":"(\"17\")","v":"17"},"FW","谷川　颯太","タニガワ　ソウタ",5,"男子"]
["大分トリニータタートルズ_18","大分トリニータタートルズ",{"$f":"(\"18\")","v":"18"},"DF","大原　瑠斗","オオハラ　リュウト",5,"男子"]
["鶴崎ＳＳＳ_1","鶴崎ＳＳＳ",{"$f":"(\"1\")","v":"1"},"GK","竹永　涼夢","タケナガ　リム",6,"男子"]
[{"$f":"CONCATENATE(B1416,\"_\",C1416)","v":"鶴崎ＳＳＳ_2"},"鶴崎ＳＳＳ",{"$f":"(\"2\")","v":"2"},"DF","宇田　悠也","ウダ　ハルヤ",6,"男子"]
["鶴崎ＳＳＳ_3","鶴崎ＳＳＳ",{"$f":"(\"3\")","v":"3"},"DF","阿部　想士朗","アベ　ソウシロウ",6,"男子"]
["鶴崎ＳＳＳ_4","鶴崎ＳＳＳ",{"$f":"(\"4\")","v":"4"},"FW","廣田　惺我","ヒロタ　セイガ",6,"男子"]
["鶴崎ＳＳＳ_5","鶴崎ＳＳＳ",{"$f":"(\"5\")","v":"5"},"DF","石田　玲凰","イシダ　レオ",4,"男子"]
["鶴崎ＳＳＳ_6","鶴崎ＳＳＳ",{"$f":"(\"6\")","v":"6"},"FW","河合　奏風","カアイ　カナタ",5,"男子"]
["鶴崎ＳＳＳ_7","鶴崎ＳＳＳ",{"$f":"(\"7\")","v":"7"},"MF","木村　颯克","キムラ　ソウカツ",6,"男子"]
["鶴崎ＳＳＳ_8","鶴崎ＳＳＳ",{"$f":"(\"8\")","v":"8"},"FW","幸　大斗","ユキ　ダイト",5,"男子"]
["鶴崎ＳＳＳ_9","鶴崎ＳＳＳ",{"$f":"(\"9\")","v":"9"},"DF","後藤　大輝","ゴトウ　ダイキ",5,"男子"]
["鶴崎ＳＳＳ_10","鶴崎ＳＳＳ",{"$f":"(\"10\")","v":"10"},"MF","岩﨑　尚叶","イワサキ　ナオト",6,"男子","○"]
["鶴崎ＳＳＳ_11","鶴崎ＳＳＳ",{"$f":"(\"11\")","v":"11"},"MF","山﨑　発","ヤマサキ　ハツ",6,"男子"]
["鶴崎ＳＳＳ_12","鶴崎ＳＳＳ",{"$f":"(\"12\")","v":"12"},"FW","高岡　聖生","タカオカ　イブキ",4,"男子"]
["鶴崎ＳＳＳ_16","鶴崎ＳＳＳ",{"$f":"(\"16\")","v":"16"},"GK","田村　知樹","タムラ　トモキ",5,"男子"]
["ティエラフットボールクラブＵ－１２_1","ティエラフットボールクラブＵ－１２",{"$f":"(\"1\")","v":"1"},"GK","小野　颯翔","オノ　ハヤト",6,"男子","○"]
["ティエラフットボールクラブＵ－１２_2","ティエラフットボールクラブＵ－１２",{"$f":"(\"2\")","v":"2"},"DF","小川　泰知","オガワ　タイチ",6,"男子"]
["ティエラフットボールクラブＵ－１２_3","ティエラフットボールクラブＵ－１２",{"$f":"(\"3\")","v":"3"},"MF","中園　啓吾","ナカゾノ　ケイゴ",6,"男子"]
["ティエラフットボールクラブＵ－１２_4","ティエラフットボールクラブＵ－１２",{"$f":"(\"4\")","v":"4"},"DF","髙根　壮市郎","タカネ　ソウイチロウ",6,"男子"]
["ティエラフットボールクラブＵ－１２_5","ティエラフットボールクラブＵ－１２",{"$f":"(\"5\")","v":"5"},"DF","佐藤　律煌","サトウ　リズキ",6,"男子"]
["ティエラフットボールクラブＵ－１２_6","ティエラフットボールクラブＵ－１２",{"$f":"(\"6\")","v":"6"},"MF","西耒路　隼也","サイライジ　シュンヤ",5,"男子"]
["ティエラフットボールクラブＵ－１２_7","ティエラフットボールクラブＵ－１２",{"$f":"(\"7\")","v":"7"},"MF","岸　遼太郎","キシ　リョウタロウ",6,"男子"]
["ティエラフットボールクラブＵ－１２_8","ティエラフットボールクラブＵ－１２",{"$f":"(\"8\")","v":"8"},"FW","日高　佑晴","ヒダカ　ユウセイ",4,"男子"]
["ティエラフットボールクラブＵ－１２_9","ティエラフットボールクラブＵ－１２",{"$f":"(\"9\")","v":"9"},"MF","里脇　絆","サトワキ　キズナ",4,"男子"]
["ティエラフットボールクラブＵ－１２_10","ティエラフットボールクラブＵ－１２",{"$f":"(\"10\")","v":"10"},"MF","筧　漣二","カケイ　レンジ",6,"男子"]
["ティエラフットボールクラブＵ－１２_11","ティエラフットボールクラブＵ－１２",{"$f":"(\"11\")","v":"11"},"MF","溝口　想空","ミゾグチ　ソラ",6,"男子"]
["ティエラフットボールクラブＵ－１２_12","ティエラフットボールクラブＵ－１２",{"$f":"(\"12\")","v":"12"},"FW","谷口　蒼旺","タニグチ　アオ",6,"男子"]
["ティエラフットボールクラブＵ－１２_13","ティエラフットボールクラブＵ－１２",{"$f":"(\"13\")","v":"13"},"FW","西川　晴南","ニシカワ　セナ",6,"男子"]
["ティエラフットボールクラブＵ－１２_14","ティエラフットボールクラブＵ－１２",{"$f":"(\"14\")","v":"14"},"FW","瀬戸　夢人","セト　ユメト",4,"男子"]
["ティエラフットボールクラブＵ－１２_15","ティエラフットボールクラブＵ－１２",{"$f":"(\"15\")","v":"15"},"DF","小川　真拓","オガワ　マサヒロ",4,"男子"]
["ティエラフットボールクラブＵ－１２_17","ティエラフットボールクラブＵ－１２",{"$f":"(\"17\")","v":"17"},"MF","谷口　水音","タニグチ　ミナト",4,"男子"]
["スマイス日出_1","スマイス日出",{"$f":"(\"1\")","v":"1"},"GK","村井　倫伯","ムライ　トモノリ",6,"男子"]
["スマイス日出_2","スマイス日出",{"$f":"(\"2\")","v":"2"},"DF","佐藤　結希","サトウ　ユウキ",6,"男子"]
["スマイス日出_3","スマイス日出",{"$f":"(\"3\")","v":"3"},"MF","大石　玲恩","オオイシ　レオン",6,"男子"]
["スマイス日出_4","スマイス日出",{"$f":"(\"4\")","v":"4"},"MF","岩尾　康佑","イワオ　コウスケ",6,"男子"]
["スマイス日出_5","スマイス日出",{"$f":"(\"5\")","v":"5"},"DF","阿部　颯太","アベ　ソウタ",5,"男子"]
["スマイス日出_6","スマイス日出",{"$f":"(\"6\")","v":"6"},"MF","和田　衛青","ワダ　エイセイ",6,"男子"]
["スマイス日出_7","スマイス日出",{"$f":"(\"7\")","v":"7"},"DF","秦　友起","ハタ　ユウキ",5,"男子"]
["スマイス日出_8","スマイス日出",{"$f":"(\"8\")","v":"8"},"MF","藤井　晴斗","フジイ　ハルト",5,"男子"]
["スマイス日出_9","スマイス日出",{"$f":"(\"9\")","v":"9"},"FW","佐藤　寛太","サトウ　カンタ",5,"男子"]
["スマイス日出_10","スマイス日出",{"$f":"(\"10\")","v":"10"},"DF","岩尾　健佑","イワオ　ケンスケ",6,"男子","○"]
["スマイス日出_11","スマイス日出",{"$f":"(\"11\")","v":"11"},"FW","重松　裕人","シゲマツ　ユウト",5,"男子"]
["スマイス日出_12","スマイス日出",{"$f":"(\"12\")","v":"12"},"FW","大村　星和","オオムラ　セナ",5,"男子"]
["スマイス日出_13","スマイス日出",{"$f":"(\"13\")","v":"13"},"FW","清水　煌太","シミズ　コウタ",5,"男子"]
["スマイス日出_14","スマイス日出",{"$f":"(\"14\")","v":"14"},"MF","吉岡　大悟","ヨシオカ　ダイゴ",5,"男子"]
["スマイス日出_16","スマイス日出",{"$f":"(\"16\")","v":"16"},"GK","堀　健琉","ホリ　タケル",5,"男子"]
["ＦＣ　ＵＮＩＴＥ_1","ＦＣ　ＵＮＩＴＥ",{"$f":"(\"1\")","v":"1"},"GK","磯田　葵","イソダ　アオイ",5,"男子"]
["ＦＣ　ＵＮＩＴＥ_3","ＦＣ　ＵＮＩＴＥ",{"$f":"(\"3\")","v":"3"},"DF","加藤　茉梨百","カトウ　マリモ",4,"女子小学生"]
["ＦＣ　ＵＮＩＴＥ_4","ＦＣ　ＵＮＩＴＥ",{"$f":"(\"4\")","v":"4"},"DF","石見　絆騎","イシミ　ツナキ",5,"男子"]
["ＦＣ　ＵＮＩＴＥ_5","ＦＣ　ＵＮＩＴＥ",{"$f":"(\"5\")","v":"5"},"DF","時枝　依吹","トキエダ　イブキ",5,"男子"]
["ＦＣ　ＵＮＩＴＥ_6","ＦＣ　ＵＮＩＴＥ",{"$f":"(\"6\")","v":"6"},"MF","中島　大雅","ナカシマ　タイガ",5,"男子"]
["ＦＣ　ＵＮＩＴＥ_7","ＦＣ　ＵＮＩＴＥ",{"$f":"(\"7\")","v":"7"},"MF","末弘　俊晶","スエヒロ　トシアキ",5,"男子"]
["ＦＣ　ＵＮＩＴＥ_8","ＦＣ　ＵＮＩＴＥ",{"$f":"(\"8\")","v":"8"},"MF","橋本　陽馬","ハシモト　ハルマ",5,"男子"]
["ＦＣ　ＵＮＩＴＥ_9","ＦＣ　ＵＮＩＴＥ",{"$f":"(\"9\")","v":"9"},"FW","時枝　愛斗","トキエダ　アイト",6,"男子","○"]
["ＦＣ　ＵＮＩＴＥ_10","ＦＣ　ＵＮＩＴＥ",{"$f":"(\"10\")","v":"10"},"MF","酒井　一真","サカイ　カズマ",6,"男子"]
["ＦＣ　ＵＮＩＴＥ_11","ＦＣ　ＵＮＩＴＥ",{"$f":"(\"11\")","v":"11"},"MF","石見　魁音","イシミ　カイト",6,"男子"]
["ＦＣ　ＵＮＩＴＥ_12","ＦＣ　ＵＮＩＴＥ",{"$f":"(\"12\")","v":"12"},"GK","稲葉　悠貴","イナバ　ユウキ",4,"男子"]
["ＦＣ　ＵＮＩＴＥ_13","ＦＣ　ＵＮＩＴＥ",{"$f":"(\"13\")","v":"13"},"FW","中島　桜雅","ナカシマ　オウガ",3,"男子"]
["ＦＣ　ＵＮＩＴＥ_14","ＦＣ　ＵＮＩＴＥ",{"$f":"(\"14\")","v":"14"},"DF","中島　達成","ナカシマ　タツナリ",3,"男子"]
["太陽スポーツクラブ大分西_1","太陽スポーツクラブ大分西",{"$f":"(\"1\")","v":"1"},"GK","中島　光稀","ナカシマ　ミツキ",6,"男子","○"]
["太陽スポーツクラブ大分西_3","太陽スポーツクラブ大分西",{"$f":"(\"3\")","v":"3"},"DF","髙橋　宗悟","タカハシ　ソウゴ",6,"男子"]
["太陽スポーツクラブ大分西_4","太陽スポーツクラブ大分西",{"$f":"(\"4\")","v":"4"},"DF","森山　琉貴","モリヤマ　リュウキ",6,"男子"]
["太陽スポーツクラブ大分西_5","太陽スポーツクラブ大分西",{"$f":"(\"5\")","v":"5"},"DF","熊谷　碧","クマガエ　リク",6,"男子"]
["太陽スポーツクラブ大分西_6","太陽スポーツクラブ大分西",{"$f":"(\"6\")","v":"6"},"DF","徳丸　朱里","トクマル　シュリ",6,"男子"]
["太陽スポーツクラブ大分西_7","太陽スポーツクラブ大分西",{"$f":"(\"7\")","v":"7"},"MF","立花　彪琉","タチバナ　タケル",6,"男子"]
["太陽スポーツクラブ大分西_8","太陽スポーツクラブ大分西",{"$f":"(\"8\")","v":"8"},"FW","伊藤　凛人","イトウ　リント",5,"男子"]
["太陽スポーツクラブ大分西_10","太陽スポーツクラブ大分西",{"$f":"(\"10\")","v":"10"},"FW","坂本　空禅","サカモト　クウゼン",6,"男子"]
[{"$f":"CONCATENATE(B1480,\"_\",C1480)","v":"太陽スポーツクラブ大分西_13"},"太陽スポーツクラブ大分西",{"$f":"(\"13\")","v":"13"},"MF","堀田　徠亜","ホリタ　ライア",5,"男子"]
["太陽スポーツクラブ大分西_14","太陽スポーツクラブ大分西",{"$f":"(\"14\")","v":"14"},"MF","古野　巧人","フルノ　タクト",6,"男子"]
["太陽スポーツクラブ大分西_15","太陽スポーツクラブ大分西",{"$f":"(\"15\")","v":"15"},"FW","黒木　陸叶","クロキ　リクト",5,"男子"]
["太陽スポーツクラブ大分西_16","太陽スポーツクラブ大分西",{"$f":"(\"16\")","v":"16"},"GK","菅原　凛空","スガハラ　リク",6,"男子"]
["太陽スポーツクラブ大分西_17","太陽スポーツクラブ大分西",{"$f":"(\"17\")","v":"17"},"DF","金子　将大","カネコ　ショウタ",5,"男子"]
["太陽スポーツクラブ大分西_18","太陽スポーツクラブ大分西",{"$f":"(\"18\")","v":"18"},"GK","山本　涼介","ヤマモト　リョウスケ",4,"男子"]
["太陽スポーツクラブ大分西_19","太陽スポーツクラブ大分西",{"$f":"(\"19\")","v":"19"},"MF","坂本　悠虎","サカモト　ハルト",5,"男子"]
["太陽スポーツクラブ大分西_20","太陽スポーツクラブ大分西",{"$f":"(\"20\")","v":"20"},"FW","中尾　栄都","ナカオ　ハルト",4,"男子"]
["太陽スポーツクラブ大分西_21","太陽スポーツクラブ大分西",{"$f":"(\"21\")","v":"21"},"DF","石谷　柚太郎","イシタニ　ユウタロウ",5,"男子"]
["太陽スポーツクラブ大分西_22","太陽スポーツクラブ大分西",{"$f":"(\"22\")","v":"22"},"DF","大道　琉生","オオミチ　リュウセイ",5,"男子"]
["横瀬西ＦＣ．ＲｏｓａＣｌａｒｏ_1","横瀬西ＦＣ．ＲｏｓａＣｌａｒｏ",{"$f":"(\"1\")","v":"1"},"GK","吉良　真翔","キラ　マナト",4,"男子"]
["横瀬西ＦＣ．ＲｏｓａＣｌａｒｏ_2","横瀬西ＦＣ．ＲｏｓａＣｌａｒｏ",{"$f":"(\"2\")","v":"2"},"DF","徳重　宗太","トクシゲ　ソウタ",5,"男子"]
["横瀬西ＦＣ．ＲｏｓａＣｌａｒｏ_3","横瀬西ＦＣ．ＲｏｓａＣｌａｒｏ",{"$f":"(\"3\")","v":"3"},"FW","後藤　依知花","ゴトウ　イチカ",3,"女子小学生"]
["横瀬西ＦＣ．ＲｏｓａＣｌａｒｏ_4","横瀬西ＦＣ．ＲｏｓａＣｌａｒｏ",{"$f":"(\"4\")","v":"4"},"DF","荻本　琉煌","オギモト　リオン",5,"男子"]
["横瀬西ＦＣ．ＲｏｓａＣｌａｒｏ_5","横瀬西ＦＣ．ＲｏｓａＣｌａｒｏ",{"$f":"(\"5\")","v":"5"},"MF","松村　夢生","マツムラ　メイ",6,"女子小学生"]
["横瀬西ＦＣ．ＲｏｓａＣｌａｒｏ_6","横瀬西ＦＣ．ＲｏｓａＣｌａｒｏ",{"$f":"(\"6\")","v":"6"},"DF","吉良　緋由莉","キラ　ヒヨリ",6,"女子小学生"]
["横瀬西ＦＣ．ＲｏｓａＣｌａｒｏ_7","横瀬西ＦＣ．ＲｏｓａＣｌａｒｏ",{"$f":"(\"7\")","v":"7"},"FW","田部　葵空","タナベ　キラ",6,"男子"]
["横瀬西ＦＣ．ＲｏｓａＣｌａｒｏ_8","横瀬西ＦＣ．ＲｏｓａＣｌａｒｏ",{"$f":"(\"8\")","v":"8"},"MF","森崎　聖菜","モリサキ　セイナ",4,"女子小学生"]
["横瀬西ＦＣ．ＲｏｓａＣｌａｒｏ_9","横瀬西ＦＣ．ＲｏｓａＣｌａｒｏ",{"$f":"(\"9\")","v":"9"},"DF","吉田　悠馬","ヨシダ　ユウマ",6,"男子"]
["横瀬西ＦＣ．ＲｏｓａＣｌａｒｏ_10","横瀬西ＦＣ．ＲｏｓａＣｌａｒｏ",{"$f":"(\"10\")","v":"10"},"MF","小田巻　獅童","オダマキ　シドウ",6,"男子","○"]
["横瀬西ＦＣ．ＲｏｓａＣｌａｒｏ_11","横瀬西ＦＣ．ＲｏｓａＣｌａｒｏ",{"$f":"(\"11\")","v":"11"},"DF","後藤　舜太","ゴトウ　シュンタ",5,"男子"]
["横瀬西ＦＣ．ＲｏｓａＣｌａｒｏ_12","横瀬西ＦＣ．ＲｏｓａＣｌａｒｏ",{"$f":"(\"12\")","v":"12"},"FW","小石　宗太郎","コイシ　ソウタロウ",5,"男子"]
["横瀬西ＦＣ．ＲｏｓａＣｌａｒｏ_13","横瀬西ＦＣ．ＲｏｓａＣｌａｒｏ",{"$f":"(\"13\")","v":"13"},"FW","伊藤　舜狼","イトウ　シュンラン",4,"男子"]
["横瀬西ＦＣ．ＲｏｓａＣｌａｒｏ_14","横瀬西ＦＣ．ＲｏｓａＣｌａｒｏ",{"$f":"(\"14\")","v":"14"},"MF","後藤　謙太","ゴトウ　ケンタ",4,"男子"]
["横瀬西ＦＣ．ＲｏｓａＣｌａｒｏ_15","横瀬西ＦＣ．ＲｏｓａＣｌａｒｏ",{"$f":"(\"15\")","v":"15"},"GK","河野　晃也","カワノ　テルヤ",5,"男子"]
["横瀬西ＦＣ．ＲｏｓａＣｌａｒｏ_16","横瀬西ＦＣ．ＲｏｓａＣｌａｒｏ",{"$f":"(\"16\")","v":"16"},"FW","佐藤　翔","サトウ　カケル",5,"男子"]
["Ｍ．Ｓ．Ｓ_1","Ｍ．Ｓ．Ｓ",{"$f":"(\"1\")","v":"1"},"GK","牧野　透青","マキノ　トア",6,"男子"]
["Ｍ．Ｓ．Ｓ_4","Ｍ．Ｓ．Ｓ",{"$f":"(\"4\")","v":"4"},"DF","大住　皐貴","オオスミ　コウキ",6,"男子","○"]
["Ｍ．Ｓ．Ｓ_6","Ｍ．Ｓ．Ｓ",{"$f":"(\"6\")","v":"6"},"DF","堀　愛歩","ホリ　マナブ",6,"男子"]
["Ｍ．Ｓ．Ｓ_7","Ｍ．Ｓ．Ｓ",{"$f":"(\"7\")","v":"7"},"MF","末廣　虎太郎","スエヒロ　コタロウ",5,"男子"]
["Ｍ．Ｓ．Ｓ_8","Ｍ．Ｓ．Ｓ",{"$f":"(\"8\")","v":"8"},"MF","河野　蒼祐","カワノ　ソウスケ",4,"男子"]
["Ｍ．Ｓ．Ｓ_9","Ｍ．Ｓ．Ｓ",{"$f":"(\"9\")","v":"9"},"FW","大住　拓真","オオスミ　タクマ",5,"男子"]
["Ｍ．Ｓ．Ｓ_10","Ｍ．Ｓ．Ｓ",{"$f":"(\"10\")","v":"10"},"MF","葛城　蓮","カツラギ　レン",6,"男子"]
["Ｍ．Ｓ．Ｓ_11","Ｍ．Ｓ．Ｓ",{"$f":"(\"11\")","v":"11"},"FW","河村　日那汰","カワムラ　ヒナタ",6,"男子"]
["Ｍ．Ｓ．Ｓ_12","Ｍ．Ｓ．Ｓ",{"$f":"(\"12\")","v":"12"},"DF","坂本　航大","サカモト　コウタ",5,"男子"]
["Ｍ．Ｓ．Ｓ_13","Ｍ．Ｓ．Ｓ",{"$f":"(\"13\")","v":"13"},"DF","兼田　毅竜","カネダ　キリュウ",5,"男子"]
["Ｍ．Ｓ．Ｓ_16","Ｍ．Ｓ．Ｓ",{"$f":"(\"16\")","v":"16"},"GK","上野　壮琉","ウエノ　タケル",5,"男子"]
["Ｍ．Ｓ．Ｓ_17","Ｍ．Ｓ．Ｓ",{"$f":"(\"17\")","v":"17"},"DF","河野　真幸","コウノ　サネユキ",5,"男子"]
["豊川サッカークラブ_1","豊川サッカークラブ",{"$f":"(\"1\")","v":"1"},"GK","井ノ口　新","イノクチ　アラタ",5,"男子"]
["豊川サッカークラブ_2","豊川サッカークラブ",{"$f":"(\"2\")","v":"2"},"DF","岩男　蘭","イワオ　ラン",5,"女子小学生"]
["豊川サッカークラブ_3","豊川サッカークラブ",{"$f":"(\"3\")","v":"3"},"MF","松原　璃央","マツバラ　リオ",5,"男子"]
["豊川サッカークラブ_4","豊川サッカークラブ",{"$f":"(\"4\")","v":"4"},"MF","中原　晴生","ナカハラ　ハルキ",3,"男子"]
["豊川サッカークラブ_5","豊川サッカークラブ",{"$f":"(\"5\")","v":"5"},"FW","井ノ口　菫","イノクチ　スミレ",3,"女子小学生"]
["豊川サッカークラブ_6","豊川サッカークラブ",{"$f":"(\"6\")","v":"6"},"FW","岡部　聖来","オカベ　セラ",2,"男子"]
["豊川サッカークラブ_7","豊川サッカークラブ",{"$f":"(\"7\")","v":"7"},"MF","坂本　凪希","サカモト　ナギ",6,"男子"]
["豊川サッカークラブ_8","豊川サッカークラブ",{"$f":"(\"8\")","v":"8"},"DF","井ノ口　遥","イノクチ　ハルカ",6,"女子小学生"]
["豊川サッカークラブ_10","豊川サッカークラブ",{"$f":"(\"10\")","v":"10"},"DF","庄部　瑛洸","ショウブ　エイコウ",6,"男子","○"]
["リノスフットボールクラブ　Ｕ－１２_13","リノスフットボールクラブ　Ｕ－１２",{"$f":"(\"13\")","v":"13"},"GK","桃田　偉吹","モモタ　イブキ",6,"男子","○"]
["リノスフットボールクラブ　Ｕ－１２_20","リノスフットボールクラブ　Ｕ－１２",{"$f":"(\"20\")","v":"20"},"FW","藤田　直斗","フジタ　ナオト",5,"男子"]
["リノスフットボールクラブ　Ｕ－１２_23","リノスフットボールクラブ　Ｕ－１２",{"$f":"(\"23\")","v":"23"},"DF","上田　佳汰","ウエダ　ケイタ",6,"男子"]
["リノスフットボールクラブ　Ｕ－１２_26","リノスフットボールクラブ　Ｕ－１２",{"$f":"(\"26\")","v":"26"},"DF","三浦　健","ミウラ　タケル",4,"男子"]
["リノスフットボールクラブ　Ｕ－１２_29","リノスフットボールクラブ　Ｕ－１２",{"$f":"(\"29\")","v":"29"},"GK","家股　麟太郎","ヤマタ　リンタロウ",5,"男子"]
["リノスフットボールクラブ　Ｕ－１２_35","リノスフットボールクラブ　Ｕ－１２",{"$f":"(\"35\")","v":"35"},"DF","小泉　杏奈","コイズミ　アンナ",5,"女子小学生"]
["リノスフットボールクラブ　Ｕ－１２_37","リノスフットボールクラブ　Ｕ－１２",{"$f":"(\"37\")","v":"37"},"MF","菅　晃太朗","カン　コウタロウ",6,"男子"]
["リノスフットボールクラブ　Ｕ－１２_39","リノスフットボールクラブ　Ｕ－１２",{"$f":"(\"39\")","v":"39"},"DF","赤石　昂輝","アカイシ　コウキ",4,"男子"]
["リノスフットボールクラブ　Ｕ－１２_40","リノスフットボールクラブ　Ｕ－１２",{"$f":"(\"40\")","v":"40"},"MF","春田　喜介","ハルタ　キスケ",6,"男子"]
["リノスフットボールクラブ　Ｕ－１２_42","リノスフットボールクラブ　Ｕ－１２",{"$f":"(\"42\")","v":"42"},"DF","酒井　彩海","サカイ　アヤト",5,"男子"]
["リノスフットボールクラブ　Ｕ－１２_43","リノスフットボールクラブ　Ｕ－１２",{"$f":"(\"43\")","v":"43"},"FW","大賀　颯良","オオガ　ソラ",5,"男子"]
["リノスフットボールクラブ　Ｕ－１２_45","リノスフットボールクラブ　Ｕ－１２",{"$f":"(\"45\")","v":"45"},"MF","川端　翼惺","カワバタ　エルト",5,"男子"]
["リノスフットボールクラブ　Ｕ－１２_49","リノスフットボールクラブ　Ｕ－１２",{"$f":"(\"49\")","v":"49"},"MF","吉村　菜花","ヨシムラ　ナノハ",6,"女子小学生"]
["リノスフットボールクラブ　Ｕ－１２_55","リノスフットボールクラブ　Ｕ－１２",{"$f":"(\"55\")","v":"55"},"FW","山下　和輝","ヤマシタ　カズキ",6,"男子"]
["リノスフットボールクラブ　Ｕ－１２_56","リノスフットボールクラブ　Ｕ－１２",{"$f":"(\"56\")","v":"56"},"FW","大久保　翔太朗","オオクボ　ショウタロウ",5,"男子"]
["リノスフットボールクラブ　Ｕ－１２_57","リノスフットボールクラブ　Ｕ－１２",{"$f":"(\"57\")","v":"57"},"DF","稙田　瑛汰","ワサダ　エイタ",6,"男子"]
["リノスフットボールクラブ　Ｕ－１２_58","リノスフットボールクラブ　Ｕ－１２",{"$f":"(\"58\")","v":"58"},"DF","赤石　拓翔","アカイシ　タクト",6,"男子"]
[{"$f":"CONCATENATE(B1544,\"_\",C1544)","v":"リノスフットボールクラブ　Ｕ－１２_60"},"リノスフットボールクラブ　Ｕ－１２",{"$f":"(\"60\")","v":"60"},"MF","都築　宗佑","ツヅキ　ソウスケ",6,"男子"]
["朝日ＦＣ_1","朝日ＦＣ",{"$f":"(\"1\")","v":"1"},"GK","安部　湧貴","アベ　ユウキ",5,"男子"]
["朝日ＦＣ_2","朝日ＦＣ",{"$f":"(\"2\")","v":"2"},"MF","窪　紗幸","クボ　サユキ",5,"女子小学生"]
["朝日ＦＣ_4","朝日ＦＣ",{"$f":"(\"4\")","v":"4"},"MF","勘崎　心愛","カンザキ　ココミ",6,"女子小学生"]
["朝日ＦＣ_6","朝日ＦＣ",{"$f":"(\"6\")","v":"6"},"MF","丸山　芽惟","マルヤマ　メイ",6,"男子"]
["朝日ＦＣ_7","朝日ＦＣ",{"$f":"(\"7\")","v":"7"},"MF","加藤　慎吾","カトウ　シンゴ",6,"男子"]
["朝日ＦＣ_8","朝日ＦＣ",{"$f":"(\"8\")","v":"8"},"FW","北林　凛成","キタバヤシ　リンセイ",5,"男子"]
["朝日ＦＣ_9","朝日ＦＣ",{"$f":"(\"9\")","v":"9"},"MF","安波　進之介","ヤスナミ　シンノスケ",4,"男子"]
["朝日ＦＣ_10","朝日ＦＣ",{"$f":"(\"10\")","v":"10"},"FW","吉水　蒼真","ヨシミズ　ソウマ",6,"男子","○"]
["朝日ＦＣ_11","朝日ＦＣ",{"$f":"(\"11\")","v":"11"},"MF","徳丸　心音","トクマル　ココネ",6,"女子小学生"]
["朝日ＦＣ_12","朝日ＦＣ",{"$f":"(\"12\")","v":"12"},"DF","鈴木　奏志","スズキ　ソウシ",5,"男子"]
["朝日ＦＣ_15","朝日ＦＣ",{"$f":"(\"15\")","v":"15"},"DF","内田　翔貴","ウチダ　ショウキ",5,"男子"]
["スマイス　セレソン　スポーツクラブ_1","スマイス　セレソン　スポーツクラブ",{"$f":"(\"1\")","v":"1"},"GK","西川　理希","ニシカワ　リキ",6,"男子"]
["スマイス　セレソン　スポーツクラブ_2","スマイス　セレソン　スポーツクラブ",{"$f":"(\"2\")","v":"2"},"DF","大石　楓太","オオイシ　フウタ",5,"男子"]
["スマイス　セレソン　スポーツクラブ_3","スマイス　セレソン　スポーツクラブ",{"$f":"(\"3\")","v":"3"},"DF","福島　愛司","フクシマ　アイジ",6,"男子"]
["スマイス　セレソン　スポーツクラブ_4","スマイス　セレソン　スポーツクラブ",{"$f":"(\"4\")","v":"4"},"DF","清原　裕翔","キヨハラ　ユウト",6,"男子"]
["スマイス　セレソン　スポーツクラブ_5","スマイス　セレソン　スポーツクラブ",{"$f":"(\"5\")","v":"5"},"DF","長野　泰人","ナガノ　ヤスト",6,"男子"]
["スマイス　セレソン　スポーツクラブ_6","スマイス　セレソン　スポーツクラブ",{"$f":"(\"6\")","v":"6"},"DF","藤田　晃己","フジタ　コウキ",6,"男子"]
["スマイス　セレソン　スポーツクラブ_7","スマイス　セレソン　スポーツクラブ",{"$f":"(\"7\")","v":"7"},"MF","後藤　友星","ゴトウ　ユウセイ",6,"男子"]
["スマイス　セレソン　スポーツクラブ_8","スマイス　セレソン　スポーツクラブ",{"$f":"(\"8\")","v":"8"},"MF","武田　有冴","タケダ　ユウゴ",6,"男子"]
["スマイス　セレソン　スポーツクラブ_9","スマイス　セレソン　スポーツクラブ",{"$f":"(\"9\")","v":"9"},"FW","三ヶ尻　圭吾","ミカジリ　ケイゴ",6,"男子"]
["スマイス　セレソン　スポーツクラブ_10","スマイス　セレソン　スポーツクラブ",{"$f":"(\"10\")","v":"10"},"MF","小林　風翔","コバヤシ　フウト",6,"男子","○"]
["スマイス　セレソン　スポーツクラブ_11","スマイス　セレソン　スポーツクラブ",{"$f":"(\"11\")","v":"11"},"FW","古屋　昌洋","コヤ　マサヒロ",6,"男子"]
["スマイス　セレソン　スポーツクラブ_12","スマイス　セレソン　スポーツクラブ",{"$f":"(\"12\")","v":"12"},"DF","佐藤　大樹","サトウ　ダイキ",6,"男子"]
["スマイス　セレソン　スポーツクラブ_13","スマイス　セレソン　スポーツクラブ",{"$f":"(\"13\")","v":"13"},"MF","簀戸　一颯","スト　イッサ",6,"男子"]
["スマイス　セレソン　スポーツクラブ_14","スマイス　セレソン　スポーツクラブ",{"$f":"(\"14\")","v":"14"},"MF","河野　凌大","コウノ　リョウタ",6,"男子"]
["スマイス　セレソン　スポーツクラブ_15","スマイス　セレソン　スポーツクラブ",{"$f":"(\"15\")","v":"15"},"FW","米村　洸音","ヨネムラ　ヒロト",6,"男子"]
["スマイス　セレソン　スポーツクラブ_16","スマイス　セレソン　スポーツクラブ",{"$f":"(\"16\")","v":"16"},"GK","青松　蒼空","アオマツ　ソラ",5,"男子"]
["スマイス　セレソン　スポーツクラブ_17","スマイス　セレソン　スポーツクラブ",{"$f":"(\"17\")","v":"17"},"FW","嶋村　堪太","シマムラ　カンタ",5,"男子"]
["ＦＣ　ＪＵＮＩＯＲＳ_1","ＦＣ　ＪＵＮＩＯＲＳ",{"$f":"(\"1\")","v":"1"},"GK","今石　旺甫","イマイシ　オウスケ",5,"男子"]
["ＦＣ　ＪＵＮＩＯＲＳ_2","ＦＣ　ＪＵＮＩＯＲＳ",{"$f":"(\"2\")","v":"2"},"DF","北崎　優輝斗","キタザキ　ユキト",5,"男子"]
["ＦＣ　ＪＵＮＩＯＲＳ_3","ＦＣ　ＪＵＮＩＯＲＳ",{"$f":"(\"3\")","v":"3"},"DF","中野　琉星","ナカノ　ルイ",5,"男子"]
["ＦＣ　ＪＵＮＩＯＲＳ_4","ＦＣ　ＪＵＮＩＯＲＳ",{"$f":"(\"4\")","v":"4"},"DF","江藤　侑也","エトウ　ユウヤ",5,"男子"]
["ＦＣ　ＪＵＮＩＯＲＳ_5","ＦＣ　ＪＵＮＩＯＲＳ",{"$f":"(\"5\")","v":"5"},"FW","古原　大夢","コハラ　ダイヤ",6,"男子"]
["ＦＣ　ＪＵＮＩＯＲＳ_6","ＦＣ　ＪＵＮＩＯＲＳ",{"$f":"(\"6\")","v":"6"},"FW","曽我　彪雅","ソガ　ヒュウガ",6,"男子"]
["ＦＣ　ＪＵＮＩＯＲＳ_7","ＦＣ　ＪＵＮＩＯＲＳ",{"$f":"(\"7\")","v":"7"},"DF","森　大翔","モリ　ダイト",6,"男子","○"]
["ＦＣ　ＪＵＮＩＯＲＳ_8","ＦＣ　ＪＵＮＩＯＲＳ",{"$f":"(\"8\")","v":"8"},"MF","小川　蒼心","オガワ　ソウシン",6,"男子"]
["ＦＣ　ＪＵＮＩＯＲＳ_9","ＦＣ　ＪＵＮＩＯＲＳ",{"$f":"(\"9\")","v":"9"},"MF","濱田　空","ハマダ　ソラ",5,"男子"]
["ＦＣ　ＪＵＮＩＯＲＳ_10","ＦＣ　ＪＵＮＩＯＲＳ",{"$f":"(\"10\")","v":"10"},"MF","弓場　颯","ユバ　ハヤテ",6,"男子"]
["ＦＣ　ＪＵＮＩＯＲＳ_11","ＦＣ　ＪＵＮＩＯＲＳ",{"$f":"(\"11\")","v":"11"},"FW","中野　蒼空","ナカノ　ソラ",5,"男子"]
["ＦＣ　ＪＵＮＩＯＲＳ_13","ＦＣ　ＪＵＮＩＯＲＳ",{"$f":"(\"13\")","v":"13"},"MF","小手川　優真","コテガワ　ユウマ",5,"男子"]
["ＦＣ　ＪＵＮＩＯＲＳ_17","ＦＣ　ＪＵＮＩＯＲＳ",{"$f":"(\"17\")","v":"17"},"GK","尾造　刻土","オゾウ　コクト",6,"男子"]
["ＦＣ中津ジュニア_1","ＦＣ中津ジュニア",{"$f":"(\"1\")","v":"1"},"GK","吉良　翼","キラ　タスク",6,"男子"]
["ＦＣ中津ジュニア_2","ＦＣ中津ジュニア",{"$f":"(\"2\")","v":"2"},"DF","吉田　遼司","ヨシダ　リョウジ",6,"男子"]
["ＦＣ中津ジュニア_3","ＦＣ中津ジュニア",{"$f":"(\"3\")","v":"3"},"FW","森　裕聖","モリ　ユウセイ",6,"男子"]
["ＦＣ中津ジュニア_4","ＦＣ中津ジュニア",{"$f":"(\"4\")","v":"4"},"DF","矢治　晴朗","ヤジ　セイア",6,"男子"]
["ＦＣ中津ジュニア_5","ＦＣ中津ジュニア",{"$f":"(\"5\")","v":"5"},"DF","加々見　凪","カガミ　ナギ",6,"男子"]
["ＦＣ中津ジュニア_6","ＦＣ中津ジュニア",{"$f":"(\"6\")","v":"6"},"MF","小倉　玲央","オグラ　レオ",6,"男子"]
["ＦＣ中津ジュニア_7","ＦＣ中津ジュニア",{"$f":"(\"7\")","v":"7"},"FW","園　将翔","ソノ　マサト",6,"男子"]
["ＦＣ中津ジュニア_8","ＦＣ中津ジュニア",{"$f":"(\"8\")","v":"8"},"MF","東　蒼太","ヒガシ　ソウタ",6,"男子"]
["ＦＣ中津ジュニア_9","ＦＣ中津ジュニア",{"$f":"(\"9\")","v":"9"},"FW","矢治　圭移都","ヤジ　ケイト",6,"男子"]
["ＦＣ中津ジュニア_10","ＦＣ中津ジュニア",{"$f":"(\"10\")","v":"10"},"FW","小幡　愛翔","オバタ　アイト",6,"男子","○"]
["ＦＣ中津ジュニア_11","ＦＣ中津ジュニア",{"$f":"(\"11\")","v":"11"},"MF","柳井田　駿","ヤナイダ　シュン",6,"男子"]
["ＦＣ中津ジュニア_12","ＦＣ中津ジュニア",{"$f":"(\"12\")","v":"12"},"GK","末元　兼太","スエモト　ケンタ",6,"男子"]
["ＦＣ中津ジュニア_13","ＦＣ中津ジュニア",{"$f":"(\"13\")","v":"13"},"FW","鈴木田　卓門","スズキダ　タカト",6,"男子"]
["ＦＣ中津ジュニア_14","ＦＣ中津ジュニア",{"$f":"(\"14\")","v":"14"},"MF","島津　大河","シマヅ　タイガ",5,"男子"]
["ＦＣ中津ジュニア_15","ＦＣ中津ジュニア",{"$f":"(\"15\")","v":"15"},"DF","久保　瑠唯斗","クボ　ルイト",5,"男子"]
["ＦＣ中津ジュニア_16","ＦＣ中津ジュニア",{"$f":"(\"16\")","v":"16"},"MF","久保　結唯斗","クボ　ユイト",5,"男子"]
["ＦＣ中津ジュニア_17","ＦＣ中津ジュニア",{"$f":"(\"17\")","v":"17"},"DF","上田　倫太郎","ウエダ　リンタロウ",5,"男子"]
["ＦＣリーベル_1","ＦＣリーベル",{"$f":"(\"1\")","v":"1"},"GK","山田　恵生","ヤマダ　ケイセイ",6,"男子"]
["ＦＣリーベル_2","ＦＣリーベル",{"$f":"(\"2\")","v":"2"},"DF","仮屋園　和空","カリヤゾノ　ワク",4,"男子"]
["ＦＣリーベル_3","ＦＣリーベル",{"$f":"(\"3\")","v":"3"},"FW","田中　千聖","タナカ　チサト",4,"女子小学生"]
["ＦＣリーベル_5","ＦＣリーベル",{"$f":"(\"5\")","v":"5"},"MF","明石　凌芽","アカシ　リョウガ",4,"男子"]
["ＦＣリーベル_6","ＦＣリーベル",{"$f":"(\"6\")","v":"6"},"MF","朝光　愛絆","アサミツ　アズナ",3,"女子小学生"]
[{"$f":"CONCATENATE(B1608,\"_\",C1608)","v":"ＦＣリーベル_7"},"ＦＣリーベル",{"$f":"(\"7\")","v":"7"},"MF","山崎　ノア","ヤマザキ　ノア",4,"男子"]
["ＦＣリーベル_8","ＦＣリーベル",{"$f":"(\"8\")","v":"8"},"DF","仙道　涼太","センドウ　リョウタ",6,"男子"]
["ＦＣリーベル_9","ＦＣリーベル",{"$f":"(\"9\")","v":"9"},"DF","島田　幹斗","シマダ　ミキト",5,"男子"]
["ＦＣリーベル_10","ＦＣリーベル",{"$f":"(\"10\")","v":"10"},"MF","入沢　真生","イリサワ　マオ",6,"男子"]
["ＦＣリーベル_11","ＦＣリーベル",{"$f":"(\"11\")","v":"11"},"DF","平野　蓮斗","ヒラノ　レント",6,"男子","○"]
["ＦＣリーベル_12","ＦＣリーベル",{"$f":"(\"12\")","v":"12"},"GK","植山　颯太","ウエヤマ　ソウタ",4,"男子"]
["ＦＣリーベル_13","ＦＣリーベル",{"$f":"(\"13\")","v":"13"},"MF","園田　龍斗","ソノダ　リュウト",4,"男子"]
["ＦＣリーベル_14","ＦＣリーベル",{"$f":"(\"14\")","v":"14"},"MF","三股　虎聖","ミマタ　コウセイ",5,"男子"]
["ＦＣリーベル_15","ＦＣリーベル",{"$f":"(\"15\")","v":"15"},"MF","西邑　聖愛","ニシムラ　セイア",3,"男子"]
["ＦＣリーベル_16","ＦＣリーベル",{"$f":"(\"16\")","v":"16"},"FW","園田　湊斗","ソノダ　ミナト",2,"男子"]
["如水ジュニアサッカークラブ_1","如水ジュニアサッカークラブ",{"$f":"(\"1\")","v":"1"},"GK","中村　海渡","ナカムラ　カイト",6,"男子"]
["如水ジュニアサッカークラブ_2","如水ジュニアサッカークラブ",{"$f":"(\"2\")","v":"2"},"FW","大新田　大輝","オオシンデン　ダイキ",4,"男子"]
["如水ジュニアサッカークラブ_3","如水ジュニアサッカークラブ",{"$f":"(\"3\")","v":"3"},"FW","一木　玲来","イチギ　レイラ",6,"女子小学生"]
["如水ジュニアサッカークラブ_4","如水ジュニアサッカークラブ",{"$f":"(\"4\")","v":"4"},"MF","木城　來覇","キシロ　ライハ",5,"男子"]
["如水ジュニアサッカークラブ_5","如水ジュニアサッカークラブ",{"$f":"(\"5\")","v":"5"},"DF","平　隆綺","タイラ　リュウキ",6,"男子"]
["如水ジュニアサッカークラブ_6","如水ジュニアサッカークラブ",{"$f":"(\"6\")","v":"6"},"MF","黒土　挨吾","クロツチ　アイゴ",5,"男子"]
["如水ジュニアサッカークラブ_7","如水ジュニアサッカークラブ",{"$f":"(\"7\")","v":"7"},"FW","有川　莉巧","アリカワ　リク",6,"男子"]
["如水ジュニアサッカークラブ_8","如水ジュニアサッカークラブ",{"$f":"(\"8\")","v":"8"},"MF","田脇　佑真","タワキ　ユウマ",6,"男子"]
["如水ジュニアサッカークラブ_9","如水ジュニアサッカークラブ",{"$f":"(\"9\")","v":"9"},"FW","小川　裕聖","オガワ　ユウセイ",4,"男子"]
["如水ジュニアサッカークラブ_10","如水ジュニアサッカークラブ",{"$f":"(\"10\")","v":"10"},"DF","河津　天翔","カワヅ　タカト",6,"男子","○"]
["如水ジュニアサッカークラブ_11","如水ジュニアサッカークラブ",{"$f":"(\"11\")","v":"11"},"DF","椎橋　世凪","シイバシ　セナ",4,"男子"]
["如水ジュニアサッカークラブ_12","如水ジュニアサッカークラブ",{"$f":"(\"12\")","v":"12"},"GK","佐藤　翔","サトウ　カケル",4,"男子"]
["如水ジュニアサッカークラブ_13","如水ジュニアサッカークラブ",{"$f":"(\"13\")","v":"13"},"DF","河津　夏樹","カワヅ　ナツキ",4,"男子"]
["如水ジュニアサッカークラブ_14","如水ジュニアサッカークラブ",{"$f":"(\"14\")","v":"14"},"DF","北村　優","キタムラ　ヒロ",5,"男子"]
["如水ジュニアサッカークラブ_15","如水ジュニアサッカークラブ",{"$f":"(\"15\")","v":"15"},"DF","石田　怜士","イシダ　レイジ",4,"男子"]
["如水ジュニアサッカークラブ_16","如水ジュニアサッカークラブ",{"$f":"(\"16\")","v":"16"},"DF","稲積　健太","イナヅミ　ケンタ",4,"男子"]
["如水ジュニアサッカークラブ_17","如水ジュニアサッカークラブ",{"$f":"(\"17\")","v":"17"},"DF","庄部　銀造","ショウブ　ギンゾウ",4,"男子"]
["如水ジュニアサッカークラブ_18","如水ジュニアサッカークラブ",{"$f":"(\"18\")","v":"18"},"MF","屋敷　健将","ヤシキ　ケンショウ",5,"男子"]
["ａｎｉｍｏｓｅｌｅｃｔ　ｆｏｏｔｂａｌｌ　ｃｌｕｂ　Ｕ－１２_4","ａｎｉｍｏｓｅｌｅｃｔ　ｆｏｏｔｂａｌｌ　ｃｌｕｂ　Ｕ－１２",{"$f":"(\"4\")","v":"4"},"MF","吉原　和希","ヨシハラ　カズキ",4,"男子"]
["ａｎｉｍｏｓｅｌｅｃｔ　ｆｏｏｔｂａｌｌ　ｃｌｕｂ　Ｕ－１２_6","ａｎｉｍｏｓｅｌｅｃｔ　ｆｏｏｔｂａｌｌ　ｃｌｕｂ　Ｕ－１２",{"$f":"(\"6\")","v":"6"},"FW","廣瀬　統治","ヒロセ　スバル",6,"男子"]
["ａｎｉｍｏｓｅｌｅｃｔ　ｆｏｏｔｂａｌｌ　ｃｌｕｂ　Ｕ－１２_7","ａｎｉｍｏｓｅｌｅｃｔ　ｆｏｏｔｂａｌｌ　ｃｌｕｂ　Ｕ－１２",{"$f":"(\"7\")","v":"7"},"DF","矢野　智絆","ヤノ　トモキ",4,"男子"]
["ａｎｉｍｏｓｅｌｅｃｔ　ｆｏｏｔｂａｌｌ　ｃｌｕｂ　Ｕ－１２_8","ａｎｉｍｏｓｅｌｅｃｔ　ｆｏｏｔｂａｌｌ　ｃｌｕｂ　Ｕ－１２",{"$f":"(\"8\")","v":"8"},"FW","佐藤　日向","サトウ　ヒナタ",5,"男子"]
["ａｎｉｍｏｓｅｌｅｃｔ　ｆｏｏｔｂａｌｌ　ｃｌｕｂ　Ｕ－１２_9","ａｎｉｍｏｓｅｌｅｃｔ　ｆｏｏｔｂａｌｌ　ｃｌｕｂ　Ｕ－１２",{"$f":"(\"9\")","v":"9"},"DF","藤川　維吹","フジカワ　イブキ",6,"男子","○"]
["ａｎｉｍｏｓｅｌｅｃｔ　ｆｏｏｔｂａｌｌ　ｃｌｕｂ　Ｕ－１２_10","ａｎｉｍｏｓｅｌｅｃｔ　ｆｏｏｔｂａｌｌ　ｃｌｕｂ　Ｕ－１２",{"$f":"(\"10\")","v":"10"},"DF","平川　颯人","ヒラカワ　ハヤト",6,"男子"]
["ａｎｉｍｏｓｅｌｅｃｔ　ｆｏｏｔｂａｌｌ　ｃｌｕｂ　Ｕ－１２_11","ａｎｉｍｏｓｅｌｅｃｔ　ｆｏｏｔｂａｌｌ　ｃｌｕｂ　Ｕ－１２",{"$f":"(\"11\")","v":"11"},"MF","山口　倫","ヤマグチ　リン",6,"男子"]
["ａｎｉｍｏｓｅｌｅｃｔ　ｆｏｏｔｂａｌｌ　ｃｌｕｂ　Ｕ－１２_12","ａｎｉｍｏｓｅｌｅｃｔ　ｆｏｏｔｂａｌｌ　ｃｌｕｂ　Ｕ－１２",{"$f":"(\"12\")","v":"12"},"MF","手嶋　純也","テシマ　ジュンヤ",6,"男子"]
["ａｎｉｍｏｓｅｌｅｃｔ　ｆｏｏｔｂａｌｌ　ｃｌｕｂ　Ｕ－１２_13","ａｎｉｍｏｓｅｌｅｃｔ　ｆｏｏｔｂａｌｌ　ｃｌｕｂ　Ｕ－１２",{"$f":"(\"13\")","v":"13"},"MF","大谷　希望","オオタニ　ノゾミ",6,"女子小学生"]
["ａｎｉｍｏｓｅｌｅｃｔ　ｆｏｏｔｂａｌｌ　ｃｌｕｂ　Ｕ－１２_16","ａｎｉｍｏｓｅｌｅｃｔ　ｆｏｏｔｂａｌｌ　ｃｌｕｂ　Ｕ－１２",{"$f":"(\"16\")","v":"16"},"GK","平川　瑛翔","ヒラカワ　エイト",4,"男子"]
["ＦＣ．ＲＥ．ＳＴＡＲＴ　_2","ＦＣ．ＲＥ．ＳＴＡＲＴ　",{"$f":"(\"2\")","v":"2"},"FW","坂本　幸斗","サカモト　ユキト",6,"男子"]
["ＦＣ．ＲＥ．ＳＴＡＲＴ　_3","ＦＣ．ＲＥ．ＳＴＡＲＴ　",{"$f":"(\"3\")","v":"3"},"DF","藤木　駿","フジキ　シュン",6,"男子"]
["ＦＣ．ＲＥ．ＳＴＡＲＴ　_4","ＦＣ．ＲＥ．ＳＴＡＲＴ　",{"$f":"(\"4\")","v":"4"},"FW","井上　來都","イノウエ　ライト",3,"男子"]
["ＦＣ．ＲＥ．ＳＴＡＲＴ　_5","ＦＣ．ＲＥ．ＳＴＡＲＴ　",{"$f":"(\"5\")","v":"5"},"MF","小田　徳大","オダ　トクダイ",4,"男子"]
["ＦＣ．ＲＥ．ＳＴＡＲＴ　_6","ＦＣ．ＲＥ．ＳＴＡＲＴ　",{"$f":"(\"6\")","v":"6"},"FW","穴井　来夢","アナイ　ライム",6,"男子"]
["ＦＣ．ＲＥ．ＳＴＡＲＴ　_7","ＦＣ．ＲＥ．ＳＴＡＲＴ　",{"$f":"(\"7\")","v":"7"},"MF","井上　凛士","イノウエ　リヒト",6,"男子"]
["ＦＣ．ＲＥ．ＳＴＡＲＴ　_8","ＦＣ．ＲＥ．ＳＴＡＲＴ　",{"$f":"(\"8\")","v":"8"},"MF","大井　敦牙","オオイ　タイガ",6,"男子"]
["ＦＣ．ＲＥ．ＳＴＡＲＴ　_9","ＦＣ．ＲＥ．ＳＴＡＲＴ　",{"$f":"(\"9\")","v":"9"},"FW","日野　快玲","ヒノ　カイリ",4,"男子"]
["ＦＣ．ＲＥ．ＳＴＡＲＴ　_10","ＦＣ．ＲＥ．ＳＴＡＲＴ　",{"$f":"(\"10\")","v":"10"},"DF","坂本　乙羽沙","サカモト　ツバサ",6,"女子小学生","○"]
["ＦＣ．ＲＥ．ＳＴＡＲＴ　_11","ＦＣ．ＲＥ．ＳＴＡＲＴ　",{"$f":"(\"11\")","v":"11"},"MF","小田　晴大","オダ　ハルダイ",6,"男子"]
["ＦＣ．ＲＥ．ＳＴＡＲＴ　_12","ＦＣ．ＲＥ．ＳＴＡＲＴ　",{"$f":"(\"12\")","v":"12"},"MF","横田　聡佑","ヨコタ　ソウスケ",3,"男子"]
["ＦＣ．ＲＥ．ＳＴＡＲＴ　_13","ＦＣ．ＲＥ．ＳＴＡＲＴ　",{"$f":"(\"13\")","v":"13"},"GK","小田原　明楽","オダワラ　アキラ",3,"男子"]
["ＦＣ．ＲＥ．ＳＴＡＲＴ　_14","ＦＣ．ＲＥ．ＳＴＡＲＴ　",{"$f":"(\"14\")","v":"14"},"DF","渡邉　凌大","ワタナベ　リョウタ",3,"男子"]
["ＦＣ．ＲＥ．ＳＴＡＲＴ　_15","ＦＣ．ＲＥ．ＳＴＡＲＴ　",{"$f":"(\"15\")","v":"15"},"GK","日野　秀哉","ヒノ　シュウヤ",6,"男子"]

{"sheet":"審判員","index":23,"n_rows":2834,"n_cols":9,"rows_kept":2834,"cut":false,"hidden":true,"merged":[]}
["審判登録番号","氏名","資格","所属協会","第二登録協会",null,"選択肢より",null,"＜警告選択肢＞"]
["R001251601","佐々木　慎哉",1,"大分県",null,null,"警告",null,"反スポ"]
["R001265145","秋元　昭一",2,"大分県",null,null,"退場",null,"ラフ"]
["R000879756","足達　実生",2,"大分県",null,null,null,null,"異議"]
["R001253502","安藤　博幸",2,"大分県",null,null,null,null,"繰り返し"]
["R006221377","池添　将大",2,"大分県",null,null,null,null,"遅延"]
["R001262333","諌本　秀樹",2,"大分県",null,null,null,null,"距離"]
["R001254060","井上　大知",2,"大分県",null,null,null,null,"無断入"]
["R001265172","岩尾　雅広",2,"大分県",null,null,null,null,"無断去"]
["R001262546","岩崎　浩也",2,"大分県",null,null,null,null,"＜退場選択肢＞"]
["R001265233","大野　髙洋",2,"大分県",null,null,null,null,"不正"]
["R002530125","小畑　広大",2,"大分県",null,null,null,null,"乱暴"]
["R009212325","戒田　直樹",2,"大分県",null,null,null,null,"つば"]
["R010281800","河野　光喜",2,"大分県",null,null,null,null,"阻止(手)"]
["R001262971","木下　富喜",2,"大分県",null,null,null,null,"阻止(他)"]
["R001262999","木原　一心",2,"大分県",null,null,null,null,"暴言"]
["R010259420","窪田　雅一",2,"大分県",null,null,null,null,"警告2"]
["R005528255","黒田　大貴",2,"大分県"]
["R001265349","小出　康博",2,"大分県"]
["R001265376","後藤　樹明",2,"大分県"]
["R000876616","後藤　晋平",2,"大分県"]
["R001265367","後藤　啓之",2,"大分県"]
["R010536851","酒井　駿",2,"大分県"]
["R001256943","笹原　年浩",2,"大分県"]
["R003255841","塩月　勇輝",2,"大分県"]
["R001265385","須藤　健二",2,"大分県"]
["R001257818","関　太啓",2,"大分県"]
["R006221465","曽我　拓実",2,"大分県"]
["R010052667","髙木　翔",2,"大分県"]
["R001257924","高木　哲也",2,"大分県"]
["R000892429","田中　博",2,"大分県"]
["R001265428","坪井　和幸",2,"大分県"]
["R001265437","寺林　豊",2,"大分県"]
["R010250271","中尾　亜夢",2,"大分県"]
["R006151032","中尾　優志",2,"大分県"]
["R003317390","中園　健太郎",2,"大分県"]
["R001265464","仲摩　則孝",2,"大分県"]
["R001265358","西田　亜矢",2,"大分県"]
["R010167733","原　大貴",2,"大分県"]
["R001265473","引地　弘幸",2,"大分県"]
["R001260140","福田　人志",2,"大分県"]
["R001265534","前山　精治",2,"大分県"]
["R001260593","増永　伸也",2,"大分県"]
["R001265552","松原　マヤ",2,"大分県"]
["R010264267","馬原　直人",2,"大分県"]
["R002331010","丸小野　聡暢",2,"大分県"]
["R003422498","三ヶ尻　和也",2,"大分県"]
["R004793649","水江　真太郎",2,"大分県"]
["R001264632","湊　弘智",2,"大分県"]
["R008537139","矢羽田　崇",2,"大分県","愛知県"]
["R006093817","幸　壮一郎",2,"大分県"]
["R001262023","和田　敬生",2,"大分県"]
["R010093470","合澤　慎太郎",3,"大分県"]
["R001264881","赤山　千晶",3,"大分県"]
["R001253007","秋元　貴生",3,"大分県"]
["R001253025","秋吉　明",3,"大分県"]
["R010376364","秋吉　慶汰",3,"大分県"]
["R010382666","秋吉　徹男",3,"大分県"]
["R007960093","浅井　佑太",3,"大分県"]
["R010169055","朝来野　勇志",3,"大分県"]
["R007728424","浅田　雄太",3,"大分県"]
["R003972391","朝比奈　義行",3,"大分県"]
["R003317336","朝吹　崇宏",3,"大分県"]
["R006933694","東　紘造",3,"大分県"]
["R001253159","麻生　勝稔",3,"大分県"]
["R001265154","足立　英二",3,"大分県"]
["R001253557","安達　信也",3,"大分県"]
["R010069871","足立　卓也",3,"大分県"]
["R010396578","足立　尚隆",3,"大分県"]
["R010189040","阿地　孝",3,"大分県"]
["R010313745","穴井　大地",3,"大分県"]
["R010352942","姉川　光一朗",3,"大分県"]
["R001262184","安部　一徳",3,"大分県"]
["R006573784","安倍　和広",3,"大分県"]
["R009460436","安部　隆行",3,"大分県"]
["R010189323","安部　孝之",3,"大分県"]
["R007959103","安倍　達也",3,"大分県"]
["R001262209","阿部　浩之",3,"大分県"]
["R010281814","安部　正信",3,"大分県"]
["R005336098","荒木　宗明",3,"大分県"]
["R010189314","有村　惇志",3,"大分県"]
["R001251036","有村　季幸",3,"大分県"]
["R008634229","安藤　昭徳",3,"大分県"]
["R007003033","安藤　和洋",3,"大分県"]
["R001253496","安東　信二",3,"大分県"]
["R010013254","安藤　暢",3,"大分県"]
["R010064829","安藤　英明",3,"大分県"]
["R001253548","安藤　洋樹",3,"大分県"]
["R001262254","安東　幹雄",3,"大分県"]
["R009547124","安藤　洋一",3,"大分県"]
["R007960084","安部　武志",3,"大分県"]
["R001262290","池江　浩一郎",3,"大分県"]
["R010306442","池田　達哉",3,"大分県"]
["R002384216","池田　浩",3,"大分県"]
["R010093456","池邉　賢一",3,"大分県"]
["R001262324","池辺　俊明",3,"大分県"]
["R010301990","池本　岬",3,"大分県"]
["R009408904","石井　洋平",3,"大分県"]
["R001262379","石川　慎也",3,"大分県"]
["R010027832","石川　裕明",3,"大分県"]
["R001321238","イシバシ　眞和",3,"大分県"]
["R004060329","石松　卓哉",3,"大分県"]
["R001262397","石丸　泰幸",3,"大分県"]
["R007753129","石本　直也",3,"大分県"]
["R010189276","石本　侑己",3,"大分県"]
["R001262403","石山　慎史",3,"大分県"]
["R003421338","五十川　文明",3,"大分県"]
["R010448235","礒辺　宏基",3,"大分県"]
["R005467918","磯村　信一",3,"大分県"]
["R008536972","板井　晋一",3,"大分県"]
["R010281826","板井　崇晃",3,"大分県"]
["R006093835","板井　龍法",3,"大分県"]
["R007686234","市田　翔太",3,"大分県"]
["R002384191","居塚　繁",3,"大分県"]
["R010067178","伊藤　慧斗",3,"大分県"]
["R002531522","伊藤　宏充",3,"大分県"]
["R001262458","伊東　雅弘",3,"大分県"]
["R006173919","井上　健次郎",3,"大分県"]
["R010281875","井上　颯太",3,"大分県"]
["R001254051","井上　直樹",3,"大分県"]
["R001869093","井上　秀文",3,"大分県"]
["R006574172","猪下　侑恭",3,"大分県"]
["R001262494","井堀　貴康",3,"大分県"]
["R001262500","今井　克人",3,"大分県"]
["R010542169","今富　康平",3,"大分県"]
["R003677104","今宮　俊一",3,"大分県"]
["R005603820","岩尾　潤一郎",3,"大分県"]
["R010096810","岩尾　瑞貴",3,"大分県"]
["R006664758","岩男　雄一郎",3,"大分県"]
["R001254176","岩坂　康範",3,"大分県"]
["R004778507","岩崎　彰範",3,"大分県"]
["R007335297","岩丸　海斗",3,"大分県"]
["R001262573","上尾　泰裕",3,"大分県"]
["R004055390","植木　邦彦",3,"大分県"]
["R001254282","上田　大吾",3,"大分県"]
["R001262582","上田　輝彦",3,"大分県"]
["R010415888","上田　源典",3,"大分県"]
["R010169040","上本　慎一郎",3,"大分県"]
["R010189280","魚住　健人",3,"大分県"]
["R007003431","宇髙　篤史",3,"大分県"]
["R003421231","内丸　貴裕",3,"大分県"]
["R010396521","内山　隆寛",3,"大分県"]
["R010093443","内山田　光史",3,"大分県"]
["R001262874","宇都宮　潤也",3,"大分県"]
["R005527609","宇都宮　貴之",3,"大分県"]
["R001265190","宇野　耕二",3,"大分県"]
["R010193702","梅田　高志",3,"大分県"]
["R010189311","梅徳　里一",3,"大分県"]
["R010100691","浦本　雅志",3,"大分県"]
["R003421161","永路　尚道",3,"大分県"]
["R010076621","江上　和希",3,"大分県"]
["R005603361","江口　晃平",3,"大分県"]
["R002530064","江崎　康平",3,"大分県"]
["R001254538","江藤　修",3,"大分県"]
["R005603866","衛藤　圭典",3,"大分県"]
["R001254510","衛藤　兼一",3,"大分県"]
["R001262607","衛藤　俊明",3,"大分県"]
["R001254477","江藤　雅章",3,"大分県"]
["R009197619","恵美　圭介",3,"大分県"]
["R002384580","江良　信司",3,"大分県"]
["R010465606","大石　聖哉",3,"大分県"]
["R010538325","大石　雅宣",3,"大分県"]
["R001262625","大久保　邦彦",3,"大分県"]
["R008377616","大久保　稔生",3,"大分県"]
["R003421912","大久保　正明",3,"大分県"]
["R010189324","大嶋　伊織",3,"大分県"]
["R010465581","大島　孝太",3,"大分県"]
["R006093738","大谷　伸二",3,"大分県"]
["R001265224","大塚　浩司",3,"大分県"]
["R005528121","大塚　勇司",3,"大分県"]
["R008174019","大塚　良輝",3,"大分県"]
["R003351109","大津留　健太",3,"大分県"]
["R003317080","大津留　聖太",3,"大分県"]
["R010498317","大鶴　翔太郎",3,"大分県"]
["R010281884","大戸　聡平",3,"大分県"]
["R001262670","大渡　年春",3,"大分県"]
["R010465607","大野　春佑",3,"大分県"]
["R003421222","大野　盛通",3,"大分県"]
["R010466988","大星　陸渡",3,"大分県"]
["R010093494","大本　敏行",3,"大分県"]
["R007660573","岡　智史",3,"大分県"]
["R010214611","岡　正一郎",3,"大分県"]
["R010313747","岡崎　俊介",3,"大分県"]
["R010444522","岡田　凌哉",3,"大分県"]
["R006901613","岡部　明男",3,"大分県"]
["R001254875","岡部　司",3,"大分県"]
["R006647584","岡松　伸弥",3,"大分県"]
["R007959088","岡本　遼",3,"大分県"]
["R010538391","緒方　翔平",3,"大分県"]
["R001262698","緒方　崇",3,"大分県"]
["R007075261","小川　翔太",3,"大分県"]
["R006573979","小川　雅和",3,"大分県"]
["R010376269","奥薗　将太",3,"大分県"]
["R009460515","奥田　和彦",3,"大分県"]
["R010100676","奥村　浩勝",3,"大分県"]
["R003972355","小倉　正広",3,"大分県"]
["R001262731","長田　敏明",3,"大分県"]
["R010189320","尾崎　勇",3,"大分県"]
["R010099453","小関　啓太郎",3,"大分県"]
["R007960109","小田　将大",3,"大分県"]
["R006901589","小田原　蓮",3,"大分県"]
["R010311884","越智　龍平",3,"大分県"]
["R002996695","乙部　哲也",3,"大分県"]
["R007959954","オトメ　仁孝",3,"大分県"]
["R002917661","小野　晃央",3,"大分県"]
["R001255184","小野　聡",3,"大分県"]
["R005603608","小野　智史",3,"大分県"]
["R001255193","小野　修太郎",3,"大分県"]
["R001255139","小野　慎一",3,"大分県"]
["R010255178","小野　智弘",3,"大分県"]
["R010538295","小野　輝",3,"大分県"]
["R001262786","小野　幸登",3,"大分県"]
["R010390125","小野　友美子",3,"大分県"]
["R001262777","小野　亮一",3,"大分県"]
["R002996659","小畑　郁夫",3,"大分県"]
["R000466941","小畑　克則",3,"大分県"]
["R008173700","甲斐　剛樹",3,"大分県"]
["R001265260","甲斐　正三",3,"大分県"]
["R003258501","甲斐　真号",3,"大分県"]
["R004794055","笠置　貴路",3,"大分県"]
["R001262829","笠置　忠照",3,"大分県"]
["R004793542","梶川　和志",3,"大分県"]
["R004055585","梶原　賢士",3,"大分県"]
["R009198511","梶原　幸平",3,"大分県"]
["R001262838","梶原　誠司",3,"大分県"]
["R010099455","糟谷　浩志",3,"大分県"]
["R010261243","片山　幹彦",3,"大分県"]
["R004714642","加藤　敦士",3,"大分県"]
["R007959608","加藤　恭介",3,"大分県"]
["R010189342","加藤　拓己",3,"大分県"]
["R010468357","加藤　史章",3,"大分県"]
["R009197929","加藤　泰広",3,"大分県"]
["R010448916","金子　康二",3,"大分県"]
["R010261482","金子　翔",3,"大分県"]
["R010396582","金田　智朗",3,"大分県"]
["R010376294","株根　聖太",3,"大分県"]
["R009624779","株根　蒼太",3,"大分県"]
["R010465586","上江　啓太",3,"大分県"]
["R001262883","神川　基",3,"大分県"]
["R002996668","上西　亮次",3,"大分県"]
["R010256872","鴨川　奨",3,"大分県"]
["R010120143","萱嶌　修平",3,"大分県"]
["R001255616","川井　勇介",3,"大分県"]
["R007959963","川内　智弘",3,"大分県"]
["R006220952","川﨑　浩司",3,"大分県"]
["R010450022","川﨑　脩斗",3,"大分県"]
["R002917430","河津　裕徳",3,"大分県"]
["R005103418","河野　貴裕",3,"大分県"]
["R001255740","川野　剛",3,"大分県"]
["R010391915","河野　晴輝",3,"大分県"]
["R001255713","河野　英樹",3,"大分県"]
["R001262935","河野　裕明",3,"大分県"]
["R006094001","河野　祐司",3,"大分県"]
["R010214623","川畑　拓人",3,"大分県"]
["R010388050","川端　大翔",3,"大分県"]
["R010093459","川辺　祐介",3,"大分県"]
["R010352999","川邉　裕也",3,"大分県"]
["R003351145","川村　啓一郎",3,"大分県"]
["R001255935","川村　正樹",3,"大分県"]
["R004112020","川元　翔",3,"大分県"]
["R003256053","菊地　謙一",3,"大分県"]
["R007890271","菊地　玄",3,"大分県"]
["R010376296","木島　悠",3,"大分県"]
["R010465605","北村　真悟",3,"大分県"]
["R007959583","吉川　一馬",3,"大分県"]
["R010074021","木津　洋孝",3,"大分県"]
["R007003468","木本　翔平",3,"大分県"]
["R010465604","木本　大地",3,"大分県"]
["R001256129","木本　信之",3,"大分県"]
["R001256138","木本　将斗",3,"大分県"]
["R001251504","清原　雄太",3,"大分県"]
["R007003486","清松　隆浩",3,"大分県"]
["R001263031","吉良　信輝",3,"大分県"]
["R001263040","吉良　光峰",3,"大分県"]
["R001263068","切封　智和",3,"大分県"]
["R001263077","草野　学",3,"大分県"]
["R010247785","楠本　未沙都",3,"大分県"]
["R001263129","工藤　慎一",3,"大分県"]
["R003258413","工藤　隆貴",3,"大分県"]
["R010189301","工藤　拓海",3,"大分県"]
["R003351251","工藤　暢裕",3,"大分県"]
["R007002982","工藤　政野",3,"大分県"]
["R001263110","工藤　康博",3,"大分県"]
["R008798262","工藤　龍成",3,"大分県"]
["R010465591","工藤　遼一",3,"大分県"]
["R008479330","國友　達朗",3,"大分県"]
["R003677131","久保　雅敬",3,"大分県"]
["R001256305","久保田　英樹",3,"大分県"]
["R001256314","久保山　守",3,"大分県"]
["R001263165","熊谷　浩之",3,"大分県"]
["R007334890","熊谷　勇哉",3,"大分県"]
["R010538565","倉原　一輝",3,"大分県"]
["R010074028","栗井　勝",3,"大分県"]
["R001263183","桑原　栄二郎",3,"大分県"]
["R008634487","桑原　将吾",3,"大分県"]
["R001256402","小石川　悟",3,"大分県"]
["R001263192","小出　和明",3,"大分県"]
["R007003228","河野　晋也",3,"大分県"]
["R006220387","河野　翼",3,"大分県"]
["R010376271","古賀　嵐士",3,"大分県"]
["R010538323","古瀬　大騎",3,"大分県"]
["R009546073","小玉　篤史",3,"大分県"]
["R009198502","児玉　祥吾",3,"大分県"]
["R010465584","児玉　雅樹",3,"大分県"]
["R005405255","小手川　朋輝",3,"大分県"]
["R010080887","古西　譲司",3,"大分県"]
["R004706704","小林　年晴",3,"大分県"]
["R007728673","小林　亮介",3,"大分県"]
["R010546292","小山　純平",3,"大分県"]
["R001263314","近藤　健二",3,"大分県"]
["R010376362","近藤　將平",3,"大分県"]
["R006591364","近藤　裕之",3,"大分県"]
["R001263305","近藤　靖彦",3,"大分県"]
["R010376355","合嶋　雄大",3,"大分県"]
["R009408852","後藤　憲治",3,"大分県"]
["R010552541","後藤　滉稀",3,"大分県"]
["R001263299","後藤　伸太郎",3,"大分県"]
["R001251540","後藤　毅",3,"大分県"]
["R010306452","後藤　知仁",3,"大分県"]
["R010538293","後藤　寛貴",3,"大分県"]
["R001256624","後藤　文生",3,"大分県"]
["R010067947","後藤　美宇",3,"大分県"]
["R001263271","後藤　稔",3,"大分県"]
["R001263332","斎藤　克己",3,"大分県"]
["R001263369","酒井　清行",3,"大分県"]
["R001251577","酒井　隆宏",3,"大分県"]
["R001263350","酒井　祐三",3,"大分県"]
["R010356115","榊　謙治",3,"大分県"]
["R004714688","坂本　克也",3,"大分県"]
["R003350863","坂本　圭",3,"大分県"]
["R001263402","坂本　淳吾",3,"大分県"]
["R006849191","坂本　大典",3,"大分県"]
["R006574400","酒盛　政晴",3,"大分県"]
["R006664864","相良　章成",3,"大分県"]
["R002917500","迫　裕作",3,"大分県"]
["R007335136","佐々木　秀樹",3,"大分県"]
["R001263411","佐々木　正志",3,"大分県"]
["R003677052","佐田　敬介",3,"大分県"]
["R001263448","佐藤　昭生",3,"大分県"]
["R001263484","佐藤　一好",3,"大分県"]
["R010261478","佐藤　賢太",3,"大分県"]
["R009460551","佐藤　慎二",3,"大分県"]
["R005164394","佐藤　嵩隼",3,"大分県"]
["R008634706","佐藤　巨規",3,"大分県"]
["R010281827","佐藤　秀昭",3,"大分県"]
["R010189269","佐藤　寛季",3,"大分県"]
["R007728512","佐藤　誠",3,"大分県"]
["R010396593","佐藤　諒",3,"大分県"]
["R007003291","佐藤　優介",3,"大分県"]
["R010382660","佐藤　祐輔",3,"大分県"]
["R010465594","佐藤　湧大",3,"大分県"]
["R001263475","佐藤　隆太",3,"大分県"]
["R009552560","佐藤　亮",3,"大分県"]
["R010096806","猿渡　崇史",3,"大分県"]
["R001257252","三宮　仁",3,"大分県"]
["R010540712","汐先　悠介",3,"大分県"]
["R007959936","塩田　誠",3,"大分県"]
["R010552555","敷嶋　義郎",3,"大分県"]
["R001257322","師藤　一也",3,"大分県"]
["R010444495","志藤　圭史朗",3,"大分県"]
["R001257340","篠田　公成",3,"大分県"]
["R004326535","信田　卓也",3,"大分県"]
["R010073990","篠田　裕也",3,"大分県"]
["R010189333","芝崎　駿",3,"大分県"]
["R008634715","柴田　健一",3,"大分県"]
["R010214543","柴田　峻佑",3,"大分県"]
["R002938017","柴田　徹",3,"大分県"]
["R001263536","渋谷　崇",3,"大分県"]
["R003317114","島津　広光",3,"大分県"]
["R007686216","清水　圭二",3,"大分県"]
["R006910259","下原　優一",3,"大分県"]
["R006849182","志谷　進",3,"大分県"]
["R001263590","首藤　圭介",3,"大分県"]
["R001934616","首藤　貴弘",3,"大分県"]
["R010542204","生野　憲太朗",3,"大分県"]
["R010538350","白石　健",3,"大分県"]
["R009554780","白江　直樹",3,"大分県"]
["R006849128","城全　晃孝",3,"大分県"]
["R001263606","城全　孝成",3,"大分県"]
["R001257641","秦　達郎",3,"大分県"]
["R001263633","秦　雅暢",3,"大分県"]
["R001257650","新貝　学",3,"大分県"]
["R009198335","城野　清",3,"大分県"]
["R004793834","末松　敬雅",3,"大分県"]
["R008515571","菅川　智",3,"大分県"]
["R007003024","杉崎　恭介",3,"大分県"]
["R002530860","鈴木　史朗",3,"大分県"]
["R008798369","鈴木　優希",3,"大分県"]
["R010444486","須藤　哲也",3,"大分県"]
["R010468354","須藤　裕太",3,"大分県"]
["R008798013","隅田　哲平",3,"大分県"]
["R010027823","清家　大介",3,"大分県"]
["R001263679","関　憲二",3,"大分県"]
["R000896665","関　文雄",3,"大分県"]
["R008798174","関屋　俊侑",3,"大分県"]
["R001263688","瀬口　篤",3,"大分県"]
["R010376284","瀬戸口　雄",3,"大分県"]
["R007606238","相馬　大典",3,"大分県"]
["R010247795","曽我　彩夏",3,"大分県"]
["R001263697","曽我　大一郎",3,"大分県"]
["R001263721","園　貴司",3,"大分県"]
["R005987032","園　秀利",3,"大分県"]
["R005987430","平　和隆",3,"大分県"]
["R006664615","高柿　康平",3,"大分県"]
["R010465617","高田　侑弥",3,"大分県"]
["R010376358","高野　賢吾",3,"大分県"]
["R001258048","高橋　修一",3,"大分県"]
["R010465587","高橋　大寿",3,"大分県"]
["R001263819","高橋　雅浩",3,"大分県"]
["R010540717","高橋　優斗",3,"大分県"]
["R001263785","高橋　芳洋",3,"大分県"]
["R005987120","高橋　涼太",3,"大分県"]
["R001263846","高畑　徳治郎",3,"大分県"]
["R001263837","高畑　智秀",3,"大分県"]
["R002996738","高原　英司",3,"大分県"]
["R003258477","田上　和広",3,"大分県"]
["R001262272","瀧山　理恵",3,"大分県"]
["R010391939","武石　新太",3,"大分県"]
["R010391953","武内　奨真",3,"大分県"]
["R001263882","竹内　進",3,"大分県"]
["R003972489","竹嶋　仁",3,"大分県"]
["R006220484","武智　正敏",3,"大分県"]
["R007754243","竹中　勇人",3,"大分県"]
["R006030599","竹村　研一郎",3,"大分県"]
["R007335075","田坂　将和",3,"大分県"]
["R010120124","田尻　貴志",3,"大分県"]
["R004060170","立花　陽一郎",3,"大分県"]
["R008626770","立川　大記",3,"大分県"]
["R009430578","立川　千紗",3,"大分県"]
["R008627043","立川　充",3,"大分県"]
["R004683874","田中　貴大",3,"大分県"]
["R001258394","田邉　義晶",3,"大分県"]
["R010540711","田之畑　絢也",3,"大分県"]
["R005164677","田村　孝弘",3,"大分県"]
["R010190756","垰　真樹",3,"大分県"]
["R004793579","團塚　晋之祐",3,"大分県"]
["R010448232","塚崎　高典",3,"大分県"]
["R001263961","津崎　雅彦",3,"大分県"]
["R005430057","辻　一陽",3,"大分県"]
["R010281819","辻井　拓夢",3,"大分県"]
["R001265419","津田　憲生",3,"大分県"]
["R010214478","堤　晴菜",3,"大分県"]
["R001263998","堤　祐慈",3,"大分県"]
["R002996677","坪根　晃",3,"大分県"]
["R010465621","坪根　弘希",3,"大分県"]
["R001264003","津守　一雄",3,"大分県"]
["R001264012","津守　正博",3,"大分県"]
["R010376298","鶴田　和也",3,"大分県"]
["R009408782","手島　冠",3,"大分県"]
["R001264058","寺岡　富夫",3,"大分県"]
["R001264049","寺岡　義彦",3,"大分県"]
["R010120117","寺次　良生",3,"大分県"]
["R004226749","寺本　義高",3,"大分県"]
["R004111340","唐下　直之",3,"大分県"]
["R010167725","東藤　正幸",3,"大分県"]
["R004385653","徳永　尚也",3,"大分県"]
["R002848671","徳永　浩幸",3,"大分県"]
["R010189300","徳光　将太",3,"大分県"]
["R001258701","都甲　昌亨",3,"大分県"]
["R006220961","歳納　真人",3,"大分県"]
["R010376357","戸髙　航汰",3,"大分県"]
["R001258738","戸髙　博秋",3,"大分県"]
["R003317354","戸伏　重治",3,"大分県"]
["R010539320","冨永　憲司",3,"大分県"]
["R010581160","富山　保",3,"大分県"]
["R002935472","友成　義朗",3,"大分県"]
["R010542171","内藤　翔悟",3,"大分県"]
["R010261477","仲　慎太郎",3,"大分県"]
["R002917722","中尾　倫彰",3,"大分県"]
["R002530046","中上　聡志",3,"大分県"]
["R003317071","中島　圭太",3,"大分県"]
["R008634681","中島　康平",3,"大分県"]
["R010190757","中島　佑介",3,"大分県"]
["R010007829","中島　亮太",3,"大分県"]
["R002996686","中園　真栄",3,"大分県"]
["R001258969","中田　邦明",3,"大分県"]
["R007728804","中根　龍馬",3,"大分県"]
["R001264164","仲野　昭博",3,"大分県"]
["R005429893","中野　佐和三",3,"大分県"]
["R010248583","中野　翔梧",3,"大分県"]
["R003421310","中野　雄斗",3,"大分県"]
["R001264182","中原　圭介",3,"大分県"]
["R010099448","中原　丈聖",3,"大分県"]
["R001265297","中村　圭一郎",3,"大分県"]
["R010467628","中村　俊太",3,"大分県"]
["R007959990","中村　髙峰",3,"大分県"]
["R010382275","中村　友海",3,"大分県"]
["R010073993","仲村　陽一郎",3,"大分県"]
["R010189259","中山　修一",3,"大分県"]
["R010162720","中山　桃香",3,"大分県"]
["R010376274","永井　翔也",3,"大分県"]
["R004111580","永井　勇司",3,"大分県"]
["R001258871","長尾　信宏",3,"大分県"]
["R001264128","長尾　寿郎",3,"大分県"]
["R010448233","長岡　傑",3,"大分県"]
["R001264137","永木　桂",3,"大分県"]
["R001258978","長田　義弘",3,"大分県"]
["R010074018","長門　崚太",3,"大分県"]
["R008798129","長野　佳太",3,"大分県"]
["R010538360","長野　高志",3,"大分県"]
["R005164941","永松　真朗",3,"大分県"]
["R006889108","永松　真樹",3,"大分県"]
["R010306440","永芳　卓磨",3,"大分県"]
["R002908335","南里　秀樹",3,"大分県"]
["R001251975","西田　淳一",3,"大分県"]
["R001264234","西村　誠",3,"大分県"]
["R009670176","西村　竜司",3,"大分県"]
["R006148515","西山　文朗",3,"大分県"]
["R001259287","新田　祐一郎",3,"大分県"]
["R001264252","二ノ谷　徹",3,"大分県"]
["R010095349","二宮　慎太郎",3,"大分県"]
["R010281856","如法寺　雅俊",3,"大分県"]
["R001264289","野田　洋平",3,"大分県"]
["R010214556","野中　裕介",3,"大分県"]
["R007757994","野村　康佳",3,"大分県"]
["R009546055","吐合　直樹",3,"大分県"]
["R010027819","狭間　照央",3,"大分県"]
["R010540722","橋口　大諒",3,"大分県"]
["R001252017","橋本　伸太郎",3,"大分県"]
["R010376361","橋本　淳平",3,"大分県"]
["R008797962","橋本　葉音",3,"大分県"]
["R010214541","羽田野　順一",3,"大分県"]
["R001264304","羽田野　亘",3,"大分県"]
["R010376277","花宮　大聖",3,"大分県"]
["R001259588","浜崎　陽介",3,"大分県"]
["R006221094","浜町　拓也",3,"大分県"]
["R001259667","原　宏一",3,"大分県"]
["R005603802","原　俊輔",3,"大分県"]
["R008174365","原　貴宏",3,"大分県"]
["R007003413","原田　雅也",3,"大分県"]
["R007211182","原田　龍太郎",3,"大分県"]
["R010067952","半谷　風花",3,"大分県","沖縄県"]
["R001264359","東　和弘",3,"大分県"]
["R010376324","菱川　翔平",3,"大分県"]
["R006147048","姫野　一陽",3,"大分県"]
["R005528307","姫野　恵一",3,"大分県"]
["R006220183","姫野　航平",3,"大分県"]
["R010189272","姫野　佑太郎",3,"大分県"]
["R010313780","姫野　祐太朗",3,"大分県"]
["R010352963","平井　彩斗",3,"大分県"]
["R001259870","平岡　正広",3,"大分県"]
["R003972513","平川　伸吾",3,"大分県"]
["R010538358","平川　諒",3,"大分県"]
["R007003501","廣瀬　惣一朗",3,"大分県"]
["R001264401","廣瀬　文明",3,"大分県"]
["R004386120","廣瀬　賢明",3,"大分県"]
["R001264410","廣田　寧孝",3,"大分県"]
["R001260070","廣戸　誠一",3,"大分県"]
["R010376332","深津　弘毅",3,"大分県"]
["R009197691","深堀　祥司",3,"大分県"]
["R010099458","福原　元希",3,"大分県"]
["R001264447","福元　研治",3,"大分県"]
["R010396500","藤井　健人",3,"大分県"]
["R008798183","藤田　和也",3,"大分県"]
["R008798217","藤本　勝爾",3,"大分県"]
["R007753819","藤本　洋",3,"大分県"]
["R007335288","藤原　大輔",3,"大分県"]
["R010027860","藤原　佑史朗",3,"大分県"]
["R003421772","藤原　龍司",3,"大分県"]
["R001264483","渕　辰雄",3,"大分県"]
["R004060189","古川　高",3,"大分県"]
["R001600205","古戸　雅崇",3,"大分県"]
["R001264508","古畑　葵",3,"大分県"]
["R001264492","古畑　翼",3,"大分県"]
["R005987050","星野　敦",3,"大分県"]
["R003351288","保月　寿智",3,"大分県"]
["R006112343","堀内　信敏",3,"大分県"]
["R006574066","本田　和也",3,"大分県"]
["R010120173","本多　太郎",3,"大分県"]
["R010127606","本戸　峰",3,"大分県"]
["R010540713","前川　綺輝",3,"大分県"]
["R007003422","前田　篤史",3,"大分県"]
["R010512435","前田　裕哉",3,"大分県"]
["R001260557","マガリェンス　リシャルドソン",3,"大分県"]
["R001264544","牧　和志",3,"大分県"]
["R007002733","柾木　洋平",3,"大分県"]
["R010093436","松尾　達也",3,"大分県"]
["R004793816","松下　明史",3,"大分県"]
["R004055479","松下　昌史",3,"大分県"]
["R009546806","松下　稜河",3,"大分県"]
["R007335303","松田　稜",3,"大分県"]
["R009408737","松原　亜衣",3,"大分県"]
["R006220916","松原　慎也",3,"大分県"]
["R010073975","松本　和也",3,"大分県"]
["R010540718","松本　徹平",3,"大分県"]
["R001264562","松本　光将",3,"大分県"]
["R008481113","松山　和寛",3,"大分県"]
["R006011372","松山　大二郎",3,"大分県"]
["R001264580","真鍋　裕一",3,"大分県"]
["R008515535","丸尾　諭志",3,"大分県"]
["R005405699","箕迫　雄介",3,"大分県"]
["R010209402","三浦　龍一",3,"大分県"]
["R007003307","水口　裕太",3,"大分県"]
["R008174046","溝辺　宏輝",3,"大分県"]
["R002917263","溝邊　祐幸",3,"大分県"]
["R001264605","御手洗　毅",3,"大分県"]
["R004793658","光根　明徳",3,"大分県"]
["R001264669","美濃　誠",3,"大分県"]
["R004793764","三原　隼人",3,"大分県"]
["R010306451","宮川　大志",3,"大分県"]
["R004112057","都　学志",3,"大分県"]
["R001264687","宮迫　利範",3,"大分県"]
["R004385495","宮﨑　隆史",3,"大分県"]
["R010099454","宮田　繁輝",3,"大分県"]
["R010444497","宮原　良介",3,"大分県"]
["R001252196","三好　美輝",3,"大分県"]
["R010376894","向　拓磨",3,"大分県"]
["R010001968","宗岡　弦徳",3,"大分県"]
["R001264711","村上　一幸",3,"大分県"]
["R001265118","村上　貴志",3,"大分県"]
["R003350854","毛藤　勇三",3,"大分県"]
["R001252220","毛利　明博",3,"大分県"]
["R007705326","用松　修平",3,"大分県"]
["R008173861","本末　総治朗",3,"大分県"]
["R002530851","本杉　拓也",3,"大分県"]
["R010540719","本村　和也",3,"大分県"]
["R010189258","森　健太",3,"大分県"]
["R010027876","森　隆嗣",3,"大分県"]
["R007002779","森下　洋一",3,"大分県"]
["R008634636","森山　幸介",3,"大分県"]
["R001261398","森山　信浩",3,"大分県"]
["R008798457","薬師寺　翔",3,"大分県"]
["R008798314","薬師寺　亮太",3,"大分県"]
["R010190754","八坂　柊",3,"大分県"]
["R001264766","矢﨑　年勝",3,"大分県"]
["R001264775","屋敷　伴幸",3,"大分県"]
["R006093987","保田　薫",3,"大分県"]
["R005527308","柳井　孝則",3,"大分県"]
["R004793825","柳川　知也",3,"大分県"]
["R001261477","柳本　剛",3,"大分県"]
["R009197594","柳元　哲哉",3,"大分県"]
["R003972443","矢野　三千生",3,"大分県"]
["R004747206","山　大祐",3,"大分県"]
["R001965713","山崎　和也",3,"大分県"]
["R010240533","山﨑　典保",3,"大分県"]
["R010363046","山崎　雅人",3,"大分県"]
["R006147145","山下　省二",3,"大分県"]
["R007753606","山下　直一",3,"大分県"]
["R010189260","山下　泰明",3,"大分県"]
["R010396589","山田　将来",3,"大分県"]
["R004112011","山田　裕一",3,"大分県"]
["R001252293","山中　早一郎",3,"大分県"]
["R001264809","山野内　哲朗",3,"大分県"]
["R005164358","山宮　俊寛",3,"大分県"]
["R005603486","山本　篤",3,"大分県"]
["R010189296","山本　和真",3,"大分県"]
["R008626886","山本　真乃介",3,"大分県"]
["R010281871","山本　青",3,"大分県"]
["R001252336","山本　貴志",3,"大分県"]
["R010313746","山本　崇史",3,"大分県"]
["R003351093","山本　哲司",3,"大分県"]
["R004111562","山本　悠司",3,"大分県"]
["R001264836","幸　靖博",3,"大分県"]
["R001261778","湯田　浩士",3,"大分県"]
["R008515553","柚木　徹也",3,"大分県"]
["R003421374","横山　解史",3,"大分県"]
["R010382662","吉賀　洸貴",3,"大分県"]
["R001264854","吉田　栄治",3,"大分県"]
["R003972665","吉田　大助",3,"大分県"]
["R007090686","吉元　健太朗",3,"大分県"]
["R003421541","四元　厚次",3,"大分県"]
["R001264872","脇　雄洋",3,"大分県"]
["R006220378","和喜田　拓",3,"大分県"]
["R004386218","和才　幸司",3,"大分県"]
["R007757657","渡辺　敬亮",3,"大分県"]
["R010113537","渡邉　鷹也",3,"大分県"]
["R010007794","渡邉　卓人",3,"大分県"]
["R001262111","渡辺　陽一郎",3,"大分県"]
["R001252390","渡里　賢人",3,"大分県"]
["R007729070","和田　健一郎",3,"大分県"]
["R001264890","和田　健二",3,"大分県"]
["R010090347","和田　行祐",3,"大分県"]
["R001869127","和田　浩",3,"大分県"]
["R010352964","相澤　星空",4,"大分県"]
["R010583777","藍澤　祐人",4,"大分県"]
["R010538349","藍島　司",4,"大分県"]
["R010303870","相原　良哉",4,"大分県"]
["R010083876","相部　直輝",4,"大分県"]
["R010576521","青木　翔大",4,"大分県"]
["R010262588","青松　来樹",4,"大分県"]
["R010432641","青松　琉",4,"大分県"]
["R010120118","青山　義男",4,"大分県"]
["R010189294","赤木　修二",4,"大分県"]
["R010448637","赤木　陽斗",4,"大分県"]
["R010281803","赤坂　佳菜",4,"大分県"]
["R010542183","赤坂　謙弥",4,"大分県"]
["R010396550","赤田　椋",4,"大分県"]
["R010586321","赤野　陽亮",4,"大分県"]
["R001252947","赤星　勝",4,"大分県"]
["R010576578","赤間　祐稀",4,"大分県"]
["R010538396","赤峰　功己",4,"大分県"]
["R008174028","赤嶺　一宇",4,"大分県"]
["R010542186","赤峰　一弥",4,"大分県"]
["R010467250","赤嶺　翔哉",4,"大分県"]
["R010093427","赤峯　慎太郎",4,"大分県"]
["R010599603","赤嶺　智輝",4,"大分県"]
["R010445855","赤嶺　瞭",4,"大分県"]
["R010396556","阿賀　匠",4,"大分県"]
["R010386813","秋月　来望",4,"大分県"]
["R005603884","秋月　将吾",4,"大分県"]
["R010588866","秋廣　涼介",4,"大分県"]
["R010579103","秋吉　真怜",4,"大分県"]
["R010583774","麻川　琉真",4,"大分県"]
["R010594967","安里　耀",4,"大分県"]
["R001254990","朝山　睦夫",4,"大分県"]
["R010581182","畔津　大治郎",4,"大分県"]
["R010593967","麻生　庵",4,"大分県"]
["R010538302","麻生　元太",4,"大分県"]
["R010594953","麻生　大雅",4,"大分県"]
["R010538351","麻生　政裕",4,"大分県"]
["R010597287","麻生　陸斗",4,"大分県"]
["R010001949","麻生　凜太郎",4,"大分県"]
["R010467586","足立　桜太郎",4,"大分県"]
["R010449911","安達　健太",4,"大分県"]
["R010538347","安達　隼平",4,"大分県"]
["R010376316","安達　勉",4,"大分県"]
["R010588865","足立　暖和",4,"大分県"]
["R010538384","足立　悠真",4,"大分県"]
["R010467631","足立　陸矩",4,"大分県"]
["R010579110","阿地　優斗",4,"大分県"]
["R010391961","穴井　康太",4,"大分県"]
["R010576563","穴井　愛都",4,"大分県"]
["R010281862","阿南　理奈",4,"大分県"]
["R010539283","穴見　倫太郎",4,"大分県"]
["R010540699","阿南　幸輝",4,"大分県"]
["R010376330","阿南　広太朗",4,"大分県"]
["R010601884","阿南　統胡",4,"大分県"]
["R010388048","阿部　佑京",4,"大分県"]
["R010539271","阿部　開世",4,"大分県"]
["R010093439","阿部　和明",4,"大分県"]
["R010376299","阿部　斡汰",4,"大分県"]
["R010396564","阿部　凱斗",4,"大分県"]
["R010581165","阿部　恭兵",4,"大分県"]
["R010396552","阿部　賢次",4,"大分県"]
["R010581169","安部　幸一",4,"大分県"]
["R010167792","安部　航生",4,"大分県"]
["R010538373","阿部　航大",4,"大分県"]
["R001253344","阿部　哲士",4,"大分県"]
["R010540696","安部　仁太",4,"大分県"]
["R010576373","安部　奏輝",4,"大分県"]
["R010027824","安部　太貴",4,"大分県"]
["R001253326","阿部　孝之",4,"大分県"]
["R010376264","阿部　年男",4,"大分県"]
["R010167738","安倍　俊之",4,"大分県"]
["R010445852","阿部　那紀",4,"大分県"]
["R010167799","安倍　虎ノ介",4,"大分県"]
["R010593126","阿部　直斗",4,"大分県"]
["R010538320","阿部　渚",4,"大分県"]
["R010581180","阿部　夏樹",4,"大分県"]
["R010579147","安部　隼",4,"大分県"]
["R010593966","安部　颯将",4,"大分県"]
["R010599188","安部　広樹",4,"大分県"]
["R010549370","安部　美優",4,"大分県"]
["R010314829","安部　湧紀",4,"大分県"]
["R010579063","安部　凛音",4,"大分県"]
["R010259438","安部　陸翔",4,"大分県"]
["R010579109","阿部　竜樹",4,"大分県"]
["R010415886","阿部　涼",4,"大分県"]
["R010588881","天野　俊",4,"大分県"]
["R010350226","荒川　幸大",4,"大分県"]
["R010542167","荒金　洋一",4,"大分県"]
["R001253423","荒巻　成志",4,"大分県"]
["R008798165","荒巻　恭貴",4,"大分県"]
["R010552543","新本　崇翔",4,"大分県"]
["R007002715","有門　寿",4,"大分県"]
["R010189315","有須田　和宏",4,"大分県"]
["R010538332","有田　祥太朗",4,"大分県"]
["R010396506","有田　伸司",4,"大分県"]
["R010123024","有田　利広",4,"大分県"]
["R010445844","有田　陽翔",4,"大分県"]
["R010376343","有次　奏太朗",4,"大分県"]
["R010519836","有馬　綾音",4,"大分県"]
["R006125763","有村　光史",4,"大分県"]
["R010552552","有村　連空瑠",4,"大分県"]
["R010448639","有吉　敦弘",4,"大分県"]
["R010189282","安達　羽海",4,"大分県"]
["R010214574","安達　巧馬",4,"大分県"]
["R010356117","安達　帆海",4,"大分県"]
["R010546267","安藤　歩樹",4,"大分県"]
["R010579124","安東　聖輝",4,"大分県"]
["R010243643","安道　健斗",4,"大分県"]
["R007959158","安東　弘貴",4,"大分県"]
["R010357150","安藤　幸志郎",4,"大分県"]
["R010047303","安東　湖楠",4,"大分県"]
["R010376281","安藤　繁",4,"大分県"]
["R010432650","安東　慎平",4,"大分県"]
["R010453595","安東　壮大",4,"大分県"]
["R010243657","安藤　大河",4,"大分県"]
["R010453596","安藤　尊司",4,"大分県"]
["R010538292","安藤　卓也",4,"大分県"]
["R010539276","安東　龍秀",4,"大分県"]
["R010444509","安東　翼輝",4,"大分県"]
["R010598060","安藤　真輝",4,"大分県"]
["R010352995","安東　恭範",4,"大分県"]
["R010161902","安藤　幸歩",4,"大分県"]
["R010416216","安藤　梨愛",4,"大分県"]
["R010601886","安藤　律來",4,"大分県"]
["R010538315","安藤　綾太",4,"大分県"]
["R010588873","安藤　亮太",4,"大分県"]
["R002530383","阿武　志郎",4,"大分県"]
["R010586301","安部　颯",4,"大分県"]
["R010540070","安養寺　伸也",4,"大分県"]
["R010576571","井伊　祐月",4,"大分県"]
["R001253584","飯倉　洋介",4,"大分県"]
["R010538371","伊井野　大翔",4,"大分県"]
["R010281883","飯干　遼飛",4,"大分県"]
["R010352961","五十川　大雅",4,"大分県"]
["R010189286","伊賀　隆博",4,"大分県"]
["R010347366","池上　剛司",4,"大分県"]
["R010588864","池口　海",4,"大分県"]
["R010599585","池崎　聖矢",4,"大分県"]
["R010576390","池崎　倶矢",4,"大分県"]
["R006848873","池田　敏明",4,"大分県"]
["R010391943","池田　洋明",4,"大分県"]
["R005603662","池田　雅俊",4,"大分県"]
["R008649124","池田　愛都",4,"大分県"]
["R010347369","池田　未來都",4,"大分県"]
["R010586288","池田　来輝",4,"大分県"]
["R010594949","池田　琉生",4,"大分県"]
["R006937229","池田　航",4,"大分県"]
["R010396532","池永　壮佑",4,"大分県"]
["R010390444","池邉　楓",4,"大分県"]
["R010189318","池邉　晋",4,"大分県"]
["R010356113","池辺　青那",4,"大分県"]
["R010281879","池辺　雅也",4,"大分県"]
["R010448939","池部　愛和",4,"大分県"]
["R010588872","池邉　結斗",4,"大分県"]
["R010263778","伊﨑　陸人",4,"大分県"]
["R010347367","諫山　鮎斗",4,"大分県"]
["R010588868","諌山　蒼空",4,"大分県"]
["R010538324","諌山　巧",4,"大分県"]
["R010579087","諌山　琉生",4,"大分県"]
["R001253681","石井　重人",4,"大分県"]
["R010467695","石井　綾汰",4,"大分県"]
["R010391913","石井　伶弥",4,"大分県"]
["R010546324","石川　凰太",4,"大分県"]
["R009198399","石川　誠司",4,"大分県"]
["R010352993","石川　高光",4,"大分県"]
["R010576384","石川　唯斗",4,"大分県"]
["R010586289","石川　遥大",4,"大分県"]
["R010248588","石川　嶺瑠",4,"大分県"]
["R010538393","石﨑　蒼大",4,"大分県"]
["R010579090","石田　昭宏",4,"大分県"]
["R010539281","石田　亮太",4,"大分県"]
["R010593138","石濱　槙之助",4,"大分県"]
["R010576564","石橋　弓斗",4,"大分県"]
["R001253751","石松　大輔",4,"大分県"]
["R010540725","石丸　皇",4,"大分県"]
["R010281873","石本　和廣",4,"大分県"]
["R010546289","石本　知之介",4,"大分県"]
["R010583784","石本　星七",4,"大分県"]
["R010214555","石本　渉",4,"大分県"]
["R010576547","石山　友樹",4,"大分県"]
["R010415906","泉　颯飛",4,"大分県"]
["R004714712","和泉　宜幸",4,"大分県"]
["R010552538","和泉　宏幸",4,"大分県"]
["R010376313","泉　佑史朗",4,"大分県"]
["R010540697","板井　愛之助",4,"大分県"]
["R010576362","板井　航一",4,"大分県"]
["R010007837","板井　裕樹",4,"大分県"]
["R010583215","板井　勇樹",4,"大分県"]
["R010451966","市川　大馳",4,"大分県"]
["R010583775","市川　友翔",4,"大分県"]
["R010552568","市川　嘉樹",4,"大分県"]
["R010599593","一木　凱斗",4,"大分県"]
["R010255165","市原　佳典",4,"大分県"]
["R010546269","市原　龍生",4,"大分県"]
["R010189278","一丸　顕範",4,"大分県"]
["R010016111","一万田　陸",4,"大分県"]
["R007090808","一法師　直喜",4,"大分県"]
["R010261617","井手　智貴",4,"大分県"]
["R010453585","出田　竣",4,"大分県"]
["R008797926","出田　武",4,"大分県"]
["R010281846","伊藤　魁",4,"大分県"]
["R010588856","伊東　海星",4,"大分県"]
["R010259419","伊東　健一",4,"大分県"]
["R010376272","伊藤　賢治",4,"大分県"]
["R010214557","伊東　健太郎",4,"大分県"]
["R010281832","伊藤　浩介",4,"大分県"]
["R010546276","伊東　将星",4,"大分県"]
["R007959699","伊東　昇太郎",4,"大分県"]
["R010386818","伊藤　聖菜",4,"大分県"]
["R010243640","伊東　蒼馬",4,"大分県"]
["R010448920","伊藤　竜希",4,"大分県"]
["R010600675","伊東　直人",4,"大分県"]
["R010576380","伊東　春道",4,"大分県"]
["R010448642","伊藤　光琉",4,"大分県"]
["R009408898","伊藤　秀征",4,"大分県"]
["R010416225","伊藤　大翔",4,"大分県"]
["R010599606","伊藤　勇汰",4,"大分県"]
["R010579081","伊藤　瑠",4,"大分県"]
["R010281816","糸永　泰樹",4,"大分県"]
["R010539934","稲熊　勇成",4,"大分県","福岡県"]
["R010583769","稲葉　巧真",4,"大分県"]
["R010390419","稲吉　椋斗",4,"大分県"]
["R010546317","犬塚　惺哉",4,"大分県"]
["R008523312","井上　海",4,"大分県"]
["R010067951","井上　彩",4,"大分県"]
["R010347361","井上　太凱",4,"大分県"]
["R010586717","井上　陽翔",4,"大分県"]
["R010243651","井上　拓哉",4,"大分県"]
["R010141818","井上　直之",4,"大分県"]
["R010396596","井上　凌汰",4,"大分県"]
["R010376263","井上　航",4,"大分県"]
["R010396526","猪原　虹輝",4,"大分県"]
["R010581163","猪原　康弘",4,"大分県"]
["R010465598","井福　晃紀",4,"大分県"]
["R010576558","井堀　弘晶",4,"大分県"]
["R010451963","今井　優人",4,"大分県"]
["R010538348","今田　優太",4,"大分県"]
["R010386817","今村　咲羽",4,"大分県"]
["R010141834","今村　蓮",4,"大分県"]
["R010599871","今村　蓮",4,"大分県"]
["R006220624","今本　展也",4,"大分県"]
["R010444518","今山　碧雪",4,"大分県"]
["R010579071","芋岡　克征",4,"大分県"]
["R010579070","芋岡　翼",4,"大分県"]
["R010354819","井元　禅",4,"大分県"]
["R010448932","岩男　柊人",4,"大分県"]
["R010445832","岩尾　槙之助",4,"大分県"]
["R010465585","岩男　冬喜",4,"大分県"]
["R010352951","岩尾　誠",4,"大分県"]
["R010056098","岩尾　勇吾",4,"大分県"]
["R010538374","岩坂　遥斗",4,"大分県"]
["R010465578","岩坂　浩行",4,"大分県"]
["R010100663","岩崎　晋也",4,"大分県"]
["R010465595","岩崎　俊",4,"大分県"]
["R001254185","岩崎　利勝",4,"大分県"]
["R010599609","岩﨑　嘉人",4,"大分県"]
["R010586310","岩﨑　蓮武",4,"大分県"]
["R010601889","岩下　琉希",4,"大分県"]
["R007959176","岩田　進",4,"大分県"]
["R010376292","岩田　拓也",4,"大分県"]
["R010396598","岩田　和海",4,"大分県"]
["R010453588","岩田　晃輝",4,"大分県"]
["R010306436","岩田　優佑",4,"大分県"]
["R010007818","岩戸　敦史",4,"大分県"]
["R010189261","岩永　和馬",4,"大分県"]
["R010376282","岩野　貴文",4,"大分県"]
["R010248570","岩丸　英治",4,"大分県"]
["R010546284","岩丸　陽斗",4,"大分県"]
["R010579130","岩丸　虎雅",4,"大分県"]
["R006314464","岩丸　博季",4,"大分県"]
["R010432625","石見　祐人",4,"大分県"]
["R010576577","岩村　昂政",4,"大分県"]
["R010593139","岩本　健太郎",4,"大分県"]
["R010448635","岩本　好誠",4,"大分県"]
["R010599607","岩本　翔太郎",4,"大分県"]
["R010579092","岩本　武史",4,"大分県"]
["R010432609","岩本　将也",4,"大分県"]
["R010583770","岩本　凌真",4,"大分県"]
["R004111410","上尾　雅彰",4,"大分県"]
["R008480956","植垣　秀人",4,"大分県"]
["R010159752","植木　莉香",4,"大分県"]
["R010391923","上栗　一将",4,"大分県"]
["R010453593","上園　大和",4,"大分県"]
["R008797944","上田　晃",4,"大分県"]
["R010248034","上田　翔聖",4,"大分県"]
["R010552531","上田　龍汰",4,"大分県"]
["R010599597","上地　康太",4,"大分県"]
["R010601890","上野　暉仁",4,"大分県"]
["R010552551","上野　海翔",4,"大分県"]
["R010576555","上野　玄貴",4,"大分県"]
["R001251133","上野　貴士",4,"大分県"]
["R010386808","上野　仁胡",4,"大分県"]
["R010579101","上野　悠陽",4,"大分県"]
["R010313761","上野　亮司",4,"大分県"]
["R010552534","上野　蓮",4,"大分県"]
["R010354664","上村　俊介",4,"大分県"]
["R007959617","上屋　守",4,"大分県"]
["R010599180","宇木　聖ニ",4,"大分県"]
["R010579053","宇佐川　蓮太郎",4,"大分県"]
["R010593119","氏田　洵悠",4,"大分県"]
["R010432630","臼井　宏亮",4,"大分県"]
["R010448923","歌　好陸",4,"大分県"]
["R010448252","内田　花音",4,"大分県"]
["R007728549","内田　公夫",4,"大分県"]
["R010599587","内田　聖人",4,"大分県"]
["R010599189","内田　孝介",4,"大分県"]
["R010542199","内田　真悟",4,"大分県"]
["R010396563","内田　颯太",4,"大分県"]
["R010552535","内田　徹",4,"大分県"]
["R010549367","内田　真緒",4,"大分県"]
["R010396587","内田　結也",4,"大分県"]
["R010376341","内海　優斗",4,"大分県"]
["R010391966","有働　洋匡",4,"大分県"]
["R010542180","宇野　駿佑",4,"大分県"]
["R010313767","梅木　裕斗",4,"大分県"]
["R010214530","梅木　悠也",4,"大分県"]
["R010586729","梅田　尚弥",4,"大分県"]
["R010586726","梅田　侑虎",4,"大分県"]
["R010120178","梅田　竜一",4,"大分県"]
["R010128054","梅津　瑠暉",4,"大分県"]
["R010594966","梅野　歩",4,"大分県"]
["R010448930","梅本　琉成",4,"大分県"]
["R006093729","浦部　信哉",4,"大分県"]
["R010357998","浦邊　剛史",4,"大分県"]
["R010588875","浦本　心?",4,"大分県"]
["R010594947","浦本　優心",4,"大分県"]
["R010352945","瓜生　一裕",4,"大分県"]
["R010600681","漆間　泰我",4,"大分県"]
["R001254431","漆間　大士",4,"大分県"]
["R010594965","上船　賢史朗",4,"大分県"]
["R010542179","永路　拓実",4,"大分県"]
["R010391964","江頭　京佑",4,"大分県"]
["R010255169","江頭　徳也",4,"大分県"]
["R010538307","江上　颯太",4,"大分県"]
["R010120137","江上　智啓",4,"大分県"]
["R010576560","江川　脩斗",4,"大分県"]
["R010538296","江川　題磯",4,"大分県"]
["R010391938","江口　大貴",4,"大分県"]
["R010594948","江口　成",4,"大分県"]
["R010546298","江口　光翔",4,"大分県"]
["R010468356","江口　烈史",4,"大分県"]
["R010002119","江隈　健斗",4,"大分県"]
["R010445849","江島　迅人",4,"大分県"]
["R010169060","江島　礼奈斗",4,"大分県"]
["R010538368","衛藤　朱翔",4,"大分県"]
["R010552544","衛藤　庵",4,"大分県"]
["R004653305","衛藤　和憲",4,"大分県"]
["R008634274","江藤　恭平",4,"大分県"]
["R010444502","衞藤　公助",4,"大分県"]
["R010396518","江藤　真一",4,"大分県"]
["R010552564","恵藤　蒼太",4,"大分県"]
["R010465589","江藤　貴司",4,"大分県"]
["R010467579","江藤　大智",4,"大分県"]
["R010588854","江藤　司",4,"大分県"]
["R007959796","衛藤　智成",4,"大分県"]
["R010393994","衛藤　七海",4,"大分県"]
["R010601873","衞藤　遥也",4,"大分県"]
["R007728983","衛藤　秀高",4,"大分県"]
["R010600680","江藤　優希",4,"大分県"]
["R010444516","江藤　璃大",4,"大分県"]
["R010432648","衛藤　亮佑",4,"大分県"]
["R010391940","江藤　蓮",4,"大分県"]
["R010538319","江戸　利樹",4,"大分県"]
["R010583796","江良　明俊",4,"大分県"]
["R010354795","遠藤　翔大",4,"大分県"]
["R003350881","遠藤　朝春",4,"大分県"]
["R010352962","遠藤　優翔",4,"大分県"]
["R010432619","遠藤　之仁",4,"大分県"]
["R010599591","遠藤　了彩",4,"大分県"]
["R001254583","大芦　佳宏",4,"大分県"]
["R010189313","大石　周弥",4,"大分県"]
["R010313760","大石　琢斗",4,"大分県"]
["R010027883","大石　拓也",4,"大分県"]
["R010027821","大石　正雄",4,"大分県"]
["R010586290","大内　隆之介",4,"大分県"]
["R010453598","大川内　太陸",4,"大分県"]
["R010588859","大城　悠史",4,"大分県"]
["R010576570","大久保　彩斗",4,"大分県"]
["R010576382","大久保　宙",4,"大分県"]
["R005430163","大久保　広紀",4,"大分県"]
["R010351382","大久保　優心",4,"大分県"]
["R010546336","大久保　律輝",4,"大分県"]
["R010538299","大倉　舜佑",4,"大分県"]
["R010542173","大島　和暖",4,"大分県"]
["R010540701","太田　陽己",4,"大分県"]
["R010248567","太田　祐希",4,"大分県"]
["R010593121","太田　悠斗",4,"大分県"]
["R010159132","大谷　幸希",4,"大分県"]
["R010583773","大谷　悟史",4,"大分県"]
["R010388043","大谷　宗太郎",4,"大分県"]
["R010576359","大谷　琉惺",4,"大分県"]
["R010465580","大津　俊一",4,"大分県"]
["R010376317","大津　匠司",4,"大分県"]
["R010396538","大塚　紀彰",4,"大分県"]
["R010167737","大塚　誠也",4,"大分県"]
["R005528130","大塚　丈司",4,"大分県"]
["R010281805","大塚　雅基",4,"大分県"]
["R010415890","大塚　涼平",4,"大分県"]
["R010579043","大坪　俊介",4,"大分県"]
["R010159757","大津留　康代",4,"大分県"]
["R010546288","大戸　朝陽",4,"大分県"]
["R010243638","大友　開晴",4,"大分県"]
["R010576517","大友　海翔",4,"大分県"]
["R010314820","大友　尋平",4,"大分県"]
["R010390431","大友　響姫",4,"大分県"]
["R010599580","大西　ルイス",4,"大分県"]
["R010586295","大橋　凪",4,"大分県"]
["R010583799","大橋　颯",4,"大分県"]
["R010538317","大原　光人",4,"大分県"]
["R010444521","大庭　弘暉",4,"大分県"]
["R010538289","大場　将公",4,"大分県"]
["R010586303","大平　瑛翔",4,"大分県"]
["R010579089","大平　聖也",4,"大分県"]
["R010546281","大室　響",4,"大分県"]
["R010546319","大森　宗樹",4,"大分県"]
["R010214576","大屋　楓真",4,"大分県"]
["R010576529","大山　純一郎",4,"大分県"]
["R010599592","大山　弘貴",4,"大分県"]
["R010549366","岡　誉",4,"大分県"]
["R010539277","岡崎　碧",4,"大分県"]
["R010538342","岡崎　広夢",4,"大分県"]
["R010255182","岡田　一輝",4,"大分県"]
["R010083849","岡田　幸太郎",4,"大分県"]
["R005987412","岡田　隆行",4,"大分県"]
["R010538361","岡田　凜空",4,"大分県"]
["R005603200","岡田　涼平",4,"大分県"]
["R010593131","岡野　太一",4,"大分県"]
["R010552577","岡野　直人",4,"大分県"]
["R010391965","岡野　凜平",4,"大分県"]
["R010248029","岡部　純大",4,"大分県"]
["R010391957","岡部　巧武",4,"大分県"]
["R010513151","岡村　勇輝",4,"大分県"]
["R010599183","岡村　綾斗",4,"大分県"]
["R010538298","岡本　和也",4,"大分県"]
["R010538377","岡本　健司",4,"大分県"]
["R010546287","岡本　颯真",4,"大分県"]
["R010453578","岡本　登揮",4,"大分県"]
["R010376290","岡本　英明",4,"大分県"]
["R010538294","岡本　優",4,"大分県"]
["R010579059","岡本　有人",4,"大分県"]
["R010214449","岡本　陸",4,"大分県"]
["R010581161","小笠原　祐太",4,"大分県"]
["R010538549","緒方　謙伍",4,"大分県"]
["R010415912","小川　杏汰",4,"大分県"]
["R010542213","小川　騎立",4,"大分県"]
["R006901570","小川　健二",4,"大分県"]
["R010255177","小川　航平",4,"大分県"]
["R010465920","小川　遥暉",4,"大分県"]
["R010579067","小川　祐二",4,"大分県"]
["R010391951","荻本　翔",4,"大分県"]
["R010583771","荻本　玲也",4,"大分県"]
["R010579151","奥　祐翔",4,"大分県"]
["R010314808","於久　流絆晟",4,"大分県"]
["R010351378","奥田　翔太",4,"大分県"]
["R010546302","奥田　哲平",4,"大分県"]
["R010579126","奥田　智己",4,"大分県"]
["R001254972","奥野　真一郎",4,"大分県"]
["R010599179","奥村　祐利",4,"大分県"]
["R010189264","小栗　貴成",4,"大分県"]
["R010594941","桶舎　龍斗",4,"大分県"]
["R010415897","長田　知樹",4,"大分県"]
["R010099447","小澤　剛史",4,"大分県"]
["R010501273","押田　卓",4,"大分県"]
["R009546064","小田　邦昭",4,"大分県"]
["R010167750","小田　晴日",4,"大分県"]
["R010465611","小田巻　裕二",4,"大分県"]
["R010586294","小野　陽士",4,"大分県"]
["R010358202","小野　敦司",4,"大分県"]
["R010546323","小野　奏音",4,"大分県"]
["R010549371","小野　華凜",4,"大分県"]
["R010538304","小野　柑太",4,"大分県"]
["R004385936","小野　耕一",4,"大分県"]
["R010214597","小野　煌平",4,"大分県"]
["R010281854","小野　翔希",4,"大分県"]
["R010281828","小野　将司",4,"大分県"]
["R010465619","小野　翔馬",4,"大分県"]
["R010579120","小野　大斗",4,"大分県"]
["R010583800","小野　拓馬",4,"大分県"]
["R010579065","小野　拓海",4,"大分県"]
["R010248584","小野　天海",4,"大分県"]
["R010388059","小野　翔希斗",4,"大分県"]
["R010539289","小野　陽大",4,"大分県"]
["R010313764","小野　仁志",4,"大分県"]
["R010120112","小野　広道",4,"大分県"]
["R010093504","小野　裕希",4,"大分県"]
["R010100673","小野　裕司",4,"大分県"]
["R010467578","小野　悠太郎",4,"大分県"]
["R010445846","小野　佑馬",4,"大分県"]
["R010445830","小野　陽祐",4,"大分県"]
["R010376315","小野　祥弘",4,"大分県"]
["R010354804","小野　龍ノ介",4,"大分県"]
["R010539275","小野　羚稀",4,"大分県"]
["R010432633","小野　蓮央",4,"大分県"]
["R010357148","小野　蓮斗",4,"大分県"]
["R010538329","小原　世楠",4,"大分県"]
["R010167812","小原　優斗",4,"大分県"]
["R010586720","小畑　歩来",4,"大分県"]
["R006574048","尾林　秀章",4,"大分県"]
["R010586330","小俣　慶一郎",4,"大分県"]
["R010352968","尾本　想太",4,"大分県"]
["R010363047","オン　ビョンフン",4,"大分県"]
["R010388040","甲斐　照",4,"大分県"]
["R005164446","甲斐　一翠",4,"大分県"]
["R005164613","甲斐　英治",4,"大分県"]
["R010600673","甲斐　順平",4,"大分県"]
["R005987388","甲斐　直樹",4,"大分県"]
["R010579094","甲斐　勇聖",4,"大分県"]
["R006314455","甲斐　竜二",4,"大分県"]
["R010391942","甲斐　龍成",4,"大分県"]
["R001255281","甲斐　亮介",4,"大分県"]
["R010583783","甲斐　亮佑",4,"大分県"]
["R010599600","甲斐　蓮土",4,"大分県"]
["R010214529","加賀　寿一",4,"大分県"]
["R010262594","香川　航汰",4,"大分県"]
["R010448236","香川　千璃",4,"大分県"]
["R010189343","香川　真弓",4,"大分県"]
["R005987397","香川　豊",4,"大分県"]
["R010390414","垣内　太陽",4,"大分県"]
["R010594952","角田　真治",4,"大分県"]
["R010552565","加隈　歩夢",4,"大分県"]
["R010465596","角谷　直樹",4,"大分県"]
["R010347377","鹿毛　雅人",4,"大分県"]
["R010597283","笠　琳登",4,"大分県"]
["R009545913","笠村　大",4,"大分県"]
["R010214467","笠村　凜",4,"大分県"]
["R010007813","加治　周也",4,"大分県"]
["R001255342","梶川　正和",4,"大分県"]
["R010579046","梶原　愛誠",4,"大分県"]
["R010281841","梶原　明空",4,"大分県"]
["R010579149","梶原　琥汰",4,"大分県"]
["R010007838","梶原　孝平",4,"大分県"]
["R010120174","梶原　規史",4,"大分県"]
["R010579075","梶原　凌",4,"大分県"]
["R010576370","片島　啓太",4,"大分県"]
["R010313766","片山　達郎",4,"大分県"]
["R008634593","片山　雄一",4,"大分県"]
["R010214621","加田　真",4,"大分県"]
["R010156504","勝木　翔也",4,"大分県"]
["R010444517","香月　隆之介",4,"大分県"]
["R010167782","葛城　征吾",4,"大分県"]
["R010576372","葛城　暖",4,"大分県"]
["R010465592","加藤　大樹",4,"大分県"]
["R010396549","加藤　晴久",4,"大分県"]
["R010448241","加藤　大",4,"大分県"]
["R010599172","加藤　正雄",4,"大分県"]
["R010576363","加藤　悠汰",4,"大分県"]
["R010583786","加藤　航",4,"大分県"]
["R010583757","角　晋太郎",4,"大分県"]
["R010552546","金江　徹平",4,"大分県"]
["R010538326","金丸　顕和",4,"大分県"]
["R010448925","金丸　大海",4,"大分県"]
["R010583803","金森　空良",4,"大分県"]
["R010255162","金山　斗和",4,"大分県"]
["R010546300","金子　周太",4,"大分県"]
["R010581176","兼田　秀虎",4,"大分県"]
["R010586326","鎌田　虎之介",4,"大分県"]
["R010540038","上城　司",4,"大分県"]
["R010027818","紙谷　昌弥",4,"大分県"]
["R010594954","神野　晃汰",4,"大分県"]
["R010542198","神原　和希",4,"大分県"]
["R010546275","上村　叶多",4,"大分県"]
["R010549369","亀井　友花",4,"大分県"]
["R010467574","亀谷　柊斗",4,"大分県"]
["R005603282","亀山　万生",4,"大分県"]
["R010352950","萱島　良太",4,"大分県"]
["R002917476","河井　寛次郎",4,"大分県"]
["R010538403","河合　咲太",4,"大分県"]
["R010586298","河合　来城",4,"大分県"]
["R010386814","河合　瑠彩",4,"大分県"]
["R010445833","河内　竜樹",4,"大分県"]
["R010576575","川内　陸翔",4,"大分県"]
["R010552537","川上　郁央",4,"大分県"]
["R010248572","川口　航平",4,"大分県"]
["R010314824","川口　俊輔",4,"大分県"]
["R010579054","川口　翔太",4,"大分県"]
["R010352965","川口　翼",4,"大分県"]
["R010248569","川口　勇騎",4,"大分県"]
["R010576567","川口　優人",4,"大分県"]
["R010579133","川崎　太洋",4,"大分県"]
["R010583785","川嶋　映多",4,"大分県"]
["R010448924","川尻　暁斗",4,"大分県"]
["R010347373","河津　柊志",4,"大分県"]
["R010586721","河津　瑛斗",4,"大分県"]
["R010415898","河津　魁羅",4,"大分県"]
["R010579079","河津　悠星",4,"大分県"]
["R010386810","川手　茉央",4,"大分県"]
["R010421578","川浪　尚人",4,"大分県"]
["R010159751","川浪　実歩",4,"大分県"]
["R010546290","河野　優生",4,"大分県"]
["R010538397","河野　栄磨",4,"大分県"]
["R010451956","川野　快斗",4,"大分県"]
["R010448942","河野　楓",4,"大分県"]
["R010189268","河野　功寛",4,"大分県"]
["R010583789","川野　公聖",4,"大分県"]
["R006220606","河野　成利",4,"大分県"]
["R010539287","河野　松介",4,"大分県"]
["R010586201","川野　真司",4,"大分県"]
["R010396561","川野　陣",4,"大分県"]
["R010432651","河野　太陽",4,"大分県"]
["R010415887","河野　拓巳",4,"大分県"]
["R010189263","河野　徹郎",4,"大分県"]
["R010027894","河野　斗馬",4,"大分県"]
["R010390422","河野　桐也",4,"大分県"]
["R010538375","河野　虎之介",4,"大分県"]
["R010599589","川野　菜緒",4,"大分県"]
["R010538388","河野　夏",4,"大分県"]
["R010396562","川野　迅翔",4,"大分県"]
["R010546297","河野　聖",4,"大分県"]
["R010376293","河野　仁志",4,"大分県"]
["R010579055","河野　暖大",4,"大分県"]
["R010214628","川野　裕貴",4,"大分県"]
["R010542203","河野　祐輔",4,"大分県"]
["R010586329","河野　悠翔",4,"大分県"]
["R010262595","川野　竜聖",4,"大分県"]
["R010576365","河野　遼汰",4,"大分県"]
["R010467836","川野　流楓",4,"大分県"]
["R010549365","川端　沙雪",4,"大分県"]
["R010357147","川端　正倫",4,"大分県"]
["R010601871","川邊　恒輝",4,"大分県"]
["R010468327","川辺　湊太",4,"大分県"]
["R009198487","川邉　太一朗",4,"大分県"]
["R010396583","川邊　智己",4,"大分県"]
["R005405264","河村　航大",4,"大分県"]
["R010396560","河村　長雲",4,"大分県"]
["R006220129","河村　哲二",4,"大分県"]
["R001255908","河村　信善",4,"大分県"]
["R010396525","河村　陽平",4,"大分県"]
["R010539272","河室　大地",4,"大分県"]
["R010601880","河面　青空",4,"大分県"]
["R010546340","神崎　来実",4,"大分県"]
["R010396520","神崎　大輔",4,"大分県"]
["R008798101","神田　毅",4,"大分県"]
["R010396529","神田　武志",4,"大分県"]
["R010449910","神田　裕",4,"大分県"]
["R010542195","木内　諭貴久",4,"大分県"]
["R010576535","菊口　和希",4,"大分県"]
["R001255953","菊田　興太郎",4,"大分県"]
["R010432646","菊池　敏志",4,"大分県"]
["R003972586","菊地　誠",4,"大分県"]
["R010214551","菊地　隆之輔",4,"大分県"]
["R010538345","菊屋　令",4,"大分県"]
["R001255980","木嶋　高行",4,"大分県"]
["R010546303","北川　奏",4,"大分県"]
["R010313776","北河　祐一",4,"大分県"]
["R008798147","キタニ　大希",4,"大分県"]
["R010576509","木谷　亮太",4,"大分県"]
["R010542197","木付　晴翔",4,"大分県"]
["R010214583","木津　浩太",4,"大分県"]
["R010214584","木津　春歌",4,"大分県"]
["R010538331","木戸　航大",4,"大分県"]
["R010546304","衣笠　勇輝",4,"大分県"]
["R001256031","木下　和夫",4,"大分県"]
["R010546305","木下　敬介",4,"大分県"]
["R010396543","木下　広貴",4,"大分県"]
["R010444512","木下　泰暉",4,"大分県"]
["R008798138","木下　秀紀",4,"大分県"]
["R010356143","木原　将和",4,"大分県"]
["R010542211","岐部　匠",4,"大分県"]
["R001256068","岐部　裕二",4,"大分県"]
["R010248580","木村　一平",4,"大分県"]
["R010576552","木村　颯太",4,"大分県"]
["R010583778","木村　太陽",4,"大分県"]
["R010451957","木村　勇斗",4,"大分県"]
["R010552550","木村　翔瑛",4,"大分県"]
["R010593120","木村　凌",4,"大分県"]
["R010538369","木本　心",4,"大分県"]
["R010448240","木本　博昭",4,"大分県"]
["R010552562","清末　歩夢",4,"大分県"]
["R010581166","清末　智暉",4,"大分県"]
["R010538337","清末　七翔",4,"大分県"]
["R010586306","清末　勘之",4,"大分県"]
["R010552571","清末　隆生",4,"大分県"]
["R010281797","清原　勇二",4,"大分県"]
["R010415896","清原　耀",4,"大分県"]
["R010261615","吉良　匡弘",4,"大分県"]
["R010593963","吉良　優輝",4,"大分県"]
["R001256183","吉良　陽平",4,"大分県"]
["R010455154","切封　蹴人",4,"大分県"]
["R010586314","桐村　虎夢",4,"大分県"]
["R010189291","釘宮　孝史",4,"大分県"]
["R010248041","釘宮　翼",4,"大分県"]
["R010354661","日下　拓人",4,"大分県"]
["R010583761","日下部　悠大",4,"大分県"]
["R010313754","櫛野　理弘",4,"大分県"]
["R010539278","楠田　優",4,"大分県"]
["R010579060","楠野　裕也",4,"大分県"]
["R010334503","楠　明日香",4,"大分県"]
["R010542190","楠木　裕二",4,"大分県"]
["R010351368","楠元　和馬",4,"大分県"]
["R010576541","葛西　翔太",4,"大分県"]
["R010376336","沓掛　聖和",4,"大分県"]
["R010538387","工藤　元気",4,"大分県"]
["R010579146","工藤　渉",4,"大分県"]
["R010261616","工藤　大昌",4,"大分県"]
["R009546116","工藤　忠弘",4,"大分県"]
["R010576385","工藤　大明",4,"大分県"]
["R010579123","工藤　凪",4,"大分県"]
["R010586300","工藤　光向太",4,"大分県"]
["R001256253","工藤　洋",4,"大分県"]
["R001256244","工藤　光範",4,"大分県"]
["R010083877","工藤　大和",4,"大分県"]
["R010396522","工藤　竜世",4,"大分県"]
["R010538367","工藤　凌成",4,"大分県"]
["R010576543","国武　祥澄",4,"大分県"]
["R010162988","国広　雄陽",4,"大分県"]
["R010214468","久保　花暖",4,"大分県"]
["R010465620","久保　宏太",4,"大分県"]
["R008793249","久保　茂樹",4,"大分県"]
["R010376344","久保　翔太郎",4,"大分県"]
["R010540700","久保　颯香",4,"大分県"]
["R010583764","久保　雄平",4,"大分県"]
["R010396541","久保　幸弥",4,"大分県"]
["R010352939","久保田　智史",4,"大分県"]
["R010594959","窪田　大地",4,"大分県"]
["R010589056","久保田　隼斗",4,"大分県"]
["R010027820","久保山　崇",4,"大分県"]
["R010450128","熊井　貴司",4,"大分県"]
["R010450129","熊井　優斗",4,"大分県"]
["R010579132","熊谷　颯人",4,"大分県"]
["R010546306","倉田　煌大",4,"大分県"]
["R010586724","倉田　康成",4,"大分県"]
["R010391937","倉盛　雅基",4,"大分県"]
["R010448643","栗井　蓮",4,"大分県"]
["R010599598","栗原　竜",4,"大分県"]
["R010552553","栗山　隼人",4,"大分県"]
["R010444503","黒木　祥悟",4,"大分県"]
["R010513913","黒木　大治郎",4,"大分県"]
["R010281807","黒木　一輝",4,"大分県"]
["R010386822","黒田　珠樺",4,"大分県"]
["R010546307","黒田　侑希",4,"大分県"]
["R010501305","桑野　宏幸",4,"大分県"]
["R010520028","桑原　率",4,"大分県"]
["R010248040","桑原　誓良",4,"大分県"]
["R001256387","桑原　剛志",4,"大分県"]
["R010432618","桑原　優人",4,"大分県"]
["R010538366","桑原　力飛",4,"大分県"]
["R010576371","桑山　元汰",4,"大分県"]
["R010579119","郡司島　樹",4,"大分県"]
["R010542184","小石　圭亮",4,"大分県"]
["R010519835","小泉　碧美",4,"大分県"]
["R010214595","小泉　斗眞",4,"大分県"]
["R010255153","小岩　晴久",4,"大分県"]
["R010391959","高　昇辰",4,"大分県"]
["R010189321","神志那　公市",4,"大分県"]
["R010281843","江田　秀斗",4,"大分県"]
["R010599182","幸田　晨佑",4,"大分県"]
["R010576520","江田　麟太郎",4,"大分県"]
["R010586308","河野　一翔",4,"大分県"]
["R010546274","河野　泰良",4,"大分県"]
["R001255670","河野　千恵子",4,"大分県"]
["R010376319","河野　匡視",4,"大分県"]
["R010586325","河野　陸",4,"大分県"]
["R010599594","香梅　慎",4,"大分県"]
["R010189273","高麗　勇輝",4,"大分県"]
["R010579088","古賀　貫太郎",4,"大分県"]
["R010347375","古賀　奏太郎",4,"大分県"]
["R010396510","古賀　時宗",4,"大分県"]
["R002530277","古賀　博喜",4,"大分県"]
["R006574206","古賀　雅則",4,"大分県"]
["R010162996","小越　憲太郎",4,"大分県"]
["R010583795","古城　帆貴",4,"大分県"]
["R010396586","小杉　青空",4,"大分県"]
["R010579057","児玉　敦志",4,"大分県"]
["R010386815","児玉　一穂",4,"大分県"]
["R010357149","児玉　空悟",4,"大分県"]
["R010444511","兒玉　朔都",4,"大分県"]
["R010313775","児玉　伸",4,"大分県"]
["R010552559","児玉　准哉",4,"大分県"]
["R010259431","兒玉　颯斗",4,"大分県"]
["R010159131","児玉　勇翔",4,"大分県"]
["R010169042","児玉　悠介",4,"大分県"]
["R010445239","児玉　佑太",4,"大分県"]
["R010538305","児玉　龍飛",4,"大分県"]
["R010448922","児玉　留己也",4,"大分県"]
["R005528060","小手川　洋介",4,"大分県"]
["R010467696","小手川　蓮",4,"大分県"]
["R010581156","小寺　一廣",4,"大分県"]
["R010576530","琴尾　敬太",4,"大分県"]
["R010450132","小洞　晴哉",4,"大分県"]
["R010552579","木場　漸",4,"大分県"]
["R010448940","小林　神月",4,"大分県"]
["R010583804","小林　奏翔",4,"大分県"]
["R010588880","小林　幹大",4,"大分県"]
["R004226712","小林　覚",4,"大分県"]
["R010546326","小林　昴琉",4,"大分県"]
["R010599583","小林　優仁",4,"大分県"]
["R010255174","小林　亮太",4,"大分県"]
["R010538355","小深田　大晟",4,"大分県"]
["R010597290","小松　隼人",4,"大分県"]
["R010576519","小松　弘毅",4,"大分県"]
["R010549364","小松　由奈",4,"大分県"]
["R010261603","古屋　友晟",4,"大分県"]
["R010542166","古谷　悠汰",4,"大分県"]
["R010347385","小山　大輝",4,"大分県"]
["R006664855","近藤　孝司",4,"大分県"]
["R010594963","近藤　秀翔",4,"大分県"]
["R010601876","近藤　拓斗",4,"大分県"]
["R010540721","近藤　拓海",4,"大分県"]
["R010509969","合谷　佑木",4,"大分県"]
["R010588857","郷地　拓真",4,"大分県"]
["R009546091","五所　睦雄",4,"大分県"]
["R010583779","後藤　碧斗",4,"大分県"]
["R010539279","後藤　彰臣",4,"大分県"]
["R010593962","後藤　綾心",4,"大分県"]
["R010432627","後藤　英斗",4,"大分県"]
["R010163001","後藤　快斗",4,"大分県"]
["R001256572","後藤　儀一郎",4,"大分県"]
["R010583797","後藤　慶",4,"大分県"]
["R010067950","後藤　恵子",4,"大分県"]
["R010354802","後藤　圭梧",4,"大分県"]
["R005987519","後藤　慶太郎",4,"大分県"]
["R010576369","後藤　健伍",4,"大分県"]
["R001256590","後藤　幸治",4,"大分県"]
["R003421426","後藤　茂好",4,"大分県"]
["R003256044","後藤　真一",4,"大分県"]
["R001256606","後藤　信也",4,"大分県"]
["R010581179","後藤　淳哉",4,"大分県"]
["R010432636","後藤　正剛",4,"大分県"]
["R010255175","後藤　颯太",4,"大分県"]
["R010193704","後藤　健文",4,"大分県"]
["R005603671","後藤　達也",4,"大分県"]
["R010539321","後藤　大輝",4,"大分県"]
["R010579143","後藤　凪海",4,"大分県"]
["R001256554","後藤　寿",4,"大分県"]
["R007090978","後藤　洋彰",4,"大分県"]
["R010303884","後藤　文太",4,"大分県"]
["R010396547","後藤　真弥",4,"大分県"]
["R010538300","後藤　睦希",4,"大分県"]
["R010354663","後藤　大和",4,"大分県"]
["R010586296","後藤　優空",4,"大分県"]
["R010396571","後藤　勇飛",4,"大分県"]
["R010120116","後藤　芳健",4,"大分県"]
["R010001964","後藤　亮一",4,"大分県"]
["R010538364","後藤　凛太朗",4,"大分県"]
["R010538336","後藤　涼之介",4,"大分県"]
["R010539282","佐伯　圭介",4,"大分県"]
["R010552532","佐伯　正一",4,"大分県"]
["R010467244","齋藤　健智",4,"大分県"]
["R010376289","齋藤　俊孝",4,"大分県"]
["R010540709","斉藤　晄吏",4,"大分県"]
["R010468352","斉藤　祐輔",4,"大分県"]
["R008173685","斎藤　亮真",4,"大分県"]
["R010546329","西耒　龍界",4,"大分県"]
["R010552567","酒井　碧海",4,"大分県"]
["R010448935","酒井　洸太",4,"大分県"]
["R010579099","酒井　琥士朗",4,"大分県"]
["R006932525","酒井　泰峰",4,"大分県"]
["R010546308","酒井　渉",4,"大分県"]
["R010538308","榊原　隆之輔",4,"大分県"]
["R010189326","坂田　大樹",4,"大分県"]
["R010576358","坂本　和哉",4,"大分県"]
["R010600678","坂本　航輝",4,"大分県"]
["R010542182","坂元　達啓",4,"大分県"]
["R010388052","坂本　晴陽",4,"大分県"]
["R010071981","坂本　璃王",4,"大分県"]
["R010283833","坂本　莉音",4,"大分県"]
["R010421577","坂本　陸",4,"大分県"]
["R010581164","相良　晃平",4,"大分県"]
["R010599175","相良　雅斗",4,"大分県"]
["R008173746","相良　宣雄",4,"大分県"]
["R010444490","櫻井　貴寛",4,"大分県"]
["R010576381","櫻木　海晴",4,"大分県"]
["R010542194","迫　聖一郎",4,"大分県"]
["R010594962","佐々木　凰我",4,"大分県"]
["R010432604","佐々木　匠実",4,"大分県"]
["R010586324","佐々木　陽音",4,"大分県"]
["R010586315","佐々木　大和",4,"大分県"]
["R010281874","指原　健太郎",4,"大分県"]
["R010214626","指原　徹志",4,"大分県"]
["R010396573","佐田　惇",4,"大分県"]
["R010189039","目　匡弘",4,"大分県"]
["R010259437","佐藤　愛莉",4,"大分県"]
["R001257076","佐藤　明",4,"大分県"]
["R010538390","佐藤　歩虎",4,"大分県"]
["R010540710","佐藤　應之佑",4,"大分県"]
["R010448943","佐藤　凱翔",4,"大分県"]
["R010376318","佐藤　一史",4,"大分県"]
["R010432647","佐藤　亨志郎",4,"大分県"]
["R010396579","佐藤　健司",4,"大分県"]
["R010552536","佐藤　航輝",4,"大分県"]
["R010552574","佐藤　洸輝",4,"大分県"]
["R010396604","佐藤　耕輔",4,"大分県"]
["R010579095","佐藤　修一",4,"大分県"]
["R010540704","佐藤　愁哲",4,"大分県"]
["R010599176","佐藤　周平",4,"大分県"]
["R010432632","佐藤　秀哉",4,"大分県"]
["R010538354","佐藤　秀弥",4,"大分県"]
["R010432602","佐藤　翔太",4,"大分県"]
["R004386306","佐藤　慎也",4,"大分県"]
["R010262644","佐藤　颯",4,"大分県"]
["R010599596","佐藤　匠未",4,"大分県"]
["R001257085","佐藤　武吉",4,"大分県"]
["R010552561","佐藤　哲也",4,"大分県"]
["R010594942","佐藤　直",4,"大分県"]
["R010599178","佐藤　大翔",4,"大分県"]
["R010189325","佐藤　遥哉",4,"大分県"]
["R001257137","佐藤　秀勝",4,"大分県"]
["R010538322","佐藤　浩樹",4,"大分県"]
["R010354658","佐藤　史典",4,"大分県"]
["R010376310","佐藤　雅斗吏",4,"大分県"]
["R010465577","佐藤　守",4,"大分県"]
["R005603389","佐藤　光雄",4,"大分県"]
["R010599169","佐藤　元気",4,"大分県"]
["R010581171","佐藤　優",4,"大分県"]
["R010586313","佐藤　佑樹",4,"大分県"]
["R010465593","佐藤　祐親",4,"大分県"]
["R010391925","佐藤　祐介",4,"大分県"]
["R010538353","佐藤　悠星",4,"大分県"]
["R010579128","佐藤　悠晴",4,"大分県"]
["R010396516","佐藤　侑大",4,"大分県"]
["R010243660","佐藤　勇仁",4,"大分県"]
["R010444501","佐藤　悠登",4,"大分県"]
["R010538306","佐藤　悠人",4,"大分県"]
["R010069874","佐藤　佑哉",4,"大分県"]
["R010314823","佐藤　善成",4,"大分県"]
["R007729210","佐藤　教春",4,"大分県"]
["R010593964","佐藤　圭悠",4,"大分県"]
["R010451955","佐藤　璃空",4,"大分県"]
["R010552573","佐藤　陸",4,"大分県"]
["R010579096","佐藤　亮次",4,"大分県"]
["R010593133","佐藤　涼介",4,"大分県"]
["R010583788","佐藤　凛太朗",4,"大分県"]
["R010579112","佐藤　凛乃丞",4,"大分県"]
["R010588870","佐藤　琉偉",4,"大分県"]
["R010453590","佐藤　羚矢",4,"大分県"]
["R010453594","佐藤　伶凰",4,"大分県"]
["R010396509","佐藤　蓮太",4,"大分県"]
["R010599595","眞田　裕馬",4,"大分県"]
["R010388045","實松　祐輝",4,"大分県"]
["R010448933","佐野　大葵",4,"大分県"]
["R010214533","鮫島　裕貴",4,"大分県"]
["R010376311","澤井　駿樂",4,"大分県"]
["R010390432","沢田　奏太",4,"大分県"]
["R010376331","澤田　弘教",4,"大分県"]
["R010396568","澤永　悠樹",4,"大分県"]
["R010358004","澤藤　慎之助",4,"大分県"]
["R010540720","三堂　楽斗",4,"大分県"]
["R010594958","山王　拓海",4,"大分県"]
["R010415891","三ノ宮　真吾",4,"大分県"]
["R010448919","三ノ宮　琉偉",4,"大分県"]
["R010576536","三分一　彪斗",4,"大分県"]
["R010100659","財前　友担",4,"大分県"]
["R010432654","財前　飛向",4,"大分県"]
["R010586297","財前　大翔",4,"大分県"]
["R010588874","財津　翔大",4,"大分県"]
["R010538386","財津　亮介",4,"大分県"]
["R005603291","椎原　健夫",4,"大分県"]
["R010597286","椎橋　風仁",4,"大分県"]
["R010601891","塩治　晴士",4,"大分県"]
["R010601882","塩治　輝",4,"大分県"]
["R010542200","鹿内　克彦",4,"大分県"]
["R010281801","志賀　泰二",4,"大分県"]
["R010599184","志賀　裕太",4,"大分県"]
["R010579058","式村　龍馬",4,"大分県"]
["R010391927","重　遥大",4,"大分県"]
["R010542188","重住　優成",4,"大分県"]
["R001257304","重藤　光",4,"大分県"]
["R010391920","重松　剛史",4,"大分県"]
["R010583765","重光　淳乃介",4,"大分県"]
["R010538301","重光　日向",4,"大分県"]
["R010588882","志堂寺　和之介",4,"大分県"]
["R010576556","品川　魁杜",4,"大分県"]
["R010594951","篠崎　晟哉",4,"大分県"]
["R010579048","篠田　怜央",4,"大分県"]
["R010601870","柴田　琥生",4,"大分県"]
["R010540695","柴田　峻徳",4,"大分県"]
["R010450024","柴田　毅",4,"大分県"]
["R010601874","柴田　優治",4,"大分県"]
["R010583772","渋谷　駿",4,"大分県"]
["R010415895","島　拓朗",4,"大分県"]
["R010539273","島岡　歩",4,"大分県"]
["R010167757","嶋岡　烈士",4,"大分県"]
["R007959592","島崎　雄大",4,"大分県"]
["R001257447","島谷　真司",4,"大分県"]
["R010356121","嶌田　幸志",4,"大分県"]
["R010313749","嶋田　尚祐",4,"大分県"]
["R010445837","嶋田　祐也",4,"大分県"]
["R010391958","島田　蓮平",4,"大分県"]
["R010391963","島津　悠揮",4,"大分県"]
["R010586719","嶋津　慶真",4,"大分県"]
["R010465614","島畑　欣史",4,"大分県"]
["R010396565","清水　和",4,"大分県"]
["R010601877","清水　丈太郎",4,"大分県"]
["R005986981","清水　聖徳",4,"大分県"]
["R010579105","清水　颯太",4,"大分県"]
["R010069898","清水　樹生",4,"大分県"]
["R010189304","清水　哲也",4,"大分県"]
["R010255172","清水　寛人",4,"大分県"]
["R010421576","清水　碧倭",4,"大分県"]
["R010593958","清水　瑞樹",4,"大分県"]
["R010264990","清水　友貴",4,"大分県"]
["R010303857","清水　羅偉",4,"大分県"]
["R010093497","七五三　正寿",4,"大分県"]
["R010576361","下久保　魅兎",4,"大分県"]
["R010594964","下地　里旺",4,"大分県"]
["R010576515","下畑　凜太朗",4,"大分県"]
["R010453576","周藤　彼方",4,"大分県"]
["R010579135","周藤　光輝",4,"大分県"]
["R010467838","宿利　一冴",4,"大分県"]
["R010581170","首藤　康司",4,"大分県"]
["R010465612","首藤　貴志",4,"大分県"]
["R010581167","首藤　崇浩",4,"大分県"]
["R010352940","首藤　保",4,"大分県"]
["R008643838","首藤　翼",4,"大分県"]
["R007002645","首藤　晴美",4,"大分県"]
["R010581158","首藤　英俊",4,"大分県"]
["R010354788","首藤　弘樹",4,"大分県"]
["R010376326","首藤　博貴",4,"大分県"]
["R010376340","首藤　正叡",4,"大分県"]
["R010432614","首藤　唯斗",4,"大分県"]
["R010356122","首藤　航",4,"大分県"]
["R010162994","首藤　光翼",4,"大分県"]
["R005527362","庄司　誠",4,"大分県"]
["R009460533","庄部　正人",4,"大分県"]
["R010546309","庄部　優汰",4,"大分県"]
["R010445243","庄司　壮甫",4,"大分県"]
["R010352971","白石　琥太郎",4,"大分県"]
["R010599602","白石　匠皇",4,"大分県"]
["R010259417","白岩　孝啓",4,"大分県"]
["R010579134","白岩　裕晟",4,"大分県"]
["R010354662","秦　琥太郎",4,"大分県"]
["R010350238","秦　鼓乃実",4,"大分県"]
["R010306453","秦　翔平",4,"大分県"]
["R010444489","秦　拓真",4,"大分県"]
["R010451965","秦　龍也",4,"大分県"]
["R010451964","秦　翼早",4,"大分県"]
["R010579104","秦　涼介",4,"大分県"]
["R010599874","新谷　敏希",4,"大分県"]
["R010576532","新谷　天斗",4,"大分県"]
["R010576525","新立　龍真",4,"大分県"]
["R010579091","進藤　匠翔",4,"大分県"]
["R010546283","新納　奏太",4,"大分県"]
["R010579086","新原　遥翔",4,"大分県"]
["R010347368","新原　優翔",4,"大分県"]
["R009567863","新村　亘未",4,"大分県"]
["R010579129","軸丸　生己",4,"大分県"]
["R006123774","軸丸　耕平",4,"大分県"]
["R010313772","軸丸　翔矢",4,"大分県"]
["R010303859","字室　航平",4,"大分県"]
["R010542212","上崎　俊介",4,"大分県"]
["R010467245","城野　皇我",4,"大分県"]
["R010579073","城野　大翔",4,"大分県"]
["R010347371","城野　雅翔",4,"大分県"]
["R010576518","陣内　拓海",4,"大分県"]
["R007959167","須浦　清隆",4,"大分県"]
["R010449909","末　洸樹",4,"大分県"]
["R010189331","末崎　智也",4,"大分県"]
["R010579052","末﨑　賢光",4,"大分県"]
["R010586716","末竹　快健",4,"大分県"]
["R004055424","末綱　海人",4,"大分県"]
["R001257711","末綱　航大",4,"大分県"]
["R006148463","末綱　太舟",4,"大分県"]
["R010546310","末綱　倖成",4,"大分県"]
["R009545995","末永　成久",4,"大分県"]
["R010552569","末成　隼",4,"大分県"]
["R010593140","末平　陽祐",4,"大分県"]
["R010546311","末弘　智亮",4,"大分県"]
["R010546318","末元　隼太",4,"大分県"]
["R010390421","菅　左京",4,"大分県"]
["R010588862","菅　晴稀",4,"大分県"]
["R010579127","菅　陽翔",4,"大分県"]
["R007959820","菅　博幸",4,"大分県"]
["R010593132","須賀　隆太",4,"大分県"]
["R010542209","菅田　和真",4,"大分県"]
["R010453579","菅原　颯太",4,"大分県"]
["R010453587","菅原　悠貴",4,"大分県"]
["R010581177","須川　愛琉",4,"大分県"]
["R010448634","菅川　青空",4,"大分県"]
["R008798004","杉崎　誠",4,"大分県"]
["R010599611","杉田　翔",4,"大分県"]
["R010594961","杉田　凱風",4,"大分県"]
["R005528103","杉野　岳士",4,"大分県"]
["R006220369","杉本　哲太",4,"大分県"]
["R010281838","鈴江　真士",4,"大分県"]
["R010281839","鈴江　涼生",4,"大分県"]
["R010214548","鈴木　公大",4,"大分県"]
["R010465610","須藤　聡",4,"大分県"]
["R010067965","須藤　夏羽",4,"大分県"]
["R010247793","須藤　美羽",4,"大分県"]
["R007959185","巣野　哲平",4,"大分県"]
["R010214540","隅田　渚斗",4,"大分県"]
["R010356124","隅田　波希",4,"大分県"]
["R010303863","住田　翔",4,"大分県"]
["R010162998","圖師　好至朗",4,"大分県"]
["R010576507","清家　海佐輝",4,"大分県"]
["R003258422","関　一昭",4,"大分県"]
["R001257809","関　正二",4,"大分県"]
["R010352992","関　翼",4,"大分県"]
["R010576522","関　智仁",4,"大分県"]
["R010189267","関　雅人",4,"大分県"]
["R010576368","関谷　昂大",4,"大分県"]
["R010542176","関谷　彰太",4,"大分県"]
["R007959750","関谷　僚人",4,"大分県"]
["R009533653","瀬田　英明",4,"大分県"]
["R010354812","瀬戸　天我",4,"大分県"]
["R010599872","芹田　幸季",4,"大分県"]
["R010588876","膳瀬　晃希",4,"大分県"]
["R010594950","曽根　虎大郎",4,"大分県"]
["R010120162","曽根　文武",4,"大分県"]
["R001257854","曽根崎　照紀",4,"大分県"]
["R005987458","曽根田　康寿",4,"大分県"]
["R010262639","園　文来",4,"大分県"]
["R010386816","園　ひなの",4,"大分県"]
["R010465921","園　大翔",4,"大分県"]
["R010588871","園　悠来",4,"大分県"]
["R010306443","園田　純直",4,"大分県"]
["R010579152","染矢　宏輝",4,"大分県"]
["R010546282","染矢　優心",4,"大分県"]
["R010391935","平　拓巳",4,"大分県"]
["R010552570","高井　皓介",4,"大分県"]
["R010552558","高井　颯太",4,"大分県"]
["R010189295","高榎　健太郎",4,"大分県"]
["R008174037","高榎　祐太郎",4,"大分県"]
["R010579142","高岡　心",4,"大分県"]
["R010546296","高木　勲",4,"大分県"]
["R010259428","高木　伸",4,"大分県"]
["R010465602","髙木　大誠",4,"大分県"]
["R010546328","高木　悠成",4,"大分県"]
["R010593135","髙木　涼平",4,"大分県"]
["R001257942","高倉　一城",4,"大分県"]
["R010314802","高倉　左京",4,"大分県"]
["R010071976","高倉　凛",4,"大分県"]
["R010027898","髙瀬　瑛里",4,"大分県"]
["R010391932","高瀬　大雅",4,"大分県"]
["R010468412","高田　雅博",4,"大分県"]
["R010467246","高田　蓮心",4,"大分県"]
["R010376369","高月　隆成",4,"大分県"]
["R010579122","高野　凱",4,"大分県"]
["R003578487","髙野　大輔",4,"大分県"]
["R008798156","高橋　洸介",4,"大分県"]
["R010093479","高橋　晃平",4,"大分県"]
["R010432626","高橋　昊",4,"大分県"]
["R010579069","高橋　卓也",4,"大分県"]
["R010594957","高橋　典誠",4,"大分県"]
["R010579050","髙橋　翔空",4,"大分県"]
["R010189346","高橋　敏也",4,"大分県"]
["R010538314","髙橋　陽",4,"大分県"]
["R010583767","高橋　晴",4,"大分県"]
["R010444508","高橋　飛向",4,"大分県"]
["R007334924","高橋　央明",4,"大分県"]
["R007767432","高橋　瑞紀",4,"大分県"]
["R010542177","高橋　優",4,"大分県"]
["R003256062","高橋　由資",4,"大分県"]
["R006220697","高橋　勇也",4,"大分県"]
["R010352959","髙橋　涼介",4,"大分県"]
["R010552540","高橋　良太",4,"大分県"]
["R010056101","高橋　蓮",4,"大分県"]
["R010546268","高畑　星耶",4,"大分県"]
["R010538402","高濱　蒼太",4,"大分県"]
["R001258136","高原　啓司",4,"大分県"]
["R010240538","高原　悠太",4,"大分県"]
["R010546321","髙藤　雅留",4,"大分県"]
["R010588869","高松　我空",4,"大分県"]
["R010386811","高松　芹羽",4,"大分県"]
["R010576537","高見　ゼン",4,"大分県"]
["R010583798","髙村　悠悟",4,"大分県"]
["R010538383","髙村　龍冴",4,"大分県"]
["R010539274","高牟禮　大晃",4,"大分県"]
["R010350232","髙本　澪奈",4,"大分県"]
["R010255176","高森　宗治",4,"大分県"]
["R010391919","高山　湧也",4,"大分県"]
["R009533440","田上　龍真",4,"大分県"]
["R010259435","田川　乃々香",4,"大分県"]
["R010576366","田北　昇大",4,"大分県"]
["R010448928","田北　豊将",4,"大分県"]
["R010259424","瀧水　蓮太郎",4,"大分県"]
["R010538309","田口　碧依",4,"大分県"]
["R010539286","竹井　琥太朗",4,"大分県"]
["R010255180","武石　優作",4,"大分県"]
["R010501304","武内　友多哉",4,"大分県"]
["R010579113","竹内　悠力",4,"大分県"]
["R010396553","竹内　璃音",4,"大分県"]
["R010599170","竹下　輝",4,"大分県"]
["R010593129","竹下　凛",4,"大分県"]
["R010546279","竹嶋　優",4,"大分県"]
["R010546278","竹嶋　凌平",4,"大分県"]
["R010576523","竹谷　嵩登",4,"大分県"]
["R008616162","竹田　豪",4,"大分県"]
["R010586322","武田　司",4,"大分県"]
["R010586318","竹友　勝虎",4,"大分県"]
["R007335127","竹中　啓司",4,"大分県"]
["R010396591","竹中　太志",4,"大分県"]
["R010593134","竹中　李来",4,"大分県"]
["R010576549","竹久　浩夢",4,"大分県"]
["R010579045","武久　文弥",4,"大分県"]
["R010542181","竹本　哲也",4,"大分県"]
["R010546332","竹本　優希",4,"大分県"]
["R010432615","田﨑　逸正",4,"大分県"]
["R010546320","田崎　大翔",4,"大分県"]
["R010599870","田崎　斗翔",4,"大分県"]
["R010583760","田嶋　勇征",4,"大分県"]
["R010538316","田島　李凰",4,"大分県"]
["R010306446","多嶋田　尚平",4,"大分県"]
["R004371818","田代　修三",4,"大分県"]
["R010303886","田代　翔太郎",4,"大分県"]
["R010542205","但馬　廉",4,"大分県"]
["R010465923","多田羅　朔",4,"大分県"]
["R010599171","多田　侑槻",4,"大分県"]
["R010593128","立花　幸人",4,"大分県"]
["R010388057","立花　稜大",4,"大分県"]
["R010600676","立川　拓樹",4,"大分県"]
["R010396537","建野　年也",4,"大分県"]
["R010586320","立脇　蒼惟",4,"大分県"]
["R010162985","帯刀　悠",4,"大分県"]
["R010599586","田中　薫平",4,"大分県"]
["R010586730","田中　大雅",4,"大分県"]
["R009460542","田中　友浩",4,"大分県"]
["R010376342","田中　陽澄",4,"大分県"]
["R010303862","田中　真輝",4,"大分県"]
["R010376323","田中　真樹",4,"大分県"]
["R010189067","田中　靖之",4,"大分県"]
["R010576512","田中　優佑",4,"大分県"]
["R010056104","田中　雄大",4,"大分県"]
["R010538395","田中　悠陽",4,"大分県"]
["R010599187","田中　裕也",4,"大分県"]
["R010546335","田中　琉偉",4,"大分県"]
["R010576511","田中　廉人",4,"大分県"]
["R010538400","田辺　逞登",4,"大分県"]
["R010593127","田邉　陽翔",4,"大分県"]
["R010538404","田邉　秀和",4,"大分県"]
["R007728503","田邊　政治",4,"大分県"]
["R010599181","谷　竜之介",4,"大分県"]
["R010542175","谷川　勝利",4,"大分県"]
["R010444515","谷川　滉樹",4,"大分県"]
["R008798484","谷川　潤弥",4,"大分県"]
["R010546271","谷口　流星心",4,"大分県"]
["R010540026","谷口　大将",4,"大分県"]
["R010352981","谷口　直也",4,"大分県"]
["R010601887","谷口　凛",4,"大分県"]
["R010576514","谷本　薫平",4,"大分県"]
["R010214471","田野　愛華",4,"大分県"]
["R010167790","田野　翔大",4,"大分県"]
["R010391947","田畑　篤郎",4,"大分県"]
["R010576528","田端　大夢",4,"大分県"]
["R010579157","玉井　祐彰",4,"大分県"]
["R010450146","玉浦　想",4,"大分県"]
["R010357152","玉城　宗馬",4,"大分県"]
["R010600674","玉永　史春",4,"大分県"]
["R010549368","田村　音羽",4,"大分県"]
["R008797704","田村　健二",4,"大分県"]
["R010281809","田村　拓也",4,"大分県"]
["R010576562","田村　莉生",4,"大分県"]
["R010588878","田村　蓮人",4,"大分県"]
["R010593125","大海　太馳",4,"大分県"]
["R006111195","伊達　秀憲",4,"大分県"]
["R001251753","伊達　洋介",4,"大分県"]
["R010546333","壇　直助",4,"大分県"]
["R010513889","近砂　覚志",4,"大分県"]
["R001258455","千原　秀介",4,"大分県"]
["R010579074","千原　天聖",4,"大分県"]
["R010396504","忠願寺　慶祐",4,"大分県"]
["R010354820","長木　環和",4,"大分県"]
["R010546312","通正　純之介",4,"大分県"]
["R010579156","司城　大輝",4,"大分県"]
["R010552542","塚崎　春輝",4,"大分県"]
["R010599581","塚崎　仁志",4,"大分県"]
["R010579062","塚野　太心",4,"大分県"]
["R010540698","塚本　迅平",4,"大分県"]
["R010214610","津崎　祐二",4,"大分県"]
["R010552563","津崎　亮佑",4,"大分県"]
["R010576566","對馬　佑樹",4,"大分県"]
["R010538312","辻　翔貴",4,"大分県"]
["R001258491","辻　道弘",4,"大分県"]
["R010093455","津田　敬太",4,"大分県"]
["R010599599","津田　光一",4,"大分県"]
["R010583801","土屋　慶悟",4,"大分県"]
["R010599174","土屋　毅留",4,"大分県"]
["R010189345","筒井　愛",4,"大分県"]
["R010579144","筒井　遥斗",4,"大分県"]
["R010583781","筒井　大翔",4,"大分県"]
["R008360148","堤　哲郎",4,"大分県"]
["R010552566","都築　正虎",4,"大分県"]
["R008651794","都竹　創",4,"大分県"]
["R005405723","恒松　和也",4,"大分県"]
["R010303858","角田　海斗",4,"大分県"]
["R010391929","津村　真生",4,"大分県"]
["R006937089","津守　翔太",4,"大分県"]
["R010303879","津谷　海登",4,"大分県"]
["R010444498","都留　祐也",4,"大分県"]
["R010538394","鶴河　翔太",4,"大分県"]
["R010552530","鶴田　翔一",4,"大分県"]
["R010538399","鶴原　聖季",4,"大分県"]
["R010583763","鶴原　大斗",4,"大分県"]
["R010444506","鶴原　楓也",4,"大分県"]
["R010583792","寺田　健太郎",4,"大分県"]
["R001258613","出口　功",4,"大分県"]
["R010583759","出口　湧也",4,"大分県"]
["R010579148","戸井　淳太",4,"大分県"]
["R010542189","藤内　勇一朗",4,"大分県"]
["R010243644","遠山　隼都",4,"大分県"]
["R010542168","時松　辰行",4,"大分県"]
["R010552548","徳留　滉人",4,"大分県"]
["R010093499","徳丸　淳治",4,"大分県"]
["R010538380","得丸　宗志",4,"大分県"]
["R010376314","徳丸　太陽",4,"大分県"]
["R010255154","得丸　拓実",4,"大分県"]
["R010594940","徳丸　白空",4,"大分県"]
["R001258695","徳丸　英明",4,"大分県"]
["R010552560","徳丸　聖人",4,"大分県"]
["R001258686","得丸　政徳",4,"大分県"]
["R010391941","渡久地　蒔人",4,"大分県"]
["R010379064","都甲　空",4,"大分県"]
["R010599579","土佐林　優歩",4,"大分県"]
["R010445854","利光　蒼志",4,"大分県"]
["R010159150","戸田　汐音",4,"大分県"]
["R010046512","十時　優介",4,"大分県"]
["R010415910","笘川　銀雅",4,"大分県"]
["R010027867","富田　靖夫",4,"大分県"]
["R010593141","冨高　湧気",4,"大分県"]
["R010027830","富永　渉太",4,"大分県"]
["R001258765","富永　佳幸",4,"大分県"]
["R005405608","冨吉　弘一",4,"大分県"]
["R010281868","友田　裕斗",4,"大分県"]
["R010576538","友永　秀哉",4,"大分県"]
["R010415915","友永　弥",4,"大分県"]
["R010586715","友成　勇太朗",4,"大分県"]
["R010100678","友松　誠二",4,"大分県"]
["R010313755","豊島　勇樹",4,"大分県"]
["R010552576","豊田　亜紀",4,"大分県"]
["R010448248","豊田　颯花",4,"大分県"]
["R003421170","豊田　裕司",4,"大分県"]
["R010546299","豊永　優介",4,"大分県"]
["R010583766","豊福　泰生",4,"大分県"]
["R010576557","豊本　照仁",4,"大分県"]
["R010586311","土井　純音",4,"大分県"]
["R010576388","土居　駿斗",4,"大分県"]
["R010579078","内藤　暖",4,"大分県"]
["R010576389","直野　優斗",4,"大分県"]
["R010168000","仲　恭平",4,"大分県"]
["R010445845","仲　尚樹",4,"大分県"]
["R010583791","中井　薫",4,"大分県"]
["R010539280","中尾　颯太",4,"大分県"]
["R010120161","中尾　雅俊",4,"大分県"]
["R010390441","中岡　駿",4,"大分県"]
["R004793931","中川　勝裕",4,"大分県"]
["R010579115","中川　昂大",4,"大分県"]
["R010583776","中川　翔天",4,"大分県"]
["R001258880","中川　俊哉",4,"大分県"]
["R010432640","中川　陽斗",4,"大分県"]
["R010581174","中川　雄太",4,"大分県"]
["R010263774","中川　蓮太",4,"大分県"]
["R010448251","中倉　咲姫",4,"大分県"]
["R010549363","中倉　舞姫",4,"大分県"]
["R002530329","中島　大成",4,"大分県"]
["R010388049","中島　魁利",4,"大分県"]
["R010162981","中島　柊",4,"大分県"]
["R010396594","中島　忠伸",4,"大分県"]
["R010396533","中嶋　哲也",4,"大分県"]
["R010167786","中島　湧友",4,"大分県"]
["R010546327","中島　陸斗",4,"大分県"]
["R010579082","中島　龍世",4,"大分県"]
["R010576516","中島　壮",4,"大分県"]
["R010214567","中嶋　完",4,"大分県"]
["R001258914","中嶋　結孝",4,"大分県"]
["R010579136","中城　篤也",4,"大分県"]
["R010281836","仲宗根　玄昌",4,"大分県"]
["R010083855","中津留　海翔",4,"大分県"]
["R006125602","中津留　正三",4,"大分県"]
["R010432607","中津留　蓮",4,"大分県"]
["R007334942","中津留　治将",4,"大分県"]
["R002917412","中西　智彦",4,"大分県"]
["R010546313","中根　漸",4,"大分県"]
["R001259038","中根　幹雄",4,"大分県"]
["R010056094","中根　武蔵",4,"大分県"]
["R010281799","中野　明",4,"大分県"]
["R010581162","仲野　翔真",4,"大分県"]
["R010594970","なかの　太陽",4,"大分県"]
["R010542202","中野　匠",4,"大分県"]
["R001259056","中野　俊宏",4,"大分県"]
["R010586304","中野　友晶",4,"大分県"]
["R010093448","中野　智博",4,"大分県"]
["R010078598","中野　浩志",4,"大分県"]
["R010593968","仲野　雅貴",4,"大分県"]
["R010576574","中野　洸嘉",4,"大分県"]
["R010281853","中野　竜太",4,"大分県"]
["R006574394","中畑　光宏",4,"大分県"]
["R010396575","中原　壱春",4,"大分県"]
["R010546291","中原　笙",4,"大分県"]
["R010576527","中原　拓海",4,"大分県"]
["R010261596","中平　康士朗",4,"大分県"]
["R001251896","中間　敏彦",4,"大分県"]
["R010354814","中溝　遥",4,"大分県"]
["R010354801","中道　裕斗",4,"大分県"]
["R010016109","仲村　晃和",4,"大分県"]
["R010594960","中村　歩聖",4,"大分県"]
["R010391933","中村　出海",4,"大分県"]
["R010538378","中村　海晴",4,"大分県"]
["R010586305","中村　昊陽",4,"大分県"]
["R003316948","中村　冴里",4,"大分県"]
["R010576524","中村　尚英",4,"大分県"]
["R010467694","中邑　惺良",4,"大分県"]
["R010432643","中村　奏太",4,"大分県"]
["R009197585","中村　智美",4,"大分県"]
["R010599608","仲村　晃瑠",4,"大分県"]
["R001251911","中村　真彦",4,"大分県"]
["R010444500","中村　洋三",4,"大分県"]
["R009198274","中村　洋太",4,"大分県"]
["R010576561","中村　亮汰",4,"大分県"]
["R010448938","中村　怜音",4,"大分県"]
["R010538407","中谷　翔",4,"大分県"]
["R010376273","中山　忍",4,"大分県"]
["R010542206","中渡瀬　翔和",4,"大分県"]
["R010376280","中渡瀬　真樹",4,"大分県"]
["R010167747","永井　啓太朗",4,"大分県"]
["R010352943","永井　秀",4,"大分県"]
["R010240580","永井　智大",4,"大分県"]
["R010546316","永井　陽",4,"大分県"]
["R010538398","長井　瑠之介",4,"大分県"]
["R010214609","長尾　浩希",4,"大分県"]
["R010586725","長尾　俊汰",4,"大分県"]
["R010281817","永尾　透",4,"大分県"]
["R010597289","永尾　遥飛",4,"大分県"]
["R010581159","永尾　美保",4,"大分県"]
["R010376366","長岡　範",4,"大分県"]
["R010448231","永岡　才拓",4,"大分県"]
["R010445848","長岡　巧磨",4,"大分県"]
["R010465608","長岡　大介",4,"大分県"]
["R010593122","長澤　諒",4,"大分県"]
["R010586309","長瀬　陽基",4,"大分県"]
["R010581175","長田　昂大",4,"大分県"]
["R010390438","永田　壮一郎",4,"大分県"]
["R010586319","長田　遥蒼",4,"大分県"]
["R010546277","永田　悠一郎",4,"大分県"]
["R010448244","長田　佳洋",4,"大分県"]
["R010214622","永冨　真依",4,"大分県"]
["R010538406","長野　新",4,"大分県"]
["R010465597","長野　武史",4,"大分県"]
["R010448245","永野　暁希",4,"大分県"]
["R010388058","長野　優飛",4,"大分県"]
["R010576542","長濵　夢希",4,"大分県"]
["R010579114","長濵　昇太朗",4,"大分県"]
["R010259414","永松　和寿",4,"大分県"]
["R005528264","永松　裕史",4,"大分県"]
["R010396535","永松　正規",4,"大分県"]
["R010465582","永松　賢俊",4,"大分県"]
["R010390434","長溝　遥",4,"大分県"]
["R005527353","永山　正樹",4,"大分県"]
["R010193705","長山　祐介",4,"大分県"]
["R005987403","流川　新",4,"大分県"]
["R010581172","名古屋　凌大",4,"大分県"]
["R010027829","奈須　大和",4,"大分県"]
["R009072295","奈須野　安侑里",4,"大分県"]
["R010546273","奈須野　友登",4,"大分県"]
["R010542210","奈良　虎汰郎",4,"大分県"]
["R010588879","奈良　三志朗",4,"大分県"]
["R010453582","楢崎　嵩斗",4,"大分県"]
["R010538327","成松　怜音",4,"大分県"]
["R010542208","鳴海　翔丸",4,"大分県"]
["R010538356","縄田　遊乃亮",4,"大分県"]
["R010542193","南里　仁士",4,"大分県"]
["R010579051","新名　桜晟",4,"大分県"]
["R010583768","新名　巧旺",4,"大分県"]
["R010356119","新名　翔太",4,"大分県"]
["R010356118","新名　拓哉",4,"大分県"]
["R010599601","新納　彪生",4,"大分県"]
["R010358010","新納　永遠",4,"大分県"]
["R010599186","西　佑太",4,"大分県"]
["R010314809","西尾　圭翔",4,"大分県"]
["R010576375","西尾　晃空",4,"大分県"]
["R004386023","西尾　拓之",4,"大分県"]
["R010303856","西尾　陸",4,"大分県"]
["R001251957","西岡　京一郎",4,"大分県"]
["R010538313","西角　航兵",4,"大分県"]
["R010453597","西角　陽佑",4,"大分県"]
["R010393995","西田　愛奈",4,"大分県"]
["R010396501","西田　翔",4,"大分県"]
["R010581168","西田　順",4,"大分県"]
["R010391944","西野　凌平",4,"大分県"]
["R010593130","西村　心汰",4,"大分県"]
["R010593142","西村　文汰",4,"大分県"]
["R010465601","西山　純平",4,"大分県"]
["R010448937","新田　莉生",4,"大分県"]
["R010261590","二宮　叶汰",4,"大分県"]
["R010261589","二宮　慶太",4,"大分県"]
["R010576379","二宮　駿太",4,"大分県"]
["R010583782","二宮　颯春",4,"大分県"]
["R010465600","二宮　鯛介",4,"大分県"]
["R010538405","二宮　拓篤",4,"大分県"]
["R010281837","二宮　大己",4,"大分県"]
["R010096809","二宮　大作",4,"大分県"]
["R004055664","二宮　康彰",4,"大分県"]
["R010432638","仁部屋　透晃",4,"大分県"]
["R010396551","丹生　良三",4,"大分県"]
["R010306454","入田　裕治",4,"大分県"]
["R010583794","如法寺　楓",4,"大分県"]
["R010583793","如法寺　遥",4,"大分県"]
["R010390433","庭瀬　元希",4,"大分県"]
["R010444496","大戸　匠",4,"大分県"]
["R010376301","野上　拳跳",4,"大分県"]
["R010552556","野上　哲弘",4,"大分県"]
["R010027878","野口　一輝",4,"大分県"]
["R010579158","野口　彗翔",4,"大分県"]
["R010396600","野口　源若",4,"大分県"]
["R002917333","野口　康二郎",4,"大分県"]
["R010027885","野口　智隆",4,"大分県"]
["R010432606","野口　我太生",4,"大分県"]
["R010579141","野尻　憲慎",4,"大分県"]
["R010453583","野尻　慎之助",4,"大分県"]
["R005527830","野尻　崇",4,"大分県"]
["R010540708","野尻　拓弥",4,"大分県"]
["R010306450","野田　啓佑",4,"大分県"]
["R010214592","野田　航平",4,"大分県"]
["R010586722","野田　大祐",4,"大分県"]
["R010080607","野田　晶生",4,"大分県"]
["R010576383","野仲　晃生",4,"大分県"]
["R010445241","野中　慎之介",4,"大分県"]
["R010453577","野々下　蒼斗",4,"大分県"]
["R001259436","野村　辰寿",4,"大分県"]
["R006125736","野村　哲也",4,"大分県"]
["R010354811","野村　春希",4,"大分県"]
["R010540707","野村　陸翔",4,"大分県"]
["R010303877","野村　凌",4,"大分県"]
["R010430157","野元　雅矢",4,"大分県"]
["R010388042","野依　桂",4,"大分県"]
["R006544278","則次　祐介",4,"大分県"]
["R010576364","野呂　仁人",4,"大分県"]
["R004714721","袴田　真吾",4,"大分県"]
["R010552557","羽迫　吏久",4,"大分県"]
["R010450135","挾間　裕生",4,"大分県"]
["R010352972","間　勇翔",4,"大分県"]
["R010396567","狹間　優人",4,"大分県"]
["R010314814","橋口　一斗",4,"大分県"]
["R010396540","橋本　壮旦",4,"大分県"]
["R010581178","橋本　蹄弥",4,"大分県"]
["R006221012","橋本　敏邦",4,"大分県"]
["R010586328","橋本　尚",4,"大分県"]
["R007959440","橋本　伸忠",4,"大分県"]
["R010546293","橋本　祐司",4,"大分県"]
["R010599873","橋本　琉唯",4,"大分県"]
["R007729098","長谷　明治",4,"大分県"]
["R010599584","長谷　樹大",4,"大分県"]
["R010445839","秦　碧空",4,"大分県"]
["R010432639","畑　央斗",4,"大分県"]
["R010248571","畑中　恒輝",4,"大分県"]
["R010542178","畑中　康祐",4,"大分県"]
["R010100679","畑中　祝勝",4,"大分県"]
["R010314826","畑中　大和",4,"大分県"]
["R010546322","畑中　陽介",4,"大分県"]
["R010352984","畑野　新司",4,"大分県"]
["R010281859","羽田野　凪",4,"大分県"]
["R010007845","波多野　政美",4,"大分県"]
["R010347358","畑辺　康年",4,"大分県"]
["R010542191","羽立　智宣",4,"大分県"]
["R010544476","羽田野　天空",4,"大分県"]
["R010376287","羽田野　裕之",4,"大分県"]
["R010169052","羽田野　将斗",4,"大分県"]
["R003421116","波津久　雄平",4,"大分県"]
["R010538343","花木　賢斗",4,"大分県"]
["R010599588","花崎　宏",4,"大分県"]
["R010468361","花田　俊介",4,"大分県"]
["R010386809","花宮　うの",4,"大分県"]
["R010468353","花宮　龍之介",4,"大分県"]
["R010579137","花宮　蓮",4,"大分県"]
["R010576553","濱浦　翔",4,"大分県"]
["R001259579","濱崎　賢一",4,"大分県"]
["R010390420","浜崎　颯太",4,"大分県"]
["R010352977","濱砂　樹",4,"大分県"]
["R010093435","濱田　尚希",4,"大分県"]
["R010467633","濱野　秀一郎",4,"大分県"]
["R006221100","浜町　隆蒔",4,"大分県"]
["R010540706","早木　悠登",4,"大分県"]
["R010579064","林　明輝",4,"大分県"]
["R010453586","林　勇陽",4,"大分県"]
["R010576576","林　流夏",4,"大分県"]
["R010396503","林田　健太",4,"大分県"]
["R008626965","原　海斗",4,"大分県"]
["R009528800","原　和将",4,"大分県"]
["R006937113","原　大恭",4,"大分県"]
["R006220095","原　正佳",4,"大分県"]
["R010586317","原田　煌也",4,"大分県"]
["R010243653","原田　圭",4,"大分県"]
["R010579047","原田　航輝",4,"大分県"]
["R010259430","原田　光清",4,"大分県"]
["R010579117","原田　幸汰",4,"大分県"]
["R010601879","原田　滉大",4,"大分県"]
["R010542170","原田　剛",4,"大分県"]
["R010432628","原田　隼大",4,"大分県"]
["R010583780","原田　高虎",4,"大分県"]
["R010100690","原田　拓弥",4,"大分県"]
["R001259685","原田　健士",4,"大分県"]
["R010594944","原田　知哉",4,"大分県"]
["R004747215","原田　宗法",4,"大分県"]
["R010189330","原田　裕規",4,"大分県"]
["R010432649","原田　琉唯",4,"大分県"]
["R010552578","針宮　孝典",4,"大分県"]
["R010376309","馬場　一颯",4,"大分県"]
["R010540705","馬場　晴大",4,"大分県"]
["R004111605","馬場　睦紀",4,"大分県"]
["R010601878","日浦　慶至",4,"大分県"]
["R010576572","東　健翔",4,"大分県"]
["R010576579","東創也　創也",4,"大分県"]
["R010376345","東　大晟",4,"大分県"]
["R010546334","東　拓海",4,"大分県"]
["R010453600","東　喜礼",4,"大分県"]
["R010586292","東　侑平",4,"大分県"]
["R010391930","東方　優也",4,"大分県"]
["R010538330","疋田　和正",4,"大分県"]
["R010468362","疋田　真吾",4,"大分県"]
["R010546331","樋口　咲哉",4,"大分県"]
["R010586731","樋口　温",4,"大分県"]
["R010376333","日隈　駿",4,"大分県"]
["R010579076","日隈　琳鳳",4,"大分県"]
["R010542201","肥後　克匡",4,"大分県"]
["R010593965","日坂　春翔",4,"大分県"]
["R010313751","日坂　仁哉",4,"大分県"]
["R003350890","久田　祥孝",4,"大分県"]
["R010448934","久恒　碧哉",4,"大分県"]
["R009533422","日高　世那",4,"大分県"]
["R010576573","日高　堪斗",4,"大分県"]
["R010538346","日野　一平",4,"大分県"]
["R010432629","日野　開智",4,"大分県"]
["R010576551","日野　海土",4,"大分県"]
["R004111368","日野　崇",4,"大分県"]
["R010583790","日野　天翔",4,"大分県"]
["R010576367","日野　那音",4,"大分県"]
["R010581181","日野　由香里",4,"大分県"]
["R010189332","姫野　賢吾",4,"大分県"]
["R010390435","姫野　柊斗",4,"大分県"]
["R010542172","姫野　祥吾",4,"大分県"]
["R010351361","姫野　聖太",4,"大分県"]
["R010352969","姫野　聖也",4,"大分県"]
["R010243665","姫野　青空",4,"大分県"]
["R010449907","姫野　太一",4,"大分県"]
["R007959194","姫野　貴裕",4,"大分県"]
["R010027875","姫野　太輔",4,"大分県"]
["R010579049","姫野　陽斗",4,"大分県"]
["R010214596","姫野　晴人",4,"大分県"]
["R010376279","姫野　雅俊",4,"大分県"]
["R009430435","姫野　真智代",4,"大分県"]
["R010453580","姫野　雄太",4,"大分県"]
["R010542187","兵頭　哲也",4,"大分県"]
["R010396576","平井　康寛",4,"大分県"]
["R010588867","平石　祥梧",4,"大分県"]
["R010601875","平川　開土",4,"大分県"]
["R010579066","平川　幹大",4,"大分県"]
["R010259426","平川　功ニ",4,"大分県"]
["R001259898","平川　孝幸",4,"大分県"]
["R010601885","平川　結偉",4,"大分県"]
["R010444519","平川　龍大",4,"大分県"]
["R010432600","平沼　鉄生",4,"大分県"]
["R001259986","平野　雅也",4,"大分県"]
["R010468351","平野　雅幸",4,"大分県"]
["R008174064","平野　道弘",4,"大分県"]
["R010248581","平野　靖成",4,"大分県"]
["R010376335","平野　泰寛",4,"大分県"]
["R004386193","平畠　数大",4,"大分県"]
["R010214604","平林　昭二",4,"大分県"]
["R010352938","平林　拓朗",4,"大分県"]
["R001260016","平原　晃",4,"大分県"]
["R008797953","平原　悟",4,"大分県"]
["R010159158","平松　孝汰朗",4,"大分県"]
["R010542207","平松　敬章",4,"大分県"]
["R010450133","平山　雄太",4,"大分県"]
["R010579140","平山　大雅",4,"大分県"]
["R010376295","平山　鷹也",4,"大分県"]
["R010467837","平山　大悟",4,"大分県"]
["R010579068","廣岡　克也",4,"大分県"]
["R010588861","廣川　敬太",4,"大分県"]
["R010262652","廣瀬　長治",4,"大分県"]
["R010390436","廣瀬　丈倖",4,"大分県"]
["R010069886","廣瀬　直軌",4,"大分県"]
["R008798253","廣瀬　尚人",4,"大分県"]
["R006872296","廣瀬　光雄",4,"大分県"]
["R010351380","廣瀬　有気",4,"大分県"]
["R010594945","廣瀬　雄太郎",4,"大分県"]
["R010449912","廣瀬　龍治",4,"大分県"]
["R010552575","廣瀬　亮",4,"大分県"]
["R010538365","廣田　琉我",4,"大分県"]
["R010576545","廣戸　大樹",4,"大分県"]
["R010552539","廣峯　功一",4,"大分県"]
["R010538370","深田　勝弥",4,"大分県"]
["R010601883","深田　航汰",4,"大分県"]
["R010593969","深田　豪",4,"大分県"]
["R010538359","深野　達也",4,"大分県"]
["R010093449","深見　精二",4,"大分県"]
["R010583787","福島　瞳也",4,"大分県"]
["R010394158","福島　莉聖",4,"大分県"]
["R010465622","福田　航陽",4,"大分県"]
["R010281831","福田　紫月",4,"大分県"]
["R010501257","福田　知行",4,"大分県"]
["R010444513","福田　瑞樹",4,"大分県"]
["R010391917","福田　芳樹",4,"大分県"]
["R010576548","福永　楽人",4,"大分県"]
["R010453589","福永　大起",4,"大分県"]
["R010552547","福元　陸駆",4,"大分県"]
["R010214568","藤井　俊輔",4,"大分県"]
["R010599610","藤井　智也",4,"大分県"]
["R010576565","藤井　大高",4,"大分県"]
["R009408825","藤井　康之",4,"大分県"]
["R010352952","藤岡　典之",4,"大分県"]
["R010445838","藤川　碧冬",4,"大分県"]
["R010313762","藤澤　康秀",4,"大分県"]
["R008173667","藤末　学",4,"大分県"]
["R010352946","藤田　翔",4,"大分県"]
["R010444499","藤田　恭輔",4,"大分県"]
["R010358014","藤田　聖也",4,"大分県"]
["R010432652","藤田　大幹",4,"大分県"]
["R010391946","藤田　輝",4,"大分県"]
["R006220837","藤高　豊彦",4,"大分県"]
["R010579139","藤戸　瑛太",4,"大分県"]
["R006123862","藤並　敬大",4,"大分県"]
["R010445245","藤並　優月",4,"大分県"]
["R010396574","藤野　聖也",4,"大分県"]
["R010396505","藤野　哲哉",4,"大分県"]
["R007090941","藤野　誠",4,"大分県"]
["R010396545","藤松　秀那",4,"大分県"]
["R003351233","藤松　竜也",4,"大分県"]
["R010214617","藤本　宏平",4,"大分県"]
["R010303865","藤本　諒哉",4,"大分県"]
["R010467576","藤由　陵司",4,"大分県"]
["R010552572","藤原　昌",4,"大分県"]
["R010586299","藤原　巧惺",4,"大分県"]
["R010421581","藤原　翔大",4,"大分県"]
["R010448931","藤原　迅",4,"大分県"]
["R005467945","藤原　妙子",4,"大分県"]
["R010281867","藤原　茅花紗",4,"大分県"]
["R010352967","藤原　遥斗",4,"大分県"]
["R007959547","藤原　宏",4,"大分県"]
["R010540715","二木　彪太郎",4,"大分県"]
["R010376304","渕上　力輝",4,"大分県"]
["R010599604","淵野　日向",4,"大分県"]
["R010396555","渕野　椋斗",4,"大分県"]
["R010539285","冨米野　祐輔",4,"大分県"]
["R010599177","古門　倖太",4,"大分県"]
["R010588863","古川　士道",4,"大分県"]
["R010586327","古川　修士",4,"大分県"]
["R010243661","古川　大翔",4,"大分県"]
["R010538352","古代　峻也",4,"大分県"]
["R010468338","古田　健悟",4,"大分県"]
["R010576544","古田　智暉",4,"大分県"]
["R010432642","古寺　明日架",4,"大分県"]
["R010396566","古野　渉",4,"大分県"]
["R001260405","古畑　親治",4,"大分県"]
["R010576568","白　太琥",4,"大分県"]
["R002678009","保明　栄治",4,"大分県"]
["R010214547","帆足　大",4,"大分県"]
["R010576374","帆足　陽向",4,"大分県"]
["R010314803","帆足　優莉",4,"大分県"]
["R010347384","宝珠　史洋",4,"大分県"]
["R010444504","法野　功太郎",4,"大分県"]
["R010448927","外池　健流",4,"大分県"]
["R010586307","外園　湊心",4,"大分県"]
["R010579044","外薗　澪",4,"大分県"]
["R010056105","星野　杏",4,"大分県"]
["R009484728","星野　嵐",4,"大分県"]
["R010542174","邉　拓哉",4,"大分県"]
["R010444520","堀　悠佑",4,"大分県"]
["R010356144","堀　優太",4,"大分県"]
["R010448646","堀田　憲利",4,"大分県"]
["R010586718","堀田　詞音",4,"大分県"]
["R010538385","堀田　東寿",4,"大分県"]
["R010586727","堀田　姫花",4,"大分県"]
["R010376308","堀部　奏人",4,"大分県"]
["R010448636","本郷　魁正",4,"大分県"]
["R010354651","本城　瑛翔",4,"大分県"]
["R010552533","本田　敬恭",4,"大分県"]
["R001258899","本田　淳仁",4,"大分県"]
["R010586293","本田　大誠",4,"大分県"]
["R010583758","本田　郁恭",4,"大分県"]
["R010540716","眞榮城　倫希",4,"大分県"]
["R010314830","前園　健晴",4,"大分県"]
["R006220192","前田　貴浩",4,"大分県"]
["R010546301","前田　達也",4,"大分県"]
["R010597284","前田　優希",4,"大分県"]
["R010432653","マガリェンス　アルナウド",4,"大分県"]
["R010467248","牧　耕成",4,"大分県"]
["R010467247","牧　俊成",4,"大分県"]
["R010093496","牧　大佑",4,"大分県"]
["R010538362","牧　優空",4,"大分県"]
["R008793276","牧野　翔",4,"大分県"]
["R010576539","益田　寛治",4,"大分県"]
["R010576540","増田　輝",4,"大分県"]
["R010594956","益永　貫斗",4,"大分県"]
["R010449558","桝永　真斗",4,"大分県"]
["R010214601","増野　凌雅",4,"大分県"]
["R010467242","鱒村　昂一",4,"大分県"]
["R010581183","鱒村侑土　ますむらゆうと",4,"大分県"]
["R010432611","松尾　歩",4,"大分県"]
["R007753660","松尾　和文",4,"大分県"]
["R005528097","松尾　国洋",4,"大分県"]
["R007334951","松尾　賢一",4,"大分県"]
["R010601881","松尾　彩希",4,"大分県"]
["R010444487","松尾　征吾",4,"大分県"]
["R010448941","松尾　晴登",4,"大分県"]
["R010007816","松尾　勇",4,"大分県"]
["R010599173","松尾　優希羽",4,"大分県"]
["R010391936","松尾　涼真",4,"大分県"]
["R010390430","松尾　玲桜馬",4,"大分県"]
["R010465583","松岡　辰倫",4,"大分県"]
["R010465616","松川　貴大",4,"大分県"]
["R010415908","松坂　童夢",4,"大分県"]
["R010538334","松崎　朱音",4,"大分県"]
["R010546314","松崎　壮悟",4,"大分県"]
["R010396597","松﨑　裕太郎",4,"大分県"]
["R010390425","松下　昂玄",4,"大分県"]
["R010576377","松下　慶和",4,"大分県"]
["R010390437","松下　昊稀",4,"大分県"]
["R010546338","松下　琴春",4,"大分県"]
["R010390426","松下　真也",4,"大分県"]
["R007959723","松下　立夫",4,"大分県"]
["R010583762","松下　未来翔",4,"大分県"]
["R010552545","松島　大真",4,"大分県"]
["R010579116","松添　大輝",4,"大分県"]
["R010448936","松高　蓮",4,"大分県"]
["R010579154","松田　翔空",4,"大分県"]
["R010579118","松田　直仁",4,"大分県"]
["R010311808","松田　信行",4,"大分県"]
["R010539288","松田　晴輝",4,"大分県"]
["R010214585","松胴　敦",4,"大分県"]
["R010579153","松場　次元",4,"大分県"]
["R010552549","松原　樹",4,"大分県"]
["R010376327","松原　舜",4,"大分県"]
["R010432598","松原　巧",4,"大分県"]
["R007002991","松原　広幸",4,"大分県"]
["R004714970","松原　政司",4,"大分県"]
["R010347359","松原　唯衣",4,"大分県"]
["R010354652","松村　晟直",4,"大分県"]
["R010416214","松村　未来",4,"大分県"]
["R010542165","松村　優希",4,"大分県"]
["R010579056","松本　明大",4,"大分県"]
["R010538291","松本　元希",4,"大分県"]
["R010576378","松本　竜弥",4,"大分県"]
["R010093445","松本　侑樹",4,"大分県"]
["R004793940","松本　祐輔",4,"大分県"]
["R010388044","松屋　海",4,"大分県"]
["R010597285","松山　結大",4,"大分県"]
["R010546270","松山　琉維",4,"大分県"]
["R010451954","松雪　浩俊",4,"大分県"]
["R010007817","松吉　宏剛",4,"大分県"]
["R010576531","眞鍋　瑛士",4,"大分県"]
["R010358003","三浦　櫂斗",4,"大分県"]
["R008634283","三浦　憲太郎",4,"大分県"]
["R010281804","三浦　建人",4,"大分県"]
["R010376286","三浦　弘大",4,"大分県"]
["R010467585","三浦　舜平",4,"大分県"]
["R010593961","三浦　蒼羽",4,"大分県"]
["R010453592","三浦　大雅",4,"大分県"]
["R010120131","三浦　哲郎",4,"大分県"]
["R010538321","三浦　朋尚",4,"大分県"]
["R010432617","三浦　永遠",4,"大分県"]
["R010445836","三浦　隼",4,"大分県"]
["R010451960","三浦　颯仁",4,"大分県"]
["R010516222","三浦　瑞生",4,"大分県"]
["R006932437","三浦　雄大",4,"大分県"]
["R010538372","三浦　吏琥",4,"大分県"]
["R010579100","三浦　琉誠",4,"大分県"]
["R006125772","三重野　英人",4,"大分県"]
["R010451962","三ヶ尻　匠吾",4,"大分県"]
["R008523181","三木　慎博",4,"大分県"]
["R010542192","右田　茂之",4,"大分県"]
["R010391914","三代　賢司",4,"大分県"]
["R010453591","三代　脩",4,"大分県"]
["R004060374","水島　義規",4,"大分県"]
["R010539946","水城　莉緒斗",4,"大分県"]
["R010465615","水野　裕通",4,"大分県"]
["R010449908","溝辺　哲也",4,"大分県"]
["R010538363","溝邉　陸馬",4,"大分県"]
["R010467630","御手洗　慶吾",4,"大分県"]
["R004794073","御手洗　佑太",4,"大分県"]
["R010386812","道久　絵理",4,"大分県"]
["R010542196","道脇　陽介",4,"大分県"]
["R010376283","三井　雄大",4,"大分県"]
["R010465590","満永　啓祐",4,"大分県"]
["R010546295","光長　好男",4,"大分県"]
["R002917494","三笘　晋也",4,"大分県"]
["R001261060","三苫　靖",4,"大分県"]
["R010350225","南　佳織",4,"大分県"]
["R010552554","南　煌大",4,"大分県"]
["R010467693","南　創太",4,"大分県"]
["R010352957","南　岳嗣",4,"大分県"]
["R010214563","峰尾　勝",4,"大分県"]
["R010599185","峰田　雅人",4,"大分県"]
["R003677432","三原　将弥",4,"大分県"]
["R010376288","三股　正直",4,"大分県"]
["R010376890","宮井　翔太",4,"大分県"]
["R010594955","宮垣　康次郎",4,"大分県"]
["R010468360","宮迫　悟",4,"大分県"]
["R010576546","宮崎　康晴",4,"大分県"]
["R010594973","宮﨑　大翔",4,"大分県"]
["R010449906","宮崎　翼",4,"大分県"]
["R004793852","宮崎　友雅",4,"大分県"]
["R010465624","宮崎　裕司",4,"大分県"]
["R010396588","宮里　直太郎",4,"大分県"]
["R010538357","宮成　亨治",4,"大分県"]
["R010579098","宮野　倖希",4,"大分県"]
["R010402786","宮房　舞太朗",4,"大分県","大分県"]
["R010261610","宮部　俊輝",4,"大分県"]
["R010588858","宮本　空弥",4,"大分県"]
["R010465579","宮本　圭一郎",4,"大分県"]
["R010390429","宮本　晄汰",4,"大分県"]
["R010356116","宮本　崇史",4,"大分県"]
["R010465928","宮本　大吾",4,"大分県"]
["R010579111","宮本　凪",4,"大分県"]
["R010576508","宮本　規央",4,"大分県"]
["R010354797","宮本　陽紀",4,"大分県"]
["R010415889","宮本　遼一",4,"大分県"]
["R010546285","宮本　怜旺",4,"大分県"]
["R010538328","宮脇　大芽",4,"大分県"]
["R010347376","三善　李空",4,"大分県"]
["R010314817","向井　翔夢",4,"大分県"]
["R010576526","牟田　風太",4,"大分県"]
["R010538333","武藤　匠海",4,"大分県"]
["R010247786","宗岡　胡桃",4,"大分県"]
["R004793755","宗岡　亮次",4,"大分県"]
["R010358006","村井　栄仁",4,"大分県"]
["R010354655","村岡　拓海",4,"大分県"]
["R010214582","村上　叶恋",4,"大分県"]
["R010314806","村上　煌誠",4,"大分県"]
["R010594969","村上　豪",4,"大分県"]
["R010313763","村上　瑳彩",4,"大分県"]
["R010347370","村上　紫叶",4,"大分県"]
["R010579061","村上　泰基",4,"大分県"]
["R010579150","村上　温俊",4,"大分県"]
["R010594971","村上　輝",4,"大分県"]
["R010376898","村上　滉心",4,"大分県"]
["R001261237","村上　康哉",4,"大分県"]
["R010128051","村上　悠晟",4,"大分県"]
["R001737174","村上　洋平",4,"大分県"]
["R010593136","村上　陸",4,"大分県"]
["R010546325","村田　龍二",4,"大分県"]
["R010303878","村松　凌",4,"大分県"]
["R010162976","村本　輝",4,"大分県"]
["R008797908","村谷　祐一",4,"大分県"]
["R010214562","村山　武志",4,"大分県"]
["R010468355","室　元樹",4,"大分県"]
["R010586302","室谷　優心",4,"大分県"]
["R010314810","用松　聖登",4,"大分県"]
["R010540714","本川　晴斗",4,"大分県"]
["R010306448","元木　勇太",4,"大分県"]
["R003421684","本野　秀貴",4,"大分県"]
["R010576513","本室　匠翔",4,"大分県"]
["R010546272","百田　凌基",4,"大分県"]
["R010594939","森　愛斗",4,"大分県"]
["R010451959","森　綾斗",4,"大分県"]
["R010214605","森　恭子",4,"大分県"]
["R010390423","森　健太朗",4,"大分県"]
["R010538340","森　弦世",4,"大分県"]
["R010465588","森　秀太",4,"大分県"]
["R010579077","森　脩人",4,"大分県"]
["R010553464","森　寛希",4,"大分県"]
["R010538303","森　凛桜",4,"大分県"]
["R010214606","森　凛人",4,"大分県"]
["R010281811","森崎　敬三",4,"大分県"]
["R010540702","森崎　陽輝",4,"大分県"]
["R010448918","森崎　瑠聖",4,"大分県"]
["R010421575","森崎　瑠菜",4,"大分県"]
["R010261595","森迫　遥希",4,"大分県"]
["R010415902","森下　柊飛",4,"大分県"]
["R010069888","森下　晴悟",4,"大分県"]
["R010546286","森下　春翔",4,"大分県"]
["R009547081","森田　章吾",4,"大分県"]
["R010391928","森田　尚貴",4,"大分県"]
["R010546280","盛田　柚九",4,"大分県"]
["R010576386","森永　一輝",4,"大分県"]
["R010259432","森永　和彦",4,"大分県"]
["R010538339","森永　悠太",4,"大分県"]
["R010415904","森光　皇介",4,"大分県"]
["R010576533","森本　祥晃",4,"大分県"]
["R010538310","森山　藍琉",4,"大分県"]
["R010416219","森山　敦能",4,"大分県"]
["R010448946","森山　大翔",4,"大分県"]
["R010540723","森山　悠太",4,"大分県"]
["R010588860","諸永　徠斗",4,"大分県"]
["R010465599","薬師寺　康平",4,"大分県"]
["R010352985","薬師寺　章伊",4,"大分県"]
["R009554735","八坂　直輝",4,"大分県"]
["R009460472","八坂　秀青",4,"大分県"]
["R010396581","矢治　弘志郎",4,"大分県"]
["R007757602","保田　拓海",4,"大分県"]
["R010579107","安永　瑛翔",4,"大分県"]
["R001261413","安永　正宏",4,"大分県"]
["R010093501","安波　俊英",4,"大分県"]
["R010376892","安久　克也",4,"大分県"]
["R010100689","保本　忠広",4,"大分県"]
["R010594972","矢頭　幸平",4,"大分県"]
["R010314816","矢田　彩都",4,"大分県"]
["R010027880","柳井　颯太",4,"大分県"]
["R010467577","矢内　蒼丸",4,"大分県"]
["R010538290","柳井　雅貴",4,"大分県"]
["R010303889","柳　侑吾",4,"大分県"]
["R010579083","栁本　楓",4,"大分県"]
["R010453584","柳本　龍成",4,"大分県"]
["R010538389","矢野　伊織",4,"大分県"]
["R010579108","矢野　草隼",4,"大分県"]
["R010415909","矢野　想翔",4,"大分県"]
["R010281882","矢野　巽也",4,"大分県"]
["R010579072","矢野　達也",4,"大分県"]
["R010255171","矢野　十央南",4,"大分県"]
["R010445840","矢野　虎乃介",4,"大分県"]
["R010542185","矢野　裕",4,"大分県"]
["R010078599","矢野　祐樹",4,"大分県"]
["R010281830","矢野　譲",4,"大分県"]
["R010388051","矢野　陵太",4,"大分県"]
["R010593959","矢野　廉士",4,"大分県"]
["R010579080","矢羽田　大夢",4,"大分県"]
["R010391952","矢羽田　澪音",4,"大分県"]
["R010352990","矢部　泰史",4,"大分県"]
["R010579093","山内　利彦",4,"大分県"]
["R010159134","山岡　航大",4,"大分県"]
["R010354810","山岸　琥生",4,"大分県"]
["R010588855","山岸　秀彰",4,"大分県"]
["R010538379","山口　翔大",4,"大分県"]
["R010540724","山口　大空",4,"大分県"]
["R010553465","山口　優希翔",4,"大分県"]
["R010467642","山口　琉成",4,"大分県"]
["R010579106","山﨑　櫂",4,"大分県"]
["R010303867","山崎　健治",4,"大分県"]
["R010586728","山﨑　康大",4,"大分県"]
["R010601888","山﨑　世大",4,"大分県"]
["R008174338","山﨑　爽暉",4,"大分県"]
["R010599577","山崎　大希",4,"大分県"]
["R006220873","山崎　武志",4,"大分県"]
["R010553468","山崎　博文",4,"大分県"]
["R010579145","山崎　竜斗",4,"大分県"]
["R010466473","山崎　哲也",4,"大分県"]
["R010579359","山下　一浩",4,"大分県"]
["R010248576","山下　瞬亮",4,"大分県"]
["R010465613","山下　翔",4,"大分県"]
["R010599578","山下　貴弘",4,"大分県"]
["R007090792","山下　寛明",4,"大分県"]
["R010597288","山下　楓馬",4,"大分県"]
["R010376893","山下　靖之",4,"大分県"]
["R010396554","山下　勇翔",4,"大分県"]
["R010376896","山下　竜二",4,"大分県"]
["R010593957","山添　央晴",4,"大分県"]
["R010358001","山添　陽生",4,"大分県"]
["R010214542","山田　宏和",4,"大分県"]
["R010396544","山田　結和",4,"大分県"]
["R010593960","山中　栄樟",4,"大分県"]
["R010303876","山西　翼",4,"大分県"]
["R010586312","山根　蒼詩",4,"大分県"]
["R006220101","山根　雄治",4,"大分県"]
["R010445831","山野　裕斗",4,"大分県"]
["R010390428","山村　一聡",4,"大分県"]
["R010546339","山村　千代花",4,"大分県"]
["R010538311","山村　悠己",4,"大分県"]
["R010445843","山本　海璃",4,"大分県"]
["R006872612","ヤマモト　一夫",4,"大分県"]
["R006125639","山本　一広",4,"大分県"]
["R010579097","山本　希龍",4,"大分県"]
["R010538335","山本　恵太郎",4,"大分県"]
["R005603228","山本　康平",4,"大分県"]
["R010586723","山本　耕平",4,"大分県"]
["R010303888","山本　祥二",4,"大分県"]
["R010576550","山本　祥領",4,"大分県"]
["R010189317","山本　純平",4,"大分県"]
["R010376891","山本　空",4,"大分県"]
["R009533608","山本　達之介",4,"大分県"]
["R010542530","山本　太郎",4,"大分県"]
["R010594943","山本　大智",4,"大分県"]
["R010538381","山本　成彦",4,"大分県"]
["R010400187","山本　隼斗",4,"大分県"]
["R010539284","山本　成人",4,"大分県"]
["R010169047","山本　政之介",4,"大分県"]
["R010546337","山本　獅王",4,"大分県"]
["R010214619","山矢　修冬",4,"大分県"]
["R005164312","矢幡　裕一",4,"大分県"]
["R010169045","湯浅　翼",4,"大分県"]
["R010448921","湯浅　諒",4,"大分県"]
["R010396590","幸　凱斗",4,"大分県"]
["R010599605","幸　大貴",4,"大分県"]
["R010465609","幸重　将輝",4,"大分県"]
["R010576569","行田　啓斗",4,"大分県"]
["R010214620","雪野　知花",4,"大分県"]
["R010352958","油野　陣大",4,"大分県"]
["R010261479","柚木　貴博",4,"大分県"]
["R010540703","湯ノ口　悠斗",4,"大分県"]
["R010583802","由利　倖大",4,"大分県"]
["R010546330","用正　蓮歩",4,"大分県"]
["R010576376","横江　恒瑛",4,"大分県"]
["R010214553","横尾　茂",4,"大分県"]
["R010354817","横尾　夏希",4,"大分県"]
["R010376889","横尾　侑磨",4,"大分県"]
["R010586316","横田　啓",4,"大分県"]
["R010538392","横飛　明",4,"大分県"]
["R010396519","横野　陸斗",4,"大分県"]
["R010391956","横道　俊輔",4,"大分県"]
["R010599590","横山　大悟",4,"大分県"]
["R010546315","吉井　琉輝斗",4,"大分県"]
["R010593124","吉岡　歩夢",4,"大分県"]
["R010553467","吉岡　大河",4,"大分県"]
["R010581157","吉岡　佑人",4,"大分県"]
["R010601872","由川　琥大郎",4,"大分県"]
["R010281855","吉川　哲平",4,"大分県"]
["R010352978","吉川　徳彦",4,"大分県"]
["R010588877","吉川　豹生",4,"大分県"]
["R010579138","吉川　雅彦",4,"大分県"]
["R009430268","吉川　美里",4,"大分県"]
["R010465603","吉﨑　巧真",4,"大分県"]
["R003421480","吉武　毅",4,"大分県"]
["R010390427","吉田　蒼威",4,"大分県"]
["R010542528","吉田　光騎",4,"大分県"]
["R010593137","吉田　翔栄",4,"大分県"]
["R010538401","吉田　光",4,"大分県"]
["R010579155","吉田　彪雅",4,"大分県"]
["R010586323","吉田　白夜",4,"大分県"]
["R010448929","吉田　匡",4,"大分県"]
["R010553466","吉田　将志",4,"大分県"]
["R010576387","吉田　湊",4,"大分県"]
["R010546341","吉田　桃花",4,"大分県"]
["R010576510","吉永　縁心",4,"大分県"]
["R010600677","吉永　健太郎",4,"大分県"]
["R010448644","吉永　優希",4,"大分県"]
["R010579085","吉野　可亜斗",4,"大分県"]
["R010576360","吉野　峨流",4,"大分県"]
["R005603875","吉野　公司",4,"大分県"]
["R010448917","吉野　大峨",4,"大分県"]
["R010071979","吉野　遥紀",4,"大分県"]
["R010576554","吉原　大地",4,"大分県"]
["R008798466","吉原　喬樹",4,"大分県"]
["R010448638","吉廣　愛琉",4,"大分県"]
["R010396508","吉弘　周平",4,"大分県"]
["R010396595","吉廣　心太郎",4,"大分県"]
["R010120134","吉廣　年男",4,"大分県"]
["R010579084","吉弘　瑠唯",4,"大分県"]
["R010415907","吉弘　怜大",4,"大分県"]
["R010546294","吉松　敬次郎",4,"大分県"]
["R001261918","吉松　健",4,"大分県"]
["R010600682","吉松　赳士",4,"大分県"]
["R010581173","吉村　心冴",4,"大分県"]
["R010538338","吉村　純平",4,"大分県"]
["R010189303","吉村　一",4,"大分県"]
["R010432635","吉村　由人",4,"大分県"]
["R010579131","吉元　俊輔",4,"大分県"]
["R001261936","佳元　省三",4,"大分県"]
["R010594946","吉本　雅治",4,"大分県"]
["R010579102","依田　勇誠",4,"大分県"]
["R009533644","米倉　孝一",4,"大分県"]
["R010599582","米倉　佳宏",4,"大分県"]
["R010396542","米澤　邦彦",4,"大分県"]
["R010451961","米田　剛",4,"大分県"]
["R001261972","米田　尚司",4,"大分県"]
["R010538376","米丸　碧",4,"大分県"]
["R010162992","若林　歩夢",4,"大分県"]
["R010281870","若林　大暉",4,"大分県"]
["R010520027","若林　真有",4,"大分県"]
["R010391934","若松　遼真",4,"大分県"]
["R010579125","渡辺　碧海",4,"大分県"]
["R010262616","渡邊　一星",4,"大分県"]
["R010444510","渡邊　瑛太",4,"大分県"]
["R010538344","渡辺　佳歩",4,"大分県"]
["R010538318","渡辺　敢太",4,"大分県"]
["R010600679","渡辺　俊介",4,"大分県"]
["R010594968","渡辺　創己",4,"大分県"]
["R010444491","渡邉　直耶",4,"大分県"]
["R010586291","渡邊　陽星",4,"大分県"]
["R010538382","渡辺　陽斗",4,"大分県"]
["R010390424","渡邉　寛人",4,"大分県"]
["R001262096","渡辺　寛幸",4,"大分県"]
["R010542531","渡邉　風汰",4,"大分県"]
["R010189289","渡邉　優憲",4,"大分県"]
["R009659544","渡邉　友輔",4,"大分県"]
["R010538297","渡邉　優太",4,"大分県"]
["R010538341","渡辺　吉紀",4,"大分県"]
["R010593123","和田　直樹",4,"大分県"]
["R010579121","和田　尚也",4,"大分県"]
["R010576534","和田　泰輝",4,"大分県"]
["R010542529","輪田　真理",4,"大分県"]
["R010576559","和田　道之心",4,"大分県"]
["R010306435","和田　優作",4,"大分県"]
["R010243637","和間　翔",4,"大分県"]