Workbook

Sheet 抽選会資料
A1: OFA 第 57 回大分県U-12サッカー大会 兼 KYFA 九州U-12サッカー大会大分県大会 | J1: 抽選会及び監督(代表者)会議
A3: １．日時 2026年1月18日(日) 午後6時00分（18:00）～
A5: ２．場所 大分市 クラサスドーム大分 B-1 406会議室予定
A7: ３．参加チーム | C7: 36 | D7: チーム
B9: Aブロック(フリー) | I9: Bブロック(奇数)
A10: 抽選順 | B10: 地区 | C10: チーム名 | D10: 申込 | E10: 参加料 | F10: 抽選会 | G10: 抽選順 | I10: 地区 | J10: チーム名 | K10: 申込 | L10: 参加料 | M10: 抽選会
A11: 20 | B11: 大分 | C11: カティオーラフットボールクラブＵ－１２ | D11: ○ | E11: ○ | F11: ○ | H11: 4 | I11: 中津 | J11: ティエラフットボールクラブＵ－１２ | K11: ○ | L11: ○ | M11: ○
A12: 21 | C12: ドリームキッズフットボールクラブ | D12: ○ | E12: ○ | F12: ○ | H12: 5 | J12: 鶴居ＳＳＳ | K12: ○ | L12: ○ | M12: ○
A13: 22 | C13: リノスフットボールクラブ Ｕ－１２ | D13: ○ | E13: ○ | F13: ○ | H13: 15 | J13: ＦＣ ＪＵＮＩＯＲＳ | K13: ○ | L13: ○ | M13: ○
A14: 23 | C14: 鶴崎ＳＳＳ | D14: ○ | E14: ○ | F14: ○ | H14: 16 | J14: はやぶさフットボールクラブ | K14: ○ | L14: × | M14: ○
A15: 24 | C15: カティオーラフットボールクラブＵ－１２ Ｎｅｘｔ | D15: ○ | E15: ○ | F15: ○ | H15: 6 | I15: 日田・玖珠 | J15: ＦＣアリアーレ | K15: ○ | L15: ○ | M15: ○
A16: 25 | C16: 明治北ＳＳＣ | D16: ○ | E16: ○ | F16: ○ | H16: 7 | J16: 玖珠サッカースポーツ少年団 | K16: ○ | L16: ○ | M16: ○
A17: 26 | C17: 滝尾下郡サッカースポーツ少年団 | D17: ○ | E17: ○ | F17: ○ | H17: 17 | J17: ＭＦＣ三花少年サッカー教室 | K17: ○ | L17: ○ | M17: ○
A18: 27 | C18: 戸次吉野ＳＳＳ | D18: ○ | E18: ○ | F18: ○ | H18: 8 | I18: 宇佐高田 | J18: 四日市南ＳＳＣ | K18: ○ | L18: ○ | M18: ○
A19: 28 | C19: 大分トリニータＵ－１２ | D19: ○ | E19: ○ | F19: ○ | H19: 9 | J19: ＦＣ ＷＡＹＳ | K19: ○ | L19: ○ | M19: ○
A20: 29 | C20: ＦＣ ＲＥＧＡＴＥ | D20: ○ | E20: ○ | F20: ○ | H20: 18 | J20: ＦＣ ＵＮＩＴＥ | K20: ○ | L20: ○ | M20: ○
A21: 30 | C21: スマイス セレソン スポーツクラブ | D21: ○ | E21: ○ | F21: ○ | H21: 10 | I21: 別府 | J21: 別府フットボールクラブ．ミネルバＵ－１２ | K21: ○ | L21: ○ | M21: ○
A22: 31 | C22: 明野東サッカースポーツ少年団 | D22: ○ | E22: ○ | F22: ○ | H22: 11 | J22: スマイス・セレソン | K22: ○ | L22: ○ | M22: ○
A23: 32 | C23: 南大分サッカー少年団 | D23: ○ | E23: ○ | F23: ○ | H23: 19 | J23: 大平山アソシエーション式フットボールクラブ | K23: ○ | L23: ○ | M23: ○
A24: 33 | C24: 西の台ＪＦＣ | D24: ○ | E24: ○ | F24: ○ | H24: 1 | I24: 佐伯 | J24: 弥生少年サッカークラブ | K24: ○ | L24: ○ | M24: ○
A25: 34 | C25: アトレチコエラン横瀬 | D25: ○ | E25: ○ | F25: ○ | H25: 2 | J25: 佐伯リベロフットボールクラブ | K25: ○ | L25: ○ | M25: ○
A26: 35 | C26: 大分トリニータタートルズ | D26: ○ | E26: ○ | F26: ○ | H26: 12 | I26: 速杵国東 | J26: ＯＫＹ山香サッカークラブ | K26: ○ | L26: ○ | M26: ○
A27: 36 | C27: ＮＦＣ・ＯＩＴＡ Ｕ１２ | D27: ○ | E27: × | F27: ○ | H27: 13 | J27: 日出サッカースポーツ少年団 | K27: ○ | L27: ○ | M27: ○
H28: 14 | I28: 臼杵・津久見 | J28: 臼杵ＳＳＳ | K28: ○ | L28: ○ | M28: ○
H29: 3 | I29: 豊肥 | J29: 竹田直入ＦＣ | K29: ○ | L29: ○ | M29: ○
A32: ４．会議次第
A33: ①第4種委員長あいさつ
A34: ②要項の確認、質問、諸注意
A35: ③審判部より
A36: ・1次リーグ/2次リーグは、帯同審判員（大分県協会所属の3級以上）を帯同する事。
A37: （各チームにて責任を持って準備しておく事。）
A38: ④抽選
A40: ５．その他
A41: ①大会期間中は、常に選手証及び、指導者資格証、審判資格証を携帯し、必要に応じて提示すること。
A42: 指導者資格証、審判資格証を有していない、ベンチ入り予定の指導者については、顔写真の確認出来る証明書(免許証等)を携帯しておく事。
A43: また、ベンチ入りする指導者は、指導者を識別するためのIDプレートを大会本部より配布する。
A44: 選手への戦術的な指示やコーチングを行う際は、必ずIDプレートを着用すること。尚、IDを配布される
... A53: ６．試合会場
C54: 会場 | I54: 住所
A55: 1次ﾘｰｸﾞ | B55: 中津 | C55: ディーアクト（D-ACT）スポーツパーク永添(永添運動公園) 人工芝多目的グラウンド | I55: 中津市大字永添2065番地の1
...

Sheet MCM資料
A1: マッチコーディネーションミーティング
A2: OFA 第 57 回大分県少年サッカー大会 兼 KYFA 九州U-12サッカー大会大分県大会
A6: 各会場にて、試合開始70分前にマッチコーディネーションミーティング(MCM)を行います。
E7: １次リーグ ／ ２次リーグ 統一資料
B9: 組み合わせ左側チーム | K9: （ | O9: 市） | Q9: ｖｓ | S9: 組み合わせ右側チーム | AB9: （ | AF9: 市）
E11: ＜日程＞ | J11: ＜会場＞
A12: ２次リーグ | E12: =組み合わせ!BU3 -> 46054 | J12: =抽選会資料!B61 -> 豊肥 | M12: =抽選会資料!C61 -> 恵藤建設サン・スポーツランド(サン・スポーツランドみえ) | V12: =抽選会資料!B62 -> 佐伯 | Y12: =抽選会資料!C62 -> 佐伯市総合運動公園人工芝グラウンド
A13: １次リーグ | E13: =組み合わせ!BG3 -> 46047 | J13: =抽選会資料!B55 -> 中津 | M13: =抽選会資料!C55 -> ディーアクト（D-ACT）スポーツパーク永添(永添運動公園) 人工芝多目的グラウンド | S13: =抽選会資料!B56 -> 日田・玖珠 | V13: =抽選会資料!C56 -> 玖珠町総合運動公園 | AB13: =抽選会資料!B57 -> 宇佐高田 | AE13: =抽選会資料!C57 -> 宇佐市平成令和の森スポーツ公園
J15: =抽選会資料!B58 -> 別府 | M15: =抽選会資料!C58 -> 実相寺サッカー競技場(人工芝) | S15: =抽選会資料!B59 -> 速杵国東 | V15: =抽選会資料!C59 -> フットボールセンター大分きつき(杵築市営サッカー場) | AB15: =抽選会資料!B60 -> 臼杵・津久見 | AE15: =抽選会資料!C60 -> 吉四六ランドレックス多目的広場 (吉四六ランド陸上競技場)
B17: Kickoff ①10：00/②11：00/③12：00/④13：00/⑤14：00/⑥15：00
A20: 1 | B20: 挨拶および出席者の確認 | M20: 主管協会（ 一般社団法人 大分県サッカー協会 ）
D21: マッチコミッショナー、対戦チームの両監督、主審
D22: 1次、2次リーグで副審は、担当試合の10分前までに主審と打合せを必ず行うこと。
A23: 2 | B23: 競技関連事項 | J23: マッチコミッショナー | R23: （ | Z23: ）
B24: （1） | D24: 累積警告選手等の確認 | N24: （本大会実施要項 9）試合方法 ⑧に該当する選手）
C25: 組み合わせ左側チーム | K25: ：
C26: 組み合わせ右側チーム | K26: ：
C27: （大会期間中、２回（累計）の警告または、退場を宣告された選手等は次回戦に出場できないものとする。）
B28: （2） | D28: ユニフォームの色の決定
D29: チーム代表者は必ずユニフォームを持参(正・副全て)
B31: （3） | D31: 試合登録メンバー（選手および役員）の確認
B33: （４） | D33: 試合時間
C34: ○ | D34: 試合時間は 40分（20分ハーフ）とし、ハーフタイムのインターバル（前半終了から後半開始まで）は原則として10分とする。
C36: ○ | D36: 飲水タイムをとる場合は、「その他の理由」により空費された時間として追加する。
C37: ○ | D37: アディッショナルタイムの標記: | O37: 行う（口頭もしくは、表示用ボード）
B38: （5） | D38: 次回戦進出チームの決定方法
C39: ○ | D39: 次回戦進出チームの決定方法は、1次リーグ・2次リーグにおいては、Ⅰ:勝点（勝3点 分け1点 負0点） Ⅱ:当該チームの戦績 Ⅲ:PK戦の順で順位を決定する。1次リーグ・2次リーグにおいて、3チーム共に同率時のPK戦を行う場合は、2連勝したチームが次回戦進出とする。 （次回戦進出チームを決定するPK方式においてフィールドプレーヤーをゴールキーパーとする場合、その選手と同番号のゴールキーパーユニフォームまたはサブユニフォームのシャツを着用させる。）
B46: （6） | D46: 競技者の数
C47: ○ | D47: 試合開始時の人数は、8対8（内１人はゴールキーパー）とし、６人未満となった場合０－５の負けとする。
C48: ○ | D48: 競技中、怪我人が出た場合は、交代要員から補充すること。
C49: ○ | D49: 退場者が出た場合は、交代要員から補充し、退場者のベンチ戻入は認めない。
C50: ○ | D50: 競技者の数がアンバランスになるのは、該当チームに交代要員がいなくなった時に限る。
B51: （7） | D51: 選手の交代
C52: ○ | D52: 競技開始前に登録した最大10名の交代要員の中から、自由な交代が認められ、交代して退いた競技者は交代要員となり、再び出場することができる。（交代の回数は制限されない。）
C54: ○ | D54: 交代は、ボールがインプレー中、アウトオブプレー中にかかわらず行うことができ、チームの指導者、もしくは選手は「第4審」に交代選手の番号を口頭で報告し、用具チェックを受けた後、交代ゾーンから行う。ただし、交代で退く競技者が負傷している場合は、主審の承認を得た上でどこからフィールドを離れてもよい。また、ゴールキーパーが交代する場合はアウトプレー時に主審を通じ行う。
B58: （8） | D58: チームベンチへの人数
C59: ベンチに入るスタッフは、大会申込のスタッフ情報に申請した者の中から1名以上、３名以内とする。（内１名はJFA公認指導者ライセンスを有すること）また、交代要員となる選手は、10名を最大とする。
C61: ※大会登録書（メンバー表）に記載された選手及び監督・役員以外のベンチ入りは認めない。
B62: （9） | D62: ウォーミングアップ | L62: ※ 会場責任者の指示に従うこと！
C63: ***試合前***
...

Sheet 抽選方法
A1: No, | K1: 抽選順
A2: 1 | B2: 2次リーグ開催の | C2: 佐伯① | D2: 佐伯② | F2: を ＊3の | J2: で、2ブロックで分ける | K2: 1,2
A3: 2 | B3: 2次リーグ開催の | C3: 豊肥① | F3: を ＊3の | J3: で、2ブロックで分ける | K3: 3
A4: 3 | B4: 各地区地元開催の | C4: ① | D4: ② | F4: を ＊1の | J4: で、2ブロックで分ける | K4: 4～14
B6: 全枠空きにならないように、長考しながら調整 | J6: の空白の所に、大分以外が入るように
A7: 4 | C7: 中津③ | D7: 中津④ | F7: を | J7: 4ブロックで分ける | K7: 15,16
C8: 日田・玖珠③ | F8: を | J8: 4ブロックで分ける | K8: 17
A9: 5 | C9: 宇佐高田③ | F9: を | J9: 4ブロックで分ける | K9: 18
A10: 6 | C10: 別府③ | F10: を | J10: 4ブロックで分ける | K10: 19
A11: 7 | C11: 大分①②③ カティオーラU12/ドリームキッズ/リノス | F11: を | J11: 4ブロックで分ける | K11: 20,21,22
A12: 8 | C12: 大分④～⑰ | F12: を フリー抽選 | K12: 23～36

Sheet 組み合わせ
A1: =抽選会資料!A1 -> OFA 第 57 回大分県U-12サッカー大会 兼 KYFA 九州U-12サッカー大会大分県大会 | FH1: 組み合わせ
AL3: 2026年(令和8年) | BG3: 46047 | BS3: ・ | BU3: 46054 | CG3: ・ | CI3: 46061
A4: 《会場》
A5: 決勝・準決勝 | D5: =抽選会資料!B63 -> 県人工芝 | Q5: → | T5: =VLOOKUP(D5,抽選会資料!$B$55:$F$63,2,FALSE) -> 大分県サッカー協会人工芝グラウンド
A6: 2次リーグ | D6: =抽選会資料!B61 -> 豊肥 | L6: → | O6: =VLOOKUP(D6,抽選会資料!$B$55:$F$63,2,FALSE) -> 恵藤建設サン・スポーツランド(サン・スポーツランドみえ) | BF6: =抽選会資料!B62 -> 佐伯 | BN6: → | BQ6: =VLOOKUP(BF6,抽選会資料!$B$55:$F$63,2,FALSE) -> 佐伯市総合運動公園人工芝グラウンド
A7: 1次リーグ | D7: =抽選会資料!B55 -> 中津 | L7: → | O7: =VLOOKUP(D7,抽選会資料!$B$55:$F$63,2,FALSE) -> ディーアクト（D-ACT）スポーツパーク永添(永添運動公園) 人工芝多目的グラウンド | BF7: =抽選会資料!B56 -> 日田・玖珠 | BN7: → | BQ7: =VLOOKUP(BF7,抽選会資料!$B$55:$F$63,2,FALSE) -> 玖珠町総合運動公園 | DH7: =抽選会資料!B57 -> 宇佐高田 | DP7: → | DS7: =VLOOKUP(DH7,抽選会資料!$B$55:$F$63,2,FALSE) -> 宇佐市平成令和の森スポーツ公園
D8: =抽選会資料!B58 -> 別府 | L8: → | O8: =VLOOKUP(D8,抽選会資料!$B$55:$F$63,2,FALSE) -> 実相寺サッカー競技場(人工芝) | BF8: =抽選会資料!B59 -> 速杵国東 | BN8: → | BQ8: =VLOOKUP(BF8,抽選会資料!$B$55:$F$63,2,FALSE) -> フットボールセンター大分きつき(杵築市営サッカー場) | DH8: =抽選会資料!B60 -> 臼杵・津久見 | DP8: → | DS8: =VLOOKUP(DH8,抽選会資料!$B$55:$F$63,2,FALSE) -> 吉四六ランドレックス多目的広場 (吉四六ランド陸上競技場)
AX10: ＜優勝＞ | BH10: ドリームキッズフットボールクラブ | EP10: ＜準優勝＞
EP12: 四日市南ＳＳＣ
A14: =CI3 -> 46061
BP15: =D5 -> 県人工芝
EP16: ＜３位＞
A17: 決勝 準決勝 大会3日目 | BR17: 14:10～
X18: ドリームキッズフットボールクラブ | CR18: 四日市南ＳＳＣ | EP18: カティオーラフットボールクラブＵ－１２
BR19: 5 | BT19: 前半 | BX19: 0
AN21: （ 大分 市） | BR21: 1 | BT21: 後半 | BX21: 0 | DH21: （ 宇佐 市）
EP22: ＜３位＞
BT23: PK
AF24: =D5 -> 県人工芝 | CZ24: =D5 -> 県人工芝 | EP24: ティエラフットボールクラブＵ－１２
AH26: 12:00～ | DB26: 12:00～
F27: Aパート 1位 | L27: ドリームキッズフットボールクラブ | AP27: Bパート 1位 | AV27: カティオーラフットボールクラブＵ－１２ | BZ27: Cパート 1位 | CF27: ティエラフットボールクラブＵ－１２ | DJ27: Dパート 1位 | DP27: 四日市南ＳＳＣ
AJ28: 前半 | DB28: 0 | DD28: 前半 | DH28: 0
V30: （ 大分 市） | AH30: 4 | AJ30: 後半 | AN30: 0 | BF30: （ 大分 市） | CP30: （ 中津 市） | DB30: 0 | DD30: 後半 | DH30: 0 | DZ30: （ 宇佐 市）
AH32: 0 | AJ32: 延前 | AN32: 0 | DB32: 1 | DD32: 延前 | DH32: 1
A33: =BU3 -> 46054 | H33: 2次リーグ Aパート | AR33: 2次リーグ Bパート | CB33: 2次リーグ Cパート | DL33: 2次リーグ Dパート
H34: 会場： | T34: =D6 -> 豊肥 | AJ34: 延後 | AR34: 会場： | BD34: =BF6 -> 佐伯 | CB34: 会場： | CN34: =D6 -> 豊肥 | DB34: 0 | DD34: 延後 | DH34: 1 | DL34: 会場： | DX34: =BF6 -> 佐伯
A36: 2次リーグ 大会2日目 | H36: A | L36: ドリームキッズフットボールクラブ | AJ36: PK | AR36: D | AV36: 弥生少年サッカークラブ | CB36: G | CF36: ティエラフットボールクラブＵ－１２ | DD36: PK | DL36: J | DP36: 滝尾下郡サッカースポーツ少年団
H38: B | L38: 臼杵ＳＳＳ | AR38: E | AV38: アトレチコエラン横瀬 | CB38: H | CF38: 大分トリニータタートルズ | DL38: K | DP38: 戸次吉野ＳＳＳ
H40: C | L40: 別府フットボールクラブ．ミネルバＵ－１２ | AR40: F | AV40: カティオーラフットボールクラブＵ－１２ | CB40: I | CF40: リノスフットボールクラブ Ｕ－１２ | DL40: L | DP40: 四日市南ＳＳＣ
B48: A1 | F48: A2 | J48: A3 | N48: B1 | R48: B2 | V48: B3 | Z48: C1 | AD48: C2 | AH48: C3 | AL48: D1 | AP48: D2 | AT48: D3 | AX48: E1 | BB48: E2 | BF48: E3 | BJ48: F1 | BN48: F2 | BR48: F3 | BV48: G1 | BZ48: G2 | CD48: G3 | CH48: H1 | CL48: H2 | CP48: H3 | CT48: I1 | CX48: I2 | DB48: I3 | DF48: J1 | DJ48: J2 | DN48: J3 | DR48: K1 | DV48: K2 | DZ48: K3 | ED48: L1 | EH48: L2 | EL48: L3 | GD48: 抽選番号入力 | GE48: チーム名入力（偶数） | GF48: 地区入力
B49: =IF(ISERROR(VLOOKUP(B48,$GD:$GF,2,FALSE))=TRUE,"",VLOOKUP(B48,$GD:$GF,2,FALSE)) -> 鶴居ＳＳＳ | F49: =IF(ISERROR(VLOOKUP(F48,$GD:$GF,2,FALSE))=TRUE,"",VLOOKUP(F48,$GD:$GF,2,FALSE)) -> ドリームキッズフットボールクラブ | J49: =IF(ISERROR(VLOOKUP(J48,$GD:$GF,2,FALSE))=TRUE,"",VLOOKUP(J48,$GD:$GF,2,FALSE)) -> スマイス セレソン スポーツクラブ | N49: =IF(ISERROR(VLOOKUP(N48,$GD:$GF,2,FALSE))=TRUE,"",VLOOKUP(N48,$GD:$GF,2,FALSE)) -> 臼杵ＳＳＳ | R49: =IF(ISERROR(VLOOKUP(R48,$GD:$GF,2,FALSE))=TRUE,"",VLOOKUP(R48,$GD:$GF,2,FALSE)) -> ＦＣ ＲＥＧＡＴＥ | V49: =IF(ISERROR(VLOOKUP(V48,$GD:$GF,2,FALSE))=TRUE,"",VLOOKUP(V48,$GD:$GF,2,FALSE)) -> 竹田直入ＦＣ | Z49: =IF(ISERROR(VLOOKUP(Z48,$GD:$GF,2,FALSE))=TRUE,"",VLOOKUP(Z48,$GD:$GF,2,FALSE)) -> 別府フットボールクラブ．ミネルバＵ－１２ | AD49: =IF(ISERROR(VLOOKUP(AD48,$GD:$GF,2,FALSE))=TRUE,"",VLOOKUP(AD48,$GD:$GF,2,FALSE)) -> カティオーラフットボールクラブＵ－１２ Ｎｅｘｔ | AH49: =IF(ISERROR(VLOOKUP(AH48,$GD:$GF,2,FALSE))=TRUE,"",VLOOKUP(AH48,$GD:$GF,2,FALSE)) -> 西の台ＪＦＣ | AL49: =IF(ISERROR(VLOOKUP(AL48,$GD:$GF,2,FALSE))=TRUE,"",VLOOKUP(AL48,$GD:$GF,2,FALSE)) -> 日出サッカースポーツ少年団 | AP49: =IF(ISERROR(VLOOKUP(AP48,$GD:$GF,2,FALSE))=TRUE,"",VLOOKUP(AP48,$GD:$GF,2,FALSE)) -> 大分トリニータＵ－１２ | AT49: =IF(ISERROR(VLOOKUP(AT48,$GD:$GF,2,FALSE))=TRUE,"",VLOOKUP(AT48,$GD:$GF,2,FALSE)) -> 弥生少年サッカークラブ | AX49: =IF(ISERROR(VLOOKUP(AX48,$GD:$GF,2,FALSE))=TRUE,"",VLOOKUP(AX48,$GD:$GF,2,FALSE)) -> ＦＣ ＷＡＹＳ | BB49: =IF(ISERROR(VLOOKUP(BB48,$GD:$GF,2,FALSE))=TRUE,"",VLOOKUP(BB48,$GD:$GF,2,FALSE)) -> アトレチコエラン横瀬 | BF49: =IF(ISERROR(VLOOKUP(BF48,$GD:$GF,2,FALSE))=TRUE,"",VLOOKUP(BF48,$GD:$GF,2,FALSE)) -> ＦＣ ＪＵＮＩＯＲＳ | BJ49: =IF(ISERROR(VLOOKUP(BJ48,$GD:$GF,2,FALSE))=TRUE,"",VLOOKUP(BJ48,$GD:$GF,2,FALSE)) -> ＦＣアリアーレ | BN49: =IF(ISERROR(VLOOKUP(BN48,$GD:$GF,2,FALSE))=TRUE,"",VLOOKUP(BN48,$GD:$GF,2,FALSE)) -> カティオーラフットボールクラブＵ－１２ | BR49: =IF(ISERROR(VLOOKUP(BR48,$GD:$GF,2,FALSE))=TRUE,"",VLOOKUP(BR48,$GD:$GF,2,FALSE)) -> 大平山アソシエーション式フットボールクラブ | BV49: =IF(ISERROR(VLOOKUP(BV48,$GD:$GF,2,FALSE))=TRUE,"",VLOOKUP(BV48,$GD:$GF,2,FALSE)) -> ティエラフットボールクラブＵ－１２ | BZ49: =IF(ISERROR(VLOOKUP(BZ48,$GD:$GF,2,FALSE))=TRUE,"",VLOOKUP(BZ48,$GD:$GF,2,FALSE)) -> 南大分サッカー少年団 | CD49: =IF(ISERROR(VLOOKUP(CD48,$GD:$GF,2,FALSE))=TRUE,"",VLOOKUP(CD48,$GD:$GF,2,FALSE)) -> ＦＣ ＵＮＩＴＥ | CH49: =IF(ISERROR(VLOOKUP(CH48,$GD:$GF,2,FALSE))=TRUE,"",VLOOKUP(CH48,$GD:$GF,2,FALSE)) -> スマイス・セレソン | CL49: =IF(ISERROR(VLOOKUP(CL48,$GD:$GF,2,FALSE))=TRUE,"",VLOOKUP(CL48,$GD:$GF,2,FALSE)) -> 明治北ＳＳＣ | CP49: =IF(ISERROR(VLOOKUP(CP48,$GD:$GF,2,FALSE))=TRUE,"",VLOOKUP(CP48,$GD:$GF,2,FALSE)) -> 大分トリニータタートルズ | CT49: =IF(ISERROR(VLOOKUP(CT48,$GD:$GF,2,FALSE))=TRUE,"",VLOOKUP(CT48,$GD:$GF,2,FALSE)) -> ＭＦＣ三花少年サッカー教室 | CX49: =IF(ISERROR(VLOOKUP(CX48,$GD:$GF,2,FALSE))=TRUE,"",VLOOKUP(CX48,$GD:$GF,2,FALSE)) -> リノスフットボールクラブ Ｕ－１２ | DB49: =IF(ISERROR(VLOOKUP(DB48,$GD:$GF,2,FALSE))=TRUE,"",VLOOKUP(DB48,$GD:$GF,2,FALSE)) -> ＮＦＣ・ＯＩＴＡ Ｕ１２ | DF49: =IF(ISERROR(VLOOKUP(DF48,$GD:$GF,2,FALSE))=TRUE,"",VLOOKUP(DF48,$GD:$GF,2,FALSE)) -> ＯＫＹ山香サッカークラブ | DJ49: =IF(ISERROR(VLOOKUP(DJ48,$GD:$GF,2,FALSE))=TRUE,"",VLOOKUP(DJ48,$GD:$GF,2,FALSE)) -> 滝尾下郡サッカースポーツ少年団 | DN49: =IF(ISERROR(VLOOKUP(DN48,$GD:$GF,2,FALSE))=TRUE,"",VLOOKUP(DN48,$GD:$GF,2,FALSE)) -> はやぶさフットボールクラブ | DR49: =IF(ISERROR(VLOOKUP(DR48,$GD:$GF,2,FALSE))=TRUE,"",VLOOKUP(DR48,$GD:$GF,2,FALSE)) -> 玖珠サッカースポーツ少年団 | DV49: =IF(ISERROR(VLOOKUP(DV48,$GD:$GF,2,FALSE))=TRUE,"",VLOOKUP(DV48,$GD:$GF,2,FALSE)) -> 鶴崎ＳＳＳ | DZ49: =IF(ISERROR(VLOOKUP(DZ48,$GD:$GF,2,FALSE))=TRUE,"",VLOOKUP(DZ48,$GD:$GF,2,FALSE)) -> 戸次吉野ＳＳＳ | ED49: =IF(ISERROR(VLOOKUP(ED48,$GD:$GF,2,FALSE))=TRUE,"",VLOOKUP(ED48,$GD:$GF,2,FALSE)) -> 四日市南ＳＳＣ | EH49: =IF(ISERROR(VLOOKUP(EH48,$GD:$GF,2,FALSE))=TRUE,"",VLOOKUP(EH48,$GD:$GF,2,FALSE)) -> 明野東サッカースポーツ少年団 | EL49: =IF(ISERROR(VLOOKUP(EL48,$GD:$GF,2,FALSE))=TRUE,"",VLOOKUP(EL48,$GD:$GF,2,FALSE)) -> 佐伯リベロフットボールクラブ | GD49: F2 | GE49: =抽選会資料!C11 -> カティオーラフットボールクラブＵ－１２ | GF49: 大分
GD50: A2 | GE50: =抽選会資料!C12 -> ドリームキッズフットボールクラブ | GF50: 大分
GD51: I2 | GE51: =抽選会資料!C13 -> リノスフットボールクラブ Ｕ－１２ | GF51: 大分
GD52: K2 | GE52: =抽選会資料!C14 -> 鶴崎ＳＳＳ | GF52: 大分
GD53: C2 | GE53: =抽選会資料!C15 -> カティオーラフットボールクラブＵ－１２ Ｎｅｘｔ | GF53: 大分
GD54: H2 | GE54: =抽選会資料!C16 -> 明治北ＳＳＣ | GF54: 大分
GD55: J2 | GE55: =抽選会資料!C17 -> 滝尾下郡サッカースポーツ少年団 | GF55: 大分
GD56: K3 | GE56: =抽選会資料!C18 -> 戸次吉野ＳＳＳ | GF56: 大分
GD57: D2 | GE57: =抽選会資料!C19 -> 大分トリニータＵ－１２ | GF57: 大分
GD58: B2 | GE58: =抽選会資料!C20 -> ＦＣ ＲＥＧＡＴＥ | GF58: 大分
...

Sheet 全日程スケジュール
A1: =抽選会資料!A1 -> OFA 第 57 回大分県U-12サッカー大会 兼 KYFA 九州U-12サッカー大会大分県大会 | K1: 全日程スケジュール
B3: （１）期日 | C3: =組み合わせ!BG3 -> 46047
B4: （２）日程 | C4: 各会場にて、各パートの第1試合開始70分前に、各パートのマッチコーディネーションミーティング(MCM)を、3チーム同時に行います。
D5: 会場： | E5: =組み合わせ!D7 -> 中津 | F5: =VLOOKUP(E5,抽選会資料!$B$55:$F$63,2,FALSE) -> ディーアクト（D-ACT）スポーツパーク永添(永添運動公園) 人工芝多目的グラウンド | I5: 会場： | J5: =組み合わせ!BF7 -> 日田・玖珠 | K5: =VLOOKUP(J5,抽選会資料!$B$55:$F$63,2,FALSE) -> 玖珠町総合運動公園 | N5: 会場： | O5: =組み合わせ!DH7 -> 宇佐高田 | P5: =VLOOKUP(O5,抽選会資料!$B$55:$F$63,2,FALSE) -> 宇佐市平成令和の森スポーツ公園
B6: 8:30～ | C6: 会場設営 | D6: 設営担当者or対応協会 | G6: 審判員 | I6: 設営担当者or対応協会 | L6: 審判員 | N6: 設営担当者or対応協会 | Q6: 審判員
A7: ① | B7: 10:00～ | C7: １次リーグ | G7: R：本部 | H7: A1：②帯同 | L7: R：本部 | M7: A1：②帯同 | Q7: R：本部 | R7: A1：②帯同
D8: ='１次リーグ（中津）'!$B$12 -> 鶴居ＳＳＳ | E8: vs | F8: ='１次リーグ（中津）'!$J$12 -> ドリームキッズフットボールクラブ | G8: 4th：本部 | H8: A2：②帯同 | I8: ='１次リーグ（日田・玖珠）'!$B$12 -> ＦＣアリアーレ | J8: vs | K8: ='１次リーグ（日田・玖珠）'!$J$12 -> カティオーラフットボールクラブＵ－１２ | L8: 4th：本部 | M8: A2：②帯同 | N8: ='１次リーグ（宇佐高田）'!$B$12 -> ＦＣ ＷＡＹＳ | O8: vs | P8: ='１次リーグ（宇佐高田）'!$J$12 -> アトレチコエラン横瀬 | Q8: 4th：本部 | R8: A2：②帯同
A9: ② | B9: 11:00～ | C9: 〃 | G9: R：本部 | H9: A1：①帯同 | L9: R：本部 | M9: A1：①帯同 | Q9: R：本部 | R9: A1：①帯同
D10: ='１次リーグ（中津）'!$N$12 -> ティエラフットボールクラブＵ－１２ | E10: vs | F10: ='１次リーグ（中津）'!$V$12 -> 南大分サッカー少年団 | G10: 4th：本部 | H10: A2：①帯同 | I10: ='１次リーグ（日田・玖珠）'!$N$12 -> 玖珠サッカースポーツ少年団 | J10: vs | K10: ='１次リーグ（日田・玖珠）'!$V$12 -> 鶴崎ＳＳＳ | L10: 4th：本部 | M10: A2：①帯同 | N10: ='１次リーグ（宇佐高田）'!$N$12 -> 四日市南ＳＳＣ | O10: vs | P10: ='１次リーグ（宇佐高田）'!$V$12 -> 明野東サッカースポーツ少年団 | Q10: 4th：本部 | R10: A2：①帯同
A11: ③ | B11: 12:00～ | C11: 〃 | G11: R：本部 | H11: A1：④帯同 | L11: R：本部 | M11: A1：④帯同 | Q11: R：本部 | R11: A1：④帯同
D12: ='１次リーグ（中津）'!$B$30 -> ドリームキッズフットボールクラブ | E12: vs | F12: ='１次リーグ（中津）'!$J$30 -> スマイス セレソン スポーツクラブ | G12: 4th：本部 | H12: A2：④帯同 | I12: ='１次リーグ（日田・玖珠）'!$B$30 -> カティオーラフットボールクラブＵ－１２ | J12: vs | K12: ='１次リーグ（日田・玖珠）'!$J$30 -> 大平山アソシエーション式フットボールクラブ | L12: 4th：本部 | M12: A2：④帯同 | N12: ='１次リーグ（宇佐高田）'!$B$30 -> アトレチコエラン横瀬 | O12: vs | P12: ='１次リーグ（宇佐高田）'!$J$30 -> ＦＣ ＪＵＮＩＯＲＳ | Q12: 4th：本部 | R12: A2：④帯同
A13: ④ | B13: 13:00～ | C13: 〃 | G13: R：本部 | H13: A1：③帯同 | L13: R：本部 | M13: A1：③帯同 | Q13: R：本部 | R13: A1：③帯同
D14: ='１次リーグ（中津）'!$N$30 -> 南大分サッカー少年団 | E14: vs | F14: ='１次リーグ（中津）'!$V$30 -> ＦＣ ＵＮＩＴＥ | G14: 4th：本部 | H14: A2：③帯同 | I14: ='１次リーグ（日田・玖珠）'!$N$30 -> 鶴崎ＳＳＳ | J14: vs | K14: ='１次リーグ（日田・玖珠）'!$V$30 -> 戸次吉野ＳＳＳ | L14: 4th：本部 | M14: A2：③帯同 | N14: ='１次リーグ（宇佐高田）'!$N$30 -> 明野東サッカースポーツ少年団 | O14: vs | P14: ='１次リーグ（宇佐高田）'!$V$30 -> 佐伯リベロフットボールクラブ | Q14: 4th：本部 | R14: A2：③帯同
A15: ⑤ | B15: 14:00～ | C15: 〃 | G15: R：本部 | H15: A1：⑥帯同 | L15: R：本部 | M15: A1：⑥帯同 | Q15: R：本部 | R15: A1：⑥帯同
D16: ='１次リーグ（中津）'!$B$48 -> スマイス セレソン スポーツクラブ | E16: vs | F16: ='１次リーグ（中津）'!$J$48 -> 鶴居ＳＳＳ | G16: 4th：本部 | H16: A2：⑥帯同 | I16: ='１次リーグ（日田・玖珠）'!$B$48 -> 大平山アソシエーション式フットボールクラブ | J16: vs | K16: ='１次リーグ（日田・玖珠）'!$J$48 -> ＦＣアリアーレ | L16: 4th：本部 | M16: A2：⑥帯同 | N16: ='１次リーグ（宇佐高田）'!$B$48 -> ＦＣ ＪＵＮＩＯＲＳ | O16: vs | P16: ='１次リーグ（宇佐高田）'!$J$48 -> ＦＣ ＷＡＹＳ | Q16: 4th：本部 | R16: A2：⑥帯同
A17: ⑥ | B17: 15:00～ | C17: 〃 | G17: R：本部 | H17: A1：⑤帯同 | L17: R：本部 | M17: A1：⑤帯同 | Q17: R：本部 | R17: A1：⑤帯同
D18: ='１次リーグ（中津）'!$N$48 -> ＦＣ ＵＮＩＴＥ | E18: vs | F18: ='１次リーグ（中津）'!$V$48 -> ティエラフットボールクラブＵ－１２ | G18: 4th：本部 | H18: A2：⑤帯同 | I18: ='１次リーグ（日田・玖珠）'!$N$48 -> 戸次吉野ＳＳＳ | J18: vs | K18: ='１次リーグ（日田・玖珠）'!$V$48 -> 玖珠サッカースポーツ少年団 | L18: 4th：本部 | M18: A2：⑤帯同 | N18: ='１次リーグ（宇佐高田）'!$N$48 -> 佐伯リベロフットボールクラブ | O18: vs | P18: ='１次リーグ（宇佐高田）'!$V$48 -> 四日市南ＳＳＣ | Q18: 4th：本部 | R18: A2：⑤帯同
C19: 片付け | D19: ⑥で試合をしたチームでフラッグ・本部・ゴール等を片付けます。
D21: 会場： | E21: =組み合わせ!D8 -> 別府 | F21: =VLOOKUP(E21,抽選会資料!$B$55:$F$63,2,FALSE) -> 実相寺サッカー競技場(人工芝) | I21: 会場： | J21: =組み合わせ!BF8 -> 速杵国東 | K21: =VLOOKUP(J21,抽選会資料!$B$55:$F$63,2,FALSE) -> フットボールセンター大分きつき(杵築市営サッカー場) | N21: 会場： | O21: =組み合わせ!DH8 -> 臼杵・津久見 | P21: =VLOOKUP(O21,抽選会資料!$B$55:$F$63,2,FALSE) -> 吉四六ランドレックス多目的広場 (吉四六ランド陸上競技場)
B22: 8:30～ | C22: 会場設営 | D22: 設営担当者or対応協会 | G22: 審判員 | I22: 設営担当者or対応協会 | L22: 審判員 | N22: 設営担当者or対応協会 | Q22: 審判員
A23: ① | B23: 10:00～ | C23: １次リーグ | G23: R：本部 | H23: A1：②帯同 | L23: R：本部 | M23: A1：②帯同 | Q23: R：本部 | R23: A1：②帯同
D24: ='１次リーグ（別府）'!$B$12 -> 別府フットボールクラブ．ミネルバＵ－１２ | E24: vs | F24: ='１次リーグ（別府）'!$J$12 -> カティオーラフットボールクラブＵ－１２ Ｎｅｘｔ | G24: 4th：本部 | H24: A2：②帯同 | I24: ='１次リーグ（速杵国東）'!$B$12 -> 日出サッカースポーツ少年団 | J24: vs | K24: ='１次リーグ（速杵国東）'!$J$12 -> 大分トリニータＵ－１２ | L24: 4th：本部 | M24: A2：②帯同 | N24: ='１次リーグ（臼杵・津久見）'!$B$12 -> 臼杵ＳＳＳ | O24: vs | P24: ='１次リーグ（臼杵・津久見）'!$J$12 -> ＦＣ ＲＥＧＡＴＥ | Q24: 4th：本部 | R24: A2：②帯同
A25: ② | B25: 11:00～ | C25: 〃 | G25: R：本部 | H25: A1：①帯同 | L25: R：本部 | M25: A1：①帯同 | Q25: R：本部 | R25: A1：①帯同
D26: ='１次リーグ（別府）'!$N$12 -> スマイス・セレソン | E26: vs | F26: ='１次リーグ（別府）'!$V$12 -> 明治北ＳＳＣ | G26: 4th：本部 | H26: A2：①帯同 | I26: ='１次リーグ（速杵国東）'!$N$12 -> ＯＫＹ山香サッカークラブ | J26: vs | K26: ='１次リーグ（速杵国東）'!$V$12 -> 滝尾下郡サッカースポーツ少年団 | L26: 4th：本部 | M26: A2：①帯同 | N26: ='１次リーグ（臼杵・津久見）'!$N$12 -> ＭＦＣ三花少年サッカー教室 | O26: vs | P26: ='１次リーグ（臼杵・津久見）'!$V$12 -> リノスフットボールクラブ Ｕ－１２ | Q26: 4th：本部 | R26: A2：①帯同
A27: ③ | B27: 12:00～ | C27: 〃 | G27: R：本部 | H27: A1：④帯同 | L27: R：本部 | M27: A1：④帯同 | Q27: R：本部 | R27: A1：④帯同
D28: ='１次リーグ（別府）'!$B$30 -> カティオーラフットボールクラブＵ－１２ Ｎｅｘｔ | E28: vs | F28: ='１次リーグ（別府）'!$J$30 -> 西の台ＪＦＣ | G28: 4th：本部 | H28: A2：④帯同 | I28: ='１次リーグ（速杵国東）'!$B$30 -> 大分トリニータＵ－１２ | J28: vs | K28: ='１次リーグ（速杵国東）'!$J$30 -> 弥生少年サッカークラブ | L28: 4th：本部 | M28: A2：④帯同 | N28: ='１次リーグ（臼杵・津久見）'!$B$30 -> ＦＣ ＲＥＧＡＴＥ | O28: vs | P28: ='１次リーグ（臼杵・津久見）'!$J$30 -> 竹田直入ＦＣ | Q28: 4th：本部 | R28: A2：④帯同
A29: ④ | B29: 13:00～ | C29: 〃 | G29: R：本部 | H29: A1：③帯同 | L29: R：本部 | M29: A1：③帯同 | Q29: R：本部 | R29: A1：③帯同
D30: ='１次リーグ（別府）'!$N$30 -> 明治北ＳＳＣ | E30: vs | F30: ='１次リーグ（別府）'!$V$30 -> 大分トリニータタートルズ | G30: 4th：本部 | H30: A2：③帯同 | I30: ='１次リーグ（速杵国東）'!$N$30 -> 滝尾下郡サッカースポーツ少年団 | J30: vs | K30: ='１次リーグ（速杵国東）'!$V$30 -> はやぶさフットボールクラブ | L30: 4th：本部 | M30: A2：③帯同 | N30: ='１次リーグ（臼杵・津久見）'!$N$30 -> リノスフットボールクラブ Ｕ－１２ | O30: vs | P30: ='１次リーグ（臼杵・津久見）'!$V$30 -> ＮＦＣ・ＯＩＴＡ Ｕ１２ | Q30: 4th：本部 | R30: A2：③帯同
A31: ⑤ | B31: 14:00～ | C31: 〃 | G31: R：本部 | H31: A1：⑥帯同 | L31: R：本部 | M31: A1：⑥帯同 | Q31: R：本部 | R31: A1：⑥帯同
D32: ='１次リーグ（別府）'!$B$48 -> 西の台ＪＦＣ | E32: vs | F32: ='１次リーグ（別府）'!$J$48 -> 別府フットボールクラブ．ミネルバＵ－１２ | G32: 4th：本部 | H32: A2：⑥帯同 | I32: ='１次リーグ（速杵国東）'!$B$48 -> 弥生少年サッカークラブ | J32: vs | K32: ='１次リーグ（速杵国東）'!$J$48 -> 日出サッカースポーツ少年団 | L32: 4th：本部 | M32: A2：⑥帯同 | N32: ='１次リーグ（臼杵・津久見）'!$B$48 -> 竹田直入ＦＣ | O32: vs | P32: ='１次リーグ（臼杵・津久見）'!$J$48 -> 臼杵ＳＳＳ | Q32: 4th：本部 | R32: A2：⑥帯同
A33: ⑥ | B33: 15:00～ | C33: 〃 | G33: R：本部 | H33: A1：⑤帯同 | L33: R：本部 | M33: A1：⑤帯同 | Q33: R：本部 | R33: A1：⑤帯同
D34: ='１次リーグ（別府）'!$N$48 -> 大分トリニータタートルズ | E34: vs | F34: ='１次リーグ（別府）'!$V$48 -> スマイス・セレソン | G34: 4th：本部 | H34: A2：⑤帯同 | I34: ='１次リーグ（速杵国東）'!$N$48 -> はやぶさフットボールクラブ | J34: vs | K34: ='１次リーグ（速杵国東）'!$V$48 -> ＯＫＹ山香サッカークラブ | L34: 4th：本部 | M34: A2：⑤帯同 | N34: ='１次リーグ（臼杵・津久見）'!$N$48 -> ＮＦＣ・ＯＩＴＡ Ｕ１２ | O34: vs | P34: ='１次リーグ（臼杵・津久見）'!$V$48 -> ＭＦＣ三花少年サッカー教室 | Q34: 4th：本部 | R34: A2：⑤帯同
C35: 片付け | D35: ⑥で試合をしたチームでフラッグ・本部・ゴール等を片付けます。
B38: （１）期日 | C38: =組み合わせ!BU3 -> 46054
B39: （２）日程 | C39: 各会場にて、各パートの第1試合開始70分前に、各パートのマッチコーディネーションミーティング(MCM)を、3チーム同時に行います。
D40: 会場： | E40: =組み合わせ!D6 -> 豊肥 | F40: =VLOOKUP(E40,抽選会資料!$B$55:$F$63,2,FALSE) -> 恵藤建設サン・スポーツランド(サン・スポーツランドみえ) | I40: 会場： | J40: =組み合わせ!BF6 -> 佐伯 | K40: =VLOOKUP(J40,抽選会資料!$B$55:$F$63,2,FALSE) -> 佐伯市総合運動公園人工芝グラウンド
B41: 8:30～ | C41: 会場設営 | D41: 設営担当者or対応協会 | G41: 審判員 | I41: 設営担当者or対応協会 | L41: 審判員
A42: ① | B42: 10:00～ | C42: ２次リーグ | G42: R：本部 | H42: A1：②帯同 | L42: R：本部 | M42: A1：②帯同
D43: ='２次リーグ（豊肥）'!$B$12 -> ドリームキッズフットボールクラブ | E43: vs | F43: ='２次リーグ（豊肥）'!$J$12 -> 臼杵ＳＳＳ | G43: 4th：本部 | H43: A2：②帯同 | I43: ='２次リーグ（佐伯）'!$B$12 -> 弥生少年サッカークラブ | J43: vs | K43: ='２次リーグ（佐伯）'!$J$12 -> アトレチコエラン横瀬 | L43: 4th：本部 | M43: A2：②帯同
A44: ② | B44: 11:00～ | C44: 〃 | G44: R：本部 | H44: A1：①帯同 | L44: R：本部 | M44: A1：①帯同
...

Sheet 累積警告・退場
A1: × | C1: =抽選会資料!A1 -> OFA 第 57 回大分県U-12サッカー大会 兼 KYFA 九州U-12サッカー大会大分県大会 | AH1: 警告/退場 | AJ1: ＜警告選択肢＞
AH2: 警告 | AJ2: 反スポ | AL2: 反スポ
D3: 地区大会 | H3: 1次ﾘｰｸﾞ① | L3: 1次ﾘｰｸﾞ② | P3: 2次ﾘｰｸﾞ① | T3: 2次ﾘｰｸﾞ② | X3: 準決勝 | AB3: 決勝 | AH3: 退場 | AJ3: ラフ | AL3: ラフ
A4: 敗戦 | B4: 地区 | C4: チーム名 | D4: 背番号 | E4: 氏名 | F4: 警告/退場 | G4: 内容 | H4: 背番号 | I4: 氏名 | J4: 警告/退場 | K4: 内容 | L4: 背番号 | M4: 氏名 | N4: 警告/退場 | O4: 内容 | P4: 背番号 | Q4: 氏名 | R4: 警告/退場 | S4: 内容 | T4: 背番号 | U4: 氏名 | V4: 警告/退場 | W4: 内容 | X4: 背番号 | Y4: 氏名 | Z4: 警告/退場 | AA4: 内容 | AB4: 背番号 | AC4: 氏名 | AD4: 警告/退場 | AE4: 内容 | AH4: 警告(累積2枚目次節出場停止） | AJ4: 異議 | AL4: 異議
B5: 中津 | C5: =抽選会資料!J11 -> ティエラフットボールクラブＵ－１２ | E5: =IF(D5="","",VLOOKUP(CONCATENATE($C5,"_",D5),選手名簿!$A:$H,5,FALSE)) | I5: =IF(H5="","",VLOOKUP(CONCATENATE($C5,"_",H5),選手名簿!$A:$H,5,FALSE)) | M5: =IF(L5="","",VLOOKUP(CONCATENATE($C5,"_",L5),選手名簿!$A:$H,5,FALSE)) | Q5: =IF(P5="","",VLOOKUP(CONCATENATE($C5,"_",P5),選手名簿!$A:$H,5,FALSE)) | U5: =IF(T5="","",VLOOKUP(CONCATENATE($C5,"_",T5),選手名簿!$A:$H,5,FALSE)) | Y5: =IF(X5="","",VLOOKUP(CONCATENATE($C5,"_",X5),選手名簿!$A:$H,5,FALSE)) | AC5: =IF(AB5="","",VLOOKUP(CONCATENATE($C5,"_",AB5),選手名簿!$A:$H,5,FALSE)) | AJ5: 繰り返し | AL5: 繰り返し
C6: =抽選会資料!J12 -> 鶴居ＳＳＳ | E6: =IF(D6="","",VLOOKUP(CONCATENATE($C6,"_",D6),選手名簿!$A:$H,5,FALSE)) | I6: =IF(H6="","",VLOOKUP(CONCATENATE($C6,"_",H6),選手名簿!$A:$H,5,FALSE)) | M6: =IF(L6="","",VLOOKUP(CONCATENATE($C6,"_",L6),選手名簿!$A:$H,5,FALSE)) | Q6: =IF(P6="","",VLOOKUP(CONCATENATE($C6,"_",P6),選手名簿!$A:$H,5,FALSE)) | U6: =IF(T6="","",VLOOKUP(CONCATENATE($C6,"_",T6),選手名簿!$A:$H,5,FALSE)) | Y6: =IF(X6="","",VLOOKUP(CONCATENATE($C6,"_",X6),選手名簿!$A:$H,5,FALSE)) | AC6: =IF(AB6="","",VLOOKUP(CONCATENATE($C6,"_",AB6),選手名簿!$A:$H,5,FALSE)) | AJ6: 遅延 | AL6: 遅延
C7: =抽選会資料!J13 -> ＦＣ ＪＵＮＩＯＲＳ | E7: =IF(D7="","",VLOOKUP(CONCATENATE($C7,"_",D7),選手名簿!$A:$H,5,FALSE)) | H7: コーチ | I7: 弓場 幸誠 | J7: 警告 | K7: 異議 | M7: =IF(L7="","",VLOOKUP(CONCATENATE($C7,"_",L7),選手名簿!$A:$H,5,FALSE)) | Q7: =IF(P7="","",VLOOKUP(CONCATENATE($C7,"_",P7),選手名簿!$A:$H,5,FALSE)) | U7: =IF(T7="","",VLOOKUP(CONCATENATE($C7,"_",T7),選手名簿!$A:$H,5,FALSE)) | Y7: =IF(X7="","",VLOOKUP(CONCATENATE($C7,"_",X7),選手名簿!$A:$H,5,FALSE)) | AC7: =IF(AB7="","",VLOOKUP(CONCATENATE($C7,"_",AB7),選手名簿!$A:$H,5,FALSE)) | AJ7: 距離 | AL7: 距離
H8: 5 | I8: =IF(H8="","",VLOOKUP(CONCATENATE($C7,"_",H8),選手名簿!$A:$H,5,FALSE)) -> 熊谷 琉星 | J8: 警告 | K8: 反スポ
C9: =抽選会資料!J14 -> はやぶさフットボールクラブ | E9: =IF(D9="","",VLOOKUP(CONCATENATE($C9,"_",D9),選手名簿!$A:$H,5,FALSE)) | I9: =IF(H9="","",VLOOKUP(CONCATENATE($C9,"_",H9),選手名簿!$A:$H,5,FALSE)) | M9: =IF(L9="","",VLOOKUP(CONCATENATE($C9,"_",L9),選手名簿!$A:$H,5,FALSE)) | Q9: =IF(P9="","",VLOOKUP(CONCATENATE($C9,"_",P9),選手名簿!$A:$H,5,FALSE)) | U9: =IF(T9="","",VLOOKUP(CONCATENATE($C9,"_",T9),選手名簿!$A:$H,5,FALSE)) | Y9: =IF(X9="","",VLOOKUP(CONCATENATE($C9,"_",X9),選手名簿!$A:$H,5,FALSE)) | AC9: =IF(AB9="","",VLOOKUP(CONCATENATE($C9,"_",AB9),選手名簿!$A:$H,5,FALSE)) | AJ9: 無断入 | AL9: 無断入
B10: 日田・玖珠 | C10: =抽選会資料!J15 -> ＦＣアリアーレ | E10: =IF(D10="","",VLOOKUP(CONCATENATE($C10,"_",D10),選手名簿!$A:$H,5,FALSE)) | H10: 9 | I10: =IF(H10="","",VLOOKUP(CONCATENATE($C10,"_",H10),選手名簿!$A:$H,5,FALSE)) -> トーマス ヘイデン | J10: 警告 | K10: ラフ | M10: =IF(L10="","",VLOOKUP(CONCATENATE($C10,"_",L10),選手名簿!$A:$H,5,FALSE)) | Q10: =IF(P10="","",VLOOKUP(CONCATENATE($C10,"_",P10),選手名簿!$A:$H,5,FALSE)) | U10: =IF(T10="","",VLOOKUP(CONCATENATE($C10,"_",T10),選手名簿!$A:$H,5,FALSE)) | Y10: =IF(X10="","",VLOOKUP(CONCATENATE($C10,"_",X10),選手名簿!$A:$H,5,FALSE)) | AC10: =IF(AB10="","",VLOOKUP(CONCATENATE($C10,"_",AB10),選手名簿!$A:$H,5,FALSE)) | AJ10: 無断去 | AL10: 無断去
C11: =抽選会資料!J16 -> 玖珠サッカースポーツ少年団 | E11: =IF(D11="","",VLOOKUP(CONCATENATE($C11,"_",D11),選手名簿!$A:$H,5,FALSE)) | I11: =IF(H11="","",VLOOKUP(CONCATENATE($C11,"_",H11),選手名簿!$A:$H,5,FALSE)) | M11: =IF(L11="","",VLOOKUP(CONCATENATE($C11,"_",L11),選手名簿!$A:$H,5,FALSE)) | Q11: =IF(P11="","",VLOOKUP(CONCATENATE($C11,"_",P11),選手名簿!$A:$H,5,FALSE)) | U11: =IF(T11="","",VLOOKUP(CONCATENATE($C11,"_",T11),選手名簿!$A:$H,5,FALSE)) | Y11: =IF(X11="","",VLOOKUP(CONCATENATE($C11,"_",X11),選手名簿!$A:$H,5,FALSE)) | AC11: =IF(AB11="","",VLOOKUP(CONCATENATE($C11,"_",AB11),選手名簿!$A:$H,5,FALSE)) | AJ11: ＜退場選択肢＞
C12: =抽選会資料!J17 -> ＭＦＣ三花少年サッカー教室 | E12: =IF(D12="","",VLOOKUP(CONCATENATE($C12,"_",D12),選手名簿!$A:$H,5,FALSE)) | I12: =IF(H12="","",VLOOKUP(CONCATENATE($C12,"_",H12),選手名簿!$A:$H,5,FALSE)) | M12: =IF(L12="","",VLOOKUP(CONCATENATE($C12,"_",L12),選手名簿!$A:$H,5,FALSE)) | Q12: =IF(P12="","",VLOOKUP(CONCATENATE($C12,"_",P12),選手名簿!$A:$H,5,FALSE)) | U12: =IF(T12="","",VLOOKUP(CONCATENATE($C12,"_",T12),選手名簿!$A:$H,5,FALSE)) | Y12: =IF(X12="","",VLOOKUP(CONCATENATE($C12,"_",X12),選手名簿!$A:$H,5,FALSE)) | AC12: =IF(AB12="","",VLOOKUP(CONCATENATE($C12,"_",AB12),選手名簿!$A:$H,5,FALSE)) | AJ12: 不正
B13: 宇佐高田 | C13: =抽選会資料!J18 -> 四日市南ＳＳＣ | E13: =IF(D13="","",VLOOKUP(CONCATENATE($C13,"_",D13),選手名簿!$A:$H,5,FALSE)) | I13: =IF(H13="","",VLOOKUP(CONCATENATE($C13,"_",H13),選手名簿!$A:$H,5,FALSE)) | M13: =IF(L13="","",VLOOKUP(CONCATENATE($C13,"_",L13),選手名簿!$A:$H,5,FALSE)) | Q13: =IF(P13="","",VLOOKUP(CONCATENATE($C13,"_",P13),選手名簿!$A:$H,5,FALSE)) | U13: =IF(T13="","",VLOOKUP(CONCATENATE($C13,"_",T13),選手名簿!$A:$H,5,FALSE)) | Y13: =IF(X13="","",VLOOKUP(CONCATENATE($C13,"_",X13),選手名簿!$A:$H,5,FALSE)) | AC13: =IF(AB13="","",VLOOKUP(CONCATENATE($C13,"_",AB13),選手名簿!$A:$H,5,FALSE)) | AJ13: 乱暴
C14: =抽選会資料!J19 -> ＦＣ ＷＡＹＳ | E14: =IF(D14="","",VLOOKUP(CONCATENATE($C14,"_",D14),選手名簿!$A:$H,5,FALSE)) | I14: =IF(H14="","",VLOOKUP(CONCATENATE($C14,"_",H14),選手名簿!$A:$H,5,FALSE)) | M14: =IF(L14="","",VLOOKUP(CONCATENATE($C14,"_",L14),選手名簿!$A:$H,5,FALSE)) | Q14: =IF(P14="","",VLOOKUP(CONCATENATE($C14,"_",P14),選手名簿!$A:$H,5,FALSE)) | U14: =IF(T14="","",VLOOKUP(CONCATENATE($C14,"_",T14),選手名簿!$A:$H,5,FALSE)) | Y14: =IF(X14="","",VLOOKUP(CONCATENATE($C14,"_",X14),選手名簿!$A:$H,5,FALSE)) | AC14: =IF(AB14="","",VLOOKUP(CONCATENATE($C14,"_",AB14),選手名簿!$A:$H,5,FALSE)) | AJ14: つば
C15: =抽選会資料!J20 -> ＦＣ ＵＮＩＴＥ | E15: =IF(D15="","",VLOOKUP(CONCATENATE($C15,"_",D15),選手名簿!$A:$H,5,FALSE)) | I15: =IF(H15="","",VLOOKUP(CONCATENATE($C15,"_",H15),選手名簿!$A:$H,5,FALSE)) | M15: =IF(L15="","",VLOOKUP(CONCATENATE($C15,"_",L15),選手名簿!$A:$H,5,FALSE)) | Q15: =IF(P15="","",VLOOKUP(CONCATENATE($C15,"_",P15),選手名簿!$A:$H,5,FALSE)) | U15: =IF(T15="","",VLOOKUP(CONCATENATE($C15,"_",T15),選手名簿!$A:$H,5,FALSE)) | Y15: =IF(X15="","",VLOOKUP(CONCATENATE($C15,"_",X15),選手名簿!$A:$H,5,FALSE)) | AC15: =IF(AB15="","",VLOOKUP(CONCATENATE($C15,"_",AB15),選手名簿!$A:$H,5,FALSE)) | AJ15: 阻止(手)
B16: 別府 | C16: =抽選会資料!J21 -> 別府フットボールクラブ．ミネルバＵ－１２ | E16: =IF(D16="","",VLOOKUP(CONCATENATE($C16,"_",D16),選手名簿!$A:$H,5,FALSE)) | I16: =IF(H16="","",VLOOKUP(CONCATENATE($C16,"_",H16),選手名簿!$A:$H,5,FALSE)) | M16: =IF(L16="","",VLOOKUP(CONCATENATE($C16,"_",L16),選手名簿!$A:$H,5,FALSE)) | Q16: =IF(P16="","",VLOOKUP(CONCATENATE($C16,"_",P16),選手名簿!$A:$H,5,FALSE)) | U16: =IF(T16="","",VLOOKUP(CONCATENATE($C16,"_",T16),選手名簿!$A:$H,5,FALSE)) | Y16: =IF(X16="","",VLOOKUP(CONCATENATE($C16,"_",X16),選手名簿!$A:$H,5,FALSE)) | AC16: =IF(AB16="","",VLOOKUP(CONCATENATE($C16,"_",AB16),選手名簿!$A:$H,5,FALSE)) | AJ16: 阻止(他)
C17: =抽選会資料!J22 -> スマイス・セレソン | E17: =IF(D17="","",VLOOKUP(CONCATENATE($C17,"_",D17),選手名簿!$A:$H,5,FALSE)) | I17: =IF(H17="","",VLOOKUP(CONCATENATE($C17,"_",H17),選手名簿!$A:$H,5,FALSE)) | M17: =IF(L17="","",VLOOKUP(CONCATENATE($C17,"_",L17),選手名簿!$A:$H,5,FALSE)) | Q17: =IF(P17="","",VLOOKUP(CONCATENATE($C17,"_",P17),選手名簿!$A:$H,5,FALSE)) | U17: =IF(T17="","",VLOOKUP(CONCATENATE($C17,"_",T17),選手名簿!$A:$H,5,FALSE)) | Y17: =IF(X17="","",VLOOKUP(CONCATENATE($C17,"_",X17),選手名簿!$A:$H,5,FALSE)) | AC17: =IF(AB17="","",VLOOKUP(CONCATENATE($C17,"_",AB17),選手名簿!$A:$H,5,FALSE)) | AJ17: 暴言
C18: =抽選会資料!J23 -> 大平山アソシエーション式フットボールクラブ | E18: =IF(D18="","",VLOOKUP(CONCATENATE($C18,"_",D18),選手名簿!$A:$H,5,FALSE)) | I18: =IF(H18="","",VLOOKUP(CONCATENATE($C18,"_",H18),選手名簿!$A:$H,5,FALSE)) | M18: =IF(L18="","",VLOOKUP(CONCATENATE($C18,"_",L18),選手名簿!$A:$H,5,FALSE)) | Q18: =IF(P18="","",VLOOKUP(CONCATENATE($C18,"_",P18),選手名簿!$A:$H,5,FALSE)) | U18: =IF(T18="","",VLOOKUP(CONCATENATE($C18,"_",T18),選手名簿!$A:$H,5,FALSE)) | Y18: =IF(X18="","",VLOOKUP(CONCATENATE($C18,"_",X18),選手名簿!$A:$H,5,FALSE)) | AC18: =IF(AB18="","",VLOOKUP(CONCATENATE($C18,"_",AB18),選手名簿!$A:$H,5,FALSE)) | AJ18: 警告2
B19: 佐伯 | C19: =抽選会資料!J24 -> 弥生少年サッカークラブ | E19: =IF(D19="","",VLOOKUP(CONCATENATE($C19,"_",D19),選手名簿!$A:$H,5,FALSE)) | I19: =IF(H19="","",VLOOKUP(CONCATENATE($C19,"_",H19),選手名簿!$A:$H,5,FALSE)) | M19: =IF(L19="","",VLOOKUP(CONCATENATE($C19,"_",L19),選手名簿!$A:$H,5,FALSE)) | P19: 1 | Q19: =IF(P19="","",VLOOKUP(CONCATENATE($C19,"_",P19),選手名簿!$A:$H,5,FALSE)) -> 狩生 健太 | R19: 警告 | S19: ラフ | U19: =IF(T19="","",VLOOKUP(CONCATENATE($C19,"_",T19),選手名簿!$A:$H,5,FALSE)) | Y19: =IF(X19="","",VLOOKUP(CONCATENATE($C19,"_",X19),選手名簿!$A:$H,5,FALSE)) | AC19: =IF(AB19="","",VLOOKUP(CONCATENATE($C19,"_",AB19),選手名簿!$A:$H,5,FALSE))
C20: =抽選会資料!J25 -> 佐伯リベロフットボールクラブ | E20: =IF(D20="","",VLOOKUP(CONCATENATE($C20,"_",D20),選手名簿!$A:$H,5,FALSE)) | I20: =IF(H20="","",VLOOKUP(CONCATENATE($C20,"_",H20),選手名簿!$A:$H,5,FALSE)) | M20: =IF(L20="","",VLOOKUP(CONCATENATE($C20,"_",L20),選手名簿!$A:$H,5,FALSE)) | Q20: =IF(P20="","",VLOOKUP(CONCATENATE($C20,"_",P20),選手名簿!$A:$H,5,FALSE)) | U20: =IF(T20="","",VLOOKUP(CONCATENATE($C20,"_",T20),選手名簿!$A:$H,5,FALSE)) | Y20: =IF(X20="","",VLOOKUP(CONCATENATE($C20,"_",X20),選手名簿!$A:$H,5,FALSE)) | AC20: =IF(AB20="","",VLOOKUP(CONCATENATE($C20,"_",AB20),選手名簿!$A:$H,5,FALSE))
B21: 速杵国東 | C21: =抽選会資料!J26 -> ＯＫＹ山香サッカークラブ | E21: =IF(D21="","",VLOOKUP(CONCATENATE($C21,"_",D21),選手名簿!$A:$H,5,FALSE)) | I21: =IF(H21="","",VLOOKUP(CONCATENATE($C21,"_",H21),選手名簿!$A:$H,5,FALSE)) | M21: =IF(L21="","",VLOOKUP(CONCATENATE($C21,"_",L21),選手名簿!$A:$H,5,FALSE)) | Q21: =IF(P21="","",VLOOKUP(CONCATENATE($C21,"_",P21),選手名簿!$A:$H,5,FALSE)) | U21: =IF(T21="","",VLOOKUP(CONCATENATE($C21,"_",T21),選手名簿!$A:$H,5,FALSE)) | Y21: =IF(X21="","",VLOOKUP(CONCATENATE($C21,"_",X21),選手名簿!$A:$H,5,FALSE)) | AC21: =IF(AB21="","",VLOOKUP(CONCATENATE($C21,"_",AB21),選手名簿!$A:$H,5,FALSE))
C22: =抽選会資料!J27 -> 日出サッカースポーツ少年団 | D22: 3 | E22: =IF(D22="","",VLOOKUP(CONCATENATE($C22,"_",D22),選手名簿!$A:$H,5,FALSE)) -> 伊藤 美結 | F22: 警告 | G22: ラフ | I22: =IF(H22="","",VLOOKUP(CONCATENATE($C22,"_",H22),選手名簿!$A:$H,5,FALSE)) | M22: =IF(L22="","",VLOOKUP(CONCATENATE($C22,"_",L22),選手名簿!$A:$H,5,FALSE)) | Q22: =IF(P22="","",VLOOKUP(CONCATENATE($C22,"_",P22),選手名簿!$A:$H,5,FALSE)) | U22: =IF(T22="","",VLOOKUP(CONCATENATE($C22,"_",T22),選手名簿!$A:$H,5,FALSE)) | Y22: =IF(X22="","",VLOOKUP(CONCATENATE($C22,"_",X22),選手名簿!$A:$H,5,FALSE)) | AC22: =IF(AB22="","",VLOOKUP(CONCATENATE($C22,"_",AB22),選手名簿!$A:$H,5,FALSE))
B23: 臼杵・津久見 | C23: =抽選会資料!J28 -> 臼杵ＳＳＳ | E23: =IF(D23="","",VLOOKUP(CONCATENATE($C23,"_",D23),選手名簿!$A:$H,5,FALSE)) | I23: =IF(H23="","",VLOOKUP(CONCATENATE($C23,"_",H23),選手名簿!$A:$H,5,FALSE)) | M23: =IF(L23="","",VLOOKUP(CONCATENATE($C23,"_",L23),選手名簿!$A:$H,5,FALSE)) | Q23: =IF(P23="","",VLOOKUP(CONCATENATE($C23,"_",P23),選手名簿!$A:$H,5,FALSE)) | U23: =IF(T23="","",VLOOKUP(CONCATENATE($C23,"_",T23),選手名簿!$A:$H,5,FALSE)) | Y23: =IF(X23="","",VLOOKUP(CONCATENATE($C23,"_",X23),選手名簿!$A:$H,5,FALSE)) | AC23: =IF(AB23="","",VLOOKUP(CONCATENATE($C23,"_",AB23),選手名簿!$A:$H,5,FALSE))
B24: 豊肥 | C24: =抽選会資料!J29 -> 竹田直入ＦＣ | E24: =IF(D24="","",VLOOKUP(CONCATENATE($C24,"_",D24),選手名簿!$A:$H,5,FALSE)) | I24: =IF(H24="","",VLOOKUP(CONCATENATE($C24,"_",H24),選手名簿!$A:$H,5,FALSE)) | M24: =IF(L24="","",VLOOKUP(CONCATENATE($C24,"_",L24),選手名簿!$A:$H,5,FALSE)) | Q24: =IF(P24="","",VLOOKUP(CONCATENATE($C24,"_",P24),選手名簿!$A:$H,5,FALSE)) | U24: =IF(T24="","",VLOOKUP(CONCATENATE($C24,"_",T24),選手名簿!$A:$H,5,FALSE)) | Y24: =IF(X24="","",VLOOKUP(CONCATENATE($C24,"_",X24),選手名簿!$A:$H,5,FALSE)) | AC24: =IF(AB24="","",VLOOKUP(CONCATENATE($C24,"_",AB24),選手名簿!$A:$H,5,FALSE))
B25: 大分 | C25: =抽選会資料!C11 -> カティオーラフットボールクラブＵ－１２ | E25: =IF(D25="","",VLOOKUP(CONCATENATE($C25,"_",D25),選手名簿!$A:$H,5,FALSE)) | I25: =IF(H25="","",VLOOKUP(CONCATENATE($C25,"_",H25),選手名簿!$A:$H,5,FALSE)) | M25: =IF(L25="","",VLOOKUP(CONCATENATE($C25,"_",L25),選手名簿!$A:$H,5,FALSE)) | Q25: =IF(P25="","",VLOOKUP(CONCATENATE($C25,"_",P25),選手名簿!$A:$H,5,FALSE)) | U25: =IF(T25="","",VLOOKUP(CONCATENATE($C25,"_",T25),選手名簿!$A:$H,5,FALSE)) | Y25: =IF(X25="","",VLOOKUP(CONCATENATE($C25,"_",X25),選手名簿!$A:$H,5,FALSE)) | AC25: =IF(AB25="","",VLOOKUP(CONCATENATE($C25,"_",AB25),選手名簿!$A:$H,5,FALSE))
C26: =抽選会資料!C12 -> ドリームキッズフットボールクラブ | E26: =IF(D26="","",VLOOKUP(CONCATENATE($C26,"_",D26),選手名簿!$A:$H,5,FALSE)) | I26: =IF(H26="","",VLOOKUP(CONCATENATE($C26,"_",H26),選手名簿!$A:$H,5,FALSE)) | M26: =IF(L26="","",VLOOKUP(CONCATENATE($C26,"_",L26),選手名簿!$A:$H,5,FALSE)) | Q26: =IF(P26="","",VLOOKUP(CONCATENATE($C26,"_",P26),選手名簿!$A:$H,5,FALSE)) | U26: =IF(T26="","",VLOOKUP(CONCATENATE($C26,"_",T26),選手名簿!$A:$H,5,FALSE)) | Y26: =IF(X26="","",VLOOKUP(CONCATENATE($C26,"_",X26),選手名簿!$A:$H,5,FALSE)) | AB26: 11 | AC26: =IF(AB26="","",VLOOKUP(CONCATENATE($C26,"_",AB26),選手名簿!$A:$H,5,FALSE)) -> 上田 大耀 | AD26: 警告 | AE26: 遅延
C27: =抽選会資料!C13 -> リノスフットボールクラブ Ｕ－１２ | E27: =IF(D27="","",VLOOKUP(CONCATENATE($C27,"_",D27),選手名簿!$A:$H,5,FALSE)) | I27: =IF(H27="","",VLOOKUP(CONCATENATE($C27,"_",H27),選手名簿!$A:$H,5,FALSE)) | M27: =IF(L27="","",VLOOKUP(CONCATENATE($C27,"_",L27),選手名簿!$A:$H,5,FALSE)) | P27: 22 | Q27: =IF(P27="","",VLOOKUP(CONCATENATE($C27,"_",P27),選手名簿!$A:$H,5,FALSE)) -> 菅 泰輔 | R27: 警告 | S27: ラフ | U27: =IF(T27="","",VLOOKUP(CONCATENATE($C27,"_",T27),選手名簿!$A:$H,5,FALSE)) | Y27: =IF(X27="","",VLOOKUP(CONCATENATE($C27,"_",X27),選手名簿!$A:$H,5,FALSE)) | AC27: =IF(AB27="","",VLOOKUP(CONCATENATE($C27,"_",AB27),選手名簿!$A:$H,5,FALSE))
C28: =抽選会資料!C14 -> 鶴崎ＳＳＳ | E28: =IF(D28="","",VLOOKUP(CONCATENATE($C28,"_",D28),選手名簿!$A:$H,5,FALSE)) | I28: =IF(H28="","",VLOOKUP(CONCATENATE($C28,"_",H28),選手名簿!$A:$H,5,FALSE)) | M28: =IF(L28="","",VLOOKUP(CONCATENATE($C28,"_",L28),選手名簿!$A:$H,5,FALSE)) | Q28: =IF(P28="","",VLOOKUP(CONCATENATE($C28,"_",P28),選手名簿!$A:$H,5,FALSE)) | U28: =IF(T28="","",VLOOKUP(CONCATENATE($C28,"_",T28),選手名簿!$A:$H,5,FALSE)) | Y28: =IF(X28="","",VLOOKUP(CONCATENATE($C28,"_",X28),選手名簿!$A:$H,5,FALSE)) | AC28: =IF(AB28="","",VLOOKUP(CONCATENATE($C28,"_",AB28),選手名簿!$A:$H,5,FALSE))
C29: =抽選会資料!C15 -> カティオーラフットボールクラブＵ－１２ Ｎｅｘｔ | E29: =IF(D29="","",VLOOKUP(CONCATENATE($C29,"_",D29),選手名簿!$A:$H,5,FALSE)) | H29: 8 | I29: =IF(H29="","",VLOOKUP(CONCATENATE($C29,"_",H29),選手名簿!$A:$H,5,FALSE)) -> 江藤 浩介 | J29: 警告 | K29: 反スポ | M29: =IF(L29="","",VLOOKUP(CONCATENATE($C29,"_",L29),選手名簿!$A:$H,5,FALSE)) | Q29: =IF(P29="","",VLOOKUP(CONCATENATE($C29,"_",P29),選手名簿!$A:$H,5,FALSE)) | U29: =IF(T29="","",VLOOKUP(CONCATENATE($C29,"_",T29),選手名簿!$A:$H,5,FALSE)) | Y29: =IF(X29="","",VLOOKUP(CONCATENATE($C29,"_",X29),選手名簿!$A:$H,5,FALSE)) | AC29: =IF(AB29="","",VLOOKUP(CONCATENATE($C29,"_",AB29),選手名簿!$A:$H,5,FALSE))
C30: =抽選会資料!C16 -> 明治北ＳＳＣ | E30: =IF(D30="","",VLOOKUP(CONCATENATE($C30,"_",D30),選手名簿!$A:$H,5,FALSE)) | I30: =IF(H30="","",VLOOKUP(CONCATENATE($C30,"_",H30),選手名簿!$A:$H,5,FALSE)) | M30: =IF(L30="","",VLOOKUP(CONCATENATE($C30,"_",L30),選手名簿!$A:$H,5,FALSE)) | Q30: =IF(P30="","",VLOOKUP(CONCATENATE($C30,"_",P30),選手名簿!$A:$H,5,FALSE)) | U30: =IF(T30="","",VLOOKUP(CONCATENATE($C30,"_",T30),選手名簿!$A:$H,5,FALSE)) | Y30: =IF(X30="","",VLOOKUP(CONCATENATE($C30,"_",X30),選手名簿!$A:$H,5,FALSE)) | AC30: =IF(AB30="","",VLOOKUP(CONCATENATE($C30,"_",AB30),選手名簿!$A:$H,5,FALSE))
C31: =抽選会資料!C17 -> 滝尾下郡サッカースポーツ少年団 | E31: =IF(D31="","",VLOOKUP(CONCATENATE($C31,"_",D31),選手名簿!$A:$H,5,FALSE)) | I31: =IF(H31="","",VLOOKUP(CONCATENATE($C31,"_",H31),選手名簿!$A:$H,5,FALSE)) | M31: =IF(L31="","",VLOOKUP(CONCATENATE($C31,"_",L31),選手名簿!$A:$H,5,FALSE)) | Q31: =IF(P31="","",VLOOKUP(CONCATENATE($C31,"_",P31),選手名簿!$A:$H,5,FALSE)) | U31: =IF(T31="","",VLOOKUP(CONCATENATE($C31,"_",T31),選手名簿!$A:$H,5,FALSE)) | Y31: =IF(X31="","",VLOOKUP(CONCATENATE($C31,"_",X31),選手名簿!$A:$H,5,FALSE)) | AC31: =IF(AB31="","",VLOOKUP(CONCATENATE($C31,"_",AB31),選手名簿!$A:$H,5,FALSE))
C32: =抽選会資料!C18 -> 戸次吉野ＳＳＳ | E32: =IF(D32="","",VLOOKUP(CONCATENATE($C32,"_",D32),選手名簿!$A:$H,5,FALSE)) | I32: =IF(H32="","",VLOOKUP(CONCATENATE($C32,"_",H32),選手名簿!$A:$H,5,FALSE)) | M32: =IF(L32="","",VLOOKUP(CONCATENATE($C32,"_",L32),選手名簿!$A:$H,5,FALSE)) | Q32: =IF(P32="","",VLOOKUP(CONCATENATE($C32,"_",P32),選手名簿!$A:$H,5,FALSE)) | U32: =IF(T32="","",VLOOKUP(CONCATENATE($C32,"_",T32),選手名簿!$A:$H,5,FALSE)) | Y32: =IF(X32="","",VLOOKUP(CONCATENATE($C32,"_",X32),選手名簿!$A:$H,5,FALSE)) | AC32: =IF(AB32="","",VLOOKUP(CONCATENATE($C32,"_",AB32),選手名簿!$A:$H,5,FALSE))
C33: =抽選会資料!C19 -> 大分トリニータＵ－１２ | E33: =IF(D33="","",VLOOKUP(CONCATENATE($C33,"_",D33),選手名簿!$A:$H,5,FALSE)) | I33: =IF(H33="","",VLOOKUP(CONCATENATE($C33,"_",H33),選手名簿!$A:$H,5,FALSE)) | M33: =IF(L33="","",VLOOKUP(CONCATENATE($C33,"_",L33),選手名簿!$A:$H,5,FALSE)) | Q33: =IF(P33="","",VLOOKUP(CONCATENATE($C33,"_",P33),選手名簿!$A:$H,5,FALSE)) | U33: =IF(T33="","",VLOOKUP(CONCATENATE($C33,"_",T33),選手名簿!$A:$H,5,FALSE)) | Y33: =IF(X33="","",VLOOKUP(CONCATENATE($C33,"_",X33),選手名簿!$A:$H,5,FALSE)) | AC33: =IF(AB33="","",VLOOKUP(CONCATENATE($C33,"_",AB33),選手名簿!$A:$H,5,FALSE))
C34: =抽選会資料!C20 -> ＦＣ ＲＥＧＡＴＥ | E34: =IF(D34="","",VLOOKUP(CONCATENATE($C34,"_",D34),選手名簿!$A:$H,5,FALSE)) | I34: =IF(H34="","",VLOOKUP(CONCATENATE($C34,"_",H34),選手名簿!$A:$H,5,FALSE)) | M34: =IF(L34="","",VLOOKUP(CONCATENATE($C34,"_",L34),選手名簿!$A:$H,5,FALSE)) | Q34: =IF(P34="","",VLOOKUP(CONCATENATE($C34,"_",P34),選手名簿!$A:$H,5,FALSE)) | U34: =IF(T34="","",VLOOKUP(CONCATENATE($C34,"_",T34),選手名簿!$A:$H,5,FALSE)) | Y34: =IF(X34="","",VLOOKUP(CONCATENATE($C34,"_",X34),選手名簿!$A:$H,5,FALSE)) | AC34: =IF(AB34="","",VLOOKUP(CONCATENATE($C34,"_",AB34),選手名簿!$A:$H,5,FALSE))
C35: =抽選会資料!C21 -> スマイス セレソン スポーツクラブ | E35: =IF(D35="","",VLOOKUP(CONCATENATE($C35,"_",D35),選手名簿!$A:$H,5,FALSE)) | I35: =IF(H35="","",VLOOKUP(CONCATENATE($C35,"_",H35),選手名簿!$A:$H,5,FALSE)) | M35: =IF(L35="","",VLOOKUP(CONCATENATE($C35,"_",L35),選手名簿!$A:$H,5,FALSE)) | Q35: =IF(P35="","",VLOOKUP(CONCATENATE($C35,"_",P35),選手名簿!$A:$H,5,FALSE)) | U35: =IF(T35="","",VLOOKUP(CONCATENATE($C35,"_",T35),選手名簿!$A:$H,5,FALSE)) | Y35: =IF(X35="","",VLOOKUP(CONCATENATE($C35,"_",X35),選手名簿!$A:$H,5,FALSE)) | AC35: =IF(AB35="","",VLOOKUP(CONCATENATE($C35,"_",AB35),選手名簿!$A:$H,5,FALSE))
C36: =抽選会資料!C22 -> 明野東サッカースポーツ少年団 | E36: =IF(D36="","",VLOOKUP(CONCATENATE($C36,"_",D36),選手名簿!$A:$H,5,FALSE)) | I36: =IF(H36="","",VLOOKUP(CONCATENATE($C36,"_",H36),選手名簿!$A:$H,5,FALSE)) | L36: 13 | M36: =IF(L36="","",VLOOKUP(CONCATENATE($C36,"_",L36),選手名簿!$A:$H,5,FALSE)) -> 御幡 悠希 | N36: 警告 | O36: 反スポ | Q36: =IF(P36="","",VLOOKUP(CONCATENATE($C36,"_",P36),選手名簿!$A:$H,5,FALSE)) | U36: =IF(T36="","",VLOOKUP(CONCATENATE($C36,"_",T36),選手名簿!$A:$H,5,FALSE)) | Y36: =IF(X36="","",VLOOKUP(CONCATENATE($C36,"_",X36),選手名簿!$A:$H,5,FALSE)) | AC36: =IF(AB36="","",VLOOKUP(CONCATENATE($C36,"_",AB36),選手名簿!$A:$H,5,FALSE))
C37: =抽選会資料!C23 -> 南大分サッカー少年団 | E37: =IF(D37="","",VLOOKUP(CONCATENATE($C37,"_",D37),選手名簿!$A:$H,5,FALSE)) | I37: =IF(H37="","",VLOOKUP(CONCATENATE($C37,"_",H37),選手名簿!$A:$H,5,FALSE)) | M37: =IF(L37="","",VLOOKUP(CONCATENATE($C37,"_",L37),選手名簿!$A:$H,5,FALSE)) | Q37: =IF(P37="","",VLOOKUP(CONCATENATE($C37,"_",P37),選手名簿!$A:$H,5,FALSE)) | U37: =IF(T37="","",VLOOKUP(CONCATENATE($C37,"_",T37),選手名簿!$A:$H,5,FALSE)) | Y37: =IF(X37="","",VLOOKUP(CONCATENATE($C37,"_",X37),選手名簿!$A:$H,5,FALSE)) | AC37: =IF(AB37="","",VLOOKUP(CONCATENATE($C37,"_",AB37),選手名簿!$A:$H,5,FALSE))
C38: =抽選会資料!C24 -> 西の台ＪＦＣ | E38: =IF(D38="","",VLOOKUP(CONCATENATE($C38,"_",D38),選手名簿!$A:$H,5,FALSE)) | I38: =IF(H38="","",VLOOKUP(CONCATENATE($C38,"_",H38),選手名簿!$A:$H,5,FALSE)) | M38: =IF(L38="","",VLOOKUP(CONCATENATE($C38,"_",L38),選手名簿!$A:$H,5,FALSE)) | Q38: =IF(P38="","",VLOOKUP(CONCATENATE($C38,"_",P38),選手名簿!$A:$H,5,FALSE)) | U38: =IF(T38="","",VLOOKUP(CONCATENATE($C38,"_",T38),選手名簿!$A:$H,5,FALSE)) | Y38: =IF(X38="","",VLOOKUP(CONCATENATE($C38,"_",X38),選手名簿!$A:$H,5,FALSE)) | AC38: =IF(AB38="","",VLOOKUP(CONCATENATE($C38,"_",AB38),選手名簿!$A:$H,5,FALSE))
C39: =抽選会資料!C25 -> アトレチコエラン横瀬 | E39: =IF(D39="","",VLOOKUP(CONCATENATE($C39,"_",D39),選手名簿!$A:$H,5,FALSE)) | I39: =IF(H39="","",VLOOKUP(CONCATENATE($C39,"_",H39),選手名簿!$A:$H,5,FALSE)) | M39: =IF(L39="","",VLOOKUP(CONCATENATE($C39,"_",L39),選手名簿!$A:$H,5,FALSE)) | P39: 9 | Q39: =IF(P39="","",VLOOKUP(CONCATENATE($C39,"_",P39),選手名簿!$A:$H,5,FALSE)) -> 丸田 恵也 | R39: 警告 | S39: ラフ | U39: =IF(T39="","",VLOOKUP(CONCATENATE($C39,"_",T39),選手名簿!$A:$H,5,FALSE)) | Y39: =IF(X39="","",VLOOKUP(CONCATENATE($C39,"_",X39),選手名簿!$A:$H,5,FALSE)) | AC39: =IF(AB39="","",VLOOKUP(CONCATENATE($C39,"_",AB39),選手名簿!$A:$H,5,FALSE))
C40: =抽選会資料!C26 -> 大分トリニータタートルズ | E40: =IF(D40="","",VLOOKUP(CONCATENATE($C40,"_",D40),選手名簿!$A:$H,5,FALSE)) | I40: =IF(H40="","",VLOOKUP(CONCATENATE($C40,"_",H40),選手名簿!$A:$H,5,FALSE)) | M40: =IF(L40="","",VLOOKUP(CONCATENATE($C40,"_",L40),選手名簿!$A:$H,5,FALSE)) | Q40: =IF(P40="","",VLOOKUP(CONCATENATE($C40,"_",P40),選手名簿!$A:$H,5,FALSE)) | U40: =IF(T40="","",VLOOKUP(CONCATENATE($C40,"_",T40),選手名簿!$A:$H,5,FALSE)) | Y40: =IF(X40="","",VLOOKUP(CONCATENATE($C40,"_",X40),選手名簿!$A:$H,5,FALSE)) | AC40: =IF(AB40="","",VLOOKUP(CONCATENATE($C40,"_",AB40),選手名簿!$A:$H,5,FALSE))
...

Sheet 2025年度優秀選手
A1: （一社）大分県サッカー協会 第4種委員会 | P1: 登録状況（20260110）
A2: 2025年度 優秀選手名簿 | H2: 女子
A4: № | B4: 地区 | C4: 選手氏名 | D4: ふりがな | E4: 所属チーム | F4: 表彰式 参加 | H4: № | I4: 地区 | J4: 選手氏名 | K4: ふりがな | L4: 所属チーム | M4: 表彰式 参加 | O4: ふりがな比較 | P4: 選手＿氏名 | Q4: 選手＿フリガナ | R4: チーム名＿漢字 | S4: 2025登録状態 | T4: 生年月日 | U4: 学年 | V4: 男女区分 | W4: ふりがな比較 | X4: 選手＿氏名 | Y4: 選手＿フリガナ | Z4: チーム名＿漢字 | AA4: 2025登録状態 | AB4: 生年月日 | AC4: 学年 | AD4: 男女区分
A5: 1 | B5: 大分 | C5: 阿部 結太朗 | D5: あべ ゆいたろう | E5: 鶴崎ＳＳＳ | H5: 1 | I5: 大分 | J5: 木元 星杏 | K5: きもと せあん | L5: カティオーラフットボールクラブＵ－１２ | O5: =IF(D5=Q5,"","X") | P5: {=_xlfn.XLOOKUP(C5,'2025年度登録選手'!$D:$D,'2025年度登録選手'!$D:$J,"×")} -> 阿部 結太朗 | Q5: あべ ゆいたろう | R5: 鶴崎ＳＳＳ | S5: 登録済 | T5: 2013/05/23 | U5: 6 | V5: 男子 | W5: =IF(K5=Y5,"","X") | X5: {=_xlfn.XLOOKUP(J5,'2025年度登録選手'!$D:$D,'2025年度登録選手'!$D:$J,"×")} -> 木元 星杏 | Y5: きもと せあん | Z5: カティオーラフットボールクラブＵ－１２ | AA5: 登録済 | AB5: 2013/06/10 | AC5: 6 | AD5: 女子小学生
A6: 2 | B6: 大分 | C6: 二ノ宮 颯太 | D6: にのみや そうた | E6: 南大分サッカー少年団 | H6: 2 | I6: 大分 | J6: 首藤 真乃愛 | K6: しゅとう まのあ | L6: 横瀬西ＦＣ．ＲｏｓａＣｌａｒｏ | O6: =IF(D6=Q6,"","X") | P6: {=_xlfn.XLOOKUP(C6,'2025年度登録選手'!$D:$D,'2025年度登録選手'!$D:$J,"×")} -> 二ノ宮 颯太 | Q6: にのみや そうた | R6: 南大分サッカー少年団 | S6: 登録済 | T6: 2013/09/30 | U6: 6 | V6: 男子 | W6: =IF(K6=Y6,"","X") | X6: {=_xlfn.XLOOKUP(J6,'2025年度登録選手'!$D:$D,'2025年度登録選手'!$D:$J,"×")} -> 首藤 真乃愛 | Y6: しゅとう まのあ | Z6: 横瀬西ＦＣ．ＲｏｓａＣｌａｒｏ | AA6: 登録済 | AB6: 2013/05/08 | AC6: 6 | AD6: 女子小学生
A7: 3 | B7: 大分 | C7: 小野 豹雅 | D7: おの ひょうが | E7: 南大分サッカー少年団 | H7: 3 | I7: 大分 | J7: 松岡 陽奈 | K7: まつおか ひな | L7: カティオーラフットボールクラブＵ－１２ | O7: =IF(D7=Q7,"","X") | P7: {=_xlfn.XLOOKUP(C7,'2025年度登録選手'!$D:$D,'2025年度登録選手'!$D:$J,"×")} -> 小野 豹雅 | Q7: おの ひょうが | R7: 南大分サッカー少年団 | S7: 登録済 | T7: 2013/04/30 | U7: 6 | V7: 男子 | W7: =IF(K7=Y7,"","X") | X7: {=_xlfn.XLOOKUP(J7,'2025年度登録選手'!$D:$D,'2025年度登録選手'!$D:$J,"×")} -> 松岡 陽奈 | Y7: まつおか ひな | Z7: カティオーラフットボールクラブＵ－１２ | AA7: 登録済 | AB7: 2013/07/08 | AC7: 6 | AD7: 女子小学生
A8: 4 | B8: 大分 | C8: 上野 蒼祐 | D8: うえの そうすけ | E8: ドリームキッズフットボールクラブ | H8: 4 | I8: 中津 | J8: 岩尾 奈瑞菜 | K8: いわお なずな | L8: 下毛ＦＣ | O8: =IF(D8=Q8,"","X") | P8: {=_xlfn.XLOOKUP(C8,'2025年度登録選手'!$D:$D,'2025年度登録選手'!$D:$J,"×")} -> 上野 蒼祐 | Q8: うえの そうすけ | R8: ドリームキッズフットボールクラブ | S8: 登録済 | T8: 2013/09/08 | U8: 6 | V8: 男子 | W8: =IF(K8=Y8,"","X") | X8: {=_xlfn.XLOOKUP(J8,'2025年度登録選手'!$D:$D,'2025年度登録選手'!$D:$J,"×")} -> 岩尾 奈瑞菜 | Y8: いわお なずな | Z8: 下毛ＦＣ | AA8: 登録済 | AB8: 2014/02/24 | AC8: 6 | AD8: 女子小学生
A9: 5 | B9: 大分 | C9: 菅 泰輔 | D9: かん たいすけ | E9: リノスフットボールクラブ Ｕ－１２ | H9: 5 | I9: 日田・玖珠 | J9: 吉武 紅美 | K9: よしたけ こうみ | L9: 玖珠サッカースポーツ少年団 | O9: =IF(D9=Q9,"","X") | P9: {=_xlfn.XLOOKUP(C9,'2025年度登録選手'!$D:$D,'2025年度登録選手'!$D:$J,"×")} -> 菅 泰輔 | Q9: かん たいすけ | R9: リノスフットボールクラブ Ｕ－１２ | S9: 登録済 | T9: 2013/06/12 | U9: 6 | V9: 男子 | W9: =IF(K9=Y9,"","X") | X9: {=_xlfn.XLOOKUP(J9,'2025年度登録選手'!$D:$D,'2025年度登録選手'!$D:$J,"×")} -> 吉武 紅美 | Y9: よしたけ こうみ | Z9: 玖珠サッカースポーツ少年団 | AA9: 登録済 | AB9: 2013/09/20 | AC9: 6 | AD9: 女子小学生
A10: 6 | B10: 大分 | C10: 末永 葵空 | D10: すえなが あおと | E10: カティオーラフットボールクラブＵ－１２ | H10: 6 | I10: 宇佐高田 | J10: 高橋 なな子 | K10: たかはし ななこ | L10: 四日市北ＪＦＣ | O10: =IF(D10=Q10,"","X") | P10: {=_xlfn.XLOOKUP(C10,'2025年度登録選手'!$D:$D,'2025年度登録選手'!$D:$J,"×")} -> 末永 葵空 | Q10: すえなが あおと | R10: カティオーラフットボールクラブＵ－１２ | S10: 登録済 | T10: 2013/08/29 | U10: 6 | V10: 男子 | W10: =IF(K10=Y10,"","X") | X10: {=_xlfn.XLOOKUP(J10,'2025年度登録選手'!$D:$D,'2025年度登録選手'!$D:$J,"×")} -> 高橋 なな子 | Y10: たかはし ななこ | Z10: 四日市北ＪＦＣ | AA10: 登録済 | AB10: 2013/07/02 | AC10: 6 | AD10: 女子小学生
A11: 7 | B11: 大分 | C11: 吉田 晴馬 | D11: よしだ はるま | E11: 大分トリニータＵ－１２ | H11: 7 | I11: 速杵国東 | J11: 幸長 梨央 | K11: ゆきなが りお | L11: ようこくバンビーレＦＣ | O11: =IF(D11=Q11,"","X") | P11: {=_xlfn.XLOOKUP(C11,'2025年度登録選手'!$D:$D,'2025年度登録選手'!$D:$J,"×")} -> 吉田 晴馬 | Q11: よしだ はるま | R11: 大分トリニータＵ－１２ | S11: 登録済 | T11: 2013/06/17 | U11: 6 | V11: 男子 | W11: =IF(K11=Y11,"","X") | X11: {=_xlfn.XLOOKUP(J11,'2025年度登録選手'!$D:$D,'2025年度登録選手'!$D:$J,"×")} -> 幸長 梨央 | Y11: ゆきなが りお | Z11: ようこくバンビーレＦＣ | AA11: 登録済 | AB11: 2013/10/04 | AC11: 6 | AD11: 女子小学生
A12: 8 | B12: 大分 | C12: 喜多 陽喜 | D12: きた はるき | E12: 大分トリニータＵ－１２ | H12: 8 | I12: 別府 | J12: 中原 一華 | K12: なかはら いちか | L12: 大平山アソシエーション式フットボールクラブ | O12: =IF(D12=Q12,"","X") | P12: {=_xlfn.XLOOKUP(C12,'2025年度登録選手'!$D:$D,'2025年度登録選手'!$D:$J,"×")} -> 喜多 陽喜 | Q12: きた はるき | R12: 大分トリニータＵ－１２ | S12: 登録済 | T12: 2013/04/02 | U12: 6 | V12: 男子 | W12: =IF(K12=Y12,"","X") | X12: {=_xlfn.XLOOKUP(J12,'2025年度登録選手'!$D:$D,'2025年度登録選手'!$D:$J,"×")} -> 中原 一華 | Y12: なかはら いちか | Z12: 大平山アソシエーション式フットボールクラブ | AA12: 登録済 | AB12: 2013/07/22 | AC12: 6 | AD12: 女子小学生
A13: 9 | B13: 大分 | C13: 田邉 結大 | D13: たなべ ゆうだい | E13: 大分トリニータＵ－１２ | H13: 9 | I13: 豊肥 | J13: 土屋 澄怜 | K13: つちや すみれ | L13: 竹田直入ＦＣ | O13: =IF(D13=Q13,"","X") | P13: {=_xlfn.XLOOKUP(C13,'2025年度登録選手'!$D:$D,'2025年度登録選手'!$D:$J,"×")} -> 田邉 結大 | Q13: たなべ ゆうだい | R13: 大分トリニータＵ－１２ | S13: 登録済 | T13: 2014/03/14 | U13: 6 | V13: 男子 | W13: =IF(K13=Y13,"","X") | X13: {=_xlfn.XLOOKUP(J13,'2025年度登録選手'!$D:$D,'2025年度登録選手'!$D:$J,"×")} -> 土屋 澄怜 | Y13: つちや すみれ | Z13: 竹田直入ＦＣ | AA13: 登録済 | AB13: 2013/08/30 | AC13: 6 | AD13: 女子小学生
A14: 10 | B14: 大分 | C14: 藤内 心勇 | D14: とうない しゅう | E14: 大分トリニータＵ－１２ | H14: 10 | I14: 臼杵・津久見 | J14: 山田 花凛 | K14: やまだ かりん | L14: 千怒サッカースポーツ少年団 | O14: =IF(D14=Q14,"","X") | P14: {=_xlfn.XLOOKUP(C14,'2025年度登録選手'!$D:$D,'2025年度登録選手'!$D:$J,"×")} -> 藤内 心勇 | Q14: とうない しゅう | R14: 大分トリニータＵ－１２ | S14: 登録済 | T14: 2013/07/30 | U14: 6 | V14: 男子 | W14: =IF(K14=Y14,"","X") | X14: {=_xlfn.XLOOKUP(J14,'2025年度登録選手'!$D:$D,'2025年度登録選手'!$D:$J,"×")} -> 山田 花凛 | Y14: やまだ かりん | Z14: 千怒サッカースポーツ少年団 | AA14: 登録済 | AB14: 2013/08/30 | AC14: 6 | AD14: 女子小学生
A15: 11 | B15: 中津 | C15: 宇土 碧波 | D15: うと あおば | E15: ティエラフットボールクラブＵ－１２ | H15: 11 | I15: 佐伯 | J15: 上野 杏莉 | K15: うえの あんり | L15: 佐伯リベロフットボールクラブ | O15: =IF(D15=Q15,"","X") | P15: {=_xlfn.XLOOKUP(C15,'2025年度登録選手'!$D:$D,'2025年度登録選手'!$D:$J,"×")} -> 宇土 碧波 | Q15: うと あおば | R15: ティエラフットボールクラブＵ－１２ | S15: 登録済 | T15: 2013/07/11 | U15: 6 | V15: 男子 | W15: =IF(K15=Y15,"","X") | X15: {=_xlfn.XLOOKUP(J15,'2025年度登録選手'!$D:$D,'2025年度登録選手'!$D:$J,"×")} -> 上野 杏莉 | Y15: うえの あんり | Z15: 佐伯リベロフットボールクラブ | AA15: 登録済 | AB15: 2013/09/25 | AC15: 6 | AD15: 女子小学生
A16: 12 | B16: 中津 | C16: 沖本 将吾 | D16: おきもと しょうご | E16: ティエラフットボールクラブＵ－１２ | O16: =IF(D16=Q16,"","X") | P16: {=_xlfn.XLOOKUP(C16,'2025年度登録選手'!$D:$D,'2025年度登録選手'!$D:$J,"×")} -> 沖本 将吾 | Q16: おきもと しょうご | R16: ティエラフットボールクラブＵ－１２ | S16: 登録済 | T16: 2013/12/17 | U16: 6 | V16: 男子
A17: 13 | B17: 宇佐高田 | C17: 中島 叶太 | D17: なかしま かなた | E17: 四日市南ＳＳＣ | O17: =IF(D17=Q17,"","X") | P17: {=_xlfn.XLOOKUP(C17,'2025年度登録選手'!$D:$D,'2025年度登録選手'!$D:$J,"×")} -> 中島 叶太 | Q17: なかしま かなた | R17: 四日市南ＳＳＣ | S17: 登録済 | T17: 2013/04/26 | U17: 6 | V17: 男子
A18: 14 | B18: 宇佐高田 | C18: 竹島 琉生 | D18: たけしま るい | E18: 四日市北ＪＦＣ | O18: =IF(D18=Q18,"","X") | P18: {=_xlfn.XLOOKUP(C18,'2025年度登録選手'!$D:$D,'2025年度登録選手'!$D:$J,"×")} -> 竹島 琉生 | Q18: たけしま るい | R18: 四日市北ＪＦＣ | S18: 登録済 | T18: 2013/06/27 | U18: 6 | V18: 男子
A19: 15 | B19: 日田・玖珠 | C19: 衛藤 新 | D19: えとう しん | E19: 玖珠サッカースポーツ少年団 | O19: =IF(D19=Q19,"","X") | P19: {=_xlfn.XLOOKUP(C19,'2025年度登録選手'!$D:$D,'2025年度登録選手'!$D:$J,"×")} -> 衛藤 新 | Q19: えとう しん | R19: 玖珠サッカースポーツ少年団 | S19: 登録済 | T19: 2013/09/10 | U19: 6 | V19: 男子
A20: 16 | B20: 日田・玖珠 | C20: 小野 紘弥 | D20: おの ひろや | E20: ＭＦＣ三花少年サッカー教室 | O20: =IF(D20=Q20,"","X") | P20: {=_xlfn.XLOOKUP(C20,'2025年度登録選手'!$D:$D,'2025年度登録選手'!$D:$J,"×")} -> 小野 紘弥 | Q20: おの ひろや | R20: ＭＦＣ三花少年サッカー教室 | S20: 登録済 | T20: 2013/10/07 | U20: 6 | V20: 男子
A21: 17 | B21: 速杵国東 | C21: 青野 良誠 | D21: あおの りょうせい | E21: 八坂少年サッカークラブ | O21: =IF(D21=Q21,"","X") | P21: {=_xlfn.XLOOKUP(C21,'2025年度登録選手'!$D:$D,'2025年度登録選手'!$D:$J,"×")} -> 青野 良誠 | Q21: あおの りょうせい | R21: 八坂少年サッカークラブ | S21: 登録済 | T21: 2013/09/25 | U21: 6 | V21: 男子
A22: 18 | B22: 速杵国東 | C22: 山崎 翔 | D22: やまさき そら | E22: ＯＫＹ山香サッカークラブ | O22: =IF(D22=Q22,"","X") | P22: {=_xlfn.XLOOKUP(C22,'2025年度登録選手'!$D:$D,'2025年度登録選手'!$D:$J,"×")} -> 山崎 翔 | Q22: やまさき そら | R22: ＯＫＹ山香サッカークラブ | S22: 登録済 | T22: 2013/09/19 | U22: 6 | V22: 男子
A23: 19 | B23: 別府 | C23: 青山 拓馬 | D23: あおやま たくま | E23: スマイス・セレソン | O23: =IF(D23=Q23,"","X") | P23: {=_xlfn.XLOOKUP(C23,'2025年度登録選手'!$D:$D,'2025年度登録選手'!$D:$J,"×")} -> 青山 拓馬 | Q23: あおやま たくま | R23: スマイス・セレソン | S23: 登録済 | T23: 2013/09/02 | U23: 6 | V23: 男子
A24: 20 | B24: 別府 | C24: 中島 汰宥 | D24: なかしま たいすけ | E24: スマイス・セレソン | O24: =IF(D24=Q24,"","X") | P24: {=_xlfn.XLOOKUP(C24,'2025年度登録選手'!$D:$D,'2025年度登録選手'!$D:$J,"×")} -> 中島 汰宥 | Q24: なかしま たいすけ | R24: スマイス・セレソン | S24: 登録済 | T24: 2013/08/10 | U24: 6 | V24: 男子
A25: 21 | B25: 豊肥 | C25: 森 煌太郎 | D25: もり こうたろう | E25: 竹田直入ＦＣ | O25: =IF(D25=Q25,"","X") | P25: {=_xlfn.XLOOKUP(C25,'2025年度登録選手'!$D:$D,'2025年度登録選手'!$D:$J,"×")} -> 森 煌太郎 | Q25: もり こうたろう | R25: 竹田直入ＦＣ | S25: 登録済 | T25: 2013/06/27 | U25: 6 | V25: 男子
A26: 22 | B26: 臼杵・津久見 | C26: 伊東 武流 | D26: いとう たける | E26: 臼杵ＳＳＳ | O26: =IF(D26=Q26,"","X") | P26: {=_xlfn.XLOOKUP(C26,'2025年度登録選手'!$D:$D,'2025年度登録選手'!$D:$J,"×")} -> 伊東 武流 | Q26: いとう たける | R26: 臼杵ＳＳＳ | S26: 登録済 | T26: 2013/06/17 | U26: 6 | V26: 男子
A27: 23 | B27: 佐伯 | C27: 清家 世良 | D27: せいけ せら | E27: 弥生少年サッカークラブ | O27: =IF(D27=Q27,"","X") | P27: {=_xlfn.XLOOKUP(C27,'2025年度登録選手'!$D:$D,'2025年度登録選手'!$D:$J,"×")} -> 清家 世良 | Q27: せいけ せら | R27: 弥生少年サッカークラブ | S27: 登録済 | T27: 2013/10/29 | U27: 6 | V27: 男子

Sheet 決勝【Match No,51】
A1: 公式記録 | G1: Match No： | K1: 51
A2: 大 | C2: OFA 第 57 回大分県少年サッカー大会 兼 KYFA 九州U-12サッカー大会大分県大会 | O2: 第 | P2: 3 | R2: 日 | AB2: 競技 | AC2: 30分 | AE2: 記
A3: 会 | O3: 1回戦 | Q3: 2回戦 | S3: 46061 | AB3: 時間 | AE3: 録 | AF3: 田尻 貴志
A4: 名 | O4: 準決勝 | Q4: 決勝 | S4: 試合開始 14時10分～ | AB4: 延長 | AE4: 者 | AF4: 甲斐 直樹
A5: 会 | C5: 大分県サッカー協会 人工芝グラウンド | J5: 天 | K5: 晴 | L5: 風 | N5: 強 | O5: 弱 | P5: 無 | Q5: 芝 | R5: 状 | S5: 良好 | U5: 審 | V5: 主審 | AA5: 副審 | AF5: 第4の審判員
K6: 曇 | L6: 気温 | N6: 5.8 | P6: ℃ | S6: 不良 | V6: 黒田 大貴 | AA6: 佐藤 慎二 | AF6: 嶋田 尚祐
A7: 場 | J7: 候 | K7: 雨 | L7: 湿度 | N7: 26 | P7: ％ | Q7: 土 | R7: 態 | S7: 泥沼 | U7: 判 | AA7: 寺次 良生
A8: 【チーム名】 | P8: 6 | Q8: 5 | R8: 前半 | T8: 0 | U8: 0 | V8: 【チーム名】
B9: ドリームキッズフットボールクラブ | L9: （ 大分 市） | Q9: 1 | R9: 後半 | T9: 0 | W9: 四日市南ＳＳＣ | AG9: （ 宇佐 市）
M10: kick off | R10: 延前 | V10: kick off
L11: 背番号 | N11: PK | R11: 延後 | V11: PK | X11: 背番号
L12: ○ | M12: × | N12: 先 | O12: 後 | R12: ＰＫ戦 | V12: 先 | W12: 後 | X12: ○ | Y12: ×
C13: シュート（得点者は○印） | K13: 学 | Q13: 背 | T13: 背 | Z13: 学 | AA13: シュート（得点者は○印）
A14: 合 | C14: 延 | E14: 延 | G14: 後 | I14: 前 | M14: 選 | N14: 手 | O14: 名 | Q14: 番 | R14: 位置 | T14: 番 | V14: 選 | W14: 手 | X14: 名 | AA14: 前 | AC14: 後 | AE14: 延 | AG14: 延 | AI14: 合
A15: 計 | C15: 後 | E15: 前 | G15: 半 | I15: 半 | K15: 年 | Q15: 号 | T15: 号 | Z15: 年 | AA15: 半 | AC15: 半 | AE15: 前 | AG15: 後 | AI15: 計
B16: 0 | K16: 5 | L16: 首藤 琥珀 | Q16: 1 | R16: GK | S16: GK | T16: 1 | U16: 荒川 煌大 | Z16: 6 | AJ16: 0
B17: 1 | I17: ① | J17: 1 | K17: 6 | L17: 高峯 咲太郎 | Q17: 3 | R17: DF | S17: DF | T17: 4 | U17: 公原 義翔 | Z17: 5 | AJ17: 0
B18: 2 | H18: 1 | J18: 1 | K18: 6 | L18: 島田 唯歩 | Q18: 5 | R18: DF | S18: DF | T18: 10 | U18: 中島 叶太 | Z18: 6 | AJ18: 0
B19: 1 | J19: 1 | K19: 6 | L19: 菊川 晄 | Q19: 7 | R19: DF | S19: DF | T19: 11 | U19: 中元 友喜 | Z19: 5 | AJ19: 0
B20: 1 | J20: 1 | K20: 6 | L20: 桑原 正太 | Q20: 9 | R20: DF | S20: MF | T20: 5 | U20: 三村 真史 | Z20: 6 | AD20: 1 | AJ20: 1
B21: 1 | J21: 1 | K21: 6 | L21: 利光 流雅 | Q21: 8 | R21: MF | S21: MF | T21: 9 | U21: 松本 碧音 | Z21: 6 | AJ21: 0
B22: 5 | I22: ③ | J22: 5 | K22: 6 | L22: 上野 蒼祐 | Q22: 10 | R22: MF | S22: MF | T22: 14 | U22: 津田 透李 | Z22: 5 | AJ22: 0
B23: 2 | G23: ① | H23: 1 | I23: ① | J23: 1 | K23: 5 | L23: 上田 大耀 | Q23: 11 | R23: FW | S23: FW | T23: 7 | U23: 井上 喜心 | Z23: 6 | AD23: 1 | AJ23: 1
Q24: 交替要員
B25: 0 | K25: 5 | L25: 橋山 駿 | Q25: 2 | R25: DF | S25: MF | T25: 2 | U25: 田村 謙悟 | Z25: 5 | AJ25: 0
B26: 0 | K26: 6 | L26: 甲斐 朔人 | Q26: 4 | R26: MF | S26: MF | T26: 6 | U26: 小林 亘 | Z26: 5 | AJ26: 0
B27: 1 | H27: 1 | K27: 5 | L27: 上野 颯太 | Q27: 6 | R27: MF | S27: MF | T27: 8 | U27: 小川 悠斗 | Z27: 5 | AJ27: 0
B28: 0 | K28: 5 | L28: 阿南 沙耶斗 | Q28: 12 | R28: DF | S28: MF | T28: 12 | U28: 濱小路 蒼真 | Z28: 5 | AJ28: 0
B29: 0 | K29: 5 | L29: 岩崎 一翔 | Q29: 13 | R29: FW | S29: MF | T29: 13 | U29: 三村 隼典 | Z29: 5 | AJ29: 0
B30: 0 | K30: 5 | L30: 川畑 岳 | Q30: 14 | R30: DF | S30: MF | T30: 15 | U30: 中元 大輝 | Z30: 6 | AJ30: 0
B31: 0 | K31: 5 | L31: 田村 優依 | Q31: 15 | R31: MF | S31: GK | T31: 16 | U31: 川端 健心 | Z31: 5 | AJ31: 0
B32: 0 | K32: 5 | L32: 後藤 悠大 | Q32: 16 | R32: GK | S32: DF | T32: 17 | U32: 田原 朔空 | Z32: 5 | AJ32: 0
B33: 0 | S33: MF | T33: 20 | U33: 小畑 颯汰 | Z33: 5 | AJ33: 0
B34: 0 | AJ34: 0
D35: 0 | F35: 0 | H35: 3 | J35: 11 | K35: 小計 | L35: 14 | Q35: 合計 | R35: シュート数 | T35: 合計 | U35: 2 | Z35: 小計 | AB35: 0 | AD35: 2 | AF35: 0 | AH35: 0
C36: OUT | J36: → | K36: IN | R36: 交代 | U36: OUT | AB36: → | AC36: IN
R37: 選手
A38: 15 | B38: 分 | C38: 10 | D38: 番 | E38: 上野 蒼祐 | J38: → | K38: 2 | L38: 番 | M38: 橋山 駿 | S38: 14 | T38: 分 | U38: 1 | V38: 番 | W38: 荒川 煌大 | AB38: → | AC38: 16 | AD38: 番 | AE38: 川端 健心
A39: 15 | B39: 分 | C39: 8 | D39: 番 | E39: 利光 流雅 | J39: → | K39: 6 | L39: 番 | M39: 上野 颯太 | S39: 15 | T39: 分 | U39: 4 | V39: 番 | W39: 公原 義翔 | AB39: → | AC39: 12 | AD39: 番 | AE39: 濱小路 蒼真
A40: 24 | B40: 分 | C40: 7 | D40: 番 | E40: 菊川 晄 | J40: → | K40: 10 | L40: 番 | M40: 上野 蒼祐 | S40: 26 | T40: 分 | U40: 5 | V40: 番 | W40: 三村 真史 | AB40: → | AC40: 15 | AD40: 番 | AE40: 中元 大輝
...

Sheet 準決勝②【Match No,50】
A1: 公式記録 | G1: Match No： | K1: 50
A2: 大 | C2: OFA 第 57 回大分県少年サッカー大会 兼 KYFA 九州U-12サッカー大会大分県大会 | O2: 第 | P2: 3 | R2: 日 | AB2: 競技 | AC2: 40分 | AE2: 記
A3: 会 | O3: 1回戦 | Q3: 2回戦 | S3: 46061 | AB3: 時間 | AE3: 録 | AF3: 甲斐 直樹
A4: 名 | O4: 準決勝 | Q4: 決勝 | S4: 試合開始 12時30分～ | AB4: 延長 | AC4: 10分 | AE4: 者 | AF4: 末永 成久
A5: 会 | C5: 大分県サッカー協会 人工芝グラウンド | J5: 天 | K5: 晴 | L5: 風 | N5: 強 | O5: 弱 | P5: 無 | Q5: 芝 | R5: 状 | S5: 良好 | U5: 審 | V5: 主審 | AA5: 副審 | AF5: 第4の審判員
K6: 曇 | L6: 気温 | N6: 5.1 | P6: ℃ | S6: 不良 | V6: 嶋田 尚祐 | AA6: 佐藤 慎二 | AF6: 寺次 良生
A7: 場 | J7: 候 | K7: 雨 | L7: 湿度 | N7: 25 | P7: ％ | Q7: 土 | R7: 態 | S7: 泥沼 | U7: 判 | AA7: 小林 年晴
A8: 【チーム名】 | P8: 1 | Q8: 0 | R8: 前半 | T8: 0 | U8: 2 | V8: 【チーム名】
B9: ティエラフットボールクラブＵ－１２ | L9: （ 中津 市） | Q9: 0 | R9: 後半 | T9: 0 | W9: 四日市南ＳＳＣ | AG9: （ 宇佐 市）
J10: 延長戦kick off | M10: kick off | Q10: 1 | R10: 延前 | T10: 1 | V10: kick off | Y10: 延長戦kick off
L11: 背番号 | N11: PK | Q11: 0 | R11: 延後 | T11: 1 | V11: PK | X11: 背番号
L12: ○ | M12: × | N12: 先 | O12: 後 | R12: ＰＫ戦 | V12: 先 | W12: 後 | X12: ○ | Y12: ×
C13: シュート（得点者は○印） | K13: 学 | Q13: 背 | T13: 背 | Z13: 学 | AA13: シュート（得点者は○印）
A14: 合 | C14: 延 | E14: 延 | G14: 後 | I14: 前 | M14: 選 | N14: 手 | O14: 名 | Q14: 番 | R14: 位置 | T14: 番 | V14: 選 | W14: 手 | X14: 名 | AA14: 前 | AC14: 後 | AE14: 延 | AG14: 延 | AI14: 合
A15: 計 | C15: 後 | E15: 前 | G15: 半 | I15: 半 | K15: 年 | Q15: 号 | T15: 号 | Z15: 年 | AA15: 半 | AC15: 半 | AE15: 前 | AG15: 後 | AI15: 計
B16: 0 | K16: 6 | L16: 園田 永愛 | Q16: 1 | R16: GK | S16: GK | T16: 1 | U16: 荒川 煌大 | Z16: 6 | AJ16: 0
B17: 1 | H17: 1 | K17: 6 | L17: 中園 侑吾 | Q17: 3 | R17: DF | S17: DF | T17: 10 | U17: 中島 叶太 | Z17: 6 | AJ17: 0
B18: 0 | K18: 6 | L18: 橋本 侑樹 | Q18: 5 | R18: DF | S18: DF | T18: 11 | U18: 中元 友喜 | Z18: 5 | AJ18: 0
B19: 2 | H19: 2 | K19: 6 | L19: 西耒路 歩夢 | Q19: 7 | R19: MF | S19: DF | T19: 17 | U19: 田原 朔空 | Z19: 5 | AJ19: 0
B20: 0 | K20: 6 | L20: 沖本 将吾 | Q20: 8 | R20: MF | S20: MF | T20: 5 | U20: 三村 真史 | Z20: 6 | AB20: 1 | AE20: ① | AF20: 1 | AG20: ① | AH20: 2 | AJ20: 4
B21: 1 | H21: 1 | K21: 6 | L21: 志賀 大巳 | Q21: 10 | R21: MF | S21: MF | T21: 9 | U21: 松本 碧音 | Z21: 6 | AJ21: 0
B22: 2 | F22: 1 | H22: 1 | K22: 6 | L22: 藤本 勇人 | Q22: 11 | R22: MF | S22: MF | T22: 14 | U22: 津田 透李 | Z22: 5 | AJ22: 0
B23: 7 | D23: 1 | E23: ① | F23: 1 | H23: 3 | J23: 2 | K23: 6 | L23: 宇土 碧波 | Q23: 9 | R23: FW | S23: FW | T23: 7 | U23: 井上 喜心 | Z23: 6 | AJ23: 0
Q24: 交替要員
B25: 0 | K25: 6 | L25: 南 咲太郎 | Q25: 2 | R25: DF | S25: MF | T25: 2 | U25: 田村 謙悟 | Z25: 5 | AJ25: 0
B26: 0 | K26: 6 | L26: 中山 翔 | Q26: 4 | R26: MF | S26: DF | T26: 4 | U26: 公原 義翔 | Z26: 5 | AJ26: 0
B27: 0 | K27: 6 | L27: 小宮 陽翔 | Q27: 6 | R27: MF | S27: MF | T27: 6 | U27: 小林 亘 | Z27: 5 | AJ27: 0
B28: 0 | K28: 5 | L28: 乙女 心結 | Q28: 12 | R28: MF | S28: MF | T28: 8 | U28: 小川 悠斗 | Z28: 5 | AJ28: 0
B29: 0 | K29: 5 | L29: 園田 愛喜 | Q29: 13 | R29: DF | S29: MF | T29: 12 | U29: 濱小路 蒼真 | Z29: 5 | AJ29: 0
B30: 0 | K30: 6 | L30: 小雲 虹 | Q30: 14 | R30: FW | S30: MF | T30: 13 | U30: 三村 隼典 | Z30: 5 | AJ30: 0
B31: 0 | K31: 4 | L31: 井上 伍貴 | Q31: 15 | R31: FW | S31: MF | T31: 15 | U31: 中元 大輝 | Z31: 6 | AJ31: 0
B32: 0 | K32: 6 | L32: 関 湊士 | Q32: 16 | R32: GK | S32: GK | T32: 16 | U32: 川端 健心 | Z32: 5 | AJ32: 0
B33: 0 | S33: MF | T33: 20 | U33: 小畑 颯汰 | Z33: 5 | AJ33: 0
B34: 0 | AJ34: 0
D35: 1 | F35: 2 | H35: 8 | J35: 2 | K35: 小計 | L35: 13 | Q35: 合計 | R35: シュート数 | T35: 合計 | U35: 4 | Z35: 小計 | AB35: 1 | AD35: 0 | AF35: 1 | AH35: 2
C36: OUT | J36: → | K36: IN | R36: 交代 | U36: OUT | AB36: → | AC36: IN
R37: 選手
B38: 分 | D38: 番 | J38: → | L38: 番 | T38: 分 | V38: 番 | AB38: → | AD38: 番
B39: 分 | D39: 番 | J39: → | L39: 番 | T39: 分 | V39: 番 | AB39: → | AD39: 番
B40: 分 | D40: 番 | J40: → | L40: 番 | T40: 分 | V40: 番 | AB40: → | AD40: 番
...

Sheet 準決勝①【Match No,49】
A1: 公式記録 | G1: Match No： | K1: 49
A2: 大 | C2: OFA 第 57 回大分県少年サッカー大会 兼 KYFA 九州U-12サッカー大会大分県大会 | O2: 第 | P2: 3 | R2: 日 | AB2: 競技 | AC2: 40分 | AE2: 記
A3: 会 | O3: 1回戦 | Q3: 2回戦 | S3: 46061 | AB3: 時間 | AE3: 録 | AF3: 田尻 貴志
A4: 名 | O4: 準決勝 | Q4: 決勝 | S4: 試合開始 12時30分～ | AB4: 延長 | AE4: 者 | AF4: 中原 圭介
A5: 会 | C5: 大分県サッカー協会 人工芝グラウンド | J5: 天 | K5: 晴 | L5: 風 | N5: 強 | O5: 弱 | P5: 無 | Q5: 芝 | R5: 状 | S5: 良好 | U5: 審 | V5: 主審 | AA5: 副審 | AF5: 第4の審判員
K6: 曇 | L6: 気温 | N6: 5.1 | P6: ℃ | S6: 不良 | V6: 黒田 大貴 | AA6: 白江 直樹 | AF6: 寺岡 富夫
A7: 場 | J7: 候 | K7: 雨 | L7: 湿度 | N7: 25 | P7: ％ | Q7: 土 | R7: 態 | S7: 泥沼 | U7: 判 | AA7: 岡部 正典
A8: 【チーム名】 | P8: 4 | Q8: 4 | R8: 前半 | T8: 0 | U8: 0 | V8: 【チーム名】
