Workbook

Sheet 抽選会資料
A1: OFA 第 57 回大分県U-12サッカー大会 兼 KYFA 九州U-12サッカー大会大分県大会 | J1: 抽選会及び監督(代表者)会議
A3: １．日時 2026年1月18日(日) 午後6時00分（18:00）～
A5: ２．場所 大分市 クラサスドーム大分 B-1 406会議室予定
A7: ３．参加チーム | C7: 36 | D7: チーム
B9: Aブロック(フリー) | I9: Bブロック(奇数)
A10: 抽選順 | B10: 地区 | C10: チーム名 | D10: 申込 | E10: 参加料 | F10: 抽選会 | G10: 抽選順 | I10: 地区 | J10: チーム名 | K10: 申込 | L10: 参加料 | M10: 抽選会
A11: 20 | B11: 大分 | C11: カティオーラフットボールクラブＵ－１２ | D11: ○ | E11: ○ | F11: ○ | H11: 4 | I11: 中津 | J11: ティエラフットボールクラブＵ－１２ | K11: ○ | L11: ○ | M11: ○
A12: 21 | C12: ドリームキッズフットボールクラブ | D12: ○ | E12: ○ | F12: ○ | H12: 5 | J12: 鶴居ＳＳＳ | K12: ○ | L12: ○ | M12: ○
A13: 22 | C13: リノスフットボールクラブ Ｕ－１２ | D13: ○ | E13: ○ | F13: ○ | H13: 15 | J13: ＦＣ ＪＵＮＩＯＲＳ | K13: ○ | L13: ○ | M13: ○
A14: 23 | C14: 鶴崎ＳＳＳ | D14: ○ | E14: ○ | F14: ○ | H14: 16 | J14: はやぶさフットボールクラブ | K14: ○ | L14: × | M14: ○
A15: 24 | C15: カティオーラフットボールクラブＵ－１２ Ｎｅｘｔ | D15: ○ | E15: ○ | F15: ○ | H15: 6 | I15: 日田・玖珠 | J15: ＦＣアリアーレ | K15: ○ | L15: ○ | M15: ○
A16: 25 | C16: 明治北ＳＳＣ | D16: ○ | E16: ○ | F16: ○ | H16: 7 | J16: 玖珠サッカースポーツ少年団 | K16: ○ | L16: ○ | M16: ○
A17: 26 | C17: 滝尾下郡サッカースポーツ少年団 | D17: ○ | E17: ○ | F17: ○ | H17: 17 | J17: ＭＦＣ三花少年サッカー教室 | K17: ○ | L17: ○ | M17: ○
A18: 27 | C18: 戸次吉野ＳＳＳ | D18: ○ | E18: ○ | F18: ○ | H18: 8 | I18: 宇佐高田 | J18: 四日市南ＳＳＣ | K18: ○ | L18: ○ | M18: ○
A19: 28 | C19: 大分トリニータＵ－１２ | D19: ○ | E19: ○ | F19: ○ | H19: 9 | J19: ＦＣ ＷＡＹＳ | K19: ○ | L19: ○ | M19: ○
A20: 29 | C20: ＦＣ ＲＥＧＡＴＥ | D20: ○ | E20: ○ | F20: ○ | H20: 18 | J20: ＦＣ ＵＮＩＴＥ | K20: ○ | L20: ○ | M20: ○
A21: 30 | C21: スマイス セレソン スポーツクラブ | D21: ○ | E21: ○ | F21: ○ | H21: 10 | I21: 別府 | J21: 別府フットボールクラブ．ミネルバＵ－１２ | K21: ○ | L21: ○ | M21: ○
A22: 31 | C22: 明野東サッカースポーツ少年団 | D22: ○ | E22: ○ | F22: ○ | H22: 11 | J22: スマイス・セレソン | K22: ○ | L22: ○ | M22: ○
A23: 32 | C23: 南大分サッカー少年団 | D23: ○ | E23: ○ | F23: ○ | H23: 19 | J23: 大平山アソシエーション式フットボールクラブ | K23: ○ | L23: ○ | M23: ○
A24: 33 | C24: 西の台ＪＦＣ | D24: ○ | E24: ○ | F24: ○ | H24: 1 | I24: 佐伯 | J24: 弥生少年サッカークラブ | K24: ○ | L24: ○ | M24: ○
A25: 34 | C25: アトレチコエラン横瀬 | D25: ○ | E25: ○ | F25: ○ | H25: 2 | J25: 佐伯リベロフットボールクラブ | K25: ○ | L25: ○ | M25: ○
A26: 35 | C26: 大分トリニータタートルズ | D26: ○ | E26: ○ | F26: ○ | H26: 12 | I26: 速杵国東 | J26: ＯＫＹ山香サッカークラブ | K26: ○ | L26: ○ | M26: ○
A27: 36 | C27: ＮＦＣ・ＯＩＴＡ Ｕ１２ | D27: ○ | E27: × | F27: ○ | H27: 13 | J27: 日出サッカースポーツ少年団 | K27: ○ | L27: ○ | M27: ○
H28: 14 | I28: 臼杵・津久見 | J28: 臼杵ＳＳＳ | K28: ○ | L28: ○ | M28: ○
H29: 3 | I29: 豊肥 | J29: 竹田直入ＦＣ | K29: ○ | L29: ○ | M29: ○
A32: ４．会議次第
A33: ①第4種委員長あいさつ
A34: ②要項の確認、質問、諸注意
A35: ③審判部より
A36: ・1次リーグ/2次リーグは、帯同審判員（大分県協会所属の3級以上）を帯同する事。
A37: （各チームにて責任を持って準備しておく事。）
A38: ④抽選
A40: ５．その他
A41: ①大会期間中は、常に選手証及び、指導者資格証、審判資格証を携帯し、必要に応じて提示すること。
A42: 指導者資格証、審判資格証を有していない、ベンチ入り予定の指導者については、顔写真の確認出来る証明書(免許証等)を携帯しておく事。
A43: また、ベンチ入りする指導者は、指導者を識別するためのIDプレートを大会本部より配布する。
A44: 選手への戦術的な指示やコーチングを行う際は、必ずIDプレートを着用すること。尚、IDを配布される
... A53: ６．試合会場
C54: 会場 | I54: 住所
A55: 1次ﾘｰｸﾞ | B55: 中津 | C55: ディーアクト（D-ACT）スポーツパーク永添(永添運動公園) 人工芝多目的グラウンド | I55: 中津市大字永添2065番地の1
A56: 1次ﾘｰｸﾞ | B56: 日田・玖珠 | C56: 玖珠町総合運動公園 | I56: 玖珠町大字山田90番地
A57: 1次ﾘｰｸﾞ | B57: 宇佐高田 | C57: 宇佐市平成令和の森スポーツ公園 | I57: 宇佐市院内町原口146-1
A58: 1次ﾘｰｸﾞ | B58: 別府 | C58: 実相寺サッカー競技場(人工芝) | I58: 別府市大字鶴見3705番地
A59: 1次ﾘｰｸﾞ | B59: 速杵国東 | C59: フットボールセンター大分きつき(杵築市営サッカー場) | I59: 杵築市山香町大字野原700-5
A60: 1次ﾘｰｸﾞ | B60: 臼杵・津久見 | C60: 吉四六ランドレックス多目的広場 (吉四六ランド陸上競技場) | I60: 臼杵市野津町大字原326番地
A61: 2次ﾘｰｸﾞ | B61: 豊肥 | C61: 恵藤建設サン・スポーツランド(サン・スポーツランドみえ) | I61: 豊後大野市三重町百枝1086番地273
A62: 2次ﾘｰｸﾞ | B62: 佐伯 | C62: 佐伯市総合運動公園人工芝グラウンド | I62: 佐伯市大字長谷2614番地
A63: 準決勝・決勝 | B63: 県人工芝 | C63: 大分県サッカー協会人工芝グラウンド | I63: 大分市大字松岡6841番地

Sheet MCM資料
A1: マッチコーディネーションミーティング
A2: OFA 第 57 回大分県少年サッカー大会 兼 KYFA 九州U-12サッカー大会大分県大会
A6: 各会場にて、試合開始70分前にマッチコーディネーションミーティング(MCM)を行います。
E7: １次リーグ ／ ２次リーグ 統一資料
B9: 組み合わせ左側チーム | K9: （ | O9: 市） | Q9: ｖｓ | S9: 組み合わせ右側チーム | AB9: （ | AF9: 市）
E11: ＜日程＞ | J11: ＜会場＞
A12: ２次リーグ | E12: =組み合わせ!BU3 -> 46054 | J12: =抽選会資料!B61 -> 豊肥 | M12: =抽選会資料!C61 -> 恵藤建設サン・スポーツランド(サン・スポーツランドみえ) | V12: =抽選会資料!B62 -> 佐伯 | Y12: =抽選会資料!C62 -> 佐伯市総合運動公園人工芝グラウンド
A13: １次リーグ | E13: =組み合わせ!BG3 -> 46047 | J13: =抽選会資料!B55 -> 中津 | M13: =抽選会資料!C55 -> ディーアクト（D-ACT）スポーツパーク永添(永添運動公園) 人工芝多目的グラウンド | S13: =抽選会資料!B56 -> 日田・玖珠 | V13: =抽選会資料!C56 -> 玖珠町総合運動公園 | AB13: =抽選会資料!B57 -> 宇佐高田 | AE13: =抽選会資料!C57 -> 宇佐市平成令和の森スポーツ公園
J15: =抽選会資料!B58 -> 別府 | M15: =抽選会資料!C58 -> 実相寺サッカー競技場(人工芝) | S15: =抽選会資料!B59 -> 速杵国東 | V15: =抽選会資料!C59 -> フットボールセンター大分きつき(杵築市営サッカー場) | AB15: =抽選会資料!B60 -> 臼杵・津久見 | AE15: =抽選会資料!C60 -> 吉四六ランドレックス多目的広場 (吉四六ランド陸上競技場)
B17: Kickoff ①10：00/②11：00/③12：00/④13：00/⑤14：00/⑥15：00
A20: 1 | B20: 挨拶および出席者の確認 | M20: 主管協会（ 一般社団法人 大分県サッカー協会 ）
D21: マッチコミッショナー、対戦チームの両監督、主審
D22: 1次、2次リーグで副審は、担当試合の10分前までに主審と打合せを必ず行うこと。
A23: 2 | B23: 競技関連事項 | J23: マッチコミッショナー | R23: （ | Z23: ）
B24: （1） | D24: 累積警告選手等の確認 | N24: （本大会実施要項 9）試合方法 ⑧に該当する選手）
C25: 組み合わせ左側チーム | K25: ：
C26: 組み合わせ右側チーム | K26: ：
C27: （大会期間中、２回（累計）の警告または、退場を宣告された選手等は次回戦に出場できないものとする。）
B28: （2） | D28: ユニフォームの色の決定
D29: チーム代表者は必ずユニフォームを持参(正・副全て)
B31: （3） | D31: 試合登録メンバー（選手および役員）の確認
B33: （４） | D33: 試合時間
C34: ○ | D34: 試合時間は 40分（20分ハーフ）とし、ハーフタイムのインターバル（前半終了から後半開始まで）は原則として10分とする。
C36: ○ | D36: 飲水タイムをとる場合は、「その他の理由」により空費された時間として追加する。
C37: ○ | D37: アディッショナルタイムの標記: | O37: 行う（口頭もしくは、表示用ボード）
B38: （5） | D38: 次回戦進出チームの決定方法
C39: ○ | D39: 次回戦進出チームの決定方法は、1次リーグ・2次リーグにおいては、Ⅰ:勝点（勝3点 分け1点 負0点） Ⅱ:当該チームの戦績 Ⅲ:PK戦の順で順位を決定する。1次リーグ・2次リーグにおいて、3チーム共に同率時のPK戦を行う場合は、2連勝したチームが次回戦進出とする。 （次回戦進出チームを決定するPK方式においてフィールドプレーヤーをゴールキーパーとする場合、その選手と同番号のゴールキーパーユニフォームまたはサブユニフォームのシャツを着用させる。）
B46: （6） | D46: 競技者の数
C47: ○ | D47: 試合開始時の人数は、8対8（内１人はゴールキーパー）とし、６人未満となった場合０－５の負けとする。
C48: ○ | D48: 競技中、怪我人が出た場合は、交代要員から補充すること。
C49: ○ | D49: 退場者が出た場合は、交代要員から補充し、退場者のベンチ戻入は認めない。
C50: ○ | D50: 競技者の数がアンバランスになるのは、該当チームに交代要員がいなくなった時に限る。
B51: （7） | D51: 選手の交代
C52: ○ | D52: 競技開始前に登録した最大10名の交代要員の中から、自由な交代が認められ、交代して退いた競技者は交代要員となり、再び出場することができる。（交代の回数は制限されない。）
C54: ○ | D54: 交代は、ボールがインプレー中、アウトオブプレー中にかかわらず行うことができ、チームの指導者、もしくは選手は「第4審」に交代選手の番号を口頭で報告し、用具チェックを受けた後、交代ゾーンから行う。ただし、交代で退く競技者が負傷している場合は、主審の承認を得た上でどこからフィールドを離れてもよい。また、ゴールキーパーが交代する場合はアウトプレー時に主審を通じ行う。
B58: （8） | D58: チームベンチへの人数
C59: ベンチに入るスタッフは、大会申込のスタッフ情報に申請した者の中から1名以上、３名以内とする。（内１名はJFA公認指導者ライセンスを有すること）また、交代要員となる選手は、10名を最大とする。
C61: ※大会登録書（メンバー表）に記載された選手及び監督・役員以外のベンチ入りは認めない。
B62: （9） | D62: ウォーミングアップ | L62: ※ 会場責任者の指示に従うこと！
C63: ***試合前***
C64: ○ | D64: 場所：
C65: ○ | D65: 時間：
C66: ○ | D66: ボール使用の可否： | K66: 可
C67: ○ | D67: 着衣： | G67: アップする選手は、前試合の両チームのユニおよび審判のユニと明確に異なる色の着衣（ビブス等）を身につけること。
C68: ***試合中***
C69: ○ | D69: 場所： | G69: ベンチ横または後ろ
C70: ○ | D70: ボール使用の可否： | K70: 否
C71: ○ | D71: 着衣： | G71: 交代要員の選手は、両チームのユニおよび審判のユニと明確に異なる色の着衣（ビブス等）を身につけること。
B72: （10） | D72: コーチング
C73: ○ | D73: 戦術的指示を与える際は、その都度ただ1名の役員(監督に限定されない)のみが、テクニカルエリア(ベンチの両端から１メ－トルとタッチラインから1メ－トル)内で行うこと。
C75: ○ | D75: 選手への厳しい叱責や体罰等があったと認められ，主審から一度注意を受けた後に再度同様な行為があった場合は，主審の判断により退席処分とし，それ以降はベンチからのコーチングを不可とする。それ以降の試合については，規律・フェアプレー委員会において協議し，処分することもある。
B78: （11） | D78: 選手のけがの治療
C79: ○ | D79: レフェリ－が認める特別な場合でないかぎり、フィ－ルド内での医療処置は一切認められない。
C80: ○ | D80: ケガをした選手が運び出されたり、主審の許可によりフィ－ルドを出ることが認められる場合、医療担当者は医療処置をフィ－ルドの外で行う。
C82: ○ | D82: 主審の指示を受けた場合にのみ、2名以内のチ－ム役員と担架がフィ－ルドに入ることができる。
C83: ○ | D83: ゴ－ルキ－パ－がケガをした場合は試合を中断し、フィ－ルド内で手当てを受けることが許される。手当てが終わってから試合は再開される。
C85: ○ | D85: 負傷により出血した選手は、出血が止まったことを審判が確認し、主審の合図を受けてからフィールドに復帰することができる。
C87: ○ | D87: 負傷した選手が交代ゾーン以外からピッチを離れ、交替する場合は交替ゾーンから交替する選手は入場する。負傷した選手が治療をおえ、再度交替し入場する場合も交替ゾーンから行う。
B89: （12） | D89: 選手の品行
C90: ○ | D90: フェアプレー | L90: ○ | M90: サッカーのイメージアップ
C91: ○ | D91: ソックスを引き上げる | N91: ○ | O91: シャツをショーツの中に入れる
C92: ○ | D92: 試合開始前および終了後のセレモニー
B93: （13） | D93: 試合球 | H93: 「4号検定球 各チーム持ち寄り」
B94: （14） | D94: 選手の用具 | I94: 大会実施要項 11)その他 ⑤ユニフォームについて
B95: ・ | C95: シャツについては、胸番号/背番号必須で一致していることとし、色彩は、審判員が通常着用する黒色と明確に判別し得るものでなければならない。
B97: ・ | C97: ユニフォームのデザイン、ロゴ等が異なっていても、本競技会主催者が認める場合、主たる色が同系色であれば着用することができる。
B99: ・ | C99: ゴールキーパーのユニフォームについて、ショーツ、ソックスはフィールドプレーヤーと同色系でも良いものとする。
B100: ・ | C100: ソックスにテープまたはその他の材質のものを貼り付ける、または外部に着用する場合、ソックスと同色でなくても良い。
B101: ・ | C101: アンダーシャツの色は問わない。ただし原則としてチーム内で同色のものを着用する。
B102: ・ | C102: アンダーショーツおよびタイツの色は問わない。ただし原則としてチーム内で同色のものを着用する。
B103: ・ | C103: すねあてを必ず着用。
B104: ・ | C104: ゴ－ルキ－パ－は、フィ－ルドの状態、天候によってはトラックスーツを着用しても良い。
B105: （15） | D105: 選手集合 | H105: 用具及びメンバーチェック キックオフ10分前
B106: （16） | D106: キックオフ前のセレモニー | N106: キックオフ5分前
C107: ○ | D107: 以下のように整列し、本部側に礼をした後、プレーの開始方法を確認する。
D108: 《 | E108: =+C25 -> 組み合わせ左側チーム | N108: 》 | O108: ＜審判団＞ | U108: 《 | V108: =+C26 -> 組み合わせ右側チーム | AE108: 》
O109: 本部
A110: 3 | B110: その他
C111: ①大会期間中は、常に選手証及び、指導者資格証、審判資格証を携帯し、必要に応じて提示すること。 指導者資格証、審判資格証を有していない、ベンチ入り予定の指導者については、顔写真の確認が出来る 証明書(運転免許証等)を携帯し、必要に応じて提示すること。
C113: ②本大会実施要項 13）その他 ⑦の事項を、役員・保護者に周知徹底し、大会運営及び感染症対策等に協力すること。
C115: 2025年度 4種委員会目標
C116: 『安心安全なサッカー ～ベンチからの声かけ～』

Sheet 抽選方法
A1: No, | K1: 抽選順
A2: 1 | B2: 2次リーグ開催の | C2: 佐伯① | D2: 佐伯② | F2: を ＊3の | J2: で、2ブロックで分ける | K2: 1,2
A3: 2 | B3: 2次リーグ開催の | C3: 豊肥① | F3: を ＊3の | J3: で、2ブロックで分ける | K3: 3
A4: 3 | B4: 各地区地元開催の | C4: ① | D4: ② | F4: を ＊1の | J4: で、2ブロックで分ける | K4: 4～14
B6: 全枠空きにならないように、長考しながら調整 | J6: の空白の所に、大分以外が入るように
A7: 4 | C7: 中津③ | D7: 中津④ | F7: を | J7: 4ブロックで分ける | K7: 15,16
C8: 日田・玖珠③ | F8: を | J8: 4ブロックで分ける | K8: 17
A9: 5 | C9: 宇佐高田③ | F9: を | J9: 4ブロックで分ける | K9: 18
A10: 6 | C10: 別府③ | F10: を | J10: 4ブロックで分ける | K10: 19
A11: 7 | C11: 大分①②③ カティオーラU12/ドリームキッズ/リノス | F11: を | J11: 4ブロックで分ける | K11: 20,21,22
A12: 8 | C12: 大分④～⑰ | F12: を フリー抽選 | K12: 23～36

Sheet 組み合わせ
A1: =抽選会資料!A1 -> OFA 第 57 回大分県U-12サッカー大会 兼 KYFA 九州U-12サッカー大会大分県大会 | FH1: 組み合わせ
AL3: 2026年(令和8年) | BG3: 46047 | BS3: ・ | BU3: 46054 | CG3: ・ | CI3: 46061
A4: 《会場》
A5: 決勝・準決勝 | D5: =抽選会資料!B63 -> 県人工芝 | Q5: → | T5: =VLOOKUP(D5,抽選会資料!$B$55:$F$63,2,FALSE) -> 大分県サッカー協会人工芝グラウンド
A6: 2次リーグ | D6: =抽選会資料!B61 -> 豊肥 | L6: → | O6: =VLOOKUP(D6,抽選会資料!$B$55:$F$63,2,FALSE) -> 恵藤建設サン・スポーツランド(サン・スポーツランドみえ) | BF6: =抽選会資料!B62 -> 佐伯 | BN6: → | BQ6: =VLOOKUP(BF6,抽選会資料!$B$55:$F$63,2,FALSE) -> 佐伯市総合運動公園人工芝グラウンド
A7: 1次リーグ | D7: =抽選会資料!B55 -> 中津 | L7: → | O7: =VLOOKUP(D7,抽選会資料!$B$55:$F$63,2,FALSE) -> ディーアクト（D-ACT）スポーツパーク永添(永添運動公園) 人工芝多目的グラウンド | BF7: =抽選会資料!B56 -> 日田・玖珠 | BN7: → | BQ7: =VLOOKUP(BF7,抽選会資料!$B$55:$F$63,2,FALSE) -> 玖珠町総合運動公園 | DH7: =抽選会資料!B57 -> 宇佐高田 | DP7: → | DS7: =VLOOKUP(DH7,抽選会資料!$B$55:$F$63,2,FALSE) -> 宇佐市平成令和の森スポーツ公園
D8: =抽選会資料!B58 -> 別府 | L8: → | O8: =VLOOKUP(D8,抽選会資料!$B$55:$F$63,2,FALSE) -> 実相寺サッカー競技場(人工芝) | BF8: =抽選会資料!B59 -> 速杵国東 | BN8: → | BQ8: =VLOOKUP(BF8,抽選会資料!$B$55:$F$63,2,FALSE) -> フットボールセンター大分きつき(杵築市営サッカー場) | DH8: =抽選会資料!B60 -> 臼杵・津久見 | DP8: → | DS8: =VLOOKUP(DH8,抽選会資料!$B$55:$F$63,2,FALSE) -> 吉四六ランドレックス多目的広場 (吉四六ランド陸上競技場)
AX10: ＜優勝＞ | BH10: ドリームキッズフットボールクラブ | EP10: ＜準優勝＞
EP12: 四日市南ＳＳＣ
A14: =CI3 -> 46061
BP15: =D5 -> 県人工芝
EP16: ＜３位＞
A17: 決勝 準決勝 大会3日目 | BR17: 14:10～
X18: ドリームキッズフットボールクラブ | CR18: 四日市南ＳＳＣ | EP18: カティオーラフットボールクラブＵ－１２
BR19: 5 | BT19: 前半 | BX19: 0
AN21: （ 大分 市） | BR21: 1 | BT21: 後半 | BX21: 0 | DH21: （ 宇佐 市）
EP22: ＜３位＞
BT23: PK
AF24: =D5 -> 県人工芝 | CZ24: =D5 -> 県人工芝 | EP24: ティエラフットボールクラブＵ－１２
AH26: 12:00～ | DB26: 12:00～
F27: Aパート 1位 | L27: ドリームキッズフットボールクラブ | AP27: Bパート 1位 | AV27: カティオーラフットボールクラブＵ－１２ | BZ27: Cパート 1位 | CF27: ティエラフットボールクラブＵ－１２ | DJ27: Dパート 1位 | DP27: 四日市南ＳＳＣ
AJ28: 前半 | DB28: 0 | DD28: 前半 | DH28: 0
V30: （ 大分 市） | AH30: 4 | AJ30: 後半 | AN30: 0 | BF30: （ 大分 市） | CP30: （ 中津 市） | DB30: 0 | DD30: 後半 | DH30: 0 | DZ30: （ 宇佐 市）
AH32: 0 | AJ32: 延前 | AN32: 0 | DB32: 1 | DD32: 延前 | DH32: 1
A33: =BU3 -> 46054 | H33: 2次リーグ Aパート | AR33: 2次リーグ Bパート | CB33: 2次リーグ Cパート | DL33: 2次リーグ Dパート
H34: 会場： | T34: =D6 -> 豊肥 | AJ34: 延後 | AR34: 会場： | BD34: =BF6 -> 佐伯 | CB34: 会場： | CN34: =D6 -> 豊肥 | DB34: 0 | DD34: 延後 | DH34: 1 | DL34: 会場： | DX34: =BF6 -> 佐伯
A36: 2次リーグ 大会2日目 | H36: A | L36: ドリームキッズフットボールクラブ | AJ36: PK | AR36: D | AV36: 弥生少年サッカークラブ | CB36: G | CF36: ティエラフットボールクラブＵ－１２ | DD36: PK | DL36: J | DP36: 滝尾下郡サッカースポーツ少年団
H38: B | L38: 臼杵ＳＳＳ | AR38: E | AV38: アトレチコエラン横瀬 | CB38: H | CF38: 大分トリニータタートルズ | DL38: K | DP38: 戸次吉野ＳＳＳ
H40: C | L40: 別府フットボールクラブ．ミネルバＵ－１２ | AR40: F | AV40: カティオーラフットボールクラブＵ－１２ | CB40: I | CF40: リノスフットボールクラブ Ｕ－１２ | DL40: L | DP40: 四日市南ＳＳＣ
B48: A1 | F48: A2 | J48: A3 | N48: B1 | R48: B2 | V48: B3 | Z48: C1 | AD48: C2 | AH48: C3 | AL48: D1 | AP48: D2 | AT48: D3 | AX48: E1 | BB48: E2 | BF48: E3 | BJ48: F1 | BN48: F2 | BR48: F3 | BV48: G1 | BZ48: G2 | CD48: G3 | CH48: H1 | CL48: H2 | CP48: H3 | CT48: I1 | CX48: I2 | DB48: I3 | DF48: J1 | DJ48: J2 | DN48: J3 | DR48: K1 | DV48: K2 | DZ48: K3 | ED48: L1 | EH48: L2 | EL48: L3 | GD48: 抽選番号入力 | GE48: チーム名入力（偶数） | GF48: 地区入力
B49: =IF(ISERROR(VLOOKUP(B48,$GD:$GF,2,FALSE))=TRUE,"",VLOOKUP(B48,$GD:$GF,2,FALSE)) -> 鶴居ＳＳＳ | F49: =IF(ISERROR(VLOOKUP(F48,$GD:$GF,2,FALSE))=TRUE,"",VLOOKUP(F48,$GD:$GF,2,FALSE)) -> ドリームキッズフットボールクラブ | J49: =IF(ISERROR(VLOOKUP(J48,$GD:$GF,2,FALSE))=TRUE,"",VLOOKUP(J48,$GD:$GF,2,FALSE)) -> スマイス セレソン スポーツクラブ | N49: =IF(ISERROR(VLOOKUP(N48,$GD:$GF,2,FALSE))=TRUE,"",VLOOKUP(N48,$GD:$GF,2,FALSE)) -> 臼杵ＳＳＳ | R49: =IF(ISERROR(VLOOKUP(R48,$GD:$GF,2,FALSE))=TRUE,"",VLOOKUP(R48,$GD:$GF,2,FALSE)) -> ＦＣ ＲＥＧＡＴＥ | V49: =IF(ISERROR(VLOOKUP(V48,$GD:$GF,2,FALSE))=TRUE,"",VLOOKUP(V48,$GD:$GF,2,FALSE)) -> 竹田直入ＦＣ | Z49: =IF(ISERROR(VLOOKUP(Z48,$GD:$GF,2,FALSE))=TRUE,"",VLOOKUP(Z48,$GD:$GF,2,FALSE)) -> 別府フットボールクラブ．ミネルバＵ－１２ | AD49: =IF(ISERROR(VLOOKUP(AD48,$GD:$GF,2,FALSE))=TRUE,"",VLOOKUP(AD48,$GD:$GF,2,FALSE)) -> カティオーラフットボールクラブＵ－１２ Ｎｅｘｔ | AH49: =IF(ISERROR(VLOOKUP(AH48,$GD:$GF,2,FALSE))=TRUE,"",VLOOKUP(AH48,$GD:$GF,2,FALSE)) -> 西の台ＪＦＣ | AL49: =IF(ISERROR(VLOOKUP(AL48,$GD:$GF,2,FALSE))=TRUE,"",VLOOKUP(AL48,$GD:$GF,2,FALSE)) -> 日出サッカースポーツ少年団 | AP49: =IF(ISERROR(VLOOKUP(AP48,$GD:$GF,2,FALSE))=TRUE,"",VLOOKUP(AP48,$GD:$GF,2,FALSE)) -> 大分トリニータＵ－１２ | AT49: =IF(ISERROR(VLOOKUP(AT48,$GD:$GF,2,FALSE))=TRUE,"",VLOOKUP(AT48,$GD:$GF,2,FALSE)) -> 弥生少年サッカークラブ | AX49: =IF(ISERROR(VLOOKUP(AX48,$GD:$GF,2,FALSE))=TRUE,"",VLOOKUP(AX48,$GD:$GF,2,FALSE)) -> ＦＣ ＷＡＹＳ | BB49: =IF(ISERROR(VLOOKUP(BB48,$GD:$GF,2,FALSE))=TRUE,"",VLOOKUP(BB48,$GD:$GF,2,FALSE)) -> アトレチコエラン横瀬 | BF49: =IF(ISERROR(VLOOKUP(BF48,$GD:$GF,2,FALSE))=TRUE,"",VLOOKUP(BF48,$GD:$GF,2,FALSE)) -> ＦＣ ＪＵＮＩＯＲＳ | BJ49: =IF(ISERROR(VLOOKUP(BJ48,$GD:$GF,2,FALSE))=TRUE,"",VLOOKUP(BJ48,$GD:$GF,2,FALSE)) -> ＦＣアリアーレ | BN49: =IF(ISERROR(VLOOKUP(BN48,$GD:$GF,2,FALSE))=TRUE,"",VLOOKUP(BN48,$GD:$GF,2,FALSE)) -> カティオーラフットボールクラブＵ－１２ | BR49: =IF(ISERROR(VLOOKUP(BR48,$GD:$GF,2,FALSE))=TRUE,"",VLOOKUP(BR48,$GD:$GF,2,FALSE)) -> 大平山アソシエーション式フットボールクラブ | BV49: =IF(ISERROR(VLOOKUP(BV48,$GD:$GF,2,FALSE))=TRUE,"",VLOOKUP(BV48,$GD:$GF,2,FALSE)) -> ティエラフットボールクラブＵ－１２ | BZ49: =IF(ISERROR(VLOOKUP(BZ48,$GD:$GF,2,FALSE))=TRUE,"",VLOOKUP(BZ48,$GD:$GF,2,FALSE)) -> 南大分サッカー少年団 | CD49: =IF(ISERROR(VLOOKUP(CD48,$GD:$GF,2,FALSE))=TRUE,"",VLOOKUP(CD48,$GD:$GF,2,FALSE)) -> ＦＣ ＵＮＩＴＥ | CH49: =IF(ISERROR(VLOOKUP(CH48,$GD:$GF,2,FALSE))=TRUE,"",VLOOKUP(CH48,$GD:$GF,2,FALSE)) -> スマイス・セレソン | CL49: =IF(ISERROR(VLOOKUP(CL48,$GD:$GF,2,FALSE))=TRUE,"",VLOOKUP(CL48,$GD:$GF,2,FALSE)) -> 明治北ＳＳＣ | CP49: =IF(ISERROR(VLOOKUP(CP48,$GD:$GF,2,FALSE))=TRUE,"",VLOOKUP(CP48,$GD:$GF,2,FALSE)) -> 大分トリニータタートルズ | CT49: =IF(ISERROR(VLOOKUP(CT48,$GD:$GF,2,FALSE))=TRUE,"",VLOOKUP(CT48,$GD:$GF,2,FALSE)) -> ＭＦＣ三花少年サッカー教室 | CX49: =IF(ISERROR(VLOOKUP(CX48,$GD:$GF,2,FALSE))=TRUE,"",VLOOKUP(CX48,$GD:$GF,2,FALSE)) -> リノスフットボールクラブ Ｕ－１２ | DB49: =IF(ISERROR(VLOOKUP(DB48,$GD:$GF,2,FALSE))=TRUE,"",VLOOKUP(DB48,$GD:$GF,2,FALSE)) -> ＮＦＣ・ＯＩＴＡ Ｕ１２ | DF49: =IF(ISERROR(VLOOKUP(DF48,$GD:$GF,2,FALSE))=TRUE,"",VLOOKUP(DF48,$GD:$GF,2,FALSE)) -> ＯＫＹ山香サッカークラブ | DJ49: =IF(ISERROR(VLOOKUP(DJ48,$GD:$GF,2,FALSE))=TRUE,"",VLOOKUP(DJ48,$GD:$GF,2,FALSE)) -> 滝尾下郡サッカースポーツ少年団 | DN49: =IF(ISERROR(VLOOKUP(DN48,$GD:$GF,2,FALSE))=TRUE,"",VLOOKUP(DN48,$GD:$GF,2,FALSE)) -> はやぶさフットボールクラブ | DR49: =IF(ISERROR(VLOOKUP(DR48,$GD:$GF,2,FALSE))=TRUE,"",VLOOKUP(DR48,$GD:$GF,2,FALSE)) -> 玖珠サッカースポーツ少年団 | DV49: =IF(ISERROR(VLOOKUP(DV48,$GD:$GF,2,FALSE))=TRUE,"",VLOOKUP(DV48,$GD:$GF,2,FALSE)) -> 鶴崎ＳＳＳ | DZ49: =IF(ISERROR(VLOOKUP(DZ48,$GD:$GF,2,FALSE))=TRUE,"",VLOOKUP(DZ48,$GD:$GF,2,FALSE)) -> 戸次吉野ＳＳＳ | ED49: =IF(ISERROR(VLOOKUP(ED48,$GD:$GF,2,FALSE))=TRUE,"",VLOOKUP(ED48,$GD:$GF,2,FALSE)) -> 四日市南ＳＳＣ | EH49: =IF(ISERROR(VLOOKUP(EH48,$GD:$GF,2,FALSE))=TRUE,"",VLOOKUP(EH48,$GD:$GF,2,FALSE)) -> 明野東サッカースポーツ少年団 | EL49: =IF(ISERROR(VLOOKUP(EL48,$GD:$GF,2,FALSE))=TRUE,"",VLOOKUP(EL48,$GD:$GF,2,FALSE)) -> 佐伯リベロフットボールクラブ | GD49: F2 | GE49: =抽選会資料!C11 -> カティオーラフットボールクラブＵ－１２ | GF49: 大分
GD50: A2 | GE50: =抽選会資料!C12 -> ドリームキッズフットボールクラブ | GF50: 大分
GD51: I2 | GE51: =抽選会資料!C13 -> リノスフットボールクラブ Ｕ－１２ | GF51: 大分
GD52: K2 | GE52: =抽選会資料!C14 -> 鶴崎ＳＳＳ | GF52: 大分
GD53: C2 | GE53: =抽選会資料!C15 -> カティオーラフットボールクラブＵ－１２ Ｎｅｘｔ | GF53: 大分
GD54: H2 | GE54: =抽選会資料!C16 -> 明治北ＳＳＣ | GF54: 大分
GD55: J2 | GE55: =抽選会資料!C17 -> 滝尾下郡サッカースポーツ少年団 | GF55: 大分
GD56: K3 | GE56: =抽選会資料!C18 -> 戸次吉野ＳＳＳ | GF56: 大分
GD57: D2 | GE57: =抽選会資料!C19 -> 大分トリニータＵ－１２ | GF57: 大分
GD58: B2 | GE58: =抽選会資料!C20 -> ＦＣ ＲＥＧＡＴＥ | GF58: 大分
GD59: A3 | GE59: =抽選会資料!C21 -> スマイス セレソン スポーツクラブ | GF59: 大分
GD60: L2 | GE60: =抽選会資料!C22 -> 明野東サッカースポーツ少年団 | GF60: 大分
GD61: G2 | GE61: =抽選会資料!C23 -> 南大分サッカー少年団 | GF61: 大分
A62: =BG3 -> 46047 | GD62: C3 | GE62: =抽選会資料!C24 -> 西の台ＪＦＣ | GF62: 大分
GD63: E2 | GE63: =抽選会資料!C25 -> アトレチコエラン横瀬 | GF63: 大分
GD64: H3 | GE64: =抽選会資料!C26 -> 大分トリニータタートルズ | GF64: 大分
A65: 1次リーグ 大会1日目 | GD65: I3 | GE65: =抽選会資料!C27 -> ＮＦＣ・ＯＩＴＡ Ｕ１２ | GF65: 大分
GD69: 抽選番号入力 | GE69: チーム名入力（奇数） | GF69: 地区入力
GC70: 4 | GD70: G1 | GE70: =抽選会資料!J11 -> ティエラフットボールクラブＵ－１２ | GF70: 中津
GC71: 5 | GD71: A1 | GE71: =抽選会資料!J12 -> 鶴居ＳＳＳ | GF71: 中津
GC72: 15 | GD72: E3 | GE72: =抽選会資料!J13 -> ＦＣ ＪＵＮＩＯＲＳ | GF72: 中津
GC73: 16 | GD73: J3 | GE73: =抽選会資料!J14 -> はやぶさフットボールクラブ | GF73: 中津
GC74: 6 | GD74: F1 | GE74: =抽選会資料!J15 -> ＦＣアリアーレ | GF74: 日田・玖珠
GC75: 7 | GD75: K1 | GE75: =抽選会資料!J16 -> 玖珠サッカースポーツ少年団 | GF75: 日田・玖珠
GC76: 17 | GD76: I1 | GE76: =抽選会資料!J17 -> ＭＦＣ三花少年サッカー教室 | GF76: 日田・玖珠
GC77: 8 | GD77: L1 | GE77: =抽選会資料!J18 -> 四日市南ＳＳＣ | GF77: 宇佐高田
GC78: 9 | GD78: E1 | GE78: =抽選会資料!J19 -> ＦＣ ＷＡＹＳ | GF78: 宇佐高田
B79: =IF(ISERROR(VLOOKUP(B48,$GD:$GF,3,FALSE))=TRUE,"",VLOOKUP(B48,$GD:$GF,3,FALSE)) -> 中津 | F79: =IF(ISERROR(VLOOKUP(F48,$GD:$GF,3,FALSE))=TRUE,"",VLOOKUP(F48,$GD:$GF,3,FALSE)) -> 大分 | J79: =IF(ISERROR(VLOOKUP(J48,$GD:$GF,3,FALSE))=TRUE,"",VLOOKUP(J48,$GD:$GF,3,FALSE)) -> 大分 | N79: =IF(ISERROR(VLOOKUP(N48,$GD:$GF,3,FALSE))=TRUE,"",VLOOKUP(N48,$GD:$GF,3,FALSE)) -> 臼杵・津久見 | R79: =IF(ISERROR(VLOOKUP(R48,$GD:$GF,3,FALSE))=TRUE,"",VLOOKUP(R48,$GD:$GF,3,FALSE)) -> 大分 | V79: =IF(ISERROR(VLOOKUP(V48,$GD:$GF,3,FALSE))=TRUE,"",VLOOKUP(V48,$GD:$GF,3,FALSE)) -> 豊肥 | Z79: =IF(ISERROR(VLOOKUP(Z48,$GD:$GF,3,FALSE))=TRUE,"",VLOOKUP(Z48,$GD:$GF,3,FALSE)) -> 別府 | AD79: =IF(ISERROR(VLOOKUP(AD48,$GD:$GF,3,FALSE))=TRUE,"",VLOOKUP(AD48,$GD:$GF,3,FALSE)) -> 大分 | AH79: =IF(ISERROR(VLOOKUP(AH48,$GD:$GF,3,FALSE))=TRUE,"",VLOOKUP(AH48,$GD:$GF,3,FALSE)) -> 大分 | AL79: =IF(ISERROR(VLOOKUP(AL48,$GD:$GF,3,FALSE))=TRUE,"",VLOOKUP(AL48,$GD:$GF,3,FALSE)) -> 速杵国東 | AP79: =IF(ISERROR(VLOOKUP(AP48,$GD:$GF,3,FALSE))=TRUE,"",VLOOKUP(AP48,$GD:$GF,3,FALSE)) -> 大分 | AT79: =IF(ISERROR(VLOOKUP(AT48,$GD:$GF,3,FALSE))=TRUE,"",VLOOKUP(AT48,$GD:$GF,3,FALSE)) -> 佐伯 | AX79: =IF(ISERROR(VLOOKUP(AX48,$GD:$GF,3,FALSE))=TRUE,"",VLOOKUP(AX48,$GD:$GF,3,FALSE)) -> 宇佐高田 | BB79: =IF(ISERROR(VLOOKUP(BB48,$GD:$GF,3,FALSE))=TRUE,"",VLOOKUP(BB48,$GD:$GF,3,FALSE)) -> 大分 | BF79: =IF(ISERROR(VLOOKUP(BF48,$GD:$GF,3,FALSE))=TRUE,"",VLOOKUP(BF48,$GD:$GF,3,FALSE)) -> 中津 | BJ79: =IF(ISERROR(VLOOKUP(BJ48,$GD:$GF,3,FALSE))=TRUE,"",VLOOKUP(BJ48,$GD:$GF,3,FALSE)) -> 日田・玖珠 | BN79: =IF(ISERROR(VLOOKUP(BN48,$GD:$GF,3,FALSE))=TRUE,"",VLOOKUP(BN48,$GD:$GF,3,FALSE)) -> 大分 | BR79: =IF(ISERROR(VLOOKUP(BR48,$GD:$GF,3,FALSE))=TRUE,"",VLOOKUP(BR48,$GD:$GF,3,FALSE)) -> 別府 | BV79: =IF(ISERROR(VLOOKUP(BV48,$GD:$GF,3,FALSE))=TRUE,"",VLOOKUP(BV48,$GD:$GF,3,FALSE)) -> 中津 | BZ79: =IF(ISERROR(VLOOKUP(BZ48,$GD:$GF,3,FALSE))=TRUE,"",VLOOKUP(BZ48,$GD:$GF,3,FALSE)) -> 大分 | CD79: =IF(ISERROR(VLOOKUP(CD48,$GD:$GF,3,FALSE))=TRUE,"",VLOOKUP(CD48,$GD:$GF,3,FALSE)) -> 宇佐高田 | CH79: =IF(ISERROR(VLOOKUP(CH48,$GD:$GF,3,FALSE))=TRUE,"",VLOOKUP(CH48,$GD:$GF,3,FALSE)) -> 別府 | CL79: =IF(ISERROR(VLOOKUP(CL48,$GD:$GF,3,FALSE))=TRUE,"",VLOOKUP(CL48,$GD:$GF,3,FALSE)) -> 大分 | CP79: =IF(ISERROR(VLOOKUP(CP48,$GD:$GF,3,FALSE))=TRUE,"",VLOOKUP(CP48,$GD:$GF,3,FALSE)) -> 大分 | CT79: =IF(ISERROR(VLOOKUP(CT48,$GD:$GF,3,FALSE))=TRUE,"",VLOOKUP(CT48,$GD:$GF,3,FALSE)) -> 日田・玖珠 | CX79: =IF(ISERROR(VLOOKUP(CX48,$GD:$GF,3,FALSE))=TRUE,"",VLOOKUP(CX48,$GD:$GF,3,FALSE)) -> 大分 | DB79: =IF(ISERROR(VLOOKUP(DB48,$GD:$GF,3,FALSE))=TRUE,"",VLOOKUP(DB48,$GD:$GF,3,FALSE)) -> 大分 | DF79: =IF(ISERROR(VLOOKUP(DF48,$GD:$GF,3,FALSE))=TRUE,"",VLOOKUP(DF48,$GD:$GF,3,FALSE)) -> 速杵国東 | DJ79: =IF(ISERROR(VLOOKUP(DJ48,$GD:$GF,3,FALSE))=TRUE,"",VLOOKUP(DJ48,$GD:$GF,3,FALSE)) -> 大分 | DN79: =IF(ISERROR(VLOOKUP(DN48,$GD:$GF,3,FALSE))=TRUE,"",VLOOKUP(DN48,$GD:$GF,3,FALSE)) -> 中津 | DR79: =IF(ISERROR(VLOOKUP(DR48,$GD:$GF,3,FALSE))=TRUE,"",VLOOKUP(DR48,$GD:$GF,3,FALSE)) -> 日田・玖珠 | DV79: =IF(ISERROR(VLOOKUP(DV48,$GD:$GF,3,FALSE))=TRUE,"",VLOOKUP(DV48,$GD:$GF,3,FALSE)) -> 大分 | DZ79: =IF(ISERROR(VLOOKUP(DZ48,$GD:$GF,3,FALSE))=TRUE,"",VLOOKUP(DZ48,$GD:$GF,3,FALSE)) -> 大分 | ED79: =IF(ISERROR(VLOOKUP(ED48,$GD:$GF,3,FALSE))=TRUE,"",VLOOKUP(ED48,$GD:$GF,3,FALSE)) -> 宇佐高田 | EH79: =IF(ISERROR(VLOOKUP(EH48,$GD:$GF,3,FALSE))=TRUE,"",VLOOKUP(EH48,$GD:$GF,3,FALSE)) -> 大分 | EL79: =IF(ISERROR(VLOOKUP(EL48,$GD:$GF,3,FALSE))=TRUE,"",VLOOKUP(EL48,$GD:$GF,3,FALSE)) -> 佐伯 | GC79: 18 | GD79: G3 | GE79: =抽選会資料!J20 -> ＦＣ ＵＮＩＴＥ | GF79: 宇佐高田
GC80: 10 | GD80: C1 | GE80: =抽選会資料!J21 -> 別府フットボールクラブ．ミネルバＵ－１２ | GF80: 別府
GC81: 11 | GD81: H1 | GE81: =抽選会資料!J22 -> スマイス・セレソン | GF81: 別府
GC82: 19 | GD82: F3 | GE82: =抽選会資料!J23 -> 大平山アソシエーション式フットボールクラブ | GF82: 別府
GC83: 1 | GD83: D3 | GE83: =抽選会資料!J24 -> 弥生少年サッカークラブ | GF83: 佐伯
GC84: 2 | GD84: L3 | GE84: =抽選会資料!J25 -> 佐伯リベロフットボールクラブ | GF84: 佐伯
GC85: 12 | GD85: J1 | GE85: =抽選会資料!J26 -> ＯＫＹ山香サッカークラブ | GF85: 速杵国東
GC86: 13 | GD86: D1 | GE86: =抽選会資料!J27 -> 日出サッカースポーツ少年団 | GF86: 速杵国東
A87: 会場 | B87: =IF(B79="","",B79) -> 中津 | N87: =IF(N79="","",N79) -> 臼杵・津久見 | Z87: =IF(Z79="","",Z79) -> 別府 | AL87: =IF(AL79="","",AL79) -> 速杵国東 | AX87: =IF(AX79="","",AX79) -> 宇佐高田 | BJ87: =IF(BJ79="","",BJ79) -> 日田・玖珠 | BV87: =IF(BV79="","",BV79) -> 中津 | CH87: =IF(CH79="","",CH79) -> 別府 | CT87: 臼杵・津久見 | DF87: =IF(DF79="","",DF79) -> 速杵国東 | DR87: =IF(DR79="","",DR79) -> 日田・玖珠 | ED87: =IF(ED79="","",ED79) -> 宇佐高田 | GC87: 14 | GD87: B1 | GE87: =抽選会資料!J28 -> 臼杵ＳＳＳ | GF87: 臼杵・津久見
GC88: 3 | GD88: B3 | GE88: =抽選会資料!J29 -> 竹田直入ＦＣ | GF88: 豊肥
A89: パート | B89: A | N89: B | Z89: C | AL89: D | AX89: E | BJ89: F | BV89: G | CH89: H | CT89: I | DF89: J | DR89: K | ED89: L
AX93: パート | BJ93: パート
AL95: 中津 | AX95: A | BJ95: G
AL97: 速杵国東 | AX97: D | BJ97: J
AL99: 日田・玖珠 | AX99: F | BJ99: K
AL101: 別府 | AX101: C | BJ101: H
AL103: 佐伯
AL105: 宇佐高田 | AX105: E | BJ105: L
AL107: 豊肥
AL109: 臼杵・津久見 | AX109: B | BJ109: I
AL111: 大分

Sheet 全日程スケジュール
A1: =抽選会資料!A1 -> OFA 第 57 回大分県U-12サッカー大会 兼 KYFA 九州U-12サッカー大会大分県大会 | K1: 全日程スケジュール
B3: （１）期日 | C3: =組み合わせ!BG3 -> 46047
B4: （２）日程 | C4: 各会場にて、各パートの第1試合開始70分前に、各パートのマッチコーディネーションミーティング(MCM)を、3チーム同時に行います。
D5: 会場： | E5: =組み合わせ!D7 -> 中津 | F5: =VLOOKUP(E5,抽選会資料!$B$55:$F$63,2,FALSE) -> ディーアクト（D-ACT）スポーツパーク永添(永添運動公園) 人工芝多目的グラウンド | I5: 会場： | J5: =組み合わせ!BF7 -> 日田・玖珠 | K5: =VLOOKUP(J5,抽選会資料!$B$55:$F$63,2,FALSE) -> 玖珠町総合運動公園 | N5: 会場： | O5: =組み合わせ!DH7 -> 宇佐高田 | P5: =VLOOKUP(O5,抽選会資料!$B$55:$F$63,2,FALSE) -> 宇佐市平成令和の森スポーツ公園
B6: 8:30～ | C6: 会場設営 | D6: 設営担当者or対応協会 | G6: 審判員 | I6: 設営担当者or対応協会 | L6: 審判員 | N6: 設営担当者or対応協会 | Q6: 審判員
A7: ① | B7: 10:00～ | C7: １次リーグ | G7: R：本部 | H7: A1：②帯同 | L7: R：本部 | M7: A1：②帯同 | Q7: R：本部 | R7: A1：②帯同
D8: ='１次リーグ（中津）'!$B$12 -> 鶴居ＳＳＳ | E8: vs | F8: ='１次リーグ（中津）'!$J$12 -> ドリームキッズフットボールクラブ | G8: 4th：本部 | H8: A2：②帯同 | I8: ='１次リーグ（日田・玖珠）'!$B$12 -> ＦＣアリアーレ | J8: vs | K8: ='１次リーグ（日田・玖珠）'!$J$12 -> カティオーラフットボールクラブＵ－１２ | L8: 4th：本部 | M8: A2：②帯同 | N8: ='１次リーグ（宇佐高田）'!$B$12 -> ＦＣ ＷＡＹＳ | O8: vs | P8: ='１次リーグ（宇佐高田）'!$J$12 -> アトレチコエラン横瀬 | Q8: 4th：本部 | R8: A2：②帯同
A9: ② | B9: 11:00～ | C9: 〃 | G9: R：本部 | H9: A1：①帯同 | L9: R：本部 | M9: A1：①帯同 | Q9: R：本部 | R9: A1：①帯同
D10: ='１次リーグ（中津）'!$N$12 -> ティエラフットボールクラブＵ－１２ | E10: vs | F10: ='１次リーグ（中津）'!$V$12 -> 南大分サッカー少年団 | G10: 4th：本部 | H10: A2：①帯同 | I10: ='１次リーグ（日田・玖珠）'!$N$12 -> 玖珠サッカースポーツ少年団 | J10: vs | K10: ='１次リーグ（日田・玖珠）'!$V$12 -> 鶴崎ＳＳＳ | L10: 4th：本部 | M10: A2：①帯同 | N10: ='１次リーグ（宇佐高田）'!$N$12 -> 四日市南ＳＳＣ | O10: vs | P10: ='１次リーグ（宇佐高田）'!$V$12 -> 明野東サッカースポーツ少年団 | Q10: 4th：本部 | R10: A2：①帯同
A11: ③ | B11: 12:00～ | C11: 〃 | G11: R：本部 | H11: A1：④帯同 | L11: R：本部 | M11: A1：④帯同 | Q11: R：本部 | R11: A1：④帯同
D12: ='１次リーグ（中津）'!$B$30 -> ドリームキッズフットボールクラブ | E12: vs | F12: ='１次リーグ（中津）'!$J$30 -> スマイス セレソン スポーツクラブ | G12: 4th：本部 | H12: A2：④帯同 | I12: ='１次リーグ（日田・玖珠）'!$B$30 -> カティオーラフットボールクラブＵ－１２ | J12: vs | K12: ='１次リーグ（日田・玖珠）'!$J$30 -> 大平山アソシエーション式フットボールクラブ | L12: 4th：本部 | M12: A2：④帯同 | N12: ='１次リーグ（宇佐高田）'!$B$30 -> アトレチコエラン横瀬 | O12: vs | P12: ='１次リーグ（宇佐高田）'!$J$30 -> ＦＣ ＪＵＮＩＯＲＳ | Q12: 4th：本部 | R12: A2：④帯同
A13: ④ | B13: 13:00～ | C13: 〃 | G13: R：本部 | H13: A1：③帯同 | L13: R：本部 | M13: A1：③帯同 | Q13: R：本部 | R13: A1：③帯同
D14: ='１次リーグ（中津）'!$N$30 -> 南大分サッカー少年団 | E14: vs | F14: ='１次リーグ（中津）'!$V$30 -> ＦＣ ＵＮＩＴＥ | G14: 4th：本部 | H14: A2：③帯同 | I14: ='１次リーグ（日田・玖珠）'!$N$30 -> 鶴崎ＳＳＳ | J14: vs | K14: ='１次リーグ（日田・玖珠）'!$V$30 -> 戸次吉野ＳＳＳ | L14: 4th：本部 | M14: A2：③帯同 | N14: ='１次リーグ（宇佐高田）'!$N$30 -> 明野東サッカースポーツ少年団 | O14: vs | P14: ='１次リーグ（宇佐高田）'!$V$30 -> 佐伯リベロフットボールクラブ | Q14: 4th：本部 | R14: A2：③帯同
A15: ⑤ | B15: 14:00～ | C15: 〃 | G15: R：本部 | H15: A1：⑥帯同 | L15: R：本部 | M15: A1：⑥帯同 | Q15: R：本部 | R15: A1：⑥帯同
D16: ='１次リーグ（中津）'!$B$48 -> スマイス セレソン スポーツクラブ | E16: vs | F16: ='１次リーグ（中津）'!$J$48 -> 鶴居ＳＳＳ | G16: 4th：本部 | H16: A2：⑥帯同 | I16: ='１次リーグ（日田・玖珠）'!$B$48 -> 大平山アソシエーション式フットボールクラブ | J16: vs | K16: ='１次リーグ（日田・玖珠）'!$J$48 -> ＦＣアリアーレ | L16: 4th：本部 | M16: A2：⑥帯同 | N16: ='１次リーグ（宇佐高田）'!$B$48 -> ＦＣ ＪＵＮＩＯＲＳ | O16: vs | P16: ='１次リーグ（宇佐高田）'!$J$48 -> ＦＣ ＷＡＹＳ | Q16: 4th：本部 | R16: A2：⑥帯同
A17: ⑥ | B17: 15:00～ | C17: 〃 | G17: R：本部 | H17: A1：⑤帯同 | L17: R：本部 | M17: A1：⑤帯同 | Q17: R：本部 | R17: A1：⑤帯同
D18: ='１次リーグ（中津）'!$N$48 -> ＦＣ ＵＮＩＴＥ | E18: vs | F18: ='１次リーグ（中津）'!$V$48 -> ティエラフットボールクラブＵ－１２ | G18: 4th：本部 | H18: A2：⑤帯同 | I18: ='１次リーグ（日田・玖珠）'!$N$48 -> 戸次吉野ＳＳＳ | J18: vs | K18: ='１次リーグ（日田・玖珠）'!$V$48 -> 玖珠サッカースポーツ少年団 | L18: 4th：本部 | M18: A2：⑤帯同 | N18: ='１次リーグ（宇佐高田）'!$N$48 -> 佐伯リベロフットボールクラブ | O18: vs | P18: ='１次リーグ（宇佐高田）'!$V$48 -> 四日市南ＳＳＣ | Q18: 4th：本部 | R18: A2：⑤帯同
C19: 片付け | D19: ⑥で試合をしたチームでフラッグ・本部・ゴール等を片付けます。
D21: 会場： | E21: =組み合わせ!D8 -> 別府 | F21: =VLOOKUP(E21,抽選会資料!$B$55:$F$63,2,FALSE) -> 実相寺サッカー競技場(人工芝) | I21: 会場： | J21: =組み合わせ!BF8 -> 速杵国東 | K21: =VLOOKUP(J21,抽選会資料!$B$55:$F$63,2,FALSE) -> フットボールセンター大分きつき(杵築市営サッカー場) | N21: 会場： | O21: =組み合わせ!DH8 -> 臼杵・津久見 | P21: =VLOOKUP(O21,抽選会資料!$B$55:$F$63,2,FALSE) -> 吉四六ランドレックス多目的広場 (吉四六ランド陸上競技場)
B22: 8:30～ | C22: 会場設営 | D22: 設営担当者or対応協会 | G22: 審判員 | I22: 設営担当者or対応協会 | L22: 審判員 | N22: 設営担当者or対応協会 | Q22: 審判員
A23: ① | B23: 10:00～ | C23: １次リーグ | G23: R：本部 | H23: A1：②帯同 | L23: R：本部 | M23: A1：②帯同 | Q23: R：本部 | R23: A1：②帯同
D24: ='１次リーグ（別府）'!$B$12 -> 別府フットボールクラブ．ミネルバＵ－１２ | E24: vs | F24: ='１次リーグ（別府）'!$J$12 -> カティオーラフットボールクラブＵ－１２ Ｎｅｘｔ | G24: 4th：本部 | H24: A2：②帯同 | I24: ='１次リーグ（速杵国東）'!$B$12 -> 日出サッカースポーツ少年団 | J24: vs | K24: ='１次リーグ（速杵国東）'!$J$12 -> 大分トリニータＵ－１２ | L24: 4th：本部 | M24: A2：②帯同 | N24: ='１次リーグ（臼杵・津久見）'!$B$12 -> 臼杵ＳＳＳ | O24: vs | P24: ='１次リーグ（臼杵・津久見）'!$J$12 -> ＦＣ ＲＥＧＡＴＥ | Q24: 4th：本部 | R24: A2：②帯同
A25: ② | B25: 11:00～ | C25: 〃 | G25: R：本部 | H25: A1：①帯同 | L25: R：本部 | M25: A1：①帯同 | Q25: R：本部 | R25: A1：①帯同
D26: ='１次リーグ（別府）'!$N$12 -> スマイス・セレソン | E26: vs | F26: ='１次リーグ（別府）'!$V$12 -> 明治北ＳＳＣ | G26: 4th：本部 | H26: A2：①帯同 | I26: ='１次リーグ（速杵国東）'!$N$12 -> ＯＫＹ山香サッカークラブ | J26: vs | K26: ='１次リーグ（速杵国東）'!$V$12 -> 滝尾下郡サッカースポーツ少年団 | L26: 4th：本部 | M26: A2：①帯同 | N26: ='１次リーグ（臼杵・津久見）'!$N$12 -> ＭＦＣ三花少年サッカー教室 | O26: vs | P26: ='１次リーグ（臼杵・津久見）'!$V$12 -> リノスフットボールクラブ Ｕ－１２ | Q26: 4th：本部 | R26: A2：①帯同
A27: ③ | B27: 12:00～ | C27: 〃 | G27: R：本部 | H27: A1：④帯同 | L27: R：本部 | M27: A1：④帯同 | Q27: R：本部 | R27: A1：④帯同
D28: ='１次リーグ（別府）'!$B$30 -> カティオーラフットボールクラブＵ－１２ Ｎｅｘｔ | E28: vs | F28: ='１次リーグ（別府）'!$J$30 -> 西の台ＪＦＣ | G28: 4th：本部 | H28: A2：④帯同 | I28: ='１次リーグ（速杵国東）'!$B$30 -> 大分トリニータＵ－１２ | J28: vs | K28: ='１次リーグ（速杵国東）'!$J$30 -> 弥生少年サッカークラブ | L28: 4th：本部 | M28: A2：④帯同 | N28: ='１次リーグ（臼杵・津久見）'!$B$30 -> ＦＣ ＲＥＧＡＴＥ | O28: vs | P28: ='１次リーグ（臼杵・津久見）'!$J$30 -> 竹田直入ＦＣ | Q28: 4th：本部 | R28: A2：④帯同
A29: ④ | B29: 13:00～ | C29: 〃 | G29: R：本部 | H29: A1：③帯同 | L29: R：本部 | M29: A1：③帯同 | Q29: R：本部 | R29: A1：③帯同
D30: ='１次リーグ（別府）'!$N$30 -> 明治北ＳＳＣ | E30: vs | F30: ='１次リーグ（別府）'!$V$30 -> 大分トリニータタートルズ | G30: 4th：本部 | H30: A2：③帯同 | I30: ='１次リーグ（速杵国東）'!$N$30 -> 滝尾下郡サッカースポーツ少年団 | J30: vs | K30: ='１次リーグ（速杵国東）'!$V$30 -> はやぶさフットボールクラブ | L30: 4th：本部 | M30: A2：③帯同 | N30: ='１次リーグ（臼杵・津久見）'!$N$30 -> リノスフットボールクラブ Ｕ－１２ | O30: vs | P30: ='１次リーグ（臼杵・津久見）'!$V$30 -> ＮＦＣ・ＯＩＴＡ Ｕ１２ | Q30: 4th：本部 | R30: A2：③帯同
A31: ⑤ | B31: 14:00～ | C31: 〃 | G31: R：本部 | H31: A1：⑥帯同 | L31: R：本部 | M31: A1：⑥帯同 | Q31: R：本部 | R31: A1：⑥帯同
D32: ='１次リーグ（別府）'!$B$48 -> 西の台ＪＦＣ | E32: vs | F32: ='１次リーグ（別府）'!$J$48 -> 別府フットボールクラブ．ミネルバＵ－１２ | G32: 4th：本部 | H32: A2：⑥帯同 | I32: ='１次リーグ（速杵国東）'!$B$48 -> 弥生少年サッカークラブ | J32: vs | K32: ='１次リーグ（速杵国東）'!$J$48 -> 日出サッカースポーツ少年団 | L32: 4th：本部 | M32: A2：⑥帯同 | N32: ='１次リーグ（臼杵・津久見）'!$B$48 -> 竹田直入ＦＣ | O32: vs | P32: ='１次リーグ（臼杵・津久見）'!$J$48 -> 臼杵ＳＳＳ | Q32: 4th：本部 | R32: A2：⑥帯同
A33: ⑥ | B33: 15:00～ | C33: 〃 | G33: R：本部 | H33: A1：⑤帯同 | L33: R：本部 | M33: A1：⑤帯同 | Q33: R：本部 | R33: A1：⑤帯同
D34: ='１次リーグ（別府）'!$N$48 -> 大分トリニータタートルズ | E34: vs | F34: ='１次リーグ（別府）'!$V$48 -> スマイス・セレソン | G34: 4th：本部 | H34: A2：⑤帯同 | I34: ='１次リーグ（速杵国東）'!$N$48 -> はやぶさフットボールクラブ | J34: vs | K34: ='１次リーグ（速杵国東）'!$V$48 -> ＯＫＹ山香サッカークラブ | L34: 4th：本部 | M34: A2：⑤帯同 | N34: ='１次リーグ（臼杵・津久見）'!$N$48 -> ＮＦＣ・ＯＩＴＡ Ｕ１２ | O34: vs | P34: ='１次リーグ（臼杵・津久見）'!$V$48 -> ＭＦＣ三花少年サッカー教室 | Q34: 4th：本部 | R34: A2：⑤帯同
C35: 片付け | D35: ⑥で試合をしたチームでフラッグ・本部・ゴール等を片付けます。
B38: （１）期日 | C38: =組み合わせ!BU3 -> 46054
B39: （２）日程 | C39: 各会場にて、各パートの第1試合開始70分前に、各パートのマッチコーディネーションミーティング(MCM)を、3チーム同時に行います。
D40: 会場： | E40: =組み合わせ!D6 -> 豊肥 | F40: =VLOOKUP(E40,抽選会資料!$B$55:$F$63,2,FALSE) -> 恵藤建設サン・スポーツランド(サン・スポーツランドみえ) | I40: 会場： | J40: =組み合わせ!BF6 -> 佐伯 | K40: =VLOOKUP(J40,抽選会資料!$B$55:$F$63,2,FALSE) -> 佐伯市総合運動公園人工芝グラウンド
B41: 8:30～ | C41: 会場設営 | D41: 設営担当者or対応協会 | G41: 審判員 | I41: 設営担当者or対応協会 | L41: 審判員
A42: ① | B42: 10:00～ | C42: ２次リーグ | G42: R：本部 | H42: A1：②帯同 | L42: R：本部 | M42: A1：②帯同
D43: ='２次リーグ（豊肥）'!$B$12 -> ドリームキッズフットボールクラブ | E43: vs | F43: ='２次リーグ（豊肥）'!$J$12 -> 臼杵ＳＳＳ | G43: 4th：本部 | H43: A2：②帯同 | I43: ='２次リーグ（佐伯）'!$B$12 -> 弥生少年サッカークラブ | J43: vs | K43: ='２次リーグ（佐伯）'!$J$12 -> アトレチコエラン横瀬 | L43: 4th：本部 | M43: A2：②帯同
A44: ② | B44: 11:00～ | C44: 〃 | G44: R：本部 | H44: A1：①帯同 | L44: R：本部 | M44: A1：①帯同
D45: ='２次リーグ（豊肥）'!$N$12 -> ティエラフットボールクラブＵ－１２ | E45: vs | F45: ='２次リーグ（豊肥）'!$V$12 -> 大分トリニータタートルズ | G45: 4th：本部 | H45: A2：①帯同 | I45: ='２次リーグ（佐伯）'!$N$12 -> 滝尾下郡サッカースポーツ少年団 | J45: vs | K45: ='２次リーグ（佐伯）'!$V$12 -> 戸次吉野ＳＳＳ | L45: 4th：本部 | M45: A2：①帯同
A46: ③ | B46: 12:00～ | C46: 〃 | G46: R：本部 | H46: A1：④帯同 | L46: R：本部 | M46: A1：④帯同
D47: ='２次リーグ（豊肥）'!$B$30 -> 臼杵ＳＳＳ | E47: vs | F47: ='２次リーグ（豊肥）'!$J$30 -> 別府フットボールクラブ．ミネルバＵ－１２ | G47: 4th：本部 | H47: A2：④帯同 | I47: ='２次リーグ（佐伯）'!$B$30 -> アトレチコエラン横瀬 | J47: vs | K47: ='２次リーグ（佐伯）'!$J$30 -> カティオーラフットボールクラブＵ－１２ | L47: 4th：本部 | M47: A2：④帯同
A48: ④ | B48: 13:00～ | C48: 〃 | G48: R：本部 | H48: A1：③帯同 | L48: R：本部 | M48: A1：③帯同
D49: ='２次リーグ（豊肥）'!$N$30 -> 大分トリニータタートルズ | E49: vs | F49: ='２次リーグ（豊肥）'!$V$30 -> リノスフットボールクラブ Ｕ－１２ | G49: 4th：本部 | H49: A2：③帯同 | I49: ='２次リーグ（佐伯）'!$N$30 -> 戸次吉野ＳＳＳ | J49: vs | K49: ='２次リーグ（佐伯）'!$V$30 -> 四日市南ＳＳＣ | L49: 4th：本部 | M49: A2：③帯同
A50: ⑤ | B50: 14:00～ | C50: 〃 | G50: R：本部 | H50: A1：⑥帯同 | L50: R：本部 | M50: A1：⑥帯同
D51: ='２次リーグ（豊肥）'!$B$48 -> 別府フットボールクラブ．ミネルバＵ－１２ | E51: vs | F51: ='２次リーグ（豊肥）'!$J$48 -> ドリームキッズフットボールクラブ | G51: 4th：本部 | H51: A2：⑥帯同 | I51: ='２次リーグ（佐伯）'!$B$48 -> カティオーラフットボールクラブＵ－１２ | J51: vs | K51: ='２次リーグ（佐伯）'!$J$48 -> 弥生少年サッカークラブ | L51: 4th：本部 | M51: A2：⑥帯同
A52: ⑥ | B52: 15:00～ | C52: 〃 | G52: R：本部 | H52: A1：⑤帯同 | L52: R：本部 | M52: A1：⑤帯同
D53: ='２次リーグ（豊肥）'!$N$48 -> リノスフットボールクラブ Ｕ－１２ | E53: vs | F53: ='２次リーグ（豊肥）'!$V$48 -> ティエラフットボールクラブＵ－１２ | G53: 4th：本部 | H53: A2：⑤帯同 | I53: ='２次リーグ（佐伯）'!$N$48 -> 四日市南ＳＳＣ | J53: vs | K53: ='２次リーグ（佐伯）'!$V$48 -> 滝尾下郡サッカースポーツ少年団 | L53: 4th：本部 | M53: A2：⑤帯同
C54: 片付け | D54: ⑥で試合をしたチームでフラッグ・本部・ゴール等を片付けます。
B57: （１）期日 | C57: =組み合わせ!CI3 -> 46061
B58: （２）日程
D59: 会場： | E59: =組み合わせ!D5 -> 県人工芝 | F59: =VLOOKUP(E59,抽選会資料!$B$55:$F$63,2,FALSE) -> 大分県サッカー協会人工芝グラウンド
B60: 8:00～ | C60: 会場設営 | D60: 大会役員でしますが、ゴール移動など加勢をチーム関係者にもお願いします。
A61: ① | B61: 10:50～ | C61: MCM | D61: 準決勝①【Match No,49】マッチコーディネーションミーティング
B62: 10:50～ | C62: MCM | D62: 準決勝②【Match No,50】マッチコーディネーションミーティング
B63: 12:30～ | C63: 準決勝 ① | D63: 【Match No,49】 | L63: 主審 | M63: 審判委員会
E64: =組み合わせ!V30 -> （ 大分 市） | G64: =組み合わせ!D5 -> 県人工芝 | J64: =組み合わせ!BF30 -> （ 大分 市） | L64: 副審 | M64: 審判委員会
D65: =組み合わせ!$L$27 -> ドリームキッズフットボールクラブ | G65: vs | I65: =組み合わせ!$AV$27 -> カティオーラフットボールクラブＵ－１２ | L65: 副審 | M65: 審判委員会
L66: 4審 | M66: 審判委員会
B67: 12:30～ | C67: 準決勝 ② | D67: 【Match No,50】 | L67: 主審 | M67: 審判委員会
E68: =組み合わせ!CP30 -> （ 中津 市） | G68: =組み合わせ!D5 -> 県人工芝 | J68: =組み合わせ!DZ30 -> （ 宇佐 市） | L68: 副審 | M68: 審判委員会
D69: =組み合わせ!CF27 -> ティエラフットボールクラブＵ－１２ | G69: vs | I69: =組み合わせ!DP27 -> 四日市南ＳＳＣ | L69: 副審 | M69: 審判委員会
L70: 4審 | M70: 審判委員会
A71: ② | B71: 13:40～ | C71: MCM | D71: 決勝【Match No,51】マッチコーディネーションミーティング
B72: 14:10～ | C72: 決勝 | D72: 【Match No,51】 | L72: 主審 | M72: 審判委員会
E73: =組み合わせ!AN21 -> （ 大分 市） | G73: =組み合わせ!BP15 -> 県人工芝 | J73: =組み合わせ!DH21 -> （ 宇佐 市） | L73: 副審 | M73: 審判委員会
D74: =組み合わせ!X18 -> ドリームキッズフットボールクラブ | G74: vs | I74: =組み合わせ!CR18 -> 四日市南ＳＳＣ | L74: 副審 | M74: 審判委員会
L75: 4審 | M75: 審判委員会
B76: 15:00～ | C76: 表彰 | D76: 優勝・準優勝・第３位チーム・優秀選手の表彰をします。
A79: 《問い合わせ》委員長 仲野 携帯 ０９０－８６６１−３５６０
A80: ※指導者以外の問い合わせは、ご遠慮願います。

Sheet 累積警告・退場
A1: × | C1: =抽選会資料!A1 -> OFA 第 57 回大分県U-12サッカー大会 兼 KYFA 九州U-12サッカー大会大分県大会 | AH1: 警告/退場 | AJ1: ＜警告選択肢＞
AH2: 警告 | AJ2: 反スポ | AL2: 反スポ
D3: 地区大会 | H3: 1次ﾘｰｸﾞ① | L3: 1次ﾘｰｸﾞ② | P3: 2次ﾘｰｸﾞ① | T3: 2次ﾘｰｸﾞ② | X3: 準決勝 | AB3: 決勝 | AH3: 退場 | AJ3: ラフ | AL3: ラフ
A4: 敗戦 | B4: 地区 | C4: チーム名 | D4: 背番号 | E4: 氏名 | F4: 警告/退場 | G4: 内容 | H4: 背番号 | I4: 氏名 | J4: 警告/退場 | K4: 内容 | L4: 背番号 | M4: 氏名 | N4: 警告/退場 | O4: 内容 | P4: 背番号 | Q4: 氏名 | R4: 警告/退場 | S4: 内容 | T4: 背番号 | U4: 氏名 | V4: 警告/退場 | W4: 内容 | X4: 背番号 | Y4: 氏名 | Z4: 警告/退場 | AA4: 内容 | AB4: 背番号 | AC4: 氏名 | AD4: 警告/退場 | AE4: 内容 | AH4: 警告(累積2枚目次節出場停止） | AJ4: 異議 | AL4: 異議
B5: 中津 | C5: =抽選会資料!J11 -> ティエラフットボールクラブＵ－１２ | E5: =IF(D5="","",VLOOKUP(CONCATENATE($C5,"_",D5),選手名簿!$A:$H,5,FALSE)) | I5: =IF(H5="","",VLOOKUP(CONCATENATE($C5,"_",H5),選手名簿!$A:$H,5,FALSE)) | M5: =IF(L5="","",VLOOKUP(CONCATENATE($C5,"_",L5),選手名簿!$A:$H,5,FALSE)) | Q5: =IF(P5="","",VLOOKUP(CONCATENATE($C5,"_",P5),選手名簿!$A:$H,5,FALSE)) | U5: =IF(T5="","",VLOOKUP(CONCATENATE($C5,"_",T5),選手名簿!$A:$H,5,FALSE)) | Y5: =IF(X5="","",VLOOKUP(CONCATENATE($C5,"_",X5),選手名簿!$A:$H,5,FALSE)) | AC5: =IF(AB5="","",VLOOKUP(CONCATENATE($C5,"_",AB5),選手名簿!$A:$H,5,FALSE)) | AJ5: 繰り返し | AL5: 繰り返し
C6: =抽選会資料!J12 -> 鶴居ＳＳＳ | E6: =IF(D6="","",VLOOKUP(CONCATENATE($C6,"_",D6),選手名簿!$A:$H,5,FALSE)) | I6: =IF(H6="","",VLOOKUP(CONCATENATE($C6,"_",H6),選手名簿!$A:$H,5,FALSE)) | M6: =IF(L6="","",VLOOKUP(CONCATENATE($C6,"_",L6),選手名簿!$A:$H,5,FALSE)) | Q6: =IF(P6="","",VLOOKUP(CONCATENATE($C6,"_",P6),選手名簿!$A:$H,5,FALSE)) | U6: =IF(T6="","",VLOOKUP(CONCATENATE($C6,"_",T6),選手名簿!$A:$H,5,FALSE)) | Y6: =IF(X6="","",VLOOKUP(CONCATENATE($C6,"_",X6),選手名簿!$A:$H,5,FALSE)) | AC6: =IF(AB6="","",VLOOKUP(CONCATENATE($C6,"_",AB6),選手名簿!$A:$H,5,FALSE)) | AJ6: 遅延 | AL6: 遅延
C7: =抽選会資料!J13 -> ＦＣ ＪＵＮＩＯＲＳ | E7: =IF(D7="","",VLOOKUP(CONCATENATE($C7,"_",D7),選手名簿!$A:$H,5,FALSE)) | H7: コーチ | I7: 弓場 幸誠 | J7: 警告 | K7: 異議 | M7: =IF(L7="","",VLOOKUP(CONCATENATE($C7,"_",L7),選手名簿!$A:$H,5,FALSE)) | Q7: =IF(P7="","",VLOOKUP(CONCATENATE($C7,"_",P7),選手名簿!$A:$H,5,FALSE)) | U7: =IF(T7="","",VLOOKUP(CONCATENATE($C7,"_",T7),選手名簿!$A:$H,5,FALSE)) | Y7: =IF(X7="","",VLOOKUP(CONCATENATE($C7,"_",X7),選手名簿!$A:$H,5,FALSE)) | AC7: =IF(AB7="","",VLOOKUP(CONCATENATE($C7,"_",AB7),選手名簿!$A:$H,5,FALSE)) | AJ7: 距離 | AL7: 距離
H8: 5 | I8: =IF(H8="","",VLOOKUP(CONCATENATE($C7,"_",H8),選手名簿!$A:$H,5,FALSE)) -> 熊谷 琉星 | J8: 警告 | K8: 反スポ
C9: =抽選会資料!J14 -> はやぶさフットボールクラブ | E9: =IF(D9="","",VLOOKUP(CONCATENATE($C9,"_",D9),選手名簿!$A:$H,5,FALSE)) | I9: =IF(H9="","",VLOOKUP(CONCATENATE($C9,"_",H9),選手名簿!$A:$H,5,FALSE)) | M9: =IF(L9="","",VLOOKUP(CONCATENATE($C9,"_",L9),選手名簿!$A:$H,5,FALSE)) | Q9: =IF(P9="","",VLOOKUP(CONCATENATE($C9,"_",P9),選手名簿!$A:$H,5,FALSE)) | U9: =IF(T9="","",VLOOKUP(CONCATENATE($C9,"_",T9),選手名簿!$A:$H,5,FALSE)) | Y9: =IF(X9="","",VLOOKUP(CONCATENATE($C9,"_",X9),選手名簿!$A:$H,5,FALSE)) | AC9: =IF(AB9="","",VLOOKUP(CONCATENATE($C9,"_",AB9),選手名簿!$A:$H,5,FALSE)) | AJ9: 無断入 | AL9: 無断入
B10: 日田・玖珠 | C10: =抽選会資料!J15 -> ＦＣアリアーレ | E10: =IF(D10="","",VLOOKUP(CONCATENATE($C10,"_",D10),選手名簿!$A:$H,5,FALSE)) | H10: 9 | I10: =IF(H10="","",VLOOKUP(CONCATENATE($C10,"_",H10),選手名簿!$A:$H,5,FALSE)) -> トーマス ヘイデン | J10: 警告 | K10: ラフ | M10: =IF(L10="","",VLOOKUP(CONCATENATE($C10,"_",L10),選手名簿!$A:$H,5,FALSE)) | Q10: =IF(P10="","",VLOOKUP(CONCATENATE($C10,"_",P10),選手名簿!$A:$H,5,FALSE)) | U10: =IF(T10="","",VLOOKUP(CONCATENATE($C10,"_",T10),選手名簿!$A:$H,5,FALSE)) | Y10: =IF(X10="","",VLOOKUP(CONCATENATE($C10,"_",X10),選手名簿!$A:$H,5,FALSE)) | AC10: =IF(AB10="","",VLOOKUP(CONCATENATE($C10,"_",AB10),選手名簿!$A:$H,5,FALSE)) | AJ10: 無断去 | AL10: 無断去
C11: =抽選会資料!J16 -> 玖珠サッカースポーツ少年団 | E11: =IF(D11="","",VLOOKUP(CONCATENATE($C11,"_",D11),選手名簿!$A:$H,5,FALSE)) | I11: =IF(H11="","",VLOOKUP(CONCATENATE($C11,"_",H11),選手名簿!$A:$H,5,FALSE)) | M11: =IF(L11="","",VLOOKUP(CONCATENATE($C11,"_",L11),選手名簿!$A:$H,5,FALSE)) | Q11: =IF(P11="","",VLOOKUP(CONCATENATE($C11,"_",P11),選手名簿!$A:$H,5,FALSE)) | U11: =IF(T11="","",VLOOKUP(CONCATENATE($C11,"_",T11),選手名簿!$A:$H,5,FALSE)) | Y11: =IF(X11="","",VLOOKUP(CONCATENATE($C11,"_",X11),選手名簿!$A:$H,5,FALSE)) | AC11: =IF(AB11="","",VLOOKUP(CONCATENATE($C11,"_",AB11),選手名簿!$A:$H,5,FALSE)) | AJ11: ＜退場選択肢＞
C12: =抽選会資料!J17 -> ＭＦＣ三花少年サッカー教室 | E12: =IF(D12="","",VLOOKUP(CONCATENATE($C12,"_",D12),選手名簿!$A:$H,5,FALSE)) | I12: =IF(H12="","",VLOOKUP(CONCATENATE($C12,"_",H12),選手名簿!$A:$H,5,FALSE)) | M12: =IF(L12="","",VLOOKUP(CONCATENATE($C12,"_",L12),選手名簿!$A:$H,5,FALSE)) | Q12: =IF(P12="","",VLOOKUP(CONCATENATE($C12,"_",P12),選手名簿!$A:$H,5,FALSE)) | U12: =IF(T12="","",VLOOKUP(CONCATENATE($C12,"_",T12),選手名簿!$A:$H,5,FALSE)) | Y12: =IF(X12="","",VLOOKUP(CONCATENATE($C12,"_",X12),選手名簿!$A:$H,5,FALSE)) | AC12: =IF(AB12="","",VLOOKUP(CONCATENATE($C12,"_",AB12),選手名簿!$A:$H,5,FALSE)) | AJ12: 不正
B13: 宇佐高田 | C13: =抽選会資料!J18 -> 四日市南ＳＳＣ | E13: =IF(D13="","",VLOOKUP(CONCATENATE($C13,"_",D13),選手名簿!$A:$H,5,FALSE)) | I13: =IF(H13="","",VLOOKUP(CONCATENATE($C13,"_",H13),選手名簿!$A:$H,5,FALSE)) | M13: =IF(L13="","",VLOOKUP(CONCATENATE($C13,"_",L13),選手名簿!$A:$H,5,FALSE)) | Q13: =IF(P13="","",VLOOKUP(CONCATENATE($C13,"_",P13),選手名簿!$A:$H,5,FALSE)) | U13: =IF(T13="","",VLOOKUP(CONCATENATE($C13,"_",T13),選手名簿!$A:$H,5,FALSE)) | Y13: =IF(X13="","",VLOOKUP(CONCATENATE($C13,"_",X13),選手名簿!$A:$H,5,FALSE)) | AC13: =IF(AB13="","",VLOOKUP(CONCATENATE($C13,"_",AB13),選手名簿!$A:$H,5,FALSE)) | AJ13: 乱暴
C14: =抽選会資料!J19 -> ＦＣ ＷＡＹＳ | E14: =IF(D14="","",VLOOKUP(CONCATENATE($C14,"_",D14),選手名簿!$A:$H,5,FALSE)) | I14: =IF(H14="","",VLOOKUP(CONCATENATE($C14,"_",H14),選手名簿!$A:$H,5,FALSE)) | M14: =IF(L14="","",VLOOKUP(CONCATENATE($C14,"_",L14),選手名簿!$A:$H,5,FALSE)) | Q14: =IF(P14="","",VLOOKUP(CONCATENATE($C14,"_",P14),選手名簿!$A:$H,5,FALSE)) | U14: =IF(T14="","",VLOOKUP(CONCATENATE($C14,"_",T14),選手名簿!$A:$H,5,FALSE)) | Y14: =IF(X14="","",VLOOKUP(CONCATENATE($C14,"_",X14),選手名簿!$A:$H,5,FALSE)) | AC14: =IF(AB14="","",VLOOKUP(CONCATENATE($C14,"_",AB14),選手名簿!$A:$H,5,FALSE)) | AJ14: つば
C15: =抽選会資料!J20 -> ＦＣ ＵＮＩＴＥ | E15: =IF(D15="","",VLOOKUP(CONCATENATE($C15,"_",D15),選手名簿!$A:$H,5,FALSE)) | I15: =IF(H15="","",VLOOKUP(CONCATENATE($C15,"_",H15),選手名簿!$A:$H,5,FALSE)) | M15: =IF(L15="","",VLOOKUP(CONCATENATE($C15,"_",L15),選手名簿!$A:$H,5,FALSE)) | Q15: =IF(P15="","",VLOOKUP(CONCATENATE($C15,"_",P15),選手名簿!$A:$H,5,FALSE)) | U15: =IF(T15="","",VLOOKUP(CONCATENATE($C15,"_",T15),選手名簿!$A:$H,5,FALSE)) | Y15: =IF(X15="","",VLOOKUP(CONCATENATE($C15,"_",X15),選手名簿!$A:$H,5,FALSE)) | AC15: =IF(AB15="","",VLOOKUP(CONCATENATE($C15,"_",AB15),選手名簿!$A:$H,5,FALSE)) | AJ15: 阻止(手)
B16: 別府 | C16: =抽選会資料!J21 -> 別府フットボールクラブ．ミネルバＵ－１２ | E16: =IF(D16="","",VLOOKUP(CONCATENATE($C16,"_",D16),選手名簿!$A:$H,5,FALSE)) | I16: =IF(H16="","",VLOOKUP(CONCATENATE($C16,"_",H16),選手名簿!$A:$H,5,FALSE)) | M16: =IF(L16="","",VLOOKUP(CONCATENATE($C16,"_",L16),選手名簿!$A:$H,5,FALSE)) | Q16: =IF(P16="","",VLOOKUP(CONCATENATE($C16,"_",P16),選手名簿!$A:$H,5,FALSE)) | U16: =IF(T16="","",VLOOKUP(CONCATENATE($C16,"_",T16),選手名簿!$A:$H,5,FALSE)) | Y16: =IF(X16="","",VLOOKUP(CONCATENATE($C16,"_",X16),選手名簿!$A:$H,5,FALSE)) | AC16: =IF(AB16="","",VLOOKUP(CONCATENATE($C16,"_",AB16),選手名簿!$A:$H,5,FALSE)) | AJ16: 阻止(他)
C17: =抽選会資料!J22 -> スマイス・セレソン | E17: =IF(D17="","",VLOOKUP(CONCATENATE($C17,"_",D17),選手名簿!$A:$H,5,FALSE)) | I17: =IF(H17="","",VLOOKUP(CONCATENATE($C17,"_",H17),選手名簿!$A:$H,5,FALSE)) | M17: =IF(L17="","",VLOOKUP(CONCATENATE($C17,"_",L17),選手名簿!$A:$H,5,FALSE)) | Q17: =IF(P17="","",VLOOKUP(CONCATENATE($C17,"_",P17),選手名簿!$A:$H,5,FALSE)) | U17: =IF(T17="","",VLOOKUP(CONCATENATE($C17,"_",T17),選手名簿!$A:$H,5,FALSE)) | Y17: =IF(X17="","",VLOOKUP(CONCATENATE($C17,"_",X17),選手名簿!$A:$H,5,FALSE)) | AC17: =IF(AB17="","",VLOOKUP(CONCATENATE($C17,"_",AB17),選手名簿!$A:$H,5,FALSE)) | AJ17: 暴言
C18: =抽選会資料!J23 -> 大平山アソシエーション式フットボールクラブ | E18: =IF(D18="","",VLOOKUP(CONCATENATE($C18,"_",D18),選手名簿!$A:$H,5,FALSE)) | I18: =IF(H18="","",VLOOKUP(CONCATENATE($C18,"_",H18),選手名簿!$A:$H,5,FALSE)) | M18: =IF(L18="","",VLOOKUP(CONCATENATE($C18,"_",L18),選手名簿!$A:$H,5,FALSE)) | Q18: =IF(P18="","",VLOOKUP(CONCATENATE($C18,"_",P18),選手名簿!$A:$H,5,FALSE)) | U18: =IF(T18="","",VLOOKUP(CONCATENATE($C18,"_",T18),選手名簿!$A:$H,5,FALSE)) | Y18: =IF(X18="","",VLOOKUP(CONCATENATE($C18,"_",X18),選手名簿!$A:$H,5,FALSE)) | AC18: =IF(AB18="","",VLOOKUP(CONCATENATE($C18,"_",AB18),選手名簿!$A:$H,5,FALSE)) | AJ18: 警告2
B19: 佐伯 | C19: =抽選会資料!J24 -> 弥生少年サッカークラブ | E19: =IF(D19="","",VLOOKUP(CONCATENATE($C19,"_",D19),選手名簿!$A:$H,5,FALSE)) | I19: =IF(H19="","",VLOOKUP(CONCATENATE($C19,"_",H19),選手名簿!$A:$H,5,FALSE)) | M19: =IF(L19="","",VLOOKUP(CONCATENATE($C19,"_",L19),選手名簿!$A:$H,5,FALSE)) | P19: 1 | Q19: =IF(P19="","",VLOOKUP(CONCATENATE($C19,"_",P19),選手名簿!$A:$H,5,FALSE)) -> 狩生 健太 | R19: 警告 | S19: ラフ | U19: =IF(T19="","",VLOOKUP(CONCATENATE($C19,"_",T19),選手名簿!$A:$H,5,FALSE)) | Y19: =IF(X19="","",VLOOKUP(CONCATENATE($C19,"_",X19),選手名簿!$A:$H,5,FALSE)) | AC19: =IF(AB19="","",VLOOKUP(CONCATENATE($C19,"_",AB19),選手名簿!$A:$H,5,FALSE))
C20: =抽選会資料!J25 -> 佐伯リベロフットボールクラブ | E20: =IF(D20="","",VLOOKUP(CONCATENATE($C20,"_",D20),選手名簿!$A:$H,5,FALSE)) | I20: =IF(H20="","",VLOOKUP(CONCATENATE($C20,"_",H20),選手名簿!$A:$H,5,FALSE)) | M20: =IF(L20="","",VLOOKUP(CONCATENATE($C20,"_",L20),選手名簿!$A:$H,5,FALSE)) | Q20: =IF(P20="","",VLOOKUP(CONCATENATE($C20,"_",P20),選手名簿!$A:$H,5,FALSE)) | U20: =IF(T20="","",VLOOKUP(CONCATENATE($C20,"_",T20),選手名簿!$A:$H,5,FALSE)) | Y20: =IF(X20="","",VLOOKUP(CONCATENATE($C20,"_",X20),選手名簿!$A:$H,5,FALSE)) | AC20: =IF(AB20="","",VLOOKUP(CONCATENATE($C20,"_",AB20),選手名簿!$A:$H,5,FALSE))
B21: 速杵国東 | C21: =抽選会資料!J26 -> ＯＫＹ山香サッカークラブ | E21: =IF(D21="","",VLOOKUP(CONCATENATE($C21,"_",D21),選手名簿!$A:$H,5,FALSE)) | I21: =IF(H21="","",VLOOKUP(CONCATENATE($C21,"_",H21),選手名簿!$A:$H,5,FALSE)) | M21: =IF(L21="","",VLOOKUP(CONCATENATE($C21,"_",L21),選手名簿!$A:$H,5,FALSE)) | Q21: =IF(P21="","",VLOOKUP(CONCATENATE($C21,"_",P21),選手名簿!$A:$H,5,FALSE)) | U21: =IF(T21="","",VLOOKUP(CONCATENATE($C21,"_",T21),選手名簿!$A:$H,5,FALSE)) | Y21: =IF(X21="","",VLOOKUP(CONCATENATE($C21,"_",X21),選手名簿!$A:$H,5,FALSE)) | AC21: =IF(AB21="","",VLOOKUP(CONCATENATE($C21,"_",AB21),選手名簿!$A:$H,5,FALSE))
C22: =抽選会資料!J27 -> 日出サッカースポーツ少年団 | D22: 3 | E22: =IF(D22="","",VLOOKUP(CONCATENATE($C22,"_",D22),選手名簿!$A:$H,5,FALSE)) -> 伊藤 美結 | F22: 警告 | G22: ラフ | I22: =IF(H22="","",VLOOKUP(CONCATENATE($C22,"_",H22),選手名簿!$A:$H,5,FALSE)) | M22: =IF(L22="","",VLOOKUP(CONCATENATE($C22,"_",L22),選手名簿!$A:$H,5,FALSE)) | Q22: =IF(P22="","",VLOOKUP(CONCATENATE($C22,"_",P22),選手名簿!$A:$H,5,FALSE)) | U22: =IF(T22="","",VLOOKUP(CONCATENATE($C22,"_",T22),選手名簿!$A:$H,5,FALSE)) | Y22: =IF(X22="","",VLOOKUP(CONCATENATE($C22,"_",X22),選手名簿!$A:$H,5,FALSE)) | AC22: =IF(AB22="","",VLOOKUP(CONCATENATE($C22,"_",AB22),選手名簿!$A:$H,5,FALSE))
B23: 臼杵・津久見 | C23: =抽選会資料!J28 -> 臼杵ＳＳＳ | E23: =IF(D23="","",VLOOKUP(CONCATENATE($C23,"_",D23),選手名簿!$A:$H,5,FALSE)) | I23: =IF(H23="","",VLOOKUP(CONCATENATE($C23,"_",H23),選手名簿!$A:$H,5,FALSE)) | M23: =IF(L23="","",VLOOKUP(CONCATENATE($C23,"_",L23),選手名簿!$A:$H,5,FALSE)) | Q23: =IF(P23="","",VLOOKUP(CONCATENATE($C23,"_",P23),選手名簿!$A:$H,5,FALSE)) | U23: =IF(T23="","",VLOOKUP(CONCATENATE($C23,"_",T23),選手名簿!$A:$H,5,FALSE)) | Y23: =IF(X23="","",VLOOKUP(CONCATENATE($C23,"_",X23),選手名簿!$A:$H,5,FALSE)) | AC23: =IF(AB23="","",VLOOKUP(CONCATENATE($C23,"_",AB23),選手名簿!$A:$H,5,FALSE))
B24: 豊肥 | C24: =抽選会資料!J29 -> 竹田直入ＦＣ | E24: =IF(D24="","",VLOOKUP(CONCATENATE($C24,"_",D24),選手名簿!$A:$H,5,FALSE)) | I24: =IF(H24="","",VLOOKUP(CONCATENATE($C24,"_",H24),選手名簿!$A:$H,5,FALSE)) | M24: =IF(L24="","",VLOOKUP(CONCATENATE($C24,"_",L24),選手名簿!$A:$H,5,FALSE)) | Q24: =IF(P24="","",VLOOKUP(CONCATENATE($C24,"_",P24),選手名簿!$A:$H,5,FALSE)) | U24: =IF(T24="","",VLOOKUP(CONCATENATE($C24,"_",T24),選手名簿!$A:$H,5,FALSE)) | Y24: =IF(X24="","",VLOOKUP(CONCATENATE($C24,"_",X24),選手名簿!$A:$H,5,FALSE)) | AC24: =IF(AB24="","",VLOOKUP(CONCATENATE($C24,"_",AB24),選手名簿!$A:$H,5,FALSE))
B25: 大分 | C25: =抽選会資料!C11 -> カティオーラフットボールクラブＵ－１２ | E25: =IF(D25="","",VLOOKUP(CONCATENATE($C25,"_",D25),選手名簿!$A:$H,5,FALSE)) | I25: =IF(H25="","",VLOOKUP(CONCATENATE($C25,"_",H25),選手名簿!$A:$H,5,FALSE)) | M25: =IF(L25="","",VLOOKUP(CONCATENATE($C25,"_",L25),選手名簿!$A:$H,5,FALSE)) | Q25: =IF(P25="","",VLOOKUP(CONCATENATE($C25,"_",P25),選手名簿!$A:$H,5,FALSE)) | U25: =IF(T25="","",VLOOKUP(CONCATENATE($C25,"_",T25),選手名簿!$A:$H,5,FALSE)) | Y25: =IF(X25="","",VLOOKUP(CONCATENATE($C25,"_",X25),選手名簿!$A:$H,5,FALSE)) | AC25: =IF(AB25="","",VLOOKUP(CONCATENATE($C25,"_",AB25),選手名簿!$A:$H,5,FALSE))
C26: =抽選会資料!C12 -> ドリームキッズフットボールクラブ | E26: =IF(D26="","",VLOOKUP(CONCATENATE($C26,"_",D26),選手名簿!$A:$H,5,FALSE)) | I26: =IF(H26="","",VLOOKUP(CONCATENATE($C26,"_",H26),選手名簿!$A:$H,5,FALSE)) | M26: =IF(L26="","",VLOOKUP(CONCATENATE($C26,"_",L26),選手名簿!$A:$H,5,FALSE)) | Q26: =IF(P26="","",VLOOKUP(CONCATENATE($C26,"_",P26),選手名簿!$A:$H,5,FALSE)) | U26: =IF(T26="","",VLOOKUP(CONCATENATE($C26,"_",T26),選手名簿!$A:$H,5,FALSE)) | Y26: =IF(X26="","",VLOOKUP(CONCATENATE($C26,"_",X26),選手名簿!$A:$H,5,FALSE)) | AB26: 11 | AC26: =IF(AB26="","",VLOOKUP(CONCATENATE($C26,"_",AB26),選手名簿!$A:$H,5,FALSE)) -> 上田 大耀 | AD26: 警告 | AE26: 遅延
C27: =抽選会資料!C13 -> リノスフットボールクラブ Ｕ－１２ | E27: =IF(D27="","",VLOOKUP(CONCATENATE($C27,"_",D27),選手名簿!$A:$H,5,FALSE)) | I27: =IF(H27="","",VLOOKUP(CONCATENATE($C27,"_",H27),選手名簿!$A:$H,5,FALSE)) | M27: =IF(L27="","",VLOOKUP(CONCATENATE($C27,"_",L27),選手名簿!$A:$H,5,FALSE)) | P27: 22 | Q27: =IF(P27="","",VLOOKUP(CONCATENATE($C27,"_",P27),選手名簿!$A:$H,5,FALSE)) -> 菅 泰輔 | R27: 警告 | S27: ラフ | U27: =IF(T27="","",VLOOKUP(CONCATENATE($C27,"_",T27),選手名簿!$A:$H,5,FALSE)) | Y27: =IF(X27="","",VLOOKUP(CONCATENATE($C27,"_",X27),選手名簿!$A:$H,5,FALSE)) | AC27: =IF(AB27="","",VLOOKUP(CONCATENATE($C27,"_",AB27),選手名簿!$A:$H,5,FALSE))
C28: =抽選会資料!C14 -> 鶴崎ＳＳＳ | E28: =IF(D28="","",VLOOKUP(CONCATENATE($C28,"_",D28),選手名簿!$A:$H,5,FALSE)) | I28: =IF(H28="","",VLOOKUP(CONCATENATE($C28,"_",H28),選手名簿!$A:$H,5,FALSE)) | M28: =IF(L28="","",VLOOKUP(CONCATENATE($C28,"_",L28),選手名簿!$A:$H,5,FALSE)) | Q28: =IF(P28="","",VLOOKUP(CONCATENATE($C28,"_",P28),選手名簿!$A:$H,5,FALSE)) | U28: =IF(T28="","",VLOOKUP(CONCATENATE($C28,"_",T28),選手名簿!$A:$H,5,FALSE)) | Y28: =IF(X28="","",VLOOKUP(CONCATENATE($C28,"_",X28),選手名簿!$A:$H,5,FALSE)) | AC28: =IF(AB28="","",VLOOKUP(CONCATENATE($C28,"_",AB28),選手名簿!$A:$H,5,FALSE))
C29: =抽選会資料!C15 -> カティオーラフットボールクラブＵ－１２ Ｎｅｘｔ | E29: =IF(D29="","",VLOOKUP(CONCATENATE($C29,"_",D29),選手名簿!$A:$H,5,FALSE)) | H29: 8 | I29: =IF(H29="","",VLOOKUP(CONCATENATE($C29,"_",H29),選手名簿!$A:$H,5,FALSE)) -> 江藤 浩介 | J29: 警告 | K29: 反スポ | M29: =IF(L29="","",VLOOKUP(CONCATENATE($C29,"_",L29),選手名簿!$A:$H,5,FALSE)) | Q29: =IF(P29="","",VLOOKUP(CONCATENATE($C29,"_",P29),選手名簿!$A:$H,5,FALSE)) | U29: =IF(T29="","",VLOOKUP(CONCATENATE($C29,"_",T29),選手名簿!$A:$H,5,FALSE)) | Y29: =IF(X29="","",VLOOKUP(CONCATENATE($C29,"_",X29),選手名簿!$A:$H,5,FALSE)) | AC29: =IF(AB29="","",VLOOKUP(CONCATENATE($C29,"_",AB29),選手名簿!$A:$H,5,FALSE))
C30: =抽選会資料!C16 -> 明治北ＳＳＣ | E30: =IF(D30="","",VLOOKUP(CONCATENATE($C30,"_",D30),選手名簿!$A:$H,5,FALSE)) | I30: =IF(H30="","",VLOOKUP(CONCATENATE($C30,"_",H30),選手名簿!$A:$H,5,FALSE)) | M30: =IF(L30="","",VLOOKUP(CONCATENATE($C30,"_",L30),選手名簿!$A:$H,5,FALSE)) | Q30: =IF(P30="","",VLOOKUP(CONCATENATE($C30,"_",P30),選手名簿!$A:$H,5,FALSE)) | U30: =IF(T30="","",VLOOKUP(CONCATENATE($C30,"_",T30),選手名簿!$A:$H,5,FALSE)) | Y30: =IF(X30="","",VLOOKUP(CONCATENATE($C30,"_",X30),選手名簿!$A:$H,5,FALSE)) | AC30: =IF(AB30="","",VLOOKUP(CONCATENATE($C30,"_",AB30),選手名簿!$A:$H,5,FALSE))
C31: =抽選会資料!C17 -> 滝尾下郡サッカースポーツ少年団 | E31: =IF(D31="","",VLOOKUP(CONCATENATE($C31,"_",D31),選手名簿!$A:$H,5,FALSE)) | I31: =IF(H31="","",VLOOKUP(CONCATENATE($C31,"_",H31),選手名簿!$A:$H,5,FALSE)) | M31: =IF(L31="","",VLOOKUP(CONCATENATE($C31,"_",L31),選手名簿!$A:$H,5,FALSE)) | Q31: =IF(P31="","",VLOOKUP(CONCATENATE($C31,"_",P31),選手名簿!$A:$H,5,FALSE)) | U31: =IF(T31="","",VLOOKUP(CONCATENATE($C31,"_",T31),選手名簿!$A:$H,5,FALSE)) | Y31: =IF(X31="","",VLOOKUP(CONCATENATE($C31,"_",X31),選手名簿!$A:$H,5,FALSE)) | AC31: =IF(AB31="","",VLOOKUP(CONCATENATE($C31,"_",AB31),選手名簿!$A:$H,5,FALSE))
C32: =抽選会資料!C18 -> 戸次吉野ＳＳＳ | E32: =IF(D32="","",VLOOKUP(CONCATENATE($C32,"_",D32),選手名簿!$A:$H,5,FALSE)) | I32: =IF(H32="","",VLOOKUP(CONCATENATE($C32,"_",H32),選手名簿!$A:$H,5,FALSE)) | M32: =IF(L32="","",VLOOKUP(CONCATENATE($C32,"_",L32),選手名簿!$A:$H,5,FALSE)) | Q32: =IF(P32="","",VLOOKUP(CONCATENATE($C32,"_",P32),選手名簿!$A:$H,5,FALSE)) | U32: =IF(T32="","",VLOOKUP(CONCATENATE($C32,"_",T32),選手名簿!$A:$H,5,FALSE)) | Y32: =IF(X32="","",VLOOKUP(CONCATENATE($C32,"_",X32),選手名簿!$A:$H,5,FALSE)) | AC32: =IF(AB32="","",VLOOKUP(CONCATENATE($C32,"_",AB32),選手名簿!$A:$H,5,FALSE))
C33: =抽選会資料!C19 -> 大分トリニータＵ－１２ | E33: =IF(D33="","",VLOOKUP(CONCATENATE($C33,"_",D33),選手名簿!$A:$H,5,FALSE)) | I33: =IF(H33="","",VLOOKUP(CONCATENATE($C33,"_",H33),選手名簿!$A:$H,5,FALSE)) | M33: =IF(L33="","",VLOOKUP(CONCATENATE($C33,"_",L33),選手名簿!$A:$H,5,FALSE)) | Q33: =IF(P33="","",VLOOKUP(CONCATENATE($C33,"_",P33),選手名簿!$A:$H,5,FALSE)) | U33: =IF(T33="","",VLOOKUP(CONCATENATE($C33,"_",T33),選手名簿!$A:$H,5,FALSE)) | Y33: =IF(X33="","",VLOOKUP(CONCATENATE($C33,"_",X33),選手名簿!$A:$H,5,FALSE)) | AC33: =IF(AB33="","",VLOOKUP(CONCATENATE($C33,"_",AB33),選手名簿!$A:$H,5,FALSE))
C34: =抽選会資料!C20 -> ＦＣ ＲＥＧＡＴＥ | E34: =IF(D34="","",VLOOKUP(CONCATENATE($C34,"_",D34),選手名簿!$A:$H,5,FALSE)) | I34: =IF(H34="","",VLOOKUP(CONCATENATE($C34,"_",H34),選手名簿!$A:$H,5,FALSE)) | M34: =IF(L34="","",VLOOKUP(CONCATENATE($C34,"_",L34),選手名簿!$A:$H,5,FALSE)) | Q34: =IF(P34="","",VLOOKUP(CONCATENATE($C34,"_",P34),選手名簿!$A:$H,5,FALSE)) | U34: =IF(T34="","",VLOOKUP(CONCATENATE($C34,"_",T34),選手名簿!$A:$H,5,FALSE)) | Y34: =IF(X34="","",VLOOKUP(CONCATENATE($C34,"_",X34),選手名簿!$A:$H,5,FALSE)) | AC34: =IF(AB34="","",VLOOKUP(CONCATENATE($C34,"_",AB34),選手名簿!$A:$H,5,FALSE))
C35: =抽選会資料!C21 -> スマイス セレソン スポーツクラブ | E35: =IF(D35="","",VLOOKUP(CONCATENATE($C35,"_",D35),選手名簿!$A:$H,5,FALSE)) | I35: =IF(H35="","",VLOOKUP(CONCATENATE($C35,"_",H35),選手名簿!$A:$H,5,FALSE)) | M35: =IF(L35="","",VLOOKUP(CONCATENATE($C35,"_",L35),選手名簿!$A:$H,5,FALSE)) | Q35: =IF(P35="","",VLOOKUP(CONCATENATE($C35,"_",P35),選手名簿!$A:$H,5,FALSE)) | U35: =IF(T35="","",VLOOKUP(CONCATENATE($C35,"_",T35),選手名簿!$A:$H,5,FALSE)) | Y35: =IF(X35="","",VLOOKUP(CONCATENATE($C35,"_",X35),選手名簿!$A:$H,5,FALSE)) | AC35: =IF(AB35="","",VLOOKUP(CONCATENATE($C35,"_",AB35),選手名簿!$A:$H,5,FALSE))
C36: =抽選会資料!C22 -> 明野東サッカースポーツ少年団 | E36: =IF(D36="","",VLOOKUP(CONCATENATE($C36,"_",D36),選手名簿!$A:$H,5,FALSE)) | I36: =IF(H36="","",VLOOKUP(CONCATENATE($C36,"_",H36),選手名簿!$A:$H,5,FALSE)) | L36: 13 | M36: =IF(L36="","",VLOOKUP(CONCATENATE($C36,"_",L36),選手名簿!$A:$H,5,FALSE)) -> 御幡 悠希 | N36: 警告 | O36: 反スポ | Q36: =IF(P36="","",VLOOKUP(CONCATENATE($C36,"_",P36),選手名簿!$A:$H,5,FALSE)) | U36: =IF(T36="","",VLOOKUP(CONCATENATE($C36,"_",T36),選手名簿!$A:$H,5,FALSE)) | Y36: =IF(X36="","",VLOOKUP(CONCATENATE($C36,"_",X36),選手名簿!$A:$H,5,FALSE)) | AC36: =IF(AB36="","",VLOOKUP(CONCATENATE($C36,"_",AB36),選手名簿!$A:$H,5,FALSE))
C37: =抽選会資料!C23 -> 南大分サッカー少年団 | E37: =IF(D37="","",VLOOKUP(CONCATENATE($C37,"_",D37),選手名簿!$A:$H,5,FALSE)) | I37: =IF(H37="","",VLOOKUP(CONCATENATE($C37,"_",H37),選手名簿!$A:$H,5,FALSE)) | M37: =IF(L37="","",VLOOKUP(CONCATENATE($C37,"_",L37),選手名簿!$A:$H,5,FALSE)) | Q37: =IF(P37="","",VLOOKUP(CONCATENATE($C37,"_",P37),選手名簿!$A:$H,5,FALSE)) | U37: =IF(T37="","",VLOOKUP(CONCATENATE($C37,"_",T37),選手名簿!$A:$H,5,FALSE)) | Y37: =IF(X37="","",VLOOKUP(CONCATENATE($C37,"_",X37),選手名簿!$A:$H,5,FALSE)) | AC37: =IF(AB37="","",VLOOKUP(CONCATENATE($C37,"_",AB37),選手名簿!$A:$H,5,FALSE))
C38: =抽選会資料!C24 -> 西の台ＪＦＣ | E38: =IF(D38="","",VLOOKUP(CONCATENATE($C38,"_",D38),選手名簿!$A:$H,5,FALSE)) | I38: =IF(H38="","",VLOOKUP(CONCATENATE($C38,"_",H38),選手名簿!$A:$H,5,FALSE)) | M38: =IF(L38="","",VLOOKUP(CONCATENATE($C38,"_",L38),選手名簿!$A:$H,5,FALSE)) | Q38: =IF(P38="","",VLOOKUP(CONCATENATE($C38,"_",P38),選手名簿!$A:$H,5,FALSE)) | U38: =IF(T38="","",VLOOKUP(CONCATENATE($C38,"_",T38),選手名簿!$A:$H,5,FALSE)) | Y38: =IF(X38="","",VLOOKUP(CONCATENATE($C38,"_",X38),選手名簿!$A:$H,5,FALSE)) | AC38: =IF(AB38="","",VLOOKUP(CONCATENATE($C38,"_",AB38),選手名簿!$A:$H,5,FALSE))
C39: =抽選会資料!C25 -> アトレチコエラン横瀬 | E39: =IF(D39="","",VLOOKUP(CONCATENATE($C39,"_",D39),選手名簿!$A:$H,5,FALSE)) | I39: =IF(H39="","",VLOOKUP(CONCATENATE($C39,"_",H39),選手名簿!$A:$H,5,FALSE)) | M39: =IF(L39="","",VLOOKUP(CONCATENATE($C39,"_",L39),選手名簿!$A:$H,5,FALSE)) | P39: 9 | Q39: =IF(P39="","",VLOOKUP(CONCATENATE($C39,"_",P39),選手名簿!$A:$H,5,FALSE)) -> 丸田 恵也 | R39: 警告 | S39: ラフ | U39: =IF(T39="","",VLOOKUP(CONCATENATE($C39,"_",T39),選手名簿!$A:$H,5,FALSE)) | Y39: =IF(X39="","",VLOOKUP(CONCATENATE($C39,"_",X39),選手名簿!$A:$H,5,FALSE)) | AC39: =IF(AB39="","",VLOOKUP(CONCATENATE($C39,"_",AB39),選手名簿!$A:$H,5,FALSE))
C40: =抽選会資料!C26 -> 大分トリニータタートルズ | E40: =IF(D40="","",VLOOKUP(CONCATENATE($C40,"_",D40),選手名簿!$A:$H,5,FALSE)) | I40: =IF(H40="","",VLOOKUP(CONCATENATE($C40,"_",H40),選手名簿!$A:$H,5,FALSE)) | M40: =IF(L40="","",VLOOKUP(CONCATENATE($C40,"_",L40),選手名簿!$A:$H,5,FALSE)) | Q40: =IF(P40="","",VLOOKUP(CONCATENATE($C40,"_",P40),選手名簿!$A:$H,5,FALSE)) | U40: =IF(T40="","",VLOOKUP(CONCATENATE($C40,"_",T40),選手名簿!$A:$H,5,FALSE)) | Y40: =IF(X40="","",VLOOKUP(CONCATENATE($C40,"_",X40),選手名簿!$A:$H,5,FALSE)) | AC40: =IF(AB40="","",VLOOKUP(CONCATENATE($C40,"_",AB40),選手名簿!$A:$H,5,FALSE))
C41: =抽選会資料!C27 -> ＮＦＣ・ＯＩＴＡ Ｕ１２ | E41: =IF(D41="","",VLOOKUP(CONCATENATE($C41,"_",D41),選手名簿!$A:$H,5,FALSE)) | I41: =IF(H41="","",VLOOKUP(CONCATENATE($C41,"_",H41),選手名簿!$A:$H,5,FALSE)) | M41: =IF(L41="","",VLOOKUP(CONCATENATE($C41,"_",L41),選手名簿!$A:$H,5,FALSE)) | Q41: =IF(P41="","",VLOOKUP(CONCATENATE($C41,"_",P41),選手名簿!$A:$H,5,FALSE)) | U41: =IF(T41="","",VLOOKUP(CONCATENATE($C41,"_",T41),選手名簿!$A:$H,5,FALSE)) | Y41: =IF(X41="","",VLOOKUP(CONCATENATE($C41,"_",X41),選手名簿!$A:$H,5,FALSE)) | AC41: =IF(AB41="","",VLOOKUP(CONCATENATE($C41,"_",AB41),選手名簿!$A:$H,5,FALSE))

Sheet 2025年度優秀選手
A1: （一社）大分県サッカー協会 第4種委員会 | P1: 登録状況（20260110）
A2: 2025年度 優秀選手名簿 | H2: 女子
A4: № | B4: 地区 | C4: 選手氏名 | D4: ふりがな | E4: 所属チーム | F4: 表彰式 参加 | H4: № | I4: 地区 | J4: 選手氏名 | K4: ふりがな | L4: 所属チーム | M4: 表彰式 参加 | O4: ふりがな比較 | P4: 選手＿氏名 | Q4: 選手＿フリガナ | R4: チーム名＿漢字 | S4: 2025登録状態 | T4: 生年月日 | U4: 学年 | V4: 男女区分 | W4: ふりがな比較 | X4: 選手＿氏名 | Y4: 選手＿フリガナ | Z4: チーム名＿漢字 | AA4: 2025登録状態 | AB4: 生年月日 | AC4: 学年 | AD4: 男女区分
A5: 1 | B5: 大分 | C5: 阿部 結太朗 | D5: あべ ゆいたろう | E5: 鶴崎ＳＳＳ | H5: 1 | I5: 大分 | J5: 木元 星杏 | K5: きもと せあん | L5: カティオーラフットボールクラブＵ－１２ | O5: =IF(D5=Q5,"","X") | P5: {=_xlfn.XLOOKUP(C5,'2025年度登録選手'!$D:$D,'2025年度登録選手'!$D:$J,"×")} -> 阿部 結太朗 | Q5: あべ ゆいたろう | R5: 鶴崎ＳＳＳ | S5: 登録済 | T5: 2013/05/23 | U5: 6 | V5: 男子 | W5: =IF(K5=Y5,"","X") | X5: {=_xlfn.XLOOKUP(J5,'2025年度登録選手'!$D:$D,'2025年度登録選手'!$D:$J,"×")} -> 木元 星杏 | Y5: きもと せあん | Z5: カティオーラフットボールクラブＵ－１２ | AA5: 登録済 | AB5: 2013/06/10 | AC5: 6 | AD5: 女子小学生
A6: 2 | B6: 大分 | C6: 二ノ宮 颯太 | D6: にのみや そうた | E6: 南大分サッカー少年団 | H6: 2 | I6: 大分 | J6: 首藤 真乃愛 | K6: しゅとう まのあ | L6: 横瀬西ＦＣ．ＲｏｓａＣｌａｒｏ | O6: =IF(D6=Q6,"","X") | P6: {=_xlfn.XLOOKUP(C6,'2025年度登録選手'!$D:$D,'2025年度登録選手'!$D:$J,"×")} -> 二ノ宮 颯太 | Q6: にのみや そうた | R6: 南大分サッカー少年団 | S6: 登録済 | T6: 2013/09/30 | U6: 6 | V6: 男子 | W6: =IF(K6=Y6,"","X") | X6: {=_xlfn.XLOOKUP(J6,'2025年度登録選手'!$D:$D,'2025年度登録選手'!$D:$J,"×")} -> 首藤 真乃愛 | Y6: しゅとう まのあ | Z6: 横瀬西ＦＣ．ＲｏｓａＣｌａｒｏ | AA6: 登録済 | AB6: 2013/05/08 | AC6: 6 | AD6: 女子小学生
A7: 3 | B7: 大分 | C7: 小野 豹雅 | D7: おの ひょうが | E7: 南大分サッカー少年団 | H7: 3 | I7: 大分 | J7: 松岡 陽奈 | K7: まつおか ひな | L7: カティオーラフットボールクラブＵ－１２ | O7: =IF(D7=Q7,"","X") | P7: {=_xlfn.XLOOKUP(C7,'2025年度登録選手'!$D:$D,'2025年度登録選手'!$D:$J,"×")} -> 小野 豹雅 | Q7: おの ひょうが | R7: 南大分サッカー少年団 | S7: 登録済 | T7: 2013/04/30 | U7: 6 | V7: 男子 | W7: =IF(K7=Y7,"","X") | X7: {=_xlfn.XLOOKUP(J7,'2025年度登録選手'!$D:$D,'2025年度登録選手'!$D:$J,"×")} -> 松岡 陽奈 | Y7: まつおか ひな | Z7: カティオーラフットボールクラブＵ－１２ | AA7: 登録済 | AB7: 2013/07/08 | AC7: 6 | AD7: 女子小学生
A8: 4 | B8: 大分 | C8: 上野 蒼祐 | D8: うえの そうすけ | E8: ドリームキッズフットボールクラブ | H8: 4 | I8: 中津 | J8: 岩尾 奈瑞菜 | K8: いわお なずな | L8: 下毛ＦＣ | O8: =IF(D8=Q8,"","X") | P8: {=_xlfn.XLOOKUP(C8,'2025年度登録選手'!$D:$D,'2025年度登録選手'!$D:$J,"×")} -> 上野 蒼祐 | Q8: うえの そうすけ | R8: ドリームキッズフットボールクラブ | S8: 登録済 | T8: 2013/09/08 | U8: 6 | V8: 男子 | W8: =IF(K8=Y8,"","X") | X8: {=_xlfn.XLOOKUP(J8,'2025年度登録選手'!$D:$D,'2025年度登録選手'!$D:$J,"×")} -> 岩尾 奈瑞菜 | Y8: いわお なずな | Z8: 下毛ＦＣ | AA8: 登録済 | AB8: 2014/02/24 | AC8: 6 | AD8: 女子小学生
A9: 5 | B9: 大分 | C9: 菅 泰輔 | D9: かん たいすけ | E9: リノスフットボールクラブ Ｕ－１２ | H9: 5 | I9: 日田・玖珠 | J9: 吉武 紅美 | K9: よしたけ こうみ | L9: 玖珠サッカースポーツ少年団 | O9: =IF(D9=Q9,"","X") | P9: {=_xlfn.XLOOKUP(C9,'2025年度登録選手'!$D:$D,'2025年度登録選手'!$D:$J,"×")} -> 菅 泰輔 | Q9: かん たいすけ | R9: リノスフットボールクラブ Ｕ－１２ | S9: 登録済 | T9: 2013/06/12 | U9: 6 | V9: 男子 | W9: =IF(K9=Y9,"","X") | X9: {=_xlfn.XLOOKUP(J9,'2025年度登録選手'!$D:$D,'2025年度登録選手'!$D:$J,"×")} -> 吉武 紅美 | Y9: よしたけ こうみ | Z9: 玖珠サッカースポーツ少年団 | AA9: 登録済 | AB9: 2013/09/20 | AC9: 6 | AD9: 女子小学生
A10: 6 | B10: 大分 | C10: 末永 葵空 | D10: すえなが あおと | E10: カティオーラフットボールクラブＵ－１２ | H10: 6 | I10: 宇佐高田 | J10: 高橋 なな子 | K10: たかはし ななこ | L10: 四日市北ＪＦＣ | O10: =IF(D10=Q10,"","X") | P10: {=_xlfn.XLOOKUP(C10,'2025年度登録選手'!$D:$D,'2025年度登録選手'!$D:$J,"×")} -> 末永 葵空 | Q10: すえなが あおと | R10: カティオーラフットボールクラブＵ－１２ | S10: 登録済 | T10: 2013/08/29 | U10: 6 | V10: 男子 | W10: =IF(K10=Y10,"","X") | X10: {=_xlfn.XLOOKUP(J10,'2025年度登録選手'!$D:$D,'2025年度登録選手'!$D:$J,"×")} -> 高橋 なな子 | Y10: たかはし ななこ | Z10: 四日市北ＪＦＣ | AA10: 登録済 | AB10: 2013/07/02 | AC10: 6 | AD10: 女子小学生
A11: 7 | B11: 大分 | C11: 吉田 晴馬 | D11: よしだ はるま | E11: 大分トリニータＵ－１２ | H11: 7 | I11: 速杵国東 | J11: 幸長 梨央 | K11: ゆきなが りお | L11: ようこくバンビーレＦＣ | O11: =IF(D11=Q11,"","X") | P11: {=_xlfn.XLOOKUP(C11,'2025年度登録選手'!$D:$D,'2025年度登録選手'!$D:$J,"×")} -> 吉田 晴馬 | Q11: よしだ はるま | R11: 大分トリニータＵ－１２ | S11: 登録済 | T11: 2013/06/17 | U11: 6 | V11: 男子 | W11: =IF(K11=Y11,"","X") | X11: {=_xlfn.XLOOKUP(J11,'2025年度登録選手'!$D:$D,'2025年度登録選手'!$D:$J,"×")} -> 幸長 梨央 | Y11: ゆきなが りお | Z11: ようこくバンビーレＦＣ | AA11: 登録済 | AB11: 2013/10/04 | AC11: 6 | AD11: 女子小学生
A12: 8 | B12: 大分 | C12: 喜多 陽喜 | D12: きた はるき | E12: 大分トリニータＵ－１２ | H12: 8 | I12: 別府 | J12: 中原 一華 | K12: なかはら いちか | L12: 大平山アソシエーション式フットボールクラブ | O12: =IF(D12=Q12,"","X") | P12: {=_xlfn.XLOOKUP(C12,'2025年度登録選手'!$D:$D,'2025年度登録選手'!$D:$J,"×")} -> 喜多 陽喜 | Q12: きた はるき | R12: 大分トリニータＵ－１２ | S12: 登録済 | T12: 2013/04/02 | U12: 6 | V12: 男子 | W12: =IF(K12=Y12,"","X") | X12: {=_xlfn.XLOOKUP(J12,'2025年度登録選手'!$D:$D,'2025年度登録選手'!$D:$J,"×")} -> 中原 一華 | Y12: なかはら いちか | Z12: 大平山アソシエーション式フットボールクラブ | AA12: 登録済 | AB12: 2013/07/22 | AC12: 6 | AD12: 女子小学生
A13: 9 | B13: 大分 | C13: 田邉 結大 | D13: たなべ ゆうだい | E13: 大分トリニータＵ－１２ | H13: 9 | I13: 豊肥 | J13: 土屋 澄怜 | K13: つちや すみれ | L13: 竹田直入ＦＣ | O13: =IF(D13=Q13,"","X") | P13: {=_xlfn.XLOOKUP(C13,'2025年度登録選手'!$D:$D,'2025年度登録選手'!$D:$J,"×")} -> 田邉 結大 | Q13: たなべ ゆうだい | R13: 大分トリニータＵ－１２ | S13: 登録済 | T13: 2014/03/14 | U13: 6 | V13: 男子 | W13: =IF(K13=Y13,"","X") | X13: {=_xlfn.XLOOKUP(J13,'2025年度登録選手'!$D:$D,'2025年度登録選手'!$D:$J,"×")} -> 土屋 澄怜 | Y13: つちや すみれ | Z13: 竹田直入ＦＣ | AA13: 登録済 | AB13: 2013/08/30 | AC13: 6 | AD13: 女子小学生
A14: 10 | B14: 大分 | C14: 藤内 心勇 | D14: とうない しゅう | E14: 大分トリニータＵ－１２ | H14: 10 | I14: 臼杵・津久見 | J14: 山田 花凛 | K14: やまだ かりん | L14: 千怒サッカースポーツ少年団 | O14: =IF(D14=Q14,"","X") | P14: {=_xlfn.XLOOKUP(C14,'2025年度登録選手'!$D:$D,'2025年度登録選手'!$D:$J,"×")} -> 藤内 心勇 | Q14: とうない しゅう | R14: 大分トリニータＵ－１２ | S14: 登録済 | T14: 2013/07/30 | U14: 6 | V14: 男子 | W14: =IF(K14=Y14,"","X") | X14: {=_xlfn.XLOOKUP(J14,'2025年度登録選手'!$D:$D,'2025年度登録選手'!$D:$J,"×")} -> 山田 花凛 | Y14: やまだ かりん | Z14: 千怒サッカースポーツ少年団 | AA14: 登録済 | AB14: 2013/08/30 | AC14: 6 | AD14: 女子小学生
A15: 11 | B15: 中津 | C15: 宇土 碧波 | D15: うと あおば | E15: ティエラフットボールクラブＵ－１２ | H15: 11 | I15: 佐伯 | J15: 上野 杏莉 | K15: うえの あんり | L15: 佐伯リベロフットボールクラブ | O15: =IF(D15=Q15,"","X") | P15: {=_xlfn.XLOOKUP(C15,'2025年度登録選手'!$D:$D,'2025年度登録選手'!$D:$J,"×")} -> 宇土 碧波 | Q15: うと あおば | R15: ティエラフットボールクラブＵ－１２ | S15: 登録済 | T15: 2013/07/11 | U15: 6 | V15: 男子 | W15: =IF(K15=Y15,"","X") | X15: {=_xlfn.XLOOKUP(J15,'2025年度登録選手'!$D:$D,'2025年度登録選手'!$D:$J,"×")} -> 上野 杏莉 | Y15: うえの あんり | Z15: 佐伯リベロフットボールクラブ | AA15: 登録済 | AB15: 2013/09/25 | AC15: 6 | AD15: 女子小学生
A16: 12 | B16: 中津 | C16: 沖本 将吾 | D16: おきもと しょうご | E16: ティエラフットボールクラブＵ－１２ | O16: =IF(D16=Q16,"","X") | P16: {=_xlfn.XLOOKUP(C16,'2025年度登録選手'!$D:$D,'2025年度登録選手'!$D:$J,"×")} -> 沖本 将吾 | Q16: おきもと しょうご | R16: ティエラフットボールクラブＵ－１２ | S16: 登録済 | T16: 2013/12/17 | U16: 6 | V16: 男子
A17: 13 | B17: 宇佐高田 | C17: 中島 叶太 | D17: なかしま かなた | E17: 四日市南ＳＳＣ | O17: =IF(D17=Q17,"","X") | P17: {=_xlfn.XLOOKUP(C17,'2025年度登録選手'!$D:$D,'2025年度登録選手'!$D:$J,"×")} -> 中島 叶太 | Q17: なかしま かなた | R17: 四日市南ＳＳＣ | S17: 登録済 | T17: 2013/04/26 | U17: 6 | V17: 男子
A18: 14 | B18: 宇佐高田 | C18: 竹島 琉生 | D18: たけしま るい | E18: 四日市北ＪＦＣ | O18: =IF(D18=Q18,"","X") | P18: {=_xlfn.XLOOKUP(C18,'2025年度登録選手'!$D:$D,'2025年度登録選手'!$D:$J,"×")} -> 竹島 琉生 | Q18: たけしま るい | R18: 四日市北ＪＦＣ | S18: 登録済 | T18: 2013/06/27 | U18: 6 | V18: 男子
A19: 15 | B19: 日田・玖珠 | C19: 衛藤 新 | D19: えとう しん | E19: 玖珠サッカースポーツ少年団 | O19: =IF(D19=Q19,"","X") | P19: {=_xlfn.XLOOKUP(C19,'2025年度登録選手'!$D:$D,'2025年度登録選手'!$D:$J,"×")} -> 衛藤 新 | Q19: えとう しん | R19: 玖珠サッカースポーツ少年団 | S19: 登録済 | T19: 2013/09/10 | U19: 6 | V19: 男子
A20: 16 | B20: 日田・玖珠 | C20: 小野 紘弥 | D20: おの ひろや | E20: ＭＦＣ三花少年サッカー教室 | O20: =IF(D20=Q20,"","X") | P20: {=_xlfn.XLOOKUP(C20,'2025年度登録選手'!$D:$D,'2025年度登録選手'!$D:$J,"×")} -> 小野 紘弥 | Q20: おの ひろや | R20: ＭＦＣ三花少年サッカー教室 | S20: 登録済 | T20: 2013/10/07 | U20: 6 | V20: 男子
A21: 17 | B21: 速杵国東 | C21: 青野 良誠 | D21: あおの りょうせい | E21: 八坂少年サッカークラブ | O21: =IF(D21=Q21,"","X") | P21: {=_xlfn.XLOOKUP(C21,'2025年度登録選手'!$D:$D,'2025年度登録選手'!$D:$J,"×")} -> 青野 良誠 | Q21: あおの りょうせい | R21: 八坂少年サッカークラブ | S21: 登録済 | T21: 2013/09/25 | U21: 6 | V21: 男子
A22: 18 | B22: 速杵国東 | C22: 山崎 翔 | D22: やまさき そら | E22: ＯＫＹ山香サッカークラブ | O22: =IF(D22=Q22,"","X") | P22: {=_xlfn.XLOOKUP(C22,'2025年度登録選手'!$D:$D,'2025年度登録選手'!$D:$J,"×")} -> 山崎 翔 | Q22: やまさき そら | R22: ＯＫＹ山香サッカークラブ | S22: 登録済 | T22: 2013/09/19 | U22: 6 | V22: 男子
A23: 19 | B23: 別府 | C23: 青山 拓馬 | D23: あおやま たくま | E23: スマイス・セレソン | O23: =IF(D23=Q23,"","X") | P23: {=_xlfn.XLOOKUP(C23,'2025年度登録選手'!$D:$D,'2025年度登録選手'!$D:$J,"×")} -> 青山 拓馬 | Q23: あおやま たくま | R23: スマイス・セレソン | S23: 登録済 | T23: 2013/09/02 | U23: 6 | V23: 男子
A24: 20 | B24: 別府 | C24: 中島 汰宥 | D24: なかしま たいすけ | E24: スマイス・セレソン | O24: =IF(D24=Q24,"","X") | P24: {=_xlfn.XLOOKUP(C24,'2025年度登録選手'!$D:$D,'2025年度登録選手'!$D:$J,"×")} -> 中島 汰宥 | Q24: なかしま たいすけ | R24: スマイス・セレソン | S24: 登録済 | T24: 2013/08/10 | U24: 6 | V24: 男子
A25: 21 | B25: 豊肥 | C25: 森 煌太郎 | D25: もり こうたろう | E25: 竹田直入ＦＣ | O25: =IF(D25=Q25,"","X") | P25: {=_xlfn.XLOOKUP(C25,'2025年度登録選手'!$D:$D,'2025年度登録選手'!$D:$J,"×")} -> 森 煌太郎 | Q25: もり こうたろう | R25: 竹田直入ＦＣ | S25: 登録済 | T25: 2013/06/27 | U25: 6 | V25: 男子
A26: 22 | B26: 臼杵・津久見 | C26: 伊東 武流 | D26: いとう たける | E26: 臼杵ＳＳＳ | O26: =IF(D26=Q26,"","X") | P26: {=_xlfn.XLOOKUP(C26,'2025年度登録選手'!$D:$D,'2025年度登録選手'!$D:$J,"×")} -> 伊東 武流 | Q26: いとう たける | R26: 臼杵ＳＳＳ | S26: 登録済 | T26: 2013/06/17 | U26: 6 | V26: 男子
A27: 23 | B27: 佐伯 | C27: 清家 世良 | D27: せいけ せら | E27: 弥生少年サッカークラブ | O27: =IF(D27=Q27,"","X") | P27: {=_xlfn.XLOOKUP(C27,'2025年度登録選手'!$D:$D,'2025年度登録選手'!$D:$J,"×")} -> 清家 世良 | Q27: せいけ せら | R27: 弥生少年サッカークラブ | S27: 登録済 | T27: 2013/10/29 | U27: 6 | V27: 男子

Sheet 決勝【Match No,51】
A1: 公式記録 | G1: Match No： | K1: 51
A2: 大 | C2: OFA 第 57 回大分県少年サッカー大会 兼 KYFA 九州U-12サッカー大会大分県大会 | O2: 第 | P2: 3 | R2: 日 | AB2: 競技 | AC2: 30分 | AE2: 記
A3: 会 | O3: 1回戦 | Q3: 2回戦 | S3: 46061 | AB3: 時間 | AE3: 録 | AF3: 田尻 貴志
A4: 名 | O4: 準決勝 | Q4: 決勝 | S4: 試合開始 14時10分～ | AB4: 延長 | AE4: 者 | AF4: 甲斐 直樹
A5: 会 | C5: 大分県サッカー協会 人工芝グラウンド | J5: 天 | K5: 晴 | L5: 風 | N5: 強 | O5: 弱 | P5: 無 | Q5: 芝 | R5: 状 | S5: 良好 | U5: 審 | V5: 主審 | AA5: 副審 | AF5: 第4の審判員
K6: 曇 | L6: 気温 | N6: 5.8 | P6: ℃ | S6: 不良 | V6: 黒田 大貴 | AA6: 佐藤 慎二 | AF6: 嶋田 尚祐
A7: 場 | J7: 候 | K7: 雨 | L7: 湿度 | N7: 26 | P7: ％ | Q7: 土 | R7: 態 | S7: 泥沼 | U7: 判 | AA7: 寺次 良生
A8: 【チーム名】 | P8: 6 | Q8: 5 | R8: 前半 | T8: 0 | U8: 0 | V8: 【チーム名】
B9: ドリームキッズフットボールクラブ | L9: （ 大分 市） | Q9: 1 | R9: 後半 | T9: 0 | W9: 四日市南ＳＳＣ | AG9: （ 宇佐 市）
M10: kick off | R10: 延前 | V10: kick off
L11: 背番号 | N11: PK | R11: 延後 | V11: PK | X11: 背番号
L12: ○ | M12: × | N12: 先 | O12: 後 | R12: ＰＫ戦 | V12: 先 | W12: 後 | X12: ○ | Y12: ×
C13: シュート（得点者は○印） | K13: 学 | Q13: 背 | T13: 背 | Z13: 学 | AA13: シュート（得点者は○印）
A14: 合 | C14: 延 | E14: 延 | G14: 後 | I14: 前 | M14: 選 | N14: 手 | O14: 名 | Q14: 番 | R14: 位置 | T14: 番 | V14: 選 | W14: 手 | X14: 名 | AA14: 前 | AC14: 後 | AE14: 延 | AG14: 延 | AI14: 合
A15: 計 | C15: 後 | E15: 前 | G15: 半 | I15: 半 | K15: 年 | Q15: 号 | T15: 号 | Z15: 年 | AA15: 半 | AC15: 半 | AE15: 前 | AG15: 後 | AI15: 計
B16: 0 | K16: 5 | L16: 首藤 琥珀 | Q16: 1 | R16: GK | S16: GK | T16: 1 | U16: 荒川 煌大 | Z16: 6 | AJ16: 0
B17: 1 | I17: ① | J17: 1 | K17: 6 | L17: 高峯 咲太郎 | Q17: 3 | R17: DF | S17: DF | T17: 4 | U17: 公原 義翔 | Z17: 5 | AJ17: 0
B18: 2 | H18: 1 | J18: 1 | K18: 6 | L18: 島田 唯歩 | Q18: 5 | R18: DF | S18: DF | T18: 10 | U18: 中島 叶太 | Z18: 6 | AJ18: 0
B19: 1 | J19: 1 | K19: 6 | L19: 菊川 晄 | Q19: 7 | R19: DF | S19: DF | T19: 11 | U19: 中元 友喜 | Z19: 5 | AJ19: 0
B20: 1 | J20: 1 | K20: 6 | L20: 桑原 正太 | Q20: 9 | R20: DF | S20: MF | T20: 5 | U20: 三村 真史 | Z20: 6 | AD20: 1 | AJ20: 1
B21: 1 | J21: 1 | K21: 6 | L21: 利光 流雅 | Q21: 8 | R21: MF | S21: MF | T21: 9 | U21: 松本 碧音 | Z21: 6 | AJ21: 0
B22: 5 | I22: ③ | J22: 5 | K22: 6 | L22: 上野 蒼祐 | Q22: 10 | R22: MF | S22: MF | T22: 14 | U22: 津田 透李 | Z22: 5 | AJ22: 0
B23: 2 | G23: ① | H23: 1 | I23: ① | J23: 1 | K23: 5 | L23: 上田 大耀 | Q23: 11 | R23: FW | S23: FW | T23: 7 | U23: 井上 喜心 | Z23: 6 | AD23: 1 | AJ23: 1
Q24: 交替要員
B25: 0 | K25: 5 | L25: 橋山 駿 | Q25: 2 | R25: DF | S25: MF | T25: 2 | U25: 田村 謙悟 | Z25: 5 | AJ25: 0
B26: 0 | K26: 6 | L26: 甲斐 朔人 | Q26: 4 | R26: MF | S26: MF | T26: 6 | U26: 小林 亘 | Z26: 5 | AJ26: 0
B27: 1 | H27: 1 | K27: 5 | L27: 上野 颯太 | Q27: 6 | R27: MF | S27: MF | T27: 8 | U27: 小川 悠斗 | Z27: 5 | AJ27: 0
B28: 0 | K28: 5 | L28: 阿南 沙耶斗 | Q28: 12 | R28: DF | S28: MF | T28: 12 | U28: 濱小路 蒼真 | Z28: 5 | AJ28: 0
B29: 0 | K29: 5 | L29: 岩崎 一翔 | Q29: 13 | R29: FW | S29: MF | T29: 13 | U29: 三村 隼典 | Z29: 5 | AJ29: 0
B30: 0 | K30: 5 | L30: 川畑 岳 | Q30: 14 | R30: DF | S30: MF | T30: 15 | U30: 中元 大輝 | Z30: 6 | AJ30: 0
B31: 0 | K31: 5 | L31: 田村 優依 | Q31: 15 | R31: MF | S31: GK | T31: 16 | U31: 川端 健心 | Z31: 5 | AJ31: 0
B32: 0 | K32: 5 | L32: 後藤 悠大 | Q32: 16 | R32: GK | S32: DF | T32: 17 | U32: 田原 朔空 | Z32: 5 | AJ32: 0
B33: 0 | S33: MF | T33: 20 | U33: 小畑 颯汰 | Z33: 5 | AJ33: 0
B34: 0 | AJ34: 0
D35: 0 | F35: 0 | H35: 3 | J35: 11 | K35: 小計 | L35: 14 | Q35: 合計 | R35: シュート数 | T35: 合計 | U35: 2 | Z35: 小計 | AB35: 0 | AD35: 2 | AF35: 0 | AH35: 0
C36: OUT | J36: → | K36: IN | R36: 交代 | U36: OUT | AB36: → | AC36: IN
R37: 選手
A38: 15 | B38: 分 | C38: 10 | D38: 番 | E38: 上野 蒼祐 | J38: → | K38: 2 | L38: 番 | M38: 橋山 駿 | S38: 14 | T38: 分 | U38: 1 | V38: 番 | W38: 荒川 煌大 | AB38: → | AC38: 16 | AD38: 番 | AE38: 川端 健心
A39: 15 | B39: 分 | C39: 8 | D39: 番 | E39: 利光 流雅 | J39: → | K39: 6 | L39: 番 | M39: 上野 颯太 | S39: 15 | T39: 分 | U39: 4 | V39: 番 | W39: 公原 義翔 | AB39: → | AC39: 12 | AD39: 番 | AE39: 濱小路 蒼真
A40: 24 | B40: 分 | C40: 7 | D40: 番 | E40: 菊川 晄 | J40: → | K40: 10 | L40: 番 | M40: 上野 蒼祐 | S40: 26 | T40: 分 | U40: 5 | V40: 番 | W40: 三村 真史 | AB40: → | AC40: 15 | AD40: 番 | AE40: 中元 大輝
A41: 24 | B41: 分 | C41: 5 | D41: 番 | E41: 島田 唯歩 | J41: → | K41: 8 | L41: 番 | M41: 利光 流雅 | T41: 分 | V41: 番 | AB41: → | AD41: 番
B42: 分 | D42: 番 | J42: → | L42: 番 | T42: 分 | V42: 番 | AB42: → | AD42: 番
B43: 分 | D43: 番 | J43: → | L43: 番 | T43: 分 | V43: 番 | AB43: → | AD43: 番
B44: 分 | D44: 番 | J44: → | L44: 番 | T44: 分 | V44: 番 | AB44: → | AD44: 番
B45: 分 | D45: 番 | J45: → | L45: 番 | T45: 分 | V45: 番 | AB45: → | AD45: 番
A46: 警告（Ｃ）・退場（Ｓ）など | H46: 合計 | J46: 延後 | L46: 延前 | N46: 後半 | P46: 前半 | R46: チーム 合計 | T46: 前半 | V46: 後半 | X46: 延前 | Z46: 延後 | AB46: 合計 | AD46: 警告（Ｃ）・退場（Ｓ）など
A47: 26分 11番 C5 | H47: 2 | J47: 0 | L47: 0 | N47: 2 | P47: 0 | R47: Ｇ | S47: Ｋ | T47: 4 | V47: 0 | X47: 0 | Z47: 0 | AB47: 4
H48: 14 | J48: 0 | L48: 0 | N48: 4 | P48: 10 | R48: Ｃ | S48: Ｋ | T48: 0 | V48: 0 | X48: 0 | Z48: 0 | AB48: 0
H49: 0 | J49: 0 | L49: 0 | N49: 0 | P49: 0 | R49: 直接 | S49: ＦＫ | T49: 0 | V49: 1 | X49: 0 | Z49: 0 | AB49: 1
H50: 0 | J50: 0 | L50: 0 | N50: 0 | P50: 0 | R50: 間接 | S50: ＦＫ | T50: 0 | V50: 0 | X50: 0 | Z50: 0 | AB50: 0
H51: 0 | J51: 0 | L51: 0 | N51: 0 | P51: 0 | R51: Ｐ | S51: Ｋ | T51: 0 | V51: 0 | X51: 0 | Z51: 0 | AB51: 0
A52: 時間 | D52: 得点者 | F52: 得 点 経 過 | S52: 時間 | V52: 得点者 | X52: 得 点 経 過
B53: 6 | C53: 分 | D53: 10 | F53: 10 ～S | U53: 分
B54: 8 | C54: 分 | D54: 11 | F54: 11 ～S | U54: 分
B55: 9 | C55: 分 | D55: 10 | F55: 10 ～S | U55: 分
B56: 12 | C56: 分 | D56: 10 | F56: 10 ～S | U56: 分
B57: 13 | C57: 分 | D57: 3 | F57: 10S バー跳ね返り ３S | U57: 分
B58: 23 | C58: 分 | D58: 11 | F58: 11S | U58: 分
D59: 《略号例》 | H59: ドリブル | J59: ～ | L59: ゴロのパス | O59: → | Q59: 浮き球 | S59: ∩ | U59: 混戦 | W59: × | Y59: ヘディング | AB59: H | AD59: シュート | AF59: S
A60: [警告理由]C1：反スポーツ的行為，C2：ラフプレー，C3：異議，C4：繰り返し違反，C5：遅延行為，C6：距離不足，C7：無許可入，C8：無許可去
A61: [退場理由]S1：著しく不正なプレー，S2：乱暴な行為，S3：つば吐き，S4：得点機会阻止(ハンド)，S5：得点機会阻止(他)，S6：侮辱的発言，CS：警告2回による退場
A63: 戦評者氏名 | E63: （ | K63: ） | M63: 勤務先または所属 | R63: （ | AI63: ）
I72: M C | P72: ウェルフェアオフィサー | W72: 会 場 長 | AD72: 主 審
I73: 中原 圭介 | P73: 中野 観司郎 | W73: 佐々木 秀樹 | AD73: 黒田 大貴

Sheet 準決勝②【Match No,50】
A1: 公式記録 | G1: Match No： | K1: 50
A2: 大 | C2: OFA 第 57 回大分県少年サッカー大会 兼 KYFA 九州U-12サッカー大会大分県大会 | O2: 第 | P2: 3 | R2: 日 | AB2: 競技 | AC2: 40分 | AE2: 記
A3: 会 | O3: 1回戦 | Q3: 2回戦 | S3: 46061 | AB3: 時間 | AE3: 録 | AF3: 甲斐 直樹
A4: 名 | O4: 準決勝 | Q4: 決勝 | S4: 試合開始 12時30分～ | AB4: 延長 | AC4: 10分 | AE4: 者 | AF4: 末永 成久
A5: 会 | C5: 大分県サッカー協会 人工芝グラウンド | J5: 天 | K5: 晴 | L5: 風 | N5: 強 | O5: 弱 | P5: 無 | Q5: 芝 | R5: 状 | S5: 良好 | U5: 審 | V5: 主審 | AA5: 副審 | AF5: 第4の審判員
K6: 曇 | L6: 気温 | N6: 5.1 | P6: ℃ | S6: 不良 | V6: 嶋田 尚祐 | AA6: 佐藤 慎二 | AF6: 寺次 良生
A7: 場 | J7: 候 | K7: 雨 | L7: 湿度 | N7: 25 | P7: ％ | Q7: 土 | R7: 態 | S7: 泥沼 | U7: 判 | AA7: 小林 年晴
A8: 【チーム名】 | P8: 1 | Q8: 0 | R8: 前半 | T8: 0 | U8: 2 | V8: 【チーム名】
B9: ティエラフットボールクラブＵ－１２ | L9: （ 中津 市） | Q9: 0 | R9: 後半 | T9: 0 | W9: 四日市南ＳＳＣ | AG9: （ 宇佐 市）
J10: 延長戦kick off | M10: kick off | Q10: 1 | R10: 延前 | T10: 1 | V10: kick off | Y10: 延長戦kick off
L11: 背番号 | N11: PK | Q11: 0 | R11: 延後 | T11: 1 | V11: PK | X11: 背番号
L12: ○ | M12: × | N12: 先 | O12: 後 | R12: ＰＫ戦 | V12: 先 | W12: 後 | X12: ○ | Y12: ×
C13: シュート（得点者は○印） | K13: 学 | Q13: 背 | T13: 背 | Z13: 学 | AA13: シュート（得点者は○印）
A14: 合 | C14: 延 | E14: 延 | G14: 後 | I14: 前 | M14: 選 | N14: 手 | O14: 名 | Q14: 番 | R14: 位置 | T14: 番 | V14: 選 | W14: 手 | X14: 名 | AA14: 前 | AC14: 後 | AE14: 延 | AG14: 延 | AI14: 合
A15: 計 | C15: 後 | E15: 前 | G15: 半 | I15: 半 | K15: 年 | Q15: 号 | T15: 号 | Z15: 年 | AA15: 半 | AC15: 半 | AE15: 前 | AG15: 後 | AI15: 計
B16: 0 | K16: 6 | L16: 園田 永愛 | Q16: 1 | R16: GK | S16: GK | T16: 1 | U16: 荒川 煌大 | Z16: 6 | AJ16: 0
B17: 1 | H17: 1 | K17: 6 | L17: 中園 侑吾 | Q17: 3 | R17: DF | S17: DF | T17: 10 | U17: 中島 叶太 | Z17: 6 | AJ17: 0
B18: 0 | K18: 6 | L18: 橋本 侑樹 | Q18: 5 | R18: DF | S18: DF | T18: 11 | U18: 中元 友喜 | Z18: 5 | AJ18: 0
B19: 2 | H19: 2 | K19: 6 | L19: 西耒路 歩夢 | Q19: 7 | R19: MF | S19: DF | T19: 17 | U19: 田原 朔空 | Z19: 5 | AJ19: 0
B20: 0 | K20: 6 | L20: 沖本 将吾 | Q20: 8 | R20: MF | S20: MF | T20: 5 | U20: 三村 真史 | Z20: 6 | AB20: 1 | AE20: ① | AF20: 1 | AG20: ① | AH20: 2 | AJ20: 4
B21: 1 | H21: 1 | K21: 6 | L21: 志賀 大巳 | Q21: 10 | R21: MF | S21: MF | T21: 9 | U21: 松本 碧音 | Z21: 6 | AJ21: 0
B22: 2 | F22: 1 | H22: 1 | K22: 6 | L22: 藤本 勇人 | Q22: 11 | R22: MF | S22: MF | T22: 14 | U22: 津田 透李 | Z22: 5 | AJ22: 0
B23: 7 | D23: 1 | E23: ① | F23: 1 | H23: 3 | J23: 2 | K23: 6 | L23: 宇土 碧波 | Q23: 9 | R23: FW | S23: FW | T23: 7 | U23: 井上 喜心 | Z23: 6 | AJ23: 0
Q24: 交替要員
B25: 0 | K25: 6 | L25: 南 咲太郎 | Q25: 2 | R25: DF | S25: MF | T25: 2 | U25: 田村 謙悟 | Z25: 5 | AJ25: 0
B26: 0 | K26: 6 | L26: 中山 翔 | Q26: 4 | R26: MF | S26: DF | T26: 4 | U26: 公原 義翔 | Z26: 5 | AJ26: 0
B27: 0 | K27: 6 | L27: 小宮 陽翔 | Q27: 6 | R27: MF | S27: MF | T27: 6 | U27: 小林 亘 | Z27: 5 | AJ27: 0
B28: 0 | K28: 5 | L28: 乙女 心結 | Q28: 12 | R28: MF | S28: MF | T28: 8 | U28: 小川 悠斗 | Z28: 5 | AJ28: 0
B29: 0 | K29: 5 | L29: 園田 愛喜 | Q29: 13 | R29: DF | S29: MF | T29: 12 | U29: 濱小路 蒼真 | Z29: 5 | AJ29: 0
B30: 0 | K30: 6 | L30: 小雲 虹 | Q30: 14 | R30: FW | S30: MF | T30: 13 | U30: 三村 隼典 | Z30: 5 | AJ30: 0
B31: 0 | K31: 4 | L31: 井上 伍貴 | Q31: 15 | R31: FW | S31: MF | T31: 15 | U31: 中元 大輝 | Z31: 6 | AJ31: 0
B32: 0 | K32: 6 | L32: 関 湊士 | Q32: 16 | R32: GK | S32: GK | T32: 16 | U32: 川端 健心 | Z32: 5 | AJ32: 0
B33: 0 | S33: MF | T33: 20 | U33: 小畑 颯汰 | Z33: 5 | AJ33: 0
B34: 0 | AJ34: 0
D35: 1 | F35: 2 | H35: 8 | J35: 2 | K35: 小計 | L35: 13 | Q35: 合計 | R35: シュート数 | T35: 合計 | U35: 4 | Z35: 小計 | AB35: 1 | AD35: 0 | AF35: 1 | AH35: 2
C36: OUT | J36: → | K36: IN | R36: 交代 | U36: OUT | AB36: → | AC36: IN
R37: 選手
B38: 分 | D38: 番 | J38: → | L38: 番 | T38: 分 | V38: 番 | AB38: → | AD38: 番
B39: 分 | D39: 番 | J39: → | L39: 番 | T39: 分 | V39: 番 | AB39: → | AD39: 番
B40: 分 | D40: 番 | J40: → | L40: 番 | T40: 分 | V40: 番 | AB40: → | AD40: 番
B41: 分 | D41: 番 | J41: → | L41: 番 | T41: 分 | V41: 番 | AB41: → | AD41: 番
B42: 分 | D42: 番 | J42: → | L42: 番 | T42: 分 | V42: 番 | AB42: → | AD42: 番
B43: 分 | D43: 番 | J43: → | L43: 番 | T43: 分 | V43: 番 | AB43: → | AD43: 番
B44: 分 | D44: 番 | J44: → | L44: 番 | T44: 分 | V44: 番 | AB44: → | AD44: 番
B45: 分 | D45: 番 | J45: → | L45: 番 | T45: 分 | V45: 番 | AB45: → | AD45: 番
A46: 警告（Ｃ）・退場（Ｓ）など | H46: 合計 | J46: 延後 | L46: 延前 | N46: 後半 | P46: 前半 | R46: チーム 合計 | T46: 前半 | V46: 後半 | X46: 延前 | Z46: 延後 | AB46: 合計 | AD46: 警告（Ｃ）・退場（Ｓ）など
H47: 3 | J47: 0 | L47: 0 | N47: 0 | P47: 3 | R47: Ｇ | S47: Ｋ | T47: 5 | V47: 6 | X47: 1 | Z47: 2 | AB47: 14
H48: 11 | J48: 2 | L48: 0 | N48: 7 | P48: 2 | R48: Ｃ | S48: Ｋ | T48: 0 | V48: 0 | X48: 0 | Z48: 0 | AB48: 0
H49: 1 | J49: 0 | L49: 0 | N49: 0 | P49: 1 | R49: 直接 | S49: ＦＫ | T49: 0 | V49: 3 | X49: 0 | Z49: 1 | AB49: 4
H50: 0 | J50: 0 | L50: 0 | N50: 0 | P50: 0 | R50: 間接 | S50: ＦＫ | T50: 0 | V50: 2 | X50: 0 | Z50: 0 | AB50: 2
H51: 0 | J51: 0 | L51: 0 | N51: 0 | P51: 0 | R51: Ｐ | S51: Ｋ | T51: 0 | V51: 0 | X51: 0 | Z51: 0 | AB51: 0
A52: 時間 | D52: 得点者 | F52: 得 点 経 過 | S52: 時間 | V52: 得点者 | X52: 得 点 経 過
B53: 43 | C53: 分 | D53: 9 | F53: 9 ～S | T53: 44 | U53: 分 | V53: 5 | X53: 5 ～S
C54: 分 | T54: 50 | U54: 分 | V54: 5 | X54: 5 ～S
C55: 分 | U55: 分
C56: 分 | U56: 分
C57: 分 | U57: 分
C58: 分 | U58: 分
D59: 《略号例》 | H59: ドリブル | J59: ～ | L59: ゴロのパス | O59: → | Q59: 浮き球 | S59: ∩ | U59: 混戦 | W59: × | Y59: ヘディング | AB59: H | AD59: シュート | AF59: S
A60: [警告理由]C1：反スポーツ的行為，C2：ラフプレー，C3：異議，C4：繰り返し違反，C5：遅延行為，C6：距離不足，C7：無許可入，C8：無許可去
A61: [退場理由]S1：著しく不正なプレー，S2：乱暴な行為，S3：つば吐き，S4：得点機会阻止(ハンド)，S5：得点機会阻止(他)，S6：侮辱的発言，CS：警告2回による退場
A63: 戦評者氏名 | E63: （ | K63: ） | M63: 勤務先または所属 | R63: （ | AI63: ）
I72: M C | P72: ウェルフェアオフィサー | W72: 会 場 長 | AD72: 主 審
I73: 津守 一雄 | P73: 松下 省吾 | W73: 佐々木 秀樹 | AD73: 嶋田 尚祐

Sheet 準決勝①【Match No,49】
A1: 公式記録 | G1: Match No： | K1: 49
A2: 大 | C2: OFA 第 57 回大分県少年サッカー大会 兼 KYFA 九州U-12サッカー大会大分県大会 | O2: 第 | P2: 3 | R2: 日 | AB2: 競技 | AC2: 40分 | AE2: 記
A3: 会 | O3: 1回戦 | Q3: 2回戦 | S3: 46061 | AB3: 時間 | AE3: 録 | AF3: 田尻 貴志
A4: 名 | O4: 準決勝 | Q4: 決勝 | S4: 試合開始 12時30分～ | AB4: 延長 | AE4: 者 | AF4: 中原 圭介
A5: 会 | C5: 大分県サッカー協会 人工芝グラウンド | J5: 天 | K5: 晴 | L5: 風 | N5: 強 | O5: 弱 | P5: 無 | Q5: 芝 | R5: 状 | S5: 良好 | U5: 審 | V5: 主審 | AA5: 副審 | AF5: 第4の審判員
K6: 曇 | L6: 気温 | N6: 5.1 | P6: ℃ | S6: 不良 | V6: 黒田 大貴 | AA6: 白江 直樹 | AF6: 寺岡 富夫
A7: 場 | J7: 候 | K7: 雨 | L7: 湿度 | N7: 25 | P7: ％ | Q7: 土 | R7: 態 | S7: 泥沼 | U7: 判 | AA7: 岡部 正典
A8: 【チーム名】 | P8: 4 | Q8: 4 | R8: 前半 | T8: 0 | U8: 0 | V8: 【チーム名】
B9: ドリームキッズフットボールクラブ | L9: （ 大分 市） | Q9: 0 | R9: 後半 | T9: 0 | W9: カティオーラフットボールクラブＵ－１２ | AG9: （ 大分 市）
J10: 延長戦kick off | M10: kick off | R10: 延前 | V10: kick off | Y10: 延長戦kick off
L11: 背番号 | N11: PK | R11: 延後 | V11: PK | X11: 背番号
L12: ○ | M12: × | N12: 先 | O12: 後 | R12: ＰＫ戦 | V12: 先 | W12: 後 | X12: ○ | Y12: ×
C13: シュート（得点者は○印） | K13: 学 | Q13: 背 | T13: 背 | Z13: 学 | AA13: シュート（得点者は○印）
A14: 合 | C14: 延 | E14: 延 | G14: 後 | I14: 前 | M14: 選 | N14: 手 | O14: 名 | Q14: 番 | R14: 位置 | T14: 番 | V14: 選 | W14: 手 | X14: 名 | AA14: 前 | AC14: 後 | AE14: 延 | AG14: 延 | AI14: 合
A15: 計 | C15: 後 | E15: 前 | G15: 半 | I15: 半 | K15: 年 | Q15: 号 | T15: 号 | Z15: 年 | AA15: 半 | AC15: 半 | AE15: 前 | AG15: 後 | AI15: 計
B16: 0 | K16: 5 | L16: 首藤 琥珀 | Q16: 1 | R16: GK | S16: GK | T16: 1 | U16: 後藤 悠真 | Z16: 6 | AJ16: 0
B17: 0 | K17: 6 | L17: 高峯 咲太郎 | Q17: 3 | R17: DF | S17: DF | T17: 4 | U17: 黒木 仁輔 | Z17: 6 | AJ17: 0
B18: 2 | H18: 1 | I18: ① | J18: 1 | K18: 6 | L18: 島田 唯歩 | Q18: 5 | R18: DF | S18: DF | T18: 5 | U18: 齊藤 蓮太朗 | Z18: 6 | AD18: 1 | AJ18: 1
B19: 0 | K19: 6 | L19: 菊川 晄 | Q19: 7 | R19: DF | S19: DF | T19: 6 | U19: 山本 葵 | Z19: 6 | AJ19: 0
B20: 0 | K20: 6 | L20: 桑原 正太 | Q20: 9 | R20: DF | S20: DF | T20: 13 | U20: 細木 大聖 | Z20: 6 | AJ20: 0
B21: 3 | H21: 2 | J21: 1 | K21: 6 | L21: 利光 流雅 | Q21: 8 | R21: MF | S21: MF | T21: 7 | U21: 木元 星杏 | Z21: 6 | AJ21: 0
B22: 4 | I22: ③ | J22: 4 | K22: 6 | L22: 上野 蒼祐 | Q22: 10 | R22: MF | S22: MF | T22: 9 | U22: 松岡 陽奈 | Z22: 6 | AJ22: 0
B23: 0 | K23: 5 | L23: 上田 大耀 | Q23: 11 | R23: FW | S23: MF | T23: 10 | U23: 末永 葵空 | Z23: 6 | AD23: 1 | AJ23: 1
Q24: 交替要員
B25: 1 | H25: 1 | K25: 5 | L25: 橋山 駿 | Q25: 2 | R25: DF | S25: DF | T25: 2 | U25: 横尾 陸人 | Z25: 6 | AJ25: 0
B26: 0 | K26: 6 | L26: 甲斐 朔人 | Q26: 4 | R26: MF | S26: MF | T26: 3 | U26: 松尾 一輝 | Z26: 5 | AD26: 2 | AJ26: 2
B27: 0 | K27: 5 | L27: 上野 颯太 | Q27: 6 | R27: MF | S27: FW | T27: 8 | U27: 高橋 英斗 | Z27: 6 | AJ27: 0
B28: 0 | K28: 5 | L28: 阿南 沙耶斗 | Q28: 12 | R28: DF | S28: FW | T28: 11 | U28: 山﨑 勇人 | Z28: 6 | AD28: 1 | AJ28: 1
B29: 0 | K29: 5 | L29: 岩崎 一翔 | Q29: 13 | R29: FW | S29: GK | T29: 12 | U29: 南 蒼太 | Z29: 4 | AJ29: 0
B30: 0 | K30: 5 | L30: 川畑 岳 | Q30: 14 | R30: DF | S30: MF | T30: 14 | U30: 大久保 柊 | Z30: 5 | AJ30: 0
B31: 0 | K31: 5 | L31: 田村 優依 | Q31: 15 | R31: MF | AJ31: 0
B32: 0 | K32: 5 | L32: 後藤 悠大 | Q32: 16 | R32: GK | AJ32: 0
B33: 0 | AJ33: 0
B34: 0 | AJ34: 0
D35: 0 | F35: 0 | H35: 4 | J35: 6 | K35: 小計 | L35: 10 | Q35: 合計 | R35: シュート数 | T35: 合計 | U35: 5 | Z35: 小計 | AB35: 0 | AD35: 5 | AF35: 0 | AH35: 0
C36: OUT | J36: → | K36: IN | R36: 交代 | U36: OUT | AB36: → | AC36: IN
R37: 選手
A38: 16 | B38: 分 | C38: 11 | D38: 番 | E38: 上田 大耀 | J38: → | K38: 6 | L38: 番 | M38: 上野 颯太 | S38: 25 | T38: 分 | U38: 4 | V38: 番 | W38: 黒木 仁輔 | AB38: → | AC38: 11 | AD38: 番 | AE38: 山﨑 勇人
A39: 29 | B39: 分 | C39: 6 | D39: 番 | E39: 上野 颯太 | J39: → | K39: 2 | L39: 番 | M39: 橋山 駿 | S39: 29 | T39: 分 | U39: 13 | V39: 番 | W39: 細木 大聖 | AB39: → | AC39: 3 | AD39: 番 | AE39: 松尾 一輝
B40: 分 | D40: 番 | J40: → | L40: 番 | T40: 分 | V40: 番 | AB40: → | AD40: 番
B41: 分 | D41: 番 | J41: → | L41: 番 | T41: 分 | V41: 番 | AB41: → | AD41: 番
B42: 分 | D42: 番 | J42: → | L42: 番 | T42: 分 | V42: 番 | AB42: → | AD42: 番
B43: 分 | D43: 番 | J43: → | L43: 番 | T43: 分 | V43: 番 | AB43: → | AD43: 番
B44: 分 | D44: 番 | J44: → | L44: 番 | T44: 分 | V44: 番 | AB44: → | AD44: 番
B45: 分 | D45: 番 | J45: → | L45: 番 | T45: 分 | V45: 番 | AB45: → | AD45: 番
A46: 警告（Ｃ）・退場（Ｓ）など | H46: 合計 | J46: 延後 | L46: 延前 | N46: 後半 | P46: 前半 | R46: チーム 合計 | T46: 前半 | V46: 後半 | X46: 延前 | Z46: 延後 | AB46: 合計 | AD46: 警告（Ｃ）・退場（Ｓ）など
H47: 9 | J47: 0 | L47: 0 | N47: 7 | P47: 2 | R47: Ｇ | S47: Ｋ | T47: 3 | V47: 2 | X47: 0 | Z47: 0 | AB47: 5
H48: 1 | J48: 0 | L48: 0 | N48: 1 | P48: 0 | R48: Ｃ | S48: Ｋ | T48: 0 | V48: 2 | X48: 0 | Z48: 0 | AB48: 2
H49: 2 | J49: 0 | L49: 0 | N49: 1 | P49: 1 | R49: 直接 | S49: ＦＫ | T49: 0 | V49: 1 | X49: 0 | Z49: 0 | AB49: 1
H50: 2 | J50: 0 | L50: 0 | N50: 1 | P50: 1 | R50: 間接 | S50: ＦＫ | T50: 0 | V50: 1 | X50: 0 | Z50: 0 | AB50: 1
H51: 0 | J51: 0 | L51: 0 | N51: 0 | P51: 0 | R51: Ｐ | S51: Ｋ | T51: 0 | V51: 0 | X51: 0 | Z51: 0 | AB51: 0
A52: 時間 | D52: 得点者 | F52: 得 点 経 過 | S52: 時間 | V52: 得点者 | X52: 得 点 経 過
B53: 2 | C53: 分 | D53: 10 | F53: 11～ → 10S | U53: 分
B54: 6 | C54: 分 | D54: 10 | F54: 11 ∩ 10S | U54: 分
B55: 13 | C55: 分 | D55: 10 | F55: 9 → 10S | U55: 分
B56: 15 | C56: 分 | D56: 5 | F56: 10～ → 5S | U56: 分
C57: 分 | U57: 分
C58: 分 | U58: 分
D59: 《略号例》 | H59: ドリブル | J59: ～ | L59: ゴロのパス | O59: → | Q59: 浮き球 | S59: ∩ | U59: 混戦 | W59: × | Y59: ヘディング | AB59: H | AD59: シュート | AF59: S
A60: [警告理由]C1：反スポーツ的行為，C2：ラフプレー，C3：異議，C4：繰り返し違反，C5：遅延行為，C6：距離不足，C7：無許可入，C8：無許可去
A61: [退場理由]S1：著しく不正なプレー，S2：乱暴な行為，S3：つば吐き，S4：得点機会阻止(ハンド)，S5：得点機会阻止(他)，S6：侮辱的発言，CS：警告2回による退場
A63: 戦評者氏名 | E63: （ | K63: ） | M63: 勤務先または所属 | R63: （ | AI63: ）
I72: M C | P72: ウェルフェアオフィサー | W72: 会 場 長 | AD72: 主 審
I73: 榊 謙治 | P73: 市原 宗久 | W73: 佐々木 秀樹 | AD73: 黒田 大貴

Sheet ２次リーグ組み合わせ・結果
A1: ＜２次リーグ組み合わせ・結果＞
A3: 会場 | D3: ='２次リーグ（豊肥）'!B4 -> 豊肥 | AC3: 会場 | AF3: ='２次リーグ（佐伯）'!B4 -> 佐伯
A4: グループ | D4: ='２次リーグ（豊肥）'!B6 -> 2次リーグ Aパート | J4: ='２次リーグ（豊肥）'!N6 -> 2次リーグ Cパート | AC4: グループ | AF4: ='２次リーグ（佐伯）'!B6 -> 2次リーグ Bパート | AL4: ='２次リーグ（佐伯）'!N6 -> 2次リーグ Dパート
A5: MCM | D5: 0.36805556 | J5: 0.40972222 | AC5: MCM | AF5: 0.36805556 | AL5: 0.40972222
A6: チーム | D6: ='２次リーグ（豊肥）'!C7 -> ドリームキッズフットボールクラブ | J6: ='２次リーグ（豊肥）'!O7 -> ティエラフットボールクラブＵ－１２ | AC6: チーム | AF6: ='２次リーグ（佐伯）'!C7 -> 弥生少年サッカークラブ | AL6: ='２次リーグ（佐伯）'!O7 -> 滝尾下郡サッカースポーツ少年団
D7: ='２次リーグ（豊肥）'!C8 -> 臼杵ＳＳＳ | J7: ='２次リーグ（豊肥）'!O8 -> 大分トリニータタートルズ | AF7: ='２次リーグ（佐伯）'!C8 -> アトレチコエラン横瀬 | AL7: ='２次リーグ（佐伯）'!O8 -> 戸次吉野ＳＳＳ
D8: ='２次リーグ（豊肥）'!C9 -> 別府フットボールクラブ．ミネルバＵ－１２ | J8: ='２次リーグ（豊肥）'!O9 -> リノスフットボールクラブ Ｕ－１２ | AF8: ='２次リーグ（佐伯）'!C9 -> カティオーラフットボールクラブＵ－１２ | AL8: ='２次リーグ（佐伯）'!O9 -> 四日市南ＳＳＣ
A11: 【組合せ・時間割】 | AC11: 【組合せ・時間割】
A12: 試合時間 | I12: 対戦相手 | M12: 副審 | AC12: 試合時間 | AK12: 対戦相手 | AO12: 副審
A13: ① | B13: 0.41666667 | D13: チーム名 | F13: =D6 -> ドリームキッズフットボールクラブ | I13: - | J13: =D7 -> 臼杵ＳＳＳ | M13: =J6 -> ティエラフットボールクラブＵ－１２ | AC13: ① | AD13: 0.41666667 | AF13: チーム名 | AH13: =AF6 -> 弥生少年サッカークラブ | AK13: - | AL13: =AF7 -> アトレチコエラン横瀬 | AO13: =AL6 -> 滝尾下郡サッカースポーツ少年団
D14: 得失点 | F14: 2 | I14: - | J14: 0 | M14: =J7 -> 大分トリニータタートルズ | AF14: 得失点 | AH14: 1 | AK14: - | AL14: 1 | AO14: =AL7 -> 戸次吉野ＳＳＳ
A15: ② | B15: 0.45833333 | D15: チーム名 | F15: =J6 -> ティエラフットボールクラブＵ－１２ | I15: - | J15: =J7 -> 大分トリニータタートルズ | M15: =D6 -> ドリームキッズフットボールクラブ | AC15: ② | AD15: 0.45833333 | AF15: チーム名 | AH15: =AL6 -> 滝尾下郡サッカースポーツ少年団 | AK15: - | AL15: =AL7 -> 戸次吉野ＳＳＳ | AO15: =AF6 -> 弥生少年サッカークラブ
D16: 得失点 | F16: 4 | I16: - | J16: 3 | M16: =D7 -> 臼杵ＳＳＳ | AF16: 得失点 | AH16: 2 | AK16: - | AL16: 1 | AO16: =AF7 -> アトレチコエラン横瀬
A17: ③ | B17: 0.5 | D17: チーム名 | F17: =D7 -> 臼杵ＳＳＳ | I17: - | J17: =D8 -> 別府フットボールクラブ．ミネルバＵ－１２ | M17: =J7 -> 大分トリニータタートルズ | AC17: ③ | AD17: 0.5 | AF17: チーム名 | AH17: =AF7 -> アトレチコエラン横瀬 | AK17: - | AL17: =AF8 -> カティオーラフットボールクラブＵ－１２ | AO17: =AL7 -> 戸次吉野ＳＳＳ
D18: 得失点 | F18: 1 | I18: - | J18: 2 | M18: =J8 -> リノスフットボールクラブ Ｕ－１２ | AF18: 得失点 | AH18: 1 | AK18: - | AL18: 4 | AO18: =AL8 -> 四日市南ＳＳＣ
A19: ④ | B19: 0.54166667 | D19: チーム名 | F19: =J7 -> 大分トリニータタートルズ | I19: - | J19: =J8 -> リノスフットボールクラブ Ｕ－１２ | M19: =D7 -> 臼杵ＳＳＳ | AC19: ④ | AD19: 0.54166667 | AF19: チーム名 | AH19: =AL7 -> 戸次吉野ＳＳＳ | AK19: - | AL19: =AL8 -> 四日市南ＳＳＣ | AO19: =AF7 -> アトレチコエラン横瀬
D20: 得失点 | F20: 0 | I20: - | J20: 1 | M20: =D8 -> 別府フットボールクラブ．ミネルバＵ－１２ | AF20: 得失点 | AH20: 0 | AK20: - | AL20: 3 | AO20: =AF8 -> カティオーラフットボールクラブＵ－１２
A21: ⑤ | B21: 0.58333333 | D21: チーム名 | F21: =D8 -> 別府フットボールクラブ．ミネルバＵ－１２ | I21: - | J21: =D6 -> ドリームキッズフットボールクラブ | M21: =J8 -> リノスフットボールクラブ Ｕ－１２ | AC21: ⑤ | AD21: 0.58333333 | AF21: チーム名 | AH21: =AF8 -> カティオーラフットボールクラブＵ－１２ | AK21: - | AL21: =AF6 -> 弥生少年サッカークラブ | AO21: =AL8 -> 四日市南ＳＳＣ
D22: 得失点 | F22: 0 | I22: - | J22: 3 | M22: =J6 -> ティエラフットボールクラブＵ－１２ | AF22: 得失点 | AH22: 0 | AK22: - | AL22: 0 | AO22: =AL6 -> 滝尾下郡サッカースポーツ少年団
A23: ⑥ | B23: 0.625 | D23: チーム名 | F23: =J8 -> リノスフットボールクラブ Ｕ－１２ | I23: - | J23: =J6 -> ティエラフットボールクラブＵ－１２ | M23: =D8 -> 別府フットボールクラブ．ミネルバＵ－１２ | AC23: ⑥ | AD23: 0.625 | AF23: チーム名 | AH23: =AL8 -> 四日市南ＳＳＣ | AK23: - | AL23: =AL6 -> 滝尾下郡サッカースポーツ少年団 | AO23: =AF8 -> カティオーラフットボールクラブＵ－１２
D24: 得失点 | F24: 0 | I24: - | J24: 1 | M24: =D6 -> ドリームキッズフットボールクラブ | AF24: 得失点 | AH24: 2 | AK24: - | AL24: 0 | AO24: =AF6 -> 弥生少年サッカークラブ
F43: 勝点表 | G43: 勝 | H43: 3 | J43: 引分 | K43: 1 | M43: 負 | N43: 0 | AH43: 勝点表 | AI43: 勝 | AJ43: 3 | AL43: 引分 | AM43: 1 | AO43: 負 | AP43: 0
A45: =D4 -> 2次リーグ Aパート | D45: =A46 -> ドリームキッズフットボールクラブ | G45: =A48 -> 臼杵ＳＳＳ | J45: =A50 -> 別府フットボールクラブ．ミネルバＵ－１２ | M45: 勝 | N45: 引 分 | O45: 敗 | P45: 得 点 | Q45: 失 点 | R45: 勝 点 | S45: 勝点 順位 | U45: 得失 点差 | W45: 得失 順位 | Y45: ﾄｰﾀﾙ 順位 | AC45: =AF4 -> 2次リーグ Bパート | AF45: =AC46 -> 弥生少年サッカークラブ | AI45: =AC48 -> アトレチコエラン横瀬 | AL45: =AC50 -> カティオーラフットボールクラブＵ－１２ | AO45: 勝 | AP45: 引 分 | AQ45: 敗 | AR45: 得 点 | AS45: 失 点 | AT45: 勝 点 | AU45: 勝点 順位 | AW45: 得失 点差 | AY45: 得失 順位 | BA45: ﾄｰﾀﾙ 順位
A46: =D6 -> ドリームキッズフットボールクラブ | B46: 星取表 | H46: =IF(G47="","",IF(G47>I47,"○",IF(G47<I47,"●",IF(G47=I47,"△")))) -> ○ | K46: =IF(J47="","",IF(J47>L47,"○",IF(J47<L47,"●",IF(J47=L47,"△")))) -> ○ | M46: =COUNTIF(D46:L46,"○") -> 2 | N46: =COUNTIF(D46:L46,"△")+COUNTIF(D46:L46,"▲") -> 0 | O46: =COUNTIF(D46:L46,"●") -> 0 | P46: =SUM(D47,G47,J47) -> 5 | Q46: =SUM(F47,I47,L47) -> 0 | R46: =(M46*3)+(N46*1) -> 6 | S46: =RANK(R46,R$46:R$51) -> 1 | T46: 位 | U46: =P46-Q46 -> 5 | W46: =RANK(U46,U$46:U$51) -> 1 | X46: 位 | Y46: 1 | AC46: =AF6 -> 弥生少年サッカークラブ | AD46: 星取表 | AJ46: =IF(AI47="","",IF(AI47>AK47,"○",IF(AI47<AK47,"●",IF(AI47=AK47,"△")))) -> △ | AM46: =IF(AL47="","",IF(AL47>AN47,"○",IF(AL47<AN47,"●",IF(AL47=AN47,"△")))) -> △ | AO46: =COUNTIF(AF46:AN46,"○") -> 0 | AP46: =COUNTIF(AF46:AN46,"△")+COUNTIF(AF46:AN46,"▲") -> 2 | AQ46: =COUNTIF(AF46:AN46,"●") -> 0 | AR46: =SUM(AF47,AI47,AL47) -> 1 | AS46: =SUM(AH47,AK47,AN47) -> 1 | AT46: =(AO46*3)+(AP46*1) -> 2 | AU46: =RANK(AT46,$AT$46:$AT$51) -> 2 | AV46: 位 | AW46: =AR46-AS46 -> 0 | AY46: =RANK(AW46,$AW$46:$AX$51) -> 2 | AZ46: 位 | BA46: 2
B47: 得失点 | G47: =F14 -> 2 | H47: - | I47: =J14 -> 0 | J47: =J22 -> 3 | K47: - | L47: =F22 -> 0 | AD47: 得失点 | AI47: =AH14 -> 1 | AJ47: - | AK47: =AL14 -> 1 | AL47: =AL22 -> 0 | AM47: - | AN47: =AH22 -> 0
A48: =D7 -> 臼杵ＳＳＳ | B48: 星取表 | E48: =IF(D49="","",IF(D49>F49,"○",IF(D49<F49,"●",IF(D49=F49,"△")))) -> ● | K48: =IF(J49="","",IF(J49>L49,"○",IF(J49<L49,"●",IF(J49=L49,"△")))) -> ● | M48: =COUNTIF(D48:L48,"○") -> 0 | N48: =COUNTIF(D48:L48,"△")+COUNTIF(D48:L48,"▲") -> 0 | O48: =COUNTIF(D48:L48,"●") -> 2 | P48: =SUM(D49,G49,J49) -> 1 | Q48: =SUM(F49,I49,L49) -> 4 | R48: =(M48*3)+(N48*1) -> 0 | S48: =RANK(R48,R$46:R$51) -> 3 | T48: 位 | U48: =P48-Q48 -> -3 | W48: =RANK(U48,U$46:U$51) -> 3 | X48: 位 | Y48: 3 | AC48: =AF7 -> アトレチコエラン横瀬 | AD48: 星取表 | AG48: =IF(AF49="","",IF(AF49>AH49,"○",IF(AF49<AH49,"●",IF(AF49=AH49,"△")))) -> △ | AM48: =IF(AL49="","",IF(AL49>AN49,"○",IF(AL49<AN49,"●",IF(AL49=AN49,"△")))) -> ● | AO48: =COUNTIF(AF48:AN48,"○") -> 0 | AP48: =COUNTIF(AF48:AN48,"△")+COUNTIF(AF48:AN48,"▲") -> 1 | AQ48: =COUNTIF(AF48:AN48,"●") -> 1 | AR48: =SUM(AF49,AI49,AL49) -> 2 | AS48: =SUM(AH49,AK49,AN49) -> 5 | AT48: =(AO48*3)+(AP48*1) -> 1 | AU48: =RANK(AT48,$AT$46:$AT$51) -> 3 | AV48: 位 | AW48: =AR48-AS48 -> -3 | AY48: =RANK(AW48,$AW$46:$AX$51) -> 3 | AZ48: 位 | BA48: 3
B49: 得失点 | D49: =I47 -> 0 | E49: - | F49: =G47 -> 2 | J49: =F18 -> 1 | K49: - | L49: =J18 -> 2 | AD49: 得失点 | AF49: =AK47 -> 1 | AG49: - | AH49: =AI47 -> 1 | AL49: =AH18 -> 1 | AM49: - | AN49: =AL18 -> 4
A50: =D8 -> 別府フットボールクラブ．ミネルバＵ－１２ | B50: 星取表 | E50: =IF(D51="","",IF(D51>F51,"○",IF(D51<F51,"●",IF(D51=F51,"△")))) -> ● | H50: =IF(G51="","",IF(G51>I51,"○",IF(G51<I51,"●",IF(G51=I51,"△")))) -> ○ | M50: =COUNTIF(D50:L50,"○") -> 1 | N50: =COUNTIF(D50:L50,"△")+COUNTIF(D50:L50,"▲") -> 0 | O50: =COUNTIF(D50:L50,"●") -> 1 | P50: =SUM(D51,G51,J51) -> 2 | Q50: =SUM(F51,I51,L51) -> 4 | R50: =(M50*3)+(N50*1) -> 3 | S50: =RANK(R50,R$46:R$51) -> 2 | T50: 位 | U50: =P50-Q50 -> -2 | W50: =RANK(U50,U$46:U$51) -> 2 | X50: 位 | Y50: 2 | AC50: =AF8 -> カティオーラフットボールクラブＵ－１２ | AD50: 星取表 | AG50: =IF(AF51="","",IF(AF51>AH51,"○",IF(AF51<AH51,"●",IF(AF51=AH51,"△")))) -> △ | AJ50: =IF(AI51="","",IF(AI51>AK51,"○",IF(AI51<AK51,"●",IF(AI51=AK51,"△")))) -> ○ | AO50: =COUNTIF(AF50:AN50,"○") -> 1 | AP50: =COUNTIF(AF50:AN50,"△")+COUNTIF(AF50:AN50,"▲") -> 1 | AQ50: =COUNTIF(AF50:AN50,"●") -> 0 | AR50: =SUM(AF51,AI51,AL51) -> 4 | AS50: =SUM(AH51,AK51,AN51) -> 1 | AT50: =(AO50*3)+(AP50*1) -> 4 | AU50: =RANK(AT50,$AT$46:$AT$51) -> 1 | AV50: 位 | AW50: =AR50-AS50 -> 3 | AY50: =RANK(AW50,$AW$46:$AX$51) -> 1 | AZ50: 位 | BA50: 1
B51: 得失点 | D51: =L47 -> 0 | E51: - | F51: =J47 -> 3 | G51: =L49 -> 2 | H51: - | I51: =J49 -> 1 | AD51: 得失点 | AF51: =AN47 -> 0 | AG51: - | AH51: =AL47 -> 0 | AI51: =AN49 -> 4 | AJ51: - | AK51: =AL49 -> 1
A53: =J4 -> 2次リーグ Cパート | D53: =A54 -> ティエラフットボールクラブＵ－１２ | G53: =A56 -> 大分トリニータタートルズ | J53: =A58 -> リノスフットボールクラブ Ｕ－１２ | M53: 勝 | N53: 引 分 | O53: 敗 | P53: 得 点 | Q53: 失 点 | R53: 勝 点 | S53: 勝点 順位 | U53: 得失 点差 | W53: 得失 順位 | Y53: ﾄｰﾀﾙ 順位 | AC53: =AL4 -> 2次リーグ Dパート | AF53: =AC54 -> 滝尾下郡サッカースポーツ少年団 | AI53: =AC56 -> 戸次吉野ＳＳＳ | AL53: =AC58 -> 四日市南ＳＳＣ | AO53: 勝 | AP53: 引 分 | AQ53: 敗 | AR53: 得 点 | AS53: 失 点 | AT53: 勝 点 | AU53: 勝点 順位 | AW53: 得失 点差 | AY53: 得失 順位 | BA53: ﾄｰﾀﾙ 順位
A54: =J6 -> ティエラフットボールクラブＵ－１２ | B54: 星取表 | H54: =IF(G55="","",IF(G55>I55,"○",IF(G55<I55,"●",IF(G55=I55,"△")))) -> ○ | K54: =IF(J55="","",IF(J55>L55,"○",IF(J55<L55,"●",IF(J55=L55,"△")))) -> ○ | M54: =COUNTIF(D54:L54,"○") -> 2 | N54: =COUNTIF(D54:L54,"△")+COUNTIF(D54:L54,"▲") -> 0 | O54: =COUNTIF(D54:L54,"●") -> 0 | P54: =SUM(D55,G55,J55) -> 5 | Q54: =SUM(F55,I55,L55) -> 3 | R54: =(M54*3)+(N54*1) -> 6 | S54: =RANK(R54,$R$54:$R$59) -> 1 | T54: 位 | U54: =P54-Q54 -> 2 | W54: =RANK(U54,$U$54:$V$59) -> 1 | X54: 位 | Y54: 1 | AC54: =AL6 -> 滝尾下郡サッカースポーツ少年団 | AD54: 星取表 | AJ54: =IF(AI55="","",IF(AI55>AK55,"○",IF(AI55<AK55,"●",IF(AI55=AK55,"△")))) -> ○ | AM54: =IF(AL55="","",IF(AL55>AN55,"○",IF(AL55<AN55,"●",IF(AL55=AN55,"△")))) -> ● | AO54: =COUNTIF(AF54:AN54,"○") -> 1 | AP54: =COUNTIF(AF54:AN54,"△")+COUNTIF(AF54:AN54,"▲") -> 0 | AQ54: =COUNTIF(AF54:AN54,"●") -> 1 | AR54: =SUM(AF55,AI55,AL55) -> 2 | AS54: =SUM(AH55,AK55,AN55) -> 3 | AT54: =(AO54*3)+(AP54*1) -> 3 | AU54: =RANK(AT54,$AT$54:$AT$59) -> 2 | AV54: 位 | AW54: =AR54-AS54 -> -1 | AY54: =RANK(AW54,$AW$54:$AX$59) -> 2 | AZ54: 位 | BA54: 2
B55: 得失点 | G55: =F16 -> 4 | H55: - | I55: =J16 -> 3 | J55: =J24 -> 1 | K55: - | L55: =F24 -> 0 | AD55: 得失点 | AI55: =AH16 -> 2 | AJ55: - | AK55: =AL16 -> 1 | AL55: =AL24 -> 0 | AM55: - | AN55: =AH24 -> 2
A56: =J7 -> 大分トリニータタートルズ | B56: 星取表 | E56: =IF(D57="","",IF(D57>F57,"○",IF(D57<F57,"●",IF(D57=F57,"△")))) -> ● | K56: =IF(J57="","",IF(J57>L57,"○",IF(J57<L57,"●",IF(J57=L57,"△")))) -> ● | M56: =COUNTIF(D56:L56,"○") -> 0 | N56: =COUNTIF(D56:L56,"△")+COUNTIF(D56:L56,"▲") -> 0 | O56: =COUNTIF(D56:L56,"●") -> 2 | P56: =SUM(D57,G57,J57) -> 3 | Q56: =SUM(F57,I57,L57) -> 5 | R56: =(M56*3)+(N56*1) -> 0 | S56: =RANK(R56,$R$54:$R$59) -> 3 | T56: 位 | U56: =P56-Q56 -> -2 | W56: =RANK(U56,$U$54:$V$59) -> 3 | X56: 位 | Y56: 3 | AC56: =AL7 -> 戸次吉野ＳＳＳ | AD56: 星取表 | AG56: =IF(AF57="","",IF(AF57>AH57,"○",IF(AF57<AH57,"●",IF(AF57=AH57,"△")))) -> ● | AM56: =IF(AL57="","",IF(AL57>AN57,"○",IF(AL57<AN57,"●",IF(AL57=AN57,"△")))) -> ● | AO56: =COUNTIF(AF56:AN56,"○") -> 0 | AP56: =COUNTIF(AF56:AN56,"△")+COUNTIF(AF56:AN56,"▲") -> 0 | AQ56: =COUNTIF(AF56:AN56,"●") -> 2 | AR56: =SUM(AF57,AI57,AL57) -> 1 | AS56: =SUM(AH57,AK57,AN57) -> 5 | AT56: =(AO56*3)+(AP56*1) -> 0 | AU56: =RANK(AT56,$AT$54:$AT$59) -> 3 | AV56: 位 | AW56: =AR56-AS56 -> -4 | AY56: =RANK(AW56,$AW$54:$AX$59) -> 3 | AZ56: 位 | BA56: 3
B57: 得失点 | D57: =I55 -> 3 | E57: - | F57: =G55 -> 4 | J57: =F20 -> 0 | K57: - | L57: =J20 -> 1 | AD57: 得失点 | AF57: =AK55 -> 1 | AG57: - | AH57: =AI55 -> 2 | AL57: =AH20 -> 0 | AM57: - | AN57: =AL20 -> 3
A58: =J8 -> リノスフットボールクラブ Ｕ－１２ | B58: 星取表 | E58: =IF(D59="","",IF(D59>F59,"○",IF(D59<F59,"●",IF(D59=F59,"△")))) -> ● | H58: =IF(G59="","",IF(G59>I59,"○",IF(G59<I59,"●",IF(G59=I59,"△")))) -> ○ | M58: =COUNTIF(D58:L58,"○") -> 1 | N58: =COUNTIF(D58:L58,"△")+COUNTIF(D58:L58,"▲") -> 0 | O58: =COUNTIF(D58:L58,"●") -> 1 | P58: =SUM(D59,G59,J59) -> 1 | Q58: =SUM(F59,I59,L59) -> 1 | R58: =(M58*3)+(N58*1) -> 3 | S58: =RANK(R58,$R$54:$R$59) -> 2 | T58: 位 | U58: =P58-Q58 -> 0 | W58: =RANK(U58,$U$54:$V$59) -> 2 | X58: 位 | Y58: 2 | AC58: =AL8 -> 四日市南ＳＳＣ | AD58: 星取表 | AG58: =IF(AF59="","",IF(AF59>AH59,"○",IF(AF59<AH59,"●",IF(AF59=AH59,"△")))) -> ○ | AJ58: =IF(AI59="","",IF(AI59>AK59,"○",IF(AI59<AK59,"●",IF(AI59=AK59,"△")))) -> ○ | AO58: =COUNTIF(AF58:AN58,"○") -> 2 | AP58: =COUNTIF(AF58:AN58,"△")+COUNTIF(AF58:AN58,"▲") -> 0 | AQ58: =COUNTIF(AF58:AN58,"●") -> 0 | AR58: =SUM(AF59,AI59,AL59) -> 5 | AS58: =SUM(AH59,AK59,AN59) -> 0 | AT58: =(AO58*3)+(AP58*1) -> 6 | AU58: =RANK(AT58,$AT$54:$AT$59) -> 1 | AV58: 位 | AW58: =AR58-AS58 -> 5 | AY58: =RANK(AW58,$AW$54:$AX$59) -> 1 | AZ58: 位 | BA58: 1
B59: 得失点 | D59: =L55 -> 0 | E59: - | F59: =J55 -> 1 | G59: =L57 -> 1 | H59: - | I59: =J57 -> 0 | AD59: 得失点 | AF59: =AN55 -> 2 | AG59: - | AH59: =AL55 -> 0 | AI59: =AN57 -> 3 | AJ59: - | AK59: =AL57 -> 0

Sheet １次リーグ組み合わせ・結果
A1: ＜１次リーグ組み合わせ・結果＞ | AC1: ＜１次リーグ組み合わせ・結果＞ | BE1: ＜１次リーグ組み合わせ・結果＞
A3: 会場 | D3: ='１次リーグ（中津）'!B4 -> 中津 | P3: ='１次リーグ（別府）'!B4 -> 別府 | AC3: 会場 | AF3: ='１次リーグ（日田・玖珠）'!B4 -> 日田・玖珠 | AR3: ='１次リーグ（速杵国東）'!B4 -> 速杵国東 | BE3: 会場 | BH3: ='１次リーグ（宇佐高田）'!B4 -> 宇佐高田 | BT3: ='１次リーグ（臼杵・津久見）'!B4 -> 臼杵・津久見
A4: グループ | D4: ='１次リーグ（中津）'!B6 -> A | J4: ='１次リーグ（中津）'!N6 -> G | P4: ='１次リーグ（別府）'!B6 -> C | V4: ='１次リーグ（別府）'!N6 -> H | AC4: グループ | AF4: ='１次リーグ（日田・玖珠）'!B6 -> F | AL4: ='１次リーグ（日田・玖珠）'!N6 -> K | AR4: ='１次リーグ（速杵国東）'!B6 -> D | AX4: ='１次リーグ（速杵国東）'!N6 -> J | BE4: グループ | BH4: ='１次リーグ（宇佐高田）'!B6 -> E | BN4: ='１次リーグ（宇佐高田）'!N6 -> L | BT4: ='１次リーグ（臼杵・津久見）'!B6 -> B | BZ4: ='１次リーグ（臼杵・津久見）'!N6 -> I
A5: MCM | D5: 0.36805556 | J5: 0.40972222 | P5: 0.36805556 | V5: 0.40972222 | AC5: MCM | AF5: 0.36805556 | AL5: 0.40972222 | AR5: 0.36805556 | AX5: 0.40972222 | BE5: MCM | BH5: 0.36805556 | BN5: 0.40972222 | BT5: 0.36805556 | BZ5: 0.40972222
A6: チーム | D6: ='１次リーグ（中津）'!C7 -> 鶴居ＳＳＳ | J6: ='１次リーグ（中津）'!O7 -> ティエラフットボールクラブＵ－１２ | P6: ='１次リーグ（別府）'!C7 -> 別府フットボールクラブ．ミネルバＵ－１２ | V6: ='１次リーグ（別府）'!O7 -> スマイス・セレソン | AC6: チーム | AF6: ='１次リーグ（日田・玖珠）'!C7 -> ＦＣアリアーレ | AL6: ='１次リーグ（日田・玖珠）'!O7 -> 玖珠サッカースポーツ少年団 | AR6: ='１次リーグ（速杵国東）'!C7 -> 日出サッカースポーツ少年団 | AX6: ='１次リーグ（速杵国東）'!O7 -> ＯＫＹ山香サッカークラブ | BE6: チーム | BH6: ='１次リーグ（宇佐高田）'!C7 -> ＦＣ ＷＡＹＳ | BN6: ='１次リーグ（宇佐高田）'!O7 -> 四日市南ＳＳＣ | BT6: ='１次リーグ（臼杵・津久見）'!C7 -> 臼杵ＳＳＳ | BZ6: ='１次リーグ（臼杵・津久見）'!O7 -> ＭＦＣ三花少年サッカー教室
D7: ='１次リーグ（中津）'!C8 -> ドリームキッズフットボールクラブ | J7: ='１次リーグ（中津）'!O8 -> 南大分サッカー少年団 | P7: ='１次リーグ（別府）'!C8 -> カティオーラフットボールクラブＵ－１２ Ｎｅｘｔ | V7: ='１次リーグ（別府）'!O8 -> 明治北ＳＳＣ | AF7: ='１次リーグ（日田・玖珠）'!C8 -> カティオーラフットボールクラブＵ－１２ | AL7: ='１次リーグ（日田・玖珠）'!O8 -> 鶴崎ＳＳＳ | AR7: ='１次リーグ（速杵国東）'!C8 -> 大分トリニータＵ－１２ | AX7: ='１次リーグ（速杵国東）'!O8 -> 滝尾下郡サッカースポーツ少年団 | BH7: ='１次リーグ（宇佐高田）'!C8 -> アトレチコエラン横瀬 | BN7: ='１次リーグ（宇佐高田）'!O8 -> 明野東サッカースポーツ少年団 | BT7: ='１次リーグ（臼杵・津久見）'!C8 -> ＦＣ ＲＥＧＡＴＥ | BZ7: ='１次リーグ（臼杵・津久見）'!O8 -> リノスフットボールクラブ Ｕ－１２
D8: ='１次リーグ（中津）'!C9 -> スマイス セレソン スポーツクラブ | J8: ='１次リーグ（中津）'!O9 -> ＦＣ ＵＮＩＴＥ | P8: ='１次リーグ（別府）'!C9 -> 西の台ＪＦＣ | V8: ='１次リーグ（別府）'!O9 -> 大分トリニータタートルズ | AF8: ='１次リーグ（日田・玖珠）'!C9 -> 大平山アソシエーション式フットボールクラブ | AL8: ='１次リーグ（日田・玖珠）'!O9 -> 戸次吉野ＳＳＳ | AR8: ='１次リーグ（速杵国東）'!C9 -> 弥生少年サッカークラブ | AX8: ='１次リーグ（速杵国東）'!O9 -> はやぶさフットボールクラブ | BH8: ='１次リーグ（宇佐高田）'!C9 -> ＦＣ ＪＵＮＩＯＲＳ | BN8: ='１次リーグ（宇佐高田）'!O9 -> 佐伯リベロフットボールクラブ | BT8: ='１次リーグ（臼杵・津久見）'!C9 -> 竹田直入ＦＣ | BZ8: ='１次リーグ（臼杵・津久見）'!O9 -> ＮＦＣ・ＯＩＴＡ Ｕ１２
A11: 【組合せ・時間割】 | AC11: 【組合せ・時間割】 | BE11: 【組合せ・時間割】
A12: 試合時間 | I12: 対戦相手 | M12: 副審 | U12: 対戦相手 | Y12: 副審 | AC12: 試合時間 | AK12: 対戦相手 | AO12: 副審 | AW12: 対戦相手 | BA12: 副審 | BE12: 試合時間 | BM12: 対戦相手 | BQ12: 副審 | BY12: 対戦相手 | CC12: 副審
A13: ① | B13: 0.41666667 | D13: チーム名 | F13: =D6 -> 鶴居ＳＳＳ | I13: - | J13: =D7 -> ドリームキッズフットボールクラブ | M13: =J6 -> ティエラフットボールクラブＵ－１２ | P13: チーム名 | R13: =P6 -> 別府フットボールクラブ．ミネルバＵ－１２ | U13: - | V13: =P7 -> カティオーラフットボールクラブＵ－１２ Ｎｅｘｔ | Y13: =V6 -> スマイス・セレソン | AC13: ① | AD13: 0.41666667 | AF13: チーム名 | AH13: =AF6 -> ＦＣアリアーレ | AK13: - | AL13: =AF7 -> カティオーラフットボールクラブＵ－１２ | AO13: =AL6 -> 玖珠サッカースポーツ少年団 | AR13: チーム名 | AT13: =AR6 -> 日出サッカースポーツ少年団 | AW13: - | AX13: =AR7 -> 大分トリニータＵ－１２ | BA13: =AX6 -> ＯＫＹ山香サッカークラブ | BE13: ① | BF13: 0.41666667 | BH13: チーム名 | BJ13: =BH6 -> ＦＣ ＷＡＹＳ | BM13: - | BN13: =BH7 -> アトレチコエラン横瀬 | BQ13: =BN6 -> 四日市南ＳＳＣ | BT13: チーム名 | BV13: =BT6 -> 臼杵ＳＳＳ | BY13: - | BZ13: =BT7 -> ＦＣ ＲＥＧＡＴＥ | CC13: =BZ6 -> ＭＦＣ三花少年サッカー教室
D14: 得失点 | F14: 0 | I14: - | J14: 2 | M14: =J7 -> 南大分サッカー少年団 | P14: 得失点 | R14: 3 | U14: - | V14: 0 | Y14: =V7 -> 明治北ＳＳＣ | AF14: 得失点 | AH14: 0 | AK14: - | AL14: 0 | AO14: =AL7 -> 鶴崎ＳＳＳ | AR14: 得失点 | AT14: 1 | AW14: - | AX14: 11 | BA14: =AX7 -> 滝尾下郡サッカースポーツ少年団 | BH14: 得失点 | BJ14: 0 | BM14: - | BN14: 5 | BQ14: =BN7 -> 明野東サッカースポーツ少年団 | BT14: 得失点 | BV14: 4 | BY14: - | BZ14: 0 | CC14: =BZ7 -> リノスフットボールクラブ Ｕ－１２
A15: ② | B15: 0.45833333 | D15: チーム名 | F15: =J6 -> ティエラフットボールクラブＵ－１２ | I15: - | J15: =J7 -> 南大分サッカー少年団 | M15: =D6 -> 鶴居ＳＳＳ | P15: チーム名 | R15: =V6 -> スマイス・セレソン | U15: - | V15: =V7 -> 明治北ＳＳＣ | Y15: =P6 -> 別府フットボールクラブ．ミネルバＵ－１２ | AC15: ② | AD15: 0.45833333 | AF15: チーム名 | AH15: =AL6 -> 玖珠サッカースポーツ少年団 | AK15: - | AL15: =AL7 -> 鶴崎ＳＳＳ | AO15: =AF6 -> ＦＣアリアーレ | AR15: チーム名 | AT15: =AX6 -> ＯＫＹ山香サッカークラブ | AW15: - | AX15: =AX7 -> 滝尾下郡サッカースポーツ少年団 | BA15: =AR6 -> 日出サッカースポーツ少年団 | BE15: ② | BF15: 0.45833333 | BH15: チーム名 | BJ15: =BN6 -> 四日市南ＳＳＣ | BM15: - | BN15: =BN7 -> 明野東サッカースポーツ少年団 | BQ15: =BH6 -> ＦＣ ＷＡＹＳ | BT15: チーム名 | BV15: =BZ6 -> ＭＦＣ三花少年サッカー教室 | BY15: - | BZ15: =BZ7 -> リノスフットボールクラブ Ｕ－１２ | CC15: =BT6 -> 臼杵ＳＳＳ
D16: 得失点 | F16: 2 | I16: - | J16: 0 | M16: =D7 -> ドリームキッズフットボールクラブ | P16: 得失点 | R16: 0 | U16: - | V16: 1 | Y16: =P7 -> カティオーラフットボールクラブＵ－１２ Ｎｅｘｔ | AF16: 得失点 | AH16: 0 | AK16: - | AL16: 4 | AO16: =AF7 -> カティオーラフットボールクラブＵ－１２ | AR16: 得失点 | AT16: 3 | AW16: - | AX16: 4 | BA16: =AR7 -> 大分トリニータＵ－１２ | BH16: 得失点 | BJ16: 1 | BM16: - | BN16: 1 | BQ16: =BH7 -> アトレチコエラン横瀬 | BT16: 得失点 | BV16: 0 | BY16: - | BZ16: 0 | CC16: =BT7 -> ＦＣ ＲＥＧＡＴＥ
A17: ③ | B17: 0.5 | D17: チーム名 | F17: =D7 -> ドリームキッズフットボールクラブ | I17: - | J17: =D8 -> スマイス セレソン スポーツクラブ | M17: =J7 -> 南大分サッカー少年団 | P17: チーム名 | R17: =P7 -> カティオーラフットボールクラブＵ－１２ Ｎｅｘｔ | U17: - | V17: =P8 -> 西の台ＪＦＣ | Y17: =V7 -> 明治北ＳＳＣ | AC17: ③ | AD17: 0.5 | AF17: チーム名 | AH17: =AF7 -> カティオーラフットボールクラブＵ－１２ | AK17: - | AL17: =AF8 -> 大平山アソシエーション式フットボールクラブ | AO17: =AL7 -> 鶴崎ＳＳＳ | AR17: チーム名 | AT17: =AR7 -> 大分トリニータＵ－１２ | AW17: - | AX17: =AR8 -> 弥生少年サッカークラブ | BA17: =AX7 -> 滝尾下郡サッカースポーツ少年団 | BE17: ③ | BF17: 0.5 | BH17: チーム名 | BJ17: =BH7 -> アトレチコエラン横瀬 | BM17: - | BN17: =BH8 -> ＦＣ ＪＵＮＩＯＲＳ | BQ17: =BN7 -> 明野東サッカースポーツ少年団 | BT17: チーム名 | BV17: =BT7 -> ＦＣ ＲＥＧＡＴＥ | BY17: - | BZ17: =BT8 -> 竹田直入ＦＣ | CC17: =BZ7 -> リノスフットボールクラブ Ｕ－１２
D18: 得失点 | F18: 1 | I18: - | J18: 0 | M18: =J8 -> ＦＣ ＵＮＩＴＥ | P18: 得失点 | R18: 1 | U18: - | V18: 2 | Y18: =V8 -> 大分トリニータタートルズ | AF18: 得失点 | AH18: 5 | AK18: - | AL18: 0 | AO18: =AL8 -> 戸次吉野ＳＳＳ | AR18: 得失点 | AT18: 0 | AW18: - | AX18: 0 | BA18: =AX8 -> はやぶさフットボールクラブ | BH18: 得失点 | BJ18: 2 | BM18: - | BN18: 0 | BQ18: =BN8 -> 佐伯リベロフットボールクラブ | BT18: 得失点 | BV18: 0 | BY18: - | BZ18: 2 | CC18: =BZ8 -> ＮＦＣ・ＯＩＴＡ Ｕ１２
A19: ④ | B19: 0.54166667 | D19: チーム名 | F19: =J7 -> 南大分サッカー少年団 | I19: - | J19: =J8 -> ＦＣ ＵＮＩＴＥ | M19: =D7 -> ドリームキッズフットボールクラブ | P19: チーム名 | R19: =V7 -> 明治北ＳＳＣ | U19: - | V19: =V8 -> 大分トリニータタートルズ | Y19: =P7 -> カティオーラフットボールクラブＵ－１２ Ｎｅｘｔ | AC19: ④ | AD19: 0.54166667 | AF19: チーム名 | AH19: =AL7 -> 鶴崎ＳＳＳ | AK19: - | AL19: =AL8 -> 戸次吉野ＳＳＳ | AO19: =AF7 -> カティオーラフットボールクラブＵ－１２ | AR19: チーム名 | AT19: =AX7 -> 滝尾下郡サッカースポーツ少年団 | AW19: - | AX19: =AX8 -> はやぶさフットボールクラブ | BA19: =AR7 -> 大分トリニータＵ－１２ | BE19: ④ | BF19: 0.54166667 | BH19: チーム名 | BJ19: =BN7 -> 明野東サッカースポーツ少年団 | BM19: - | BN19: =BN8 -> 佐伯リベロフットボールクラブ | BQ19: =BH7 -> アトレチコエラン横瀬 | BT19: チーム名 | BV19: =BZ7 -> リノスフットボールクラブ Ｕ－１２ | BY19: - | BZ19: =BZ8 -> ＮＦＣ・ＯＩＴＡ Ｕ１２ | CC19: =BT7 -> ＦＣ ＲＥＧＡＴＥ
D20: 得失点 | F20: 5 | I20: - | J20: 0 | M20: =D8 -> スマイス セレソン スポーツクラブ | P20: 得失点 | R20: 2 | U20: - | V20: 4 | Y20: =P8 -> 西の台ＪＦＣ | AF20: 得失点 | AH20: 2 | AK20: - | AL20: 3 | AO20: =AF8 -> 大平山アソシエーション式フットボールクラブ | AR20: 得失点 | AT20: 5 | AW20: - | AX20: 0 | BA20: =AR8 -> 弥生少年サッカークラブ | BH20: 得失点 | BJ20: 0 | BM20: - | BN20: 1 | BQ20: =BH8 -> ＦＣ ＪＵＮＩＯＲＳ | BT20: 得失点 | BV20: 5 | BY20: - | BZ20: 0 | CC20: =BT8 -> 竹田直入ＦＣ
A21: ⑤ | B21: 0.58333333 | D21: チーム名 | F21: =D8 -> スマイス セレソン スポーツクラブ | I21: - | J21: =D6 -> 鶴居ＳＳＳ | M21: =J8 -> ＦＣ ＵＮＩＴＥ | P21: チーム名 | R21: =P8 -> 西の台ＪＦＣ | U21: - | V21: =P6 -> 別府フットボールクラブ．ミネルバＵ－１２ | Y21: =V8 -> 大分トリニータタートルズ | AC21: ⑤ | AD21: 0.58333333 | AF21: チーム名 | AH21: =AF8 -> 大平山アソシエーション式フットボールクラブ | AK21: - | AL21: =AF6 -> ＦＣアリアーレ | AO21: =AL8 -> 戸次吉野ＳＳＳ | AR21: チーム名 | AT21: =AR8 -> 弥生少年サッカークラブ | AW21: - | AX21: =AR6 -> 日出サッカースポーツ少年団 | BA21: =AX8 -> はやぶさフットボールクラブ | BE21: ⑤ | BF21: 0.58333333 | BH21: チーム名 | BJ21: =BH8 -> ＦＣ ＪＵＮＩＯＲＳ | BM21: - | BN21: =BH6 -> ＦＣ ＷＡＹＳ | BQ21: =BN8 -> 佐伯リベロフットボールクラブ | BT21: チーム名 | BV21: =BT8 -> 竹田直入ＦＣ | BY21: - | BZ21: =BT6 -> 臼杵ＳＳＳ | CC21: =BZ8 -> ＮＦＣ・ＯＩＴＡ Ｕ１２
D22: 得失点 | F22: 2 | I22: - | J22: 0 | M22: =J6 -> ティエラフットボールクラブＵ－１２ | P22: 得失点 | R22: 0 | U22: - | V22: 3 | Y22: =V6 -> スマイス・セレソン | AF22: 得失点 | AH22: 0 | AK22: - | AL22: 5 | AO22: =AL6 -> 玖珠サッカースポーツ少年団 | AR22: 得失点 | AT22: 2 | AW22: - | AX22: 0 | BA22: =AX6 -> ＯＫＹ山香サッカークラブ | BH22: 得失点 | BJ22: 3 | BM22: - | BN22: 0 | BQ22: =BN6 -> 四日市南ＳＳＣ | BT22: 得失点 | BV22: 0 | BY22: - | BZ22: 3 | CC22: =BZ6 -> ＭＦＣ三花少年サッカー教室
A23: ⑥ | B23: 0.625 | D23: チーム名 | F23: =J8 -> ＦＣ ＵＮＩＴＥ | I23: - | J23: =J6 -> ティエラフットボールクラブＵ－１２ | M23: =D8 -> スマイス セレソン スポーツクラブ | P23: チーム名 | R23: =V8 -> 大分トリニータタートルズ | U23: - | V23: =V6 -> スマイス・セレソン | Y23: =P8 -> 西の台ＪＦＣ | AC23: ⑥ | AD23: 0.625 | AF23: チーム名 | AH23: =AL8 -> 戸次吉野ＳＳＳ | AK23: - | AL23: =AL6 -> 玖珠サッカースポーツ少年団 | AO23: =AF8 -> 大平山アソシエーション式フットボールクラブ | AR23: チーム名 | AT23: =AX8 -> はやぶさフットボールクラブ | AW23: - | AX23: =AX6 -> ＯＫＹ山香サッカークラブ | BA23: =AR8 -> 弥生少年サッカークラブ | BE23: ⑥ | BF23: 0.625 | BH23: チーム名 | BJ23: =BN8 -> 佐伯リベロフットボールクラブ | BM23: - | BN23: =BN6 -> 四日市南ＳＳＣ | BQ23: =BH8 -> ＦＣ ＪＵＮＩＯＲＳ | BT23: チーム名 | BV23: =BZ8 -> ＮＦＣ・ＯＩＴＡ Ｕ１２ | BY23: - | BZ23: =BZ6 -> ＭＦＣ三花少年サッカー教室 | CC23: =BT8 -> 竹田直入ＦＣ
D24: 得失点 | F24: 0 | I24: - | J24: 9 | M24: =D6 -> 鶴居ＳＳＳ | P24: 得失点 | R24: 1 | U24: - | V24: 1 | Y24: =P6 -> 別府フットボールクラブ．ミネルバＵ－１２ | AF24: 得失点 | AH24: 1 | AK24: - | AL24: 1 | AO24: =AF6 -> ＦＣアリアーレ | AR24: 得失点 | AT24: 0 | AW24: - | AX24: 5 | BA24: =AR6 -> 日出サッカースポーツ少年団 | BH24: 得失点 | BJ24: 1 | BM24: - | BN24: 2 | BQ24: =BH6 -> ＦＣ ＷＡＹＳ | BT24: 得失点 | BV24: 0 | BY24: - | BZ24: 5 | CC24: =BT6 -> 臼杵ＳＳＳ
F43: 勝点表 | G43: 勝 | H43: 3 | J43: 引分 | K43: 1 | M43: 負 | N43: 0 | AH43: 勝点表 | AI43: 勝 | AJ43: 3 | AL43: 引分 | AM43: 1 | AO43: 負 | AP43: 0 | BJ43: 勝点表 | BK43: 勝 | BL43: 3 | BN43: 引分 | BO43: 1 | BQ43: 負 | BR43: 0
BB44: ※１、※２ 大会規定によるPK結果 | CD44: ※１、※２ 大会規定によるPK結果
A45: =D4 -> A | D45: =A46 -> 鶴居ＳＳＳ | G45: =A48 -> ドリームキッズフットボールクラブ | J45: =A50 -> スマイス セレソン スポーツクラブ | M45: 勝 | N45: 引 分 | O45: 敗 | P45: 得 点 | Q45: 失 点 | R45: 勝 点 | S45: 勝点 順位 | U45: 得失 点差 | W45: 得失 順位 | Y45: ﾄｰﾀﾙ 順位 | AC45: =AF4 -> F | AF45: =AC46 -> ＦＣアリアーレ | AI45: =AC48 -> カティオーラフットボールクラブＵ－１２ | AL45: =AC50 -> 大平山アソシエーション式フットボールクラブ | AO45: 勝 | AP45: 引 分 | AQ45: 敗 | AR45: 得 点 | AS45: 失 点 | AT45: 勝 点 | AU45: 勝点 順位 | AW45: 得失 点差 | AY45: 得失 順位 | BA45: ﾄｰﾀﾙ 順位 | BE45: =BH4 -> E | BH45: =BE46 -> ＦＣ ＷＡＹＳ | BK45: =BE48 -> アトレチコエラン横瀬 | BN45: =BE50 -> ＦＣ ＪＵＮＩＯＲＳ | BQ45: 勝 | BR45: 引 分 | BS45: 敗 | BT45: 得 点 | BU45: 失 点 | BV45: 勝 点 | BW45: 勝点 順位 | BY45: 得失 点差 | CA45: 得失 順位 | CC45: ﾄｰﾀﾙ 順位
A46: =D6 -> 鶴居ＳＳＳ | B46: 星取表 | H46: =IF(G47="","",IF(G47>I47,"○",IF(G47<I47,"●",IF(G47=I47,"△")))) -> ● | K46: =IF(J47="","",IF(J47>L47,"○",IF(J47<L47,"●",IF(J47=L47,"△")))) -> ● | M46: =COUNTIF(D46:L46,"○") -> 0 | N46: =COUNTIF(D46:L46,"△")+COUNTIF(D46:L46,"▲") -> 0 | O46: =COUNTIF(D46:L46,"●") -> 2 | P46: =SUM(D47,G47,J47) -> 0 | Q46: =SUM(F47,I47,L47) -> 4 | R46: =(M46*3)+(N46*1) -> 0 | S46: =RANK(R46,R$46:R$51) -> 3 | T46: 位 | U46: =P46-Q46 -> -4 | W46: =RANK(U46,U$46:U$51) -> 3 | X46: 位 | Y46: 3 | AC46: =AF6 -> ＦＣアリアーレ | AD46: 星取表 | AJ46: =IF(AI47="","",IF(AI47>AK47,"○",IF(AI47<AK47,"●",IF(AI47=AK47,"△")))) -> △ | AM46: =IF(AL47="","",IF(AL47>AN47,"○",IF(AL47<AN47,"●",IF(AL47=AN47,"△")))) -> ○ | AO46: =COUNTIF(AF46:AN46,"○") -> 1 | AP46: =COUNTIF(AF46:AN46,"△")+COUNTIF(AF46:AN46,"▲") -> 1 | AQ46: =COUNTIF(AF46:AN46,"●") -> 0 | AR46: =SUM(AF47,AI47,AL47) -> 5 | AS46: =SUM(AH47,AK47,AN47) -> 0 | AT46: =(AO46*3)+(AP46*1) -> 4 | AU46: =RANK(AT46,AT$46:AT$51) -> 1 | AV46: 位 | AW46: =AR46-AS46 -> 5 | AY46: =RANK(AW46,AW$46:AW$51) -> 1 | AZ46: 位 | BA46: ※2 | BE46: =BH6 -> ＦＣ ＷＡＹＳ | BF46: 星取表 | BL46: =IF(BK47="","",IF(BK47>BM47,"○",IF(BK47<BM47,"●",IF(BK47=BM47,"△")))) -> ● | BO46: =IF(BN47="","",IF(BN47>BP47,"○",IF(BN47<BP47,"●",IF(BN47=BP47,"△")))) -> ● | BQ46: =COUNTIF(BH46:BP46,"○") -> 0 | BR46: =COUNTIF(BH46:BP46,"△")+COUNTIF(BH46:BP46,"▲") -> 0 | BS46: =COUNTIF(BH46:BP46,"●") -> 2 | BT46: =SUM(BH47,BK47,BN47) -> 0 | BU46: =SUM(BJ47,BM47,BP47) -> 8 | BV46: =(BQ46*3)+(BR46*1) -> 0 | BW46: =RANK(BV46,BV$46:BV$51) -> 3 | BX46: 位 | BY46: =BT46-BU46 -> -8 | CA46: =RANK(BY46,BY$46:BY$51) -> 3 | CB46: 位 | CC46: 3
B47: 得失点 | G47: =F14 -> 0 | H47: - | I47: =J14 -> 2 | J47: =J22 -> 0 | K47: - | L47: =F22 -> 2 | AD47: 得失点 | AI47: =AH14 -> 0 | AJ47: - | AK47: =AL14 -> 0 | AL47: =AL22 -> 5 | AM47: - | AN47: =AH22 -> 0 | BF47: 得失点 | BK47: =BJ14 -> 0 | BL47: - | BM47: =BN14 -> 5 | BN47: =BN22 -> 0 | BO47: - | BP47: =BJ22 -> 3
A48: =D7 -> ドリームキッズフットボールクラブ | B48: 星取表 | E48: =IF(D49="","",IF(D49>F49,"○",IF(D49<F49,"●",IF(D49=F49,"△")))) -> ○ | K48: =IF(J49="","",IF(J49>L49,"○",IF(J49<L49,"●",IF(J49=L49,"△")))) -> ○ | M48: =COUNTIF(D48:L48,"○") -> 2 | N48: =COUNTIF(D48:L48,"△")+COUNTIF(D48:L48,"▲") -> 0 | O48: =COUNTIF(D48:L48,"●") -> 0 | P48: =SUM(D49,G49,J49) -> 3 | Q48: =SUM(F49,I49,L49) -> 0 | R48: =(M48*3)+(N48*1) -> 6 | S48: =RANK(R48,R$46:R$51) -> 1 | T48: 位 | U48: =P48-Q48 -> 3 | W48: =RANK(U48,U$46:U$51) -> 1 | X48: 位 | Y48: 1 | AC48: =AF7 -> カティオーラフットボールクラブＵ－１２ | AD48: 星取表 | AG48: =IF(AF49="","",IF(AF49>AH49,"○",IF(AF49<AH49,"●",IF(AF49=AH49,"△")))) -> △ | AM48: =IF(AL49="","",IF(AL49>AN49,"○",IF(AL49<AN49,"●",IF(AL49=AN49,"△")))) -> ○ | AO48: =COUNTIF(AF48:AN48,"○") -> 1 | AP48: =COUNTIF(AF48:AN48,"△")+COUNTIF(AF48:AN48,"▲") -> 1 | AQ48: =COUNTIF(AF48:AN48,"●") -> 0 | AR48: =SUM(AF49,AI49,AL49) -> 5 | AS48: =SUM(AH49,AK49,AN49) -> 0 | AT48: =(AO48*3)+(AP48*1) -> 4 | AU48: =RANK(AT48,AT$46:AT$51) -> 1 | AV48: 位 | AW48: =AR48-AS48 -> 5 | AY48: =RANK(AW48,AW$46:AW$51) -> 1 | AZ48: 位 | BA48: ※1 | BE48: =BH7 -> アトレチコエラン横瀬 | BF48: 星取表 | BI48: =IF(BH49="","",IF(BH49>BJ49,"○",IF(BH49<BJ49,"●",IF(BH49=BJ49,"△")))) -> ○ | BO48: =IF(BN49="","",IF(BN49>BP49,"○",IF(BN49<BP49,"●",IF(BN49=BP49,"△")))) -> ○ | BQ48: =COUNTIF(BH48:BP48,"○") -> 2 | BR48: =COUNTIF(BH48:BP48,"△")+COUNTIF(BH48:BP48,"▲") -> 0 | BS48: =COUNTIF(BH48:BP48,"●") -> 0 | BT48: =SUM(BH49,BK49,BN49) -> 7 | BU48: =SUM(BJ49,BM49,BP49) -> 0 | BV48: =(BQ48*3)+(BR48*1) -> 6 | BW48: =RANK(BV48,BV$46:BV$51) -> 1 | BX48: 位 | BY48: =BT48-BU48 -> 7 | CA48: =RANK(BY48,BY$46:BY$51) -> 1 | CB48: 位 | CC48: 1
B49: 得失点 | D49: =I47 -> 2 | E49: - | F49: =G47 -> 0 | J49: =F18 -> 1 | K49: - | L49: =J18 -> 0 | AD49: 得失点 | AF49: =AK47 -> 0 | AG49: - | AH49: =AI47 -> 0 | AL49: =AH18 -> 5 | AM49: - | AN49: =AL18 -> 0 | BF49: 得失点 | BH49: =BM47 -> 5 | BI49: - | BJ49: =BK47 -> 0 | BN49: =BJ18 -> 2 | BO49: - | BP49: =BN18 -> 0
A50: =D8 -> スマイス セレソン スポーツクラブ | B50: 星取表 | E50: =IF(D51="","",IF(D51>F51,"○",IF(D51<F51,"●",IF(D51=F51,"△")))) -> ○ | H50: =IF(G51="","",IF(G51>I51,"○",IF(G51<I51,"●",IF(G51=I51,"△")))) -> ● | M50: =COUNTIF(D50:L50,"○") -> 1 | N50: =COUNTIF(D50:L50,"△")+COUNTIF(D50:L50,"▲") -> 0 | O50: =COUNTIF(D50:L50,"●") -> 1 | P50: =SUM(D51,G51,J51) -> 2 | Q50: =SUM(F51,I51,L51) -> 1 | R50: =(M50*3)+(N50*1) -> 3 | S50: =RANK(R50,R$46:R$51) -> 2 | T50: 位 | U50: =P50-Q50 -> 1 | W50: =RANK(U50,U$46:U$51) -> 2 | X50: 位 | Y50: 2 | AC50: =AF8 -> 大平山アソシエーション式フットボールクラブ | AD50: 星取表 | AG50: =IF(AF51="","",IF(AF51>AH51,"○",IF(AF51<AH51,"●",IF(AF51=AH51,"△")))) -> ● | AJ50: =IF(AI51="","",IF(AI51>AK51,"○",IF(AI51<AK51,"●",IF(AI51=AK51,"△")))) -> ● | AO50: =COUNTIF(AF50:AN50,"○") -> 0 | AP50: =COUNTIF(AF50:AN50,"△")+COUNTIF(AF50:AN50,"▲") -> 0 | AQ50: =COUNTIF(AF50:AN50,"●") -> 2 | AR50: =SUM(AF51,AI51,AL51) -> 0 | AS50: =SUM(AH51,AK51,AN51) -> 10 | AT50: =(AO50*3)+(AP50*1) -> 0 | AU50: =RANK(AT50,AT$46:AT$51) -> 3 | AV50: 位 | AW50: =AR50-AS50 -> -10 | AY50: =RANK(AW50,AW$46:AW$51) -> 3 | AZ50: 位 | BA50: 3 | BE50: =BH8 -> ＦＣ ＪＵＮＩＯＲＳ | BF50: 星取表 | BI50: =IF(BH51="","",IF(BH51>BJ51,"○",IF(BH51<BJ51,"●",IF(BH51=BJ51,"△")))) -> ○ | BL50: =IF(BK51="","",IF(BK51>BM51,"○",IF(BK51<BM51,"●",IF(BK51=BM51,"△")))) -> ● | BQ50: =COUNTIF(BH50:BP50,"○") -> 1 | BR50: =COUNTIF(BH50:BP50,"△")+COUNTIF(BH50:BP50,"▲") -> 0 | BS50: =COUNTIF(BH50:BP50,"●") -> 1 | BT50: =SUM(BH51,BK51,BN51) -> 3 | BU50: =SUM(BJ51,BM51,BP51) -> 2 | BV50: =(BQ50*3)+(BR50*1) -> 3 | BW50: =RANK(BV50,BV$46:BV$51) -> 2 | BX50: 位 | BY50: =BT50-BU50 -> 1 | CA50: =RANK(BY50,BY$46:BY$51) -> 2 | CB50: 位 | CC50: 2
B51: 得失点 | D51: =L47 -> 2 | E51: - | F51: =J47 -> 0 | G51: =L49 -> 0 | H51: - | I51: =J49 -> 1 | AD51: 得失点 | AF51: =AN47 -> 0 | AG51: - | AH51: =AL47 -> 5 | AI51: =AN49 -> 0 | AJ51: - | AK51: =AL49 -> 5 | BF51: 得失点 | BH51: =BP47 -> 3 | BI51: - | BJ51: =BN47 -> 0 | BK51: =BP49 -> 0 | BL51: - | BM51: =BN49 -> 2
A53: =J4 -> G | D53: =A54 -> ティエラフットボールクラブＵ－１２ | G53: =A56 -> 南大分サッカー少年団 | J53: =A58 -> ＦＣ ＵＮＩＴＥ | M53: 勝 | N53: 引 分 | O53: 敗 | P53: 得 点 | Q53: 失 点 | R53: 勝 点 | S53: 勝点 順位 | U53: 得失 点差 | W53: 得失 順位 | Y53: ﾄｰﾀﾙ 順位 | AC53: =AL4 -> K | AF53: =AC54 -> 玖珠サッカースポーツ少年団 | AI53: =AC56 -> 鶴崎ＳＳＳ | AL53: =AC58 -> 戸次吉野ＳＳＳ | AO53: 勝 | AP53: 引 分 | AQ53: 敗 | AR53: 得 点 | AS53: 失 点 | AT53: 勝 点 | AU53: 勝点 順位 | AW53: 得失 点差 | AY53: 得失 順位 | BA53: ﾄｰﾀﾙ 順位 | BE53: =BN4 -> L | BH53: =BE54 -> 四日市南ＳＳＣ | BK53: =BE56 -> 明野東サッカースポーツ少年団 | BN53: =BE58 -> 佐伯リベロフットボールクラブ | BQ53: 勝 | BR53: 引 分 | BS53: 敗 | BT53: 得 点 | BU53: 失 点 | BV53: 勝 点 | BW53: 勝点 順位 | BY53: 得失 点差 | CA53: 得失 順位 | CC53: ﾄｰﾀﾙ 順位
A54: =J6 -> ティエラフットボールクラブＵ－１２ | B54: 星取表 | H54: =IF(G55="","",IF(G55>I55,"○",IF(G55<I55,"●",IF(G55=I55,"△")))) -> ○ | K54: =IF(J55="","",IF(J55>L55,"○",IF(J55<L55,"●",IF(J55=L55,"△")))) -> ○ | M54: =COUNTIF(D54:L54,"○") -> 2 | N54: =COUNTIF(D54:L54,"△")+COUNTIF(D54:L54,"▲") -> 0 | O54: =COUNTIF(D54:L54,"●") -> 0 | P54: =SUM(D55,G55,J55) -> 11 | Q54: =SUM(F55,I55,L55) -> 0 | R54: =(M54*3)+(N54*1) -> 6 | S54: =RANK(R54,$R$54:$R$59) -> 1 | T54: 位 | U54: =P54-Q54 -> 11 | W54: =RANK(U54,$U$54:$V$59) -> 1 | X54: 位 | Y54: 1 | AC54: =AL6 -> 玖珠サッカースポーツ少年団 | AD54: 星取表 | AJ54: =IF(AI55="","",IF(AI55>AK55,"○",IF(AI55<AK55,"●",IF(AI55=AK55,"△")))) -> ● | AM54: =IF(AL55="","",IF(AL55>AN55,"○",IF(AL55<AN55,"●",IF(AL55=AN55,"△")))) -> △ | AO54: =COUNTIF(AF54:AN54,"○") -> 0 | AP54: =COUNTIF(AF54:AN54,"△")+COUNTIF(AF54:AN54,"▲") -> 1 | AQ54: =COUNTIF(AF54:AN54,"●") -> 1 | AR54: =SUM(AF55,AI55,AL55) -> 1 | AS54: =SUM(AH55,AK55,AN55) -> 5 | AT54: =(AO54*3)+(AP54*1) -> 1 | AU54: =RANK(AT54,$AT$54:$AT$59) -> 3 | AV54: 位 | AW54: =AR54-AS54 -> -4 | AY54: =RANK(AW54,$AW$54:$AW$59) -> 3 | AZ54: 位 | BA54: 3 | BE54: =BN6 -> 四日市南ＳＳＣ | BF54: 星取表 | BL54: =IF(BK55="","",IF(BK55>BM55,"○",IF(BK55<BM55,"●",IF(BK55=BM55,"△")))) -> △ | BO54: =IF(BN55="","",IF(BN55>BP55,"○",IF(BN55<BP55,"●",IF(BN55=BP55,"△")))) -> ○ | BQ54: =COUNTIF(BH54:BP54,"○") -> 1 | BR54: =COUNTIF(BH54:BP54,"△")+COUNTIF(BH54:BP54,"▲") -> 1 | BS54: =COUNTIF(BH54:BP54,"●") -> 0 | BT54: =SUM(BH55,BK55,BN55) -> 3 | BU54: =SUM(BJ55,BM55,BP55) -> 2 | BV54: =(BQ54*3)+(BR54*1) -> 4 | BW54: =RANK(BV54,$BV$54:$BV$59) -> 1 | BX54: 位 | BY54: =BT54-BU54 -> 1 | CA54: =RANK(BY54,$BY$54:$BY$59) -> 1 | CB54: 位 | CC54: 1
B55: 得失点 | G55: =F16 -> 2 | H55: - | I55: =J16 -> 0 | J55: =J24 -> 9 | K55: - | L55: =F24 -> 0 | AD55: 得失点 | AI55: =AH16 -> 0 | AJ55: - | AK55: =AL16 -> 4 | AL55: =AL24 -> 1 | AM55: - | AN55: =AH24 -> 1 | BF55: 得失点 | BK55: =BJ16 -> 1 | BL55: - | BM55: =BN16 -> 1 | BN55: =BN24 -> 2 | BO55: - | BP55: =BJ24 -> 1
A56: =J7 -> 南大分サッカー少年団 | B56: 星取表 | E56: =IF(D57="","",IF(D57>F57,"○",IF(D57<F57,"●",IF(D57=F57,"△")))) -> ● | K56: =IF(J57="","",IF(J57>L57,"○",IF(J57<L57,"●",IF(J57=L57,"△")))) -> ○ | M56: =COUNTIF(D56:L56,"○") -> 1 | N56: =COUNTIF(D56:L56,"△")+COUNTIF(D56:L56,"▲") -> 0 | O56: =COUNTIF(D56:L56,"●") -> 1 | P56: =SUM(D57,G57,J57) -> 5 | Q56: =SUM(F57,I57,L57) -> 2 | R56: =(M56*3)+(N56*1) -> 3 | S56: =RANK(R56,$R$54:$R$59) -> 2 | T56: 位 | U56: =P56-Q56 -> 3 | W56: =RANK(U56,$U$54:$V$59) -> 2 | X56: 位 | Y56: 2 | AC56: =AL7 -> 鶴崎ＳＳＳ | AD56: 星取表 | AG56: =IF(AF57="","",IF(AF57>AH57,"○",IF(AF57<AH57,"●",IF(AF57=AH57,"△")))) -> ○ | AM56: =IF(AL57="","",IF(AL57>AN57,"○",IF(AL57<AN57,"●",IF(AL57=AN57,"△")))) -> ● | AO56: =COUNTIF(AF56:AN56,"○") -> 1 | AP56: =COUNTIF(AF56:AN56,"△")+COUNTIF(AF56:AN56,"▲") -> 0 | AQ56: =COUNTIF(AF56:AN56,"●") -> 1 | AR56: =SUM(AF57,AI57,AL57) -> 6 | AS56: =SUM(AH57,AK57,AN57) -> 3 | AT56: =(AO56*3)+(AP56*1) -> 3 | AU56: =RANK(AT56,$AT$54:$AT$59) -> 2 | AV56: 位 | AW56: =AR56-AS56 -> 3 | AY56: =RANK(AW56,$AW$54:$AW$59) -> 1 | AZ56: 位 | BA56: 2 | BE56: =BN7 -> 明野東サッカースポーツ少年団 | BF56: 星取表 | BI56: =IF(BH57="","",IF(BH57>BJ57,"○",IF(BH57<BJ57,"●",IF(BH57=BJ57,"△")))) -> △ | BO56: =IF(BN57="","",IF(BN57>BP57,"○",IF(BN57<BP57,"●",IF(BN57=BP57,"△")))) -> ● | BQ56: =COUNTIF(BH56:BP56,"○") -> 0 | BR56: =COUNTIF(BH56:BP56,"△")+COUNTIF(BH56:BP56,"▲") -> 1 | BS56: =COUNTIF(BH56:BP56,"●") -> 1 | BT56: =SUM(BH57,BK57,BN57) -> 1 | BU56: =SUM(BJ57,BM57,BP57) -> 2 | BV56: =(BQ56*3)+(BR56*1) -> 1 | BW56: =RANK(BV56,$BV$54:$BV$59) -> 3 | BX56: 位 | BY56: =BT56-BU56 -> -1 | CA56: =RANK(BY56,$BY$54:$BY$59) -> 3 | CB56: 位 | CC56: 3
B57: 得失点 | D57: =I55 -> 0 | E57: - | F57: =G55 -> 2 | J57: =F20 -> 5 | K57: - | L57: =J20 -> 0 | AD57: 得失点 | AF57: =AK55 -> 4 | AG57: - | AH57: =AI55 -> 0 | AL57: =AH20 -> 2 | AM57: - | AN57: =AL20 -> 3 | BF57: 得失点 | BH57: =BM55 -> 1 | BI57: - | BJ57: =BK55 -> 1 | BN57: =BJ20 -> 0 | BO57: - | BP57: =BN20 -> 1
A58: =J8 -> ＦＣ ＵＮＩＴＥ | B58: 星取表 | E58: =IF(D59="","",IF(D59>F59,"○",IF(D59<F59,"●",IF(D59=F59,"△")))) -> ● | H58: =IF(G59="","",IF(G59>I59,"○",IF(G59<I59,"●",IF(G59=I59,"△")))) -> ● | M58: =COUNTIF(D58:L58,"○") -> 0 | N58: =COUNTIF(D58:L58,"△")+COUNTIF(D58:L58,"▲") -> 0 | O58: =COUNTIF(D58:L58,"●") -> 2 | P58: =SUM(D59,G59,J59) -> 0 | Q58: =SUM(F59,I59,L59) -> 14 | R58: =(M58*3)+(N58*1) -> 0 | S58: =RANK(R58,$R$54:$R$59) -> 3 | T58: 位 | U58: =P58-Q58 -> -14 | W58: =RANK(U58,$U$54:$V$59) -> 3 | X58: 位 | Y58: 3 | AC58: =AL8 -> 戸次吉野ＳＳＳ | AD58: 星取表 | AG58: =IF(AF59="","",IF(AF59>AH59,"○",IF(AF59<AH59,"●",IF(AF59=AH59,"△")))) -> △ | AJ58: =IF(AI59="","",IF(AI59>AK59,"○",IF(AI59<AK59,"●",IF(AI59=AK59,"△")))) -> ○ | AO58: =COUNTIF(AF58:AN58,"○") -> 1 | AP58: =COUNTIF(AF58:AN58,"△")+COUNTIF(AF58:AN58,"▲") -> 1 | AQ58: =COUNTIF(AF58:AN58,"●") -> 0 | AR58: =SUM(AF59,AI59,AL59) -> 4 | AS58: =SUM(AH59,AK59,AN59) -> 3 | AT58: =(AO58*3)+(AP58*1) -> 4 | AU58: =RANK(AT58,$AT$54:$AT$59) -> 1 | AV58: 位 | AW58: =AR58-AS58 -> 1 | AY58: =RANK(AW58,$AW$54:$AW$59) -> 2 | AZ58: 位 | BA58: 1 | BE58: =BN8 -> 佐伯リベロフットボールクラブ | BF58: 星取表 | BI58: =IF(BH59="","",IF(BH59>BJ59,"○",IF(BH59<BJ59,"●",IF(BH59=BJ59,"△")))) -> ● | BL58: =IF(BK59="","",IF(BK59>BM59,"○",IF(BK59<BM59,"●",IF(BK59=BM59,"△")))) -> ○ | BQ58: =COUNTIF(BH58:BP58,"○") -> 1 | BR58: =COUNTIF(BH58:BP58,"△")+COUNTIF(BH58:BP58,"▲") -> 0 | BS58: =COUNTIF(BH58:BP58,"●") -> 1 | BT58: =SUM(BH59,BK59,BN59) -> 2 | BU58: =SUM(BJ59,BM59,BP59) -> 2 | BV58: =(BQ58*3)+(BR58*1) -> 3 | BW58: =RANK(BV58,$BV$54:$BV$59) -> 2 | BX58: 位 | BY58: =BT58-BU58 -> 0 | CA58: =RANK(BY58,$BY$54:$BY$59) -> 2 | CB58: 位 | CC58: 2
B59: 得失点 | D59: =L55 -> 0 | E59: - | F59: =J55 -> 9 | G59: =L57 -> 0 | H59: - | I59: =J57 -> 5 | AD59: 得失点 | AF59: =AN55 -> 1 | AG59: - | AH59: =AL55 -> 1 | AI59: =AN57 -> 3 | AJ59: - | AK59: =AL57 -> 2 | BF59: 得失点 | BH59: =BP55 -> 1 | BI59: - | BJ59: =BN55 -> 2 | BK59: =BP57 -> 1 | BL59: - | BM59: =BN57 -> 0
A61: =P4 -> C | D61: =A62 -> 別府フットボールクラブ．ミネルバＵ－１２ | G61: =A64 -> カティオーラフットボールクラブＵ－１２ Ｎｅｘｔ | J61: =A66 -> 西の台ＪＦＣ | M61: 勝 | N61: 引 分 | O61: 敗 | P61: 得 点 | Q61: 失 点 | R61: 勝 点 | S61: 勝点 順位 | U61: 得失 点差 | W61: 得失 順位 | Y61: ﾄｰﾀﾙ 順位 | AC61: =AR4 -> D | AF61: =AC62 -> 日出サッカースポーツ少年団 | AI61: =AC64 -> 大分トリニータＵ－１２ | AL61: =AC66 -> 弥生少年サッカークラブ | AO61: 勝 | AP61: 引 分 | AQ61: 敗 | AR61: 得 点 | AS61: 失 点 | AT61: 勝 点 | AU61: 勝点 順位 | AW61: 得失 点差 | AY61: 得失 順位 | BA61: ﾄｰﾀﾙ 順位 | BE61: =BT4 -> B | BH61: =BE62 -> 臼杵ＳＳＳ | BK61: =BE64 -> ＦＣ ＲＥＧＡＴＥ | BN61: =BE66 -> 竹田直入ＦＣ | BQ61: 勝 | BR61: 引 分 | BS61: 敗 | BT61: 得 点 | BU61: 失 点 | BV61: 勝 点 | BW61: 勝点 順位 | BY61: 得失 点差 | CA61: 得失 順位 | CC61: ﾄｰﾀﾙ 順位
A62: =P6 -> 別府フットボールクラブ．ミネルバＵ－１２ | B62: 星取表 | H62: =IF(G63="","",IF(G63>I63,"○",IF(G63<I63,"●",IF(G63=I63,"△")))) -> ○ | K62: =IF(J63="","",IF(J63>L63,"○",IF(J63<L63,"●",IF(J63=L63,"△")))) -> ○ | M62: =COUNTIF(D62:L62,"○") -> 2 | N62: =COUNTIF(D62:L62,"△")+COUNTIF(D62:L62,"▲") -> 0 | O62: =COUNTIF(D62:L62,"●") -> 0 | P62: =SUM(D63,G63,J63) -> 6 | Q62: =SUM(F63,I63,L63) -> 0 | R62: =(M62*3)+(N62*1) -> 6 | S62: =RANK(R62,$R$62:$R$67) -> 1 | T62: 位 | U62: =P62-Q62 -> 6 | W62: =RANK(U62,$U$62:$V$67) -> 1 | X62: 位 | Y62: 1 | AC62: =AR6 -> 日出サッカースポーツ少年団 | AD62: 星取表 | AJ62: =IF(AI63="","",IF(AI63>AK63,"○",IF(AI63<AK63,"●",IF(AI63=AK63,"△")))) -> ● | AM62: =IF(AL63="","",IF(AL63>AN63,"○",IF(AL63<AN63,"●",IF(AL63=AN63,"△")))) -> ● | AO62: =COUNTIF(AF62:AN62,"○") -> 0 | AP62: =COUNTIF(AF62:AN62,"△")+COUNTIF(AF62:AN62,"▲") -> 0 | AQ62: =COUNTIF(AF62:AN62,"●") -> 2 | AR62: =SUM(AF63,AI63,AL63) -> 1 | AS62: =SUM(AH63,AK63,AN63) -> 13 | AT62: =(AO62*3)+(AP62*1) -> 0 | AU62: =RANK(AT62,$AT$62:$AT$67) -> 3 | AV62: 位 | AW62: =AR62-AS62 -> -12 | AY62: =RANK(AW62,$AW$62:$AW$67) -> 3 | AZ62: 位 | BA62: 3 | BE62: =BT6 -> 臼杵ＳＳＳ | BF62: 星取表 | BL62: =IF(BK63="","",IF(BK63>BM63,"○",IF(BK63<BM63,"●",IF(BK63=BM63,"△")))) -> ○ | BO62: =IF(BN63="","",IF(BN63>BP63,"○",IF(BN63<BP63,"●",IF(BN63=BP63,"△")))) -> ○ | BQ62: =COUNTIF(BH62:BP62,"○") -> 2 | BR62: =COUNTIF(BH62:BP62,"△")+COUNTIF(BH62:BP62,"▲") -> 0 | BS62: =COUNTIF(BH62:BP62,"●") -> 0 | BT62: =SUM(BH63,BK63,BN63) -> 7 | BU62: =SUM(BJ63,BM63,BP63) -> 0 | BV62: =(BQ62*3)+(BR62*1) -> 6 | BW62: =RANK(BV62,$BV$62:$BV$67) -> 1 | BX62: 位 | BY62: =BT62-BU62 -> 7 | CA62: =RANK(BY62,$BY$62:$BY$67) -> 1 | CB62: 位 | CC62: 1
B63: 得失点 | G63: =R14 -> 3 | H63: - | I63: =V14 -> 0 | J63: =V22 -> 3 | K63: - | L63: =R22 -> 0 | AD63: 得失点 | AI63: =AT14 -> 1 | AJ63: - | AK63: =AX14 -> 11 | AL63: =AX22 -> 0 | AM63: - | AN63: =AT22 -> 2 | BF63: 得失点 | BK63: =BV14 -> 4 | BL63: - | BM63: =BZ14 -> 0 | BN63: =BZ22 -> 3 | BO63: - | BP63: =BV22 -> 0
A64: =P7 -> カティオーラフットボールクラブＵ－１２ Ｎｅｘｔ | B64: 星取表 | E64: =IF(D65="","",IF(D65>F65,"○",IF(D65<F65,"●",IF(D65=F65,"△")))) -> ● | K64: =IF(J65="","",IF(J65>L65,"○",IF(J65<L65,"●",IF(J65=L65,"△")))) -> ● | M64: =COUNTIF(D64:L64,"○") -> 0 | N64: =COUNTIF(D64:L64,"△")+COUNTIF(D64:L64,"▲") -> 0 | O64: =COUNTIF(D64:L64,"●") -> 2 | P64: =SUM(D65,G65,J65) -> 1 | Q64: =SUM(F65,I65,L65) -> 5 | R64: =(M64*3)+(N64*1) -> 0 | S64: =RANK(R64,$R$62:$R$67) -> 3 | T64: 位 | U64: =P64-Q64 -> -4 | W64: =RANK(U64,$U$62:$V$67) -> 3 | X64: 位 | Y64: 3 | AC64: =AR7 -> 大分トリニータＵ－１２ | AD64: 星取表 | AG64: =IF(AF65="","",IF(AF65>AH65,"○",IF(AF65<AH65,"●",IF(AF65=AH65,"△")))) -> ○ | AM64: =IF(AL65="","",IF(AL65>AN65,"○",IF(AL65<AN65,"●",IF(AL65=AN65,"△")))) -> △ | AO64: =COUNTIF(AF64:AN64,"○") -> 1 | AP64: =COUNTIF(AF64:AN64,"△")+COUNTIF(AF64:AN64,"▲") -> 1 | AQ64: =COUNTIF(AF64:AN64,"●") -> 0 | AR64: =SUM(AF65,AI65,AL65) -> 11 | AS64: =SUM(AH65,AK65,AN65) -> 1 | AT64: =(AO64*3)+(AP64*1) -> 4 | AU64: =RANK(AT64,$AT$62:$AT$67) -> 1 | AV64: 位 | AW64: =AR64-AS64 -> 10 | AY64: =RANK(AW64,$AW$62:$AW$67) -> 1 | AZ64: 位 | BA64: ※2 | BE64: =BT7 -> ＦＣ ＲＥＧＡＴＥ | BF64: 星取表 | BI64: =IF(BH65="","",IF(BH65>BJ65,"○",IF(BH65<BJ65,"●",IF(BH65=BJ65,"△")))) -> ● | BO64: =IF(BN65="","",IF(BN65>BP65,"○",IF(BN65<BP65,"●",IF(BN65=BP65,"△")))) -> ● | BQ64: =COUNTIF(BH64:BP64,"○") -> 0 | BR64: =COUNTIF(BH64:BP64,"△")+COUNTIF(BH64:BP64,"▲") -> 0 | BS64: =COUNTIF(BH64:BP64,"●") -> 2 | BT64: =SUM(BH65,BK65,BN65) -> 0 | BU64: =SUM(BJ65,BM65,BP65) -> 6 | BV64: =(BQ64*3)+(BR64*1) -> 0 | BW64: =RANK(BV64,$BV$62:$BV$67) -> 3 | BX64: 位 | BY64: =BT64-BU64 -> -6 | CA64: =RANK(BY64,$BY$62:$BY$67) -> 3 | CB64: 位 | CC64: 3
B65: 得失点 | D65: =I63 -> 0 | E65: - | F65: =G63 -> 3 | J65: =R18 -> 1 | K65: - | L65: =V18 -> 2 | AD65: 得失点 | AF65: =AK63 -> 11 | AG65: - | AH65: =AI63 -> 1 | AL65: =AT18 -> 0 | AM65: - | AN65: =AX18 -> 0 | BF65: 得失点 | BH65: =BM63 -> 0 | BI65: - | BJ65: =BK63 -> 4 | BN65: =BV18 -> 0 | BO65: - | BP65: =BZ18 -> 2
A66: =P8 -> 西の台ＪＦＣ | B66: 星取表 | E66: =IF(D67="","",IF(D67>F67,"○",IF(D67<F67,"●",IF(D67=F67,"△")))) -> ● | H66: =IF(G67="","",IF(G67>I67,"○",IF(G67<I67,"●",IF(G67=I67,"△")))) -> ○ | M66: =COUNTIF(D66:L66,"○") -> 1 | N66: =COUNTIF(D66:L66,"△")+COUNTIF(D66:L66,"▲") -> 0 | O66: =COUNTIF(D66:L66,"●") -> 1 | P66: =SUM(D67,G67,J67) -> 2 | Q66: =SUM(F67,I67,L67) -> 4 | R66: =(M66*3)+(N66*1) -> 3 | S66: =RANK(R66,$R$62:$R$67) -> 2 | T66: 位 | U66: =P66-Q66 -> -2 | W66: =RANK(U66,$U$62:$V$67) -> 2 | X66: 位 | Y66: 2 | AC66: =AR8 -> 弥生少年サッカークラブ | AD66: 星取表 | AG66: =IF(AF67="","",IF(AF67>AH67,"○",IF(AF67<AH67,"●",IF(AF67=AH67,"△")))) -> ○ | AJ66: =IF(AI67="","",IF(AI67>AK67,"○",IF(AI67<AK67,"●",IF(AI67=AK67,"△")))) -> △ | AO66: =COUNTIF(AF66:AN66,"○") -> 1 | AP66: =COUNTIF(AF66:AN66,"△")+COUNTIF(AF66:AN66,"▲") -> 1 | AQ66: =COUNTIF(AF66:AN66,"●") -> 0 | AR66: =SUM(AF67,AI67,AL67) -> 2 | AS66: =SUM(AH67,AK67,AN67) -> 0 | AT66: =(AO66*3)+(AP66*1) -> 4 | AU66: =RANK(AT66,$AT$62:$AT$67) -> 1 | AV66: 位 | AW66: =AR66-AS66 -> 2 | AY66: =RANK(AW66,$AW$62:$AW$67) -> 2 | AZ66: 位 | BA66: ※1 | BE66: =BT8 -> 竹田直入ＦＣ | BF66: 星取表 | BI66: =IF(BH67="","",IF(BH67>BJ67,"○",IF(BH67<BJ67,"●",IF(BH67=BJ67,"△")))) -> ● | BL66: =IF(BK67="","",IF(BK67>BM67,"○",IF(BK67<BM67,"●",IF(BK67=BM67,"△")))) -> ○ | BQ66: =COUNTIF(BH66:BP66,"○") -> 1 | BR66: =COUNTIF(BH66:BP66,"△")+COUNTIF(BH66:BP66,"▲") -> 0 | BS66: =COUNTIF(BH66:BP66,"●") -> 1 | BT66: =SUM(BH67,BK67,BN67) -> 2 | BU66: =SUM(BJ67,BM67,BP67) -> 3 | BV66: =(BQ66*3)+(BR66*1) -> 3 | BW66: =RANK(BV66,$BV$62:$BV$67) -> 2 | BX66: 位 | BY66: =BT66-BU66 -> -1 | CA66: =RANK(BY66,$BY$62:$BY$67) -> 2 | CB66: 位 | CC66: 2
B67: 得失点 | D67: =L63 -> 0 | E67: - | F67: =J63 -> 3 | G67: =L65 -> 2 | H67: - | I67: =J65 -> 1 | AD67: 得失点 | AF67: =AN63 -> 2 | AG67: - | AH67: =AL63 -> 0 | AI67: =AN65 -> 0 | AJ67: - | AK67: =AL65 -> 0 | BF67: 得失点 | BH67: =BP63 -> 0 | BI67: - | BJ67: =BN63 -> 3 | BK67: =BP65 -> 2 | BL67: - | BM67: =BN65 -> 0
A69: =V4 -> H | D69: =A70 -> スマイス・セレソン | G69: =A72 -> 明治北ＳＳＣ | J69: =A74 -> 大分トリニータタートルズ | M69: 勝 | N69: 引 分 | O69: 敗 | P69: 得 点 | Q69: 失 点 | R69: 勝 点 | S69: 勝点 順位 | U69: 得失 点差 | W69: 得失 順位 | Y69: ﾄｰﾀﾙ 順位 | AC69: =AX4 -> J | AF69: =AC70 -> ＯＫＹ山香サッカークラブ | AI69: =AC72 -> 滝尾下郡サッカースポーツ少年団 | AL69: =AC74 -> はやぶさフットボールクラブ | AO69: 勝 | AP69: 引 分 | AQ69: 敗 | AR69: 得 点 | AS69: 失 点 | AT69: 勝 点 | AU69: 勝点 順位 | AW69: 得失 点差 | AY69: 得失 順位 | BA69: ﾄｰﾀﾙ 順位 | BE69: =BZ4 -> I | BH69: =BE70 -> ＭＦＣ三花少年サッカー教室 | BK69: =BE72 -> リノスフットボールクラブ Ｕ－１２ | BN69: =BE74 -> ＮＦＣ・ＯＩＴＡ Ｕ１２ | BQ69: 勝 | BR69: 引 分 | BS69: 敗 | BT69: 得 点 | BU69: 失 点 | BV69: 勝 点 | BW69: 勝点 順位 | BY69: 得失 点差 | CA69: 得失 順位 | CC69: ﾄｰﾀﾙ 順位
A70: =V6 -> スマイス・セレソン | B70: 星取表 | H70: =IF(G71="","",IF(G71>I71,"○",IF(G71<I71,"●",IF(G71=I71,"△")))) -> ● | K70: =IF(J71="","",IF(J71>L71,"○",IF(J71<L71,"●",IF(J71=L71,"△")))) -> △ | M70: =COUNTIF(D70:L70,"○") -> 0 | N70: =COUNTIF(D70:L70,"△")+COUNTIF(D70:L70,"▲") -> 1 | O70: =COUNTIF(D70:L70,"●") -> 1 | P70: =SUM(D71,G71,J71) -> 1 | Q70: =SUM(F71,I71,L71) -> 2 | R70: =(M70*3)+(N70*1) -> 1 | S70: =RANK(R70,$R$70:$R$75) -> 3 | T70: 位 | U70: =P70-Q70 -> -1 | W70: =RANK(U70,$U$70:$V$75) -> 2 | X70: 位 | Y70: 3 | AC70: =AX6 -> ＯＫＹ山香サッカークラブ | AD70: 星取表 | AJ70: =IF(AI71="","",IF(AI71>AK71,"○",IF(AI71<AK71,"●",IF(AI71=AK71,"△")))) -> ● | AM70: =IF(AL71="","",IF(AL71>AN71,"○",IF(AL71<AN71,"●",IF(AL71=AN71,"△")))) -> ○ | AO70: =COUNTIF(AF70:AN70,"○") -> 1 | AP70: =COUNTIF(AF70:AN70,"△")+COUNTIF(AF70:AN70,"▲") -> 0 | AQ70: =COUNTIF(AF70:AN70,"●") -> 1 | AR70: =SUM(AF71,AI71,AL71) -> 8 | AS70: =SUM(AH71,AK71,AN71) -> 4 | AT70: =(AO70*3)+(AP70*1) -> 3 | AU70: =RANK(AT70,$AT$70:$AT$75) -> 2 | AV70: 位 | AW70: =AR70-AS70 -> 4 | AY70: =RANK(AW70,$AW$70:$AW$75) -> 2 | AZ70: 位 | BA70: 2 | BE70: =BZ6 -> ＭＦＣ三花少年サッカー教室 | BF70: 星取表 | BL70: =IF(BK71="","",IF(BK71>BM71,"○",IF(BK71<BM71,"●",IF(BK71=BM71,"△")))) -> △ | BO70: =IF(BN71="","",IF(BN71>BP71,"○",IF(BN71<BP71,"●",IF(BN71=BP71,"△")))) -> ○ | BQ70: =COUNTIF(BH70:BP70,"○") -> 1 | BR70: =COUNTIF(BH70:BP70,"△")+COUNTIF(BH70:BP70,"▲") -> 1 | BS70: =COUNTIF(BH70:BP70,"●") -> 0 | BT70: =SUM(BH71,BK71,BN71) -> 5 | BU70: =SUM(BJ71,BM71,BP71) -> 0 | BV70: =(BQ70*3)+(BR70*1) -> 4 | BW70: =RANK(BV70,$BV$70:$BV$75) -> 1 | BX70: 位 | BY70: =BT70-BU70 -> 5 | CA70: =RANK(BY70,$BY$70:$BY$75) -> 1 | CB70: 位 | CC70: ※2
B71: 得失点 | G71: =R16 -> 0 | H71: - | I71: =V16 -> 1 | J71: =V24 -> 1 | K71: - | L71: =R24 -> 1 | AD71: 得失点 | AI71: =AT16 -> 3 | AJ71: - | AK71: =AX16 -> 4 | AL71: =AX24 -> 5 | AM71: - | AN71: =AT24 -> 0 | BF71: 得失点 | BK71: =BV16 -> 0 | BL71: - | BM71: =BZ16 -> 0 | BN71: =BZ24 -> 5 | BO71: - | BP71: =BV24 -> 0
A72: =V7 -> 明治北ＳＳＣ | B72: 星取表 | E72: =IF(D73="","",IF(D73>F73,"○",IF(D73<F73,"●",IF(D73=F73,"△")))) -> ○ | K72: =IF(J73="","",IF(J73>L73,"○",IF(J73<L73,"●",IF(J73=L73,"△")))) -> ● | M72: =COUNTIF(D72:L72,"○") -> 1 | N72: =COUNTIF(D72:L72,"△")+COUNTIF(D72:L72,"▲") -> 0 | O72: =COUNTIF(D72:L72,"●") -> 1 | P72: =SUM(D73,G73,J73) -> 3 | Q72: =SUM(F73,I73,L73) -> 4 | R72: =(M72*3)+(N72*1) -> 3 | S72: =RANK(R72,$R$70:$R$75) -> 2 | T72: 位 | U72: =P72-Q72 -> -1 | W72: =RANK(U72,$U$70:$V$75) -> 2 | X72: 位 | Y72: 2 | AC72: =AX7 -> 滝尾下郡サッカースポーツ少年団 | AD72: 星取表 | AG72: =IF(AF73="","",IF(AF73>AH73,"○",IF(AF73<AH73,"●",IF(AF73=AH73,"△")))) -> ○ | AM72: =IF(AL73="","",IF(AL73>AN73,"○",IF(AL73<AN73,"●",IF(AL73=AN73,"△")))) -> ○ | AO72: =COUNTIF(AF72:AN72,"○") -> 2 | AP72: =COUNTIF(AF72:AN72,"△")+COUNTIF(AF72:AN72,"▲") -> 0 | AQ72: =COUNTIF(AF72:AN72,"●") -> 0 | AR72: =SUM(AF73,AI73,AL73) -> 9 | AS72: =SUM(AH73,AK73,AN73) -> 3 | AT72: =(AO72*3)+(AP72*1) -> 6 | AU72: =RANK(AT72,$AT$70:$AT$75) -> 1 | AV72: 位 | AW72: =AR72-AS72 -> 6 | AY72: =RANK(AW72,$AW$70:$AW$75) -> 1 | AZ72: 位 | BA72: 1 | BE72: =BZ7 -> リノスフットボールクラブ Ｕ－１２ | BF72: 星取表 | BI72: =IF(BH73="","",IF(BH73>BJ73,"○",IF(BH73<BJ73,"●",IF(BH73=BJ73,"△")))) -> △ | BO72: =IF(BN73="","",IF(BN73>BP73,"○",IF(BN73<BP73,"●",IF(BN73=BP73,"△")))) -> ○ | BQ72: =COUNTIF(BH72:BP72,"○") -> 1 | BR72: =COUNTIF(BH72:BP72,"△")+COUNTIF(BH72:BP72,"▲") -> 1 | BS72: =COUNTIF(BH72:BP72,"●") -> 0 | BT72: =SUM(BH73,BK73,BN73) -> 5 | BU72: =SUM(BJ73,BM73,BP73) -> 0 | BV72: =(BQ72*3)+(BR72*1) -> 4 | BW72: =RANK(BV72,$BV$70:$BV$75) -> 1 | BX72: 位 | BY72: =BT72-BU72 -> 5 | CA72: =RANK(BY72,$BY$70:$BY$75) -> 1 | CB72: 位 | CC72: ※1
B73: 得失点 | D73: =I71 -> 1 | E73: - | F73: =G71 -> 0 | J73: =R20 -> 2 | K73: - | L73: =V20 -> 4 | AD73: 得失点 | AF73: =AK71 -> 4 | AG73: - | AH73: =AI71 -> 3 | AL73: =AT20 -> 5 | AM73: - | AN73: =AX20 -> 0 | BF73: 得失点 | BH73: =BM71 -> 0 | BI73: - | BJ73: =BK71 -> 0 | BN73: =BV20 -> 5 | BO73: - | BP73: =BZ20 -> 0
A74: =V8 -> 大分トリニータタートルズ | B74: 星取表 | E74: =IF(D75="","",IF(D75>F75,"○",IF(D75<F75,"●",IF(D75=F75,"△")))) -> △ | H74: =IF(G75="","",IF(G75>I75,"○",IF(G75<I75,"●",IF(G75=I75,"△")))) -> ○ | M74: =COUNTIF(D74:L74,"○") -> 1 | N74: =COUNTIF(D74:L74,"△")+COUNTIF(D74:L74,"▲") -> 1 | O74: =COUNTIF(D74:L74,"●") -> 0 | P74: =SUM(D75,G75,J75) -> 5 | Q74: =SUM(F75,I75,L75) -> 3 | R74: =(M74*3)+(N74*1) -> 4 | S74: =RANK(R74,$R$70:$R$75) -> 1 | T74: 位 | U74: =P74-Q74 -> 2 | W74: =RANK(U74,$U$70:$V$75) -> 1 | X74: 位 | Y74: 1 | AC74: =AX8 -> はやぶさフットボールクラブ | AD74: 星取表 | AG74: =IF(AF75="","",IF(AF75>AH75,"○",IF(AF75<AH75,"●",IF(AF75=AH75,"△")))) -> ● | AJ74: =IF(AI75="","",IF(AI75>AK75,"○",IF(AI75<AK75,"●",IF(AI75=AK75,"△")))) -> ● | AO74: =COUNTIF(AF74:AN74,"○") -> 0 | AP74: =COUNTIF(AF74:AN74,"△")+COUNTIF(AF74:AN74,"▲") -> 0 | AQ74: =COUNTIF(AF74:AN74,"●") -> 2 | AR74: =SUM(AF75,AI75,AL75) -> 0 | AS74: =SUM(AH75,AK75,AN75) -> 10 | AT74: =(AO74*3)+(AP74*1) -> 0 | AU74: =RANK(AT74,$AT$70:$AT$75) -> 3 | AV74: 位 | AW74: =AR74-AS74 -> -10 | AY74: =RANK(AW74,$AW$70:$AW$75) -> 3 | AZ74: 位 | BA74: 3 | BE74: =BZ8 -> ＮＦＣ・ＯＩＴＡ Ｕ１２ | BF74: 星取表 | BI74: =IF(BH75="","",IF(BH75>BJ75,"○",IF(BH75<BJ75,"●",IF(BH75=BJ75,"△")))) -> ● | BL74: =IF(BK75="","",IF(BK75>BM75,"○",IF(BK75<BM75,"●",IF(BK75=BM75,"△")))) -> ● | BQ74: =COUNTIF(BH74:BP74,"○") -> 0 | BR74: =COUNTIF(BH74:BP74,"△")+COUNTIF(BH74:BP74,"▲") -> 0 | BS74: =COUNTIF(BH74:BP74,"●") -> 2 | BT74: =SUM(BH75,BK75,BN75) -> 0 | BU74: =SUM(BJ75,BM75,BP75) -> 10 | BV74: =(BQ74*3)+(BR74*1) -> 0 | BW74: =RANK(BV74,$BV$70:$BV$75) -> 3 | BX74: 位 | BY74: =BT74-BU74 -> -10 | CA74: =RANK(BY74,$BY$70:$BY$75) -> 3 | CB74: 位 | CC74: 3
B75: 得失点 | D75: =L71 -> 1 | E75: - | F75: =J71 -> 1 | G75: =L73 -> 4 | H75: - | I75: =J73 -> 2 | AD75: 得失点 | AF75: =AN71 -> 0 | AG75: - | AH75: =AL71 -> 5 | AI75: =AN73 -> 0 | AJ75: - | AK75: =AL73 -> 5 | BF75: 得失点 | BH75: =BP71 -> 0 | BI75: - | BJ75: =BN71 -> 5 | BK75: =BP73 -> 0 | BL75: - | BM75: =BN73 -> 5

Sheet ２次リーグ（豊肥）
A1: =抽選会資料!A1 -> OFA 第 57 回大分県U-12サッカー大会 兼 KYFA 九州U-12サッカー大会大分県大会 | J1: ２次リーグ結果 報告用紙 | M1: =抽選会資料!A1 -> OFA 第 57 回大分県U-12サッカー大会 兼 KYFA 九州U-12サッカー大会大分県大会 | V1: ２次リーグ結果 報告用紙 | Y1: =$A$1 -> OFA 第 57 回大分県U-12サッカー大会 兼 KYFA 九州U-12サッカー大会大分県大会 | BI1: =$J$1 -> ２次リーグ結果 報告用紙
A2: ＜時間割＞ ①10:00～ ②11:00～ ③12:00～ ④13:00～ ⑤14:00～ ⑥15:00～ | M2: ＜時間割＞ ①10:00～ ②11:00～ ③12:00～ ④13:00～ ⑤14:00～ ⑥15:00～ | Y2: ＜時間割＞ ①10:00～ ②11:00～ ③12:00～ ④13:00～ ⑤14:00～ ⑥15:00～
A4: 会場 | B4: =組み合わせ!D6 -> 豊肥 | C4: ⇒ | D4: =VLOOKUP(B4,抽選会資料!$B$55:$F$63,2,FALSE) -> 恵藤建設サン・スポーツランド(サン・スポーツランドみえ) | M4: 会場 | N4: =組み合わせ!D6 -> 豊肥 | O4: ⇒ | P4: =VLOOKUP(N4,抽選会資料!$B$55:$F$63,2,FALSE) -> 恵藤建設サン・スポーツランド(サン・スポーツランドみえ) | Y4: 会場 | AB4: =$B$4 -> 豊肥 | AH4: ⇒ | AI4: =$D$4 -> 恵藤建設サン・スポーツランド(サン・スポーツランドみえ)
A6: パート | B6: =組み合わせ!H33 -> 2次リーグ Aパート | M6: パート | N6: =組み合わせ!CB33 -> 2次リーグ Cパート | Y6: パート | AB6: =$B$6 -> 2次リーグ Aパート
B7: =組み合わせ!$H$36 -> A | C7: =組み合わせ!$L$36 -> ドリームキッズフットボールクラブ | J7: =HLOOKUP(C7,組み合わせ!$B$49:$EO$86,31,FALSE) -> 大分 | N7: =組み合わせ!$CB$36 -> G | O7: =組み合わせ!$CF$36 -> ティエラフットボールクラブＵ－１２ | V7: =HLOOKUP(O7,組み合わせ!$B$49:$EO$86,31,FALSE) -> 中津 | Z7: =+B7 -> A | AC7: =$C$7 -> ドリームキッズフットボールクラブ | AP7: =$J$7 -> 大分
B8: =組み合わせ!$H$38 -> B | C8: =組み合わせ!$L$38 -> 臼杵ＳＳＳ | J8: =HLOOKUP(C8,組み合わせ!$B$49:$EO$86,31,FALSE) -> 臼杵・津久見 | N8: =組み合わせ!$CB$38 -> H | O8: =組み合わせ!$CF$38 -> 大分トリニータタートルズ | V8: =HLOOKUP(O8,組み合わせ!$B$49:$EO$86,31,FALSE) -> 大分 | Z8: =+B8 -> B | AC8: =$C$8 -> 臼杵ＳＳＳ | AP8: =$J$8 -> 臼杵・津久見
B9: =組み合わせ!$H$40 -> C | C9: =組み合わせ!$L$40 -> 別府フットボールクラブ．ミネルバＵ－１２ | J9: =HLOOKUP(C9,組み合わせ!$B$49:$EO$86,31,FALSE) -> 別府 | N9: =組み合わせ!$CB$40 -> I | O9: =組み合わせ!$CF$40 -> リノスフットボールクラブ Ｕ－１２ | V9: =HLOOKUP(O9,組み合わせ!$B$49:$EO$86,31,FALSE) -> 大分 | Z9: =+B9 -> C | AC9: =$C$9 -> 別府フットボールクラブ．ミネルバＵ－１２ | AP9: =$J$9 -> 別府
A10: 8：50～ＭＣＭ | M10: 9：50～ＭＣＭ
A12: ① 10:00～ | B12: =C7 -> ドリームキッズフットボールクラブ | C12: =IF(E12="","",SUM(E12:E13)) -> 2 | D12: （ | E12: 1 | F12: 前半 | G12: 0 | H12: ） | I12: =IF(G12="","",SUM(G12:G13)) -> 0 | J12: =C8 -> 臼杵ＳＳＳ | M12: ② 11:00～ | N12: =O7 -> ティエラフットボールクラブＵ－１２ | O12: =IF(Q12="","",SUM(Q12:Q13)) -> 4 | P12: （ | Q12: 4 | R12: 前半 | S12: 1 | T12: ） | U12: =IF(S12="","",SUM(S12:S13)) -> 3 | V12: =O8 -> 大分トリニータタートルズ
E13: 1 | F13: 後半 | G13: 0 | Q13: 0 | R13: 後半 | S13: 2
F14: PK | R14: PK
A15: MC | B15: 岡部 司 | G15: 所属協会 | J15: 豊肥地区サッカー協会 | M15: MC | N15: 菊地 謙一 | S15: 所属協会 | V15: 豊肥地区サッカー協会 | Y15: =$Y$6 -> パート | AC15: =$AB$6 -> 2次リーグ Aパート | AF15: =$Y$21 -> ドリームキッズフットボールクラブ | AK15: =$Y$27 -> 臼杵ＳＳＳ | AP15: =$Y$33 -> 別府フットボールクラブ．ミネルバＵ－１２ | AU15: 勝 | AW15: PK 勝 | AY15: PK 負 | BA15: 負 | BC15: 得点 | BE15: 失点 | BG15: 勝点 | BI15: 勝点 順位 | BK15: 得失 点差 | BM15: 得失 順位 | BO15: 総 順位
A16: WelfareOfficer | B16: 岡部 司 | G16: 所属協会 | J16: 豊肥地区サッカー協会 | M16: WelfareOfficer | N16: 菊地 謙一 | S16: 所属協会 | V16: 豊肥地区サッカー協会
A17: 記録 | B17: 杉 吉隆 | G17: 所属協会 | J17: 豊肥地区サッカー協会 | M17: 記録 | N17: 古荘 羽矢斗 | S17: 所属協会 | V17: 豊肥地区サッカー協会
A18: R: | B18: =IF(ISERROR(VLOOKUP(G18,審判員!$A:$C,2,FALSE))=TRUE,"",VLOOKUP(G18,審判員!$A:$C,2,FALSE)) -> 佐藤 昭生 | C18: =IF(ISERROR(VLOOKUP(G18,審判員!$A:$C,3,FALSE))=TRUE,"",VLOOKUP(G18,審判員!$A:$C,3,FALSE)) -> 3 | D18: 級 | E18: 資格番号 | G18: R001263448 | J18: 本部 | M18: R: | N18: =IF(ISERROR(VLOOKUP(S18,審判員!$A:$C,2,FALSE))=TRUE,"",VLOOKUP(S18,審判員!$A:$C,2,FALSE)) -> 仲野 雅貴 | O18: =IF(ISERROR(VLOOKUP(S18,審判員!$A:$C,3,FALSE))=TRUE,"",VLOOKUP(S18,審判員!$A:$C,3,FALSE)) -> 3 | P18: 級 | Q18: 資格番号 | S18: R010593968 | V18: 本部
A19: AR1: | B19: =IF(ISERROR(VLOOKUP(G19,審判員!$A:$C,2,FALSE))=TRUE,"",VLOOKUP(G19,審判員!$A:$C,2,FALSE)) -> 高柿 康平 | C19: =IF(ISERROR(VLOOKUP(G19,審判員!$A:$C,3,FALSE))=TRUE,"",VLOOKUP(G19,審判員!$A:$C,3,FALSE)) -> 3 | D19: 級 | E19: 資格番号 | G19: R006664615 | J19: =N12 -> ティエラフットボールクラブＵ－１２ | M19: AR1: | N19: =IF(ISERROR(VLOOKUP(S19,審判員!$A:$C,2,FALSE))=TRUE,"",VLOOKUP(S19,審判員!$A:$C,2,FALSE)) -> 田村 拓也 | O19: =IF(ISERROR(VLOOKUP(S19,審判員!$A:$C,3,FALSE))=TRUE,"",VLOOKUP(S19,審判員!$A:$C,3,FALSE)) -> 3 | P19: 級 | Q19: 資格番号 | S19: R010281809 | V19: =B12 -> ドリームキッズフットボールクラブ
A20: AR2: | B20: =IF(ISERROR(VLOOKUP(G20,審判員!$A:$C,2,FALSE))=TRUE,"",VLOOKUP(G20,審判員!$A:$C,2,FALSE)) -> 佐々木 陽生 | C20: =IF(ISERROR(VLOOKUP(G20,審判員!$A:$C,3,FALSE))=TRUE,"",VLOOKUP(G20,審判員!$A:$C,3,FALSE)) -> 3 | D20: 級 | E20: 資格番号 | G20: R010640404 | J20: =V12 -> 大分トリニータタートルズ | M20: AR2: | N20: =IF(ISERROR(VLOOKUP(S20,審判員!$A:$C,2,FALSE))=TRUE,"",VLOOKUP(S20,審判員!$A:$C,2,FALSE)) -> 佐藤 巨規 | O20: =IF(ISERROR(VLOOKUP(S20,審判員!$A:$C,3,FALSE))=TRUE,"",VLOOKUP(S20,審判員!$A:$C,3,FALSE)) -> 3 | P20: 級 | Q20: 資格番号 | S20: R008634706 | V20: =J12 -> 臼杵ＳＳＳ
A21: 4th: | B21: =IF(ISERROR(VLOOKUP(G21,審判員!$A:$C,2,FALSE))=TRUE,"",VLOOKUP(G21,審判員!$A:$C,2,FALSE)) -> 寺次 良生 | C21: =IF(ISERROR(VLOOKUP(G21,審判員!$A:$C,3,FALSE))=TRUE,"",VLOOKUP(G21,審判員!$A:$C,3,FALSE)) -> 3 | D21: 級 | E21: 資格番号 | G21: R010120117 | J21: 本部 | M21: 4th: | N21: =IF(ISERROR(VLOOKUP(S21,審判員!$A:$C,2,FALSE))=TRUE,"",VLOOKUP(S21,審判員!$A:$C,2,FALSE)) -> 安藤 大生 | O21: =IF(ISERROR(VLOOKUP(S21,審判員!$A:$C,3,FALSE))=TRUE,"",VLOOKUP(S21,審判員!$A:$C,3,FALSE)) -> 3 | P21: 級 | Q21: 資格番号 | S21: R010789999 | V21: 本部 | Y21: =$AC$7 -> ドリームキッズフットボールクラブ | AD21: 星取表 | AK21: =IF(AK25="","",IF(AK25>AN25,"○",IF(AK25<AN25,"●",IF(AK23>AN23,"△",IF(AK23<AN23,"▲"))))) -> ○ | AP21: =IF(AP25="","",IF(AP25>AS25,"○",IF(AP25<AS25,"●",IF(AP23>AS23,"△",IF(AP23<AS23,"▲"))))) -> ○ | AU21: =COUNTIF($AF$21:$AT$22,"○") -> 2 | AW21: =COUNTIF($AF$21:$AT$22,"△") -> 0 | AY21: =COUNTIF($AF$21:$AT$22,"▲") -> 0 | BA21: =COUNTIF($AF$21:$AT$22,"●") -> 0 | BC21: =SUM($AK$25,$AP$25) -> 5 | BE21: =SUM($AN$25,$AS$25) -> 0 | BG21: =($AU$21*3)+($AW$21*2)+($AY$21*1) -> 6 | BI21: =RANK($BG$21,$BG$21:$BH$38) -> 1 | BK21: =$BC$21-$BE$21 -> 5 | BM21: =RANK($BK$21,$BK$21:$BL$38) -> 1
A22: 警告/退場 | B22: 氏名 | C22: 背番号 | D22: 分 | E22: 内容 | G22: 内容 | H22: 分 | I22: 背番号 | J22: 氏名 | K22: 警告/退場 | M22: 警告/退場 | N22: 氏名 | O22: 背番号 | P22: 分 | Q22: 内容 | S22: 内容 | T22: 分 | U22: 背番号 | V22: 氏名 | W22: 警告/退場
B23: =IF(ISERROR(VLOOKUP(CONCATENATE($B$12,"_",C23),選手名簿!$A:$E,5,FALSE))=TRUE,"",VLOOKUP(CONCATENATE($B$12,"_",C23),選手名簿!$A:$E,5,FALSE)) | J23: =IF(ISERROR(VLOOKUP(CONCATENATE($J$12,"_",I23),選手名簿!$A:$E,5,FALSE))=TRUE,"",VLOOKUP(CONCATENATE($J$12,"_",I23),選手名簿!$A:$E,5,FALSE)) | N23: =IF(ISERROR(VLOOKUP(CONCATENATE($N$12,"_",O23),選手名簿!$A:$E,5,FALSE))=TRUE,"",VLOOKUP(CONCATENATE($N$12,"_",O23),選手名簿!$A:$E,5,FALSE)) | V23: =IF(ISERROR(VLOOKUP(CONCATENATE($V$12,"_",U23),選手名簿!$A:$E,5,FALSE))=TRUE,"",VLOOKUP(CONCATENATE($V$12,"_",U23),選手名簿!$A:$E,5,FALSE)) | AK23: =IF($E$14="","",$E$14) | AM23: ― | AN23: =IF($G$14="","",$G$14) | AP23: =IF($G$50="","",$G$50) | AR23: ― | AS23: =IF($E$50="","",$E$50)
B24: =IF(ISERROR(VLOOKUP(CONCATENATE($B$12,"_",C24),選手名簿!$A:$E,5,FALSE))=TRUE,"",VLOOKUP(CONCATENATE($B$12,"_",C24),選手名簿!$A:$E,5,FALSE)) | J24: =IF(ISERROR(VLOOKUP(CONCATENATE($J$12,"_",I24),選手名簿!$A:$E,5,FALSE))=TRUE,"",VLOOKUP(CONCATENATE($J$12,"_",I24),選手名簿!$A:$E,5,FALSE)) | N24: =IF(ISERROR(VLOOKUP(CONCATENATE($N$12,"_",O24),選手名簿!$A:$E,5,FALSE))=TRUE,"",VLOOKUP(CONCATENATE($N$12,"_",O24),選手名簿!$A:$E,5,FALSE)) | V24: =IF(ISERROR(VLOOKUP(CONCATENATE($V$12,"_",U24),選手名簿!$A:$E,5,FALSE))=TRUE,"",VLOOKUP(CONCATENATE($V$12,"_",U24),選手名簿!$A:$E,5,FALSE)) | AD24: 得失点
B25: =IF(ISERROR(VLOOKUP(CONCATENATE($B$12,"_",C25),選手名簿!$A:$E,5,FALSE))=TRUE,"",VLOOKUP(CONCATENATE($B$12,"_",C25),選手名簿!$A:$E,5,FALSE)) | J25: =IF(ISERROR(VLOOKUP(CONCATENATE($J$12,"_",I25),選手名簿!$A:$E,5,FALSE))=TRUE,"",VLOOKUP(CONCATENATE($J$12,"_",I25),選手名簿!$A:$E,5,FALSE)) | N25: =IF(ISERROR(VLOOKUP(CONCATENATE($N$12,"_",O25),選手名簿!$A:$E,5,FALSE))=TRUE,"",VLOOKUP(CONCATENATE($N$12,"_",O25),選手名簿!$A:$E,5,FALSE)) | V25: =IF(ISERROR(VLOOKUP(CONCATENATE($V$12,"_",U25),選手名簿!$A:$E,5,FALSE))=TRUE,"",VLOOKUP(CONCATENATE($V$12,"_",U25),選手名簿!$A:$E,5,FALSE)) | AK25: =$C$12 -> 2 | AM25: ― | AN25: =$I$12 -> 0 | AP25: =$I$48 -> 3 | AR25: ― | AS25: =$C$48 -> 0
B26: =IF(ISERROR(VLOOKUP(CONCATENATE($B$12,"_",C26),選手名簿!$A:$E,5,FALSE))=TRUE,"",VLOOKUP(CONCATENATE($B$12,"_",C26),選手名簿!$A:$E,5,FALSE)) | J26: =IF(ISERROR(VLOOKUP(CONCATENATE($J$12,"_",I26),選手名簿!$A:$E,5,FALSE))=TRUE,"",VLOOKUP(CONCATENATE($J$12,"_",I26),選手名簿!$A:$E,5,FALSE)) | N26: =IF(ISERROR(VLOOKUP(CONCATENATE($N$12,"_",O26),選手名簿!$A:$E,5,FALSE))=TRUE,"",VLOOKUP(CONCATENATE($N$12,"_",O26),選手名簿!$A:$E,5,FALSE)) | V26: =IF(ISERROR(VLOOKUP(CONCATENATE($V$12,"_",U26),選手名簿!$A:$E,5,FALSE))=TRUE,"",VLOOKUP(CONCATENATE($V$12,"_",U26),選手名簿!$A:$E,5,FALSE))
B27: =IF(ISERROR(VLOOKUP(CONCATENATE($B$12,"_",C27),選手名簿!$A:$E,5,FALSE))=TRUE,"",VLOOKUP(CONCATENATE($B$12,"_",C27),選手名簿!$A:$E,5,FALSE)) | J27: =IF(ISERROR(VLOOKUP(CONCATENATE($J$12,"_",I27),選手名簿!$A:$E,5,FALSE))=TRUE,"",VLOOKUP(CONCATENATE($J$12,"_",I27),選手名簿!$A:$E,5,FALSE)) | N27: =IF(ISERROR(VLOOKUP(CONCATENATE($N$12,"_",O27),選手名簿!$A:$E,5,FALSE))=TRUE,"",VLOOKUP(CONCATENATE($N$12,"_",O27),選手名簿!$A:$E,5,FALSE)) | V27: =IF(ISERROR(VLOOKUP(CONCATENATE($V$12,"_",U27),選手名簿!$A:$E,5,FALSE))=TRUE,"",VLOOKUP(CONCATENATE($V$12,"_",U27),選手名簿!$A:$E,5,FALSE)) | Y27: =$AC$8 -> 臼杵ＳＳＳ | AD27: 星取表 | AF27: =IF(AF31="","",IF(AF31>AI31,"○",IF(AF31<AI31,"●",IF(AF29>AI29,"△",IF(AF29<AI29,"▲"))))) -> ● | AP27: =IF(AP31="","",IF(AP31>AS31,"○",IF(AP31<AS31,"●",IF(AP29>AS29,"△",IF(AP29<AS29,"▲"))))) -> ● | AU27: =COUNTIF($AF$27:$AT$28,"○") -> 0 | AW27: =COUNTIF($AF$27:$AT$28,"△") -> 0 | AY27: =COUNTIF($AF$27:$AT$28,"▲") -> 0 | BA27: =COUNTIF($AF$27:$AT$28,"●") -> 2 | BC27: =SUM($AF$31,$AP$31) -> 1 | BE27: =SUM($AI$31,$AS$31) -> 4 | BG27: =($AU$27*3)+($AW$27*2)+($AY$27*1) -> 0 | BI27: =RANK($BG$27,$BG$21:$BH$38) -> 3 | BK27: =$BC$27-$BE$27 -> -3 | BM27: =RANK($BK$27,$BK$21:$BL$38) -> 3
AF29: =AN23 | AH29: ― | AI29: =AK23 | AP29: =IF($E$32="","",$E$32) | AR29: ― | AS29: =IF($G$32="","",$G$32)
A30: ③ 12:00～ | B30: =C8 -> 臼杵ＳＳＳ | C30: =IF(E30="","",SUM(E30:E31)) -> 1 | D30: （ | E30: 1 | F30: 前半 | G30: 0 | H30: ） | I30: =IF(G30="","",SUM(G30:G31)) -> 2 | J30: =C9 -> 別府フットボールクラブ．ミネルバＵ－１２ | M30: ④ 13:00～ | N30: =O8 -> 大分トリニータタートルズ | O30: =IF(Q30="","",SUM(Q30:Q31)) -> 0 | P30: （ | Q30: 0 | R30: 前半 | S30: 0 | T30: ） | U30: =IF(S30="","",SUM(S30:S31)) -> 1 | V30: =O9 -> リノスフットボールクラブ Ｕ－１２ | AD30: 得失点
E31: 0 | F31: 後半 | G31: 2 | Q31: 0 | R31: 後半 | S31: 1 | AF31: =AN25 -> 0 | AH31: ― | AI31: =AK25 -> 2 | AP31: =$C$30 -> 1 | AR31: ― | AS31: =$I$30 -> 2
F32: PK | R32: PK
A33: MC | B33: 岡部 司 | G33: 所属協会 | J33: 豊肥地区サッカー協会 | M33: MC | N33: 仲野 昭博 | S33: 所属協会 | V33: 豊肥地区サッカー協会 | Y33: =$AC$9 -> 別府フットボールクラブ．ミネルバＵ－１２ | AD33: 星取表 | AF33: =IF(AF37="","",IF(AF37>AI37,"○",IF(AF37<AI37,"●",IF(AF35>AI35,"△",IF(AF35<AI35,"▲"))))) -> ● | AK33: =IF(AK37="","",IF(AK37>AN37,"○",IF(AK37<AN37,"●",IF(AK35>AN35,"△",IF(AK35<AN35,"▲"))))) -> ○ | AU33: =COUNTIF($AF$33:$AT$34,"○") -> 1 | AW33: =COUNTIF($AF$33:$AT$34,"△") -> 0 | AY33: =COUNTIF($AF$33:$AT$34,"▲") -> 0 | BA33: =COUNTIF($AF$33:$AT$34,"●") -> 1 | BC33: =SUM($AF$37,$AK$37) -> 2 | BE33: =SUM($AI$37,$AN$37) -> 4 | BG33: =($AU$33*3)+($AW$33*2)+($AY$33*1) -> 3 | BI33: =RANK($BG$33,$BG$21:$BH$38) -> 2 | BK33: =$BC$33-$BE$33 -> -2 | BM33: =RANK($BK$33,$BK$21:$BL$38) -> 2
A34: WelfareOfficer | B34: 岡部 司 | G34: 所属協会 | J34: 豊肥地区サッカー協会 | M34: WelfareOfficer | N34: 仲野 昭博 | S34: 所属協会 | V34: 豊肥地区サッカー協会
A35: 記録 | B35: 杉 吉隆 | G35: 所属協会 | J35: 豊肥地区サッカー協会 | M35: 記録 | N35: 古荘 羽矢斗 | S35: 所属協会 | V35: 豊肥地区サッカー協会 | AF35: =AS23 | AH35: ― | AI35: =AP23 | AK35: =AS29 | AM35: ― | AN35: =AP29
A36: R: | B36: =IF(ISERROR(VLOOKUP(G36,審判員!$A:$C,2,FALSE))=TRUE,"",VLOOKUP(G36,審判員!$A:$C,2,FALSE)) -> 寺次 良生 | C36: =IF(ISERROR(VLOOKUP(G36,審判員!$A:$C,3,FALSE))=TRUE,"",VLOOKUP(G36,審判員!$A:$C,3,FALSE)) -> 3 | D36: 級 | E36: 資格番号 | G36: R010120117 | J36: 本部 | M36: R: | N36: =IF(ISERROR(VLOOKUP(S36,審判員!$A:$C,2,FALSE))=TRUE,"",VLOOKUP(S36,審判員!$A:$C,2,FALSE)) -> 菊地 謙一 | O36: =IF(ISERROR(VLOOKUP(S36,審判員!$A:$C,3,FALSE))=TRUE,"",VLOOKUP(S36,審判員!$A:$C,3,FALSE)) -> 3 | P36: 級 | Q36: 資格番号 | S36: R003256053 | V36: 本部 | AD36: 得失点
A37: AR1: | B37: =IF(ISERROR(VLOOKUP(G37,審判員!$A:$C,2,FALSE))=TRUE,"",VLOOKUP(G37,審判員!$A:$C,2,FALSE)) -> 佐々木 陽生 | C37: =IF(ISERROR(VLOOKUP(G37,審判員!$A:$C,3,FALSE))=TRUE,"",VLOOKUP(G37,審判員!$A:$C,3,FALSE)) -> 3 | D37: 級 | E37: 資格番号 | G37: R010640404 | J37: =N30 -> 大分トリニータタートルズ | M37: AR1: | N37: =IF(ISERROR(VLOOKUP(S37,審判員!$A:$C,2,FALSE))=TRUE,"",VLOOKUP(S37,審判員!$A:$C,2,FALSE)) -> 佐藤 巨規 | O37: =IF(ISERROR(VLOOKUP(S37,審判員!$A:$C,3,FALSE))=TRUE,"",VLOOKUP(S37,審判員!$A:$C,3,FALSE)) -> 3 | P37: 級 | Q37: 資格番号 | S37: R008634706 | V37: =B30 -> 臼杵ＳＳＳ | AF37: =AS25 -> 0 | AH37: ― | AI37: =AP25 -> 3 | AK37: =AS31 -> 2 | AM37: ― | AN37: =AP31 -> 1
A38: AR2: | B38: =IF(ISERROR(VLOOKUP(G38,審判員!$A:$C,2,FALSE))=TRUE,"",VLOOKUP(G38,審判員!$A:$C,2,FALSE)) -> 渡邉 卓人 | C38: =IF(ISERROR(VLOOKUP(G38,審判員!$A:$C,3,FALSE))=TRUE,"",VLOOKUP(G38,審判員!$A:$C,3,FALSE)) -> 3 | D38: 級 | E38: 資格番号 | G38: R010007794 | J38: =V30 -> リノスフットボールクラブ Ｕ－１２ | M38: AR2: | N38: =IF(ISERROR(VLOOKUP(S38,審判員!$A:$C,2,FALSE))=TRUE,"",VLOOKUP(S38,審判員!$A:$C,2,FALSE)) -> 寺坂 洸希 | O38: =IF(ISERROR(VLOOKUP(S38,審判員!$A:$C,3,FALSE))=TRUE,"",VLOOKUP(S38,審判員!$A:$C,3,FALSE)) -> 3 | P38: 級 | Q38: 資格番号 | S38: R010866341 | V38: =J30 -> 別府フットボールクラブ．ミネルバＵ－１２
A39: 4th: | B39: =IF(ISERROR(VLOOKUP(G39,審判員!$A:$C,2,FALSE))=TRUE,"",VLOOKUP(G39,審判員!$A:$C,2,FALSE)) -> 羽田野 亘 | C39: =IF(ISERROR(VLOOKUP(G39,審判員!$A:$C,3,FALSE))=TRUE,"",VLOOKUP(G39,審判員!$A:$C,3,FALSE)) -> 3 | D39: 級 | E39: 資格番号 | G39: R001264304 | J39: 本部 | M39: 4th: | N39: =IF(ISERROR(VLOOKUP(S39,審判員!$A:$C,2,FALSE))=TRUE,"",VLOOKUP(S39,審判員!$A:$C,2,FALSE)) -> 安藤 大生 | O39: =IF(ISERROR(VLOOKUP(S39,審判員!$A:$C,3,FALSE))=TRUE,"",VLOOKUP(S39,審判員!$A:$C,3,FALSE)) -> 3 | P39: 級 | Q39: 資格番号 | S39: R010789999 | V39: 本部
A40: 警告/退場 | B40: 氏名 | C40: 背番号 | D40: 分 | E40: 内容 | G40: 内容 | H40: 分 | I40: 背番号 | J40: 氏名 | K40: 警告/退場 | M40: 警告/退場 | N40: 氏名 | O40: 背番号 | P40: 分 | Q40: 内容 | S40: 内容 | T40: 分 | U40: 背番号 | V40: 氏名 | W40: 警告/退場 | Y40: Ⅰ勝点（勝３点 ＰＫ勝２点 ＰＫ負１点 負０点） Ⅱ当該チームの戦績 Ⅲ得失点差 Ⅳ多得点 Ⅴ抽選の順で順位を決定する。
B41: =IF(ISERROR(VLOOKUP(CONCATENATE($B$30,"_",C41),選手名簿!$A:$E,5,FALSE))=TRUE,"",VLOOKUP(CONCATENATE($B$30,"_",C41),選手名簿!$A:$E,5,FALSE)) | J41: =IF(ISERROR(VLOOKUP(CONCATENATE($J$30,"_",I41),選手名簿!$A:$E,5,FALSE))=TRUE,"",VLOOKUP(CONCATENATE($J$30,"_",I41),選手名簿!$A:$E,5,FALSE)) | N41: =IF(ISERROR(VLOOKUP(CONCATENATE($N$30,"_",O41),選手名簿!$A:$E,5,FALSE))=TRUE,"",VLOOKUP(CONCATENATE($N$30,"_",O41),選手名簿!$A:$E,5,FALSE)) | S41: ラフ | T41: 30 | U41: 22 | V41: =IF(ISERROR(VLOOKUP(CONCATENATE($V$30,"_",U41),選手名簿!$A:$E,5,FALSE))=TRUE,"",VLOOKUP(CONCATENATE($V$30,"_",U41),選手名簿!$A:$E,5,FALSE)) -> 菅 泰輔 | W41: 警告
B42: =IF(ISERROR(VLOOKUP(CONCATENATE($B$30,"_",C42),選手名簿!$A:$E,5,FALSE))=TRUE,"",VLOOKUP(CONCATENATE($B$30,"_",C42),選手名簿!$A:$E,5,FALSE)) | J42: =IF(ISERROR(VLOOKUP(CONCATENATE($J$30,"_",I42),選手名簿!$A:$E,5,FALSE))=TRUE,"",VLOOKUP(CONCATENATE($J$30,"_",I42),選手名簿!$A:$E,5,FALSE)) | N42: =IF(ISERROR(VLOOKUP(CONCATENATE($N$30,"_",O42),選手名簿!$A:$E,5,FALSE))=TRUE,"",VLOOKUP(CONCATENATE($N$30,"_",O42),選手名簿!$A:$E,5,FALSE)) | V42: =IF(ISERROR(VLOOKUP(CONCATENATE($V$30,"_",U42),選手名簿!$A:$E,5,FALSE))=TRUE,"",VLOOKUP(CONCATENATE($V$30,"_",U42),選手名簿!$A:$E,5,FALSE)) | Y42: 勝点表 | AA42: 勝 | AB42: ○ | AD42: PK 勝 | AE42: △ | AG42: PK 負 | AH42: ▲ | AJ42: 負 | AK42: ●
B43: =IF(ISERROR(VLOOKUP(CONCATENATE($B$30,"_",C43),選手名簿!$A:$E,5,FALSE))=TRUE,"",VLOOKUP(CONCATENATE($B$30,"_",C43),選手名簿!$A:$E,5,FALSE)) | J43: =IF(ISERROR(VLOOKUP(CONCATENATE($J$30,"_",I43),選手名簿!$A:$E,5,FALSE))=TRUE,"",VLOOKUP(CONCATENATE($J$30,"_",I43),選手名簿!$A:$E,5,FALSE)) | N43: =IF(ISERROR(VLOOKUP(CONCATENATE($N$30,"_",O43),選手名簿!$A:$E,5,FALSE))=TRUE,"",VLOOKUP(CONCATENATE($N$30,"_",O43),選手名簿!$A:$E,5,FALSE)) | V43: =IF(ISERROR(VLOOKUP(CONCATENATE($V$30,"_",U43),選手名簿!$A:$E,5,FALSE))=TRUE,"",VLOOKUP(CONCATENATE($V$30,"_",U43),選手名簿!$A:$E,5,FALSE)) | AB43: 3 | AE43: 2 | AH43: 1 | AK43: 0
B44: =IF(ISERROR(VLOOKUP(CONCATENATE($B$30,"_",C44),選手名簿!$A:$E,5,FALSE))=TRUE,"",VLOOKUP(CONCATENATE($B$30,"_",C44),選手名簿!$A:$E,5,FALSE)) | J44: =IF(ISERROR(VLOOKUP(CONCATENATE($J$30,"_",I44),選手名簿!$A:$E,5,FALSE))=TRUE,"",VLOOKUP(CONCATENATE($J$30,"_",I44),選手名簿!$A:$E,5,FALSE)) | N44: =IF(ISERROR(VLOOKUP(CONCATENATE($N$30,"_",O44),選手名簿!$A:$E,5,FALSE))=TRUE,"",VLOOKUP(CONCATENATE($N$30,"_",O44),選手名簿!$A:$E,5,FALSE)) | V44: =IF(ISERROR(VLOOKUP(CONCATENATE($V$30,"_",U44),選手名簿!$A:$E,5,FALSE))=TRUE,"",VLOOKUP(CONCATENATE($V$30,"_",U44),選手名簿!$A:$E,5,FALSE))
B45: =IF(ISERROR(VLOOKUP(CONCATENATE($B$30,"_",C45),選手名簿!$A:$E,5,FALSE))=TRUE,"",VLOOKUP(CONCATENATE($B$30,"_",C45),選手名簿!$A:$E,5,FALSE)) | J45: =IF(ISERROR(VLOOKUP(CONCATENATE($J$30,"_",I45),選手名簿!$A:$E,5,FALSE))=TRUE,"",VLOOKUP(CONCATENATE($J$30,"_",I45),選手名簿!$A:$E,5,FALSE)) | N45: =IF(ISERROR(VLOOKUP(CONCATENATE($N$30,"_",O45),選手名簿!$A:$E,5,FALSE))=TRUE,"",VLOOKUP(CONCATENATE($N$30,"_",O45),選手名簿!$A:$E,5,FALSE)) | V45: =IF(ISERROR(VLOOKUP(CONCATENATE($V$30,"_",U45),選手名簿!$A:$E,5,FALSE))=TRUE,"",VLOOKUP(CONCATENATE($V$30,"_",U45),選手名簿!$A:$E,5,FALSE))
A48: ⑤ 14:00～ | B48: =C9 -> 別府フットボールクラブ．ミネルバＵ－１２ | C48: =IF(E48="","",SUM(E48:E49)) -> 0 | D48: （ | E48: 0 | F48: 前半 | G48: 0 | H48: ） | I48: =IF(G48="","",SUM(G48:G49)) -> 3 | J48: =C7 -> ドリームキッズフットボールクラブ | M48: ⑥ 15:00～ | N48: =O9 -> リノスフットボールクラブ Ｕ－１２ | O48: =IF(Q48="","",SUM(Q48:Q49)) -> 0 | P48: （ | Q48: 0 | R48: 前半 | S48: 0 | T48: ） | U48: =IF(S48="","",SUM(S48:S49)) -> 1 | V48: =O7 -> ティエラフットボールクラブＵ－１２ | Y48: =$Y$1 -> OFA 第 57 回大分県U-12サッカー大会 兼 KYFA 九州U-12サッカー大会大分県大会 | BI48: =$BI$1 -> ２次リーグ結果 報告用紙
E49: 0 | F49: 後半 | G49: 3 | Q49: 0 | R49: 後半 | S49: 1
F50: PK | R50: PK | Y50: ＜時間割＞ ①10:00～ ②11:00～ ③12:00～ ④13:00～ ⑤14:00～ ⑥15:00～
A51: MC | B51: 岡部 司 | G51: 所属協会 | J51: 豊肥地区サッカー協会 | M51: MC | N51: 仲野 昭博 | S51: 所属協会 | V51: 豊肥地区サッカー協会
A52: WelfareOfficer | B52: 岡部 司 | G52: 所属協会 | J52: 豊肥地区サッカー協会 | M52: WelfareOfficer | N52: 仲野 昭博 | S52: 所属協会 | V52: 豊肥地区サッカー協会
A53: 記録 | B53: 杉 吉隆 | G53: 所属協会 | J53: 豊肥地区サッカー協会 | M53: 記録 | N53: 古荘 羽矢斗 | S53: 所属協会 | V53: 豊肥地区サッカー協会
A54: R: | B54: =IF(ISERROR(VLOOKUP(G54,審判員!$A:$C,2,FALSE))=TRUE,"",VLOOKUP(G54,審判員!$A:$C,2,FALSE)) -> 仲野 雅貴 | C54: =IF(ISERROR(VLOOKUP(G54,審判員!$A:$C,3,FALSE))=TRUE,"",VLOOKUP(G54,審判員!$A:$C,3,FALSE)) -> 3 | D54: 級 | E54: 資格番号 | G54: R010593968 | J54: 本部 | M54: R: | N54: =IF(ISERROR(VLOOKUP(S54,審判員!$A:$C,2,FALSE))=TRUE,"",VLOOKUP(S54,審判員!$A:$C,2,FALSE)) -> 羽田野 亘 | O54: =IF(ISERROR(VLOOKUP(S54,審判員!$A:$C,3,FALSE))=TRUE,"",VLOOKUP(S54,審判員!$A:$C,3,FALSE)) -> 3 | P54: 級 | Q54: 資格番号 | S54: R001264304 | V54: 本部 | Y54: 会場 | AB54: =$N$4 -> 豊肥 | AH54: ⇒ | AI54: =$P$4 -> 恵藤建設サン・スポーツランド(サン・スポーツランドみえ)
A55: AR1: | B55: =IF(ISERROR(VLOOKUP(G55,審判員!$A:$C,2,FALSE))=TRUE,"",VLOOKUP(G55,審判員!$A:$C,2,FALSE)) -> 高柿 康平 | C55: =IF(ISERROR(VLOOKUP(G55,審判員!$A:$C,3,FALSE))=TRUE,"",VLOOKUP(G55,審判員!$A:$C,3,FALSE)) -> 3 | D55: 級 | E55: 資格番号 | G55: R006664615 | J55: =N48 -> リノスフットボールクラブ Ｕ－１２ | M55: AR1: | N55: =IF(ISERROR(VLOOKUP(S55,審判員!$A:$C,2,FALSE))=TRUE,"",VLOOKUP(S55,審判員!$A:$C,2,FALSE)) -> 寺坂 洸希 | O55: =IF(ISERROR(VLOOKUP(S55,審判員!$A:$C,3,FALSE))=TRUE,"",VLOOKUP(S55,審判員!$A:$C,3,FALSE)) -> 3 | P55: 級 | Q55: 資格番号 | S55: R010866341 | V55: =B48 -> 別府フットボールクラブ．ミネルバＵ－１２
A56: AR2: | B56: =IF(ISERROR(VLOOKUP(G56,審判員!$A:$C,2,FALSE))=TRUE,"",VLOOKUP(G56,審判員!$A:$C,2,FALSE)) -> 高柿 康平 | C56: =IF(ISERROR(VLOOKUP(G56,審判員!$A:$C,3,FALSE))=TRUE,"",VLOOKUP(G56,審判員!$A:$C,3,FALSE)) -> 3 | D56: 級 | E56: 資格番号 | G56: R006664615 | J56: =V48 -> ティエラフットボールクラブＵ－１２ | M56: AR2: | N56: =IF(ISERROR(VLOOKUP(S56,審判員!$A:$C,2,FALSE))=TRUE,"",VLOOKUP(S56,審判員!$A:$C,2,FALSE)) -> 田村 拓也 | O56: =IF(ISERROR(VLOOKUP(S56,審判員!$A:$C,3,FALSE))=TRUE,"",VLOOKUP(S56,審判員!$A:$C,3,FALSE)) -> 3 | P56: 級 | Q56: 資格番号 | S56: R010281809 | V56: =J48 -> ドリームキッズフットボールクラブ
A57: 4th: | B57: =IF(ISERROR(VLOOKUP(G57,審判員!$A:$C,2,FALSE))=TRUE,"",VLOOKUP(G57,審判員!$A:$C,2,FALSE)) -> 寺次 良生 | C57: =IF(ISERROR(VLOOKUP(G57,審判員!$A:$C,3,FALSE))=TRUE,"",VLOOKUP(G57,審判員!$A:$C,3,FALSE)) -> 3 | D57: 級 | E57: 資格番号 | G57: R010120117 | J57: 本部 | M57: 4th: | N57: =IF(ISERROR(VLOOKUP(S57,審判員!$A:$C,2,FALSE))=TRUE,"",VLOOKUP(S57,審判員!$A:$C,2,FALSE)) -> 菊地 謙一 | O57: =IF(ISERROR(VLOOKUP(S57,審判員!$A:$C,3,FALSE))=TRUE,"",VLOOKUP(S57,審判員!$A:$C,3,FALSE)) -> 3 | P57: 級 | Q57: 資格番号 | S57: R003256053 | V57: 本部
A58: 警告/退場 | B58: 氏名 | C58: 背番号 | D58: 分 | E58: 内容 | G58: 内容 | H58: 分 | I58: 背番号 | J58: 氏名 | K58: 警告/退場 | M58: 警告/退場 | N58: 氏名 | O58: 背番号 | P58: 分 | Q58: 内容 | S58: 内容 | T58: 分 | U58: 背番号 | V58: 氏名 | W58: 警告/退場 | Y58: パート | AB58: =$N$6 -> 2次リーグ Cパート
B59: =IF(ISERROR(VLOOKUP(CONCATENATE($B$48,"_",C59),選手名簿!$A:$E,5,FALSE))=TRUE,"",VLOOKUP(CONCATENATE($B$48,"_",C59),選手名簿!$A:$E,5,FALSE)) | J59: =IF(ISERROR(VLOOKUP(CONCATENATE($J$48,"_",I59),選手名簿!$A:$E,5,FALSE))=TRUE,"",VLOOKUP(CONCATENATE($J$48,"_",I59),選手名簿!$A:$E,5,FALSE)) | N59: =IF(ISERROR(VLOOKUP(CONCATENATE($N$48,"_",O59),選手名簿!$A:$E,5,FALSE))=TRUE,"",VLOOKUP(CONCATENATE($N$48,"_",O59),選手名簿!$A:$E,5,FALSE)) | V59: =IF(ISERROR(VLOOKUP(CONCATENATE($V$48,"_",U59),選手名簿!$A:$E,5,FALSE))=TRUE,"",VLOOKUP(CONCATENATE($V$48,"_",U59),選手名簿!$A:$E,5,FALSE))
B60: =IF(ISERROR(VLOOKUP(CONCATENATE($B$48,"_",C60),選手名簿!$A:$E,5,FALSE))=TRUE,"",VLOOKUP(CONCATENATE($B$48,"_",C60),選手名簿!$A:$E,5,FALSE)) | J60: =IF(ISERROR(VLOOKUP(CONCATENATE($J$48,"_",I60),選手名簿!$A:$E,5,FALSE))=TRUE,"",VLOOKUP(CONCATENATE($J$48,"_",I60),選手名簿!$A:$E,5,FALSE)) | N60: =IF(ISERROR(VLOOKUP(CONCATENATE($N$48,"_",O60),選手名簿!$A:$E,5,FALSE))=TRUE,"",VLOOKUP(CONCATENATE($N$48,"_",O60),選手名簿!$A:$E,5,FALSE)) | V60: =IF(ISERROR(VLOOKUP(CONCATENATE($V$48,"_",U60),選手名簿!$A:$E,5,FALSE))=TRUE,"",VLOOKUP(CONCATENATE($V$48,"_",U60),選手名簿!$A:$E,5,FALSE)) | Z60: =$N$7 -> G | AC60: =$O$7 -> ティエラフットボールクラブＵ－１２ | AP60: =$V$7 -> 中津
B61: =IF(ISERROR(VLOOKUP(CONCATENATE($B$48,"_",C61),選手名簿!$A:$E,5,FALSE))=TRUE,"",VLOOKUP(CONCATENATE($B$48,"_",C61),選手名簿!$A:$E,5,FALSE)) | J61: =IF(ISERROR(VLOOKUP(CONCATENATE($J$48,"_",I61),選手名簿!$A:$E,5,FALSE))=TRUE,"",VLOOKUP(CONCATENATE($J$48,"_",I61),選手名簿!$A:$E,5,FALSE)) | N61: =IF(ISERROR(VLOOKUP(CONCATENATE($N$48,"_",O61),選手名簿!$A:$E,5,FALSE))=TRUE,"",VLOOKUP(CONCATENATE($N$48,"_",O61),選手名簿!$A:$E,5,FALSE)) | V61: =IF(ISERROR(VLOOKUP(CONCATENATE($V$48,"_",U61),選手名簿!$A:$E,5,FALSE))=TRUE,"",VLOOKUP(CONCATENATE($V$48,"_",U61),選手名簿!$A:$E,5,FALSE))
B62: =IF(ISERROR(VLOOKUP(CONCATENATE($B$48,"_",C62),選手名簿!$A:$E,5,FALSE))=TRUE,"",VLOOKUP(CONCATENATE($B$48,"_",C62),選手名簿!$A:$E,5,FALSE)) | J62: =IF(ISERROR(VLOOKUP(CONCATENATE($J$48,"_",I62),選手名簿!$A:$E,5,FALSE))=TRUE,"",VLOOKUP(CONCATENATE($J$48,"_",I62),選手名簿!$A:$E,5,FALSE)) | N62: =IF(ISERROR(VLOOKUP(CONCATENATE($N$48,"_",O62),選手名簿!$A:$E,5,FALSE))=TRUE,"",VLOOKUP(CONCATENATE($N$48,"_",O62),選手名簿!$A:$E,5,FALSE)) | V62: =IF(ISERROR(VLOOKUP(CONCATENATE($V$48,"_",U62),選手名簿!$A:$E,5,FALSE))=TRUE,"",VLOOKUP(CONCATENATE($V$48,"_",U62),選手名簿!$A:$E,5,FALSE)) | Z62: =$N$8 -> H | AC62: =$O$8 -> 大分トリニータタートルズ | AP62: =$V$8 -> 大分
B63: =IF(ISERROR(VLOOKUP(CONCATENATE($B$48,"_",C63),選手名簿!$A:$E,5,FALSE))=TRUE,"",VLOOKUP(CONCATENATE($B$48,"_",C63),選手名簿!$A:$E,5,FALSE)) | J63: =IF(ISERROR(VLOOKUP(CONCATENATE($J$48,"_",I63),選手名簿!$A:$E,5,FALSE))=TRUE,"",VLOOKUP(CONCATENATE($J$48,"_",I63),選手名簿!$A:$E,5,FALSE)) | N63: =IF(ISERROR(VLOOKUP(CONCATENATE($N$48,"_",O63),選手名簿!$A:$E,5,FALSE))=TRUE,"",VLOOKUP(CONCATENATE($N$48,"_",O63),選手名簿!$A:$E,5,FALSE)) | V63: =IF(ISERROR(VLOOKUP(CONCATENATE($V$48,"_",U63),選手名簿!$A:$E,5,FALSE))=TRUE,"",VLOOKUP(CONCATENATE($V$48,"_",U63),選手名簿!$A:$E,5,FALSE))
Z64: =$N$9 -> I | AC64: =$O$9 -> リノスフットボールクラブ Ｕ－１２ | AP64: =$V$9 -> 大分
Y72: =$Y$6 -> パート | AC72: =$AB$58 -> 2次リーグ Cパート | AF72: =$Y$78 -> ティエラフットボールクラブＵ－１２ | AK72: =$Y$84 -> 大分トリニータタートルズ | AP72: =$Y$90 -> リノスフットボールクラブ Ｕ－１２ | AU72: 勝 | AW72: PK 勝 | AY72: PK 負 | BA72: 負 | BC72: 得点 | BE72: 失点 | BG72: 勝点 | BI72: 勝点 順位 | BK72: 得失 点差 | BM72: 得失 順位 | BO72: 総 順位
Y78: =$AC$60 -> ティエラフットボールクラブＵ－１２ | AD78: 星取表 | AK78: =IF(AK82="","",IF(AK82>AN82,"○",IF(AK82<AN82,"●",IF(AK80>AN80,"△",IF(AK80<AN80,"▲"))))) -> ○ | AP78: =IF(AP82="","",IF(AP82>AS82,"○",IF(AP82<AS82,"●",IF(AP80>AS80,"△",IF(AP80<AS80,"▲"))))) -> ○ | AU78: =COUNTIF($AF$78:$AT$79,"○") -> 2 | AW78: =COUNTIF($AF$78:$AT$79,"△") -> 0 | AY78: =COUNTIF($AF$78:$AT$79,"▲") -> 0 | BA78: =COUNTIF($AF$78:$AT$79,"●") -> 0 | BC78: =SUM($AK$82,$AP$82) -> 5 | BE78: =SUM($AN$82,$AS$82) -> 3 | BG78: =($AU$78*3)+($AW$78*2)+($AY$78*1) -> 6 | BI78: =RANK($BG$78,$BG$78:$BH$95) -> 1 | BK78: =$BC$78-$BE$78 -> 2 | BM78: =RANK($BK$78,$BK$78:$BL$95) -> 1
AK80: =IF($Q$14="","",$Q$14) | AM80: ― | AN80: =IF($S$14="","",$S$14) | AP80: =IF($S$50="","",$S$50) | AR80: ― | AS80: =IF($Q$50="","",$Q$50)
AD81: 得失点
AK82: =$O$12 -> 4 | AM82: ― | AN82: =$U$12 -> 3 | AP82: =$U$48 -> 1 | AR82: ― | AS82: =$O$48 -> 0
Y84: =$AC$62 -> 大分トリニータタートルズ | AD84: 星取表 | AF84: =IF(AF88="","",IF(AF88>AI88,"○",IF(AF88<AI88,"●",IF(AF86>AI86,"△",IF(AF86<AI86,"▲"))))) -> ● | AP84: =IF(AP88="","",IF(AP88>AS88,"○",IF(AP88<AS88,"●",IF(AP86>AS86,"△",IF(AP86<AS86,"▲"))))) -> ● | AU84: =COUNTIF($AF$84:$AT$85,"○") -> 0 | AW84: =COUNTIF($AF$84:$AT$85,"△") -> 0 | AY84: =COUNTIF($AF$84:$AT$85,"▲") -> 0 | BA84: =COUNTIF($AF$84:$AT$85,"●") -> 2 | BC84: =SUM($AF$88,$AP$88) -> 3 | BE84: =SUM($AI$88,$AS$88) -> 5 | BG84: =($AU$84*3)+($AW$84*2)+($AY$84*1) -> 0 | BI84: =RANK($BG$84,$BG$78:$BH$95) -> 3 | BK84: =$BC$84-$BE$84 -> -2 | BM84: =RANK($BK$84,$BK$78:$BL$95) -> 3
AF86: =AN80 | AH86: ― | AI86: =AK80 | AP86: =IF($Q$32="","",$Q$32) | AR86: ― | AS86: =IF($S$32="","",$S$32)
AD87: 得失点
AF88: =AN82 -> 3 | AH88: ― | AI88: =AK82 -> 4 | AP88: =$O$30 -> 0 | AR88: ― | AS88: =$U$30 -> 1
Y90: =$AC$64 -> リノスフットボールクラブ Ｕ－１２ | AD90: 星取表 | AF90: =IF(AF94="","",IF(AF94>AI94,"○",IF(AF94<AI94,"●",IF(AF92>AI92,"△",IF(AF92<AI92,"▲"))))) -> ● | AK90: =IF(AK94="","",IF(AK94>AN94,"○",IF(AK94<AN94,"●",IF(AK92>AN92,"△",IF(AK92<AN92,"▲"))))) -> ○ | AU90: =COUNTIF($AF$90:$AT$91,"○") -> 1 | AW90: =COUNTIF($AF$90:$AT$91,"△") -> 0 | AY90: =COUNTIF($AF$90:$AT$91,"▲") -> 0 | BA90: =COUNTIF($AF$90:$AT$91,"●") -> 1 | BC90: =SUM($AF$94,$AK$94) -> 1 | BE90: =SUM($AI$94,$AN$94) -> 1 | BG90: =($AU$90*3)+($AW$90*2)+($AY$90*1) -> 3 | BI90: =RANK($BG$90,$BG$78:$BH$95) -> 2 | BK90: =$BC$90-$BE$90 -> 0 | BM90: =RANK($BK$90,$BK$78:$BL$95) -> 2
AF92: =AS80 | AH92: ― | AI92: =AP80 | AK92: =AS86 | AM92: ― | AN92: =AP86
AD93: 得失点
AF94: =AS82 -> 0 | AH94: ― | AI94: =AP82 -> 1 | AK94: =AS88 -> 1 | AM94: ― | AN94: =AP88 -> 0
Y97: Ⅰ勝点（勝３点 ＰＫ勝２点 ＰＫ負１点 負０点） Ⅱ当該チームの戦績 Ⅲ得失点差 Ⅳ多得点 Ⅴ抽選の順で順位を決定する。
Y99: 勝点表 | AA99: 勝 | AB99: ○ | AD99: PK 勝 | AE99: △ | AG99: PK 負 | AH99: ▲ | AJ99: 負 | AK99: ●
AB100: 3 | AE100: 2 | AH100: 1 | AK100: 0

Sheet ２次リーグ（佐伯）
A1: =抽選会資料!A1 -> OFA 第 57 回大分県U-12サッカー大会 兼 KYFA 九州U-12サッカー大会大分県大会 | J1: ２次リーグ結果 報告用紙 | M1: =抽選会資料!A1 -> OFA 第 57 回大分県U-12サッカー大会 兼 KYFA 九州U-12サッカー大会大分県大会 | V1: ２次リーグ結果 報告用紙 | Y1: =$A$1 -> OFA 第 57 回大分県U-12サッカー大会 兼 KYFA 九州U-12サッカー大会大分県大会 | BI1: =$J$1 -> ２次リーグ結果 報告用紙
A2: ＜時間割＞ ①10:00～ ②11:00～ ③12:00～ ④13:00～ ⑤14:00～ ⑥15:00～ | M2: ＜時間割＞ ①10:00～ ②11:00～ ③12:00～ ④13:00～ ⑤14:00～ ⑥15:00～ | Y2: ＜時間割＞ ①10:00～ ②11:00～ ③12:00～ ④13:00～ ⑤14:00～ ⑥15:00～
A4: 会場 | B4: =組み合わせ!BF6 -> 佐伯 | C4: ⇒ | D4: =VLOOKUP(B4,抽選会資料!$B$55:$F$63,2,FALSE) -> 佐伯市総合運動公園人工芝グラウンド | M4: 会場 | N4: =組み合わせ!BF6 -> 佐伯 | O4: ⇒ | P4: =VLOOKUP(N4,抽選会資料!$B$55:$F$63,2,FALSE) -> 佐伯市総合運動公園人工芝グラウンド | Y4: 会場 | AB4: =$B$4 -> 佐伯 | AH4: ⇒ | AI4: =$D$4 -> 佐伯市総合運動公園人工芝グラウンド
A6: パート | B6: =組み合わせ!AR33 -> 2次リーグ Bパート | M6: パート | N6: =組み合わせ!DL33 -> 2次リーグ Dパート | Y6: パート | AB6: =$B$6 -> 2次リーグ Bパート
B7: =組み合わせ!$AR$36 -> D | C7: =組み合わせ!$AV$36 -> 弥生少年サッカークラブ | J7: =HLOOKUP(C7,組み合わせ!$B$49:$EO$86,31,FALSE) -> 佐伯 | N7: =組み合わせ!$DL$36 -> J | O7: =組み合わせ!$DP$36 -> 滝尾下郡サッカースポーツ少年団 | V7: =HLOOKUP(O7,組み合わせ!$B$49:$EO$86,31,FALSE) -> 大分 | Z7: =+B7 -> D | AC7: =$C$7 -> 弥生少年サッカークラブ | AP7: =$J$7 -> 佐伯
B8: =組み合わせ!$AR$38 -> E | C8: =組み合わせ!$AV$38 -> アトレチコエラン横瀬 | J8: =HLOOKUP(C8,組み合わせ!$B$49:$EO$86,31,FALSE) -> 大分 | N8: =組み合わせ!$DL$38 -> K | O8: =組み合わせ!$DP$38 -> 戸次吉野ＳＳＳ | V8: =HLOOKUP(O8,組み合わせ!$B$49:$EO$86,31,FALSE) -> 大分 | Z8: =+B8 -> E | AC8: =$C$8 -> アトレチコエラン横瀬 | AP8: =$J$8 -> 大分
B9: =組み合わせ!$AR$40 -> F | C9: =組み合わせ!$AV$40 -> カティオーラフットボールクラブＵ－１２ | J9: =HLOOKUP(C9,組み合わせ!$B$49:$EO$86,31,FALSE) -> 大分 | N9: =組み合わせ!$DL$40 -> L | O9: =組み合わせ!$DP$40 -> 四日市南ＳＳＣ | V9: =HLOOKUP(O9,組み合わせ!$B$49:$EO$86,31,FALSE) -> 宇佐高田 | Z9: =+B9 -> F | AC9: =$C$9 -> カティオーラフットボールクラブＵ－１２ | AP9: =$J$9 -> 大分
A10: 8：50～ＭＣＭ | M10: 9：50～ＭＣＭ
A12: ① 10:00～ | B12: =C7 -> 弥生少年サッカークラブ | C12: =IF(E12="","",SUM(E12:E13)) -> 1 | D12: （ | E12: 0 | F12: 前半 | G12: 1 | H12: ） | I12: =IF(G12="","",SUM(G12:G13)) -> 1 | J12: =C8 -> アトレチコエラン横瀬 | M12: ② 11:00～ | N12: =O7 -> 滝尾下郡サッカースポーツ少年団 | O12: =IF(Q12="","",SUM(Q12:Q13)) -> 2 | P12: （ | Q12: 1 | R12: 前半 | S12: 0 | T12: ） | U12: =IF(S12="","",SUM(S12:S13)) -> 1 | V12: =O8 -> 戸次吉野ＳＳＳ
E13: 1 | F13: 後半 | G13: 0 | Q13: 1 | R13: 後半 | S13: 1
F14: PK | R14: PK
A15: MC | B15: 久保田 秀樹 | G15: 所属協会 | J15: 佐伯市サッカー協会 | M15: MC | N15: 横山 幸司 | S15: 所属協会 | V15: 佐伯市サッカー協会 | Y15: =$Y$6 -> パート | AC15: =$AB$6 -> 2次リーグ Bパート | AF15: =$Y$21 -> 弥生少年サッカークラブ | AK15: =$Y$27 -> アトレチコエラン横瀬 | AP15: =$Y$33 -> カティオーラフットボールクラブＵ－１２ | AU15: 勝 | AW15: PK 勝 | AY15: PK 負 | BA15: 負 | BC15: 得点 | BE15: 失点 | BG15: 勝点 | BI15: 勝点 順位 | BK15: 得失 点差 | BM15: 得失 順位 | BO15: 総 順位
A16: WelfareOfficer | B16: 久保田 秀樹 | G16: 所属協会 | J16: 佐伯市サッカー協会 | M16: WelfareOfficer | N16: 横山 幸司 | S16: 所属協会 | V16: 佐伯市サッカー協会
A17: 記録 | B17: 廣瀬 光雄 | G17: 所属協会 | J17: 佐伯市サッカー協会 | M17: 記録 | N17: 秋元 文悟 | S17: 所属協会 | V17: 佐伯市サッカー協会
A18: R: | B18: =IF(ISERROR(VLOOKUP(G18,審判員!$A:$C,2,FALSE))=TRUE,"",VLOOKUP(G18,審判員!$A:$C,2,FALSE)) -> 金田 智朗 | C18: =IF(ISERROR(VLOOKUP(G18,審判員!$A:$C,3,FALSE))=TRUE,"",VLOOKUP(G18,審判員!$A:$C,3,FALSE)) -> 3 | D18: 級 | E18: 資格番号 | G18: R010396582 | J18: 本部 | M18: R: | N18: =IF(ISERROR(VLOOKUP(S18,審判員!$A:$C,2,FALSE))=TRUE,"",VLOOKUP(S18,審判員!$A:$C,2,FALSE)) -> 白江 直樹 | O18: =IF(ISERROR(VLOOKUP(S18,審判員!$A:$C,3,FALSE))=TRUE,"",VLOOKUP(S18,審判員!$A:$C,3,FALSE)) -> 3 | P18: 級 | Q18: 資格番号 | S18: R009554780 | V18: 本部
A19: AR1: | B19: =IF(ISERROR(VLOOKUP(G19,審判員!$A:$C,2,FALSE))=TRUE,"",VLOOKUP(G19,審判員!$A:$C,2,FALSE)) -> 清松 隆浩 | C19: =IF(ISERROR(VLOOKUP(G19,審判員!$A:$C,3,FALSE))=TRUE,"",VLOOKUP(G19,審判員!$A:$C,3,FALSE)) -> 3 | D19: 級 | E19: 資格番号 | G19: R007003486 | J19: =N12 -> 滝尾下郡サッカースポーツ少年団 | M19: AR1: | N19: =IF(ISERROR(VLOOKUP(S19,審判員!$A:$C,2,FALSE))=TRUE,"",VLOOKUP(S19,審判員!$A:$C,2,FALSE)) -> 五十川 文明 | O19: =IF(ISERROR(VLOOKUP(S19,審判員!$A:$C,3,FALSE))=TRUE,"",VLOOKUP(S19,審判員!$A:$C,3,FALSE)) -> 3 | P19: 級 | Q19: 資格番号 | S19: R003421338 | V19: =B12 -> 弥生少年サッカークラブ
A20: AR2: | B20: =IF(ISERROR(VLOOKUP(G20,審判員!$A:$C,2,FALSE))=TRUE,"",VLOOKUP(G20,審判員!$A:$C,2,FALSE)) -> 高倉 遥樹 | C20: =IF(ISERROR(VLOOKUP(G20,審判員!$A:$C,3,FALSE))=TRUE,"",VLOOKUP(G20,審判員!$A:$C,3,FALSE)) -> 3 | D20: 級 | E20: 資格番号 | G20: R010776337 | J20: =V12 -> 戸次吉野ＳＳＳ | M20: AR2: | N20: =IF(ISERROR(VLOOKUP(S20,審判員!$A:$C,2,FALSE))=TRUE,"",VLOOKUP(S20,審判員!$A:$C,2,FALSE)) -> 江良 信司 | O20: =IF(ISERROR(VLOOKUP(S20,審判員!$A:$C,3,FALSE))=TRUE,"",VLOOKUP(S20,審判員!$A:$C,3,FALSE)) -> 3 | P20: 級 | Q20: 資格番号 | S20: R002384580 | V20: =J12 -> アトレチコエラン横瀬
A21: 4th: | B21: =IF(ISERROR(VLOOKUP(G21,審判員!$A:$C,2,FALSE))=TRUE,"",VLOOKUP(G21,審判員!$A:$C,2,FALSE)) -> 戸髙 博秋 | C21: =IF(ISERROR(VLOOKUP(G21,審判員!$A:$C,3,FALSE))=TRUE,"",VLOOKUP(G21,審判員!$A:$C,3,FALSE)) -> 3 | D21: 級 | E21: 資格番号 | G21: R001258738 | J21: 本部 | M21: 4th: | N21: =IF(ISERROR(VLOOKUP(S21,審判員!$A:$C,2,FALSE))=TRUE,"",VLOOKUP(S21,審判員!$A:$C,2,FALSE)) -> 竹嶋 仁 | O21: =IF(ISERROR(VLOOKUP(S21,審判員!$A:$C,3,FALSE))=TRUE,"",VLOOKUP(S21,審判員!$A:$C,3,FALSE)) -> 3 | P21: 級 | Q21: 資格番号 | S21: R003972489 | V21: 本部 | Y21: =$AC$7 -> 弥生少年サッカークラブ | AD21: 星取表 | AK21: =IF(AK25="","",IF(AK25>AN25,"○",IF(AK25<AN25,"●",IF(AK23>AN23,"△",IF(AK23<AN23,"▲"))))) -> FALSE | AP21: =IF(AP25="","",IF(AP25>AS25,"○",IF(AP25<AS25,"●",IF(AP23>AS23,"△",IF(AP23<AS23,"▲"))))) -> FALSE | AU21: =COUNTIF($AF$21:$AT$22,"○") -> 0 | AW21: =COUNTIF($AF$21:$AT$22,"△") -> 0 | AY21: =COUNTIF($AF$21:$AT$22,"▲") -> 0 | BA21: =COUNTIF($AF$21:$AT$22,"●") -> 0 | BC21: =SUM($AK$25,$AP$25) -> 1 | BE21: =SUM($AN$25,$AS$25) -> 1 | BG21: =($AU$21*3)+($AW$21*2)+($AY$21*1) -> 0 | BI21: =RANK($BG$21,$BG$21:$BH$38) -> 2 | BK21: =$BC$21-$BE$21 -> 0 | BM21: =RANK($BK$21,$BK$21:$BL$38) -> 2
A22: 警告/退場 | B22: 氏名 | C22: 背番号 | D22: 分 | E22: 内容 | G22: 内容 | H22: 分 | I22: 背番号 | J22: 氏名 | K22: 警告/退場 | M22: 警告/退場 | N22: 氏名 | O22: 背番号 | P22: 分 | Q22: 内容 | S22: 内容 | T22: 分 | U22: 背番号 | V22: 氏名 | W22: 警告/退場
A23: 警告 | B23: =IF(ISERROR(VLOOKUP(CONCATENATE($B$12,"_",C23),選手名簿!$A:$E,5,FALSE))=TRUE,"",VLOOKUP(CONCATENATE($B$12,"_",C23),選手名簿!$A:$E,5,FALSE)) -> 狩生 健太 | C23: 1 | D23: 38 | E23: ラフ | J23: =IF(ISERROR(VLOOKUP(CONCATENATE($J$12,"_",I23),選手名簿!$A:$E,5,FALSE))=TRUE,"",VLOOKUP(CONCATENATE($J$12,"_",I23),選手名簿!$A:$E,5,FALSE)) | N23: =IF(ISERROR(VLOOKUP(CONCATENATE($N$12,"_",O23),選手名簿!$A:$E,5,FALSE))=TRUE,"",VLOOKUP(CONCATENATE($N$12,"_",O23),選手名簿!$A:$E,5,FALSE)) | V23: =IF(ISERROR(VLOOKUP(CONCATENATE($V$12,"_",U23),選手名簿!$A:$E,5,FALSE))=TRUE,"",VLOOKUP(CONCATENATE($V$12,"_",U23),選手名簿!$A:$E,5,FALSE)) | AK23: =IF($E$14="","",$E$14) | AM23: ― | AN23: =IF($G$14="","",$G$14) | AP23: =IF($G$50="","",$G$50) | AR23: ― | AS23: =IF($E$50="","",$E$50)
B24: =IF(ISERROR(VLOOKUP(CONCATENATE($B$12,"_",C24),選手名簿!$A:$E,5,FALSE))=TRUE,"",VLOOKUP(CONCATENATE($B$12,"_",C24),選手名簿!$A:$E,5,FALSE)) | J24: =IF(ISERROR(VLOOKUP(CONCATENATE($J$12,"_",I24),選手名簿!$A:$E,5,FALSE))=TRUE,"",VLOOKUP(CONCATENATE($J$12,"_",I24),選手名簿!$A:$E,5,FALSE)) | N24: =IF(ISERROR(VLOOKUP(CONCATENATE($N$12,"_",O24),選手名簿!$A:$E,5,FALSE))=TRUE,"",VLOOKUP(CONCATENATE($N$12,"_",O24),選手名簿!$A:$E,5,FALSE)) | V24: =IF(ISERROR(VLOOKUP(CONCATENATE($V$12,"_",U24),選手名簿!$A:$E,5,FALSE))=TRUE,"",VLOOKUP(CONCATENATE($V$12,"_",U24),選手名簿!$A:$E,5,FALSE)) | AD24: 得失点
B25: =IF(ISERROR(VLOOKUP(CONCATENATE($B$12,"_",C25),選手名簿!$A:$E,5,FALSE))=TRUE,"",VLOOKUP(CONCATENATE($B$12,"_",C25),選手名簿!$A:$E,5,FALSE)) | J25: =IF(ISERROR(VLOOKUP(CONCATENATE($J$12,"_",I25),選手名簿!$A:$E,5,FALSE))=TRUE,"",VLOOKUP(CONCATENATE($J$12,"_",I25),選手名簿!$A:$E,5,FALSE)) | N25: =IF(ISERROR(VLOOKUP(CONCATENATE($N$12,"_",O25),選手名簿!$A:$E,5,FALSE))=TRUE,"",VLOOKUP(CONCATENATE($N$12,"_",O25),選手名簿!$A:$E,5,FALSE)) | V25: =IF(ISERROR(VLOOKUP(CONCATENATE($V$12,"_",U25),選手名簿!$A:$E,5,FALSE))=TRUE,"",VLOOKUP(CONCATENATE($V$12,"_",U25),選手名簿!$A:$E,5,FALSE)) | AK25: =$C$12 -> 1 | AM25: ― | AN25: =$I$12 -> 1 | AP25: =$I$48 -> 0 | AR25: ― | AS25: =$C$48 -> 0
B26: =IF(ISERROR(VLOOKUP(CONCATENATE($B$12,"_",C26),選手名簿!$A:$E,5,FALSE))=TRUE,"",VLOOKUP(CONCATENATE($B$12,"_",C26),選手名簿!$A:$E,5,FALSE)) | J26: =IF(ISERROR(VLOOKUP(CONCATENATE($J$12,"_",I26),選手名簿!$A:$E,5,FALSE))=TRUE,"",VLOOKUP(CONCATENATE($J$12,"_",I26),選手名簿!$A:$E,5,FALSE)) | N26: =IF(ISERROR(VLOOKUP(CONCATENATE($N$12,"_",O26),選手名簿!$A:$E,5,FALSE))=TRUE,"",VLOOKUP(CONCATENATE($N$12,"_",O26),選手名簿!$A:$E,5,FALSE)) | V26: =IF(ISERROR(VLOOKUP(CONCATENATE($V$12,"_",U26),選手名簿!$A:$E,5,FALSE))=TRUE,"",VLOOKUP(CONCATENATE($V$12,"_",U26),選手名簿!$A:$E,5,FALSE))
B27: =IF(ISERROR(VLOOKUP(CONCATENATE($B$12,"_",C27),選手名簿!$A:$E,5,FALSE))=TRUE,"",VLOOKUP(CONCATENATE($B$12,"_",C27),選手名簿!$A:$E,5,FALSE)) | J27: =IF(ISERROR(VLOOKUP(CONCATENATE($J$12,"_",I27),選手名簿!$A:$E,5,FALSE))=TRUE,"",VLOOKUP(CONCATENATE($J$12,"_",I27),選手名簿!$A:$E,5,FALSE)) | N27: =IF(ISERROR(VLOOKUP(CONCATENATE($N$12,"_",O27),選手名簿!$A:$E,5,FALSE))=TRUE,"",VLOOKUP(CONCATENATE($N$12,"_",O27),選手名簿!$A:$E,5,FALSE)) | V27: =IF(ISERROR(VLOOKUP(CONCATENATE($V$12,"_",U27),選手名簿!$A:$E,5,FALSE))=TRUE,"",VLOOKUP(CONCATENATE($V$12,"_",U27),選手名簿!$A:$E,5,FALSE)) | Y27: =$AC$8 -> アトレチコエラン横瀬 | AD27: 星取表 | AF27: =IF(AF31="","",IF(AF31>AI31,"○",IF(AF31<AI31,"●",IF(AF29>AI29,"△",IF(AF29<AI29,"▲"))))) -> FALSE | AP27: =IF(AP31="","",IF(AP31>AS31,"○",IF(AP31<AS31,"●",IF(AP29>AS29,"△",IF(AP29<AS29,"▲"))))) -> ● | AU27: =COUNTIF($AF$27:$AT$28,"○") -> 0 | AW27: =COUNTIF($AF$27:$AT$28,"△") -> 0 | AY27: =COUNTIF($AF$27:$AT$28,"▲") -> 0 | BA27: =COUNTIF($AF$27:$AT$28,"●") -> 1 | BC27: =SUM($AF$31,$AP$31) -> 2 | BE27: =SUM($AI$31,$AS$31) -> 5 | BG27: =($AU$27*3)+($AW$27*2)+($AY$27*1) -> 0 | BI27: =RANK($BG$27,$BG$21:$BH$38) -> 2 | BK27: =$BC$27-$BE$27 -> -3 | BM27: =RANK($BK$27,$BK$21:$BL$38) -> 3
AF29: =AN23 | AH29: ― | AI29: =AK23 | AP29: =IF($E$32="","",$E$32) | AR29: ― | AS29: =IF($G$32="","",$G$32)
A30: ③ 12:00～ | B30: =C8 -> アトレチコエラン横瀬 | C30: =IF(E30="","",SUM(E30:E31)) -> 1 | D30: （ | E30: 1 | F30: 前半 | G30: 3 | H30: ） | I30: =IF(G30="","",SUM(G30:G31)) -> 4 | J30: =C9 -> カティオーラフットボールクラブＵ－１２ | M30: ④ 13:00～ | N30: =O8 -> 戸次吉野ＳＳＳ | O30: =IF(Q30="","",SUM(Q30:Q31)) -> 0 | P30: （ | Q30: 0 | R30: 前半 | S30: 2 | T30: ） | U30: =IF(S30="","",SUM(S30:S31)) -> 3 | V30: =O9 -> 四日市南ＳＳＣ | AD30: 得失点
E31: 0 | F31: 後半 | G31: 1 | Q31: 0 | R31: 後半 | S31: 1 | AF31: =AN25 -> 1 | AH31: ― | AI31: =AK25 -> 1 | AP31: =$C$30 -> 1 | AR31: ― | AS31: =$I$30 -> 4
F32: PK | R32: PK
A33: MC | B33: 久保田 秀樹 | G33: 所属協会 | J33: 佐伯市サッカー協会 | M33: MC | N33: 横山 幸司 | S33: 所属協会 | V33: 佐伯市サッカー協会 | Y33: =$AC$9 -> カティオーラフットボールクラブＵ－１２ | AD33: 星取表 | AF33: =IF(AF37="","",IF(AF37>AI37,"○",IF(AF37<AI37,"●",IF(AF35>AI35,"△",IF(AF35<AI35,"▲"))))) -> FALSE | AK33: =IF(AK37="","",IF(AK37>AN37,"○",IF(AK37<AN37,"●",IF(AK35>AN35,"△",IF(AK35<AN35,"▲"))))) -> ○ | AU33: =COUNTIF($AF$33:$AT$34,"○") -> 1 | AW33: =COUNTIF($AF$33:$AT$34,"△") -> 0 | AY33: =COUNTIF($AF$33:$AT$34,"▲") -> 0 | BA33: =COUNTIF($AF$33:$AT$34,"●") -> 0 | BC33: =SUM($AF$37,$AK$37) -> 4 | BE33: =SUM($AI$37,$AN$37) -> 1 | BG33: =($AU$33*3)+($AW$33*2)+($AY$33*1) -> 3 | BI33: =RANK($BG$33,$BG$21:$BH$38) -> 1 | BK33: =$BC$33-$BE$33 -> 3 | BM33: =RANK($BK$33,$BK$21:$BL$38) -> 1
A34: WelfareOfficer | B34: 久保田 秀樹 | G34: 所属協会 | J34: 佐伯市サッカー協会 | M34: WelfareOfficer | N34: 横山 幸司 | S34: 所属協会 | V34: 佐伯市サッカー協会
A35: 記録 | B35: 廣瀬 光雄 | G35: 所属協会 | J35: 佐伯市サッカー協会 | M35: 記録 | N35: 秋元 文悟 | S35: 所属協会 | V35: 佐伯市サッカー協会 | AF35: =AS23 | AH35: ― | AI35: =AP23 | AK35: =AS29 | AM35: ― | AN35: =AP29
A36: R: | B36: =IF(ISERROR(VLOOKUP(G36,審判員!$A:$C,2,FALSE))=TRUE,"",VLOOKUP(G36,審判員!$A:$C,2,FALSE)) -> 内山田 光史 | C36: =IF(ISERROR(VLOOKUP(G36,審判員!$A:$C,3,FALSE))=TRUE,"",VLOOKUP(G36,審判員!$A:$C,3,FALSE)) -> 3 | D36: 級 | E36: 資格番号 | G36: R010093443 | J36: 本部 | M36: R: | N36: =IF(ISERROR(VLOOKUP(S36,審判員!$A:$C,2,FALSE))=TRUE,"",VLOOKUP(S36,審判員!$A:$C,2,FALSE)) -> 白江 直樹 | O36: =IF(ISERROR(VLOOKUP(S36,審判員!$A:$C,3,FALSE))=TRUE,"",VLOOKUP(S36,審判員!$A:$C,3,FALSE)) -> 3 | P36: 級 | Q36: 資格番号 | S36: R009554780 | V36: 本部 | AD36: 得失点
A37: AR1: | B37: =IF(ISERROR(VLOOKUP(G37,審判員!$A:$C,2,FALSE))=TRUE,"",VLOOKUP(G37,審判員!$A:$C,2,FALSE)) -> 高倉 遥樹 | C37: =IF(ISERROR(VLOOKUP(G37,審判員!$A:$C,3,FALSE))=TRUE,"",VLOOKUP(G37,審判員!$A:$C,3,FALSE)) -> 3 | D37: 級 | E37: 資格番号 | G37: R010776337 | J37: =N30 -> 戸次吉野ＳＳＳ | M37: AR1: | N37: =IF(ISERROR(VLOOKUP(S37,審判員!$A:$C,2,FALSE))=TRUE,"",VLOOKUP(S37,審判員!$A:$C,2,FALSE)) -> 江良 信司 | O37: =IF(ISERROR(VLOOKUP(S37,審判員!$A:$C,3,FALSE))=TRUE,"",VLOOKUP(S37,審判員!$A:$C,3,FALSE)) -> 3 | P37: 級 | Q37: 資格番号 | S37: R002384580 | V37: =B30 -> アトレチコエラン横瀬 | AF37: =AS25 -> 0 | AH37: ― | AI37: =AP25 -> 0 | AK37: =AS31 -> 4 | AM37: ― | AN37: =AP31 -> 1
A38: AR2: | B38: =IF(ISERROR(VLOOKUP(G38,審判員!$A:$C,2,FALSE))=TRUE,"",VLOOKUP(G38,審判員!$A:$C,2,FALSE)) -> 中園 健太郎 | C38: =IF(ISERROR(VLOOKUP(G38,審判員!$A:$C,3,FALSE))=TRUE,"",VLOOKUP(G38,審判員!$A:$C,3,FALSE)) -> 2 | D38: 級 | E38: 資格番号 | G38: R003317390 | J38: =V30 -> 四日市南ＳＳＣ | M38: AR2: | N38: =IF(ISERROR(VLOOKUP(S38,審判員!$A:$C,2,FALSE))=TRUE,"",VLOOKUP(S38,審判員!$A:$C,2,FALSE)) -> 菊地 玄 | O38: =IF(ISERROR(VLOOKUP(S38,審判員!$A:$C,3,FALSE))=TRUE,"",VLOOKUP(S38,審判員!$A:$C,3,FALSE)) -> 3 | P38: 級 | Q38: 資格番号 | S38: R007890271 | V38: =J30 -> カティオーラフットボールクラブＵ－１２
A39: 4th: | B39: =IF(ISERROR(VLOOKUP(G39,審判員!$A:$C,2,FALSE))=TRUE,"",VLOOKUP(G39,審判員!$A:$C,2,FALSE)) -> 戸髙 博秋 | C39: =IF(ISERROR(VLOOKUP(G39,審判員!$A:$C,3,FALSE))=TRUE,"",VLOOKUP(G39,審判員!$A:$C,3,FALSE)) -> 3 | D39: 級 | E39: 資格番号 | G39: R001258738 | J39: 本部 | M39: 4th: | N39: =IF(ISERROR(VLOOKUP(S39,審判員!$A:$C,2,FALSE))=TRUE,"",VLOOKUP(S39,審判員!$A:$C,2,FALSE)) -> 竹嶋 仁 | O39: =IF(ISERROR(VLOOKUP(S39,審判員!$A:$C,3,FALSE))=TRUE,"",VLOOKUP(S39,審判員!$A:$C,3,FALSE)) -> 3 | P39: 級 | Q39: 資格番号 | S39: R003972489 | V39: 本部
A40: 警告/退場 | B40: 氏名 | C40: 背番号 | D40: 分 | E40: 内容 | G40: 内容 | H40: 分 | I40: 背番号 | J40: 氏名 | K40: 警告/退場 | M40: 警告/退場 | N40: 氏名 | O40: 背番号 | P40: 分 | Q40: 内容 | S40: 内容 | T40: 分 | U40: 背番号 | V40: 氏名 | W40: 警告/退場 | Y40: Ⅰ勝点（勝３点 ＰＫ勝２点 ＰＫ負１点 負０点） Ⅱ当該チームの戦績 Ⅲ得失点差 Ⅳ多得点 Ⅴ抽選の順で順位を決定する。
A41: 警告 | B41: =IF(ISERROR(VLOOKUP(CONCATENATE($B$30,"_",C41),選手名簿!$A:$E,5,FALSE))=TRUE,"",VLOOKUP(CONCATENATE($B$30,"_",C41),選手名簿!$A:$E,5,FALSE)) -> 丸田 恵也 | C41: 9 | D41: 39 | E41: ラフ | J41: =IF(ISERROR(VLOOKUP(CONCATENATE($J$30,"_",I41),選手名簿!$A:$E,5,FALSE))=TRUE,"",VLOOKUP(CONCATENATE($J$30,"_",I41),選手名簿!$A:$E,5,FALSE)) | N41: =IF(ISERROR(VLOOKUP(CONCATENATE($N$30,"_",O41),選手名簿!$A:$E,5,FALSE))=TRUE,"",VLOOKUP(CONCATENATE($N$30,"_",O41),選手名簿!$A:$E,5,FALSE)) | V41: =IF(ISERROR(VLOOKUP(CONCATENATE($V$30,"_",U41),選手名簿!$A:$E,5,FALSE))=TRUE,"",VLOOKUP(CONCATENATE($V$30,"_",U41),選手名簿!$A:$E,5,FALSE))
B42: =IF(ISERROR(VLOOKUP(CONCATENATE($B$30,"_",C42),選手名簿!$A:$E,5,FALSE))=TRUE,"",VLOOKUP(CONCATENATE($B$30,"_",C42),選手名簿!$A:$E,5,FALSE)) | J42: =IF(ISERROR(VLOOKUP(CONCATENATE($J$30,"_",I42),選手名簿!$A:$E,5,FALSE))=TRUE,"",VLOOKUP(CONCATENATE($J$30,"_",I42),選手名簿!$A:$E,5,FALSE)) | N42: =IF(ISERROR(VLOOKUP(CONCATENATE($N$30,"_",O42),選手名簿!$A:$E,5,FALSE))=TRUE,"",VLOOKUP(CONCATENATE($N$30,"_",O42),選手名簿!$A:$E,5,FALSE)) | V42: =IF(ISERROR(VLOOKUP(CONCATENATE($V$30,"_",U42),選手名簿!$A:$E,5,FALSE))=TRUE,"",VLOOKUP(CONCATENATE($V$30,"_",U42),選手名簿!$A:$E,5,FALSE)) | Y42: 勝点表 | AA42: 勝 | AB42: ○ | AD42: PK 勝 | AE42: △ | AG42: PK 負 | AH42: ▲ | AJ42: 負 | AK42: ●
B43: =IF(ISERROR(VLOOKUP(CONCATENATE($B$30,"_",C43),選手名簿!$A:$E,5,FALSE))=TRUE,"",VLOOKUP(CONCATENATE($B$30,"_",C43),選手名簿!$A:$E,5,FALSE)) | J43: =IF(ISERROR(VLOOKUP(CONCATENATE($J$30,"_",I43),選手名簿!$A:$E,5,FALSE))=TRUE,"",VLOOKUP(CONCATENATE($J$30,"_",I43),選手名簿!$A:$E,5,FALSE)) | N43: =IF(ISERROR(VLOOKUP(CONCATENATE($N$30,"_",O43),選手名簿!$A:$E,5,FALSE))=TRUE,"",VLOOKUP(CONCATENATE($N$30,"_",O43),選手名簿!$A:$E,5,FALSE)) | V43: =IF(ISERROR(VLOOKUP(CONCATENATE($V$30,"_",U43),選手名簿!$A:$E,5,FALSE))=TRUE,"",VLOOKUP(CONCATENATE($V$30,"_",U43),選手名簿!$A:$E,5,FALSE)) | AB43: 3 | AE43: 2 | AH43: 1 | AK43: 0
B44: =IF(ISERROR(VLOOKUP(CONCATENATE($B$30,"_",C44),選手名簿!$A:$E,5,FALSE))=TRUE,"",VLOOKUP(CONCATENATE($B$30,"_",C44),選手名簿!$A:$E,5,FALSE)) | J44: =IF(ISERROR(VLOOKUP(CONCATENATE($J$30,"_",I44),選手名簿!$A:$E,5,FALSE))=TRUE,"",VLOOKUP(CONCATENATE($J$30,"_",I44),選手名簿!$A:$E,5,FALSE)) | N44: =IF(ISERROR(VLOOKUP(CONCATENATE($N$30,"_",O44),選手名簿!$A:$E,5,FALSE))=TRUE,"",VLOOKUP(CONCATENATE($N$30,"_",O44),選手名簿!$A:$E,5,FALSE)) | V44: =IF(ISERROR(VLOOKUP(CONCATENATE($V$30,"_",U44),選手名簿!$A:$E,5,FALSE))=TRUE,"",VLOOKUP(CONCATENATE($V$30,"_",U44),選手名簿!$A:$E,5,FALSE))
B45: =IF(ISERROR(VLOOKUP(CONCATENATE($B$30,"_",C45),選手名簿!$A:$E,5,FALSE))=TRUE,"",VLOOKUP(CONCATENATE($B$30,"_",C45),選手名簿!$A:$E,5,FALSE)) | J45: =IF(ISERROR(VLOOKUP(CONCATENATE($J$30,"_",I45),選手名簿!$A:$E,5,FALSE))=TRUE,"",VLOOKUP(CONCATENATE($J$30,"_",I45),選手名簿!$A:$E,5,FALSE)) | N45: =IF(ISERROR(VLOOKUP(CONCATENATE($N$30,"_",O45),選手名簿!$A:$E,5,FALSE))=TRUE,"",VLOOKUP(CONCATENATE($N$30,"_",O45),選手名簿!$A:$E,5,FALSE)) | V45: =IF(ISERROR(VLOOKUP(CONCATENATE($V$30,"_",U45),選手名簿!$A:$E,5,FALSE))=TRUE,"",VLOOKUP(CONCATENATE($V$30,"_",U45),選手名簿!$A:$E,5,FALSE))
A48: ⑤ 14:00～ | B48: =C9 -> カティオーラフットボールクラブＵ－１２ | C48: =IF(E48="","",SUM(E48:E49)) -> 0 | D48: （ | E48: 0 | F48: 前半 | G48: 0 | H48: ） | I48: =IF(G48="","",SUM(G48:G49)) -> 0 | J48: =C7 -> 弥生少年サッカークラブ | M48: ⑥ 15:00～ | N48: =O9 -> 四日市南ＳＳＣ | O48: =IF(Q48="","",SUM(Q48:Q49)) -> 2 | P48: （ | Q48: 1 | R48: 前半 | S48: 0 | T48: ） | U48: =IF(S48="","",SUM(S48:S49)) -> 0 | V48: =O7 -> 滝尾下郡サッカースポーツ少年団 | Y48: =$Y$1 -> OFA 第 57 回大分県U-12サッカー大会 兼 KYFA 九州U-12サッカー大会大分県大会 | BI48: =$BI$1 -> ２次リーグ結果 報告用紙
E49: 0 | F49: 後半 | G49: 0 | Q49: 1 | R49: 後半 | S49: 0
F50: PK | R50: PK | Y50: ＜時間割＞ ①10:00～ ②11:00～ ③12:00～ ④13:00～ ⑤14:00～ ⑥15:00～
A51: MC | B51: 久保田 秀樹 | G51: 所属協会 | J51: 佐伯市サッカー協会 | M51: MC | N51: 横山 幸司 | S51: 所属協会 | V51: 佐伯市サッカー協会
A52: WelfareOfficer | B52: 久保田 秀樹 | G52: 所属協会 | J52: 佐伯市サッカー協会 | M52: WelfareOfficer | N52: 横山 幸司 | S52: 所属協会 | V52: 佐伯市サッカー協会
A53: 記録 | B53: 廣瀬 光雄 | G53: 所属協会 | J53: 佐伯市サッカー協会 | M53: 記録 | N53: 秋元 文悟 | S53: 所属協会 | V53: 佐伯市サッカー協会
A54: R: | B54: =IF(ISERROR(VLOOKUP(G54,審判員!$A:$C,2,FALSE))=TRUE,"",VLOOKUP(G54,審判員!$A:$C,2,FALSE)) -> 内山田 光史 | C54: =IF(ISERROR(VLOOKUP(G54,審判員!$A:$C,3,FALSE))=TRUE,"",VLOOKUP(G54,審判員!$A:$C,3,FALSE)) -> 3 | D54: 級 | E54: 資格番号 | G54: R010093443 | J54: 本部 | M54: R: | N54: =IF(ISERROR(VLOOKUP(S54,審判員!$A:$C,2,FALSE))=TRUE,"",VLOOKUP(S54,審判員!$A:$C,2,FALSE)) -> 江藤 雅章 | O54: =IF(ISERROR(VLOOKUP(S54,審判員!$A:$C,3,FALSE))=TRUE,"",VLOOKUP(S54,審判員!$A:$C,3,FALSE)) -> 3 | P54: 級 | Q54: 資格番号 | S54: R001254477 | V54: 本部 | Y54: 会場 | AB54: =$N$4 -> 佐伯 | AH54: ⇒ | AI54: =$P$4 -> 佐伯市総合運動公園人工芝グラウンド
A55: AR1: | B55: =IF(ISERROR(VLOOKUP(G55,審判員!$A:$C,2,FALSE))=TRUE,"",VLOOKUP(G55,審判員!$A:$C,2,FALSE)) -> 中園 健太郎 | C55: =IF(ISERROR(VLOOKUP(G55,審判員!$A:$C,3,FALSE))=TRUE,"",VLOOKUP(G55,審判員!$A:$C,3,FALSE)) -> 2 | D55: 級 | E55: 資格番号 | G55: R003317390 | J55: =N48 -> 四日市南ＳＳＣ | M55: AR1: | N55: =IF(ISERROR(VLOOKUP(S55,審判員!$A:$C,2,FALSE))=TRUE,"",VLOOKUP(S55,審判員!$A:$C,2,FALSE)) -> 菊地 玄 | O55: =IF(ISERROR(VLOOKUP(S55,審判員!$A:$C,3,FALSE))=TRUE,"",VLOOKUP(S55,審判員!$A:$C,3,FALSE)) -> 3 | P55: 級 | Q55: 資格番号 | S55: R007890271 | V55: =B48 -> カティオーラフットボールクラブＵ－１２
A56: AR2: | B56: =IF(ISERROR(VLOOKUP(G56,審判員!$A:$C,2,FALSE))=TRUE,"",VLOOKUP(G56,審判員!$A:$C,2,FALSE)) -> 田上 和広 | C56: =IF(ISERROR(VLOOKUP(G56,審判員!$A:$C,3,FALSE))=TRUE,"",VLOOKUP(G56,審判員!$A:$C,3,FALSE)) -> 3 | D56: 級 | E56: 資格番号 | G56: R003258477 | J56: =V48 -> 滝尾下郡サッカースポーツ少年団 | M56: AR2: | N56: =IF(ISERROR(VLOOKUP(S56,審判員!$A:$C,2,FALSE))=TRUE,"",VLOOKUP(S56,審判員!$A:$C,2,FALSE)) -> 五十川 文明 | O56: =IF(ISERROR(VLOOKUP(S56,審判員!$A:$C,3,FALSE))=TRUE,"",VLOOKUP(S56,審判員!$A:$C,3,FALSE)) -> 3 | P56: 級 | Q56: 資格番号 | S56: R003421338 | V56: =J48 -> 弥生少年サッカークラブ
A57: 4th: | B57: =IF(ISERROR(VLOOKUP(G57,審判員!$A:$C,2,FALSE))=TRUE,"",VLOOKUP(G57,審判員!$A:$C,2,FALSE)) -> 戸髙 博秋 | C57: =IF(ISERROR(VLOOKUP(G57,審判員!$A:$C,3,FALSE))=TRUE,"",VLOOKUP(G57,審判員!$A:$C,3,FALSE)) -> 3 | D57: 級 | E57: 資格番号 | G57: R001258738 | J57: 本部 | M57: 4th: | N57: =IF(ISERROR(VLOOKUP(S57,審判員!$A:$C,2,FALSE))=TRUE,"",VLOOKUP(S57,審判員!$A:$C,2,FALSE)) -> 竹嶋 仁 | O57: =IF(ISERROR(VLOOKUP(S57,審判員!$A:$C,3,FALSE))=TRUE,"",VLOOKUP(S57,審判員!$A:$C,3,FALSE)) -> 3 | P57: 級 | Q57: 資格番号 | S57: R003972489 | V57: 本部
A58: 警告/退場 | B58: 氏名 | C58: 背番号 | D58: 分 | E58: 内容 | G58: 内容 | H58: 分 | I58: 背番号 | J58: 氏名 | K58: 警告/退場 | M58: 警告/退場 | N58: 氏名 | O58: 背番号 | P58: 分 | Q58: 内容 | S58: 内容 | T58: 分 | U58: 背番号 | V58: 氏名 | W58: 警告/退場 | Y58: パート | AB58: =$N$6 -> 2次リーグ Dパート
B59: =IF(ISERROR(VLOOKUP(CONCATENATE($B$48,"_",C59),選手名簿!$A:$E,5,FALSE))=TRUE,"",VLOOKUP(CONCATENATE($B$48,"_",C59),選手名簿!$A:$E,5,FALSE)) | J59: =IF(ISERROR(VLOOKUP(CONCATENATE($J$48,"_",I59),選手名簿!$A:$E,5,FALSE))=TRUE,"",VLOOKUP(CONCATENATE($J$48,"_",I59),選手名簿!$A:$E,5,FALSE)) | N59: =IF(ISERROR(VLOOKUP(CONCATENATE($N$48,"_",O59),選手名簿!$A:$E,5,FALSE))=TRUE,"",VLOOKUP(CONCATENATE($N$48,"_",O59),選手名簿!$A:$E,5,FALSE)) | V59: =IF(ISERROR(VLOOKUP(CONCATENATE($V$48,"_",U59),選手名簿!$A:$E,5,FALSE))=TRUE,"",VLOOKUP(CONCATENATE($V$48,"_",U59),選手名簿!$A:$E,5,FALSE))
B60: =IF(ISERROR(VLOOKUP(CONCATENATE($B$48,"_",C60),選手名簿!$A:$E,5,FALSE))=TRUE,"",VLOOKUP(CONCATENATE($B$48,"_",C60),選手名簿!$A:$E,5,FALSE)) | J60: =IF(ISERROR(VLOOKUP(CONCATENATE($J$48,"_",I60),選手名簿!$A:$E,5,FALSE))=TRUE,"",VLOOKUP(CONCATENATE($J$48,"_",I60),選手名簿!$A:$E,5,FALSE)) | N60: =IF(ISERROR(VLOOKUP(CONCATENATE($N$48,"_",O60),選手名簿!$A:$E,5,FALSE))=TRUE,"",VLOOKUP(CONCATENATE($N$48,"_",O60),選手名簿!$A:$E,5,FALSE)) | V60: =IF(ISERROR(VLOOKUP(CONCATENATE($V$48,"_",U60),選手名簿!$A:$E,5,FALSE))=TRUE,"",VLOOKUP(CONCATENATE($V$48,"_",U60),選手名簿!$A:$E,5,FALSE)) | Z60: =$N$7 -> J | AC60: =$O$7 -> 滝尾下郡サッカースポーツ少年団 | AP60: =$V$7 -> 大分
B61: =IF(ISERROR(VLOOKUP(CONCATENATE($B$48,"_",C61),選手名簿!$A:$E,5,FALSE))=TRUE,"",VLOOKUP(CONCATENATE($B$48,"_",C61),選手名簿!$A:$E,5,FALSE)) | J61: =IF(ISERROR(VLOOKUP(CONCATENATE($J$48,"_",I61),選手名簿!$A:$E,5,FALSE))=TRUE,"",VLOOKUP(CONCATENATE($J$48,"_",I61),選手名簿!$A:$E,5,FALSE)) | N61: =IF(ISERROR(VLOOKUP(CONCATENATE($N$48,"_",O61),選手名簿!$A:$E,5,FALSE))=TRUE,"",VLOOKUP(CONCATENATE($N$48,"_",O61),選手名簿!$A:$E,5,FALSE)) | V61: =IF(ISERROR(VLOOKUP(CONCATENATE($V$48,"_",U61),選手名簿!$A:$E,5,FALSE))=TRUE,"",VLOOKUP(CONCATENATE($V$48,"_",U61),選手名簿!$A:$E,5,FALSE))
B62: =IF(ISERROR(VLOOKUP(CONCATENATE($B$48,"_",C62),選手名簿!$A:$E,5,FALSE))=TRUE,"",VLOOKUP(CONCATENATE($B$48,"_",C62),選手名簿!$A:$E,5,FALSE)) | J62: =IF(ISERROR(VLOOKUP(CONCATENATE($J$48,"_",I62),選手名簿!$A:$E,5,FALSE))=TRUE,"",VLOOKUP(CONCATENATE($J$48,"_",I62),選手名簿!$A:$E,5,FALSE)) | N62: =IF(ISERROR(VLOOKUP(CONCATENATE($N$48,"_",O62),選手名簿!$A:$E,5,FALSE))=TRUE,"",VLOOKUP(CONCATENATE($N$48,"_",O62),選手名簿!$A:$E,5,FALSE)) | V62: =IF(ISERROR(VLOOKUP(CONCATENATE($V$48,"_",U62),選手名簿!$A:$E,5,FALSE))=TRUE,"",VLOOKUP(CONCATENATE($V$48,"_",U62),選手名簿!$A:$E,5,FALSE)) | Z62: =$N$8 -> K | AC62: =$O$8 -> 戸次吉野ＳＳＳ | AP62: =$V$8 -> 大分
B63: =IF(ISERROR(VLOOKUP(CONCATENATE($B$48,"_",C63),選手名簿!$A:$E,5,FALSE))=TRUE,"",VLOOKUP(CONCATENATE($B$48,"_",C63),選手名簿!$A:$E,5,FALSE)) | J63: =IF(ISERROR(VLOOKUP(CONCATENATE($J$48,"_",I63),選手名簿!$A:$E,5,FALSE))=TRUE,"",VLOOKUP(CONCATENATE($J$48,"_",I63),選手名簿!$A:$E,5,FALSE)) | N63: =IF(ISERROR(VLOOKUP(CONCATENATE($N$48,"_",O63),選手名簿!$A:$E,5,FALSE))=TRUE,"",VLOOKUP(CONCATENATE($N$48,"_",O63),選手名簿!$A:$E,5,FALSE)) | V63: =IF(ISERROR(VLOOKUP(CONCATENATE($V$48,"_",U63),選手名簿!$A:$E,5,FALSE))=TRUE,"",VLOOKUP(CONCATENATE($V$48,"_",U63),選手名簿!$A:$E,5,FALSE))
Z64: =$N$9 -> L | AC64: =$O$9 -> 四日市南ＳＳＣ | AP64: =$V$9 -> 宇佐高田
Y72: =$Y$6 -> パート | AC72: =$AB$58 -> 2次リーグ Dパート | AF72: =$Y$78 -> 滝尾下郡サッカースポーツ少年団 | AK72: =$Y$84 -> 戸次吉野ＳＳＳ | AP72: =$Y$90 -> 四日市南ＳＳＣ | AU72: 勝 | AW72: PK 勝 | AY72: PK 負 | BA72: 負 | BC72: 得点 | BE72: 失点 | BG72: 勝点 | BI72: 勝点 順位 | BK72: 得失 点差 | BM72: 得失 順位 | BO72: 総 順位
Y78: =$AC$60 -> 滝尾下郡サッカースポーツ少年団 | AD78: 星取表 | AK78: =IF(AK82="","",IF(AK82>AN82,"○",IF(AK82<AN82,"●",IF(AK80>AN80,"△",IF(AK80<AN80,"▲"))))) -> ○ | AP78: =IF(AP82="","",IF(AP82>AS82,"○",IF(AP82<AS82,"●",IF(AP80>AS80,"△",IF(AP80<AS80,"▲"))))) -> ● | AU78: =COUNTIF($AF$78:$AT$79,"○") -> 1 | AW78: =COUNTIF($AF$78:$AT$79,"△") -> 0 | AY78: =COUNTIF($AF$78:$AT$79,"▲") -> 0 | BA78: =COUNTIF($AF$78:$AT$79,"●") -> 1 | BC78: =SUM($AK$82,$AP$82) -> 2 | BE78: =SUM($AN$82,$AS$82) -> 3 | BG78: =($AU$78*3)+($AW$78*2)+($AY$78*1) -> 3 | BI78: =RANK($BG$78,$BG$78:$BH$95) -> 2 | BK78: =$BC$78-$BE$78 -> -1 | BM78: =RANK($BK$78,$BK$78:$BL$95) -> 2
AK80: =IF($Q$14="","",$Q$14) | AM80: ― | AN80: =IF($S$14="","",$S$14) | AP80: =IF($S$50="","",$S$50) | AR80: ― | AS80: =IF($Q$50="","",$Q$50)
AD81: 得失点
AK82: =$O$12 -> 2 | AM82: ― | AN82: =$U$12 -> 1 | AP82: =$U$48 -> 0 | AR82: ― | AS82: =$O$48 -> 2
Y84: =$AC$62 -> 戸次吉野ＳＳＳ | AD84: 星取表 | AF84: =IF(AF88="","",IF(AF88>AI88,"○",IF(AF88<AI88,"●",IF(AF86>AI86,"△",IF(AF86<AI86,"▲"))))) -> ● | AP84: =IF(AP88="","",IF(AP88>AS88,"○",IF(AP88<AS88,"●",IF(AP86>AS86,"△",IF(AP86<AS86,"▲"))))) -> ● | AU84: =COUNTIF($AF$84:$AT$85,"○") -> 0 | AW84: =COUNTIF($AF$84:$AT$85,"△") -> 0 | AY84: =COUNTIF($AF$84:$AT$85,"▲") -> 0 | BA84: =COUNTIF($AF$84:$AT$85,"●") -> 2 | BC84: =SUM($AF$88,$AP$88) -> 1 | BE84: =SUM($AI$88,$AS$88) -> 5 | BG84: =($AU$84*3)+($AW$84*2)+($AY$84*1) -> 0 | BI84: =RANK($BG$84,$BG$78:$BH$95) -> 3 | BK84: =$BC$84-$BE$84 -> -4 | BM84: =RANK($BK$84,$BK$78:$BL$95) -> 3
AF86: =AN80 | AH86: ― | AI86: =AK80 | AP86: =IF($Q$32="","",$Q$32) | AR86: ― | AS86: =IF($S$32="","",$S$32)
AD87: 得失点
AF88: =AN82 -> 1 | AH88: ― | AI88: =AK82 -> 2 | AP88: =$O$30 -> 0 | AR88: ― | AS88: =$U$30 -> 3
Y90: =$AC$64 -> 四日市南ＳＳＣ | AD90: 星取表 | AF90: =IF(AF94="","",IF(AF94>AI94,"○",IF(AF94<AI94,"●",IF(AF92>AI92,"△",IF(AF92<AI92,"▲"))))) -> ○ | AK90: =IF(AK94="","",IF(AK94>AN94,"○",IF(AK94<AN94,"●",IF(AK92>AN92,"△",IF(AK92<AN92,"▲"))))) -> ○ | AU90: =COUNTIF($AF$90:$AT$91,"○") -> 2 | AW90: =COUNTIF($AF$90:$AT$91,"△") -> 0 | AY90: =COUNTIF($AF$90:$AT$91,"▲") -> 0 | BA90: =COUNTIF($AF$90:$AT$91,"●") -> 0 | BC90: =SUM($AF$94,$AK$94) -> 5 | BE90: =SUM($AI$94,$AN$94) -> 0 | BG90: =($AU$90*3)+($AW$90*2)+($AY$90*1) -> 6 | BI90: =RANK($BG$90,$BG$78:$BH$95) -> 1 | BK90: =$BC$90-$BE$90 -> 5 | BM90: =RANK($BK$90,$BK$78:$BL$95) -> 1
AF92: =AS80 | AH92: ― | AI92: =AP80 | AK92: =AS86 | AM92: ― | AN92: =AP86
AD93: 得失点
AF94: =AS82 -> 2 | AH94: ― | AI94: =AP82 -> 0 | AK94: =AS88 -> 3 | AM94: ― | AN94: =AP88 -> 0
Y97: Ⅰ勝点（勝３点 ＰＫ勝２点 ＰＫ負１点 負０点） Ⅱ当該チームの戦績 Ⅲ得失点差 Ⅳ多得点 Ⅴ抽選の順で順位を決定する。
Y99: 勝点表 | AA99: 勝 | AB99: ○ | AD99: PK 勝 | AE99: △ | AG99: PK 負 | AH99: ▲ | AJ99: 負 | AK99: ●
AB100: 3 | AE100: 2 | AH100: 1 | AK100: 0

Sheet １次リーグ（中津）
A1: =抽選会資料!A1 -> OFA 第 57 回大分県U-12サッカー大会 兼 KYFA 九州U-12サッカー大会大分県大会 | J1: １次リーグ結果 報告用紙 | M1: =抽選会資料!A1 -> OFA 第 57 回大分県U-12サッカー大会 兼 KYFA 九州U-12サッカー大会大分県大会 | V1: １次リーグ結果 報告用紙 | Y1: =$A$1 -> OFA 第 57 回大分県U-12サッカー大会 兼 KYFA 九州U-12サッカー大会大分県大会 | BI1: =$J$1 -> １次リーグ結果 報告用紙
A2: ＜時間割＞ ①10:00～ ②11:00～ ③12:00～ ④13:00～ ⑤14:00～ ⑥15:00～ | M2: ＜時間割＞ ①10:00～ ②11:00～ ③12:00～ ④13:00～ ⑤14:00～ ⑥15:00～ | Y2: ＜時間割＞ ①10:00～ ②11:00～ ③12:00～ ④13:00～ ⑤14:00～ ⑥15:00～
A4: 会場 | B4: =組み合わせ!D7 -> 中津 | C4: ⇒ | D4: =VLOOKUP(B4,抽選会資料!$B$55:$F$63,2,FALSE) -> ディーアクト（D-ACT）スポーツパーク永添(永添運動公園) 人工芝多目的グラウンド | M4: 会場 | N4: =組み合わせ!D7 -> 中津 | O4: ⇒ | P4: =VLOOKUP(N4,抽選会資料!$B$55:$F$63,2,FALSE) -> ディーアクト（D-ACT）スポーツパーク永添(永添運動公園) 人工芝多目的グラウンド | Y4: 会場 | AB4: =$B$4 -> 中津 | AH4: ⇒ | AI4: =$D$4 -> ディーアクト（D-ACT）スポーツパーク永添(永添運動公園) 人工芝多目的グラウンド
A6: パート | B6: =VLOOKUP(B4,組み合わせ!$AL$95:$BU$112,13,FALSE) -> A | M6: パート | N6: =VLOOKUP(N4,組み合わせ!$AL$95:$BU$112,25,FALSE) -> G | Y6: パート | AB6: =$B$6 -> A
B7: =CONCATENATE($B$6,1) -> A1 | C7: =HLOOKUP(B7,組み合わせ!$B$48:$EO$86,2,FALSE) -> 鶴居ＳＳＳ | J7: =HLOOKUP(B7,組み合わせ!$B$48:$EO$86,32,FALSE) -> 中津 | N7: =CONCATENATE($N$6,1) -> G1 | O7: =HLOOKUP(N7,組み合わせ!$B$48:$EO$86,2,FALSE) -> ティエラフットボールクラブＵ－１２ | V7: =HLOOKUP(N7,組み合わせ!$B$48:$EO$86,32,FALSE) -> 中津 | Z7: =+B7 -> A1 | AC7: =$C$7 -> 鶴居ＳＳＳ | AP7: =$J$7 -> 中津
B8: =CONCATENATE($B$6,2) -> A2 | C8: =HLOOKUP(B8,組み合わせ!$B$48:$EO$86,2,FALSE) -> ドリームキッズフットボールクラブ | J8: =HLOOKUP(B8,組み合わせ!$B$48:$EO$86,32,FALSE) -> 大分 | N8: =CONCATENATE($N$6,2) -> G2 | O8: =HLOOKUP(N8,組み合わせ!$B$48:$EO$86,2,FALSE) -> 南大分サッカー少年団 | V8: =HLOOKUP(N8,組み合わせ!$B$48:$EO$86,32,FALSE) -> 大分 | Z8: =+B8 -> A2 | AC8: =$C$8 -> ドリームキッズフットボールクラブ | AP8: =$J$8 -> 大分
B9: =CONCATENATE($B$6,3) -> A3 | C9: =HLOOKUP(B9,組み合わせ!$B$48:$EO$86,2,FALSE) -> スマイス セレソン スポーツクラブ | J9: =HLOOKUP(B9,組み合わせ!$B$48:$EO$86,32,FALSE) -> 大分 | N9: =CONCATENATE($N$6,3) -> G3 | O9: =HLOOKUP(N9,組み合わせ!$B$48:$EO$86,2,FALSE) -> ＦＣ ＵＮＩＴＥ | V9: =HLOOKUP(N9,組み合わせ!$B$48:$EO$86,32,FALSE) -> 宇佐高田 | Z9: =+B9 -> A3 | AC9: =$C$9 -> スマイス セレソン スポーツクラブ | AP9: =$J$9 -> 大分
A10: 8：50～ＭＣＭ | M10: 9：50～ＭＣＭ
A12: ① 10:00～ | B12: =C7 -> 鶴居ＳＳＳ | C12: =IF(E12="","",SUM(E12:E13)) -> 0 | D12: （ | E12: 0 | F12: 前半 | G12: 2 | H12: ） | I12: =IF(G12="","",SUM(G12:G13)) -> 2 | J12: =C8 -> ドリームキッズフットボールクラブ | M12: ② 11:00～ | N12: =O7 -> ティエラフットボールクラブＵ－１２ | O12: =IF(Q12="","",SUM(Q12:Q13)) -> 2 | P12: （ | Q12: 1 | R12: 前半 | S12: 0 | T12: ） | U12: =IF(S12="","",SUM(S12:S13)) -> 0 | V12: =O8 -> 南大分サッカー少年団
E13: 0 | F13: 後半 | G13: 0 | Q13: 1 | R13: 後半 | S13: 0
F14: PK | R14: PK
A15: MC | B15: 水島 義規 | G15: 所属協会 | J15: 中津市サッカー協会 | M15: MC | N15: 塔元 繁喜 | S15: 所属協会 | V15: 中津市サッカー協会 | Y15: =$Y$6 -> パート | AC15: =$AB$6 -> A | AF15: =$Y$21 -> 鶴居ＳＳＳ | AK15: =$Y$27 -> ドリームキッズフットボールクラブ | AP15: =$Y$33 -> スマイス セレソン スポーツクラブ | AU15: 勝 | AW15: PK 勝 | AY15: PK 負 | BA15: 負 | BC15: 得点 | BE15: 失点 | BG15: 勝点 | BI15: 勝点 順位 | BK15: 得失 点差 | BM15: 得失 順位 | BO15: 総 順位
A16: WelfareOfficer | B16: 水島 義規 | G16: 所属協会 | J16: 中津市サッカー協会 | M16: WelfareOfficer | N16: 塔元 繁喜 | S16: 所属協会 | V16: 中津市サッカー協会
A17: 記録 | B17: 谷口 達 | G17: 所属協会 | J17: 中津市サッカー協会 | M17: 記録 | N17: 高畑 智秀 | S17: 所属協会 | V17: 中津市サッカー協会
A18: R: | B18: =IF(ISERROR(VLOOKUP(G18,審判員!$A:$C,2,FALSE))=TRUE,"",VLOOKUP(G18,審判員!$A:$C,2,FALSE)) -> 石川 慎也 | C18: =IF(ISERROR(VLOOKUP(G18,審判員!$A:$C,3,FALSE))=TRUE,"",VLOOKUP(G18,審判員!$A:$C,3,FALSE)) -> 3 | D18: 級 | E18: 資格番号 | G18: R001262379 | J18: 本部 | M18: R: | N18: =IF(ISERROR(VLOOKUP(S18,審判員!$A:$C,2,FALSE))=TRUE,"",VLOOKUP(S18,審判員!$A:$C,2,FALSE)) -> 畑辺 康年 | O18: =IF(ISERROR(VLOOKUP(S18,審判員!$A:$C,3,FALSE))=TRUE,"",VLOOKUP(S18,審判員!$A:$C,3,FALSE)) -> 3 | P18: 級 | Q18: 資格番号 | S18: R010347358 | V18: 本部
A19: AR1: | B19: =IF(ISERROR(VLOOKUP(G19,審判員!$A:$C,2,FALSE))=TRUE,"",VLOOKUP(G19,審判員!$A:$C,2,FALSE)) -> 高柿 康平 | C19: =IF(ISERROR(VLOOKUP(G19,審判員!$A:$C,3,FALSE))=TRUE,"",VLOOKUP(G19,審判員!$A:$C,3,FALSE)) -> 3 | D19: 級 | E19: 資格番号 | G19: R006664615 | J19: =N12 -> ティエラフットボールクラブＵ－１２ | M19: AR1: | N19: =IF(ISERROR(VLOOKUP(S19,審判員!$A:$C,2,FALSE))=TRUE,"",VLOOKUP(S19,審判員!$A:$C,2,FALSE)) -> 朝比奈 義行 | O19: =IF(ISERROR(VLOOKUP(S19,審判員!$A:$C,3,FALSE))=TRUE,"",VLOOKUP(S19,審判員!$A:$C,3,FALSE)) -> 3 | P19: 級 | Q19: 資格番号 | S19: R003972391 | V19: =B12 -> 鶴居ＳＳＳ
A20: AR2: | B20: =IF(ISERROR(VLOOKUP(G20,審判員!$A:$C,2,FALSE))=TRUE,"",VLOOKUP(G20,審判員!$A:$C,2,FALSE)) -> 真鍋 裕一 | C20: =IF(ISERROR(VLOOKUP(G20,審判員!$A:$C,3,FALSE))=TRUE,"",VLOOKUP(G20,審判員!$A:$C,3,FALSE)) -> 3 | D20: 級 | E20: 資格番号 | G20: R001264580 | J20: =V12 -> 南大分サッカー少年団 | M20: AR2: | N20: =IF(ISERROR(VLOOKUP(S20,審判員!$A:$C,2,FALSE))=TRUE,"",VLOOKUP(S20,審判員!$A:$C,2,FALSE)) -> 森永 和彦 | O20: =IF(ISERROR(VLOOKUP(S20,審判員!$A:$C,3,FALSE))=TRUE,"",VLOOKUP(S20,審判員!$A:$C,3,FALSE)) -> 3 | P20: 級 | Q20: 資格番号 | S20: R010259432 | V20: =J12 -> ドリームキッズフットボールクラブ
A21: 4th: | B21: =IF(ISERROR(VLOOKUP(G21,審判員!$A:$C,2,FALSE))=TRUE,"",VLOOKUP(G21,審判員!$A:$C,2,FALSE)) -> 平岡 正広 | C21: =IF(ISERROR(VLOOKUP(G21,審判員!$A:$C,3,FALSE))=TRUE,"",VLOOKUP(G21,審判員!$A:$C,3,FALSE)) -> 3 | D21: 級 | E21: 資格番号 | G21: R001259870 | J21: 本部 | M21: 4th: | N21: =IF(ISERROR(VLOOKUP(S21,審判員!$A:$C,2,FALSE))=TRUE,"",VLOOKUP(S21,審判員!$A:$C,2,FALSE)) -> 山下 省二 | O21: =IF(ISERROR(VLOOKUP(S21,審判員!$A:$C,3,FALSE))=TRUE,"",VLOOKUP(S21,審判員!$A:$C,3,FALSE)) -> 3 | P21: 級 | Q21: 資格番号 | S21: R006147145 | V21: 本部 | Y21: =$AC$7 -> 鶴居ＳＳＳ | AD21: 星取表 | AK21: =IF(AK25="","",IF(AK25>AN25,"○",IF(AK25<AN25,"●",IF(AK23>AN23,"△",IF(AK23<AN23,"▲"))))) -> ● | AP21: =IF(AP25="","",IF(AP25>AS25,"○",IF(AP25<AS25,"●",IF(AP23>AS23,"△",IF(AP23<AS23,"▲"))))) -> ● | AU21: =COUNTIF($AF$21:$AT$22,"○") -> 0 | AW21: =COUNTIF($AF$21:$AT$22,"△") -> 0 | AY21: =COUNTIF($AF$21:$AT$22,"▲") -> 0 | BA21: =COUNTIF($AF$21:$AT$22,"●") -> 2 | BC21: =SUM($AK$25,$AP$25) -> 0 | BE21: =SUM($AN$25,$AS$25) -> 4 | BG21: =($AU$21*3)+($AW$21*2)+($AY$21*1) -> 0 | BI21: =RANK($BG$21,$BG$21:$BH$38) -> 3 | BK21: =$BC$21-$BE$21 -> -4 | BM21: =RANK($BK$21,$BK$21:$BL$38) -> 3
A22: 警告/退場 | B22: 氏名 | C22: 背番号 | D22: 分 | E22: 内容 | G22: 内容 | H22: 分 | I22: 背番号 | J22: 氏名 | K22: 警告/退場 | M22: 警告/退場 | N22: 氏名 | O22: 背番号 | P22: 分 | Q22: 内容 | S22: 内容 | T22: 分 | U22: 背番号 | V22: 氏名 | W22: 警告/退場
B23: =IF(ISERROR(VLOOKUP(CONCATENATE($B$12,"_",C23),選手名簿!$A:$E,5,FALSE))=TRUE,"",VLOOKUP(CONCATENATE($B$12,"_",C23),選手名簿!$A:$E,5,FALSE)) | J23: =IF(ISERROR(VLOOKUP(CONCATENATE($J$12,"_",I23),選手名簿!$A:$E,5,FALSE))=TRUE,"",VLOOKUP(CONCATENATE($J$12,"_",I23),選手名簿!$A:$E,5,FALSE)) | N23: =IF(ISERROR(VLOOKUP(CONCATENATE($N$12,"_",O23),選手名簿!$A:$E,5,FALSE))=TRUE,"",VLOOKUP(CONCATENATE($N$12,"_",O23),選手名簿!$A:$E,5,FALSE)) | V23: =IF(ISERROR(VLOOKUP(CONCATENATE($V$12,"_",U23),選手名簿!$A:$E,5,FALSE))=TRUE,"",VLOOKUP(CONCATENATE($V$12,"_",U23),選手名簿!$A:$E,5,FALSE)) | AK23: =IF($E$14="","",$E$14) | AM23: ― | AN23: =IF($G$14="","",$G$14) | AP23: =IF($G$50="","",$G$50) | AR23: ― | AS23: =IF($E$50="","",$E$50)
B24: =IF(ISERROR(VLOOKUP(CONCATENATE($B$12,"_",C24),選手名簿!$A:$E,5,FALSE))=TRUE,"",VLOOKUP(CONCATENATE($B$12,"_",C24),選手名簿!$A:$E,5,FALSE)) | J24: =IF(ISERROR(VLOOKUP(CONCATENATE($J$12,"_",I24),選手名簿!$A:$E,5,FALSE))=TRUE,"",VLOOKUP(CONCATENATE($J$12,"_",I24),選手名簿!$A:$E,5,FALSE)) | N24: =IF(ISERROR(VLOOKUP(CONCATENATE($N$12,"_",O24),選手名簿!$A:$E,5,FALSE))=TRUE,"",VLOOKUP(CONCATENATE($N$12,"_",O24),選手名簿!$A:$E,5,FALSE)) | V24: =IF(ISERROR(VLOOKUP(CONCATENATE($V$12,"_",U24),選手名簿!$A:$E,5,FALSE))=TRUE,"",VLOOKUP(CONCATENATE($V$12,"_",U24),選手名簿!$A:$E,5,FALSE)) | AD24: 得失点
B25: =IF(ISERROR(VLOOKUP(CONCATENATE($B$12,"_",C25),選手名簿!$A:$E,5,FALSE))=TRUE,"",VLOOKUP(CONCATENATE($B$12,"_",C25),選手名簿!$A:$E,5,FALSE)) | J25: =IF(ISERROR(VLOOKUP(CONCATENATE($J$12,"_",I25),選手名簿!$A:$E,5,FALSE))=TRUE,"",VLOOKUP(CONCATENATE($J$12,"_",I25),選手名簿!$A:$E,5,FALSE)) | N25: =IF(ISERROR(VLOOKUP(CONCATENATE($N$12,"_",O25),選手名簿!$A:$E,5,FALSE))=TRUE,"",VLOOKUP(CONCATENATE($N$12,"_",O25),選手名簿!$A:$E,5,FALSE)) | V25: =IF(ISERROR(VLOOKUP(CONCATENATE($V$12,"_",U25),選手名簿!$A:$E,5,FALSE))=TRUE,"",VLOOKUP(CONCATENATE($V$12,"_",U25),選手名簿!$A:$E,5,FALSE)) | AK25: =$C$12 -> 0 | AM25: ― | AN25: =$I$12 -> 2 | AP25: =$I$48 -> 0 | AR25: ― | AS25: =$C$48 -> 2
B26: =IF(ISERROR(VLOOKUP(CONCATENATE($B$12,"_",C26),選手名簿!$A:$E,5,FALSE))=TRUE,"",VLOOKUP(CONCATENATE($B$12,"_",C26),選手名簿!$A:$E,5,FALSE)) | J26: =IF(ISERROR(VLOOKUP(CONCATENATE($J$12,"_",I26),選手名簿!$A:$E,5,FALSE))=TRUE,"",VLOOKUP(CONCATENATE($J$12,"_",I26),選手名簿!$A:$E,5,FALSE)) | N26: =IF(ISERROR(VLOOKUP(CONCATENATE($N$12,"_",O26),選手名簿!$A:$E,5,FALSE))=TRUE,"",VLOOKUP(CONCATENATE($N$12,"_",O26),選手名簿!$A:$E,5,FALSE)) | V26: =IF(ISERROR(VLOOKUP(CONCATENATE($V$12,"_",U26),選手名簿!$A:$E,5,FALSE))=TRUE,"",VLOOKUP(CONCATENATE($V$12,"_",U26),選手名簿!$A:$E,5,FALSE))
B27: =IF(ISERROR(VLOOKUP(CONCATENATE($B$12,"_",C27),選手名簿!$A:$E,5,FALSE))=TRUE,"",VLOOKUP(CONCATENATE($B$12,"_",C27),選手名簿!$A:$E,5,FALSE)) | J27: =IF(ISERROR(VLOOKUP(CONCATENATE($J$12,"_",I27),選手名簿!$A:$E,5,FALSE))=TRUE,"",VLOOKUP(CONCATENATE($J$12,"_",I27),選手名簿!$A:$E,5,FALSE)) | N27: =IF(ISERROR(VLOOKUP(CONCATENATE($N$12,"_",O27),選手名簿!$A:$E,5,FALSE))=TRUE,"",VLOOKUP(CONCATENATE($N$12,"_",O27),選手名簿!$A:$E,5,FALSE)) | V27: =IF(ISERROR(VLOOKUP(CONCATENATE($V$12,"_",U27),選手名簿!$A:$E,5,FALSE))=TRUE,"",VLOOKUP(CONCATENATE($V$12,"_",U27),選手名簿!$A:$E,5,FALSE)) | Y27: =$AC$8 -> ドリームキッズフットボールクラブ | AD27: 星取表 | AF27: =IF(AF31="","",IF(AF31>AI31,"○",IF(AF31<AI31,"●",IF(AF29>AI29,"△",IF(AF29<AI29,"▲"))))) -> ○ | AP27: =IF(AP31="","",IF(AP31>AS31,"○",IF(AP31<AS31,"●",IF(AP29>AS29,"△",IF(AP29<AS29,"▲"))))) -> ○ | AU27: =COUNTIF($AF$27:$AT$28,"○") -> 2 | AW27: =COUNTIF($AF$27:$AT$28,"△") -> 0 | AY27: =COUNTIF($AF$27:$AT$28,"▲") -> 0 | BA27: =COUNTIF($AF$27:$AT$28,"●") -> 0 | BC27: =SUM($AF$31,$AP$31) -> 3 | BE27: =SUM($AI$31,$AS$31) -> 0 | BG27: =($AU$27*3)+($AW$27*2)+($AY$27*1) -> 6 | BI27: =RANK($BG$27,$BG$21:$BH$38) -> 1 | BK27: =$BC$27-$BE$27 -> 3 | BM27: =RANK($BK$27,$BK$21:$BL$38) -> 1
AF29: =AN23 | AH29: ― | AI29: =AK23 | AP29: =IF($E$32="","",$E$32) | AR29: ― | AS29: =IF($G$32="","",$G$32)
A30: ③ 12:00～ | B30: =C8 -> ドリームキッズフットボールクラブ | C30: =IF(E30="","",SUM(E30:E31)) -> 1 | D30: （ | E30: 0 | F30: 前半 | G30: 0 | H30: ） | I30: =IF(G30="","",SUM(G30:G31)) -> 0 | J30: =C9 -> スマイス セレソン スポーツクラブ | M30: ④ 13:00～ | N30: =O8 -> 南大分サッカー少年団 | O30: =IF(Q30="","",SUM(Q30:Q31)) -> 5 | P30: （ | Q30: 2 | R30: 前半 | S30: 0 | T30: ） | U30: =IF(S30="","",SUM(S30:S31)) -> 0 | V30: =O9 -> ＦＣ ＵＮＩＴＥ | AD30: 得失点
E31: 1 | F31: 後半 | G31: 0 | Q31: 3 | R31: 後半 | S31: 0 | AF31: =AN25 -> 2 | AH31: ― | AI31: =AK25 -> 0 | AP31: =$C$30 -> 1 | AR31: ― | AS31: =$I$30 -> 0
F32: PK | R32: PK
A33: MC | B33: 平岡 正広 | G33: 所属協会 | J33: 中津市サッカー協会 | M33: MC | N33: 水島 義規 | S33: 所属協会 | V33: 中津市サッカー協会 | Y33: =$AC$9 -> スマイス セレソン スポーツクラブ | AD33: 星取表 | AF33: =IF(AF37="","",IF(AF37>AI37,"○",IF(AF37<AI37,"●",IF(AF35>AI35,"△",IF(AF35<AI35,"▲"))))) -> ○ | AK33: =IF(AK37="","",IF(AK37>AN37,"○",IF(AK37<AN37,"●",IF(AK35>AN35,"△",IF(AK35<AN35,"▲"))))) -> ● | AU33: =COUNTIF($AF$33:$AT$34,"○") -> 1 | AW33: =COUNTIF($AF$33:$AT$34,"△") -> 0 | AY33: =COUNTIF($AF$33:$AT$34,"▲") -> 0 | BA33: =COUNTIF($AF$33:$AT$34,"●") -> 1 | BC33: =SUM($AF$37,$AK$37) -> 2 | BE33: =SUM($AI$37,$AN$37) -> 1 | BG33: =($AU$33*3)+($AW$33*2)+($AY$33*1) -> 3 | BI33: =RANK($BG$33,$BG$21:$BH$38) -> 2 | BK33: =$BC$33-$BE$33 -> 1 | BM33: =RANK($BK$33,$BK$21:$BL$38) -> 2
A34: WelfareOfficer | B34: 平岡 正広 | G34: 所属協会 | J34: 中津市サッカー協会 | M34: WelfareOfficer | N34: 水島 義規 | S34: 所属協会 | V34: 中津市サッカー協会
A35: 記録 | B35: 川崎 博之 | G35: 所属協会 | J35: 中津市サッカー協会 | M35: 記録 | N35: 谷口 達 | S35: 所属協会 | V35: 中津市サッカー協会 | AF35: =AS23 | AH35: ― | AI35: =AP23 | AK35: =AS29 | AM35: ― | AN35: =AP29
A36: R: | B36: =IF(ISERROR(VLOOKUP(G36,審判員!$A:$C,2,FALSE))=TRUE,"",VLOOKUP(G36,審判員!$A:$C,2,FALSE)) -> 屋敷 伴幸 | C36: =IF(ISERROR(VLOOKUP(G36,審判員!$A:$C,3,FALSE))=TRUE,"",VLOOKUP(G36,審判員!$A:$C,3,FALSE)) -> 3 | D36: 級 | E36: 資格番号 | G36: R001264775 | J36: 本部 | M36: R: | N36: =IF(ISERROR(VLOOKUP(S36,審判員!$A:$C,2,FALSE))=TRUE,"",VLOOKUP(S36,審判員!$A:$C,2,FALSE)) -> 真鍋 裕一 | O36: =IF(ISERROR(VLOOKUP(S36,審判員!$A:$C,3,FALSE))=TRUE,"",VLOOKUP(S36,審判員!$A:$C,3,FALSE)) -> 3 | P36: 級 | Q36: 資格番号 | S36: R001264580 | V36: 本部 | AD36: 得失点
A37: AR1: | B37: =IF(ISERROR(VLOOKUP(G37,審判員!$A:$C,2,FALSE))=TRUE,"",VLOOKUP(G37,審判員!$A:$C,2,FALSE)) -> 石川 慎也 | C37: =IF(ISERROR(VLOOKUP(G37,審判員!$A:$C,3,FALSE))=TRUE,"",VLOOKUP(G37,審判員!$A:$C,3,FALSE)) -> 3 | D37: 級 | E37: 資格番号 | G37: R001262379 | J37: =N30 -> 南大分サッカー少年団 | M37: AR1: | N37: =IF(ISERROR(VLOOKUP(S37,審判員!$A:$C,2,FALSE))=TRUE,"",VLOOKUP(S37,審判員!$A:$C,2,FALSE)) -> 森永 和彦 | O37: =IF(ISERROR(VLOOKUP(S37,審判員!$A:$C,3,FALSE))=TRUE,"",VLOOKUP(S37,審判員!$A:$C,3,FALSE)) -> 3 | P37: 級 | Q37: 資格番号 | S37: R010259432 | V37: =B30 -> ドリームキッズフットボールクラブ | AF37: =AS25 -> 2 | AH37: ― | AI37: =AP25 -> 0 | AK37: =AS31 -> 0 | AM37: ― | AN37: =AP31 -> 1
A38: AR2: | B38: =IF(ISERROR(VLOOKUP(G38,審判員!$A:$C,2,FALSE))=TRUE,"",VLOOKUP(G38,審判員!$A:$C,2,FALSE)) -> 相良 章成 | C38: =IF(ISERROR(VLOOKUP(G38,審判員!$A:$C,3,FALSE))=TRUE,"",VLOOKUP(G38,審判員!$A:$C,3,FALSE)) -> 3 | D38: 級 | E38: 資格番号 | G38: R006664864 | J38: =V30 -> ＦＣ ＵＮＩＴＥ | M38: AR2: | N38: =IF(ISERROR(VLOOKUP(S38,審判員!$A:$C,2,FALSE))=TRUE,"",VLOOKUP(S38,審判員!$A:$C,2,FALSE)) -> 緒方 翔平 | O38: =IF(ISERROR(VLOOKUP(S38,審判員!$A:$C,3,FALSE))=TRUE,"",VLOOKUP(S38,審判員!$A:$C,3,FALSE)) -> 3 | P38: 級 | Q38: 資格番号 | S38: R010538391 | V38: =J30 -> スマイス セレソン スポーツクラブ
A39: 4th: | B39: =IF(ISERROR(VLOOKUP(G39,審判員!$A:$C,2,FALSE))=TRUE,"",VLOOKUP(G39,審判員!$A:$C,2,FALSE)) -> 武吉 翔平 | C39: =IF(ISERROR(VLOOKUP(G39,審判員!$A:$C,3,FALSE))=TRUE,"",VLOOKUP(G39,審判員!$A:$C,3,FALSE)) -> 3 | D39: 級 | E39: 資格番号 | G39: R010728146 | J39: 本部 | M39: 4th: | N39: =IF(ISERROR(VLOOKUP(S39,審判員!$A:$C,2,FALSE))=TRUE,"",VLOOKUP(S39,審判員!$A:$C,2,FALSE)) -> 畑辺 康年 | O39: =IF(ISERROR(VLOOKUP(S39,審判員!$A:$C,3,FALSE))=TRUE,"",VLOOKUP(S39,審判員!$A:$C,3,FALSE)) -> 3 | P39: 級 | Q39: 資格番号 | S39: R010347358 | V39: 本部
A40: 警告/退場 | B40: 氏名 | C40: 背番号 | D40: 分 | E40: 内容 | G40: 内容 | H40: 分 | I40: 背番号 | J40: 氏名 | K40: 警告/退場 | M40: 警告/退場 | N40: 氏名 | O40: 背番号 | P40: 分 | Q40: 内容 | S40: 内容 | T40: 分 | U40: 背番号 | V40: 氏名 | W40: 警告/退場 | Y40: Ⅰ勝点（勝３点 ＰＫ勝２点 ＰＫ負１点 負０点） Ⅱ当該チームの戦績 Ⅲ得失点差 Ⅳ多得点 Ⅴ抽選の順で順位を決定する。
B41: =IF(ISERROR(VLOOKUP(CONCATENATE($B$30,"_",C41),選手名簿!$A:$E,5,FALSE))=TRUE,"",VLOOKUP(CONCATENATE($B$30,"_",C41),選手名簿!$A:$E,5,FALSE)) | J41: =IF(ISERROR(VLOOKUP(CONCATENATE($J$30,"_",I41),選手名簿!$A:$E,5,FALSE))=TRUE,"",VLOOKUP(CONCATENATE($J$30,"_",I41),選手名簿!$A:$E,5,FALSE)) | N41: =IF(ISERROR(VLOOKUP(CONCATENATE($N$30,"_",O41),選手名簿!$A:$E,5,FALSE))=TRUE,"",VLOOKUP(CONCATENATE($N$30,"_",O41),選手名簿!$A:$E,5,FALSE)) | V41: =IF(ISERROR(VLOOKUP(CONCATENATE($V$30,"_",U41),選手名簿!$A:$E,5,FALSE))=TRUE,"",VLOOKUP(CONCATENATE($V$30,"_",U41),選手名簿!$A:$E,5,FALSE))
B42: =IF(ISERROR(VLOOKUP(CONCATENATE($B$30,"_",C42),選手名簿!$A:$E,5,FALSE))=TRUE,"",VLOOKUP(CONCATENATE($B$30,"_",C42),選手名簿!$A:$E,5,FALSE)) | J42: =IF(ISERROR(VLOOKUP(CONCATENATE($J$30,"_",I42),選手名簿!$A:$E,5,FALSE))=TRUE,"",VLOOKUP(CONCATENATE($J$30,"_",I42),選手名簿!$A:$E,5,FALSE)) | N42: =IF(ISERROR(VLOOKUP(CONCATENATE($N$30,"_",O42),選手名簿!$A:$E,5,FALSE))=TRUE,"",VLOOKUP(CONCATENATE($N$30,"_",O42),選手名簿!$A:$E,5,FALSE)) | V42: =IF(ISERROR(VLOOKUP(CONCATENATE($V$30,"_",U42),選手名簿!$A:$E,5,FALSE))=TRUE,"",VLOOKUP(CONCATENATE($V$30,"_",U42),選手名簿!$A:$E,5,FALSE)) | Y42: 勝点表 | AA42: 勝 | AB42: ○ | AD42: PK 勝 | AE42: △ | AG42: PK 負 | AH42: ▲ | AJ42: 負 | AK42: ●
B43: =IF(ISERROR(VLOOKUP(CONCATENATE($B$30,"_",C43),選手名簿!$A:$E,5,FALSE))=TRUE,"",VLOOKUP(CONCATENATE($B$30,"_",C43),選手名簿!$A:$E,5,FALSE)) | J43: =IF(ISERROR(VLOOKUP(CONCATENATE($J$30,"_",I43),選手名簿!$A:$E,5,FALSE))=TRUE,"",VLOOKUP(CONCATENATE($J$30,"_",I43),選手名簿!$A:$E,5,FALSE)) | N43: =IF(ISERROR(VLOOKUP(CONCATENATE($N$30,"_",O43),選手名簿!$A:$E,5,FALSE))=TRUE,"",VLOOKUP(CONCATENATE($N$30,"_",O43),選手名簿!$A:$E,5,FALSE)) | V43: =IF(ISERROR(VLOOKUP(CONCATENATE($V$30,"_",U43),選手名簿!$A:$E,5,FALSE))=TRUE,"",VLOOKUP(CONCATENATE($V$30,"_",U43),選手名簿!$A:$E,5,FALSE)) | AB43: 3 | AE43: 2 | AH43: 1 | AK43: 0
B44: =IF(ISERROR(VLOOKUP(CONCATENATE($B$30,"_",C44),選手名簿!$A:$E,5,FALSE))=TRUE,"",VLOOKUP(CONCATENATE($B$30,"_",C44),選手名簿!$A:$E,5,FALSE)) | J44: =IF(ISERROR(VLOOKUP(CONCATENATE($J$30,"_",I44),選手名簿!$A:$E,5,FALSE))=TRUE,"",VLOOKUP(CONCATENATE($J$30,"_",I44),選手名簿!$A:$E,5,FALSE)) | N44: =IF(ISERROR(VLOOKUP(CONCATENATE($N$30,"_",O44),選手名簿!$A:$E,5,FALSE))=TRUE,"",VLOOKUP(CONCATENATE($N$30,"_",O44),選手名簿!$A:$E,5,FALSE)) | V44: =IF(ISERROR(VLOOKUP(CONCATENATE($V$30,"_",U44),選手名簿!$A:$E,5,FALSE))=TRUE,"",VLOOKUP(CONCATENATE($V$30,"_",U44),選手名簿!$A:$E,5,FALSE))
B45: =IF(ISERROR(VLOOKUP(CONCATENATE($B$30,"_",C45),選手名簿!$A:$E,5,FALSE))=TRUE,"",VLOOKUP(CONCATENATE($B$30,"_",C45),選手名簿!$A:$E,5,FALSE)) | J45: =IF(ISERROR(VLOOKUP(CONCATENATE($J$30,"_",I45),選手名簿!$A:$E,5,FALSE))=TRUE,"",VLOOKUP(CONCATENATE($J$30,"_",I45),選手名簿!$A:$E,5,FALSE)) | N45: =IF(ISERROR(VLOOKUP(CONCATENATE($N$30,"_",O45),選手名簿!$A:$E,5,FALSE))=TRUE,"",VLOOKUP(CONCATENATE($N$30,"_",O45),選手名簿!$A:$E,5,FALSE)) | V45: =IF(ISERROR(VLOOKUP(CONCATENATE($V$30,"_",U45),選手名簿!$A:$E,5,FALSE))=TRUE,"",VLOOKUP(CONCATENATE($V$30,"_",U45),選手名簿!$A:$E,5,FALSE))
A48: ⑤ 14:00～ | B48: =C9 -> スマイス セレソン スポーツクラブ | C48: =IF(E48="","",SUM(E48:E49)) -> 2 | D48: （ | E48: 1 | F48: 前半 | G48: 0 | H48: ） | I48: =IF(G48="","",SUM(G48:G49)) -> 0 | J48: =C7 -> 鶴居ＳＳＳ | M48: ⑥ 15:00～ | N48: =O9 -> ＦＣ ＵＮＩＴＥ | O48: =IF(Q48="","",SUM(Q48:Q49)) -> 0 | P48: （ | Q48: 0 | R48: 前半 | S48: 5 | T48: ） | U48: =IF(S48="","",SUM(S48:S49)) -> 9 | V48: =O7 -> ティエラフットボールクラブＵ－１２ | Y48: =$Y$1 -> OFA 第 57 回大分県U-12サッカー大会 兼 KYFA 九州U-12サッカー大会大分県大会 | BI48: =$BI$1 -> １次リーグ結果 報告用紙
E49: 1 | F49: 後半 | G49: 0 | Q49: 0 | R49: 後半 | S49: 4
F50: PK | R50: PK | Y50: ＜時間割＞ ①10:00～ ②11:00～ ③12:00～ ④13:00～ ⑤14:00～ ⑥15:00～
A51: MC | B51: 塔元 繁喜 | G51: 所属協会 | J51: 中津市サッカー協会 | M51: MC | N51: 清原 勇二 | S51: 所属協会 | V51: 中津市サッカー協会
A52: WelfareOfficer | B52: 塔元 繁喜 | G52: 所属協会 | J52: 中津市サッカー協会 | M52: WelfareOfficer | N52: 清原 勇二 | S52: 所属協会 | V52: 中津市サッカー協会
A53: 記録 | B53: 石川 慎也 | G53: 所属協会 | J53: 中津市サッカー協会 | M53: 記録 | N53: 川崎 博之 | S53: 所属協会 | V53: 中津市サッカー協会
A54: R: | B54: =IF(ISERROR(VLOOKUP(G54,審判員!$A:$C,2,FALSE))=TRUE,"",VLOOKUP(G54,審判員!$A:$C,2,FALSE)) -> 高畑 智秀 | C54: =IF(ISERROR(VLOOKUP(G54,審判員!$A:$C,3,FALSE))=TRUE,"",VLOOKUP(G54,審判員!$A:$C,3,FALSE)) -> 3 | D54: 級 | E54: 資格番号 | G54: R001263837 | J54: 本部 | M54: R: | N54: =IF(ISERROR(VLOOKUP(S54,審判員!$A:$C,2,FALSE))=TRUE,"",VLOOKUP(S54,審判員!$A:$C,2,FALSE)) -> 武吉 翔平 | O54: =IF(ISERROR(VLOOKUP(S54,審判員!$A:$C,3,FALSE))=TRUE,"",VLOOKUP(S54,審判員!$A:$C,3,FALSE)) -> 3 | P54: 級 | Q54: 資格番号 | S54: R010728146 | V54: 本部 | Y54: 会場 | AB54: =$N$4 -> 中津 | AH54: ⇒ | AI54: =$P$4 -> ディーアクト（D-ACT）スポーツパーク永添(永添運動公園) 人工芝多目的グラウンド
